Workbook
Name DateRepas: '[1]Menus à thème'!$E$6:$E$31
Name rngAction: #REF!
Name rngBlockFactor: #REF!
Name rngCINameHidden: #REF!
Name rngHTTPPort: #REF!
Name rngLanguageCD: #REF!
Name rngMachineName: #REF!
Name rngNode: #REF!
Name rngPasswordHidden: #REF!
Name rngPortal: #REF!
Name rngProtocol: #REF!
Name rngPSSiteName: #REF!
Name rngResHeaders: #REF!
Name rngURL: #REF!
Name rngUserIDHidden: #REF!
Name rngXmlConst: #REF!
Name txtBoxTitleConnectInfo: "txtBoxTitle"
Name txtBoxTitleCreateTemplate: "txtBoxTitle"
Name txtBoxTitleInputData: "txtBoxTitle"
Name txtBoxTitleStageSubmitData: "txtBoxTitle"

Sheet SAISIE
F1: LUNDI | BD1: MARDI | DB1: MERCREDI | EZ1: JEUDI | GX1: VENDREDI | IV1: SAMEDI | KT1: DIMANCHE
H2: En salle | Z2: Dîner Léger | AF2: Dîner Copieux | AL2: Logement | BF2: En salle | BX2: Dîner Léger | CD2: Dîner Copieux | CJ2: Logement | DD2: En salle | DV2: Dîner Léger | EB2: Dîner Copieux | EH2: Logement | FB2: En salle | FT2: Dîner Léger | FZ2: Dîner Copieux | GF2: Logement | GZ2: En salle | HR2: Dîner Léger | HX2: Dîner Copieux | ID2: Logement | IX2: En salle | JP2: Dîner Léger | JV2: Dîner Copieux | KB2: Logement | KV2: En salle | LN2: Dîner Léger | LT2: Dîner Copieux | LZ2: Logement
A3: Studio | D3: Mr/Mme | E3: Nom | F3: Midi | G3: Soir | H3: E1 | I3: E2 | J3: E3 | K3: V1 | L3: V2 | M3: A1 | N3: A2 | O3: L1 | P3: L2 | Q3: L3 | R3: D1 | S3: D2 | T3: Diab | U3: DiabSS | V3: mixé | W3: SS | X3: SG | Y3: SGSS | Z3: DLDiab | AA3: DLDiabSS | AB3: DLmixé | AC3: DLSS | AD3: DLSG | AE3: DLSGSS | AF3: DcDiab | AG3: DcDiabSS | AH3: Dcmixé | AI3: DcSS | AJ3: DcSG | AK3: DcSGSS | AL3: E1 | AM3: E2 | AN3: E3 | AO3: V1 | AP3: V2 | AQ3: A1 | AR3: A2 | AS3: L1 | AT3: L2 | AU3: L3 | AV3: D1 | AW3: D2 | AX3: lgtDiab | AY3: lgtDiabSS | AZ3: lgtmixé | BA3: lgtSS | BB3: lgtSG | BC3: lgtSGSS | BD3: Midi | BE3: Soir | DB3: Midi | DC3: Soir | EZ3: Midi | FA3: Soir | GX3: Midi | GY3: Soir | IV3: Midi | IW3: Soir | KT3: Midi | KU3: Soir
A6: ='[1]Fiche d''informations'!B25 -> 1 | B6: ='[1]Fiche d''informations'!C25 -> 0 | C6: ='[1]Fiche d''informations'!D25 -> 0 | D6: ='[1]Fiche d''informations'!E25 -> 0 | F6: lgtE1V1A1L1D2 | G6: DcDiabSS | H6: =IF(MID($F6,1,2)=$H$3,1,0) -> 0 | I6: =IF(MID($F6,1,2)=$I$3,1,0) -> 0 | J6: =IF(MID($F6,1,2)=$J$3,1,0) -> 0 | K6: =IF(MID($F6,3,2)=$K$3,1,0) -> 0 | L6: =IF(MID($F6,3,2)=$L$3,1,0) -> 0 | M6: =IF(MID($F6,5,2)=$M$3,1,0) -> 0 | N6: =IF(MID($F6,5,2)=$N$3,1,0) -> 0 | O6: =IF(MID($F6,7,2)=$O$3,1,0) -> 0 | P6: =IF(MID($F6,7,2)=$P$3,1,0) -> 0 | Q6: =IF(MID($F6,7,2)=$Q$3,1,0) -> 0 | R6: =IF(MID($F6,9,2)=$R$3,1,0) -> 0 | S6: =IF(MID($F6,9,2)=$S$3,1,0) -> 0 | T6: =IF(MID($F6,1,5)=$T$3,1,0) -> 0 | U6: =IF(MID($F6,1,6)=$U$3,1,0) -> 0 | V6: =IF(MID($F6,1,4)=$V$3,1,0) -> 0 | W6: =IF(MID($F6,1,4)=$W$3,1,0) -> 0 | X6: =IF(MID($F6,1,4)=$X$3,1,0) -> 0 | Y6: =IF(MID($F6,1,4)=$Y$3,1,0) -> 0 | Z6: =IF(MID($G6,1,20)=$Z$3,1,0) -> 0 | AA6: =IF(MID($G6,1,20)=$AA$3,1,0) -> 0 | AB6: =IF(MID($G6,1,20)=$AB$3,1,0) -> 0 | AC6: =IF(MID($G6,1,20)=$AC$3,1,0) -> 0 | AD6: =IF(MID($G6,1,20)=$AD$3,1,0) -> 0 | AE6: =IF(MID($G6,1,20)=$AA$3,1,0) -> 0 | AF6: =IF(MID($G6,1,20)=$AF$3,1,0) -> 0 | AG6: =IF(MID($G6,1,20)=$AG$3,1,0) -> 1 | AH6: =IF(MID($G6,1,20)=$AH$3,1,0) -> 0 | AI6: =IF(MID($G6,1,20)=$AI$3,1,0) -> 0 | AJ6: =IF(MID($G6,1,20)=$AJ$3,1,0) -> 0 | AK6: =IF(MID($G6,1,20)=$AK$3,1,0) -> 0 | AL6: =IF(MID($F6,4,2)=(AL$3),1,0) -> 1 | AM6: =IF(MID($F6,4,2)=(AM$3),1,0) -> 0 | AN6: =IF(MID($F6,4,2)=(AN$3),1,0) -> 0 | AO6: =IF(MID($F6,6,2)=(AO$3),1,0) -> 1 | AP6: =IF(MID($F6,6,2)=(AP$3),1,0) -> 0 | AQ6: =IF(MID($F6,8,2)=(AQ$3),1,0) -> 1 | AR6: =IF(MID($F6,8,2)=(AR$3),1,0) -> 0 | AS6: =IF(MID($F6,10,2)=(AS$3),1,0) -> 1 | AT6: =IF(MID($F6,10,2)=(AT$3),1,0) -> 0 | AU6: =IF(MID($F6,10,2)=(AU$3),1,0) -> 0 | AV6: =IF(MID($F6,12,2)=(AV$3),1,0) -> 0 | AW6: =IF(MID($F6,12,2)=(AW$3),1,0) -> 1 | AX6: =IF(MID($F6,1,20)=$AX$3,1,0) -> 0 | AY6: =IF(MID($F6,1,20)=$AY$3,1,0) -> 0 | AZ6: =IF(MID($F6,1,20)=$AZ$3,1,0) -> 0 | BA6: =IF(MID($F6,1,20)=$BA$3,1,0) -> 0 | BB6: =IF(MID($F6,4,4)=$X$3,1,0) -> 0 | BC6: =IF(MID($F6,1,20)=$BC$3,1,0) -> 0 | BD6: lgtE1V1A1L1D2 | BE6: DcDiabSS | DB6: lgtE1V1A1L1D2 | DC6: DcDiabSS | EZ6: lgtE1V1A1L1D2 | FA6: DcDiabSS | GX6: lgtE1V1A1L1D2 | GY6: DcDiabSS | IV6: lgtE1V1A1L1D2 | IW6: DcDiabSS | KT6: lgtE1V1A1L1D2 | KU6: DcDiabSS
A7: ='[1]Fiche d''informations'!B26 -> 2 | B7: ='[1]Fiche d''informations'!C26 -> 1 | C7: ='[1]Fiche d''informations'!D26 -> 7 | D7: ='[1]Fiche d''informations'!E26 -> Mr | F7: lgtmixé | H7: =IF(MID($F7,1,2)=$H$3,1,0) -> 0 | I7: =IF(MID($F7,1,2)=$I$3,1,0) -> 0 | J7: =IF(MID($F7,1,2)=$J$3,1,0) -> 0 | K7: =IF(MID($F7,3,2)=$K$3,1,0) -> 0 | L7: =IF(MID($F7,3,2)=$L$3,1,0) -> 0 | M7: =IF(MID($F7,5,2)=$M$3,1,0) -> 0 | N7: =IF(MID($F7,5,2)=$N$3,1,0) -> 0 | O7: =IF(MID($F7,7,2)=$O$3,1,0) -> 0 | P7: =IF(MID($F7,7,2)=$P$3,1,0) -> 0 | Q7: =IF(MID($F7,7,2)=$Q$3,1,0) -> 0 | R7: =IF(MID($F7,9,2)=$R$3,1,0) -> 0 | S7: =IF(MID($F7,9,2)=$S$3,1,0) -> 0 | T7: =IF(MID($F7,1,5)=$T$3,1,0) -> 0 | U7: =IF(MID($F7,1,6)=$U$3,1,0) -> 0 | V7: =IF(MID($F7,1,4)=$V$3,1,0) -> 0 | W7: =IF(MID($F7,1,4)=$W$3,1,0) -> 0 | X7: =IF(MID($F7,1,4)=$X$3,1,0) -> 0 | Y7: =IF(MID($F7,1,4)=$Y$3,1,0) -> 0 | Z7: =IF(MID($G7,1,20)=$Z$3,1,0) -> 0 | AA7: =IF(MID($G7,1,20)=$AA$3,1,0) -> 0 | AB7: =IF(MID($G7,1,20)=$AB$3,1,0) -> 0 | AC7: =IF(MID($G7,1,20)=$AC$3,1,0) -> 0 | AD7: =IF(MID($G7,1,20)=$AD$3,1,0) -> 0 | AE7: =IF(MID($G7,1,20)=$AA$3,1,0) -> 0 | AF7: =IF(MID($G7,1,20)=$AF$3,1,0) -> 0 | AG7: =IF(MID($G7,1,20)=$AG$3,1,0) -> 0 | AH7: =IF(MID($G7,1,20)=$AH$3,1,0) -> 0 | AI7: =IF(MID($G7,1,20)=$AI$3,1,0) -> 0 | AJ7: =IF(MID($G7,1,20)=$AJ$3,1,0) -> 0 | AK7: =IF(MID($G7,1,20)=$AK$3,1,0) -> 0 | AL7: =IF(MID($F7,4,2)=(AL$3),1,0) -> 0 | AM7: =IF(MID($F7,4,2)=(AM$3),1,0) -> 0 | AN7: =IF(MID($F7,4,2)=(AN$3),1,0) -> 0 | AO7: =IF(MID($F7,6,2)=(AO$3),1,0) -> 0 | AP7: =IF(MID($F7,6,2)=(AP$3),1,0) -> 0 | AQ7: =IF(MID($F7,8,2)=(AQ$3),1,0) -> 0 | AR7: =IF(MID($F7,8,2)=(AR$3),1,0) -> 0 | AS7: =IF(MID($F7,10,2)=(AS$3),1,0) -> 0 | AT7: =IF(MID($F7,10,2)=(AT$3),1,0) -> 0 | AU7: =IF(MID($F7,10,2)=(AU$3),1,0) -> 0 | AV7: =IF(MID($F7,12,2)=(AV$3),1,0) -> 0 | AW7: =IF(MID($F7,12,2)=(AW$3),1,0) -> 0 | AX7: =IF(MID($F7,1,20)=$AX$3,1,0) -> 0 | AY7: =IF(MID($F7,1,20)=$AY$3,1,0) -> 0 | AZ7: =IF(MID($F7,1,20)=$AZ$3,1,0) -> 1 | BA7: =IF(MID($F7,1,20)=$BA$3,1,0) -> 0 | BB7: =IF(MID($F7,4,4)=$X$3,1,0) -> 0 | BC7: =IF(MID($F7,1,20)=$BC$3,1,0) -> 0 | BD7: lgtmixé | DB7: lgtmixé | EZ7: lgtmixé | GX7: lgtmixé | IV7: lgtmixé | KT7: lgtmixé
A8: ='[1]Fiche d''informations'!B27 -> 3 | B8: ='[1]Fiche d''informations'!C27 -> 0 | C8: ='[1]Fiche d''informations'!D27 -> 0 | D8: ='[1]Fiche d''informations'!E27 -> 0 | F8: lgtsans sel | G8: DcDiabSS | H8: =IF(MID($F8,1,2)=$H$3,1,0) -> 0 | I8: =IF(MID($F8,1,2)=$I$3,1,0) -> 0 | J8: =IF(MID($F8,1,2)=$J$3,1,0) -> 0 | K8: =IF(MID($F8,3,2)=$K$3,1,0) -> 0 | L8: =IF(MID($F8,3,2)=$L$3,1,0) -> 0 | M8: =IF(MID($F8,5,2)=$M$3,1,0) -> 0 | N8: =IF(MID($F8,5,2)=$N$3,1,0) -> 0 | O8: =IF(MID($F8,7,2)=$O$3,1,0) -> 0 | P8: =IF(MID($F8,7,2)=$P$3,1,0) -> 0 | Q8: =IF(MID($F8,7,2)=$Q$3,1,0) -> 0 | R8: =IF(MID($F8,9,2)=$R$3,1,0) -> 0 | S8: =IF(MID($F8,9,2)=$S$3,1,0) -> 0 | T8: =IF(MID($F8,1,5)=$T$3,1,0) -> 0 | U8: =IF(MID($F8,1,6)=$U$3,1,0) -> 0 | V8: =IF(MID($F8,1,4)=$V$3,1,0) -> 0 | W8: =IF(MID($F8,1,4)=$W$3,1,0) -> 0 | X8: =IF(MID($F8,1,4)=$X$3,1,0) -> 0 | Y8: =IF(MID($F8,1,4)=$Y$3,1,0) -> 0 | Z8: =IF(MID($G8,1,20)=$Z$3,1,0) -> 0 | AA8: =IF(MID($G8,1,20)=$AA$3,1,0) -> 0 | AB8: =IF(MID($G8,1,20)=$AB$3,1,0) -> 0 | AC8: =IF(MID($G8,1,20)=$AC$3,1,0) -> 0 | AD8: =IF(MID($G8,1,20)=$AD$3,1,0) -> 0 | AE8: =IF(MID($G8,1,20)=$AA$3,1,0) -> 0 | AF8: =IF(MID($G8,1,20)=$AF$3,1,0) -> 0 | AG8: =IF(MID($G8,1,20)=$AG$3,1,0) -> 1 | AH8: =IF(MID($G8,1,20)=$AH$3,1,0) -> 0 | AI8: =IF(MID($G8,1,20)=$AI$3,1,0) -> 0 | AJ8: =IF(MID($G8,1,20)=$AJ$3,1,0) -> 0 | AK8: =IF(MID($G8,1,20)=$AK$3,1,0) -> 0 | AL8: =IF(MID($F8,4,2)=(AL$3),1,0) -> 0 | AM8: =IF(MID($F8,4,2)=(AM$3),1,0) -> 0 | AN8: =IF(MID($F8,4,2)=(AN$3),1,0) -> 0 | AO8: =IF(MID($F8,6,2)=(AO$3),1,0) -> 0 | AP8: =IF(MID($F8,6,2)=(AP$3),1,0) -> 0 | AQ8: =IF(MID($F8,8,2)=(AQ$3),1,0) -> 0 | AR8: =IF(MID($F8,8,2)=(AR$3),1,0) -> 0 | AS8: =IF(MID($F8,10,2)=(AS$3),1,0) -> 0 | AT8: =IF(MID($F8,10,2)=(AT$3),1,0) -> 0 | AU8: =IF(MID($F8,10,2)=(AU$3),1,0) -> 0 | AV8: =IF(MID($F8,12,2)=(AV$3),1,0) -> 0 | AW8: =IF(MID($F8,12,2)=(AW$3),1,0) -> 0 | AX8: =IF(MID($F8,1,20)=$AX$3,1,0) -> 0 | AY8: =IF(MID($F8,1,20)=$AY$3,1,0) -> 0 | AZ8: =IF(MID($F8,1,20)=$AZ$3,1,0) -> 0 | BA8: =IF(MID($F8,1,20)=$BA$3,1,0) -> 0 | BB8: =IF(MID($F8,4,4)=$X$3,1,0) -> 0 | BC8: =IF(MID($F8,1,20)=$BC$3,1,0) -> 0 | BD8: lgtsans sel | BE8: DcDiabSS | DB8: lgtsans sel | DC8: DcDiabSS | EZ8: lgtsans sel | FA8: DcDiabSS | GX8: lgtsans sel | GY8: DcDiabSS | IV8: lgtsans sel | IW8: DcDiabSS | KT8: lgtsans sel | KU8: DcDiabSS
A9: ='[1]Fiche d''informations'!B28 -> 4 | B9: ='[1]Fiche d''informations'!C28 -> 1 | C9: ='[1]Fiche d''informations'!D28 -> 3 | D9: ='[1]Fiche d''informations'!E28 -> Mme | F9: sgss | H9: =IF(MID($F9,1,2)=$H$3,1,0) -> 0 | I9: =IF(MID($F9,1,2)=$I$3,1,0) -> 0 | J9: =IF(MID($F9,1,2)=$J$3,1,0) -> 0 | K9: =IF(MID($F9,3,2)=$K$3,1,0) -> 0 | L9: =IF(MID($F9,3,2)=$L$3,1,0) -> 0 | M9: =IF(MID($F9,5,2)=$M$3,1,0) -> 0 | N9: =IF(MID($F9,5,2)=$N$3,1,0) -> 0 | O9: =IF(MID($F9,7,2)=$O$3,1,0) -> 0 | P9: =IF(MID($F9,7,2)=$P$3,1,0) -> 0 | Q9: =IF(MID($F9,7,2)=$Q$3,1,0) -> 0 | R9: =IF(MID($F9,9,2)=$R$3,1,0) -> 0 | S9: =IF(MID($F9,9,2)=$S$3,1,0) -> 0 | T9: =IF(MID($F9,1,5)=$T$3,1,0) -> 0 | U9: =IF(MID($F9,1,6)=$U$3,1,0) -> 0 | V9: =IF(MID($F9,1,4)=$V$3,1,0) -> 0 | W9: =IF(MID($F9,1,4)=$W$3,1,0) -> 0 | X9: =IF(MID($F9,1,4)=$X$3,1,0) -> 0 | Y9: =IF(MID($F9,1,4)=$Y$3,1,0) -> 1 | Z9: =IF(MID($G9,1,20)=$Z$3,1,0) -> 0 | AA9: =IF(MID($G9,1,20)=$AA$3,1,0) -> 0 | AB9: =IF(MID($G9,1,20)=$AB$3,1,0) -> 0 | AC9: =IF(MID($G9,1,20)=$AC$3,1,0) -> 0 | AD9: =IF(MID($G9,1,20)=$AD$3,1,0) -> 0 | AE9: =IF(MID($G9,1,20)=$AA$3,1,0) -> 0 | AF9: =IF(MID($G9,1,20)=$AF$3,1,0) -> 0 | AG9: =IF(MID($G9,1,20)=$AG$3,1,0) -> 0 | AH9: =IF(MID($G9,1,20)=$AH$3,1,0) -> 0 | AI9: =IF(MID($G9,1,20)=$AI$3,1,0) -> 0 | AJ9: =IF(MID($G9,1,20)=$AJ$3,1,0) -> 0 | AK9: =IF(MID($G9,1,20)=$AK$3,1,0) -> 0 | AL9: =IF(MID($F9,4,2)=(AL$3),1,0) -> 0 | AM9: =IF(MID($F9,4,2)=(AM$3),1,0) -> 0 | AN9: =IF(MID($F9,4,2)=(AN$3),1,0) -> 0 | AO9: =IF(MID($F9,6,2)=(AO$3),1,0) -> 0 | AP9: =IF(MID($F9,6,2)=(AP$3),1,0) -> 0 | AQ9: =IF(MID($F9,8,2)=(AQ$3),1,0) -> 0 | AR9: =IF(MID($F9,8,2)=(AR$3),1,0) -> 0 | AS9: =IF(MID($F9,10,2)=(AS$3),1,0) -> 0 | AT9: =IF(MID($F9,10,2)=(AT$3),1,0) -> 0 | AU9: =IF(MID($F9,10,2)=(AU$3),1,0) -> 0 | AV9: =IF(MID($F9,12,2)=(AV$3),1,0) -> 0 | AW9: =IF(MID($F9,12,2)=(AW$3),1,0) -> 0 | AX9: =IF(MID($F9,1,20)=$AX$3,1,0) -> 0 | AY9: =IF(MID($F9,1,20)=$AY$3,1,0) -> 0 | AZ9: =IF(MID($F9,1,20)=$AZ$3,1,0) -> 0 | BA9: =IF(MID($F9,1,20)=$BA$3,1,0) -> 0 | BB9: =IF(MID($F9,4,4)=$X$3,1,0) -> 0 | BC9: =IF(MID($F9,1,20)=$BC$3,1,0) -> 0 | BD9: sgss | DB9: sgss | EZ9: sgss | GX9: sgss | IV9: sgss | KT9: sgss
A10: ='[1]Fiche d''informations'!B29 -> 5 | B10: ='[1]Fiche d''informations'!C29 -> 1 | C10: ='[1]Fiche d''informations'!D29 -> 10 | D10: ='[1]Fiche d''informations'!E29 -> Mr | F10: lgtmixé | G10: DcSG | H10: =IF(MID($F10,1,2)=$H$3,1,0) -> 0 | I10: =IF(MID($F10,1,2)=$I$3,1,0) -> 0 | J10: =IF(MID($F10,1,2)=$J$3,1,0) -> 0 | K10: =IF(MID($F10,3,2)=$K$3,1,0) -> 0 | L10: =IF(MID($F10,3,2)=$L$3,1,0) -> 0 | M10: =IF(MID($F10,5,2)=$M$3,1,0) -> 0 | N10: =IF(MID($F10,5,2)=$N$3,1,0) -> 0 | O10: =IF(MID($F10,7,2)=$O$3,1,0) -> 0 | P10: =IF(MID($F10,7,2)=$P$3,1,0) -> 0 | Q10: =IF(MID($F10,7,2)=$Q$3,1,0) -> 0 | R10: =IF(MID($F10,9,2)=$R$3,1,0) -> 0 | S10: =IF(MID($F10,9,2)=$S$3,1,0) -> 0 | T10: =IF(MID($F10,1,5)=$T$3,1,0) -> 0 | U10: =IF(MID($F10,1,6)=$U$3,1,0) -> 0 | V10: =IF(MID($F10,1,4)=$V$3,1,0) -> 0 | W10: =IF(MID($F10,1,4)=$W$3,1,0) -> 0 | X10: =IF(MID($F10,1,4)=$X$3,1,0) -> 0 | Y10: =IF(MID($F10,1,4)=$Y$3,1,0) -> 0 | Z10: =IF(MID($G10,1,20)=$Z$3,1,0) -> 0 | AA10: =IF(MID($G10,1,20)=$AA$3,1,0) -> 0 | AB10: =IF(MID($G10,1,20)=$AB$3,1,0) -> 0 | AC10: =IF(MID($G10,1,20)=$AC$3,1,0) -> 0 | AD10: =IF(MID($G10,1,20)=$AD$3,1,0) -> 0 | AE10: =IF(MID($G10,1,20)=$AA$3,1,0) -> 0 | AF10: =IF(MID($G10,1,20)=$AF$3,1,0) -> 0 | AG10: =IF(MID($G10,1,20)=$AG$3,1,0) -> 0 | AH10: =IF(MID($G10,1,20)=$AH$3,1,0) -> 0 | AI10: =IF(MID($G10,1,20)=$AI$3,1,0) -> 0 | AJ10: =IF(MID($G10,1,20)=$AJ$3,1,0) -> 1 | AK10: =IF(MID($G10,1,20)=$AK$3,1,0) -> 0 | AL10: =IF(MID($F10,4,2)=(AL$3),1,0) -> 0 | AM10: =IF(MID($F10,4,2)=(AM$3),1,0) -> 0 | AN10: =IF(MID($F10,4,2)=(AN$3),1,0) -> 0 | AO10: =IF(MID($F10,6,2)=(AO$3),1,0) -> 0 | AP10: =IF(MID($F10,6,2)=(AP$3),1,0) -> 0 | AQ10: =IF(MID($F10,8,2)=(AQ$3),1,0) -> 0 | AR10: =IF(MID($F10,8,2)=(AR$3),1,0) -> 0 | AS10: =IF(MID($F10,10,2)=(AS$3),1,0) -> 0 | AT10: =IF(MID($F10,10,2)=(AT$3),1,0) -> 0 | AU10: =IF(MID($F10,10,2)=(AU$3),1,0) -> 0 | AV10: =IF(MID($F10,12,2)=(AV$3),1,0) -> 0 | AW10: =IF(MID($F10,12,2)=(AW$3),1,0) -> 0 | AX10: =IF(MID($F10,1,20)=$AX$3,1,0) -> 0 | AY10: =IF(MID($F10,1,20)=$AY$3,1,0) -> 0 | AZ10: =IF(MID($F10,1,20)=$AZ$3,1,0) -> 1 | BA10: =IF(MID($F10,1,20)=$BA$3,1,0) -> 0 | BB10: =IF(MID($F10,4,4)=$X$3,1,0) -> 0 | BC10: =IF(MID($F10,1,20)=$BC$3,1,0) -> 0 | BD10: lgtmixé | BE10: DcSG | DB10: lgtmixé | DC10: DcSG | EZ10: lgtmixé | FA10: DcSG | GX10: lgtmixé | GY10: DcSG | IV10: lgtmixé | IW10: DcSG | KT10: lgtmixé | KU10: DcSG
A11: ='[1]Fiche d''informations'!B30 -> 6 | B11: ='[1]Fiche d''informations'!C30 -> 0 | C11: ='[1]Fiche d''informations'!D30 -> 0 | D11: ='[1]Fiche d''informations'!E30 -> 0 | F11: lgtE2V1A1L2D1 | H11: =IF(MID($F11,1,2)=$H$3,1,0) -> 0 | I11: =IF(MID($F11,1,2)=$I$3,1,0) -> 0 | J11: =IF(MID($F11,1,2)=$J$3,1,0) -> 0 | K11: =IF(MID($F11,3,2)=$K$3,1,0) -> 0 | L11: =IF(MID($F11,3,2)=$L$3,1,0) -> 0 | M11: =IF(MID($F11,5,2)=$M$3,1,0) -> 0 | N11: =IF(MID($F11,5,2)=$N$3,1,0) -> 0 | O11: =IF(MID($F11,7,2)=$O$3,1,0) -> 0 | P11: =IF(MID($F11,7,2)=$P$3,1,0) -> 0 | Q11: =IF(MID($F11,7,2)=$Q$3,1,0) -> 0 | R11: =IF(MID($F11,9,2)=$R$3,1,0) -> 0 | S11: =IF(MID($F11,9,2)=$S$3,1,0) -> 0 | T11: =IF(MID($F11,1,5)=$T$3,1,0) -> 0 | U11: =IF(MID($F11,1,6)=$U$3,1,0) -> 0 | V11: =IF(MID($F11,1,4)=$V$3,1,0) -> 0 | W11: =IF(MID($F11,1,4)=$W$3,1,0) -> 0 | X11: =IF(MID($F11,1,4)=$X$3,1,0) -> 0 | Y11: =IF(MID($F11,1,4)=$Y$3,1,0) -> 0 | Z11: =IF(MID($G11,1,20)=$Z$3,1,0) -> 0 | AA11: =IF(MID($G11,1,20)=$AA$3,1,0) -> 0 | AB11: =IF(MID($G11,1,20)=$AB$3,1,0) -> 0 | AC11: =IF(MID($G11,1,20)=$AC$3,1,0) -> 0 | AD11: =IF(MID($G11,1,20)=$AD$3,1,0) -> 0 | AE11: =IF(MID($G11,1,20)=$AA$3,1,0) -> 0 | AF11: =IF(MID($G11,1,20)=$AF$3,1,0) -> 0 | AG11: =IF(MID($G11,1,20)=$AG$3,1,0) -> 0 | AH11: =IF(MID($G11,1,20)=$AH$3,1,0) -> 0 | AI11: =IF(MID($G11,1,20)=$AI$3,1,0) -> 0 | AJ11: =IF(MID($G11,1,20)=$AJ$3,1,0) -> 0 | AK11: =IF(MID($G11,1,20)=$AK$3,1,0) -> 0 | AL11: =IF(MID($F11,4,2)=(AL$3),1,0) -> 0 | AM11: =IF(MID($F11,4,2)=(AM$3),1,0) -> 1 | AN11: =IF(MID($F11,4,2)=(AN$3),1,0) -> 0 | AO11: =IF(MID($F11,6,2)=(AO$3),1,0) -> 1 | AP11: =IF(MID($F11,6,2)=(AP$3),1,0) -> 0 | AQ11: =IF(MID($F11,8,2)=(AQ$3),1,0) -> 1 | AR11: =IF(MID($F11,8,2)=(AR$3),1,0) -> 0 | AS11: =IF(MID($F11,10,2)=(AS$3),1,0) -> 0 | AT11: =IF(MID($F11,10,2)=(AT$3),1,0) -> 1 | AU11: =IF(MID($F11,10,2)=(AU$3),1,0) -> 0 | AV11: =IF(MID($F11,12,2)=(AV$3),1,0) -> 1 | AW11: =IF(MID($F11,12,2)=(AW$3),1,0) -> 0 | AX11: =IF(MID($F11,1,20)=$AX$3,1,0) -> 0 | AY11: =IF(MID($F11,1,20)=$AY$3,1,0) -> 0 | AZ11: =IF(MID($F11,1,20)=$AZ$3,1,0) -> 0 | BA11: =IF(MID($F11,1,20)=$BA$3,1,0) -> 0 | BB11: =IF(MID($F11,4,4)=$X$3,1,0) -> 0 | BC11: =IF(MID($F11,1,20)=$BC$3,1,0) -> 0 | BD11: lgtE2V1A1L2D1 | DB11: lgtE2V1A1L2D1 | EZ11: lgtE2V1A1L2D1 | GX11: lgtE2V1A1L2D1 | IV11: lgtE2V1A1L2D1 | KT11: lgtE2V1A1L2D1
A12: ='[1]Fiche d''informations'!B31 -> 7 | B12: ='[1]Fiche d''informations'!C31 -> 0 | C12: ='[1]Fiche d''informations'!D31 -> 0 | D12: ='[1]Fiche d''informations'!E31 -> Mr | F12: lgtE1V1A1L1D2 | G12: DcSGSS | H12: =IF(MID($F12,1,2)=$H$3,1,0) -> 0 | I12: =IF(MID($F12,1,2)=$I$3,1,0) -> 0 | J12: =IF(MID($F12,1,2)=$J$3,1,0) -> 0 | K12: =IF(MID($F12,3,2)=$K$3,1,0) -> 0 | L12: =IF(MID($F12,3,2)=$L$3,1,0) -> 0 | M12: =IF(MID($F12,5,2)=$M$3,1,0) -> 0 | N12: =IF(MID($F12,5,2)=$N$3,1,0) -> 0 | O12: =IF(MID($F12,7,2)=$O$3,1,0) -> 0 | P12: =IF(MID($F12,7,2)=$P$3,1,0) -> 0 | Q12: =IF(MID($F12,7,2)=$Q$3,1,0) -> 0 | R12: =IF(MID($F12,9,2)=$R$3,1,0) -> 0 | S12: =IF(MID($F12,9,2)=$S$3,1,0) -> 0 | T12: =IF(MID($F12,1,5)=$T$3,1,0) -> 0 | U12: =IF(MID($F12,1,6)=$U$3,1,0) -> 0 | V12: =IF(MID($F12,1,4)=$V$3,1,0) -> 0 | W12: =IF(MID($F12,1,4)=$W$3,1,0) -> 0 | X12: =IF(MID($F12,1,4)=$X$3,1,0) -> 0 | Y12: =IF(MID($F12,1,4)=$Y$3,1,0) -> 0 | Z12: =IF(MID($G12,1,20)=$Z$3,1,0) -> 0 | AA12: =IF(MID($G12,1,20)=$AA$3,1,0) -> 0 | AB12: =IF(MID($G12,1,20)=$AB$3,1,0) -> 0 | AC12: =IF(MID($G12,1,20)=$AC$3,1,0) -> 0 | AD12: =IF(MID($G12,1,20)=$AD$3,1,0) -> 0 | AE12: =IF(MID($G12,1,20)=$AA$3,1,0) -> 0 | AF12: =IF(MID($G12,1,20)=$AF$3,1,0) -> 0 | AG12: =IF(MID($G12,1,20)=$AG$3,1,0) -> 0 | AH12: =IF(MID($G12,1,20)=$AH$3,1,0) -> 0 | AI12: =IF(MID($G12,1,20)=$AI$3,1,0) -> 0 | AJ12: =IF(MID($G12,1,20)=$AJ$3,1,0) -> 0 | AK12: =IF(MID($G12,1,20)=$AK$3,1,0) -> 1 | AL12: =IF(MID($F12,4,2)=(AL$3),1,0) -> 1 | AM12: =IF(MID($F12,4,2)=(AM$3),1,0) -> 0 | AN12: =IF(MID($F12,4,2)=(AN$3),1,0) -> 0 | AO12: =IF(MID($F12,6,2)=(AO$3),1,0) -> 1 | AP12: =IF(MID($F12,6,2)=(AP$3),1,0) -> 0 | AQ12: =IF(MID($F12,8,2)=(AQ$3),1,0) -> 1 | AR12: =IF(MID($F12,8,2)=(AR$3),1,0) -> 0 | AS12: =IF(MID($F12,10,2)=(AS$3),1,0) -> 1 | AT12: =IF(MID($F12,10,2)=(AT$3),1,0) -> 0 | AU12: =IF(MID($F12,10,2)=(AU$3),1,0) -> 0 | AV12: =IF(MID($F12,12,2)=(AV$3),1,0) -> 0 | AW12: =IF(MID($F12,12,2)=(AW$3),1,0) -> 1 | AX12: =IF(MID($F12,1,20)=$AX$3,1,0) -> 0 | AY12: =IF(MID($F12,1,20)=$AY$3,1,0) -> 0 | AZ12: =IF(MID($F12,1,20)=$AZ$3,1,0) -> 0 | BA12: =IF(MID($F12,1,20)=$BA$3,1,0) -> 0 | BB12: =IF(MID($F12,4,4)=$X$3,1,0) -> 0 | BC12: =IF(MID($F12,1,20)=$BC$3,1,0) -> 0 | BD12: lgtE1V1A1L1D2 | BE12: DcSGSS | DB12: lgtE1V1A1L1D2 | DC12: DcSGSS | EZ12: lgtE1V1A1L1D2 | FA12: DcSGSS | GX12: lgtE1V1A1L1D2 | GY12: DcSGSS | IV12: lgtE1V1A1L1D2 | IW12: DcSGSS | KT12: lgtE1V1A1L1D2 | KU12: DcSGSS
A13: ='[1]Fiche d''informations'!B32 -> 8 | B13: ='[1]Fiche d''informations'!C32 -> 0 | C13: ='[1]Fiche d''informations'!D32 -> 0 | D13: ='[1]Fiche d''informations'!E32 -> Mme | F13: E2V1A2L2D1 | G13: DcSG | H13: =IF(MID($F13,1,2)=$H$3,1,0) -> 0 | I13: =IF(MID($F13,1,2)=$I$3,1,0) -> 1 | J13: =IF(MID($F13,1,2)=$J$3,1,0) -> 0 | K13: =IF(MID($F13,3,2)=$K$3,1,0) -> 1 | L13: =IF(MID($F13,3,2)=$L$3,1,0) -> 0 | M13: =IF(MID($F13,5,2)=$M$3,1,0) -> 0 | N13: =IF(MID($F13,5,2)=$N$3,1,0) -> 1 | O13: =IF(MID($F13,7,2)=$O$3,1,0) -> 0 | P13: =IF(MID($F13,7,2)=$P$3,1,0) -> 1 | Q13: =IF(MID($F13,7,2)=$Q$3,1,0) -> 0 | R13: =IF(MID($F13,9,2)=$R$3,1,0) -> 1 | S13: =IF(MID($F13,9,2)=$S$3,1,0) -> 0 | T13: =IF(MID($F13,1,5)=$T$3,1,0) -> 0 | U13: =IF(MID($F13,1,6)=$U$3,1,0) -> 0 | V13: =IF(MID($F13,1,4)=$V$3,1,0) -> 0 | W13: =IF(MID($F13,1,4)=$W$3,1,0) -> 0 | X13: =IF(MID($F13,1,4)=$X$3,1,0) -> 0 | Y13: =IF(MID($F13,1,4)=$Y$3,1,0) -> 0 | Z13: =IF(MID($G13,1,20)=$Z$3,1,0) -> 0 | AA13: =IF(MID($G13,1,20)=$AA$3,1,0) -> 0 | AB13: =IF(MID($G13,1,20)=$AB$3,1,0) -> 0 | AC13: =IF(MID($G13,1,20)=$AC$3,1,0) -> 0 | AD13: =IF(MID($G13,1,20)=$AD$3,1,0) -> 0 | AE13: =IF(MID($G13,1,20)=$AA$3,1,0) -> 0 | AF13: =IF(MID($G13,1,20)=$AF$3,1,0) -> 0 | AG13: =IF(MID($G13,1,20)=$AG$3,1,0) -> 0 | AH13: =IF(MID($G13,1,20)=$AH$3,1,0) -> 0 | AI13: =IF(MID($G13,1,20)=$AI$3,1,0) -> 0 | AJ13: =IF(MID($G13,1,20)=$AJ$3,1,0) -> 1 | AK13: =IF(MID($G13,1,20)=$AK$3,1,0) -> 0 | AL13: =IF(MID($F13,4,2)=(AL$3),1,0) -> 0 | AM13: =IF(MID($F13,4,2)=(AM$3),1,0) -> 0 | AN13: =IF(MID($F13,4,2)=(AN$3),1,0) -> 0 | AO13: =IF(MID($F13,6,2)=(AO$3),1,0) -> 0 | AP13: =IF(MID($F13,6,2)=(AP$3),1,0) -> 0 | AQ13: =IF(MID($F13,8,2)=(AQ$3),1,0) -> 0 | AR13: =IF(MID($F13,8,2)=(AR$3),1,0) -> 0 | AS13: =IF(MID($F13,10,2)=(AS$3),1,0) -> 0 | AT13: =IF(MID($F13,10,2)=(AT$3),1,0) -> 0 | AU13: =IF(MID($F13,10,2)=(AU$3),1,0) -> 0 | AV13: =IF(MID($F13,12,2)=(AV$3),1,0) -> 0 | AW13: =IF(MID($F13,12,2)=(AW$3),1,0) -> 0 | AX13: =IF(MID($F13,1,20)=$AX$3,1,0) -> 0 | AY13: =IF(MID($F13,1,20)=$AY$3,1,0) -> 0 | AZ13: =IF(MID($F13,1,20)=$AZ$3,1,0) -> 0 | BA13: =IF(MID($F13,1,20)=$BA$3,1,0) -> 0 | BB13: =IF(MID($F13,4,4)=$X$3,1,0) -> 0 | BC13: =IF(MID($F13,1,20)=$BC$3,1,0) -> 0 | BD13: E2V1A2L2D1 | BE13: DcSG | DB13: E2V1A2L2D1 | DC13: DcSG | EZ13: E2V1A2L2D1 | FA13: DcSG | GX13: E2V1A2L2D1 | GY13: DcSG | IV13: E2V1A2L2D1 | IW13: DcSG | KT13: E2V1A2L2D1 | KU13: DcSG
A14: ='[1]Fiche d''informations'!B33 -> 9 | B14: ='[1]Fiche d''informations'!C33 -> 0 | C14: ='[1]Fiche d''informations'!D33 -> 0 | D14: ='[1]Fiche d''informations'!E33 -> Mme | F14: lgtDiabétique | H14: =IF(MID($F14,1,2)=$H$3,1,0) -> 0 | I14: =IF(MID($F14,1,2)=$I$3,1,0) -> 0 | J14: =IF(MID($F14,1,2)=$J$3,1,0) -> 0 | K14: =IF(MID($F14,3,2)=$K$3,1,0) -> 0 | L14: =IF(MID($F14,3,2)=$L$3,1,0) -> 0 | M14: =IF(MID($F14,5,2)=$M$3,1,0) -> 0 | N14: =IF(MID($F14,5,2)=$N$3,1,0) -> 0 | O14: =IF(MID($F14,7,2)=$O$3,1,0) -> 0 | P14: =IF(MID($F14,7,2)=$P$3,1,0) -> 0 | Q14: =IF(MID($F14,7,2)=$Q$3,1,0) -> 0 | R14: =IF(MID($F14,9,2)=$R$3,1,0) -> 0 | S14: =IF(MID($F14,9,2)=$S$3,1,0) -> 0 | T14: =IF(MID($F14,1,5)=$T$3,1,0) -> 0 | U14: =IF(MID($F14,1,6)=$U$3,1,0) -> 0 | V14: =IF(MID($F14,1,4)=$V$3,1,0) -> 0 | W14: =IF(MID($F14,1,4)=$W$3,1,0) -> 0 | X14: =IF(MID($F14,1,4)=$X$3,1,0) -> 0 | Y14: =IF(MID($F14,1,4)=$Y$3,1,0) -> 0 | Z14: =IF(MID($G14,1,20)=$Z$3,1,0) -> 0 | AA14: =IF(MID($G14,1,20)=$AA$3,1,0) -> 0 | AB14: =IF(MID($G14,1,20)=$AB$3,1,0) -> 0 | AC14: =IF(MID($G14,1,20)=$AC$3,1,0) -> 0 | AD14: =IF(MID($G14,1,20)=$AD$3,1,0) -> 0 | AE14: =IF(MID($G14,1,20)=$AA$3,1,0) -> 0 | AF14: =IF(MID($G14,1,20)=$AF$3,1,0) -> 0 | AG14: =IF(MID($G14,1,20)=$AG$3,1,0) -> 0 | AH14: =IF(MID($G14,1,20)=$AH$3,1,0) -> 0 | AI14: =IF(MID($G14,1,20)=$AI$3,1,0) -> 0 | AJ14: =IF(MID($G14,1,20)=$AJ$3,1,0) -> 0 | AK14: =IF(MID($G14,1,20)=$AK$3,1,0) -> 0 | AL14: =IF(MID($F14,4,2)=(AL$3),1,0) -> 0 | AM14: =IF(MID($F14,4,2)=(AM$3),1,0) -> 0 | AN14: =IF(MID($F14,4,2)=(AN$3),1,0) -> 0 | AO14: =IF(MID($F14,6,2)=(AO$3),1,0) -> 0 | AP14: =IF(MID($F14,6,2)=(AP$3),1,0) -> 0 | AQ14: =IF(MID($F14,8,2)=(AQ$3),1,0) -> 0 | AR14: =IF(MID($F14,8,2)=(AR$3),1,0) -> 0 | AS14: =IF(MID($F14,10,2)=(AS$3),1,0) -> 0 | AT14: =IF(MID($F14,10,2)=(AT$3),1,0) -> 0 | AU14: =IF(MID($F14,10,2)=(AU$3),1,0) -> 0 | AV14: =IF(MID($F14,12,2)=(AV$3),1,0) -> 0 | AW14: =IF(MID($F14,12,2)=(AW$3),1,0) -> 0 | AX14: =IF(MID($F14,1,20)=$AX$3,1,0) -> 0 | AY14: =IF(MID($F14,1,20)=$AY$3,1,0) -> 0 | AZ14: =IF(MID($F14,1,20)=$AZ$3,1,0) -> 0 | BA14: =IF(MID($F14,1,20)=$BA$3,1,0) -> 0 | BB14: =IF(MID($F14,4,4)=$X$3,1,0) -> 0 | BC14: =IF(MID($F14,1,20)=$BC$3,1,0) -> 0 | BD14: lgtDiabétique | DB14: lgtDiabétique | EZ14: lgtDiabétique | GX14: lgtDiabétique | IV14: lgtDiabétique | KT14: lgtDiabétique
A15: ='[1]Fiche d''informations'!B34 -> 10 | B15: ='[1]Fiche d''informations'!C34 -> 0 | C15: ='[1]Fiche d''informations'!D34 -> 0 | D15: ='[1]Fiche d''informations'!E34 -> Mme | F15: lgtE3V2A2L3D2 | H15: =IF(MID($F15,1,2)=$H$3,1,0) -> 0 | I15: =IF(MID($F15,1,2)=$I$3,1,0) -> 0 | J15: =IF(MID($F15,1,2)=$J$3,1,0) -> 0 | K15: =IF(MID($F15,3,2)=$K$3,1,0) -> 0 | L15: =IF(MID($F15,3,2)=$L$3,1,0) -> 0 | M15: =IF(MID($F15,5,2)=$M$3,1,0) -> 0 | N15: =IF(MID($F15,5,2)=$N$3,1,0) -> 0 | O15: =IF(MID($F15,7,2)=$O$3,1,0) -> 0 | P15: =IF(MID($F15,7,2)=$P$3,1,0) -> 0 | Q15: =IF(MID($F15,7,2)=$Q$3,1,0) -> 0 | R15: =IF(MID($F15,9,2)=$R$3,1,0) -> 0 | S15: =IF(MID($F15,9,2)=$S$3,1,0) -> 0 | T15: =IF(MID($F15,1,5)=$T$3,1,0) -> 0 | U15: =IF(MID($F15,1,6)=$U$3,1,0) -> 0 | V15: =IF(MID($F15,1,4)=$V$3,1,0) -> 0 | W15: =IF(MID($F15,1,4)=$W$3,1,0) -> 0 | X15: =IF(MID($F15,1,4)=$X$3,1,0) -> 0 | Y15: =IF(MID($F15,1,4)=$Y$3,1,0) -> 0 | Z15: =IF(MID($G15,1,20)=$Z$3,1,0) -> 0 | AA15: =IF(MID($G15,1,20)=$AA$3,1,0) -> 0 | AB15: =IF(MID($G15,1,20)=$AB$3,1,0) -> 0 | AC15: =IF(MID($G15,1,20)=$AC$3,1,0) -> 0 | AD15: =IF(MID($G15,1,20)=$AD$3,1,0) -> 0 | AE15: =IF(MID($G15,1,20)=$AA$3,1,0) -> 0 | AF15: =IF(MID($G15,1,20)=$AF$3,1,0) -> 0 | AG15: =IF(MID($G15,1,20)=$AG$3,1,0) -> 0 | AH15: =IF(MID($G15,1,20)=$AH$3,1,0) -> 0 | AI15: =IF(MID($G15,1,20)=$AI$3,1,0) -> 0 | AJ15: =IF(MID($G15,1,20)=$AJ$3,1,0) -> 0 | AK15: =IF(MID($G15,1,20)=$AK$3,1,0) -> 0 | AL15: =IF(MID($F15,4,2)=(AL$3),1,0) -> 0 | AM15: =IF(MID($F15,4,2)=(AM$3),1,0) -> 0 | AN15: =IF(MID($F15,4,2)=(AN$3),1,0) -> 1 | AO15: =IF(MID($F15,6,2)=(AO$3),1,0) -> 0 | AP15: =IF(MID($F15,6,2)=(AP$3),1,0) -> 1 | AQ15: =IF(MID($F15,8,2)=(AQ$3),1,0) -> 0 | AR15: =IF(MID($F15,8,2)=(AR$3),1,0) -> 1 | AS15: =IF(MID($F15,10,2)=(AS$3),1,0) -> 0 | AT15: =IF(MID($F15,10,2)=(AT$3),1,0) -> 0 | AU15: =IF(MID($F15,10,2)=(AU$3),1,0) -> 1 | AV15: =IF(MID($F15,12,2)=(AV$3),1,0) -> 0 | AW15: =IF(MID($F15,12,2)=(AW$3),1,0) -> 1 | AX15: =IF(MID($F15,1,20)=$AX$3,1,0) -> 0 | AY15: =IF(MID($F15,1,20)=$AY$3,1,0) -> 0 | AZ15: =IF(MID($F15,1,20)=$AZ$3,1,0) -> 0 | BA15: =IF(MID($F15,1,20)=$BA$3,1,0) -> 0 | BB15: =IF(MID($F15,4,4)=$X$3,1,0) -> 0 | BC15: =IF(MID($F15,1,20)=$BC$3,1,0) -> 0 | BD15: lgtE3V2A2L3D2 | DB15: lgtE3V2A2L3D2 | EZ15: lgtE3V2A2L3D2 | GX15: lgtE3V2A2L3D2 | IV15: lgtE3V2A2L3D2 | KT15: lgtE3V2A2L3D2
A16: ='[1]Fiche d''informations'!B35 -> 11 | B16: ='[1]Fiche d''informations'!C35 -> 1 | C16: ='[1]Fiche d''informations'!D35 -> 12 | D16: ='[1]Fiche d''informations'!E35 -> Mme | F16: sgss | H16: =IF(MID($F16,1,2)=$H$3,1,0) -> 0 | I16: =IF(MID($F16,1,2)=$I$3,1,0) -> 0 | J16: =IF(MID($F16,1,2)=$J$3,1,0) -> 0 | K16: =IF(MID($F16,3,2)=$K$3,1,0) -> 0 | L16: =IF(MID($F16,3,2)=$L$3,1,0) -> 0 | M16: =IF(MID($F16,5,2)=$M$3,1,0) -> 0 | N16: =IF(MID($F16,5,2)=$N$3,1,0) -> 0 | O16: =IF(MID($F16,7,2)=$O$3,1,0) -> 0 | P16: =IF(MID($F16,7,2)=$P$3,1,0) -> 0 | Q16: =IF(MID($F16,7,2)=$Q$3,1,0) -> 0 | R16: =IF(MID($F16,9,2)=$R$3,1,0) -> 0 | S16: =IF(MID($F16,9,2)=$S$3,1,0) -> 0 | T16: =IF(MID($F16,1,5)=$T$3,1,0) -> 0 | U16: =IF(MID($F16,1,6)=$U$3,1,0) -> 0 | V16: =IF(MID($F16,1,4)=$V$3,1,0) -> 0 | W16: =IF(MID($F16,1,4)=$W$3,1,0) -> 0 | X16: =IF(MID($F16,1,4)=$X$3,1,0) -> 0 | Y16: =IF(MID($F16,1,4)=$Y$3,1,0) -> 1 | Z16: =IF(MID($G16,1,20)=$Z$3,1,0) -> 0 | AA16: =IF(MID($G16,1,20)=$AA$3,1,0) -> 0 | AB16: =IF(MID($G16,1,20)=$AB$3,1,0) -> 0 | AC16: =IF(MID($G16,1,20)=$AC$3,1,0) -> 0 | AD16: =IF(MID($G16,1,20)=$AD$3,1,0) -> 0 | AE16: =IF(MID($G16,1,20)=$AA$3,1,0) -> 0 | AF16: =IF(MID($G16,1,20)=$AF$3,1,0) -> 0 | AG16: =IF(MID($G16,1,20)=$AG$3,1,0) -> 0 | AH16: =IF(MID($G16,1,20)=$AH$3,1,0) -> 0 | AI16: =IF(MID($G16,1,20)=$AI$3,1,0) -> 0 | AJ16: =IF(MID($G16,1,20)=$AJ$3,1,0) -> 0 | AK16: =IF(MID($G16,1,20)=$AK$3,1,0) -> 0 | AL16: =IF(MID($F16,4,2)=(AL$3),1,0) -> 0 | AM16: =IF(MID($F16,4,2)=(AM$3),1,0) -> 0 | AN16: =IF(MID($F16,4,2)=(AN$3),1,0) -> 0 | AO16: =IF(MID($F16,6,2)=(AO$3),1,0) -> 0 | AP16: =IF(MID($F16,6,2)=(AP$3),1,0) -> 0 | AQ16: =IF(MID($F16,8,2)=(AQ$3),1,0) -> 0 | AR16: =IF(MID($F16,8,2)=(AR$3),1,0) -> 0 | AS16: =IF(MID($F16,10,2)=(AS$3),1,0) -> 0 | AT16: =IF(MID($F16,10,2)=(AT$3),1,0) -> 0 | AU16: =IF(MID($F16,10,2)=(AU$3),1,0) -> 0 | AV16: =IF(MID($F16,12,2)=(AV$3),1,0) -> 0 | AW16: =IF(MID($F16,12,2)=(AW$3),1,0) -> 0 | AX16: =IF(MID($F16,1,20)=$AX$3,1,0) -> 0 | AY16: =IF(MID($F16,1,20)=$AY$3,1,0) -> 0 | AZ16: =IF(MID($F16,1,20)=$AZ$3,1,0) -> 0 | BA16: =IF(MID($F16,1,20)=$BA$3,1,0) -> 0 | BB16: =IF(MID($F16,4,4)=$X$3,1,0) -> 0 | BC16: =IF(MID($F16,1,20)=$BC$3,1,0) -> 0 | BD16: sgss | DB16: sgss | EZ16: sgss | GX16: sgss | IV16: sgss | KT16: sgss
A17: ='[1]Fiche d''informations'!B36 -> 12 | B17: ='[1]Fiche d''informations'!C36 -> 1 | C17: ='[1]Fiche d''informations'!D36 -> 7 | D17: ='[1]Fiche d''informations'!E36 -> Mr | F17: ss | H17: =IF(MID($F17,1,2)=$H$3,1,0) -> 0 | I17: =IF(MID($F17,1,2)=$I$3,1,0) -> 0 | J17: =IF(MID($F17,1,2)=$J$3,1,0) -> 0 | K17: =IF(MID($F17,3,2)=$K$3,1,0) -> 0 | L17: =IF(MID($F17,3,2)=$L$3,1,0) -> 0 | M17: =IF(MID($F17,5,2)=$M$3,1,0) -> 0 | N17: =IF(MID($F17,5,2)=$N$3,1,0) -> 0 | O17: =IF(MID($F17,7,2)=$O$3,1,0) -> 0 | P17: =IF(MID($F17,7,2)=$P$3,1,0) -> 0 | Q17: =IF(MID($F17,7,2)=$Q$3,1,0) -> 0 | R17: =IF(MID($F17,9,2)=$R$3,1,0) -> 0 | S17: =IF(MID($F17,9,2)=$S$3,1,0) -> 0 | T17: =IF(MID($F17,1,5)=$T$3,1,0) -> 0 | U17: =IF(MID($F17,1,6)=$U$3,1,0) -> 0 | V17: =IF(MID($F17,1,4)=$V$3,1,0) -> 0 | W17: =IF(MID($F17,1,4)=$W$3,1,0) -> 1 | X17: =IF(MID($F17,1,4)=$X$3,1,0) -> 0 | Y17: =IF(MID($F17,1,4)=$Y$3,1,0) -> 0 | Z17: =IF(MID($G17,1,20)=$Z$3,1,0) -> 0 | AA17: =IF(MID($G17,1,20)=$AA$3,1,0) -> 0 | AB17: =IF(MID($G17,1,20)=$AB$3,1,0) -> 0 | AC17: =IF(MID($G17,1,20)=$AC$3,1,0) -> 0 | AD17: =IF(MID($G17,1,20)=$AD$3,1,0) -> 0 | AE17: =IF(MID($G17,1,20)=$AA$3,1,0) -> 0 | AF17: =IF(MID($G17,1,20)=$AF$3,1,0) -> 0 | AG17: =IF(MID($G17,1,20)=$AG$3,1,0) -> 0 | AH17: =IF(MID($G17,1,20)=$AH$3,1,0) -> 0 | AI17: =IF(MID($G17,1,20)=$AI$3,1,0) -> 0 | AJ17: =IF(MID($G17,1,20)=$AJ$3,1,0) -> 0 | AK17: =IF(MID($G17,1,20)=$AK$3,1,0) -> 0 | AL17: =IF(MID($F17,4,2)=(AL$3),1,0) -> 0 | AM17: =IF(MID($F17,4,2)=(AM$3),1,0) -> 0 | AN17: =IF(MID($F17,4,2)=(AN$3),1,0) -> 0 | AO17: =IF(MID($F17,6,2)=(AO$3),1,0) -> 0 | AP17: =IF(MID($F17,6,2)=(AP$3),1,0) -> 0 | AQ17: =IF(MID($F17,8,2)=(AQ$3),1,0) -> 0 | AR17: =IF(MID($F17,8,2)=(AR$3),1,0) -> 0 | AS17: =IF(MID($F17,10,2)=(AS$3),1,0) -> 0 | AT17: =IF(MID($F17,10,2)=(AT$3),1,0) -> 0 | AU17: =IF(MID($F17,10,2)=(AU$3),1,0) -> 0 | AV17: =IF(MID($F17,12,2)=(AV$3),1,0) -> 0 | AW17: =IF(MID($F17,12,2)=(AW$3),1,0) -> 0 | AX17: =IF(MID($F17,1,20)=$AX$3,1,0) -> 0 | AY17: =IF(MID($F17,1,20)=$AY$3,1,0) -> 0 | AZ17: =IF(MID($F17,1,20)=$AZ$3,1,0) -> 0 | BA17: =IF(MID($F17,1,20)=$BA$3,1,0) -> 0 | BB17: =IF(MID($F17,4,4)=$X$3,1,0) -> 0 | BC17: =IF(MID($F17,1,20)=$BC$3,1,0) -> 0 | BD17: ss | DB17: ss | EZ17: ss | GX17: ss | IV17: ss | KT17: ss
A18: ='[1]Fiche d''informations'!B37 -> 13 | B18: ='[1]Fiche d''informations'!C37 -> 0 | C18: ='[1]Fiche d''informations'!D37 -> 0 | D18: ='[1]Fiche d''informations'!E37 -> Mr | F18: diab | H18: =IF(MID($F18,1,2)=$H$3,1,0) -> 0 | I18: =IF(MID($F18,1,2)=$I$3,1,0) -> 0 | J18: =IF(MID($F18,1,2)=$J$3,1,0) -> 0 | K18: =IF(MID($F18,3,2)=$K$3,1,0) -> 0 | L18: =IF(MID($F18,3,2)=$L$3,1,0) -> 0 | M18: =IF(MID($F18,5,2)=$M$3,1,0) -> 0 | N18: =IF(MID($F18,5,2)=$N$3,1,0) -> 0 | O18: =IF(MID($F18,7,2)=$O$3,1,0) -> 0 | P18: =IF(MID($F18,7,2)=$P$3,1,0) -> 0 | Q18: =IF(MID($F18,7,2)=$Q$3,1,0) -> 0 | R18: =IF(MID($F18,9,2)=$R$3,1,0) -> 0 | S18: =IF(MID($F18,9,2)=$S$3,1,0) -> 0 | T18: =IF(MID($F18,1,5)=$T$3,1,0) -> 1 | U18: =IF(MID($F18,1,6)=$U$3,1,0) -> 0 | V18: =IF(MID($F18,1,4)=$V$3,1,0) -> 0 | W18: =IF(MID($F18,1,4)=$W$3,1,0) -> 0 | X18: =IF(MID($F18,1,4)=$X$3,1,0) -> 0 | Y18: =IF(MID($F18,1,4)=$Y$3,1,0) -> 0 | Z18: =IF(MID($G18,1,20)=$Z$3,1,0) -> 0 | AA18: =IF(MID($G18,1,20)=$AA$3,1,0) -> 0 | AB18: =IF(MID($G18,1,20)=$AB$3,1,0) -> 0 | AC18: =IF(MID($G18,1,20)=$AC$3,1,0) -> 0 | AD18: =IF(MID($G18,1,20)=$AD$3,1,0) -> 0 | AE18: =IF(MID($G18,1,20)=$AA$3,1,0) -> 0 | AF18: =IF(MID($G18,1,20)=$AF$3,1,0) -> 0 | AG18: =IF(MID($G18,1,20)=$AG$3,1,0) -> 0 | AH18: =IF(MID($G18,1,20)=$AH$3,1,0) -> 0 | AI18: =IF(MID($G18,1,20)=$AI$3,1,0) -> 0 | AJ18: =IF(MID($G18,1,20)=$AJ$3,1,0) -> 0 | AK18: =IF(MID($G18,1,20)=$AK$3,1,0) -> 0 | AL18: =IF(MID($F18,4,2)=(AL$3),1,0) -> 0 | AM18: =IF(MID($F18,4,2)=(AM$3),1,0) -> 0 | AN18: =IF(MID($F18,4,2)=(AN$3),1,0) -> 0 | AO18: =IF(MID($F18,6,2)=(AO$3),1,0) -> 0 | AP18: =IF(MID($F18,6,2)=(AP$3),1,0) -> 0 | AQ18: =IF(MID($F18,8,2)=(AQ$3),1,0) -> 0 | AR18: =IF(MID($F18,8,2)=(AR$3),1,0) -> 0 | AS18: =IF(MID($F18,10,2)=(AS$3),1,0) -> 0 | AT18: =IF(MID($F18,10,2)=(AT$3),1,0) -> 0 | AU18: =IF(MID($F18,10,2)=(AU$3),1,0) -> 0 | AV18: =IF(MID($F18,12,2)=(AV$3),1,0) -> 0 | AW18: =IF(MID($F18,12,2)=(AW$3),1,0) -> 0 | AX18: =IF(MID($F18,1,20)=$AX$3,1,0) -> 0 | AY18: =IF(MID($F18,1,20)=$AY$3,1,0) -> 0 | AZ18: =IF(MID($F18,1,20)=$AZ$3,1,0) -> 0 | BA18: =IF(MID($F18,1,20)=$BA$3,1,0) -> 0 | BB18: =IF(MID($F18,4,4)=$X$3,1,0) -> 0 | BC18: =IF(MID($F18,1,20)=$BC$3,1,0) -> 0 | BD18: diab | DB18: diab | EZ18: diab | GX18: diab | IV18: diab | KT18: diab
A19: ='[1]Fiche d''informations'!B38 -> 14 | B19: ='[1]Fiche d''informations'!C38 -> 0 | C19: ='[1]Fiche d''informations'!D38 -> 8 | D19: ='[1]Fiche d''informations'!E38 -> Mr | F19: E1V1A1L3D1 | G19: Dcmixé | H19: =IF(MID($F19,1,2)=$H$3,1,0) -> 1 | I19: =IF(MID($F19,1,2)=$I$3,1,0) -> 0 | J19: =IF(MID($F19,1,2)=$J$3,1,0) -> 0 | K19: =IF(MID($F19,3,2)=$K$3,1,0) -> 1 | L19: =IF(MID($F19,3,2)=$L$3,1,0) -> 0 | M19: =IF(MID($F19,5,2)=$M$3,1,0) -> 1 | N19: =IF(MID($F19,5,2)=$N$3,1,0) -> 0 | O19: =IF(MID($F19,7,2)=$O$3,1,0) -> 0 | P19: =IF(MID($F19,7,2)=$P$3,1,0) -> 0 | Q19: =IF(MID($F19,7,2)=$Q$3,1,0) -> 1 | R19: =IF(MID($F19,9,2)=$R$3,1,0) -> 1 | S19: =IF(MID($F19,9,2)=$S$3,1,0) -> 0 | T19: =IF(MID($F19,1,5)=$T$3,1,0) -> 0 | U19: =IF(MID($F19,1,6)=$U$3,1,0) -> 0 | V19: =IF(MID($F19,1,4)=$V$3,1,0) -> 0 | W19: =IF(MID($F19,1,4)=$W$3,1,0) -> 0 | X19: =IF(MID($F19,1,4)=$X$3,1,0) -> 0 | Y19: =IF(MID($F19,1,4)=$Y$3,1,0) -> 0 | Z19: =IF(MID($G19,1,20)=$Z$3,1,0) -> 0 | AA19: =IF(MID($G19,1,20)=$AA$3,1,0) -> 0 | AB19: =IF(MID($G19,1,20)=$AB$3,1,0) -> 0 | AC19: =IF(MID($G19,1,20)=$AC$3,1,0) -> 0 | AD19: =IF(MID($G19,1,20)=$AD$3,1,0) -> 0 | AE19: =IF(MID($G19,1,20)=$AA$3,1,0) -> 0 | AF19: =IF(MID($G19,1,20)=$AF$3,1,0) -> 0 | AG19: =IF(MID($G19,1,20)=$AG$3,1,0) -> 0 | AH19: =IF(MID($G19,1,20)=$AH$3,1,0) -> 1 | AI19: =IF(MID($G19,1,20)=$AI$3,1,0) -> 0 | AJ19: =IF(MID($G19,1,20)=$AJ$3,1,0) -> 0 | AK19: =IF(MID($G19,1,20)=$AK$3,1,0) -> 0 | AL19: =IF(MID($F19,4,2)=(AL$3),1,0) -> 0 | AM19: =IF(MID($F19,4,2)=(AM$3),1,0) -> 0 | AN19: =IF(MID($F19,4,2)=(AN$3),1,0) -> 0 | AO19: =IF(MID($F19,6,2)=(AO$3),1,0) -> 0 | AP19: =IF(MID($F19,6,2)=(AP$3),1,0) -> 0 | AQ19: =IF(MID($F19,8,2)=(AQ$3),1,0) -> 0 | AR19: =IF(MID($F19,8,2)=(AR$3),1,0) -> 0 | AS19: =IF(MID($F19,10,2)=(AS$3),1,0) -> 0 | AT19: =IF(MID($F19,10,2)=(AT$3),1,0) -> 0 | AU19: =IF(MID($F19,10,2)=(AU$3),1,0) -> 0 | AV19: =IF(MID($F19,12,2)=(AV$3),1,0) -> 0 | AW19: =IF(MID($F19,12,2)=(AW$3),1,0) -> 0 | AX19: =IF(MID($F19,1,20)=$AX$3,1,0) -> 0 | AY19: =IF(MID($F19,1,20)=$AY$3,1,0) -> 0 | AZ19: =IF(MID($F19,1,20)=$AZ$3,1,0) -> 0 | BA19: =IF(MID($F19,1,20)=$BA$3,1,0) -> 0 | BB19: =IF(MID($F19,4,4)=$X$3,1,0) -> 0 | BC19: =IF(MID($F19,1,20)=$BC$3,1,0) -> 0 | BD19: E1V1A1L3D1 | BE19: Dcmixé | DB19: E1V1A1L3D1 | DC19: Dcmixé | EZ19: E1V1A1L3D1 | FA19: Dcmixé | GX19: E1V1A1L3D1 | GY19: Dcmixé | IV19: E1V1A1L3D1 | IW19: Dcmixé | KT19: E1V1A1L3D1 | KU19: Dcmixé
A20: ='[1]Fiche d''informations'!B39 -> 15 | B20: ='[1]Fiche d''informations'!C39 -> 0 | C20: ='[1]Fiche d''informations'!D39 -> 0 | D20: ='[1]Fiche d''informations'!E39 -> Mr | F20: sgss | H20: =IF(MID($F20,1,2)=$H$3,1,0) -> 0 | I20: =IF(MID($F20,1,2)=$I$3,1,0) -> 0 | J20: =IF(MID($F20,1,2)=$J$3,1,0) -> 0 | K20: =IF(MID($F20,3,2)=$K$3,1,0) -> 0 | L20: =IF(MID($F20,3,2)=$L$3,1,0) -> 0 | M20: =IF(MID($F20,5,2)=$M$3,1,0) -> 0 | N20: =IF(MID($F20,5,2)=$N$3,1,0) -> 0 | O20: =IF(MID($F20,7,2)=$O$3,1,0) -> 0 | P20: =IF(MID($F20,7,2)=$P$3,1,0) -> 0 | Q20: =IF(MID($F20,7,2)=$Q$3,1,0) -> 0 | R20: =IF(MID($F20,9,2)=$R$3,1,0) -> 0 | S20: =IF(MID($F20,9,2)=$S$3,1,0) -> 0 | T20: =IF(MID($F20,1,5)=$T$3,1,0) -> 0 | U20: =IF(MID($F20,1,6)=$U$3,1,0) -> 0 | V20: =IF(MID($F20,1,4)=$V$3,1,0) -> 0 | W20: =IF(MID($F20,1,4)=$W$3,1,0) -> 0 | X20: =IF(MID($F20,1,4)=$X$3,1,0) -> 0 | Y20: =IF(MID($F20,1,4)=$Y$3,1,0) -> 1 | Z20: =IF(MID($G20,1,20)=$Z$3,1,0) -> 0 | AA20: =IF(MID($G20,1,20)=$AA$3,1,0) -> 0 | AB20: =IF(MID($G20,1,20)=$AB$3,1,0) -> 0 | AC20: =IF(MID($G20,1,20)=$AC$3,1,0) -> 0 | AD20: =IF(MID($G20,1,20)=$AD$3,1,0) -> 0 | AE20: =IF(MID($G20,1,20)=$AA$3,1,0) -> 0 | AF20: =IF(MID($G20,1,20)=$AF$3,1,0) -> 0 | AG20: =IF(MID($G20,1,20)=$AG$3,1,0) -> 0 | AH20: =IF(MID($G20,1,20)=$AH$3,1,0) -> 0 | AI20: =IF(MID($G20,1,20)=$AI$3,1,0) -> 0 | AJ20: =IF(MID($G20,1,20)=$AJ$3,1,0) -> 0 | AK20: =IF(MID($G20,1,20)=$AK$3,1,0) -> 0 | AL20: =IF(MID($F20,4,2)=(AL$3),1,0) -> 0 | AM20: =IF(MID($F20,4,2)=(AM$3),1,0) -> 0 | AN20: =IF(MID($F20,4,2)=(AN$3),1,0) -> 0 | AO20: =IF(MID($F20,6,2)=(AO$3),1,0) -> 0 | AP20: =IF(MID($F20,6,2)=(AP$3),1,0) -> 0 | AQ20: =IF(MID($F20,8,2)=(AQ$3),1,0) -> 0 | AR20: =IF(MID($F20,8,2)=(AR$3),1,0) -> 0 | AS20: =IF(MID($F20,10,2)=(AS$3),1,0) -> 0 | AT20: =IF(MID($F20,10,2)=(AT$3),1,0) -> 0 | AU20: =IF(MID($F20,10,2)=(AU$3),1,0) -> 0 | AV20: =IF(MID($F20,12,2)=(AV$3),1,0) -> 0 | AW20: =IF(MID($F20,12,2)=(AW$3),1,0) -> 0 | AX20: =IF(MID($F20,1,20)=$AX$3,1,0) -> 0 | AY20: =IF(MID($F20,1,20)=$AY$3,1,0) -> 0 | AZ20: =IF(MID($F20,1,20)=$AZ$3,1,0) -> 0 | BA20: =IF(MID($F20,1,20)=$BA$3,1,0) -> 0 | BB20: =IF(MID($F20,4,4)=$X$3,1,0) -> 0 | BC20: =IF(MID($F20,1,20)=$BC$3,1,0) -> 0 | BD20: sgss | DB20: sgss | EZ20: sgss | GX20: sgss | IV20: sgss | KT20: sgss
A21: ='[1]Fiche d''informations'!B40 -> 16 | B21: ='[1]Fiche d''informations'!C40 -> 0 | C21: ='[1]Fiche d''informations'!D40 -> 0 | D21: ='[1]Fiche d''informations'!E40 -> Mme | H21: =IF(MID($F21,1,2)=$H$3,1,0) -> 0 | I21: =IF(MID($F21,1,2)=$I$3,1,0) -> 0 | J21: =IF(MID($F21,1,2)=$J$3,1,0) -> 0 | K21: =IF(MID($F21,3,2)=$K$3,1,0) -> 0 | L21: =IF(MID($F21,3,2)=$L$3,1,0) -> 0 | M21: =IF(MID($F21,5,2)=$M$3,1,0) -> 0 | N21: =IF(MID($F21,5,2)=$N$3,1,0) -> 0 | O21: =IF(MID($F21,7,2)=$O$3,1,0) -> 0 | P21: =IF(MID($F21,7,2)=$P$3,1,0) -> 0 | Q21: =IF(MID($F21,7,2)=$Q$3,1,0) -> 0 | R21: =IF(MID($F21,9,2)=$R$3,1,0) -> 0 | S21: =IF(MID($F21,9,2)=$S$3,1,0) -> 0 | T21: =IF(MID($F21,1,5)=$T$3,1,0) -> 0 | U21: =IF(MID($F21,1,6)=$U$3,1,0) -> 0 | V21: =IF(MID($F21,1,4)=$V$3,1,0) -> 0 | W21: =IF(MID($F21,1,4)=$W$3,1,0) -> 0 | X21: =IF(MID($F21,1,4)=$X$3,1,0) -> 0 | Y21: =IF(MID($F21,1,4)=$Y$3,1,0) -> 0 | Z21: =IF(MID($G21,1,20)=$Z$3,1,0) -> 0 | AA21: =IF(MID($G21,1,20)=$AA$3,1,0) -> 0 | AB21: =IF(MID($G21,1,20)=$AB$3,1,0) -> 0 | AC21: =IF(MID($G21,1,20)=$AC$3,1,0) -> 0 | AD21: =IF(MID($G21,1,20)=$AD$3,1,0) -> 0 | AE21: =IF(MID($G21,1,20)=$AA$3,1,0) -> 0 | AF21: =IF(MID($G21,1,20)=$AF$3,1,0) -> 0 | AG21: =IF(MID($G21,1,20)=$AG$3,1,0) -> 0 | AH21: =IF(MID($G21,1,20)=$AH$3,1,0) -> 0 | AI21: =IF(MID($G21,1,20)=$AI$3,1,0) -> 0 | AJ21: =IF(MID($G21,1,20)=$AJ$3,1,0) -> 0 | AK21: =IF(MID($G21,1,20)=$AK$3,1,0) -> 0 | AL21: =IF(MID($F21,4,2)=(AL$3),1,0) -> 0 | AM21: =IF(MID($F21,4,2)=(AM$3),1,0) -> 0 | AN21: =IF(MID($F21,4,2)=(AN$3),1,0) -> 0 | AO21: =IF(MID($F21,6,2)=(AO$3),1,0) -> 0 | AP21: =IF(MID($F21,6,2)=(AP$3),1,0) -> 0 | AQ21: =IF(MID($F21,8,2)=(AQ$3),1,0) -> 0 | AR21: =IF(MID($F21,8,2)=(AR$3),1,0) -> 0 | AS21: =IF(MID($F21,10,2)=(AS$3),1,0) -> 0 | AT21: =IF(MID($F21,10,2)=(AT$3),1,0) -> 0 | AU21: =IF(MID($F21,10,2)=(AU$3),1,0) -> 0 | AV21: =IF(MID($F21,12,2)=(AV$3),1,0) -> 0 | AW21: =IF(MID($F21,12,2)=(AW$3),1,0) -> 0 | AX21: =IF(MID($F21,1,20)=$AX$3,1,0) -> 0 | AY21: =IF(MID($F21,1,20)=$AY$3,1,0) -> 0 | AZ21: =IF(MID($F21,1,20)=$AZ$3,1,0) -> 0 | BA21: =IF(MID($F21,1,20)=$BA$3,1,0) -> 0 | BB21: =IF(MID($F21,4,4)=$X$3,1,0) -> 0 | BC21: =IF(MID($F21,1,20)=$BC$3,1,0) -> 0
A22: ='[1]Fiche d''informations'!B41 -> 17 | B22: ='[1]Fiche d''informations'!C41 -> 0 | C22: ='[1]Fiche d''informations'!D41 -> 0 | D22: ='[1]Fiche d''informations'!E41 -> Mr | F22: lgtE2V2A2L1D1 | H22: =IF(MID($F22,1,2)=$H$3,1,0) -> 0 | I22: =IF(MID($F22,1,2)=$I$3,1,0) -> 0 | J22: =IF(MID($F22,1,2)=$J$3,1,0) -> 0 | K22: =IF(MID($F22,3,2)=$K$3,1,0) -> 0 | L22: =IF(MID($F22,3,2)=$L$3,1,0) -> 0 | M22: =IF(MID($F22,5,2)=$M$3,1,0) -> 0 | N22: =IF(MID($F22,5,2)=$N$3,1,0) -> 0 | O22: =IF(MID($F22,7,2)=$O$3,1,0) -> 0 | P22: =IF(MID($F22,7,2)=$P$3,1,0) -> 0 | Q22: =IF(MID($F22,7,2)=$Q$3,1,0) -> 0 | R22: =IF(MID($F22,9,2)=$R$3,1,0) -> 0 | S22: =IF(MID($F22,9,2)=$S$3,1,0) -> 0 | T22: =IF(MID($F22,1,5)=$T$3,1,0) -> 0 | U22: =IF(MID($F22,1,6)=$U$3,1,0) -> 0 | V22: =IF(MID($F22,1,4)=$V$3,1,0) -> 0 | W22: =IF(MID($F22,1,4)=$W$3,1,0) -> 0 | X22: =IF(MID($F22,1,4)=$X$3,1,0) -> 0 | Y22: =IF(MID($F22,1,4)=$Y$3,1,0) -> 0 | Z22: =IF(MID($G22,1,20)=$Z$3,1,0) -> 0 | AA22: =IF(MID($G22,1,20)=$AA$3,1,0) -> 0 | AB22: =IF(MID($G22,1,20)=$AB$3,1,0) -> 0 | AC22: =IF(MID($G22,1,20)=$AC$3,1,0) -> 0 | AD22: =IF(MID($G22,1,20)=$AD$3,1,0) -> 0 | AE22: =IF(MID($G22,1,20)=$AA$3,1,0) -> 0 | AF22: =IF(MID($G22,1,20)=$AF$3,1,0) -> 0 | AG22: =IF(MID($G22,1,20)=$AG$3,1,0) -> 0 | AH22: =IF(MID($G22,1,20)=$AH$3,1,0) -> 0 | AI22: =IF(MID($G22,1,20)=$AI$3,1,0) -> 0 | AJ22: =IF(MID($G22,1,20)=$AJ$3,1,0) -> 0 | AK22: =IF(MID($G22,1,20)=$AK$3,1,0) -> 0 | AL22: =IF(MID($F22,4,2)=(AL$3),1,0) -> 0 | AM22: =IF(MID($F22,4,2)=(AM$3),1,0) -> 1 | AN22: =IF(MID($F22,4,2)=(AN$3),1,0) -> 0 | AO22: =IF(MID($F22,6,2)=(AO$3),1,0) -> 0 | AP22: =IF(MID($F22,6,2)=(AP$3),1,0) -> 1 | AQ22: =IF(MID($F22,8,2)=(AQ$3),1,0) -> 0 | AR22: =IF(MID($F22,8,2)=(AR$3),1,0) -> 1 | AS22: =IF(MID($F22,10,2)=(AS$3),1,0) -> 1 | AT22: =IF(MID($F22,10,2)=(AT$3),1,0) -> 0 | AU22: =IF(MID($F22,10,2)=(AU$3),1,0) -> 0 | AV22: =IF(MID($F22,12,2)=(AV$3),1,0) -> 1 | AW22: =IF(MID($F22,12,2)=(AW$3),1,0) -> 0 | AX22: =IF(MID($F22,1,20)=$AX$3,1,0) -> 0 | AY22: =IF(MID($F22,1,20)=$AY$3,1,0) -> 0 | AZ22: =IF(MID($F22,1,20)=$AZ$3,1,0) -> 0 | BA22: =IF(MID($F22,1,20)=$BA$3,1,0) -> 0 | BB22: =IF(MID($F22,4,4)=$X$3,1,0) -> 0 | BC22: =IF(MID($F22,1,20)=$BC$3,1,0) -> 0 | BD22: lgtE2V2A2L1D1 | DB22: lgtE2V2A2L1D1 | EZ22: lgtE2V2A2L1D1 | GX22: lgtE2V2A2L1D1 | IV22: lgtE2V2A2L1D1 | KT22: lgtE2V2A2L1D1
A23: ='[1]Fiche d''informations'!B42 -> 17 | B23: ='[1]Fiche d''informations'!C42 -> 0 | C23: ='[1]Fiche d''informations'!D42 -> 0 | D23: ='[1]Fiche d''informations'!E42 -> Mme | H23: =IF(MID($F23,1,2)=$H$3,1,0) -> 0 | I23: =IF(MID($F23,1,2)=$I$3,1,0) -> 0 | J23: =IF(MID($F23,1,2)=$J$3,1,0) -> 0 | K23: =IF(MID($F23,3,2)=$K$3,1,0) -> 0 | L23: =IF(MID($F23,3,2)=$L$3,1,0) -> 0 | M23: =IF(MID($F23,5,2)=$M$3,1,0) -> 0 | N23: =IF(MID($F23,5,2)=$N$3,1,0) -> 0 | O23: =IF(MID($F23,7,2)=$O$3,1,0) -> 0 | P23: =IF(MID($F23,7,2)=$P$3,1,0) -> 0 | Q23: =IF(MID($F23,7,2)=$Q$3,1,0) -> 0 | R23: =IF(MID($F23,9,2)=$R$3,1,0) -> 0 | S23: =IF(MID($F23,9,2)=$S$3,1,0) -> 0 | T23: =IF(MID($F23,1,5)=$T$3,1,0) -> 0 | U23: =IF(MID($F23,1,6)=$U$3,1,0) -> 0 | V23: =IF(MID($F23,1,4)=$V$3,1,0) -> 0 | W23: =IF(MID($F23,1,4)=$W$3,1,0) -> 0 | X23: =IF(MID($F23,1,4)=$X$3,1,0) -> 0 | Y23: =IF(MID($F23,1,4)=$Y$3,1,0) -> 0 | Z23: =IF(MID($G23,1,20)=$Z$3,1,0) -> 0 | AA23: =IF(MID($G23,1,20)=$AA$3,1,0) -> 0 | AB23: =IF(MID($G23,1,20)=$AB$3,1,0) -> 0 | AC23: =IF(MID($G23,1,20)=$AC$3,1,0) -> 0 | AD23: =IF(MID($G23,1,20)=$AD$3,1,0) -> 0 | AE23: =IF(MID($G23,1,20)=$AA$3,1,0) -> 0 | AF23: =IF(MID($G23,1,20)=$AF$3,1,0) -> 0 | AG23: =IF(MID($G23,1,20)=$AG$3,1,0) -> 0 | AH23: =IF(MID($G23,1,20)=$AH$3,1,0) -> 0 | AI23: =IF(MID($G23,1,20)=$AI$3,1,0) -> 0 | AJ23: =IF(MID($G23,1,20)=$AJ$3,1,0) -> 0 | AK23: =IF(MID($G23,1,20)=$AK$3,1,0) -> 0 | AL23: =IF(MID($F23,4,2)=(AL$3),1,0) -> 0 | AM23: =IF(MID($F23,4,2)=(AM$3),1,0) -> 0 | AN23: =IF(MID($F23,4,2)=(AN$3),1,0) -> 0 | AO23: =IF(MID($F23,6,2)=(AO$3),1,0) -> 0 | AP23: =IF(MID($F23,6,2)=(AP$3),1,0) -> 0 | AQ23: =IF(MID($F23,8,2)=(AQ$3),1,0) -> 0 | AR23: =IF(MID($F23,8,2)=(AR$3),1,0) -> 0 | AS23: =IF(MID($F23,10,2)=(AS$3),1,0) -> 0 | AT23: =IF(MID($F23,10,2)=(AT$3),1,0) -> 0 | AU23: =IF(MID($F23,10,2)=(AU$3),1,0) -> 0 | AV23: =IF(MID($F23,12,2)=(AV$3),1,0) -> 0 | AW23: =IF(MID($F23,12,2)=(AW$3),1,0) -> 0 | AX23: =IF(MID($F23,1,20)=$AX$3,1,0) -> 0 | AY23: =IF(MID($F23,1,20)=$AY$3,1,0) -> 0 | AZ23: =IF(MID($F23,1,20)=$AZ$3,1,0) -> 0 | BA23: =IF(MID($F23,1,20)=$BA$3,1,0) -> 0 | BB23: =IF(MID($F23,4,4)=$X$3,1,0) -> 0 | BC23: =IF(MID($F23,1,20)=$BC$3,1,0) -> 0
A24: ='[1]Fiche d''informations'!B43 -> 18 | B24: ='[1]Fiche d''informations'!C43 -> 0 | C24: ='[1]Fiche d''informations'!D43 -> 0 | D24: ='[1]Fiche d''informations'!E43 -> Mr | F24: E1V1A1L1D2 | G24: DcDiab | H24: =IF(MID($F24,1,2)=$H$3,1,0) -> 1 | I24: =IF(MID($F24,1,2)=$I$3,1,0) -> 0 | J24: =IF(MID($F24,1,2)=$J$3,1,0) -> 0 | K24: =IF(MID($F24,3,2)=$K$3,1,0) -> 1 | L24: =IF(MID($F24,3,2)=$L$3,1,0) -> 0 | M24: =IF(MID($F24,5,2)=$M$3,1,0) -> 1 | N24: =IF(MID($F24,5,2)=$N$3,1,0) -> 0 | O24: =IF(MID($F24,7,2)=$O$3,1,0) -> 1 | P24: =IF(MID($F24,7,2)=$P$3,1,0) -> 0 | Q24: =IF(MID($F24,7,2)=$Q$3,1,0) -> 0 | R24: =IF(MID($F24,9,2)=$R$3,1,0) -> 0 | S24: =IF(MID($F24,9,2)=$S$3,1,0) -> 1 | T24: =IF(MID($F24,1,5)=$T$3,1,0) -> 0 | U24: =IF(MID($F24,1,6)=$U$3,1,0) -> 0 | V24: =IF(MID($F24,1,4)=$V$3,1,0) -> 0 | W24: =IF(MID($F24,1,4)=$W$3,1,0) -> 0 | X24: =IF(MID($F24,1,4)=$X$3,1,0) -> 0 | Y24: =IF(MID($F24,1,4)=$Y$3,1,0) -> 0 | Z24: =IF(MID($G24,1,20)=$Z$3,1,0) -> 0 | AA24: =IF(MID($G24,1,20)=$AA$3,1,0) -> 0 | AB24: =IF(MID($G24,1,20)=$AB$3,1,0) -> 0 | AC24: =IF(MID($G24,1,20)=$AC$3,1,0) -> 0 | AD24: =IF(MID($G24,1,20)=$AD$3,1,0) -> 0 | AE24: =IF(MID($G24,1,20)=$AA$3,1,0) -> 0 | AF24: =IF(MID($G24,1,20)=$AF$3,1,0) -> 1 | AG24: =IF(MID($G24,1,20)=$AG$3,1,0) -> 0 | AH24: =IF(MID($G24,1,20)=$AH$3,1,0) -> 0 | AI24: =IF(MID($G24,1,20)=$AI$3,1,0) -> 0 | AJ24: =IF(MID($G24,1,20)=$AJ$3,1,0) -> 0 | AK24: =IF(MID($G24,1,20)=$AK$3,1,0) -> 0 | AL24: =IF(MID($F24,4,2)=(AL$3),1,0) -> 0 | AM24: =IF(MID($F24,4,2)=(AM$3),1,0) -> 0 | AN24: =IF(MID($F24,4,2)=(AN$3),1,0) -> 0 | AO24: =IF(MID($F24,6,2)=(AO$3),1,0) -> 0 | AP24: =IF(MID($F24,6,2)=(AP$3),1,0) -> 0 | AQ24: =IF(MID($F24,8,2)=(AQ$3),1,0) -> 0 | AR24: =IF(MID($F24,8,2)=(AR$3),1,0) -> 0 | AS24: =IF(MID($F24,10,2)=(AS$3),1,0) -> 0 | AT24: =IF(MID($F24,10,2)=(AT$3),1,0) -> 0 | AU24: =IF(MID($F24,10,2)=(AU$3),1,0) -> 0 | AV24: =IF(MID($F24,12,2)=(AV$3),1,0) -> 0 | AW24: =IF(MID($F24,12,2)=(AW$3),1,0) -> 0 | AX24: =IF(MID($F24,1,20)=$AX$3,1,0) -> 0 | AY24: =IF(MID($F24,1,20)=$AY$3,1,0) -> 0 | AZ24: =IF(MID($F24,1,20)=$AZ$3,1,0) -> 0 | BA24: =IF(MID($F24,1,20)=$BA$3,1,0) -> 0 | BB24: =IF(MID($F24,4,4)=$X$3,1,0) -> 0 | BC24: =IF(MID($F24,1,20)=$BC$3,1,0) -> 0 | BD24: E1V1A1L1D2 | BE24: DcDiab | DB24: E1V1A1L1D2 | DC24: DcDiab | EZ24: E1V1A1L1D2 | FA24: DcDiab | GX24: E1V1A1L1D2 | GY24: DcDiab | IV24: E1V1A1L1D2 | IW24: DcDiab | KT24: E1V1A1L1D2 | KU24: DcDiab
A25: ='[1]Fiche d''informations'!B44 -> 19 | B25: ='[1]Fiche d''informations'!C44 -> 0 | C25: ='[1]Fiche d''informations'!D44 -> 0 | D25: ='[1]Fiche d''informations'!E44 -> Mme | H25: =IF(MID($F25,1,2)=$H$3,1,0) -> 0 | I25: =IF(MID($F25,1,2)=$I$3,1,0) -> 0 | J25: =IF(MID($F25,1,2)=$J$3,1,0) -> 0 | K25: =IF(MID($F25,3,2)=$K$3,1,0) -> 0 | L25: =IF(MID($F25,3,2)=$L$3,1,0) -> 0 | M25: =IF(MID($F25,5,2)=$M$3,1,0) -> 0 | N25: =IF(MID($F25,5,2)=$N$3,1,0) -> 0 | O25: =IF(MID($F25,7,2)=$O$3,1,0) -> 0 | P25: =IF(MID($F25,7,2)=$P$3,1,0) -> 0 | Q25: =IF(MID($F25,7,2)=$Q$3,1,0) -> 0 | R25: =IF(MID($F25,9,2)=$R$3,1,0) -> 0 | S25: =IF(MID($F25,9,2)=$S$3,1,0) -> 0 | T25: =IF(MID($F25,1,5)=$T$3,1,0) -> 0 | U25: =IF(MID($F25,1,6)=$U$3,1,0) -> 0 | V25: =IF(MID($F25,1,4)=$V$3,1,0) -> 0 | W25: =IF(MID($F25,1,4)=$W$3,1,0) -> 0 | X25: =IF(MID($F25,1,4)=$X$3,1,0) -> 0 | Y25: =IF(MID($F25,1,4)=$Y$3,1,0) -> 0 | Z25: =IF(MID($G25,1,20)=$Z$3,1,0) -> 0 | AA25: =IF(MID($G25,1,20)=$AA$3,1,0) -> 0 | AB25: =IF(MID($G25,1,20)=$AB$3,1,0) -> 0 | AC25: =IF(MID($G25,1,20)=$AC$3,1,0) -> 0 | AD25: =IF(MID($G25,1,20)=$AD$3,1,0) -> 0 | AE25: =IF(MID($G25,1,20)=$AA$3,1,0) -> 0 | AF25: =IF(MID($G25,1,20)=$AF$3,1,0) -> 0 | AG25: =IF(MID($G25,1,20)=$AG$3,1,0) -> 0 | AH25: =IF(MID($G25,1,20)=$AH$3,1,0) -> 0 | AI25: =IF(MID($G25,1,20)=$AI$3,1,0) -> 0 | AJ25: =IF(MID($G25,1,20)=$AJ$3,1,0) -> 0 | AK25: =IF(MID($G25,1,20)=$AK$3,1,0) -> 0 | AL25: =IF(MID($F25,4,2)=(AL$3),1,0) -> 0 | AM25: =IF(MID($F25,4,2)=(AM$3),1,0) -> 0 | AN25: =IF(MID($F25,4,2)=(AN$3),1,0) -> 0 | AO25: =IF(MID($F25,6,2)=(AO$3),1,0) -> 0 | AP25: =IF(MID($F25,6,2)=(AP$3),1,0) -> 0 | AQ25: =IF(MID($F25,8,2)=(AQ$3),1,0) -> 0 | AR25: =IF(MID($F25,8,2)=(AR$3),1,0) -> 0 | AS25: =IF(MID($F25,10,2)=(AS$3),1,0) -> 0 | AT25: =IF(MID($F25,10,2)=(AT$3),1,0) -> 0 | AU25: =IF(MID($F25,10,2)=(AU$3),1,0) -> 0 | AV25: =IF(MID($F25,12,2)=(AV$3),1,0) -> 0 | AW25: =IF(MID($F25,12,2)=(AW$3),1,0) -> 0 | AX25: =IF(MID($F25,1,20)=$AX$3,1,0) -> 0 | AY25: =IF(MID($F25,1,20)=$AY$3,1,0) -> 0 | AZ25: =IF(MID($F25,1,20)=$AZ$3,1,0) -> 0 | BA25: =IF(MID($F25,1,20)=$BA$3,1,0) -> 0 | BB25: =IF(MID($F25,4,4)=$X$3,1,0) -> 0 | BC25: =IF(MID($F25,1,20)=$BC$3,1,0) -> 0
A26: ='[1]Fiche d''informations'!B45 -> 20 | B26: ='[1]Fiche d''informations'!C45 -> 0 | C26: ='[1]Fiche d''informations'!D45 -> 0 | D26: ='[1]Fiche d''informations'!E45 -> Mme | H26: =IF(MID($F26,1,2)=$H$3,1,0) -> 0 | I26: =IF(MID($F26,1,2)=$I$3,1,0) -> 0 | J26: =IF(MID($F26,1,2)=$J$3,1,0) -> 0 | K26: =IF(MID($F26,3,2)=$K$3,1,0) -> 0 | L26: =IF(MID($F26,3,2)=$L$3,1,0) -> 0 | M26: =IF(MID($F26,5,2)=$M$3,1,0) -> 0 | N26: =IF(MID($F26,5,2)=$N$3,1,0) -> 0 | O26: =IF(MID($F26,7,2)=$O$3,1,0) -> 0 | P26: =IF(MID($F26,7,2)=$P$3,1,0) -> 0 | Q26: =IF(MID($F26,7,2)=$Q$3,1,0) -> 0 | R26: =IF(MID($F26,9,2)=$R$3,1,0) -> 0 | S26: =IF(MID($F26,9,2)=$S$3,1,0) -> 0 | T26: =IF(MID($F26,1,5)=$T$3,1,0) -> 0 | U26: =IF(MID($F26,1,6)=$U$3,1,0) -> 0 | V26: =IF(MID($F26,1,4)=$V$3,1,0) -> 0 | W26: =IF(MID($F26,1,4)=$W$3,1,0) -> 0 | X26: =IF(MID($F26,1,4)=$X$3,1,0) -> 0 | Y26: =IF(MID($F26,1,4)=$Y$3,1,0) -> 0 | Z26: =IF(MID($G26,1,20)=$Z$3,1,0) -> 0 | AA26: =IF(MID($G26,1,20)=$AA$3,1,0) -> 0 | AB26: =IF(MID($G26,1,20)=$AB$3,1,0) -> 0 | AC26: =IF(MID($G26,1,20)=$AC$3,1,0) -> 0 | AD26: =IF(MID($G26,1,20)=$AD$3,1,0) -> 0 | AE26: =IF(MID($G26,1,20)=$AA$3,1,0) -> 0 | AF26: =IF(MID($G26,1,20)=$AF$3,1,0) -> 0 | AG26: =IF(MID($G26,1,20)=$AG$3,1,0) -> 0 | AH26: =IF(MID($G26,1,20)=$AH$3,1,0) -> 0 | AI26: =IF(MID($G26,1,20)=$AI$3,1,0) -> 0 | AJ26: =IF(MID($G26,1,20)=$AJ$3,1,0) -> 0 | AK26: =IF(MID($G26,1,20)=$AK$3,1,0) -> 0 | AL26: =IF(MID($F26,4,2)=(AL$3),1,0) -> 0 | AM26: =IF(MID($F26,4,2)=(AM$3),1,0) -> 0 | AN26: =IF(MID($F26,4,2)=(AN$3),1,0) -> 0 | AO26: =IF(MID($F26,6,2)=(AO$3),1,0) -> 0 | AP26: =IF(MID($F26,6,2)=(AP$3),1,0) -> 0 | AQ26: =IF(MID($F26,8,2)=(AQ$3),1,0) -> 0 | AR26: =IF(MID($F26,8,2)=(AR$3),1,0) -> 0 | AS26: =IF(MID($F26,10,2)=(AS$3),1,0) -> 0 | AT26: =IF(MID($F26,10,2)=(AT$3),1,0) -> 0 | AU26: =IF(MID($F26,10,2)=(AU$3),1,0) -> 0 | AV26: =IF(MID($F26,12,2)=(AV$3),1,0) -> 0 | AW26: =IF(MID($F26,12,2)=(AW$3),1,0) -> 0 | AX26: =IF(MID($F26,1,20)=$AX$3,1,0) -> 0 | AY26: =IF(MID($F26,1,20)=$AY$3,1,0) -> 0 | AZ26: =IF(MID($F26,1,20)=$AZ$3,1,0) -> 0 | BA26: =IF(MID($F26,1,20)=$BA$3,1,0) -> 0 | BB26: =IF(MID($F26,4,4)=$X$3,1,0) -> 0 | BC26: =IF(MID($F26,1,20)=$BC$3,1,0) -> 0
A27: ='[1]Fiche d''informations'!B46 -> 21 | B27: ='[1]Fiche d''informations'!C46 -> 1 | C27: ='[1]Fiche d''informations'!D46 -> 12 | D27: ='[1]Fiche d''informations'!E46 -> Mr | F27: E1V1A1L1D1 | H27: =IF(MID($F27,1,2)=$H$3,1,0) -> 1 | I27: =IF(MID($F27,1,2)=$I$3,1,0) -> 0 | J27: =IF(MID($F27,1,2)=$J$3,1,0) -> 0 | K27: =IF(MID($F27,3,2)=$K$3,1,0) -> 1 | L27: =IF(MID($F27,3,2)=$L$3,1,0) -> 0 | M27: =IF(MID($F27,5,2)=$M$3,1,0) -> 1 | N27: =IF(MID($F27,5,2)=$N$3,1,0) -> 0 | O27: =IF(MID($F27,7,2)=$O$3,1,0) -> 1 | P27: =IF(MID($F27,7,2)=$P$3,1,0) -> 0 | Q27: =IF(MID($F27,7,2)=$Q$3,1,0) -> 0 | R27: =IF(MID($F27,9,2)=$R$3,1,0) -> 1 | S27: =IF(MID($F27,9,2)=$S$3,1,0) -> 0 | T27: =IF(MID($F27,1,5)=$T$3,1,0) -> 0 | U27: =IF(MID($F27,1,6)=$U$3,1,0) -> 0 | V27: =IF(MID($F27,1,4)=$V$3,1,0) -> 0 | W27: =IF(MID($F27,1,4)=$W$3,1,0) -> 0 | X27: =IF(MID($F27,1,4)=$X$3,1,0) -> 0 | Y27: =IF(MID($F27,1,4)=$Y$3,1,0) -> 0 | Z27: =IF(MID($G27,1,20)=$Z$3,1,0) -> 0 | AA27: =IF(MID($G27,1,20)=$AA$3,1,0) -> 0 | AB27: =IF(MID($G27,1,20)=$AB$3,1,0) -> 0 | AC27: =IF(MID($G27,1,20)=$AC$3,1,0) -> 0 | AD27: =IF(MID($G27,1,20)=$AD$3,1,0) -> 0 | AE27: =IF(MID($G27,1,20)=$AA$3,1,0) -> 0 | AF27: =IF(MID($G27,1,20)=$AF$3,1,0) -> 0 | AG27: =IF(MID($G27,1,20)=$AG$3,1,0) -> 0 | AH27: =IF(MID($G27,1,20)=$AH$3,1,0) -> 0 | AI27: =IF(MID($G27,1,20)=$AI$3,1,0) -> 0 | AJ27: =IF(MID($G27,1,20)=$AJ$3,1,0) -> 0 | AK27: =IF(MID($G27,1,20)=$AK$3,1,0) -> 0 | AL27: =IF(MID($F27,4,2)=(AL$3),1,0) -> 0 | AM27: =IF(MID($F27,4,2)=(AM$3),1,0) -> 0 | AN27: =IF(MID($F27,4,2)=(AN$3),1,0) -> 0 | AO27: =IF(MID($F27,6,2)=(AO$3),1,0) -> 0 | AP27: =IF(MID($F27,6,2)=(AP$3),1,0) -> 0 | AQ27: =IF(MID($F27,8,2)=(AQ$3),1,0) -> 0 | AR27: =IF(MID($F27,8,2)=(AR$3),1,0) -> 0 | AS27: =IF(MID($F27,10,2)=(AS$3),1,0) -> 0 | AT27: =IF(MID($F27,10,2)=(AT$3),1,0) -> 0 | AU27: =IF(MID($F27,10,2)=(AU$3),1,0) -> 0 | AV27: =IF(MID($F27,12,2)=(AV$3),1,0) -> 0 | AW27: =IF(MID($F27,12,2)=(AW$3),1,0) -> 0 | AX27: =IF(MID($F27,1,20)=$AX$3,1,0) -> 0 | AY27: =IF(MID($F27,1,20)=$AY$3,1,0) -> 0 | AZ27: =IF(MID($F27,1,20)=$AZ$3,1,0) -> 0 | BA27: =IF(MID($F27,1,20)=$BA$3,1,0) -> 0 | BB27: =IF(MID($F27,4,4)=$X$3,1,0) -> 0 | BC27: =IF(MID($F27,1,20)=$BC$3,1,0) -> 0 | BD27: E1V1A1L1D1 | DB27: E1V1A1L1D1 | EZ27: E1V1A1L1D1 | GX27: E1V1A1L1D1 | IV27: E1V1A1L1D1 | KT27: E1V1A1L1D1
A28: ='[1]Fiche d''informations'!B47 -> 22 | B28: ='[1]Fiche d''informations'!C47 -> 1 | C28: ='[1]Fiche d''informations'!D47 -> 0 | D28: ='[1]Fiche d''informations'!E47 -> Mr | G28: DcDiabSS | H28: =IF(MID($F28,1,2)=$H$3,1,0) -> 0 | I28: =IF(MID($F28,1,2)=$I$3,1,0) -> 0 | J28: =IF(MID($F28,1,2)=$J$3,1,0) -> 0 | K28: =IF(MID($F28,3,2)=$K$3,1,0) -> 0 | L28: =IF(MID($F28,3,2)=$L$3,1,0) -> 0 | M28: =IF(MID($F28,5,2)=$M$3,1,0) -> 0 | N28: =IF(MID($F28,5,2)=$N$3,1,0) -> 0 | O28: =IF(MID($F28,7,2)=$O$3,1,0) -> 0 | P28: =IF(MID($F28,7,2)=$P$3,1,0) -> 0 | Q28: =IF(MID($F28,7,2)=$Q$3,1,0) -> 0 | R28: =IF(MID($F28,9,2)=$R$3,1,0) -> 0 | S28: =IF(MID($F28,9,2)=$S$3,1,0) -> 0 | T28: =IF(MID($F28,1,5)=$T$3,1,0) -> 0 | U28: =IF(MID($F28,1,6)=$U$3,1,0) -> 0 | V28: =IF(MID($F28,1,4)=$V$3,1,0) -> 0 | W28: =IF(MID($F28,1,4)=$W$3,1,0) -> 0 | X28: =IF(MID($F28,1,4)=$X$3,1,0) -> 0 | Y28: =IF(MID($F28,1,4)=$Y$3,1,0) -> 0 | Z28: =IF(MID($G28,1,20)=$Z$3,1,0) -> 0 | AA28: =IF(MID($G28,1,20)=$AA$3,1,0) -> 0 | AB28: =IF(MID($G28,1,20)=$AB$3,1,0) -> 0 | AC28: =IF(MID($G28,1,20)=$AC$3,1,0) -> 0 | AD28: =IF(MID($G28,1,20)=$AD$3,1,0) -> 0 | AE28: =IF(MID($G28,1,20)=$AA$3,1,0) -> 0 | AF28: =IF(MID($G28,1,20)=$AF$3,1,0) -> 0 | AG28: =IF(MID($G28,1,20)=$AG$3,1,0) -> 1 | AH28: =IF(MID($G28,1,20)=$AH$3,1,0) -> 0 | AI28: =IF(MID($G28,1,20)=$AI$3,1,0) -> 0 | AJ28: =IF(MID($G28,1,20)=$AJ$3,1,0) -> 0 | AK28: =IF(MID($G28,1,20)=$AK$3,1,0) -> 0 | AL28: =IF(MID($F28,4,2)=(AL$3),1,0) -> 0 | AM28: =IF(MID($F28,4,2)=(AM$3),1,0) -> 0 | AN28: =IF(MID($F28,4,2)=(AN$3),1,0) -> 0 | AO28: =IF(MID($F28,6,2)=(AO$3),1,0) -> 0 | AP28: =IF(MID($F28,6,2)=(AP$3),1,0) -> 0 | AQ28: =IF(MID($F28,8,2)=(AQ$3),1,0) -> 0 | AR28: =IF(MID($F28,8,2)=(AR$3),1,0) -> 0 | AS28: =IF(MID($F28,10,2)=(AS$3),1,0) -> 0 | AT28: =IF(MID($F28,10,2)=(AT$3),1,0) -> 0 | AU28: =IF(MID($F28,10,2)=(AU$3),1,0) -> 0 | AV28: =IF(MID($F28,12,2)=(AV$3),1,0) -> 0 | AW28: =IF(MID($F28,12,2)=(AW$3),1,0) -> 0 | AX28: =IF(MID($F28,1,20)=$AX$3,1,0) -> 0 | AY28: =IF(MID($F28,1,20)=$AY$3,1,0) -> 0 | AZ28: =IF(MID($F28,1,20)=$AZ$3,1,0) -> 0 | BA28: =IF(MID($F28,1,20)=$BA$3,1,0) -> 0 | BB28: =IF(MID($F28,4,4)=$X$3,1,0) -> 0 | BC28: =IF(MID($F28,1,20)=$BC$3,1,0) -> 0 | BE28: DcDiabSS | DC28: DcDiabSS | FA28: DcDiabSS | GY28: DcDiabSS | IW28: DcDiabSS | KU28: DcDiabSS
A29: ='[1]Fiche d''informations'!B48 -> 24 | B29: ='[1]Fiche d''informations'!C48 -> 0 | C29: ='[1]Fiche d''informations'!D48 -> 0 | D29: ='[1]Fiche d''informations'!E48 -> Mr | H29: =IF(MID($F29,1,2)=$H$3,1,0) -> 0 | I29: =IF(MID($F29,1,2)=$I$3,1,0) -> 0 | J29: =IF(MID($F29,1,2)=$J$3,1,0) -> 0 | K29: =IF(MID($F29,3,2)=$K$3,1,0) -> 0 | L29: =IF(MID($F29,3,2)=$L$3,1,0) -> 0 | M29: =IF(MID($F29,5,2)=$M$3,1,0) -> 0 | N29: =IF(MID($F29,5,2)=$N$3,1,0) -> 0 | O29: =IF(MID($F29,7,2)=$O$3,1,0) -> 0 | P29: =IF(MID($F29,7,2)=$P$3,1,0) -> 0 | Q29: =IF(MID($F29,7,2)=$Q$3,1,0) -> 0 | R29: =IF(MID($F29,9,2)=$R$3,1,0) -> 0 | S29: =IF(MID($F29,9,2)=$S$3,1,0) -> 0 | T29: =IF(MID($F29,1,5)=$T$3,1,0) -> 0 | U29: =IF(MID($F29,1,6)=$U$3,1,0) -> 0 | V29: =IF(MID($F29,1,4)=$V$3,1,0) -> 0 | W29: =IF(MID($F29,1,4)=$W$3,1,0) -> 0 | X29: =IF(MID($F29,1,4)=$X$3,1,0) -> 0 | Y29: =IF(MID($F29,1,4)=$Y$3,1,0) -> 0 | Z29: =IF(MID($G29,1,20)=$Z$3,1,0) -> 0 | AA29: =IF(MID($G29,1,20)=$AA$3,1,0) -> 0 | AB29: =IF(MID($G29,1,20)=$AB$3,1,0) -> 0 | AC29: =IF(MID($G29,1,20)=$AC$3,1,0) -> 0 | AD29: =IF(MID($G29,1,20)=$AD$3,1,0) -> 0 | AE29: =IF(MID($G29,1,20)=$AA$3,1,0) -> 0 | AF29: =IF(MID($G29,1,20)=$AF$3,1,0) -> 0 | AG29: =IF(MID($G29,1,20)=$AG$3,1,0) -> 0 | AH29: =IF(MID($G29,1,20)=$AH$3,1,0) -> 0 | AI29: =IF(MID($G29,1,20)=$AI$3,1,0) -> 0 | AJ29: =IF(MID($G29,1,20)=$AJ$3,1,0) -> 0 | AK29: =IF(MID($G29,1,20)=$AK$3,1,0) -> 0 | AL29: =IF(MID($F29,4,2)=(AL$3),1,0) -> 0 | AM29: =IF(MID($F29,4,2)=(AM$3),1,0) -> 0 | AN29: =IF(MID($F29,4,2)=(AN$3),1,0) -> 0 | AO29: =IF(MID($F29,6,2)=(AO$3),1,0) -> 0 | AP29: =IF(MID($F29,6,2)=(AP$3),1,0) -> 0 | AQ29: =IF(MID($F29,8,2)=(AQ$3),1,0) -> 0 | AR29: =IF(MID($F29,8,2)=(AR$3),1,0) -> 0 | AS29: =IF(MID($F29,10,2)=(AS$3),1,0) -> 0 | AT29: =IF(MID($F29,10,2)=(AT$3),1,0) -> 0 | AU29: =IF(MID($F29,10,2)=(AU$3),1,0) -> 0 | AV29: =IF(MID($F29,12,2)=(AV$3),1,0) -> 0 | AW29: =IF(MID($F29,12,2)=(AW$3),1,0) -> 0 | AX29: =IF(MID($F29,1,20)=$AX$3,1,0) -> 0 | AY29: =IF(MID($F29,1,20)=$AY$3,1,0) -> 0 | AZ29: =IF(MID($F29,1,20)=$AZ$3,1,0) -> 0 | BA29: =IF(MID($F29,1,20)=$BA$3,1,0) -> 0 | BB29: =IF(MID($F29,4,4)=$X$3,1,0) -> 0 | BC29: =IF(MID($F29,1,20)=$BC$3,1,0) -> 0
A30: ='[1]Fiche d''informations'!B49 -> 25 | B30: ='[1]Fiche d''informations'!C49 -> 0 | C30: ='[1]Fiche d''informations'!D49 -> 0 | D30: ='[1]Fiche d''informations'!E49 -> Mr | F30: E2V2A2L3D2 | H30: =IF(MID($F30,1,2)=$H$3,1,0) -> 0 | I30: =IF(MID($F30,1,2)=$I$3,1,0) -> 1 | J30: =IF(MID($F30,1,2)=$J$3,1,0) -> 0 | K30: =IF(MID($F30,3,2)=$K$3,1,0) -> 0 | L30: =IF(MID($F30,3,2)=$L$3,1,0) -> 1 | M30: =IF(MID($F30,5,2)=$M$3,1,0) -> 0 | N30: =IF(MID($F30,5,2)=$N$3,1,0) -> 1 | O30: =IF(MID($F30,7,2)=$O$3,1,0) -> 0 | P30: =IF(MID($F30,7,2)=$P$3,1,0) -> 0 | Q30: =IF(MID($F30,7,2)=$Q$3,1,0) -> 1 | R30: =IF(MID($F30,9,2)=$R$3,1,0) -> 0 | S30: =IF(MID($F30,9,2)=$S$3,1,0) -> 1 | T30: =IF(MID($F30,1,5)=$T$3,1,0) -> 0 | U30: =IF(MID($F30,1,6)=$U$3,1,0) -> 0 | V30: =IF(MID($F30,1,4)=$V$3,1,0) -> 0 | W30: =IF(MID($F30,1,4)=$W$3,1,0) -> 0 | X30: =IF(MID($F30,1,4)=$X$3,1,0) -> 0 | Y30: =IF(MID($F30,1,4)=$Y$3,1,0) -> 0 | Z30: =IF(MID($G30,1,20)=$Z$3,1,0) -> 0 | AA30: =IF(MID($G30,1,20)=$AA$3,1,0) -> 0 | AB30: =IF(MID($G30,1,20)=$AB$3,1,0) -> 0 | AC30: =IF(MID($G30,1,20)=$AC$3,1,0) -> 0 | AD30: =IF(MID($G30,1,20)=$AD$3,1,0) -> 0 | AE30: =IF(MID($G30,1,20)=$AA$3,1,0) -> 0 | AF30: =IF(MID($G30,1,20)=$AF$3,1,0) -> 0 | AG30: =IF(MID($G30,1,20)=$AG$3,1,0) -> 0 | AH30: =IF(MID($G30,1,20)=$AH$3,1,0) -> 0 | AI30: =IF(MID($G30,1,20)=$AI$3,1,0) -> 0 | AJ30: =IF(MID($G30,1,20)=$AJ$3,1,0) -> 0 | AK30: =IF(MID($G30,1,20)=$AK$3,1,0) -> 0 | AL30: =IF(MID($F30,4,2)=(AL$3),1,0) -> 0 | AM30: =IF(MID($F30,4,2)=(AM$3),1,0) -> 0 | AN30: =IF(MID($F30,4,2)=(AN$3),1,0) -> 0 | AO30: =IF(MID($F30,6,2)=(AO$3),1,0) -> 0 | AP30: =IF(MID($F30,6,2)=(AP$3),1,0) -> 0 | AQ30: =IF(MID($F30,8,2)=(AQ$3),1,0) -> 0 | AR30: =IF(MID($F30,8,2)=(AR$3),1,0) -> 0 | AS30: =IF(MID($F30,10,2)=(AS$3),1,0) -> 0 | AT30: =IF(MID($F30,10,2)=(AT$3),1,0) -> 0 | AU30: =IF(MID($F30,10,2)=(AU$3),1,0) -> 0 | AV30: =IF(MID($F30,12,2)=(AV$3),1,0) -> 0 | AW30: =IF(MID($F30,12,2)=(AW$3),1,0) -> 0 | AX30: =IF(MID($F30,1,20)=$AX$3,1,0) -> 0 | AY30: =IF(MID($F30,1,20)=$AY$3,1,0) -> 0 | AZ30: =IF(MID($F30,1,20)=$AZ$3,1,0) -> 0 | BA30: =IF(MID($F30,1,20)=$BA$3,1,0) -> 0 | BB30: =IF(MID($F30,4,4)=$X$3,1,0) -> 0 | BC30: =IF(MID($F30,1,20)=$BC$3,1,0) -> 0 | BD30: E2V2A2L3D2 | DB30: E2V2A2L3D2 | EZ30: E2V2A2L3D2 | GX30: E2V2A2L3D2 | IV30: E2V2A2L3D2 | KT30: E2V2A2L3D2
