Workbook
Name DateRepas: '[1]Menus à thème'!$E$6:$E$31
Name rngAction: #REF!
Name rngBlockFactor: #REF!
Name rngCINameHidden: #REF!
Name rngHTTPPort: #REF!
Name rngLanguageCD: #REF!
Name rngMachineName: #REF!
Name rngNode: #REF!
Name rngPasswordHidden: #REF!
Name rngPortal: #REF!
Name rngProtocol: #REF!
Name rngPSSiteName: #REF!
Name rngResHeaders: #REF!
Name rngURL: #REF!
Name rngUserIDHidden: #REF!
Name rngXmlConst: #REF!
Name txtBoxTitleConnectInfo: "txtBoxTitle"
Name txtBoxTitleCreateTemplate: "txtBoxTitle"
Name txtBoxTitleInputData: "txtBoxTitle"
Name txtBoxTitleStageSubmitData: "txtBoxTitle"

Sheet SAISIE
F1: LUNDI | BD1: MARDI | DB1: MERCREDI | EZ1: JEUDI | GX1: VENDREDI | IV1: SAMEDI | KT1: DIMANCHE
H2: En salle | Z2: Dîner Léger | AF2: Dîner Copieux | AL2: Logement | BF2: En salle | BX2: Dîner Léger | CD2: Dîner Copieux | CJ2: Logement | DD2: En salle | DV2: Dîner Léger | EB2: Dîner Copieux | EH2: Logement | FB2: En salle | FT2: Dîner Léger | FZ2: Dîner Copieux | GF2: Logement | GZ2: En salle | HR2: Dîner Léger | HX2: Dîner Copieux | ID2: Logement | IX2: En salle | JP2: Dîner Léger | JV2: Dîner Copieux | KB2: Logement | KV2: En salle | LN2: Dîner Léger | LT2: Dîner Copieux | LZ2: Logement
A3: Studio | D3: Mr/Mme | E3: Nom | F3: Midi | G3: Soir | H3: E1 | I3: E2 | J3: E3 | K3: V1 | L3: V2 | M3: A1 | N3: A2 | O3: L1 | P3: L2 | Q3: L3 | R3: D1 | S3: D2 | T3: Diab | U3: DiabSS | V3: mixé | W3: SS | X3: SG | Y3: SGSS | Z3: DLDiab | AA3: DLDiabSS | AB3: DLmixé | AC3: DLSS | AD3: DLSG | AE3: DLSGSS | AF3: DcDiab | AG3: DcDiabSS | AH3: Dcmixé | AI3: DcSS | AJ3: DcSG | AK3: DcSGSS | AL3: E1 | AM3: E2 | AN3: E3 | AO3: V1 | AP3: V2 | AQ3: A1 | AR3: A2 | AS3: L1 | AT3: L2 | AU3: L3 | AV3: D1 | AW3: D2 | AX3: lgtDiab | AY3: lgtDiabSS | AZ3: lgtmixé | BA3: lgtSS | BB3: lgtSG | BC3: lgtSGSS | BD3: Midi | BE3: Soir | DB3: Midi | DC3: Soir | EZ3: Midi | FA3: Soir | GX3: Midi | GY3: Soir | IV3: Midi | IW3: Soir | KT3: Midi | KU3: Soir
A6: ='[1]Fiche d''informations'!B25 -> 1 | B6: ='[1]Fiche d''informations'!C25 -> 0 | C6: ='[1]Fiche d''informations'!D25 -> 0 | D6: ='[1]Fiche d''informations'!E25 -> 0 | F6: lgtE1V1A1L1D2 | G6: DcDiabSS | H6: =IF(MID($F6,1,2)=$H$3,1,0) -> 0 | I6: =IF(MID($F6,1,2)=$I$3,1,0) -> 0 | J6: =IF(MID($F6,1,2)=$J$3,1,0) -> 0 | K6: =IF(MID($F6,3,2)=$K$3,1,0) -> 0 | L6: =IF(MID($F6,3,2)=$L$3,1,0) -> 0 | M6: =IF(MID($F6,5,2)=$M$3,1,0) -> 0 | N6: =IF(MID($F6,5,2)=$N$3,1,0) -> 0 | O6: =IF(MID($F6,7,2)=$O$3,1,0) -> 0 | P6: =IF(MID($F6,7,2)=$P$3,1,0) -> 0 | Q6: =IF(MID($F6,7,2)=$Q$3,1,0) -> 0 | R6: =IF(MID($F6,9,2)=$R$3,1,0) -> 0 | S6: =IF(MID($F6,9,2)=$S$3,1,0) -> 0 | T6: =IF(MID($F6,1,5)=$T$3,1,0) -> 0 | U6: =IF(MID($F6,1,6)=$U$3,1,0) -> 0 | V6: =IF(MID($F6,1,4)=$V$3,1,0) -> 0 | W6: =IF(MID($F6,1,4)=$W$3,1,0) -> 0 | X6: =IF(MID($F6,1,4)=$X$3,1,0) -> 0 | Y6: =IF(MID($F6,1,4)=$Y$3,1,0) -> 0 | Z6: =IF(MID($G6,1,20)=$Z$3,1,0) -> 0 | AA6: =IF(MID($G6,1,20)=$AA$3,1,0) -> 0 | AB6: =IF(MID($G6,1,20)=$AB$3,1,0) -> 0 | AC6: =IF(MID($G6,1,20)=$AC$3,1,0) -> 0 | AD6: =IF(MID($G6,1,20)=$AD$3,1,0) -> 0 | AE6: =IF(MID($G6,1,20)=$AA$3,1,0) -> 0 | AF6: =IF(MID($G6,1,20)=$AF$3,1,0) -> 0 | AG6: =IF(MID($G6,1,20)=$AG$3,1,0) -> 1 | AH6: =IF(MID($G6,1,20)=$AH$3,1,0) -> 0 | AI6: =IF(MID($G6,1,20)=$AI$3,1,0) -> 0 | AJ6: =IF(MID($G6,1,20)=$AJ$3,1,0) -> 0 | AK6: =IF(MID($G6,1,20)=$AK$3,1,0) -> 0 | AL6: =IF(MID($F6,4,2)=(AL$3),1,0) -> 1 | AM6: =IF(MID($F6,4,2)=(AM$3),1,0) -> 0 | AN6: =IF(MID($F6,4,2)=(AN$3),1,0) -> 0 | AO6: =IF(MID($F6,6,2)=(AO$3),1,0) -> 1 | AP6: =IF(MID($F6,6,2)=(AP$3),1,0) -> 0 | AQ6: =IF(MID($F6,8,2)=(AQ$3),1,0) -> 1 | AR6: =IF(MID($F6,8,2)=(AR$3),1,0) -> 0 | AS6: =IF(MID($F6,10,2)=(AS$3),1,0) -> 1 | AT6: =IF(MID($F6,10,2)=(AT$3),1,0) -> 0 | AU6: =IF(MID($F6,10,2)=(AU$3),1,0) -> 0 | AV6: =IF(MID($F6,12,2)=(AV$3),1,0) -> 0 | AW6: =IF(MID($F6,12,2)=(AW$3),1,0) -> 1 | AX6: =IF(MID($F6,1,20)=$AX$3,1,0) -> 0 | AY6: =IF(MID($F6,1,20)=$AY$3,1,0) -> 0 | AZ6: =IF(MID($F6,1,20)=$AZ$3,1,0) -> 0 | BA6: =IF(MID($F6,1,20)=$BA$3,1,0) -> 0 | BB6: =IF(MID($F6,4,4)=$X$3,1,0) -> 0 | BC6: =IF(MID($F6,1,20)=$BC$3,1,0) -> 0 | BD6: lgtE1V1A1L1D2 | BE6: DcDiabSS | DB6: lgtE1V1A1L1D2 | DC6: DcDiabSS | EZ6: lgtE1V1A1L1D2 | FA6: DcDiabSS | GX6: lgtE1V1A1L1D2 | GY6: DcDiabSS | IV6: lgtE1V1A1L1D2 | IW6: DcDiabSS | KT6: lgtE1V1A1L1D2 | KU6: DcDiabSS
A7: ='[1]Fiche d''informations'!B26 -> 2 | B7: ='[1]Fiche d''informations'!C26 -> 1 | C7: ='[1]Fiche d''informations'!D26 -> 7 | D7: ='[1]Fiche d''informations'!E26 -> Mr | F7: lgtmixé | H7: =IF(MID($F7,1,2)=$H$3,1,0) -> 0 | I7: =IF(MID($F7,1,2)=$I$3,1,0) -> 0 | J7: =IF(MID($F7,1,2)=$J$3,1,0) -> 0 | K7: =IF(MID($F7,3,2)=$K$3,1,0) -> 0 | L7: =IF(MID($F7,3,2)=$L$3,1,0) -> 0 | M7: =IF(MID($F7,5,2)=$M$3,1,0) -> 0 | N7: =IF(MID($F7,5,2)=$N$3,1,0) -> 0 | O7: =IF(MID($F7,7,2)=$O$3,1,0) -> 0 | P7: =IF(MID($F7,7,2)=$P$3,1,0) -> 0 | Q7: =IF(MID($F7,7,2)=$Q$3,1,0) -> 0 | R7: =IF(MID($F7,9,2)=$R$3,1,0) -> 0 | S7: =IF(MID($F7,9,2)=$S$3,1,0) -> 0 | T7: =IF(MID($F7,1,5)=$T$3,1,0) -> 0 | U7: =IF(MID($F7,1,6)=$U$3,1,0) -> 0 | V7: =IF(MID($F7,1,4)=$V$3,1,0) -> 0 | W7: =IF(MID($F7,1,4)=$W$3,1,0) -> 0 | X7: =IF(MID($F7,1,4)=$X$3,1,0) -> 0 | Y7: =IF(MID($F7,1,4)=$Y$3,1,0) -> 0 | Z7: =IF(MID($G7,1,20)=$Z$3,1,0) -> 0 | AA7: =IF(MID($G7,1,20)=$AA$3,1,0) -> 0 | AB7: =IF(MID($G7,1,20)=$AB$3,1,0) -> 0 | AC7: =IF(MID($G7,1,20)=$AC$3,1,0) -> 0 | AD7: =IF(MID($G7,1,20)=$AD$3,1,0) -> 0 | AE7: =IF(MID($G7,1,20)=$AA$3,1,0) -> 0 | AF7: =IF(MID($G7,1,20)=$AF$3,1,0) -> 0 | AG7: =IF(MID($G7,1,20)=$AG$3,1,0) -> 0 | AH7: =IF(MID($G7,1,20)=$AH$3,1,0) -> 0 | AI7: =IF(MID($G7,1,20)=$AI$3,1,0) -> 0 | AJ7: =IF(MID($G7,1,20)=$AJ$3,1,0) -> 0 | AK7: =IF(MID($G7,1,20)=$AK$3,1,0) -> 0 | AL7: =IF(MID($F7,4,2)=(AL$3),1,0) -> 0 | AM7: =IF(MID($F7,4,2)=(AM$3),1,0) -> 0 | AN7: =IF(MID($F7,4,2)=(AN$3),1,0) -> 0 | AO7: =IF(MID($F7,6,2)=(AO$3),1,0) -> 0 | AP7: =IF(MID($F7,6,2)=(AP$3),1,0) -> 0 | AQ7: =IF(MID($F7,8,2)=(AQ$3),1,0) -> 0 | AR7: =IF(MID($F7,8,2)=(AR$3),1,0) -> 0 | AS7: =IF(MID($F7,10,2)=(AS$3),1,0) -> 0 | AT7: =IF(MID($F7,10,2)=(AT$3),1,0) -> 0 | AU7: =IF(MID($F7,10,2)=(AU$3),1,0) -> 0 | AV7: =IF(MID($F7,12,2)=(AV$3),1,0) -> 0 | AW7: =IF(MID($F7,12,2)=(AW$3),1,0) -> 0 | AX7: =IF(MID($F7,1,20)=$AX$3,1,0) -> 0 | AY7: =IF(MID($F7,1,20)=$AY$3,1,0) -> 0 | AZ7: =IF(MID($F7,1,20)=$AZ$3,1,0) -> 1 | BA7: =IF(MID($F7,1,20)=$BA$3,1,0) -> 0 | BB7: =IF(MID($F7,4,4)=$X$3,1,0) -> 0 | BC7: =IF(MID($F7,1,20)=$BC$3,1,0) -> 0 | BD7: lgtmixé | DB7: lgtmixé | EZ7: lgtmixé | GX7: lgtmixé | IV7: lgtmixé | KT7: lgtmixé
A8: ='[1]Fiche d''informations'!B27 -> 3 | B8: ='[1]Fiche d''informations'!C27 -> 0 | C8: ='[1]Fiche d''informations'!D27 -> 0 | D8: ='[1]Fiche d''informations'!E27 -> 0 | F8: lgtsans sel | G8: DcDiabSS | H8: =IF(MID($F8,1,2)=$H$3,1,0) -> 0 | I8: =IF(MID($F8,1,2)=$I$3,1,0) -> 0 | J8: =IF(MID($F8,1,2)=$J$3,1,0) -> 0 | K8: =IF(MID($F8,3,2)=$K$3,1,0) -> 0 | L8: =IF(MID($F8,3,2)=$L$3,1,0) -> 0 | M8: =IF(MID($F8,5,2)=$M$3,1,0) -> 0 | N8: =IF(MID($F8,5,2)=$N$3,1,0) -> 0 | O8: =IF(MID($F8,7,2)=$O$3,1,0) -> 0 | P8: =IF(MID($F8,7,2)=$P$3,1,0) -> 0 | Q8: =IF(MID($F8,7,2)=$Q$3,1,0) -> 0 | R8: =IF(MID($F8,9,2)=$R$3,1,0) -> 0 | S8: =IF(MID($F8,9,2)=$S$3,1,0) -> 0 | T8: =IF(MID($F8,1,5)=$T$3,1,0) -> 0 | U8: =IF(MID($F8,1,6)=$U$3,1,0) -> 0 | V8: =IF(MID($F8,1,4)=$V$3,1,0) -> 0 | W8: =IF(MID($F8,1,4)=$W$3,1,0) -> 0 | X8: =IF(MID($F8,1,4)=$X$3,1,0) -> 0 | Y8: =IF(MID($F8,1,4)=$Y$3,1,0) -> 0 | Z8: =IF(MID($G8,1,20)=$Z$3,1,0) -> 0 | AA8: =IF(MID($G8,1,20)=$AA$3,1,0) -> 0 | AB8: =IF(MID($G8,1,20)=$AB$3,1,0) -> 0 | AC8: =IF(MID($G8,1,20)=$AC$3,1,0) -> 0 | AD8: =IF(MID($G8,1,20)=$AD$3,1,0) -> 0 | AE8: =IF(MID($G8,1,20)=$AA$3,1,0) -> 0 | AF8: =IF(MID($G8,1,20)=$AF$3,1,0) -> 0 | AG8: =IF(MID($G8,1,20)=$AG$3,1,0) -> 1 | AH8: =IF(MID($G8,1,20)=$AH$3,1,0) -> 0 | AI8: =IF(MID($G8,1,20)=$AI$3,1,0) -> 0 | AJ8: =IF(MID($G8,1,20)=$AJ$3,1,0) -> 0 | AK8: =IF(MID($G8,1,20)=$AK$3,1,0) -> 0 | AL8: =IF(MID($F8,4,2)=(AL$3),1,0) -> 0 | AM8: =IF(MID($F8,4,2)=(AM$3),1,0) -> 0 | AN8: =IF(MID($F8,4,2)=(AN$3),1,0) -> 0 | AO8: =IF(MID($F8,6,2)=(AO$3),1,0) -> 0 | AP8: =IF(MID($F8,6,2)=(AP$3),1,0) -> 0 | AQ8: =IF(MID($F8,8,2)=(AQ$3),1,0) -> 0 | AR8: =IF(MID($F8,8,2)=(AR$3),1,0) -> 0 | AS8: =IF(MID($F8,10,2)=(AS$3),1,0) -> 0 | AT8: =IF(MID($F8,10,2)=(AT$3),1,0) -> 0 | AU8: =IF(MID($F8,10,2)=(AU$3),1,0) -> 0 | AV8: =IF(MID($F8,12,2)=(AV$3),1,0) -> 0 | AW8: =IF(MID($F8,12,2)=(AW$3),1,0) -> 0 | AX8: =IF(MID($F8,1,20)=$AX$3,1,0) -> 0 | AY8: =IF(MID($F8,1,20)=$AY$3,1,0) -> 0 | AZ8: =IF(MID($F8,1,20)=$AZ$3,1,0) -> 0 | BA8: =IF(MID($F8,1,20)=$BA$3,1,0) -> 0 | BB8: =IF(MID($F8,4,4)=$X$3,1,0) -> 0 | BC8: =IF(MID($F8,1,20)=$BC$3,1,0) -> 0 | BD8: lgtsans sel | BE8: DcDiabSS | DB8: lgtsans sel | DC8: DcDiabSS | EZ8: lgtsans sel | FA8: DcDiabSS | GX8: lgtsans sel | GY8: DcDiabSS | IV8: lgtsans sel | IW8: DcDiabSS | KT8: lgtsans sel | KU8: DcDiabSS
A9: ='[1]Fiche d''informations'!B28 -> 4 | B9: ='[1]Fiche d''informations'!C28 -> 1 | C9: ='[1]Fiche d''informations'!D28 -> 3 | D9: ='[1]Fiche d''informations'!E28 -> Mme | F9: sgss | H9: =IF(MID($F9,1,2)=$H$3,1,0) -> 0 | I9: =IF(MID($F9,1,2)=$I$3,1,0) -> 0 | J9: =IF(MID($F9,1,2)=$J$3,1,0) -> 0 | K9: =IF(MID($F9,3,2)=$K$3,1,0) -> 0 | L9: =IF(MID($F9,3,2)=$L$3,1,0) -> 0 | M9: =IF(MID($F9,5,2)=$M$3,1,0) -> 0 | N9: =IF(MID($F9,5,2)=$N$3,1,0) -> 0 | O9: =IF(MID($F9,7,2)=$O$3,1,0) -> 0 | P9: =IF(MID($F9,7,2)=$P$3,1,0) -> 0 | Q9: =IF(MID($F9,7,2)=$Q$3,1,0) -> 0 | R9: =IF(MID($F9,9,2)=$R$3,1,0) -> 0 | S9: =IF(MID($F9,9,2)=$S$3,1,0) -> 0 | T9: =IF(MID($F9,1,5)=$T$3,1,0) -> 0 | U9: =IF(MID($F9,1,6)=$U$3,1,0) -> 0 | V9: =IF(MID($F9,1,4)=$V$3,1,0) -> 0 | W9: =IF(MID($F9,1,4)=$W$3,1,0) -> 0 | X9: =IF(MID($F9,1,4)=$X$3,1,0) -> 0 | Y9: =IF(MID($F9,1,4)=$Y$3,1,0) -> 1 | Z9: =IF(MID($G9,1,20)=$Z$3,1,0) -> 0 | AA9: =IF(MID($G9,1,20)=$AA$3,1,0) -> 0 | AB9: =IF(MID($G9,1,20)=$AB$3,1,0) -> 0 | AC9: =IF(MID($G9,1,20)=$AC$3,1,0) -> 0 | AD9: =IF(MID($G9,1,20)=$AD$3,1,0) -> 0 | AE9: =IF(MID($G9,1,20)=$AA$3,1,0) -> 0 | AF9: =IF(MID($G9,1,20)=$AF$3,1,0) -> 0 | AG9: =IF(MID($G9,1,20)=$AG$3,1,0) -> 0 | AH9: =IF(MID($G9,1,20)=$AH$3,1,0) -> 0 | AI9: =IF(MID($G9,1,20)=$AI$3,1,0) -> 0 | AJ9: =IF(MID($G9,1,20)=$AJ$3,1,0) -> 0 | AK9: =IF(MID($G9,1,20)=$AK$3,1,0) -> 0 | AL9: =IF(MID($F9,4,2)=(AL$3),1,0) -> 0 | AM9: =IF(MID($F9,4,2)=(AM$3),1,0) -> 0 | AN9: =IF(MID($F9,4,2)=(AN$3),1,0) -> 0 | AO9: =IF(MID($F9,6,2)=(AO$3),1,0) -> 0 | AP9: =IF(MID($F9,6,2)=(AP$3),1,0) -> 0 | AQ9: =IF(MID($F9,8,2)=(AQ$3),1,0) -> 0 | AR9: =IF(MID($F9,8,2)=(AR$3),1,0) -> 0 | AS9: =IF(MID($F9,10,2)=(AS$3),1,0) -> 0 | AT9: =IF(MID($F9,10,2)=(AT$3),1,0) -> 0 | AU9: =IF(MID($F9,10,2)=(AU$3),1,0) -> 0 | AV9: =IF(MID($F9,12,2)=(AV$3),1,0) -> 0 | AW9: =IF(MID($F9,12,2)=(AW$3),1,0) -> 0 | AX9: =IF(MID($F9,1,20)=$AX$3,1,0) -> 0 | AY9: =IF(MID($F9,1,20)=$AY$3,1,0) -> 0 | AZ9: =IF(MID($F9,1,20)=$AZ$3,1,0) -> 0 | BA9: =IF(MID($F9,1,20)=$BA$3,1,0) -> 0 | BB9: =IF(MID($F9,4,4)=$X$3,1,0) -> 0 | BC9: =IF(MID($F9,1,20)=$BC$3,1,0) -> 0 | BD9: sgss | DB9: sgss | EZ9: sgss | GX9: sgss | IV9: sgss | KT9: sgss
A10: ='[1]Fiche d''informations'!B29 -> 5 | B10: ='[1]Fiche d''informations'!C29 -> 1 | C10: ='[1]Fiche d''informations'!D29 -> 10 | D10: ='[1]Fiche d''informations'!E29 -> Mr | F10: lgtmixé | G10: DcSG | H10: =IF(MID($F10,1,2)=$H$3,1,0) -> 0 | I10: =IF(MID($F10,1,2)=$I$3,1,0) -> 0 | J10: =IF(MID($F10,1,2)=$J$3,1,0) -> 0 | K10: =IF(MID($F10,3,2)=$K$3,1,0) -> 0 | L10: =IF(MID($F10,3,2)=$L$3,1,0) -> 0 | M10: =IF(MID($F10,5,2)=$M$3,1,0) -> 0 | N10: =IF(MID($F10,5,2)=$N$3,1,0) -> 0 | O10: =IF(MID($F10,7,2)=$O$3,1,0) -> 0 | P10: =IF(MID($F10,7,2)=$P$3,1,0) -> 0 | Q10: =IF(MID($F10,7,2)=$Q$3,1,0) -> 0 | R10: =IF(MID($F10,9,2)=$R$3,1,0) -> 0 | S10: =IF(MID($F10,9,2)=$S$3,1,0) -> 0 | T10: =IF(MID($F10,1,5)=$T$3,1,0) -> 0 | U10: =IF(MID($F10,1,6)=$U$3,1,0) -> 0 | V10: =IF(MID($F10,1,4)=$V$3,1,0) -> 0 | W10: =IF(MID($F10,1,4)=$W$3,1,0) -> 0 | X10: =IF(MID($F10,1,4)=$X$3,1,0) -> 0 | Y10: =IF(MID($F10,1,4)=$Y$3,1,0) -> 0 | Z10: =IF(MID($G10,1,20)=$Z$3,1,0) -> 0 | AA10: =IF(MID($G10,1,20)=$AA$3,1,0) -> 0 | AB10: =IF(MID($G10,1,20)=$AB$3,1,0) -> 0 | AC10: =IF(MID($G10,1,20)=$AC$3,1,0) -> 0 | AD10: =IF(MID($G10,1,20)=$AD$3,1,0) -> 0 | AE10: =IF(MID($G10,1,20)=$AA$3,1,0) -> 0 | AF10: =IF(MID($G10,1,20)=$AF$3,1,0) -> 0 | AG10: =IF(MID($G10,1,20)=$AG$3,1,0) -> 0 | AH10: =IF(MID($G10,1,20)=$AH$3,1,0) -> 0 | AI10: =IF(MID($G10,1,20)=$AI$3,1,0) -> 0 | AJ10: =IF(MID($G10,1,20)=$AJ$3,1,0) -> 1 | AK10: =IF(MID($G10,1,20)=$AK$3,1,0) -> 0 | AL10: =IF(MID($F10,4,2)=(AL$3),1,0) -> 0 | AM10: =IF(MID($F10,4,2)=(AM$3),1,0) -> 0 | AN10: =IF(MID($F10,4,2)=(AN$3),1,0) -> 0 | AO10: =IF(MID($F10,6,2)=(AO$3),1,0) -> 0 | AP10: =IF(MID($F10,6,2)=(AP$3),1,0) -> 0 | AQ10: =IF(MID($F10,8,2)=(AQ$3),1,0) -> 0 | AR10: =IF(MID($F10,8,2)=(AR$3),1,0) -> 0 | AS10: =IF(MID($F10,10,2)=(AS$3),1,0) -> 0 | AT10: =IF(MID($F10,10,2)=(AT$3),1,0) -> 0 | AU10: =IF(MID($F10,10,2)=(AU$3),1,0) -> 0 | AV10: =IF(MID($F10,12,2)=(AV$3),1,0) -> 0 | AW10: =IF(MID($F10,12,2)=(AW$3),1,0) -> 0 | AX10: =IF(MID($F10,1,20)=$AX$3,1,0) -> 0 | AY10: =IF(MID($F10,1,20)=$AY$3,1,0) -> 0 | AZ10: =IF(MID($F10,1,20)=$AZ$3,1,0) -> 1 | BA10: =IF(MID($F10,1,20)=$BA$3,1,0) -> 0 | BB10: =IF(MID($F10,4,4)=$X$3,1,0) -> 0 | BC10: =IF(MID($F10,1,20)=$BC$3,1,0) -> 0 | BD10: lgtmixé | BE10: DcSG | DB10: lgtmixé | DC10: DcSG | EZ10: lgtmixé | FA10: DcSG | GX10: lgtmixé | GY10: DcSG | IV10: lgtmixé | IW10: DcSG | KT10: lgtmixé | KU10: DcSG
A11: ='[1]Fiche d''informations'!B30 -> 6 | B11: ='[1]Fiche d''informations'!C30 -> 0 | C11: ='[1]Fiche d''informations'!D30 -> 0 | D11: ='[1]Fiche d''informations'!E30 -> 0 | F11: lgtE2V1A1L2D1 | H11: =IF(MID($F11,1,2)=$H$3,1,0) -> 0 | I11: =IF(MID($F11,1,2)=$I$3,1,0) -> 0 | J11: =IF(MID($F11,1,2)=$J$3,1,0) -> 0 | K11: =IF(MID($F11,3,2)=$K$3,1,0) -> 0 | L11: =IF(MID($F11,3,2)=$L$3,1,0) -> 0 | M11: =IF(MID($F11,5,2)=$M$3,1,0) -> 0 | N11: =IF(MID($F11,5,2)=$N$3,1,0) -> 0 | O11: =IF(MID($F11,7,2)=$O$3,1,0) -> 0 | P11: =IF(MID($F11,7,2)=$P$3,1,0) -> 0 | Q11: =IF(MID($F11,7,2)=$Q$3,1,0) -> 0 | R11: =IF(MID($F11,9,2)=$R$3,1,0) -> 0 | S11: =IF(MID($F11,9,2)=$S$3,1,0) -> 0 | T11: =IF(MID($F11,1,5)=$T$3,1,0) -> 0 | U11: =IF(MID($F11,1,6)=$U$3,1,0) -> 0 | V11: =IF(MID($F11,1,4)=$V$3,1,0) -> 0 | W11: =IF(MID($F11,1,4)=$W$3,1,0) -> 0 | X11: =IF(MID($F11,1,4)=$X$3,1,0) -> 0 | Y11: =IF(MID($F11,1,4)=$Y$3,1,0) -> 0 | Z11: =IF(MID($G11,1,20)=$Z$3,1,0) -> 0 | AA11: =IF(MID($G11,1,20)=$AA$3,1,0) -> 0 | AB11: =IF(MID($G11,1,20)=$AB$3,1,0) -> 0 | AC11: =IF(MID($G11,1,20)=$AC$3,1,0) -> 0 | AD11: =IF(MID($G11,1,20)=$AD$3,1,0) -> 0 | AE11: =IF(MID($G11,1,20)=$AA$3,1,0) -> 0 | AF11: =IF(MID($G11,1,20)=$AF$3,1,0) -> 0 | AG11: =IF(MID($G11,1,20)=$AG$3,1,0) -> 0 | AH11: =IF(MID($G11,1,20)=$AH$3,1,0) -> 0 | AI11: =IF(MID($G11,1,20)=$AI$3,1,0) -> 0 | AJ11: =IF(MID($G11,1,20)=$AJ$3,1,0) -> 0 | AK11: =IF(MID($G11,1,20)=$AK$3,1,0) -> 0 | AL11: =IF(MID($F11,4,2)=(AL$3),1,0) -> 0 | AM11: =IF(MID($F11,4,2)=(AM$3),1,0) -> 1 | AN11: =IF(MID($F11,4,2)=(AN$3),1,0) -> 0 | AO11: =IF(MID($F11,6,2)=(AO$3),1,0) -> 1 | AP11: =IF(MID($F11,6,2)=(AP$3),1,0) -> 0 | AQ11: =IF(MID($F11,8,2)=(AQ$3),1,0) -> 1 | AR11: =IF(MID($F11,8,2)=(AR$3),1,0) -> 0 | AS11: =IF(MID($F11,10,2)=(AS$3),1,0) -> 0 | AT11: =IF(MID($F11,10,2)=(AT$3),1,0) -> 1 | AU11: =IF(MID($F11,10,2)=(AU$3),1,0) -> 0 | AV11: =IF(MID($F11,12,2)=(AV$3),1,0) -> 1 | AW11: =IF(MID($F11,12,2)=(AW$3),1,0) -> 0 | AX11: =IF(MID($F11,1,20)=$AX$3,1,0) -> 0 | AY11: =IF(MID($F11,1,20)=$AY$3,1,0) -> 0 | AZ11: =IF(MID($F11,1,20)=$AZ$3,1,0) -> 0 | BA11: =IF(MID($F11,1,20)=$BA$3,1,0) -> 0 | BB11: =IF(MID($F11,4,4)=$X$3,1,0) -> 0 | BC11: =IF(MID($F11,1,20)=$BC$3,1,0) -> 0 | BD11: lgtE2V1A1L2D1 | DB11: lgtE2V1A1L2D1 | EZ11: lgtE2V1A1L2D1 | GX11: lgtE2V1A1L2D1 | IV11: lgtE2V1A1L2D1 | KT11: lgtE2V1A1L2D1
A12: ='[1]Fiche d''informations'!B31 -> 7 | B12: ='[1]Fiche d''informations'!C31 -> 0 | C12: ='[1]Fiche d''informations'!D31 -> 0 | D12: ='[1]Fiche d''informations'!E31 -> Mr | F12: lgtE1V1A1L1D2 | G12: DcSGSS | H12: =IF(MID($F12,1,2)=$H$3,1,0) -> 0 | I12: =IF(MID($F12,1,2)=$I$3,1,0) -> 0 | J12: =IF(MID($F12,1,2)=$J$3,1,0) -> 0 | K12: =IF(MID($F12,3,2)=$K$3,1,0) -> 0 | L12: =IF(MID($F12,3,2)=$L$3,1,0) -> 0 | M12: =IF(MID($F12,5,2)=$M$3,1,0) -> 0 | N12: =IF(MID($F12,5,2)=$N$3,1,0) -> 0 | O12: =IF(MID($F12,7,2)=$O$3,1,0) -> 0 | P12: =IF(MID($F12,7,2)=$P$3,1,0) -> 0 | Q12: =IF(MID($F12,7,2)=$Q$3,1,0) -> 0 | R12: =IF(MID($F12,9,2)=$R$3,1,0) -> 0 | S12: =IF(MID($F12,9,2)=$S$3,1,0) -> 0 | T12: =IF(MID($F12,1,5)=$T$3,1,0) -> 0 | U12: =IF(MID($F12,1,6)=$U$3,1,0) -> 0 | V12: =IF(MID($F12,1,4)=$V$3,1,0) -> 0 | W12: =IF(MID($F12,1,4)=$W$3,1,0) -> 0 | X12: =IF(MID($F12,1,4)=$X$3,1,0) -> 0 | Y12: =IF(MID($F12,1,4)=$Y$3,1,0) -> 0 | Z12: =IF(MID($G12,1,20)=$Z$3,1,0) -> 0 | AA12: =IF(MID($G12,1,20)=$AA$3,1,0) -> 0 | AB12: =IF(MID($G12,1,20)=$AB$3,1,0) -> 0 | AC12: =IF(MID($G12,1,20)=$AC$3,1,0) -> 0 | AD12: =IF(MID($G12,1,20)=$AD$3,1,0) -> 0 | AE12: =IF(MID($G12,1,20)=$AA$3,1,0) -> 0 | AF12: =IF(MID($G12,1,20)=$AF$3,1,0) -> 0 | AG12: =IF(MID($G12,1,20)=$AG$3,1,0) -> 0 | AH12: =IF(MID($G12,1,20)=$AH$3,1,0) -> 0 | AI12: =IF(MID($G12,1,20)=$AI$3,1,0) -> 0 | AJ12: =IF(MID($G12,1,20)=$AJ$3,1,0) -> 0 | AK12: =IF(MID($G12,1,20)=$AK$3,1,0) -> 1 | AL12: =IF(MID($F12,4,2)=(AL$3),1,0) -> 1 | AM12: =IF(MID($F12,4,2)=(AM$3),1,0) -> 0 | AN12: =IF(MID($F12,4,2)=(AN$3),1,0) -> 0 | AO12: =IF(MID($F12,6,2)=(AO$3),1,0) -> 1 | AP12: =IF(MID($F12,6,2)=(AP$3),1,0) -> 0 | AQ12: =IF(MID($F12,8,2)=(AQ$3),1,0) -> 1 | AR12: =IF(MID($F12,8,2)=(AR$3),1,0) -> 0 | AS12: =IF(MID($F12,10,2)=(AS$3),1,0) -> 1 | AT12: =IF(MID($F12,10,2)=(AT$3),1,0) -> 0 | AU12: =IF(MID($F12,10,2)=(AU$3),1,0) -> 0 | AV12: =IF(MID($F12,12,2)=(AV$3),1,0) -> 0 | AW12: =IF(MID($F12,12,2)=(AW$3),1,0) -> 1 | AX12: =IF(MID($F12,1,20)=$AX$3,1,0) -> 0 | AY12: =IF(MID($F12,1,20)=$AY$3,1,0) -> 0 | AZ12: =IF(MID($F12,1,20)=$AZ$3,1,0) -> 0 | BA12: =IF(MID($F12,1,20)=$BA$3,1,0) -> 0 | BB12: =IF(MID($F12,4,4)=$X$3,1,0) -> 0 | BC12: =IF(MID($F12,1,20)=$BC$3,1,0) -> 0 | BD12: lgtE1V1A1L1D2 | BE12: DcSGSS | DB12: lgtE1V1A1L1D2 | DC12: DcSGSS | EZ12: lgtE1V1A1L1D2 | FA12: DcSGSS | GX12: lgtE1V1A1L1D2 | GY12: DcSGSS | IV12: lgtE1V1A1L1D2 | IW12: DcSGSS | KT12: lgtE1V1A1L1D2 | KU12: DcSGSS
A13: ='[1]Fiche d''informations'!B32 -> 8 | B13: ='[1]Fiche d''informations'!C32 -> 0 | C13: ='[1]Fiche d''informations'!D32 -> 0 | D13: ='[1]Fiche d''informations'!E32 -> Mme | F13: E2V1A2L2D1 | G13: DcSG | H13: =IF(MID($F13,1,2)=$H$3,1,0) -> 0 | I13: =IF(MID($F13,1,2)=$I$3,1,0) -> 1 | J13: =IF(MID($F13,1,2)=$J$3,1,0) -> 0 | K13: =IF(MID($F13,3,2)=$K$3,1,0) -> 1 | L13: =IF(MID($F13,3,2)=$L$3,1,0) -> 0 | M13: =IF(MID($F13,5,2)=$M$3,1,0) -> 0 | N13: =IF(MID($F13,5,2)=$N$3,1,0) -> 1 | O13: =IF(MID($F13,7,2)=$O$3,1,0) -> 0 | P13: =IF(MID($F13,7,2)=$P$3,1,0) -> 1 | Q13: =IF(MID($F13,7,2)=$Q$3,1,0) -> 0 | R13: =IF(MID($F13,9,2)=$R$3,1,0) -> 1 | S13: =IF(MID($F13,9,2)=$S$3,1,0) -> 0 | T13: =IF(MID($F13,1,5)=$T$3,1,0) -> 0 | U13: =IF(MID($F13,1,6)=$U$3,1,0) -> 0 | V13: =IF(MID($F13,1,4)=$V$3,1,0) -> 0 | W13: =IF(MID($F13,1,4)=$W$3,1,0) -> 0 | X13: =IF(MID($F13,1,4)=$X$3,1,0) -> 0 | Y13: =IF(MID($F13,1,4)=$Y$3,1,0) -> 0 | Z13: =IF(MID($G13,1,20)=$Z$3,1,0) -> 0 | AA13: =IF(MID($G13,1,20)=$AA$3,1,0) -> 0 | AB13: =IF(MID($G13,1,20)=$AB$3,1,0) -> 0 | AC13: =IF(MID($G13,1,20)=$AC$3,1,0) -> 0 | AD13: =IF(MID($G13,1,20)=$AD$3,1,0) -> 0 | AE13: =IF(MID($G13,1,20)=$AA$3,1,0) -> 0 | AF13: =IF(MID($G13,1,20)=$AF$3,1,0) -> 0 | AG13: =IF(MID($G13,1,20)=$AG$3,1,0) -> 0 | AH13: =IF(MID($G13,1,20)=$AH$3,1,0) -> 0 | AI13: =IF(MID($G13,1,20)=$AI$3,1,0) -> 0 | AJ13: =IF(MID($G13,1,20)=$AJ$3,1,0) -> 1 | AK13: =IF(MID($G13,1,20)=$AK$3,1,0) -> 0 | AL13: =IF(MID($F13,4,2)=(AL$3),1,0) -> 0 | AM13: =IF(MID($F13,4,2)=(AM$3),1,0) -> 0 | AN13: =IF(MID($F13,4,2)=(AN$3),1,0) -> 0 | AO13: =IF(MID($F13,6,2)=(AO$3),1,0) -> 0 | AP13: =IF(MID($F13,6,2)=(AP$3),1,0) -> 0 | AQ13: =IF(MID($F13,8,2)=(AQ$3),1,0) -> 0 | AR13: =IF(MID($F13,8,2)=(AR$3),1,0) -> 0 | AS13: =IF(MID($F13,10,2)=(AS$3),1,0) -> 0 | AT13: =IF(MID($F13,10,2)=(AT$3),1,0) -> 0 | AU13: =IF(MID($F13,10,2)=(AU$3),1,0) -> 0 | AV13: =IF(MID($F13,12,2)=(AV$3),1,0) -> 0 | AW13: =IF(MID($F13,12,2)=(AW$3),1,0) -> 0 | AX13: =IF(MID($F13,1,20)=$AX$3,1,0) -> 0 | AY13: =IF(MID($F13,1,20)=$AY$3,1,0) -> 0 | AZ13: =IF(MID($F13,1,20)=$AZ$3,1,0) -> 0 | BA13: =IF(MID($F13,1,20)=$BA$3,1,0) -> 0 | BB13: =IF(MID($F13,4,4)=$X$3,1,0) -> 0 | BC13: =IF(MID($F13,1,20)=$BC$3,1,0) -> 0 | BD13: E2V1A2L2D1 | BE13: DcSG | DB13: E2V1A2L2D1 | DC13: DcSG | EZ13: E2V1A2L2D1 | FA13: DcSG | GX13: E2V1A2L2D1 | GY13: DcSG | IV13: E2V1A2L2D1 | IW13: DcSG | KT13: E2V1A2L2D1 | KU13: DcSG
A14: ='[1]Fiche d''informations'!B33 -> 9 | B14: ='[1]Fiche d''informations'!C33 -> 0 | C14: ='[1]Fiche d''informations'!D33 -> 0 | D14: ='[1]Fiche d''informations'!E33 -> Mme | F14: lgtDiabétique | H14: =IF(MID($F14,1,2)=$H$3,1,0) -> 0 | I14: =IF(MID($F14,1,2)=$I$3,1,0) -> 0 | J14: =IF(MID($F14,1,2)=$J$3,1,0) -> 0 | K14: =IF(MID($F14,3,2)=$K$3,1,0) -> 0 | L14: =IF(MID($F14,3,2)=$L$3,1,0) -> 0 | M14: =IF(MID($F14,5,2)=$M$3,1,0) -> 0 | N14: =IF(MID($F14,5,2)=$N$3,1,0) -> 0 | O14: =IF(MID($F14,7,2)=$O$3,1,0) -> 0 | P14: =IF(MID($F14,7,2)=$P$3,1,0) -> 0 | Q14: =IF(MID($F14,7,2)=$Q$3,1,0) -> 0 | R14: =IF(MID($F14,9,2)=$R$3,1,0) -> 0 | S14: =IF(MID($F14,9,2)=$S$3,1,0) -> 0 | T14: =IF(MID($F14,1,5)=$T$3,1,0) -> 0 | U14: =IF(MID($F14,1,6)=$U$3,1,0) -> 0 | V14: =IF(MID($F14,1,4)=$V$3,1,0) -> 0 | W14: =IF(MID($F14,1,4)=$W$3,1,0) -> 0 | X14: =IF(MID($F14,1,4)=$X$3,1,0) -> 0 | Y14: =IF(MID($F14,1,4)=$Y$3,1,0) -> 0 | Z14: =IF(MID($G14,1,20)=$Z$3,1,0) -> 0 | AA14: =IF(MID($G14,1,20)=$AA$3,1,0) -> 0 | AB14: =IF(MID($G14,1,20)=$AB$3,1,0) -> 0 | AC14: =IF(MID($G14,1,20)=$AC$3,1,0) -> 0 | AD14: =IF(MID($G14,1,20)=$AD$3,1,0) -> 0 | AE14: =IF(MID($G14,1,20)=$AA$3,1,0) -> 0 | AF14: =IF(MID($G14,1,20)=$AF$3,1,0) -> 0 | AG14: =IF(MID($G14,1,20)=$AG$3,1,0) -> 0 | AH14: =IF(MID($G14,1,20)=$AH$3,1,0) -> 0 | AI14: =IF(MID($G14,1,20)=$AI$3,1,0) -> 0 | AJ14: =IF(MID($G14,1,20)=$AJ$3,1,0) -> 0 | AK14: =IF(MID($G14,1,20)=$AK$3,1,0) -> 0 | AL14: =IF(MID($F14,4,2)=(AL$3),1,0) -> 0 | AM14: =IF(MID($F14,4,2)=(AM$3),1,0) -> 0 | AN14: =IF(MID($F14,4,2)=(AN$3),1,0) -> 0 | AO14: =IF(MID($F14,6,2)=(AO$3),1,0) -> 0 | AP14: =IF(MID($F14,6,2)=(AP$3),1,0) -> 0 | AQ14: =IF(MID($F14,8,2)=(AQ$3),1,0) -> 0 | AR14: =IF(MID($F14,8,2)=(AR$3),1,0) -> 0 | AS14: =IF(MID($F14,10,2)=(AS$3),1,0) -> 0 | AT14: =IF(MID($F14,10,2)=(AT$3),1,0) -> 0 | AU14: =IF(MID($F14,10,2)=(AU$3),1,0) -> 0 | AV14: =IF(MID($F14,12,2)=(AV$3),1,0) -> 0 | AW14: =IF(MID($F14,12,2)=(AW$3),1,0) -> 0 | AX14: =IF(MID($F14,1,20)=$AX$3,1,0) -> 0 | AY14: =IF(MID($F14,1,20)=$AY$3,1,0) -> 0 | AZ14: =IF(MID($F14,1,20)=$AZ$3,1,0) -> 0 | BA14: =IF(MID($F14,1,20)=$BA$3,1,0) -> 0 | BB14: =IF(MID($F14,4,4)=$X$3,1,0) -> 0 | BC14: =IF(MID($F14,1,20)=$BC$3,1,0) -> 0 | BD14: lgtDiabétique | DB14: lgtDiabétique | EZ14: lgtDiabétique | GX14: lgtDiabétique | IV14: lgtDiabétique | KT14: lgtDiabétique
A15: ='[1]Fiche d''informations'!B34 -> 10 | B15: ='[1]Fiche d''informations'!C34 -> 0 | C15: ='[1]Fiche d''informations'!D34 -> 0 | D15: ='[1]Fiche d''informations'!E34 -> Mme | F15: lgtE3V2A2L3D2 | H15: =IF(MID($F15,1,2)=$H$3,1,0) -> 0 | I15: =IF(MID($F15,1,2)=$I$3,1,0) -> 0 | J15: =IF(MID($F15,1,2)=$J$3,1,0) -> 0 | K15: =IF(MID($F15,3,2)=$K$3,1,0) -> 0 | L15: =IF(MID($F15,3,2)=$L$3,1,0) -> 0 | M15: =IF(MID($F15,5,2)=$M$3,1,0) -> 0 | N15: =IF(MID($F15,5,2)=$N$3,1,0) -> 0 | O15: =IF(MID($F15,7,2)=$O$3,1,0) -> 0 | P15: =IF(MID($F15,7,2)=$P$3,1,0) -> 0 | Q15: =IF(MID($F15,7,2)=$Q$3,1,0) -> 0 | R15: =IF(MID($F15,9,2)=$R$3,1,0) -> 0 | S15: =IF(MID($F15,9,2)=$S$3,1,0) -> 0 | T15: =IF(MID($F15,1,5)=$T$3,1,0) -> 0 | U15: =IF(MID($F15,1,6)=$U$3,1,0) -> 0 | V15: =IF(MID($F15,1,4)=$V$3,1,0) -> 0 | W15: =IF(MID($F15,1,4)=$W$3,1,0) -> 0 | X15: =IF(MID($F15,1,4)=$X$3,1,0) -> 0 | Y15: =IF(MID($F15,1,4)=$Y$3,1,0) -> 0 | Z15: =IF(MID($G15,1,20)=$Z$3,1,0) -> 0 | AA15: =IF(MID($G15,1,20)=$AA$3,1,0) -> 0 | AB15: =IF(MID($G15,1,20)=$AB$3,1,0) -> 0 | AC15: =IF(MID($G15,1,20)=$AC$3,1,0) -> 0 | AD15: =IF(MID($G15,1,20)=$AD$3,1,0) -> 0 | AE15: =IF(MID($G15,1,20)=$AA$3,1,0) -> 0 | AF15: =IF(MID($G15,1,20)=$AF$3,1,0) -> 0 | AG15: =IF(MID($G15,1,20)=$AG$3,1,0) -> 0 | AH15: =IF(MID($G15,1,20)=$AH$3,1,0) -> 0 | AI15: =IF(MID($G15,1,20)=$AI$3,1,0) -> 0 | AJ15: =IF(MID($G15,1,20)=$AJ$3,1,0) -> 0 | AK15: =IF(MID($G15,1,20)=$AK$3,1,0) -> 0 | AL15: =IF(MID($F15,4,2)=(AL$3),1,0) -> 0 | AM15: =IF(MID($F15,4,2)=(AM$3),1,0) -> 0 | AN15: =IF(MID($F15,4,2)=(AN$3),1,0) -> 1 | AO15: =IF(MID($F15,6,2)=(AO$3),1,0) -> 0 | AP15: =IF(MID($F15,6,2)=(AP$3),1,0) -> 1 | AQ15: =IF(MID($F15,8,2)=(AQ$3),1,0) -> 0 | AR15: =IF(MID($F15,8,2)=(AR$3),1,0) -> 1 | AS15: =IF(MID($F15,10,2)=(AS$3),1,0) -> 0 | AT15: =IF(MID($F15,10,2)=(AT$3),1,0) -> 0 | AU15: =IF(MID($F15,10,2)=(AU$3),1,0) -> 1 | AV15: =IF(MID($F15,12,2)=(AV$3),1,0) -> 0 | AW15: =IF(MID($F15,12,2)=(AW$3),1,0) -> 1 | AX15: =IF(MID($F15,1,20)=$AX$3,1,0) -> 0 | AY15: =IF(MID($F15,1,20)=$AY$3,1,0) -> 0 | AZ15: =IF(MID($F15,1,20)=$AZ$3,1,0) -> 0 | BA15: =IF(MID($F15,1,20)=$BA$3,1,0) -> 0 | BB15: =IF(MID($F15,4,4)=$X$3,1,0) -> 0 | BC15: =IF(MID($F15,1,20)=$BC$3,1,0) -> 0 | BD15: lgtE3V2A2L3D2 | DB15: lgtE3V2A2L3D2 | EZ15: lgtE3V2A2L3D2 | GX15: lgtE3V2A2L3D2 | IV15: lgtE3V2A2L3D2 | KT15: lgtE3V2A2L3D2
A16: ='[1]Fiche d''informations'!B35 -> 11 | B16: ='[1]Fiche d''informations'!C35 -> 1 | C16: ='[1]Fiche d''informations'!D35 -> 12 | D16: ='[1]Fiche d''informations'!E35 -> Mme | F16: sgss | H16: =IF(MID($F16,1,2)=$H$3,1,0) -> 0 | I16: =IF(MID($F16,1,2)=$I$3,1,0) -> 0 | J16: =IF(MID($F16,1,2)=$J$3,1,0) -> 0 | K16: =IF(MID($F16,3,2)=$K$3,1,0) -> 0 | L16: =IF(MID($F16,3,2)=$L$3,1,0) -> 0 | M16: =IF(MID($F16,5,2)=$M$3,1,0) -> 0 | N16: =IF(MID($F16,5,2)=$N$3,1,0) -> 0 | O16: =IF(MID($F16,7,2)=$O$3,1,0) -> 0 | P16: =IF(MID($F16,7,2)=$P$3,1,0) -> 0 | Q16: =IF(MID($F16,7,2)=$Q$3,1,0) -> 0 | R16: =IF(MID($F16,9,2)=$R$3,1,0) -> 0 | S16: =IF(MID($F16,9,2)=$S$3,1,0) -> 0 | T16: =IF(MID($F16,1,5)=$T$3,1,0) -> 0 | U16: =IF(MID($F16,1,6)=$U$3,1,0) -> 0 | V16: =IF(MID($F16,1,4)=$V$3,1,0) -> 0 | W16: =IF(MID($F16,1,4)=$W$3,1,0) -> 0 | X16: =IF(MID($F16,1,4)=$X$3,1,0) -> 0 | Y16: =IF(MID($F16,1,4)=$Y$3,1,0) -> 1 | Z16: =IF(MID($G16,1,20)=$Z$3,1,0) -> 0 | AA16: =IF(MID($G16,1,20)=$AA$3,1,0) -> 0 | AB16: =IF(MID($G16,1,20)=$AB$3,1,0) -> 0 | AC16: =IF(MID($G16,1,20)=$AC$3,1,0) -> 0 | AD16: =IF(MID($G16,1,20)=$AD$3,1,0) -> 0 | AE16: =IF(MID($G16,1,20)=$AA$3,1,0) -> 0 | AF16: =IF(MID($G16,1,20)=$AF$3,1,0) -> 0 | AG16: =IF(MID($G16,1,20)=$AG$3,1,0) -> 0 | AH16: =IF(MID($G16,1,20)=$AH$3,1,0) -> 0 | AI16: =IF(MID($G16,1,20)=$AI$3,1,0) -> 0 | AJ16: =IF(MID($G16,1,20)=$AJ$3,1,0) -> 0 | AK16: =IF(MID($G16,1,20)=$AK$3,1,0) -> 0 | AL16: =IF(MID($F16,4,2)=(AL$3),1,0) -> 0 | AM16: =IF(MID($F16,4,2)=(AM$3),1,0) -> 0 | AN16: =IF(MID($F16,4,2)=(AN$3),1,0) -> 0 | AO16: =IF(MID($F16,6,2)=(AO$3),1,0) -> 0 | AP16: =IF(MID($F16,6,2)=(AP$3),1,0) -> 0 | AQ16: =IF(MID($F16,8,2)=(AQ$3),1,0) -> 0 | AR16: =IF(MID($F16,8,2)=(AR$3),1,0) -> 0 | AS16: =IF(MID($F16,10,2)=(AS$3),1,0) -> 0 | AT16: =IF(MID($F16,10,2)=(AT$3),1,0) -> 0 | AU16: =IF(MID($F16,10,2)=(AU$3),1,0) -> 0 | AV16: =IF(MID($F16,12,2)=(AV$3),1,0) -> 0 | AW16: =IF(MID($F16,12,2)=(AW$3),1,0) -> 0 | AX16: =IF(MID($F16,1,20)=$AX$3,1,0) -> 0 | AY16: =IF(MID($F16,1,20)=$AY$3,1,0) -> 0 | AZ16: =IF(MID($F16,1,20)=$AZ$3,1,0) -> 0 | BA16: =IF(MID($F16,1,20)=$BA$3,1,0) -> 0 | BB16: =IF(MID($F16,4,4)=$X$3,1,0) -> 0 | BC16: =IF(MID($F16,1,20)=$BC$3,1,0) -> 0 | BD16: sgss | DB16: sgss | EZ16: sgss | GX16: sgss | IV16: sgss | KT16: sgss
A17: ='[1]Fiche d''informations'!B36 -> 12 | B17: ='[1]Fiche d''informations'!C36 -> 1 | C17: ='[1]Fiche d''informations'!D36 -> 7 | D17: ='[1]Fiche d''informations'!E36 -> Mr | F17: ss | H17: =IF(MID($F17,1,2)=$H$3,1,0) -> 0 | I17: =IF(MID($F17,1,2)=$I$3,1,0) -> 0 | J17: =IF(MID($F17,1,2)=$J$3,1,0) -> 0 | K17: =IF(MID($F17,3,2)=$K$3,1,0) -> 0 | L17: =IF(MID($F17,3,2)=$L$3,1,0) -> 0 | M17: =IF(MID($F17,5,2)=$M$3,1,0) -> 0 | N17: =IF(MID($F17,5,2)=$N$3,1,0) -> 0 | O17: =IF(MID($F17,7,2)=$O$3,1,0) -> 0 | P17: =IF(MID($F17,7,2)=$P$3,1,0) -> 0 | Q17: =IF(MID($F17,7,2)=$Q$3,1,0) -> 0 | R17: =IF(MID($F17,9,2)=$R$3,1,0) -> 0 | S17: =IF(MID($F17,9,2)=$S$3,1,0) -> 0 | T17: =IF(MID($F17,1,5)=$T$3,1,0) -> 0 | U17: =IF(MID($F17,1,6)=$U$3,1,0) -> 0 | V17: =IF(MID($F17,1,4)=$V$3,1,0) -> 0 | W17: =IF(MID($F17,1,4)=$W$3,1,0) -> 1 | X17: =IF(MID($F17,1,4)=$X$3,1,0) -> 0 | Y17: =IF(MID($F17,1,4)=$Y$3,1,0) -> 0 | Z17: =IF(MID($G17,1,20)=$Z$3,1,0) -> 0 | AA17: =IF(MID($G17,1,20)=$AA$3,1,0) -> 0 | AB17: =IF(MID($G17,1,20)=$AB$3,1,0) -> 0 | AC17: =IF(MID($G17,1,20)=$AC$3,1,0) -> 0 | AD17: =IF(MID($G17,1,20)=$AD$3,1,0) -> 0 | AE17: =IF(MID($G17,1,20)=$AA$3,1,0) -> 0 | AF17: =IF(MID($G17,1,20)=$AF$3,1,0) -> 0 | AG17: =IF(MID($G17,1,20)=$AG$3,1,0) -> 0 | AH17: =IF(MID($G17,1,20)=$AH$3,1,0) -> 0 | AI17: =IF(MID($G17,1,20)=$AI$3,1,0) -> 0 | AJ17: =IF(MID($G17,1,20)=$AJ$3,1,0) -> 0 | AK17: =IF(MID($G17,1,20)=$AK$3,1,0) -> 0 | AL17: =IF(MID($F17,4,2)=(AL$3),1,0) -> 0 | AM17: =IF(MID($F17,4,2)=(AM$3),1,0) -> 0 | AN17: =IF(MID($F17,4,2)=(AN$3),1,0) -> 0 | AO17: =IF(MID($F17,6,2)=(AO$3),1,0) -> 0 | AP17: =IF(MID($F17,6,2)=(AP$3),1,0) -> 0 | AQ17: =IF(MID($F17,8,2)=(AQ$3),1,0) -> 0 | AR17: =IF(MID($F17,8,2)=(AR$3),1,0) -> 0 | AS17: =IF(MID($F17,10,2)=(AS$3),1,0) -> 0 | AT17: =IF(MID($F17,10,2)=(AT$3),1,0) -> 0 | AU17: =IF(MID($F17,10,2)=(AU$3),1,0) -> 0 | AV17: =IF(MID($F17,12,2)=(AV$3),1,0) -> 0 | AW17: =IF(MID($F17,12,2)=(AW$3),1,0) -> 0 | AX17: =IF(MID($F17,1,20)=$AX$3,1,0) -> 0 | AY17: =IF(MID($F17,1,20)=$AY$3,1,0) -> 0 | AZ17: =IF(MID($F17,1,20)=$AZ$3,1,0) -> 0 | BA17: =IF(MID($F17,1,20)=$BA$3,1,0) -> 0 | BB17: =IF(MID($F17,4,4)=$X$3,1,0) -> 0 | BC17: =IF(MID($F17,1,20)=$BC$3,1,0) -> 0 | BD17: ss | DB17: ss | EZ17: ss | GX17: ss | IV17: ss | KT17: ss
A18: ='[1]Fiche d''informations'!B37 -> 13 | B18: ='[1]Fiche d''informations'!C37 -> 0 | C18: ='[1]Fiche d''informations'!D37 -> 0 | D18: ='[1]Fiche d''informations'!E37 -> Mr | F18: diab | H18: =IF(MID($F18,1,2)=$H$3,1,0) -> 0 | I18: =IF(MID($F18,1,2)=$I$3,1,0) -> 0 | J18: =IF(MID($F18,1,2)=$J$3,1,0) -> 0 | K18: =IF(MID($F18,3,2)=$K$3,1,0) -> 0 | L18: =IF(MID($F18,3,2)=$L$3,1,0) -> 0 | M18: =IF(MID($F18,5,2)=$M$3,1,0) -> 0 | N18: =IF(MID($F18,5,2)=$N$3,1,0) -> 0 | O18: =IF(MID($F18,7,2)=$O$3,1,0) -> 0 | P18: =IF(MID($F18,7,2)=$P$3,1,0) -> 0 | Q18: =IF(MID($F18,7,2)=$Q$3,1,0) -> 0 | R18: =IF(MID($F18,9,2)=$R$3,1,0) -> 0 | S18: =IF(MID($F18,9,2)=$S$3,1,0) -> 0 | T18: =IF(MID($F18,1,5)=$T$3,1,0) -> 1 | U18: =IF(MID($F18,1,6)=$U$3,1,0) -> 0 | V18: =IF(MID($F18,1,4)=$V$3,1,0) -> 0 | W18: =IF(MID($F18,1,4)=$W$3,1,0) -> 0 | X18: =IF(MID($F18,1,4)=$X$3,1,0) -> 0 | Y18: =IF(MID($F18,1,4)=$Y$3,1,0) -> 0 | Z18: =IF(MID($G18,1,20)=$Z$3,1,0) -> 0 | AA18: =IF(MID($G18,1,20)=$AA$3,1,0) -> 0 | AB18: =IF(MID($G18,1,20)=$AB$3,1,0) -> 0 | AC18: =IF(MID($G18,1,20)=$AC$3,1,0) -> 0 | AD18: =IF(MID($G18,1,20)=$AD$3,1,0) -> 0 | AE18: =IF(MID($G18,1,20)=$AA$3,1,0) -> 0 | AF18: =IF(MID($G18,1,20)=$AF$3,1,0) -> 0 | AG18: =IF(MID($G18,1,20)=$AG$3,1,0) -> 0 | AH18: =IF(MID($G18,1,20)=$AH$3,1,0) -> 0 | AI18: =IF(MID($G18,1,20)=$AI$3,1,0) -> 0 | AJ18: =IF(MID($G18,1,20)=$AJ$3,1,0) -> 0 | AK18: =IF(MID($G18,1,20)=$AK$3,1,0) -> 0 | AL18: =IF(MID($F18,4,2)=(AL$3),1,0) -> 0 | AM18: =IF(MID($F18,4,2)=(AM$3),1,0) -> 0 | AN18: =IF(MID($F18,4,2)=(AN$3),1,0) -> 0 | AO18: =IF(MID($F18,6,2)=(AO$3),1,0) -> 0 | AP18: =IF(MID($F18,6,2)=(AP$3),1,0) -> 0 | AQ18: =IF(MID($F18,8,2)=(AQ$3),1,0) -> 0 | AR18: =IF(MID($F18,8,2)=(AR$3),1,0) -> 0 | AS18: =IF(MID($F18,10,2)=(AS$3),1,0) -> 0 | AT18: =IF(MID($F18,10,2)=(AT$3),1,0) -> 0 | AU18: =IF(MID($F18,10,2)=(AU$3),1,0) -> 0 | AV18: =IF(MID($F18,12,2)=(AV$3),1,0) -> 0 | AW18: =IF(MID($F18,12,2)=(AW$3),1,0) -> 0 | AX18: =IF(MID($F18,1,20)=$AX$3,1,0) -> 0 | AY18: =IF(MID($F18,1,20)=$AY$3,1,0) -> 0 | AZ18: =IF(MID($F18,1,20)=$AZ$3,1,0) -> 0 | BA18: =IF(MID($F18,1,20)=$BA$3,1,0) -> 0 | BB18: =IF(MID($F18,4,4)=$X$3,1,0) -> 0 | BC18: =IF(MID($F18,1,20)=$BC$3,1,0) -> 0 | BD18: diab | DB18: diab | EZ18: diab | GX18: diab | IV18: diab | KT18: diab
A19: ='[1]Fiche d''informations'!B38 -> 14 | B19: ='[1]Fiche d''informations'!C38 -> 0 | C19: ='[1]Fiche d''informations'!D38 -> 8 | D19: ='[1]Fiche d''informations'!E38 -> Mr | F19: E1V1A1L3D1 | G19: Dcmixé | H19: =IF(MID($F19,1,2)=$H$3,1,0) -> 1 | I19: =IF(MID($F19,1,2)=$I$3,1,0) -> 0 | J19: =IF(MID($F19,1,2)=$J$3,1,0) -> 0 | K19: =IF(MID($F19,3,2)=$K$3,1,0) -> 1 | L19: =IF(MID($F19,3,2)=$L$3,1,0) -> 0 | M19: =IF(MID($F19,5,2)=$M$3,1,0) -> 1 | N19: =IF(MID($F19,5,2)=$N$3,1,0) -> 0 | O19: =IF(MID($F19,7,2)=$O$3,1,0) -> 0 | P19: =IF(MID($F19,7,2)=$P$3,1,0) -> 0 | Q19: =IF(MID($F19,7,2)=$Q$3,1,0) -> 1 | R19: =IF(MID($F19,9,2)=$R$3,1,0) -> 1 | S19: =IF(MID($F19,9,2)=$S$3,1,0) -> 0 | T19: =IF(MID($F19,1,5)=$T$3,1,0) -> 0 | U19: =IF(MID($F19,1,6)=$U$3,1,0) -> 0 | V19: =IF(MID($F19,1,4)=$V$3,1,0) -> 0 | W19: =IF(MID($F19,1,4)=$W$3,1,0) -> 0 | X19: =IF(MID($F19,1,4)=$X$3,1,0) -> 0 | Y19: =IF(MID($F19,1,4)=$Y$3,1,0) -> 0 | Z19: =IF(MID($G19,1,20)=$Z$3,1,0) -> 0 | AA19: =IF(MID($G19,1,20)=$AA$3,1,0) -> 0 | AB19: =IF(MID($G19,1,20)=$AB$3,1,0) -> 0 | AC19: =IF(MID($G19,1,20)=$AC$3,1,0) -> 0 | AD19: =IF(MID($G19,1,20)=$AD$3,1,0) -> 0 | AE19: =IF(MID($G19,1,20)=$AA$3,1,0) -> 0 | AF19: =IF(MID($G19,1,20)=$AF$3,1,0) -> 0 | AG19: =IF(MID($G19,1,20)=$AG$3,1,0) -> 0 | AH19: =IF(MID($G19,1,20)=$AH$3,1,0) -> 1 | AI19: =IF(MID($G19,1,20)=$AI$3,1,0) -> 0 | AJ19: =IF(MID($G19,1,20)=$AJ$3,1,0) -> 0 | AK19: =IF(MID($G19,1,20)=$AK$3,1,0) -> 0 | AL19: =IF(MID($F19,4,2)=(AL$3),1,0) -> 0 | AM19: =IF(MID($F19,4,2)=(AM$3),1,0) -> 0 | AN19: =IF(MID($F19,4,2)=(AN$3),1,0) -> 0 | AO19: =IF(MID($F19,6,2)=(AO$3),1,0) -> 0 | AP19: =IF(MID($F19,6,2)=(AP$3),1,0) -> 0 | AQ19: =IF(MID($F19,8,2)=(AQ$3),1,0) -> 0 | AR19: =IF(MID($F19,8,2)=(AR$3),1,0) -> 0 | AS19: =IF(MID($F19,10,2)=(AS$3),1,0) -> 0 | AT19: =IF(MID($F19,10,2)=(AT$3),1,0) -> 0 | AU19: =IF(MID($F19,10,2)=(AU$3),1,0) -> 0 | AV19: =IF(MID($F19,12,2)=(AV$3),1,0) -> 0 | AW19: =IF(MID($F19,12,2)=(AW$3),1,0) -> 0 | AX19: =IF(MID($F19,1,20)=$AX$3,1,0) -> 0 | AY19: =IF(MID($F19,1,20)=$AY$3,1,0) -> 0 | AZ19: =IF(MID($F19,1,20)=$AZ$3,1,0) -> 0 | BA19: =IF(MID($F19,1,20)=$BA$3,1,0) -> 0 | BB19: =IF(MID($F19,4,4)=$X$3,1,0) -> 0 | BC19: =IF(MID($F19,1,20)=$BC$3,1,0) -> 0 | BD19: E1V1A1L3D1 | BE19: Dcmixé | DB19: E1V1A1L3D1 | DC19: Dcmixé | EZ19: E1V1A1L3D1 | FA19: Dcmixé | GX19: E1V1A1L3D1 | GY19: Dcmixé | IV19: E1V1A1L3D1 | IW19: Dcmixé | KT19: E1V1A1L3D1 | KU19: Dcmixé
A20: ='[1]Fiche d''informations'!B39 -> 15 | B20: ='[1]Fiche d''informations'!C39 -> 0 | C20: ='[1]Fiche d''informations'!D39 -> 0 | D20: ='[1]Fiche d''informations'!E39 -> Mr | F20: sgss | H20: =IF(MID($F20,1,2)=$H$3,1,0) -> 0 | I20: =IF(MID($F20,1,2)=$I$3,1,0) -> 0 | J20: =IF(MID($F20,1,2)=$J$3,1,0) -> 0 | K20: =IF(MID($F20,3,2)=$K$3,1,0) -> 0 | L20: =IF(MID($F20,3,2)=$L$3,1,0) -> 0 | M20: =IF(MID($F20,5,2)=$M$3,1,0) -> 0 | N20: =IF(MID($F20,5,2)=$N$3,1,0) -> 0 | O20: =IF(MID($F20,7,2)=$O$3,1,0) -> 0 | P20: =IF(MID($F20,7,2)=$P$3,1,0) -> 0 | Q20: =IF(MID($F20,7,2)=$Q$3,1,0) -> 0 | R20: =IF(MID($F20,9,2)=$R$3,1,0) -> 0 | S20: =IF(MID($F20,9,2)=$S$3,1,0) -> 0 | T20: =IF(MID($F20,1,5)=$T$3,1,0) -> 0 | U20: =IF(MID($F20,1,6)=$U$3,1,0) -> 0 | V20: =IF(MID($F20,1,4)=$V$3,1,0) -> 0 | W20: =IF(MID($F20,1,4)=$W$3,1,0) -> 0 | X20: =IF(MID($F20,1,4)=$X$3,1,0) -> 0 | Y20: =IF(MID($F20,1,4)=$Y$3,1,0) -> 1 | Z20: =IF(MID($G20,1,20)=$Z$3,1,0) -> 0 | AA20: =IF(MID($G20,1,20)=$AA$3,1,0) -> 0 | AB20: =IF(MID($G20,1,20)=$AB$3,1,0) -> 0 | AC20: =IF(MID($G20,1,20)=$AC$3,1,0) -> 0 | AD20: =IF(MID($G20,1,20)=$AD$3,1,0) -> 0 | AE20: =IF(MID($G20,1,20)=$AA$3,1,0) -> 0 | AF20: =IF(MID($G20,1,20)=$AF$3,1,0) -> 0 | AG20: =IF(MID($G20,1,20)=$AG$3,1,0) -> 0 | AH20: =IF(MID($G20,1,20)=$AH$3,1,0) -> 0 | AI20: =IF(MID($G20,1,20)=$AI$3,1,0) -> 0 | AJ20: =IF(MID($G20,1,20)=$AJ$3,1,0) -> 0 | AK20: =IF(MID($G20,1,20)=$AK$3,1,0) -> 0 | AL20: =IF(MID($F20,4,2)=(AL$3),1,0) -> 0 | AM20: =IF(MID($F20,4,2)=(AM$3),1,0) -> 0 | AN20: =IF(MID($F20,4,2)=(AN$3),1,0) -> 0 | AO20: =IF(MID($F20,6,2)=(AO$3),1,0) -> 0 | AP20: =IF(MID($F20,6,2)=(AP$3),1,0) -> 0 | AQ20: =IF(MID($F20,8,2)=(AQ$3),1,0) -> 0 | AR20: =IF(MID($F20,8,2)=(AR$3),1,0) -> 0 | AS20: =IF(MID($F20,10,2)=(AS$3),1,0) -> 0 | AT20: =IF(MID($F20,10,2)=(AT$3),1,0) -> 0 | AU20: =IF(MID($F20,10,2)=(AU$3),1,0) -> 0 | AV20: =IF(MID($F20,12,2)=(AV$3),1,0) -> 0 | AW20: =IF(MID($F20,12,2)=(AW$3),1,0) -> 0 | AX20: =IF(MID($F20,1,20)=$AX$3,1,0) -> 0 | AY20: =IF(MID($F20,1,20)=$AY$3,1,0) -> 0 | AZ20: =IF(MID($F20,1,20)=$AZ$3,1,0) -> 0 | BA20: =IF(MID($F20,1,20)=$BA$3,1,0) -> 0 | BB20: =IF(MID($F20,4,4)=$X$3,1,0) -> 0 | BC20: =IF(MID($F20,1,20)=$BC$3,1,0) -> 0 | BD20: sgss | DB20: sgss | EZ20: sgss | GX20: sgss | IV20: sgss | KT20: sgss
A21: ='[1]Fiche d''informations'!B40 -> 16 | B21: ='[1]Fiche d''informations'!C40 -> 0 | C21: ='[1]Fiche d''informations'!D40 -> 0 | D21: ='[1]Fiche d''informations'!E40 -> Mme | H21: =IF(MID($F21,1,2)=$H$3,1,0) -> 0 | I21: =IF(MID($F21,1,2)=$I$3,1,0) -> 0 | J21: =IF(MID($F21,1,2)=$J$3,1,0) -> 0 | K21: =IF(MID($F21,3,2)=$K$3,1,0) -> 0 | L21: =IF(MID($F21,3,2)=$L$3,1,0) -> 0 | M21: =IF(MID($F21,5,2)=$M$3,1,0) -> 0 | N21: =IF(MID($F21,5,2)=$N$3,1,0) -> 0 | O21: =IF(MID($F21,7,2)=$O$3,1,0) -> 0 | P21: =IF(MID($F21,7,2)=$P$3,1,0) -> 0 | Q21: =IF(MID($F21,7,2)=$Q$3,1,0) -> 0 | R21: =IF(MID($F21,9,2)=$R$3,1,0) -> 0 | S21: =IF(MID($F21,9,2)=$S$3,1,0) -> 0 | T21: =IF(MID($F21,1,5)=$T$3,1,0) -> 0 | U21: =IF(MID($F21,1,6)=$U$3,1,0) -> 0 | V21: =IF(MID($F21,1,4)=$V$3,1,0) -> 0 | W21: =IF(MID($F21,1,4)=$W$3,1,0) -> 0 | X21: =IF(MID($F21,1,4)=$X$3,1,0) -> 0 | Y21: =IF(MID($F21,1,4)=$Y$3,1,0) -> 0 | Z21: =IF(MID($G21,1,20)=$Z$3,1,0) -> 0 | AA21: =IF(MID($G21,1,20)=$AA$3,1,0) -> 0 | AB21: =IF(MID($G21,1,20)=$AB$3,1,0) -> 0 | AC21: =IF(MID($G21,1,20)=$AC$3,1,0) -> 0 | AD21: =IF(MID($G21,1,20)=$AD$3,1,0) -> 0 | AE21: =IF(MID($G21,1,20)=$AA$3,1,0) -> 0 | AF21: =IF(MID($G21,1,20)=$AF$3,1,0) -> 0 | AG21: =IF(MID($G21,1,20)=$AG$3,1,0) -> 0 | AH21: =IF(MID($G21,1,20)=$AH$3,1,0) -> 0 | AI21: =IF(MID($G21,1,20)=$AI$3,1,0) -> 0 | AJ21: =IF(MID($G21,1,20)=$AJ$3,1,0) -> 0 | AK21: =IF(MID($G21,1,20)=$AK$3,1,0) -> 0 | AL21: =IF(MID($F21,4,2)=(AL$3),1,0) -> 0 | AM21: =IF(MID($F21,4,2)=(AM$3),1,0) -> 0 | AN21: =IF(MID($F21,4,2)=(AN$3),1,0) -> 0 | AO21: =IF(MID($F21,6,2)=(AO$3),1,0) -> 0 | AP21: =IF(MID($F21,6,2)=(AP$3),1,0) -> 0 | AQ21: =IF(MID($F21,8,2)=(AQ$3),1,0) -> 0 | AR21: =IF(MID($F21,8,2)=(AR$3),1,0) -> 0 | AS21: =IF(MID($F21,10,2)=(AS$3),1,0) -> 0 | AT21: =IF(MID($F21,10,2)=(AT$3),1,0) -> 0 | AU21: =IF(MID($F21,10,2)=(AU$3),1,0) -> 0 | AV21: =IF(MID($F21,12,2)=(AV$3),1,0) -> 0 | AW21: =IF(MID($F21,12,2)=(AW$3),1,0) -> 0 | AX21: =IF(MID($F21,1,20)=$AX$3,1,0) -> 0 | AY21: =IF(MID($F21,1,20)=$AY$3,1,0) -> 0 | AZ21: =IF(MID($F21,1,20)=$AZ$3,1,0) -> 0 | BA21: =IF(MID($F21,1,20)=$BA$3,1,0) -> 0 | BB21: =IF(MID($F21,4,4)=$X$3,1,0) -> 0 | BC21: =IF(MID($F21,1,20)=$BC$3,1,0) -> 0
A22: ='[1]Fiche d''informations'!B41 -> 17 | B22: ='[1]Fiche d''informations'!C41 -> 0 | C22: ='[1]Fiche d''informations'!D41 -> 0 | D22: ='[1]Fiche d''informations'!E41 -> Mr | F22: lgtE2V2A2L1D1 | H22: =IF(MID($F22,1,2)=$H$3,1,0) -> 0 | I22: =IF(MID($F22,1,2)=$I$3,1,0) -> 0 | J22: =IF(MID($F22,1,2)=$J$3,1,0) -> 0 | K22: =IF(MID($F22,3,2)=$K$3,1,0) -> 0 | L22: =IF(MID($F22,3,2)=$L$3,1,0) -> 0 | M22: =IF(MID($F22,5,2)=$M$3,1,0) -> 0 | N22: =IF(MID($F22,5,2)=$N$3,1,0) -> 0 | O22: =IF(MID($F22,7,2)=$O$3,1,0) -> 0 | P22: =IF(MID($F22,7,2)=$P$3,1,0) -> 0 | Q22: =IF(MID($F22,7,2)=$Q$3,1,0) -> 0 | R22: =IF(MID($F22,9,2)=$R$3,1,0) -> 0 | S22: =IF(MID($F22,9,2)=$S$3,1,0) -> 0 | T22: =IF(MID($F22,1,5)=$T$3,1,0) -> 0 | U22: =IF(MID($F22,1,6)=$U$3,1,0) -> 0 | V22: =IF(MID($F22,1,4)=$V$3,1,0) -> 0 | W22: =IF(MID($F22,1,4)=$W$3,1,0) -> 0 | X22: =IF(MID($F22,1,4)=$X$3,1,0) -> 0 | Y22: =IF(MID($F22,1,4)=$Y$3,1,0) -> 0 | Z22: =IF(MID($G22,1,20)=$Z$3,1,0) -> 0 | AA22: =IF(MID($G22,1,20)=$AA$3,1,0) -> 0 | AB22: =IF(MID($G22,1,20)=$AB$3,1,0) -> 0 | AC22: =IF(MID($G22,1,20)=$AC$3,1,0) -> 0 | AD22: =IF(MID($G22,1,20)=$AD$3,1,0) -> 0 | AE22: =IF(MID($G22,1,20)=$AA$3,1,0) -> 0 | AF22: =IF(MID($G22,1,20)=$AF$3,1,0) -> 0 | AG22: =IF(MID($G22,1,20)=$AG$3,1,0) -> 0 | AH22: =IF(MID($G22,1,20)=$AH$3,1,0) -> 0 | AI22: =IF(MID($G22,1,20)=$AI$3,1,0) -> 0 | AJ22: =IF(MID($G22,1,20)=$AJ$3,1,0) -> 0 | AK22: =IF(MID($G22,1,20)=$AK$3,1,0) -> 0 | AL22: =IF(MID($F22,4,2)=(AL$3),1,0) -> 0 | AM22: =IF(MID($F22,4,2)=(AM$3),1,0) -> 1 | AN22: =IF(MID($F22,4,2)=(AN$3),1,0) -> 0 | AO22: =IF(MID($F22,6,2)=(AO$3),1,0) -> 0 | AP22: =IF(MID($F22,6,2)=(AP$3),1,0) -> 1 | AQ22: =IF(MID($F22,8,2)=(AQ$3),1,0) -> 0 | AR22: =IF(MID($F22,8,2)=(AR$3),1,0) -> 1 | AS22: =IF(MID($F22,10,2)=(AS$3),1,0) -> 1 | AT22: =IF(MID($F22,10,2)=(AT$3),1,0) -> 0 | AU22: =IF(MID($F22,10,2)=(AU$3),1,0) -> 0 | AV22: =IF(MID($F22,12,2)=(AV$3),1,0) -> 1 | AW22: =IF(MID($F22,12,2)=(AW$3),1,0) -> 0 | AX22: =IF(MID($F22,1,20)=$AX$3,1,0) -> 0 | AY22: =IF(MID($F22,1,20)=$AY$3,1,0) -> 0 | AZ22: =IF(MID($F22,1,20)=$AZ$3,1,0) -> 0 | BA22: =IF(MID($F22,1,20)=$BA$3,1,0) -> 0 | BB22: =IF(MID($F22,4,4)=$X$3,1,0) -> 0 | BC22: =IF(MID($F22,1,20)=$BC$3,1,0) -> 0 | BD22: lgtE2V2A2L1D1 | DB22: lgtE2V2A2L1D1 | EZ22: lgtE2V2A2L1D1 | GX22: lgtE2V2A2L1D1 | IV22: lgtE2V2A2L1D1 | KT22: lgtE2V2A2L1D1
A23: ='[1]Fiche d''informations'!B42 -> 17 | B23: ='[1]Fiche d''informations'!C42 -> 0 | C23: ='[1]Fiche d''informations'!D42 -> 0 | D23: ='[1]Fiche d''informations'!E42 -> Mme | H23: =IF(MID($F23,1,2)=$H$3,1,0) -> 0 | I23: =IF(MID($F23,1,2)=$I$3,1,0) -> 0 | J23: =IF(MID($F23,1,2)=$J$3,1,0) -> 0 | K23: =IF(MID($F23,3,2)=$K$3,1,0) -> 0 | L23: =IF(MID($F23,3,2)=$L$3,1,0) -> 0 | M23: =IF(MID($F23,5,2)=$M$3,1,0) -> 0 | N23: =IF(MID($F23,5,2)=$N$3,1,0) -> 0 | O23: =IF(MID($F23,7,2)=$O$3,1,0) -> 0 | P23: =IF(MID($F23,7,2)=$P$3,1,0) -> 0 | Q23: =IF(MID($F23,7,2)=$Q$3,1,0) -> 0 | R23: =IF(MID($F23,9,2)=$R$3,1,0) -> 0 | S23: =IF(MID($F23,9,2)=$S$3,1,0) -> 0 | T23: =IF(MID($F23,1,5)=$T$3,1,0) -> 0 | U23: =IF(MID($F23,1,6)=$U$3,1,0) -> 0 | V23: =IF(MID($F23,1,4)=$V$3,1,0) -> 0 | W23: =IF(MID($F23,1,4)=$W$3,1,0) -> 0 | X23: =IF(MID($F23,1,4)=$X$3,1,0) -> 0 | Y23: =IF(MID($F23,1,4)=$Y$3,1,0) -> 0 | Z23: =IF(MID($G23,1,20)=$Z$3,1,0) -> 0 | AA23: =IF(MID($G23,1,20)=$AA$3,1,0) -> 0 | AB23: =IF(MID($G23,1,20)=$AB$3,1,0) -> 0 | AC23: =IF(MID($G23,1,20)=$AC$3,1,0) -> 0 | AD23: =IF(MID($G23,1,20)=$AD$3,1,0) -> 0 | AE23: =IF(MID($G23,1,20)=$AA$3,1,0) -> 0 | AF23: =IF(MID($G23,1,20)=$AF$3,1,0) -> 0 | AG23: =IF(MID($G23,1,20)=$AG$3,1,0) -> 0 | AH23: =IF(MID($G23,1,20)=$AH$3,1,0) -> 0 | AI23: =IF(MID($G23,1,20)=$AI$3,1,0) -> 0 | AJ23: =IF(MID($G23,1,20)=$AJ$3,1,0) -> 0 | AK23: =IF(MID($G23,1,20)=$AK$3,1,0) -> 0 | AL23: =IF(MID($F23,4,2)=(AL$3),1,0) -> 0 | AM23: =IF(MID($F23,4,2)=(AM$3),1,0) -> 0 | AN23: =IF(MID($F23,4,2)=(AN$3),1,0) -> 0 | AO23: =IF(MID($F23,6,2)=(AO$3),1,0) -> 0 | AP23: =IF(MID($F23,6,2)=(AP$3),1,0) -> 0 | AQ23: =IF(MID($F23,8,2)=(AQ$3),1,0) -> 0 | AR23: =IF(MID($F23,8,2)=(AR$3),1,0) -> 0 | AS23: =IF(MID($F23,10,2)=(AS$3),1,0) -> 0 | AT23: =IF(MID($F23,10,2)=(AT$3),1,0) -> 0 | AU23: =IF(MID($F23,10,2)=(AU$3),1,0) -> 0 | AV23: =IF(MID($F23,12,2)=(AV$3),1,0) -> 0 | AW23: =IF(MID($F23,12,2)=(AW$3),1,0) -> 0 | AX23: =IF(MID($F23,1,20)=$AX$3,1,0) -> 0 | AY23: =IF(MID($F23,1,20)=$AY$3,1,0) -> 0 | AZ23: =IF(MID($F23,1,20)=$AZ$3,1,0) -> 0 | BA23: =IF(MID($F23,1,20)=$BA$3,1,0) -> 0 | BB23: =IF(MID($F23,4,4)=$X$3,1,0) -> 0 | BC23: =IF(MID($F23,1,20)=$BC$3,1,0) -> 0
A24: ='[1]Fiche d''informations'!B43 -> 18 | B24: ='[1]Fiche d''informations'!C43 -> 0 | C24: ='[1]Fiche d''informations'!D43 -> 0 | D24: ='[1]Fiche d''informations'!E43 -> Mr | F24: E1V1A1L1D2 | G24: DcDiab | H24: =IF(MID($F24,1,2)=$H$3,1,0) -> 1 | I24: =IF(MID($F24,1,2)=$I$3,1,0) -> 0 | J24: =IF(MID($F24,1,2)=$J$3,1,0) -> 0 | K24: =IF(MID($F24,3,2)=$K$3,1,0) -> 1 | L24: =IF(MID($F24,3,2)=$L$3,1,0) -> 0 | M24: =IF(MID($F24,5,2)=$M$3,1,0) -> 1 | N24: =IF(MID($F24,5,2)=$N$3,1,0) -> 0 | O24: =IF(MID($F24,7,2)=$O$3,1,0) -> 1 | P24: =IF(MID($F24,7,2)=$P$3,1,0) -> 0 | Q24: =IF(MID($F24,7,2)=$Q$3,1,0) -> 0 | R24: =IF(MID($F24,9,2)=$R$3,1,0) -> 0 | S24: =IF(MID($F24,9,2)=$S$3,1,0) -> 1 | T24: =IF(MID($F24,1,5)=$T$3,1,0) -> 0 | U24: =IF(MID($F24,1,6)=$U$3,1,0) -> 0 | V24: =IF(MID($F24,1,4)=$V$3,1,0) -> 0 | W24: =IF(MID($F24,1,4)=$W$3,1,0) -> 0 | X24: =IF(MID($F24,1,4)=$X$3,1,0) -> 0 | Y24: =IF(MID($F24,1,4)=$Y$3,1,0) -> 0 | Z24: =IF(MID($G24,1,20)=$Z$3,1,0) -> 0 | AA24: =IF(MID($G24,1,20)=$AA$3,1,0) -> 0 | AB24: =IF(MID($G24,1,20)=$AB$3,1,0) -> 0 | AC24: =IF(MID($G24,1,20)=$AC$3,1,0) -> 0 | AD24: =IF(MID($G24,1,20)=$AD$3,1,0) -> 0 | AE24: =IF(MID($G24,1,20)=$AA$3,1,0) -> 0 | AF24: =IF(MID($G24,1,20)=$AF$3,1,0) -> 1 | AG24: =IF(MID($G24,1,20)=$AG$3,1,0) -> 0 | AH24: =IF(MID($G24,1,20)=$AH$3,1,0) -> 0 | AI24: =IF(MID($G24,1,20)=$AI$3,1,0) -> 0 | AJ24: =IF(MID($G24,1,20)=$AJ$3,1,0) -> 0 | AK24: =IF(MID($G24,1,20)=$AK$3,1,0) -> 0 | AL24: =IF(MID($F24,4,2)=(AL$3),1,0) -> 0 | AM24: =IF(MID($F24,4,2)=(AM$3),1,0) -> 0 | AN24: =IF(MID($F24,4,2)=(AN$3),1,0) -> 0 | AO24: =IF(MID($F24,6,2)=(AO$3),1,0) -> 0 | AP24: =IF(MID($F24,6,2)=(AP$3),1,0) -> 0 | AQ24: =IF(MID($F24,8,2)=(AQ$3),1,0) -> 0 | AR24: =IF(MID($F24,8,2)=(AR$3),1,0) -> 0 | AS24: =IF(MID($F24,10,2)=(AS$3),1,0) -> 0 | AT24: =IF(MID($F24,10,2)=(AT$3),1,0) -> 0 | AU24: =IF(MID($F24,10,2)=(AU$3),1,0) -> 0 | AV24: =IF(MID($F24,12,2)=(AV$3),1,0) -> 0 | AW24: =IF(MID($F24,12,2)=(AW$3),1,0) -> 0 | AX24: =IF(MID($F24,1,20)=$AX$3,1,0) -> 0 | AY24: =IF(MID($F24,1,20)=$AY$3,1,0) -> 0 | AZ24: =IF(MID($F24,1,20)=$AZ$3,1,0) -> 0 | BA24: =IF(MID($F24,1,20)=$BA$3,1,0) -> 0 | BB24: =IF(MID($F24,4,4)=$X$3,1,0) -> 0 | BC24: =IF(MID($F24,1,20)=$BC$3,1,0) -> 0 | BD24: E1V1A1L1D2 | BE24: DcDiab | DB24: E1V1A1L1D2 | DC24: DcDiab | EZ24: E1V1A1L1D2 | FA24: DcDiab | GX24: E1V1A1L1D2 | GY24: DcDiab | IV24: E1V1A1L1D2 | IW24: DcDiab | KT24: E1V1A1L1D2 | KU24: DcDiab
A25: ='[1]Fiche d''informations'!B44 -> 19 | B25: ='[1]Fiche d''informations'!C44 -> 0 | C25: ='[1]Fiche d''informations'!D44 -> 0 | D25: ='[1]Fiche d''informations'!E44 -> Mme | H25: =IF(MID($F25,1,2)=$H$3,1,0) -> 0 | I25: =IF(MID($F25,1,2)=$I$3,1,0) -> 0 | J25: =IF(MID($F25,1,2)=$J$3,1,0) -> 0 | K25: =IF(MID($F25,3,2)=$K$3,1,0) -> 0 | L25: =IF(MID($F25,3,2)=$L$3,1,0) -> 0 | M25: =IF(MID($F25,5,2)=$M$3,1,0) -> 0 | N25: =IF(MID($F25,5,2)=$N$3,1,0) -> 0 | O25: =IF(MID($F25,7,2)=$O$3,1,0) -> 0 | P25: =IF(MID($F25,7,2)=$P$3,1,0) -> 0 | Q25: =IF(MID($F25,7,2)=$Q$3,1,0) -> 0 | R25: =IF(MID($F25,9,2)=$R$3,1,0) -> 0 | S25: =IF(MID($F25,9,2)=$S$3,1,0) -> 0 | T25: =IF(MID($F25,1,5)=$T$3,1,0) -> 0 | U25: =IF(MID($F25,1,6)=$U$3,1,0) -> 0 | V25: =IF(MID($F25,1,4)=$V$3,1,0) -> 0 | W25: =IF(MID($F25,1,4)=$W$3,1,0) -> 0 | X25: =IF(MID($F25,1,4)=$X$3,1,0) -> 0 | Y25: =IF(MID($F25,1,4)=$Y$3,1,0) -> 0 | Z25: =IF(MID($G25,1,20)=$Z$3,1,0) -> 0 | AA25: =IF(MID($G25,1,20)=$AA$3,1,0) -> 0 | AB25: =IF(MID($G25,1,20)=$AB$3,1,0) -> 0 | AC25: =IF(MID($G25,1,20)=$AC$3,1,0) -> 0 | AD25: =IF(MID($G25,1,20)=$AD$3,1,0) -> 0 | AE25: =IF(MID($G25,1,20)=$AA$3,1,0) -> 0 | AF25: =IF(MID($G25,1,20)=$AF$3,1,0) -> 0 | AG25: =IF(MID($G25,1,20)=$AG$3,1,0) -> 0 | AH25: =IF(MID($G25,1,20)=$AH$3,1,0) -> 0 | AI25: =IF(MID($G25,1,20)=$AI$3,1,0) -> 0 | AJ25: =IF(MID($G25,1,20)=$AJ$3,1,0) -> 0 | AK25: =IF(MID($G25,1,20)=$AK$3,1,0) -> 0 | AL25: =IF(MID($F25,4,2)=(AL$3),1,0) -> 0 | AM25: =IF(MID($F25,4,2)=(AM$3),1,0) -> 0 | AN25: =IF(MID($F25,4,2)=(AN$3),1,0) -> 0 | AO25: =IF(MID($F25,6,2)=(AO$3),1,0) -> 0 | AP25: =IF(MID($F25,6,2)=(AP$3),1,0) -> 0 | AQ25: =IF(MID($F25,8,2)=(AQ$3),1,0) -> 0 | AR25: =IF(MID($F25,8,2)=(AR$3),1,0) -> 0 | AS25: =IF(MID($F25,10,2)=(AS$3),1,0) -> 0 | AT25: =IF(MID($F25,10,2)=(AT$3),1,0) -> 0 | AU25: =IF(MID($F25,10,2)=(AU$3),1,0) -> 0 | AV25: =IF(MID($F25,12,2)=(AV$3),1,0) -> 0 | AW25: =IF(MID($F25,12,2)=(AW$3),1,0) -> 0 | AX25: =IF(MID($F25,1,20)=$AX$3,1,0) -> 0 | AY25: =IF(MID($F25,1,20)=$AY$3,1,0) -> 0 | AZ25: =IF(MID($F25,1,20)=$AZ$3,1,0) -> 0 | BA25: =IF(MID($F25,1,20)=$BA$3,1,0) -> 0 | BB25: =IF(MID($F25,4,4)=$X$3,1,0) -> 0 | BC25: =IF(MID($F25,1,20)=$BC$3,1,0) -> 0
A26: ='[1]Fiche d''informations'!B45 -> 20 | B26: ='[1]Fiche d''informations'!C45 -> 0 | C26: ='[1]Fiche d''informations'!D45 -> 0 | D26: ='[1]Fiche d''informations'!E45 -> Mme | H26: =IF(MID($F26,1,2)=$H$3,1,0) -> 0 | I26: =IF(MID($F26,1,2)=$I$3,1,0) -> 0 | J26: =IF(MID($F26,1,2)=$J$3,1,0) -> 0 | K26: =IF(MID($F26,3,2)=$K$3,1,0) -> 0 | L26: =IF(MID($F26,3,2)=$L$3,1,0) -> 0 | M26: =IF(MID($F26,5,2)=$M$3,1,0) -> 0 | N26: =IF(MID($F26,5,2)=$N$3,1,0) -> 0 | O26: =IF(MID($F26,7,2)=$O$3,1,0) -> 0 | P26: =IF(MID($F26,7,2)=$P$3,1,0) -> 0 | Q26: =IF(MID($F26,7,2)=$Q$3,1,0) -> 0 | R26: =IF(MID($F26,9,2)=$R$3,1,0) -> 0 | S26: =IF(MID($F26,9,2)=$S$3,1,0) -> 0 | T26: =IF(MID($F26,1,5)=$T$3,1,0) -> 0 | U26: =IF(MID($F26,1,6)=$U$3,1,0) -> 0 | V26: =IF(MID($F26,1,4)=$V$3,1,0) -> 0 | W26: =IF(MID($F26,1,4)=$W$3,1,0) -> 0 | X26: =IF(MID($F26,1,4)=$X$3,1,0) -> 0 | Y26: =IF(MID($F26,1,4)=$Y$3,1,0) -> 0 | Z26: =IF(MID($G26,1,20)=$Z$3,1,0) -> 0 | AA26: =IF(MID($G26,1,20)=$AA$3,1,0) -> 0 | AB26: =IF(MID($G26,1,20)=$AB$3,1,0) -> 0 | AC26: =IF(MID($G26,1,20)=$AC$3,1,0) -> 0 | AD26: =IF(MID($G26,1,20)=$AD$3,1,0) -> 0 | AE26: =IF(MID($G26,1,20)=$AA$3,1,0) -> 0 | AF26: =IF(MID($G26,1,20)=$AF$3,1,0) -> 0 | AG26: =IF(MID($G26,1,20)=$AG$3,1,0) -> 0 | AH26: =IF(MID($G26,1,20)=$AH$3,1,0) -> 0 | AI26: =IF(MID($G26,1,20)=$AI$3,1,0) -> 0 | AJ26: =IF(MID($G26,1,20)=$AJ$3,1,0) -> 0 | AK26: =IF(MID($G26,1,20)=$AK$3,1,0) -> 0 | AL26: =IF(MID($F26,4,2)=(AL$3),1,0) -> 0 | AM26: =IF(MID($F26,4,2)=(AM$3),1,0) -> 0 | AN26: =IF(MID($F26,4,2)=(AN$3),1,0) -> 0 | AO26: =IF(MID($F26,6,2)=(AO$3),1,0) -> 0 | AP26: =IF(MID($F26,6,2)=(AP$3),1,0) -> 0 | AQ26: =IF(MID($F26,8,2)=(AQ$3),1,0) -> 0 | AR26: =IF(MID($F26,8,2)=(AR$3),1,0) -> 0 | AS26: =IF(MID($F26,10,2)=(AS$3),1,0) -> 0 | AT26: =IF(MID($F26,10,2)=(AT$3),1,0) -> 0 | AU26: =IF(MID($F26,10,2)=(AU$3),1,0) -> 0 | AV26: =IF(MID($F26,12,2)=(AV$3),1,0) -> 0 | AW26: =IF(MID($F26,12,2)=(AW$3),1,0) -> 0 | AX26: =IF(MID($F26,1,20)=$AX$3,1,0) -> 0 | AY26: =IF(MID($F26,1,20)=$AY$3,1,0) -> 0 | AZ26: =IF(MID($F26,1,20)=$AZ$3,1,0) -> 0 | BA26: =IF(MID($F26,1,20)=$BA$3,1,0) -> 0 | BB26: =IF(MID($F26,4,4)=$X$3,1,0) -> 0 | BC26: =IF(MID($F26,1,20)=$BC$3,1,0) -> 0
A27: ='[1]Fiche d''informations'!B46 -> 21 | B27: ='[1]Fiche d''informations'!C46 -> 1 | C27: ='[1]Fiche d''informations'!D46 -> 12 | D27: ='[1]Fiche d''informations'!E46 -> Mr | F27: E1V1A1L1D1 | H27: =IF(MID($F27,1,2)=$H$3,1,0) -> 1 | I27: =IF(MID($F27,1,2)=$I$3,1,0) -> 0 | J27: =IF(MID($F27,1,2)=$J$3,1,0) -> 0 | K27: =IF(MID($F27,3,2)=$K$3,1,0) -> 1 | L27: =IF(MID($F27,3,2)=$L$3,1,0) -> 0 | M27: =IF(MID($F27,5,2)=$M$3,1,0) -> 1 | N27: =IF(MID($F27,5,2)=$N$3,1,0) -> 0 | O27: =IF(MID($F27,7,2)=$O$3,1,0) -> 1 | P27: =IF(MID($F27,7,2)=$P$3,1,0) -> 0 | Q27: =IF(MID($F27,7,2)=$Q$3,1,0) -> 0 | R27: =IF(MID($F27,9,2)=$R$3,1,0) -> 1 | S27: =IF(MID($F27,9,2)=$S$3,1,0) -> 0 | T27: =IF(MID($F27,1,5)=$T$3,1,0) -> 0 | U27: =IF(MID($F27,1,6)=$U$3,1,0) -> 0 | V27: =IF(MID($F27,1,4)=$V$3,1,0) -> 0 | W27: =IF(MID($F27,1,4)=$W$3,1,0) -> 0 | X27: =IF(MID($F27,1,4)=$X$3,1,0) -> 0 | Y27: =IF(MID($F27,1,4)=$Y$3,1,0) -> 0 | Z27: =IF(MID($G27,1,20)=$Z$3,1,0) -> 0 | AA27: =IF(MID($G27,1,20)=$AA$3,1,0) -> 0 | AB27: =IF(MID($G27,1,20)=$AB$3,1,0) -> 0 | AC27: =IF(MID($G27,1,20)=$AC$3,1,0) -> 0 | AD27: =IF(MID($G27,1,20)=$AD$3,1,0) -> 0 | AE27: =IF(MID($G27,1,20)=$AA$3,1,0) -> 0 | AF27: =IF(MID($G27,1,20)=$AF$3,1,0) -> 0 | AG27: =IF(MID($G27,1,20)=$AG$3,1,0) -> 0 | AH27: =IF(MID($G27,1,20)=$AH$3,1,0) -> 0 | AI27: =IF(MID($G27,1,20)=$AI$3,1,0) -> 0 | AJ27: =IF(MID($G27,1,20)=$AJ$3,1,0) -> 0 | AK27: =IF(MID($G27,1,20)=$AK$3,1,0) -> 0 | AL27: =IF(MID($F27,4,2)=(AL$3),1,0) -> 0 | AM27: =IF(MID($F27,4,2)=(AM$3),1,0) -> 0 | AN27: =IF(MID($F27,4,2)=(AN$3),1,0) -> 0 | AO27: =IF(MID($F27,6,2)=(AO$3),1,0) -> 0 | AP27: =IF(MID($F27,6,2)=(AP$3),1,0) -> 0 | AQ27: =IF(MID($F27,8,2)=(AQ$3),1,0) -> 0 | AR27: =IF(MID($F27,8,2)=(AR$3),1,0) -> 0 | AS27: =IF(MID($F27,10,2)=(AS$3),1,0) -> 0 | AT27: =IF(MID($F27,10,2)=(AT$3),1,0) -> 0 | AU27: =IF(MID($F27,10,2)=(AU$3),1,0) -> 0 | AV27: =IF(MID($F27,12,2)=(AV$3),1,0) -> 0 | AW27: =IF(MID($F27,12,2)=(AW$3),1,0) -> 0 | AX27: =IF(MID($F27,1,20)=$AX$3,1,0) -> 0 | AY27: =IF(MID($F27,1,20)=$AY$3,1,0) -> 0 | AZ27: =IF(MID($F27,1,20)=$AZ$3,1,0) -> 0 | BA27: =IF(MID($F27,1,20)=$BA$3,1,0) -> 0 | BB27: =IF(MID($F27,4,4)=$X$3,1,0) -> 0 | BC27: =IF(MID($F27,1,20)=$BC$3,1,0) -> 0 | BD27: E1V1A1L1D1 | DB27: E1V1A1L1D1 | EZ27: E1V1A1L1D1 | GX27: E1V1A1L1D1 | IV27: E1V1A1L1D1 | KT27: E1V1A1L1D1
A28: ='[1]Fiche d''informations'!B47 -> 22 | B28: ='[1]Fiche d''informations'!C47 -> 1 | C28: ='[1]Fiche d''informations'!D47 -> 0 | D28: ='[1]Fiche d''informations'!E47 -> Mr | G28: DcDiabSS | H28: =IF(MID($F28,1,2)=$H$3,1,0) -> 0 | I28: =IF(MID($F28,1,2)=$I$3,1,0) -> 0 | J28: =IF(MID($F28,1,2)=$J$3,1,0) -> 0 | K28: =IF(MID($F28,3,2)=$K$3,1,0) -> 0 | L28: =IF(MID($F28,3,2)=$L$3,1,0) -> 0 | M28: =IF(MID($F28,5,2)=$M$3,1,0) -> 0 | N28: =IF(MID($F28,5,2)=$N$3,1,0) -> 0 | O28: =IF(MID($F28,7,2)=$O$3,1,0) -> 0 | P28: =IF(MID($F28,7,2)=$P$3,1,0) -> 0 | Q28: =IF(MID($F28,7,2)=$Q$3,1,0) -> 0 | R28: =IF(MID($F28,9,2)=$R$3,1,0) -> 0 | S28: =IF(MID($F28,9,2)=$S$3,1,0) -> 0 | T28: =IF(MID($F28,1,5)=$T$3,1,0) -> 0 | U28: =IF(MID($F28,1,6)=$U$3,1,0) -> 0 | V28: =IF(MID($F28,1,4)=$V$3,1,0) -> 0 | W28: =IF(MID($F28,1,4)=$W$3,1,0) -> 0 | X28: =IF(MID($F28,1,4)=$X$3,1,0) -> 0 | Y28: =IF(MID($F28,1,4)=$Y$3,1,0) -> 0 | Z28: =IF(MID($G28,1,20)=$Z$3,1,0) -> 0 | AA28: =IF(MID($G28,1,20)=$AA$3,1,0) -> 0 | AB28: =IF(MID($G28,1,20)=$AB$3,1,0) -> 0 | AC28: =IF(MID($G28,1,20)=$AC$3,1,0) -> 0 | AD28: =IF(MID($G28,1,20)=$AD$3,1,0) -> 0 | AE28: =IF(MID($G28,1,20)=$AA$3,1,0) -> 0 | AF28: =IF(MID($G28,1,20)=$AF$3,1,0) -> 0 | AG28: =IF(MID($G28,1,20)=$AG$3,1,0) -> 1 | AH28: =IF(MID($G28,1,20)=$AH$3,1,0) -> 0 | AI28: =IF(MID($G28,1,20)=$AI$3,1,0) -> 0 | AJ28: =IF(MID($G28,1,20)=$AJ$3,1,0) -> 0 | AK28: =IF(MID($G28,1,20)=$AK$3,1,0) -> 0 | AL28: =IF(MID($F28,4,2)=(AL$3),1,0) -> 0 | AM28: =IF(MID($F28,4,2)=(AM$3),1,0) -> 0 | AN28: =IF(MID($F28,4,2)=(AN$3),1,0) -> 0 | AO28: =IF(MID($F28,6,2)=(AO$3),1,0) -> 0 | AP28: =IF(MID($F28,6,2)=(AP$3),1,0) -> 0 | AQ28: =IF(MID($F28,8,2)=(AQ$3),1,0) -> 0 | AR28: =IF(MID($F28,8,2)=(AR$3),1,0) -> 0 | AS28: =IF(MID($F28,10,2)=(AS$3),1,0) -> 0 | AT28: =IF(MID($F28,10,2)=(AT$3),1,0) -> 0 | AU28: =IF(MID($F28,10,2)=(AU$3),1,0) -> 0 | AV28: =IF(MID($F28,12,2)=(AV$3),1,0) -> 0 | AW28: =IF(MID($F28,12,2)=(AW$3),1,0) -> 0 | AX28: =IF(MID($F28,1,20)=$AX$3,1,0) -> 0 | AY28: =IF(MID($F28,1,20)=$AY$3,1,0) -> 0 | AZ28: =IF(MID($F28,1,20)=$AZ$3,1,0) -> 0 | BA28: =IF(MID($F28,1,20)=$BA$3,1,0) -> 0 | BB28: =IF(MID($F28,4,4)=$X$3,1,0) -> 0 | BC28: =IF(MID($F28,1,20)=$BC$3,1,0) -> 0 | BE28: DcDiabSS | DC28: DcDiabSS | FA28: DcDiabSS | GY28: DcDiabSS | IW28: DcDiabSS | KU28: DcDiabSS
A29: ='[1]Fiche d''informations'!B48 -> 24 | B29: ='[1]Fiche d''informations'!C48 -> 0 | C29: ='[1]Fiche d''informations'!D48 -> 0 | D29: ='[1]Fiche d''informations'!E48 -> Mr | H29: =IF(MID($F29,1,2)=$H$3,1,0) -> 0 | I29: =IF(MID($F29,1,2)=$I$3,1,0) -> 0 | J29: =IF(MID($F29,1,2)=$J$3,1,0) -> 0 | K29: =IF(MID($F29,3,2)=$K$3,1,0) -> 0 | L29: =IF(MID($F29,3,2)=$L$3,1,0) -> 0 | M29: =IF(MID($F29,5,2)=$M$3,1,0) -> 0 | N29: =IF(MID($F29,5,2)=$N$3,1,0) -> 0 | O29: =IF(MID($F29,7,2)=$O$3,1,0) -> 0 | P29: =IF(MID($F29,7,2)=$P$3,1,0) -> 0 | Q29: =IF(MID($F29,7,2)=$Q$3,1,0) -> 0 | R29: =IF(MID($F29,9,2)=$R$3,1,0) -> 0 | S29: =IF(MID($F29,9,2)=$S$3,1,0) -> 0 | T29: =IF(MID($F29,1,5)=$T$3,1,0) -> 0 | U29: =IF(MID($F29,1,6)=$U$3,1,0) -> 0 | V29: =IF(MID($F29,1,4)=$V$3,1,0) -> 0 | W29: =IF(MID($F29,1,4)=$W$3,1,0) -> 0 | X29: =IF(MID($F29,1,4)=$X$3,1,0) -> 0 | Y29: =IF(MID($F29,1,4)=$Y$3,1,0) -> 0 | Z29: =IF(MID($G29,1,20)=$Z$3,1,0) -> 0 | AA29: =IF(MID($G29,1,20)=$AA$3,1,0) -> 0 | AB29: =IF(MID($G29,1,20)=$AB$3,1,0) -> 0 | AC29: =IF(MID($G29,1,20)=$AC$3,1,0) -> 0 | AD29: =IF(MID($G29,1,20)=$AD$3,1,0) -> 0 | AE29: =IF(MID($G29,1,20)=$AA$3,1,0) -> 0 | AF29: =IF(MID($G29,1,20)=$AF$3,1,0) -> 0 | AG29: =IF(MID($G29,1,20)=$AG$3,1,0) -> 0 | AH29: =IF(MID($G29,1,20)=$AH$3,1,0) -> 0 | AI29: =IF(MID($G29,1,20)=$AI$3,1,0) -> 0 | AJ29: =IF(MID($G29,1,20)=$AJ$3,1,0) -> 0 | AK29: =IF(MID($G29,1,20)=$AK$3,1,0) -> 0 | AL29: =IF(MID($F29,4,2)=(AL$3),1,0) -> 0 | AM29: =IF(MID($F29,4,2)=(AM$3),1,0) -> 0 | AN29: =IF(MID($F29,4,2)=(AN$3),1,0) -> 0 | AO29: =IF(MID($F29,6,2)=(AO$3),1,0) -> 0 | AP29: =IF(MID($F29,6,2)=(AP$3),1,0) -> 0 | AQ29: =IF(MID($F29,8,2)=(AQ$3),1,0) -> 0 | AR29: =IF(MID($F29,8,2)=(AR$3),1,0) -> 0 | AS29: =IF(MID($F29,10,2)=(AS$3),1,0) -> 0 | AT29: =IF(MID($F29,10,2)=(AT$3),1,0) -> 0 | AU29: =IF(MID($F29,10,2)=(AU$3),1,0) -> 0 | AV29: =IF(MID($F29,12,2)=(AV$3),1,0) -> 0 | AW29: =IF(MID($F29,12,2)=(AW$3),1,0) -> 0 | AX29: =IF(MID($F29,1,20)=$AX$3,1,0) -> 0 | AY29: =IF(MID($F29,1,20)=$AY$3,1,0) -> 0 | AZ29: =IF(MID($F29,1,20)=$AZ$3,1,0) -> 0 | BA29: =IF(MID($F29,1,20)=$BA$3,1,0) -> 0 | BB29: =IF(MID($F29,4,4)=$X$3,1,0) -> 0 | BC29: =IF(MID($F29,1,20)=$BC$3,1,0) -> 0
A30: ='[1]Fiche d''informations'!B49 -> 25 | B30: ='[1]Fiche d''informations'!C49 -> 0 | C30: ='[1]Fiche d''informations'!D49 -> 0 | D30: ='[1]Fiche d''informations'!E49 -> Mr | F30: E2V2A2L3D2 | H30: =IF(MID($F30,1,2)=$H$3,1,0) -> 0 | I30: =IF(MID($F30,1,2)=$I$3,1,0) -> 1 | J30: =IF(MID($F30,1,2)=$J$3,1,0) -> 0 | K30: =IF(MID($F30,3,2)=$K$3,1,0) -> 0 | L30: =IF(MID($F30,3,2)=$L$3,1,0) -> 1 | M30: =IF(MID($F30,5,2)=$M$3,1,0) -> 0 | N30: =IF(MID($F30,5,2)=$N$3,1,0) -> 1 | O30: =IF(MID($F30,7,2)=$O$3,1,0) -> 0 | P30: =IF(MID($F30,7,2)=$P$3,1,0) -> 0 | Q30: =IF(MID($F30,7,2)=$Q$3,1,0) -> 1 | R30: =IF(MID($F30,9,2)=$R$3,1,0) -> 0 | S30: =IF(MID($F30,9,2)=$S$3,1,0) -> 1 | T30: =IF(MID($F30,1,5)=$T$3,1,0) -> 0 | U30: =IF(MID($F30,1,6)=$U$3,1,0) -> 0 | V30: =IF(MID($F30,1,4)=$V$3,1,0) -> 0 | W30: =IF(MID($F30,1,4)=$W$3,1,0) -> 0 | X30: =IF(MID($F30,1,4)=$X$3,1,0) -> 0 | Y30: =IF(MID($F30,1,4)=$Y$3,1,0) -> 0 | Z30: =IF(MID($G30,1,20)=$Z$3,1,0) -> 0 | AA30: =IF(MID($G30,1,20)=$AA$3,1,0) -> 0 | AB30: =IF(MID($G30,1,20)=$AB$3,1,0) -> 0 | AC30: =IF(MID($G30,1,20)=$AC$3,1,0) -> 0 | AD30: =IF(MID($G30,1,20)=$AD$3,1,0) -> 0 | AE30: =IF(MID($G30,1,20)=$AA$3,1,0) -> 0 | AF30: =IF(MID($G30,1,20)=$AF$3,1,0) -> 0 | AG30: =IF(MID($G30,1,20)=$AG$3,1,0) -> 0 | AH30: =IF(MID($G30,1,20)=$AH$3,1,0) -> 0 | AI30: =IF(MID($G30,1,20)=$AI$3,1,0) -> 0 | AJ30: =IF(MID($G30,1,20)=$AJ$3,1,0) -> 0 | AK30: =IF(MID($G30,1,20)=$AK$3,1,0) -> 0 | AL30: =IF(MID($F30,4,2)=(AL$3),1,0) -> 0 | AM30: =IF(MID($F30,4,2)=(AM$3),1,0) -> 0 | AN30: =IF(MID($F30,4,2)=(AN$3),1,0) -> 0 | AO30: =IF(MID($F30,6,2)=(AO$3),1,0) -> 0 | AP30: =IF(MID($F30,6,2)=(AP$3),1,0) -> 0 | AQ30: =IF(MID($F30,8,2)=(AQ$3),1,0) -> 0 | AR30: =IF(MID($F30,8,2)=(AR$3),1,0) -> 0 | AS30: =IF(MID($F30,10,2)=(AS$3),1,0) -> 0 | AT30: =IF(MID($F30,10,2)=(AT$3),1,0) -> 0 | AU30: =IF(MID($F30,10,2)=(AU$3),1,0) -> 0 | AV30: =IF(MID($F30,12,2)=(AV$3),1,0) -> 0 | AW30: =IF(MID($F30,12,2)=(AW$3),1,0) -> 0 | AX30: =IF(MID($F30,1,20)=$AX$3,1,0) -> 0 | AY30: =IF(MID($F30,1,20)=$AY$3,1,0) -> 0 | AZ30: =IF(MID($F30,1,20)=$AZ$3,1,0) -> 0 | BA30: =IF(MID($F30,1,20)=$BA$3,1,0) -> 0 | BB30: =IF(MID($F30,4,4)=$X$3,1,0) -> 0 | BC30: =IF(MID($F30,1,20)=$BC$3,1,0) -> 0 | BD30: E2V2A2L3D2 | DB30: E2V2A2L3D2 | EZ30: E2V2A2L3D2 | GX30: E2V2A2L3D2 | IV30: E2V2A2L3D2 | KT30: E2V2A2L3D2
A31: ='[1]Fiche d''informations'!B50 -> 26 | B31: ='[1]Fiche d''informations'!C50 -> 0 | C31: ='[1]Fiche d''informations'!D50 -> 0 | D31: ='[1]Fiche d''informations'!E50 -> Mme | H31: =IF(MID($F31,1,2)=$H$3,1,0) -> 0 | I31: =IF(MID($F31,1,2)=$I$3,1,0) -> 0 | J31: =IF(MID($F31,1,2)=$J$3,1,0) -> 0 | K31: =IF(MID($F31,3,2)=$K$3,1,0) -> 0 | L31: =IF(MID($F31,3,2)=$L$3,1,0) -> 0 | M31: =IF(MID($F31,5,2)=$M$3,1,0) -> 0 | N31: =IF(MID($F31,5,2)=$N$3,1,0) -> 0 | O31: =IF(MID($F31,7,2)=$O$3,1,0) -> 0 | P31: =IF(MID($F31,7,2)=$P$3,1,0) -> 0 | Q31: =IF(MID($F31,7,2)=$Q$3,1,0) -> 0 | R31: =IF(MID($F31,9,2)=$R$3,1,0) -> 0 | S31: =IF(MID($F31,9,2)=$S$3,1,0) -> 0 | T31: =IF(MID($F31,1,5)=$T$3,1,0) -> 0 | U31: =IF(MID($F31,1,6)=$U$3,1,0) -> 0 | V31: =IF(MID($F31,1,4)=$V$3,1,0) -> 0 | W31: =IF(MID($F31,1,4)=$W$3,1,0) -> 0 | X31: =IF(MID($F31,1,4)=$X$3,1,0) -> 0 | Y31: =IF(MID($F31,1,4)=$Y$3,1,0) -> 0 | Z31: =IF(MID($G31,1,20)=$Z$3,1,0) -> 0 | AA31: =IF(MID($G31,1,20)=$AA$3,1,0) -> 0 | AB31: =IF(MID($G31,1,20)=$AB$3,1,0) -> 0 | AC31: =IF(MID($G31,1,20)=$AC$3,1,0) -> 0 | AD31: =IF(MID($G31,1,20)=$AD$3,1,0) -> 0 | AE31: =IF(MID($G31,1,20)=$AA$3,1,0) -> 0 | AF31: =IF(MID($G31,1,20)=$AF$3,1,0) -> 0 | AG31: =IF(MID($G31,1,20)=$AG$3,1,0) -> 0 | AH31: =IF(MID($G31,1,20)=$AH$3,1,0) -> 0 | AI31: =IF(MID($G31,1,20)=$AI$3,1,0) -> 0 | AJ31: =IF(MID($G31,1,20)=$AJ$3,1,0) -> 0 | AK31: =IF(MID($G31,1,20)=$AK$3,1,0) -> 0 | AL31: =IF(MID($F31,4,2)=(AL$3),1,0) -> 0 | AM31: =IF(MID($F31,4,2)=(AM$3),1,0) -> 0 | AN31: =IF(MID($F31,4,2)=(AN$3),1,0) -> 0 | AO31: =IF(MID($F31,6,2)=(AO$3),1,0) -> 0 | AP31: =IF(MID($F31,6,2)=(AP$3),1,0) -> 0 | AQ31: =IF(MID($F31,8,2)=(AQ$3),1,0) -> 0 | AR31: =IF(MID($F31,8,2)=(AR$3),1,0) -> 0 | AS31: =IF(MID($F31,10,2)=(AS$3),1,0) -> 0 | AT31: =IF(MID($F31,10,2)=(AT$3),1,0) -> 0 | AU31: =IF(MID($F31,10,2)=(AU$3),1,0) -> 0 | AV31: =IF(MID($F31,12,2)=(AV$3),1,0) -> 0 | AW31: =IF(MID($F31,12,2)=(AW$3),1,0) -> 0 | AX31: =IF(MID($F31,1,20)=$AX$3,1,0) -> 0 | AY31: =IF(MID($F31,1,20)=$AY$3,1,0) -> 0 | AZ31: =IF(MID($F31,1,20)=$AZ$3,1,0) -> 0 | BA31: =IF(MID($F31,1,20)=$BA$3,1,0) -> 0 | BB31: =IF(MID($F31,4,4)=$X$3,1,0) -> 0 | BC31: =IF(MID($F31,1,20)=$BC$3,1,0) -> 0
A32: ='[1]Fiche d''informations'!B51 -> 27 | B32: ='[1]Fiche d''informations'!C51 -> 1 | C32: ='[1]Fiche d''informations'!D51 -> 7 | D32: ='[1]Fiche d''informations'!E51 -> Mme | H32: =IF(MID($F32,1,2)=$H$3,1,0) -> 0 | I32: =IF(MID($F32,1,2)=$I$3,1,0) -> 0 | J32: =IF(MID($F32,1,2)=$J$3,1,0) -> 0 | K32: =IF(MID($F32,3,2)=$K$3,1,0) -> 0 | L32: =IF(MID($F32,3,2)=$L$3,1,0) -> 0 | M32: =IF(MID($F32,5,2)=$M$3,1,0) -> 0 | N32: =IF(MID($F32,5,2)=$N$3,1,0) -> 0 | O32: =IF(MID($F32,7,2)=$O$3,1,0) -> 0 | P32: =IF(MID($F32,7,2)=$P$3,1,0) -> 0 | Q32: =IF(MID($F32,7,2)=$Q$3,1,0) -> 0 | R32: =IF(MID($F32,9,2)=$R$3,1,0) -> 0 | S32: =IF(MID($F32,9,2)=$S$3,1,0) -> 0 | T32: =IF(MID($F32,1,5)=$T$3,1,0) -> 0 | U32: =IF(MID($F32,1,6)=$U$3,1,0) -> 0 | V32: =IF(MID($F32,1,4)=$V$3,1,0) -> 0 | W32: =IF(MID($F32,1,4)=$W$3,1,0) -> 0 | X32: =IF(MID($F32,1,4)=$X$3,1,0) -> 0 | Y32: =IF(MID($F32,1,4)=$Y$3,1,0) -> 0 | Z32: =IF(MID($G32,1,20)=$Z$3,1,0) -> 0 | AA32: =IF(MID($G32,1,20)=$AA$3,1,0) -> 0 | AB32: =IF(MID($G32,1,20)=$AB$3,1,0) -> 0 | AC32: =IF(MID($G32,1,20)=$AC$3,1,0) -> 0 | AD32: =IF(MID($G32,1,20)=$AD$3,1,0) -> 0 | AE32: =IF(MID($G32,1,20)=$AA$3,1,0) -> 0 | AF32: =IF(MID($G32,1,20)=$AF$3,1,0) -> 0 | AG32: =IF(MID($G32,1,20)=$AG$3,1,0) -> 0 | AH32: =IF(MID($G32,1,20)=$AH$3,1,0) -> 0 | AI32: =IF(MID($G32,1,20)=$AI$3,1,0) -> 0 | AJ32: =IF(MID($G32,1,20)=$AJ$3,1,0) -> 0 | AK32: =IF(MID($G32,1,20)=$AK$3,1,0) -> 0 | AL32: =IF(MID($F32,4,2)=(AL$3),1,0) -> 0 | AM32: =IF(MID($F32,4,2)=(AM$3),1,0) -> 0 | AN32: =IF(MID($F32,4,2)=(AN$3),1,0) -> 0 | AO32: =IF(MID($F32,6,2)=(AO$3),1,0) -> 0 | AP32: =IF(MID($F32,6,2)=(AP$3),1,0) -> 0 | AQ32: =IF(MID($F32,8,2)=(AQ$3),1,0) -> 0 | AR32: =IF(MID($F32,8,2)=(AR$3),1,0) -> 0 | AS32: =IF(MID($F32,10,2)=(AS$3),1,0) -> 0 | AT32: =IF(MID($F32,10,2)=(AT$3),1,0) -> 0 | AU32: =IF(MID($F32,10,2)=(AU$3),1,0) -> 0 | AV32: =IF(MID($F32,12,2)=(AV$3),1,0) -> 0 | AW32: =IF(MID($F32,12,2)=(AW$3),1,0) -> 0 | AX32: =IF(MID($F32,1,20)=$AX$3,1,0) -> 0 | AY32: =IF(MID($F32,1,20)=$AY$3,1,0) -> 0 | AZ32: =IF(MID($F32,1,20)=$AZ$3,1,0) -> 0 | BA32: =IF(MID($F32,1,20)=$BA$3,1,0) -> 0 | BB32: =IF(MID($F32,4,4)=$X$3,1,0) -> 0 | BC32: =IF(MID($F32,1,20)=$BC$3,1,0) -> 0
A33: ='[1]Fiche d''informations'!B52 -> 28 | B33: ='[1]Fiche d''informations'!C52 -> 1 | C33: ='[1]Fiche d''informations'!D52 -> 3 | D33: ='[1]Fiche d''informations'!E52 -> Mme | G33: DlSS | H33: =IF(MID($F33,1,2)=$H$3,1,0) -> 0 | I33: =IF(MID($F33,1,2)=$I$3,1,0) -> 0 | J33: =IF(MID($F33,1,2)=$J$3,1,0) -> 0 | K33: =IF(MID($F33,3,2)=$K$3,1,0) -> 0 | L33: =IF(MID($F33,3,2)=$L$3,1,0) -> 0 | M33: =IF(MID($F33,5,2)=$M$3,1,0) -> 0 | N33: =IF(MID($F33,5,2)=$N$3,1,0) -> 0 | O33: =IF(MID($F33,7,2)=$O$3,1,0) -> 0 | P33: =IF(MID($F33,7,2)=$P$3,1,0) -> 0 | Q33: =IF(MID($F33,7,2)=$Q$3,1,0) -> 0 | R33: =IF(MID($F33,9,2)=$R$3,1,0) -> 0 | S33: =IF(MID($F33,9,2)=$S$3,1,0) -> 0 | T33: =IF(MID($F33,1,5)=$T$3,1,0) -> 0 | U33: =IF(MID($F33,1,6)=$U$3,1,0) -> 0 | V33: =IF(MID($F33,1,4)=$V$3,1,0) -> 0 | W33: =IF(MID($F33,1,4)=$W$3,1,0) -> 0 | X33: =IF(MID($F33,1,4)=$X$3,1,0) -> 0 | Y33: =IF(MID($F33,1,4)=$Y$3,1,0) -> 0 | Z33: =IF(MID($G33,1,20)=$Z$3,1,0) -> 0 | AA33: =IF(MID($G33,1,20)=$AA$3,1,0) -> 0 | AB33: =IF(MID($G33,1,20)=$AB$3,1,0) -> 0 | AC33: =IF(MID($G33,1,20)=$AC$3,1,0) -> 1 | AD33: =IF(MID($G33,1,20)=$AD$3,1,0) -> 0 | AE33: =IF(MID($G33,1,20)=$AA$3,1,0) -> 0 | AF33: =IF(MID($G33,1,20)=$AF$3,1,0) -> 0 | AG33: =IF(MID($G33,1,20)=$AG$3,1,0) -> 0 | AH33: =IF(MID($G33,1,20)=$AH$3,1,0) -> 0 | AI33: =IF(MID($G33,1,20)=$AI$3,1,0) -> 0 | AJ33: =IF(MID($G33,1,20)=$AJ$3,1,0) -> 0 | AK33: =IF(MID($G33,1,20)=$AK$3,1,0) -> 0 | AL33: =IF(MID($F33,4,2)=(AL$3),1,0) -> 0 | AM33: =IF(MID($F33,4,2)=(AM$3),1,0) -> 0 | AN33: =IF(MID($F33,4,2)=(AN$3),1,0) -> 0 | AO33: =IF(MID($F33,6,2)=(AO$3),1,0) -> 0 | AP33: =IF(MID($F33,6,2)=(AP$3),1,0) -> 0 | AQ33: =IF(MID($F33,8,2)=(AQ$3),1,0) -> 0 | AR33: =IF(MID($F33,8,2)=(AR$3),1,0) -> 0 | AS33: =IF(MID($F33,10,2)=(AS$3),1,0) -> 0 | AT33: =IF(MID($F33,10,2)=(AT$3),1,0) -> 0 | AU33: =IF(MID($F33,10,2)=(AU$3),1,0) -> 0 | AV33: =IF(MID($F33,12,2)=(AV$3),1,0) -> 0 | AW33: =IF(MID($F33,12,2)=(AW$3),1,0) -> 0 | AX33: =IF(MID($F33,1,20)=$AX$3,1,0) -> 0 | AY33: =IF(MID($F33,1,20)=$AY$3,1,0) -> 0 | AZ33: =IF(MID($F33,1,20)=$AZ$3,1,0) -> 0 | BA33: =IF(MID($F33,1,20)=$BA$3,1,0) -> 0 | BB33: =IF(MID($F33,4,4)=$X$3,1,0) -> 0 | BC33: =IF(MID($F33,1,20)=$BC$3,1,0) -> 0 | BE33: DlSS | DC33: DlSS | FA33: DlSS | GY33: DlSS | IW33: DlSS | KU33: DlSS
A34: ='[1]Fiche d''informations'!B53 -> 29 | B34: ='[1]Fiche d''informations'!C53 -> 0 | C34: ='[1]Fiche d''informations'!D53 -> 0 | D34: ='[1]Fiche d''informations'!E53 -> Mme | H34: =IF(MID($F34,1,2)=$H$3,1,0) -> 0 | I34: =IF(MID($F34,1,2)=$I$3,1,0) -> 0 | J34: =IF(MID($F34,1,2)=$J$3,1,0) -> 0 | K34: =IF(MID($F34,3,2)=$K$3,1,0) -> 0 | L34: =IF(MID($F34,3,2)=$L$3,1,0) -> 0 | M34: =IF(MID($F34,5,2)=$M$3,1,0) -> 0 | N34: =IF(MID($F34,5,2)=$N$3,1,0) -> 0 | O34: =IF(MID($F34,7,2)=$O$3,1,0) -> 0 | P34: =IF(MID($F34,7,2)=$P$3,1,0) -> 0 | Q34: =IF(MID($F34,7,2)=$Q$3,1,0) -> 0 | R34: =IF(MID($F34,9,2)=$R$3,1,0) -> 0 | S34: =IF(MID($F34,9,2)=$S$3,1,0) -> 0 | T34: =IF(MID($F34,1,5)=$T$3,1,0) -> 0 | U34: =IF(MID($F34,1,6)=$U$3,1,0) -> 0 | V34: =IF(MID($F34,1,4)=$V$3,1,0) -> 0 | W34: =IF(MID($F34,1,4)=$W$3,1,0) -> 0 | X34: =IF(MID($F34,1,4)=$X$3,1,0) -> 0 | Y34: =IF(MID($F34,1,4)=$Y$3,1,0) -> 0 | Z34: =IF(MID($G34,1,20)=$Z$3,1,0) -> 0 | AA34: =IF(MID($G34,1,20)=$AA$3,1,0) -> 0 | AB34: =IF(MID($G34,1,20)=$AB$3,1,0) -> 0 | AC34: =IF(MID($G34,1,20)=$AC$3,1,0) -> 0 | AD34: =IF(MID($G34,1,20)=$AD$3,1,0) -> 0 | AE34: =IF(MID($G34,1,20)=$AA$3,1,0) -> 0 | AF34: =IF(MID($G34,1,20)=$AF$3,1,0) -> 0 | AG34: =IF(MID($G34,1,20)=$AG$3,1,0) -> 0 | AH34: =IF(MID($G34,1,20)=$AH$3,1,0) -> 0 | AI34: =IF(MID($G34,1,20)=$AI$3,1,0) -> 0 | AJ34: =IF(MID($G34,1,20)=$AJ$3,1,0) -> 0 | AK34: =IF(MID($G34,1,20)=$AK$3,1,0) -> 0 | AL34: =IF(MID($F34,4,2)=(AL$3),1,0) -> 0 | AM34: =IF(MID($F34,4,2)=(AM$3),1,0) -> 0 | AN34: =IF(MID($F34,4,2)=(AN$3),1,0) -> 0 | AO34: =IF(MID($F34,6,2)=(AO$3),1,0) -> 0 | AP34: =IF(MID($F34,6,2)=(AP$3),1,0) -> 0 | AQ34: =IF(MID($F34,8,2)=(AQ$3),1,0) -> 0 | AR34: =IF(MID($F34,8,2)=(AR$3),1,0) -> 0 | AS34: =IF(MID($F34,10,2)=(AS$3),1,0) -> 0 | AT34: =IF(MID($F34,10,2)=(AT$3),1,0) -> 0 | AU34: =IF(MID($F34,10,2)=(AU$3),1,0) -> 0 | AV34: =IF(MID($F34,12,2)=(AV$3),1,0) -> 0 | AW34: =IF(MID($F34,12,2)=(AW$3),1,0) -> 0 | AX34: =IF(MID($F34,1,20)=$AX$3,1,0) -> 0 | AY34: =IF(MID($F34,1,20)=$AY$3,1,0) -> 0 | AZ34: =IF(MID($F34,1,20)=$AZ$3,1,0) -> 0 | BA34: =IF(MID($F34,1,20)=$BA$3,1,0) -> 0 | BB34: =IF(MID($F34,4,4)=$X$3,1,0) -> 0 | BC34: =IF(MID($F34,1,20)=$BC$3,1,0) -> 0
A35: ='[1]Fiche d''informations'!B54 -> 30 | B35: ='[1]Fiche d''informations'!C54 -> 1 | C35: ='[1]Fiche d''informations'!D54 -> 8 | D35: ='[1]Fiche d''informations'!E54 -> Mme | H35: =IF(MID($F35,1,2)=$H$3,1,0) -> 0 | I35: =IF(MID($F35,1,2)=$I$3,1,0) -> 0 | J35: =IF(MID($F35,1,2)=$J$3,1,0) -> 0 | K35: =IF(MID($F35,3,2)=$K$3,1,0) -> 0 | L35: =IF(MID($F35,3,2)=$L$3,1,0) -> 0 | M35: =IF(MID($F35,5,2)=$M$3,1,0) -> 0 | N35: =IF(MID($F35,5,2)=$N$3,1,0) -> 0 | O35: =IF(MID($F35,7,2)=$O$3,1,0) -> 0 | P35: =IF(MID($F35,7,2)=$P$3,1,0) -> 0 | Q35: =IF(MID($F35,7,2)=$Q$3,1,0) -> 0 | R35: =IF(MID($F35,9,2)=$R$3,1,0) -> 0 | S35: =IF(MID($F35,9,2)=$S$3,1,0) -> 0 | T35: =IF(MID($F35,1,5)=$T$3,1,0) -> 0 | U35: =IF(MID($F35,1,6)=$U$3,1,0) -> 0 | V35: =IF(MID($F35,1,4)=$V$3,1,0) -> 0 | W35: =IF(MID($F35,1,4)=$W$3,1,0) -> 0 | X35: =IF(MID($F35,1,4)=$X$3,1,0) -> 0 | Y35: =IF(MID($F35,1,4)=$Y$3,1,0) -> 0 | Z35: =IF(MID($G35,1,20)=$Z$3,1,0) -> 0 | AA35: =IF(MID($G35,1,20)=$AA$3,1,0) -> 0 | AB35: =IF(MID($G35,1,20)=$AB$3,1,0) -> 0 | AC35: =IF(MID($G35,1,20)=$AC$3,1,0) -> 0 | AD35: =IF(MID($G35,1,20)=$AD$3,1,0) -> 0 | AE35: =IF(MID($G35,1,20)=$AA$3,1,0) -> 0 | AF35: =IF(MID($G35,1,20)=$AF$3,1,0) -> 0 | AG35: =IF(MID($G35,1,20)=$AG$3,1,0) -> 0 | AH35: =IF(MID($G35,1,20)=$AH$3,1,0) -> 0 | AI35: =IF(MID($G35,1,20)=$AI$3,1,0) -> 0 | AJ35: =IF(MID($G35,1,20)=$AJ$3,1,0) -> 0 | AK35: =IF(MID($G35,1,20)=$AK$3,1,0) -> 0 | AL35: =IF(MID($F35,4,2)=(AL$3),1,0) -> 0 | AM35: =IF(MID($F35,4,2)=(AM$3),1,0) -> 0 | AN35: =IF(MID($F35,4,2)=(AN$3),1,0) -> 0 | AO35: =IF(MID($F35,6,2)=(AO$3),1,0) -> 0 | AP35: =IF(MID($F35,6,2)=(AP$3),1,0) -> 0 | AQ35: =IF(MID($F35,8,2)=(AQ$3),1,0) -> 0 | AR35: =IF(MID($F35,8,2)=(AR$3),1,0) -> 0 | AS35: =IF(MID($F35,10,2)=(AS$3),1,0) -> 0 | AT35: =IF(MID($F35,10,2)=(AT$3),1,0) -> 0 | AU35: =IF(MID($F35,10,2)=(AU$3),1,0) -> 0 | AV35: =IF(MID($F35,12,2)=(AV$3),1,0) -> 0 | AW35: =IF(MID($F35,12,2)=(AW$3),1,0) -> 0 | AX35: =IF(MID($F35,1,20)=$AX$3,1,0) -> 0 | AY35: =IF(MID($F35,1,20)=$AY$3,1,0) -> 0 | AZ35: =IF(MID($F35,1,20)=$AZ$3,1,0) -> 0 | BA35: =IF(MID($F35,1,20)=$BA$3,1,0) -> 0 | BB35: =IF(MID($F35,4,4)=$X$3,1,0) -> 0 | BC35: =IF(MID($F35,1,20)=$BC$3,1,0) -> 0
A36: ='[1]Fiche d''informations'!B55 -> 31 | B36: ='[1]Fiche d''informations'!C55 -> 1 | C36: ='[1]Fiche d''informations'!D55 -> 6 | D36: ='[1]Fiche d''informations'!E55 -> Mr | H36: =IF(MID($F36,1,2)=$H$3,1,0) -> 0 | I36: =IF(MID($F36,1,2)=$I$3,1,0) -> 0 | J36: =IF(MID($F36,1,2)=$J$3,1,0) -> 0 | K36: =IF(MID($F36,3,2)=$K$3,1,0) -> 0 | L36: =IF(MID($F36,3,2)=$L$3,1,0) -> 0 | M36: =IF(MID($F36,5,2)=$M$3,1,0) -> 0 | N36: =IF(MID($F36,5,2)=$N$3,1,0) -> 0 | O36: =IF(MID($F36,7,2)=$O$3,1,0) -> 0 | P36: =IF(MID($F36,7,2)=$P$3,1,0) -> 0 | Q36: =IF(MID($F36,7,2)=$Q$3,1,0) -> 0 | R36: =IF(MID($F36,9,2)=$R$3,1,0) -> 0 | S36: =IF(MID($F36,9,2)=$S$3,1,0) -> 0 | T36: =IF(MID($F36,1,5)=$T$3,1,0) -> 0 | U36: =IF(MID($F36,1,6)=$U$3,1,0) -> 0 | V36: =IF(MID($F36,1,4)=$V$3,1,0) -> 0 | W36: =IF(MID($F36,1,4)=$W$3,1,0) -> 0 | X36: =IF(MID($F36,1,4)=$X$3,1,0) -> 0 | Y36: =IF(MID($F36,1,4)=$Y$3,1,0) -> 0 | Z36: =IF(MID($G36,1,20)=$Z$3,1,0) -> 0 | AA36: =IF(MID($G36,1,20)=$AA$3,1,0) -> 0 | AB36: =IF(MID($G36,1,20)=$AB$3,1,0) -> 0 | AC36: =IF(MID($G36,1,20)=$AC$3,1,0) -> 0 | AD36: =IF(MID($G36,1,20)=$AD$3,1,0) -> 0 | AE36: =IF(MID($G36,1,20)=$AA$3,1,0) -> 0 | AF36: =IF(MID($G36,1,20)=$AF$3,1,0) -> 0 | AG36: =IF(MID($G36,1,20)=$AG$3,1,0) -> 0 | AH36: =IF(MID($G36,1,20)=$AH$3,1,0) -> 0 | AI36: =IF(MID($G36,1,20)=$AI$3,1,0) -> 0 | AJ36: =IF(MID($G36,1,20)=$AJ$3,1,0) -> 0 | AK36: =IF(MID($G36,1,20)=$AK$3,1,0) -> 0 | AL36: =IF(MID($F36,4,2)=(AL$3),1,0) -> 0 | AM36: =IF(MID($F36,4,2)=(AM$3),1,0) -> 0 | AN36: =IF(MID($F36,4,2)=(AN$3),1,0) -> 0 | AO36: =IF(MID($F36,6,2)=(AO$3),1,0) -> 0 | AP36: =IF(MID($F36,6,2)=(AP$3),1,0) -> 0 | AQ36: =IF(MID($F36,8,2)=(AQ$3),1,0) -> 0 | AR36: =IF(MID($F36,8,2)=(AR$3),1,0) -> 0 | AS36: =IF(MID($F36,10,2)=(AS$3),1,0) -> 0 | AT36: =IF(MID($F36,10,2)=(AT$3),1,0) -> 0 | AU36: =IF(MID($F36,10,2)=(AU$3),1,0) -> 0 | AV36: =IF(MID($F36,12,2)=(AV$3),1,0) -> 0 | AW36: =IF(MID($F36,12,2)=(AW$3),1,0) -> 0 | AX36: =IF(MID($F36,1,20)=$AX$3,1,0) -> 0 | AY36: =IF(MID($F36,1,20)=$AY$3,1,0) -> 0 | AZ36: =IF(MID($F36,1,20)=$AZ$3,1,0) -> 0 | BA36: =IF(MID($F36,1,20)=$BA$3,1,0) -> 0 | BB36: =IF(MID($F36,4,4)=$X$3,1,0) -> 0 | BC36: =IF(MID($F36,1,20)=$BC$3,1,0) -> 0
A37: ='[1]Fiche d''informations'!B56 -> 32 | B37: ='[1]Fiche d''informations'!C56 -> 1 | C37: ='[1]Fiche d''informations'!D56 -> 0 | D37: ='[1]Fiche d''informations'!E56 -> Mme | F37: E1V1A1L3D2 | H37: =IF(MID($F37,1,2)=$H$3,1,0) -> 1 | I37: =IF(MID($F37,1,2)=$I$3,1,0) -> 0 | J37: =IF(MID($F37,1,2)=$J$3,1,0) -> 0 | K37: =IF(MID($F37,3,2)=$K$3,1,0) -> 1 | L37: =IF(MID($F37,3,2)=$L$3,1,0) -> 0 | M37: =IF(MID($F37,5,2)=$M$3,1,0) -> 1 | N37: =IF(MID($F37,5,2)=$N$3,1,0) -> 0 | O37: =IF(MID($F37,7,2)=$O$3,1,0) -> 0 | P37: =IF(MID($F37,7,2)=$P$3,1,0) -> 0 | Q37: =IF(MID($F37,7,2)=$Q$3,1,0) -> 1 | R37: =IF(MID($F37,9,2)=$R$3,1,0) -> 0 | S37: =IF(MID($F37,9,2)=$S$3,1,0) -> 1 | T37: =IF(MID($F37,1,5)=$T$3,1,0) -> 0 | U37: =IF(MID($F37,1,6)=$U$3,1,0) -> 0 | V37: =IF(MID($F37,1,4)=$V$3,1,0) -> 0 | W37: =IF(MID($F37,1,4)=$W$3,1,0) -> 0 | X37: =IF(MID($F37,1,4)=$X$3,1,0) -> 0 | Y37: =IF(MID($F37,1,4)=$Y$3,1,0) -> 0 | Z37: =IF(MID($G37,1,20)=$Z$3,1,0) -> 0 | AA37: =IF(MID($G37,1,20)=$AA$3,1,0) -> 0 | AB37: =IF(MID($G37,1,20)=$AB$3,1,0) -> 0 | AC37: =IF(MID($G37,1,20)=$AC$3,1,0) -> 0 | AD37: =IF(MID($G37,1,20)=$AD$3,1,0) -> 0 | AE37: =IF(MID($G37,1,20)=$AA$3,1,0) -> 0 | AF37: =IF(MID($G37,1,20)=$AF$3,1,0) -> 0 | AG37: =IF(MID($G37,1,20)=$AG$3,1,0) -> 0 | AH37: =IF(MID($G37,1,20)=$AH$3,1,0) -> 0 | AI37: =IF(MID($G37,1,20)=$AI$3,1,0) -> 0 | AJ37: =IF(MID($G37,1,20)=$AJ$3,1,0) -> 0 | AK37: =IF(MID($G37,1,20)=$AK$3,1,0) -> 0 | AL37: =IF(MID($F37,4,2)=(AL$3),1,0) -> 0 | AM37: =IF(MID($F37,4,2)=(AM$3),1,0) -> 0 | AN37: =IF(MID($F37,4,2)=(AN$3),1,0) -> 0 | AO37: =IF(MID($F37,6,2)=(AO$3),1,0) -> 0 | AP37: =IF(MID($F37,6,2)=(AP$3),1,0) -> 0 | AQ37: =IF(MID($F37,8,2)=(AQ$3),1,0) -> 0 | AR37: =IF(MID($F37,8,2)=(AR$3),1,0) -> 0 | AS37: =IF(MID($F37,10,2)=(AS$3),1,0) -> 0 | AT37: =IF(MID($F37,10,2)=(AT$3),1,0) -> 0 | AU37: =IF(MID($F37,10,2)=(AU$3),1,0) -> 0 | AV37: =IF(MID($F37,12,2)=(AV$3),1,0) -> 0 | AW37: =IF(MID($F37,12,2)=(AW$3),1,0) -> 0 | AX37: =IF(MID($F37,1,20)=$AX$3,1,0) -> 0 | AY37: =IF(MID($F37,1,20)=$AY$3,1,0) -> 0 | AZ37: =IF(MID($F37,1,20)=$AZ$3,1,0) -> 0 | BA37: =IF(MID($F37,1,20)=$BA$3,1,0) -> 0 | BB37: =IF(MID($F37,4,4)=$X$3,1,0) -> 0 | BC37: =IF(MID($F37,1,20)=$BC$3,1,0) -> 0 | BD37: E1V1A1L3D2 | DB37: E1V1A1L3D2 | EZ37: E1V1A1L3D2 | GX37: E1V1A1L3D2 | IV37: E1V1A1L3D2 | KT37: E1V1A1L3D2
A38: ='[1]Fiche d''informations'!B57 -> 33 | B38: ='[1]Fiche d''informations'!C57 -> 0 | C38: ='[1]Fiche d''informations'!D57 -> 0 | D38: ='[1]Fiche d''informations'!E57 -> Mme | H38: =IF(MID($F38,1,2)=$H$3,1,0) -> 0 | I38: =IF(MID($F38,1,2)=$I$3,1,0) -> 0 | J38: =IF(MID($F38,1,2)=$J$3,1,0) -> 0 | K38: =IF(MID($F38,3,2)=$K$3,1,0) -> 0 | L38: =IF(MID($F38,3,2)=$L$3,1,0) -> 0 | M38: =IF(MID($F38,5,2)=$M$3,1,0) -> 0 | N38: =IF(MID($F38,5,2)=$N$3,1,0) -> 0 | O38: =IF(MID($F38,7,2)=$O$3,1,0) -> 0 | P38: =IF(MID($F38,7,2)=$P$3,1,0) -> 0 | Q38: =IF(MID($F38,7,2)=$Q$3,1,0) -> 0 | R38: =IF(MID($F38,9,2)=$R$3,1,0) -> 0 | S38: =IF(MID($F38,9,2)=$S$3,1,0) -> 0 | T38: =IF(MID($F38,1,5)=$T$3,1,0) -> 0 | U38: =IF(MID($F38,1,6)=$U$3,1,0) -> 0 | V38: =IF(MID($F38,1,4)=$V$3,1,0) -> 0 | W38: =IF(MID($F38,1,4)=$W$3,1,0) -> 0 | X38: =IF(MID($F38,1,4)=$X$3,1,0) -> 0 | Y38: =IF(MID($F38,1,4)=$Y$3,1,0) -> 0 | Z38: =IF(MID($G38,1,20)=$Z$3,1,0) -> 0 | AA38: =IF(MID($G38,1,20)=$AA$3,1,0) -> 0 | AB38: =IF(MID($G38,1,20)=$AB$3,1,0) -> 0 | AC38: =IF(MID($G38,1,20)=$AC$3,1,0) -> 0 | AD38: =IF(MID($G38,1,20)=$AD$3,1,0) -> 0 | AE38: =IF(MID($G38,1,20)=$AA$3,1,0) -> 0 | AF38: =IF(MID($G38,1,20)=$AF$3,1,0) -> 0 | AG38: =IF(MID($G38,1,20)=$AG$3,1,0) -> 0 | AH38: =IF(MID($G38,1,20)=$AH$3,1,0) -> 0 | AI38: =IF(MID($G38,1,20)=$AI$3,1,0) -> 0 | AJ38: =IF(MID($G38,1,20)=$AJ$3,1,0) -> 0 | AK38: =IF(MID($G38,1,20)=$AK$3,1,0) -> 0 | AL38: =IF(MID($F38,4,2)=(AL$3),1,0) -> 0 | AM38: =IF(MID($F38,4,2)=(AM$3),1,0) -> 0 | AN38: =IF(MID($F38,4,2)=(AN$3),1,0) -> 0 | AO38: =IF(MID($F38,6,2)=(AO$3),1,0) -> 0 | AP38: =IF(MID($F38,6,2)=(AP$3),1,0) -> 0 | AQ38: =IF(MID($F38,8,2)=(AQ$3),1,0) -> 0 | AR38: =IF(MID($F38,8,2)=(AR$3),1,0) -> 0 | AS38: =IF(MID($F38,10,2)=(AS$3),1,0) -> 0 | AT38: =IF(MID($F38,10,2)=(AT$3),1,0) -> 0 | AU38: =IF(MID($F38,10,2)=(AU$3),1,0) -> 0 | AV38: =IF(MID($F38,12,2)=(AV$3),1,0) -> 0 | AW38: =IF(MID($F38,12,2)=(AW$3),1,0) -> 0 | AX38: =IF(MID($F38,1,20)=$AX$3,1,0) -> 0 | AY38: =IF(MID($F38,1,20)=$AY$3,1,0) -> 0 | AZ38: =IF(MID($F38,1,20)=$AZ$3,1,0) -> 0 | BA38: =IF(MID($F38,1,20)=$BA$3,1,0) -> 0 | BB38: =IF(MID($F38,4,4)=$X$3,1,0) -> 0 | BC38: =IF(MID($F38,1,20)=$BC$3,1,0) -> 0
A39: ='[1]Fiche d''informations'!B58 -> 34 | B39: ='[1]Fiche d''informations'!C58 -> 1 | C39: ='[1]Fiche d''informations'!D58 -> 8 | D39: ='[1]Fiche d''informations'!E58 -> Mme | H39: =IF(MID($F39,1,2)=$H$3,1,0) -> 0 | I39: =IF(MID($F39,1,2)=$I$3,1,0) -> 0 | J39: =IF(MID($F39,1,2)=$J$3,1,0) -> 0 | K39: =IF(MID($F39,3,2)=$K$3,1,0) -> 0 | L39: =IF(MID($F39,3,2)=$L$3,1,0) -> 0 | M39: =IF(MID($F39,5,2)=$M$3,1,0) -> 0 | N39: =IF(MID($F39,5,2)=$N$3,1,0) -> 0 | O39: =IF(MID($F39,7,2)=$O$3,1,0) -> 0 | P39: =IF(MID($F39,7,2)=$P$3,1,0) -> 0 | Q39: =IF(MID($F39,7,2)=$Q$3,1,0) -> 0 | R39: =IF(MID($F39,9,2)=$R$3,1,0) -> 0 | S39: =IF(MID($F39,9,2)=$S$3,1,0) -> 0 | T39: =IF(MID($F39,1,5)=$T$3,1,0) -> 0 | U39: =IF(MID($F39,1,6)=$U$3,1,0) -> 0 | V39: =IF(MID($F39,1,4)=$V$3,1,0) -> 0 | W39: =IF(MID($F39,1,4)=$W$3,1,0) -> 0 | X39: =IF(MID($F39,1,4)=$X$3,1,0) -> 0 | Y39: =IF(MID($F39,1,4)=$Y$3,1,0) -> 0 | Z39: =IF(MID($G39,1,20)=$Z$3,1,0) -> 0 | AA39: =IF(MID($G39,1,20)=$AA$3,1,0) -> 0 | AB39: =IF(MID($G39,1,20)=$AB$3,1,0) -> 0 | AC39: =IF(MID($G39,1,20)=$AC$3,1,0) -> 0 | AD39: =IF(MID($G39,1,20)=$AD$3,1,0) -> 0 | AE39: =IF(MID($G39,1,20)=$AA$3,1,0) -> 0 | AF39: =IF(MID($G39,1,20)=$AF$3,1,0) -> 0 | AG39: =IF(MID($G39,1,20)=$AG$3,1,0) -> 0 | AH39: =IF(MID($G39,1,20)=$AH$3,1,0) -> 0 | AI39: =IF(MID($G39,1,20)=$AI$3,1,0) -> 0 | AJ39: =IF(MID($G39,1,20)=$AJ$3,1,0) -> 0 | AK39: =IF(MID($G39,1,20)=$AK$3,1,0) -> 0 | AL39: =IF(MID($F39,4,2)=(AL$3),1,0) -> 0 | AM39: =IF(MID($F39,4,2)=(AM$3),1,0) -> 0 | AN39: =IF(MID($F39,4,2)=(AN$3),1,0) -> 0 | AO39: =IF(MID($F39,6,2)=(AO$3),1,0) -> 0 | AP39: =IF(MID($F39,6,2)=(AP$3),1,0) -> 0 | AQ39: =IF(MID($F39,8,2)=(AQ$3),1,0) -> 0 | AR39: =IF(MID($F39,8,2)=(AR$3),1,0) -> 0 | AS39: =IF(MID($F39,10,2)=(AS$3),1,0) -> 0 | AT39: =IF(MID($F39,10,2)=(AT$3),1,0) -> 0 | AU39: =IF(MID($F39,10,2)=(AU$3),1,0) -> 0 | AV39: =IF(MID($F39,12,2)=(AV$3),1,0) -> 0 | AW39: =IF(MID($F39,12,2)=(AW$3),1,0) -> 0 | AX39: =IF(MID($F39,1,20)=$AX$3,1,0) -> 0 | AY39: =IF(MID($F39,1,20)=$AY$3,1,0) -> 0 | AZ39: =IF(MID($F39,1,20)=$AZ$3,1,0) -> 0 | BA39: =IF(MID($F39,1,20)=$BA$3,1,0) -> 0 | BB39: =IF(MID($F39,4,4)=$X$3,1,0) -> 0 | BC39: =IF(MID($F39,1,20)=$BC$3,1,0) -> 0
A40: ='[1]Fiche d''informations'!B59 -> 35 | B40: ='[1]Fiche d''informations'!C59 -> 0 | C40: ='[1]Fiche d''informations'!D59 -> 0 | D40: ='[1]Fiche d''informations'!E59 -> Mr | H40: =IF(MID($F40,1,2)=$H$3,1,0) -> 0 | I40: =IF(MID($F40,1,2)=$I$3,1,0) -> 0 | J40: =IF(MID($F40,1,2)=$J$3,1,0) -> 0 | K40: =IF(MID($F40,3,2)=$K$3,1,0) -> 0 | L40: =IF(MID($F40,3,2)=$L$3,1,0) -> 0 | M40: =IF(MID($F40,5,2)=$M$3,1,0) -> 0 | N40: =IF(MID($F40,5,2)=$N$3,1,0) -> 0 | O40: =IF(MID($F40,7,2)=$O$3,1,0) -> 0 | P40: =IF(MID($F40,7,2)=$P$3,1,0) -> 0 | Q40: =IF(MID($F40,7,2)=$Q$3,1,0) -> 0 | R40: =IF(MID($F40,9,2)=$R$3,1,0) -> 0 | S40: =IF(MID($F40,9,2)=$S$3,1,0) -> 0 | T40: =IF(MID($F40,1,5)=$T$3,1,0) -> 0 | U40: =IF(MID($F40,1,6)=$U$3,1,0) -> 0 | V40: =IF(MID($F40,1,4)=$V$3,1,0) -> 0 | W40: =IF(MID($F40,1,4)=$W$3,1,0) -> 0 | X40: =IF(MID($F40,1,4)=$X$3,1,0) -> 0 | Y40: =IF(MID($F40,1,4)=$Y$3,1,0) -> 0 | Z40: =IF(MID($G40,1,20)=$Z$3,1,0) -> 0 | AA40: =IF(MID($G40,1,20)=$AA$3,1,0) -> 0 | AB40: =IF(MID($G40,1,20)=$AB$3,1,0) -> 0 | AC40: =IF(MID($G40,1,20)=$AC$3,1,0) -> 0 | AD40: =IF(MID($G40,1,20)=$AD$3,1,0) -> 0 | AE40: =IF(MID($G40,1,20)=$AA$3,1,0) -> 0 | AF40: =IF(MID($G40,1,20)=$AF$3,1,0) -> 0 | AG40: =IF(MID($G40,1,20)=$AG$3,1,0) -> 0 | AH40: =IF(MID($G40,1,20)=$AH$3,1,0) -> 0 | AI40: =IF(MID($G40,1,20)=$AI$3,1,0) -> 0 | AJ40: =IF(MID($G40,1,20)=$AJ$3,1,0) -> 0 | AK40: =IF(MID($G40,1,20)=$AK$3,1,0) -> 0 | AL40: =IF(MID($F40,4,2)=(AL$3),1,0) -> 0 | AM40: =IF(MID($F40,4,2)=(AM$3),1,0) -> 0 | AN40: =IF(MID($F40,4,2)=(AN$3),1,0) -> 0 | AO40: =IF(MID($F40,6,2)=(AO$3),1,0) -> 0 | AP40: =IF(MID($F40,6,2)=(AP$3),1,0) -> 0 | AQ40: =IF(MID($F40,8,2)=(AQ$3),1,0) -> 0 | AR40: =IF(MID($F40,8,2)=(AR$3),1,0) -> 0 | AS40: =IF(MID($F40,10,2)=(AS$3),1,0) -> 0 | AT40: =IF(MID($F40,10,2)=(AT$3),1,0) -> 0 | AU40: =IF(MID($F40,10,2)=(AU$3),1,0) -> 0 | AV40: =IF(MID($F40,12,2)=(AV$3),1,0) -> 0 | AW40: =IF(MID($F40,12,2)=(AW$3),1,0) -> 0 | AX40: =IF(MID($F40,1,20)=$AX$3,1,0) -> 0 | AY40: =IF(MID($F40,1,20)=$AY$3,1,0) -> 0 | AZ40: =IF(MID($F40,1,20)=$AZ$3,1,0) -> 0 | BA40: =IF(MID($F40,1,20)=$BA$3,1,0) -> 0 | BB40: =IF(MID($F40,4,4)=$X$3,1,0) -> 0 | BC40: =IF(MID($F40,1,20)=$BC$3,1,0) -> 0
A41: ='[1]Fiche d''informations'!B60 -> 36 | B41: ='[1]Fiche d''informations'!C60 -> 1 | C41: ='[1]Fiche d''informations'!D60 -> 5 | D41: ='[1]Fiche d''informations'!E60 -> Mme | F41: lgtE2V2A2L3D2 | H41: =IF(MID($F41,1,2)=$H$3,1,0) -> 0 | I41: =IF(MID($F41,1,2)=$I$3,1,0) -> 0 | J41: =IF(MID($F41,1,2)=$J$3,1,0) -> 0 | K41: =IF(MID($F41,3,2)=$K$3,1,0) -> 0 | L41: =IF(MID($F41,3,2)=$L$3,1,0) -> 0 | M41: =IF(MID($F41,5,2)=$M$3,1,0) -> 0 | N41: =IF(MID($F41,5,2)=$N$3,1,0) -> 0 | O41: =IF(MID($F41,7,2)=$O$3,1,0) -> 0 | P41: =IF(MID($F41,7,2)=$P$3,1,0) -> 0 | Q41: =IF(MID($F41,7,2)=$Q$3,1,0) -> 0 | R41: =IF(MID($F41,9,2)=$R$3,1,0) -> 0 | S41: =IF(MID($F41,9,2)=$S$3,1,0) -> 0 | T41: =IF(MID($F41,1,5)=$T$3,1,0) -> 0 | U41: =IF(MID($F41,1,6)=$U$3,1,0) -> 0 | V41: =IF(MID($F41,1,4)=$V$3,1,0) -> 0 | W41: =IF(MID($F41,1,4)=$W$3,1,0) -> 0 | X41: =IF(MID($F41,1,4)=$X$3,1,0) -> 0 | Y41: =IF(MID($F41,1,4)=$Y$3,1,0) -> 0 | Z41: =IF(MID($G41,1,20)=$Z$3,1,0) -> 0 | AA41: =IF(MID($G41,1,20)=$AA$3,1,0) -> 0 | AB41: =IF(MID($G41,1,20)=$AB$3,1,0) -> 0 | AC41: =IF(MID($G41,1,20)=$AC$3,1,0) -> 0 | AD41: =IF(MID($G41,1,20)=$AD$3,1,0) -> 0 | AE41: =IF(MID($G41,1,20)=$AA$3,1,0) -> 0 | AF41: =IF(MID($G41,1,20)=$AF$3,1,0) -> 0 | AG41: =IF(MID($G41,1,20)=$AG$3,1,0) -> 0 | AH41: =IF(MID($G41,1,20)=$AH$3,1,0) -> 0 | AI41: =IF(MID($G41,1,20)=$AI$3,1,0) -> 0 | AJ41: =IF(MID($G41,1,20)=$AJ$3,1,0) -> 0 | AK41: =IF(MID($G41,1,20)=$AK$3,1,0) -> 0 | AL41: =IF(MID($F41,4,2)=(AL$3),1,0) -> 0 | AM41: =IF(MID($F41,4,2)=(AM$3),1,0) -> 1 | AN41: =IF(MID($F41,4,2)=(AN$3),1,0) -> 0 | AO41: =IF(MID($F41,6,2)=(AO$3),1,0) -> 0 | AP41: =IF(MID($F41,6,2)=(AP$3),1,0) -> 1 | AQ41: =IF(MID($F41,8,2)=(AQ$3),1,0) -> 0 | AR41: =IF(MID($F41,8,2)=(AR$3),1,0) -> 1 | AS41: =IF(MID($F41,10,2)=(AS$3),1,0) -> 0 | AT41: =IF(MID($F41,10,2)=(AT$3),1,0) -> 0 | AU41: =IF(MID($F41,10,2)=(AU$3),1,0) -> 1 | AV41: =IF(MID($F41,12,2)=(AV$3),1,0) -> 0 | AW41: =IF(MID($F41,12,2)=(AW$3),1,0) -> 1 | AX41: =IF(MID($F41,1,20)=$AX$3,1,0) -> 0 | AY41: =IF(MID($F41,1,20)=$AY$3,1,0) -> 0 | AZ41: =IF(MID($F41,1,20)=$AZ$3,1,0) -> 0 | BA41: =IF(MID($F41,1,20)=$BA$3,1,0) -> 0 | BB41: =IF(MID($F41,4,4)=$X$3,1,0) -> 0 | BC41: =IF(MID($F41,1,20)=$BC$3,1,0) -> 0 | BD41: lgtE2V2A2L3D2 | DB41: lgtE2V2A2L3D2 | EZ41: lgtE2V2A2L3D2 | GX41: lgtE2V2A2L3D2 | IV41: lgtE2V2A2L3D2 | KT41: lgtE2V2A2L3D2
A42: ='[1]Fiche d''informations'!B61 -> 37 | B42: ='[1]Fiche d''informations'!C61 -> 0 | C42: ='[1]Fiche d''informations'!D61 -> 0 | D42: ='[1]Fiche d''informations'!E61 -> Mr | H42: =IF(MID($F42,1,2)=$H$3,1,0) -> 0 | I42: =IF(MID($F42,1,2)=$I$3,1,0) -> 0 | J42: =IF(MID($F42,1,2)=$J$3,1,0) -> 0 | K42: =IF(MID($F42,3,2)=$K$3,1,0) -> 0 | L42: =IF(MID($F42,3,2)=$L$3,1,0) -> 0 | M42: =IF(MID($F42,5,2)=$M$3,1,0) -> 0 | N42: =IF(MID($F42,5,2)=$N$3,1,0) -> 0 | O42: =IF(MID($F42,7,2)=$O$3,1,0) -> 0 | P42: =IF(MID($F42,7,2)=$P$3,1,0) -> 0 | Q42: =IF(MID($F42,7,2)=$Q$3,1,0) -> 0 | R42: =IF(MID($F42,9,2)=$R$3,1,0) -> 0 | S42: =IF(MID($F42,9,2)=$S$3,1,0) -> 0 | T42: =IF(MID($F42,1,5)=$T$3,1,0) -> 0 | U42: =IF(MID($F42,1,6)=$U$3,1,0) -> 0 | V42: =IF(MID($F42,1,4)=$V$3,1,0) -> 0 | W42: =IF(MID($F42,1,4)=$W$3,1,0) -> 0 | X42: =IF(MID($F42,1,4)=$X$3,1,0) -> 0 | Y42: =IF(MID($F42,1,4)=$Y$3,1,0) -> 0 | Z42: =IF(MID($G42,1,20)=$Z$3,1,0) -> 0 | AA42: =IF(MID($G42,1,20)=$AA$3,1,0) -> 0 | AB42: =IF(MID($G42,1,20)=$AB$3,1,0) -> 0 | AC42: =IF(MID($G42,1,20)=$AC$3,1,0) -> 0 | AD42: =IF(MID($G42,1,20)=$AD$3,1,0) -> 0 | AE42: =IF(MID($G42,1,20)=$AA$3,1,0) -> 0 | AF42: =IF(MID($G42,1,20)=$AF$3,1,0) -> 0 | AG42: =IF(MID($G42,1,20)=$AG$3,1,0) -> 0 | AH42: =IF(MID($G42,1,20)=$AH$3,1,0) -> 0 | AI42: =IF(MID($G42,1,20)=$AI$3,1,0) -> 0 | AJ42: =IF(MID($G42,1,20)=$AJ$3,1,0) -> 0 | AK42: =IF(MID($G42,1,20)=$AK$3,1,0) -> 0 | AL42: =IF(MID($F42,4,2)=(AL$3),1,0) -> 0 | AM42: =IF(MID($F42,4,2)=(AM$3),1,0) -> 0 | AN42: =IF(MID($F42,4,2)=(AN$3),1,0) -> 0 | AO42: =IF(MID($F42,6,2)=(AO$3),1,0) -> 0 | AP42: =IF(MID($F42,6,2)=(AP$3),1,0) -> 0 | AQ42: =IF(MID($F42,8,2)=(AQ$3),1,0) -> 0 | AR42: =IF(MID($F42,8,2)=(AR$3),1,0) -> 0 | AS42: =IF(MID($F42,10,2)=(AS$3),1,0) -> 0 | AT42: =IF(MID($F42,10,2)=(AT$3),1,0) -> 0 | AU42: =IF(MID($F42,10,2)=(AU$3),1,0) -> 0 | AV42: =IF(MID($F42,12,2)=(AV$3),1,0) -> 0 | AW42: =IF(MID($F42,12,2)=(AW$3),1,0) -> 0 | AX42: =IF(MID($F42,1,20)=$AX$3,1,0) -> 0 | AY42: =IF(MID($F42,1,20)=$AY$3,1,0) -> 0 | AZ42: =IF(MID($F42,1,20)=$AZ$3,1,0) -> 0 | BA42: =IF(MID($F42,1,20)=$BA$3,1,0) -> 0 | BB42: =IF(MID($F42,4,4)=$X$3,1,0) -> 0 | BC42: =IF(MID($F42,1,20)=$BC$3,1,0) -> 0
A43: ='[1]Fiche d''informations'!B62 -> 38 | B43: ='[1]Fiche d''informations'!C62 -> 1 | C43: ='[1]Fiche d''informations'!D62 -> 6 | D43: ='[1]Fiche d''informations'!E62 -> Mr | H43: =IF(MID($F43,1,2)=$H$3,1,0) -> 0 | I43: =IF(MID($F43,1,2)=$I$3,1,0) -> 0 | J43: =IF(MID($F43,1,2)=$J$3,1,0) -> 0 | K43: =IF(MID($F43,3,2)=$K$3,1,0) -> 0 | L43: =IF(MID($F43,3,2)=$L$3,1,0) -> 0 | M43: =IF(MID($F43,5,2)=$M$3,1,0) -> 0 | N43: =IF(MID($F43,5,2)=$N$3,1,0) -> 0 | O43: =IF(MID($F43,7,2)=$O$3,1,0) -> 0 | P43: =IF(MID($F43,7,2)=$P$3,1,0) -> 0 | Q43: =IF(MID($F43,7,2)=$Q$3,1,0) -> 0 | R43: =IF(MID($F43,9,2)=$R$3,1,0) -> 0 | S43: =IF(MID($F43,9,2)=$S$3,1,0) -> 0 | T43: =IF(MID($F43,1,5)=$T$3,1,0) -> 0 | U43: =IF(MID($F43,1,6)=$U$3,1,0) -> 0 | V43: =IF(MID($F43,1,4)=$V$3,1,0) -> 0 | W43: =IF(MID($F43,1,4)=$W$3,1,0) -> 0 | X43: =IF(MID($F43,1,4)=$X$3,1,0) -> 0 | Y43: =IF(MID($F43,1,4)=$Y$3,1,0) -> 0 | Z43: =IF(MID($G43,1,20)=$Z$3,1,0) -> 0 | AA43: =IF(MID($G43,1,20)=$AA$3,1,0) -> 0 | AB43: =IF(MID($G43,1,20)=$AB$3,1,0) -> 0 | AC43: =IF(MID($G43,1,20)=$AC$3,1,0) -> 0 | AD43: =IF(MID($G43,1,20)=$AD$3,1,0) -> 0 | AE43: =IF(MID($G43,1,20)=$AA$3,1,0) -> 0 | AF43: =IF(MID($G43,1,20)=$AF$3,1,0) -> 0 | AG43: =IF(MID($G43,1,20)=$AG$3,1,0) -> 0 | AH43: =IF(MID($G43,1,20)=$AH$3,1,0) -> 0 | AI43: =IF(MID($G43,1,20)=$AI$3,1,0) -> 0 | AJ43: =IF(MID($G43,1,20)=$AJ$3,1,0) -> 0 | AK43: =IF(MID($G43,1,20)=$AK$3,1,0) -> 0 | AL43: =IF(MID($F43,4,2)=(AL$3),1,0) -> 0 | AM43: =IF(MID($F43,4,2)=(AM$3),1,0) -> 0 | AN43: =IF(MID($F43,4,2)=(AN$3),1,0) -> 0 | AO43: =IF(MID($F43,6,2)=(AO$3),1,0) -> 0 | AP43: =IF(MID($F43,6,2)=(AP$3),1,0) -> 0 | AQ43: =IF(MID($F43,8,2)=(AQ$3),1,0) -> 0 | AR43: =IF(MID($F43,8,2)=(AR$3),1,0) -> 0 | AS43: =IF(MID($F43,10,2)=(AS$3),1,0) -> 0 | AT43: =IF(MID($F43,10,2)=(AT$3),1,0) -> 0 | AU43: =IF(MID($F43,10,2)=(AU$3),1,0) -> 0 | AV43: =IF(MID($F43,12,2)=(AV$3),1,0) -> 0 | AW43: =IF(MID($F43,12,2)=(AW$3),1,0) -> 0 | AX43: =IF(MID($F43,1,20)=$AX$3,1,0) -> 0 | AY43: =IF(MID($F43,1,20)=$AY$3,1,0) -> 0 | AZ43: =IF(MID($F43,1,20)=$AZ$3,1,0) -> 0 | BA43: =IF(MID($F43,1,20)=$BA$3,1,0) -> 0 | BB43: =IF(MID($F43,4,4)=$X$3,1,0) -> 0 | BC43: =IF(MID($F43,1,20)=$BC$3,1,0) -> 0
A44: ='[1]Fiche d''informations'!B63 -> 39 | B44: ='[1]Fiche d''informations'!C63 -> 0 | C44: ='[1]Fiche d''informations'!D63 -> 0 | D44: ='[1]Fiche d''informations'!E63 -> Mme | H44: =IF(MID($F44,1,2)=$H$3,1,0) -> 0 | I44: =IF(MID($F44,1,2)=$I$3,1,0) -> 0 | J44: =IF(MID($F44,1,2)=$J$3,1,0) -> 0 | K44: =IF(MID($F44,3,2)=$K$3,1,0) -> 0 | L44: =IF(MID($F44,3,2)=$L$3,1,0) -> 0 | M44: =IF(MID($F44,5,2)=$M$3,1,0) -> 0 | N44: =IF(MID($F44,5,2)=$N$3,1,0) -> 0 | O44: =IF(MID($F44,7,2)=$O$3,1,0) -> 0 | P44: =IF(MID($F44,7,2)=$P$3,1,0) -> 0 | Q44: =IF(MID($F44,7,2)=$Q$3,1,0) -> 0 | R44: =IF(MID($F44,9,2)=$R$3,1,0) -> 0 | S44: =IF(MID($F44,9,2)=$S$3,1,0) -> 0 | T44: =IF(MID($F44,1,5)=$T$3,1,0) -> 0 | U44: =IF(MID($F44,1,6)=$U$3,1,0) -> 0 | V44: =IF(MID($F44,1,4)=$V$3,1,0) -> 0 | W44: =IF(MID($F44,1,4)=$W$3,1,0) -> 0 | X44: =IF(MID($F44,1,4)=$X$3,1,0) -> 0 | Y44: =IF(MID($F44,1,4)=$Y$3,1,0) -> 0 | Z44: =IF(MID($G44,1,20)=$Z$3,1,0) -> 0 | AA44: =IF(MID($G44,1,20)=$AA$3,1,0) -> 0 | AB44: =IF(MID($G44,1,20)=$AB$3,1,0) -> 0 | AC44: =IF(MID($G44,1,20)=$AC$3,1,0) -> 0 | AD44: =IF(MID($G44,1,20)=$AD$3,1,0) -> 0 | AE44: =IF(MID($G44,1,20)=$AA$3,1,0) -> 0 | AF44: =IF(MID($G44,1,20)=$AF$3,1,0) -> 0 | AG44: =IF(MID($G44,1,20)=$AG$3,1,0) -> 0 | AH44: =IF(MID($G44,1,20)=$AH$3,1,0) -> 0 | AI44: =IF(MID($G44,1,20)=$AI$3,1,0) -> 0 | AJ44: =IF(MID($G44,1,20)=$AJ$3,1,0) -> 0 | AK44: =IF(MID($G44,1,20)=$AK$3,1,0) -> 0 | AL44: =IF(MID($F44,4,2)=(AL$3),1,0) -> 0 | AM44: =IF(MID($F44,4,2)=(AM$3),1,0) -> 0 | AN44: =IF(MID($F44,4,2)=(AN$3),1,0) -> 0 | AO44: =IF(MID($F44,6,2)=(AO$3),1,0) -> 0 | AP44: =IF(MID($F44,6,2)=(AP$3),1,0) -> 0 | AQ44: =IF(MID($F44,8,2)=(AQ$3),1,0) -> 0 | AR44: =IF(MID($F44,8,2)=(AR$3),1,0) -> 0 | AS44: =IF(MID($F44,10,2)=(AS$3),1,0) -> 0 | AT44: =IF(MID($F44,10,2)=(AT$3),1,0) -> 0 | AU44: =IF(MID($F44,10,2)=(AU$3),1,0) -> 0 | AV44: =IF(MID($F44,12,2)=(AV$3),1,0) -> 0 | AW44: =IF(MID($F44,12,2)=(AW$3),1,0) -> 0 | AX44: =IF(MID($F44,1,20)=$AX$3,1,0) -> 0 | AY44: =IF(MID($F44,1,20)=$AY$3,1,0) -> 0 | AZ44: =IF(MID($F44,1,20)=$AZ$3,1,0) -> 0 | BA44: =IF(MID($F44,1,20)=$BA$3,1,0) -> 0 | BB44: =IF(MID($F44,4,4)=$X$3,1,0) -> 0 | BC44: =IF(MID($F44,1,20)=$BC$3,1,0) -> 0
A45: ='[1]Fiche d''informations'!B64 -> 40 | B45: ='[1]Fiche d''informations'!C64 -> 0 | C45: ='[1]Fiche d''informations'!D64 -> 0 | D45: ='[1]Fiche d''informations'!E64 -> Mr | H45: =IF(MID($F45,1,2)=$H$3,1,0) -> 0 | I45: =IF(MID($F45,1,2)=$I$3,1,0) -> 0 | J45: =IF(MID($F45,1,2)=$J$3,1,0) -> 0 | K45: =IF(MID($F45,3,2)=$K$3,1,0) -> 0 | L45: =IF(MID($F45,3,2)=$L$3,1,0) -> 0 | M45: =IF(MID($F45,5,2)=$M$3,1,0) -> 0 | N45: =IF(MID($F45,5,2)=$N$3,1,0) -> 0 | O45: =IF(MID($F45,7,2)=$O$3,1,0) -> 0 | P45: =IF(MID($F45,7,2)=$P$3,1,0) -> 0 | Q45: =IF(MID($F45,7,2)=$Q$3,1,0) -> 0 | R45: =IF(MID($F45,9,2)=$R$3,1,0) -> 0 | S45: =IF(MID($F45,9,2)=$S$3,1,0) -> 0 | T45: =IF(MID($F45,1,5)=$T$3,1,0) -> 0 | U45: =IF(MID($F45,1,6)=$U$3,1,0) -> 0 | V45: =IF(MID($F45,1,4)=$V$3,1,0) -> 0 | W45: =IF(MID($F45,1,4)=$W$3,1,0) -> 0 | X45: =IF(MID($F45,1,4)=$X$3,1,0) -> 0 | Y45: =IF(MID($F45,1,4)=$Y$3,1,0) -> 0 | Z45: =IF(MID($G45,1,20)=$Z$3,1,0) -> 0 | AA45: =IF(MID($G45,1,20)=$AA$3,1,0) -> 0 | AB45: =IF(MID($G45,1,20)=$AB$3,1,0) -> 0 | AC45: =IF(MID($G45,1,20)=$AC$3,1,0) -> 0 | AD45: =IF(MID($G45,1,20)=$AD$3,1,0) -> 0 | AE45: =IF(MID($G45,1,20)=$AA$3,1,0) -> 0 | AF45: =IF(MID($G45,1,20)=$AF$3,1,0) -> 0 | AG45: =IF(MID($G45,1,20)=$AG$3,1,0) -> 0 | AH45: =IF(MID($G45,1,20)=$AH$3,1,0) -> 0 | AI45: =IF(MID($G45,1,20)=$AI$3,1,0) -> 0 | AJ45: =IF(MID($G45,1,20)=$AJ$3,1,0) -> 0 | AK45: =IF(MID($G45,1,20)=$AK$3,1,0) -> 0 | AL45: =IF(MID($F45,4,2)=(AL$3),1,0) -> 0 | AM45: =IF(MID($F45,4,2)=(AM$3),1,0) -> 0 | AN45: =IF(MID($F45,4,2)=(AN$3),1,0) -> 0 | AO45: =IF(MID($F45,6,2)=(AO$3),1,0) -> 0 | AP45: =IF(MID($F45,6,2)=(AP$3),1,0) -> 0 | AQ45: =IF(MID($F45,8,2)=(AQ$3),1,0) -> 0 | AR45: =IF(MID($F45,8,2)=(AR$3),1,0) -> 0 | AS45: =IF(MID($F45,10,2)=(AS$3),1,0) -> 0 | AT45: =IF(MID($F45,10,2)=(AT$3),1,0) -> 0 | AU45: =IF(MID($F45,10,2)=(AU$3),1,0) -> 0 | AV45: =IF(MID($F45,12,2)=(AV$3),1,0) -> 0 | AW45: =IF(MID($F45,12,2)=(AW$3),1,0) -> 0 | AX45: =IF(MID($F45,1,20)=$AX$3,1,0) -> 0 | AY45: =IF(MID($F45,1,20)=$AY$3,1,0) -> 0 | AZ45: =IF(MID($F45,1,20)=$AZ$3,1,0) -> 0 | BA45: =IF(MID($F45,1,20)=$BA$3,1,0) -> 0 | BB45: =IF(MID($F45,4,4)=$X$3,1,0) -> 0 | BC45: =IF(MID($F45,1,20)=$BC$3,1,0) -> 0
A46: ='[1]Fiche d''informations'!B65 -> 41 | B46: ='[1]Fiche d''informations'!C65 -> 0 | C46: ='[1]Fiche d''informations'!D65 -> 0 | D46: ='[1]Fiche d''informations'!E65 -> Mme | H46: =IF(MID($F46,1,2)=$H$3,1,0) -> 0 | I46: =IF(MID($F46,1,2)=$I$3,1,0) -> 0 | J46: =IF(MID($F46,1,2)=$J$3,1,0) -> 0 | K46: =IF(MID($F46,3,2)=$K$3,1,0) -> 0 | L46: =IF(MID($F46,3,2)=$L$3,1,0) -> 0 | M46: =IF(MID($F46,5,2)=$M$3,1,0) -> 0 | N46: =IF(MID($F46,5,2)=$N$3,1,0) -> 0 | O46: =IF(MID($F46,7,2)=$O$3,1,0) -> 0 | P46: =IF(MID($F46,7,2)=$P$3,1,0) -> 0 | Q46: =IF(MID($F46,7,2)=$Q$3,1,0) -> 0 | R46: =IF(MID($F46,9,2)=$R$3,1,0) -> 0 | S46: =IF(MID($F46,9,2)=$S$3,1,0) -> 0 | T46: =IF(MID($F46,1,5)=$T$3,1,0) -> 0 | U46: =IF(MID($F46,1,6)=$U$3,1,0) -> 0 | V46: =IF(MID($F46,1,4)=$V$3,1,0) -> 0 | W46: =IF(MID($F46,1,4)=$W$3,1,0) -> 0 | X46: =IF(MID($F46,1,4)=$X$3,1,0) -> 0 | Y46: =IF(MID($F46,1,4)=$Y$3,1,0) -> 0 | Z46: =IF(MID($G46,1,20)=$Z$3,1,0) -> 0 | AA46: =IF(MID($G46,1,20)=$AA$3,1,0) -> 0 | AB46: =IF(MID($G46,1,20)=$AB$3,1,0) -> 0 | AC46: =IF(MID($G46,1,20)=$AC$3,1,0) -> 0 | AD46: =IF(MID($G46,1,20)=$AD$3,1,0) -> 0 | AE46: =IF(MID($G46,1,20)=$AA$3,1,0) -> 0 | AF46: =IF(MID($G46,1,20)=$AF$3,1,0) -> 0 | AG46: =IF(MID($G46,1,20)=$AG$3,1,0) -> 0 | AH46: =IF(MID($G46,1,20)=$AH$3,1,0) -> 0 | AI46: =IF(MID($G46,1,20)=$AI$3,1,0) -> 0 | AJ46: =IF(MID($G46,1,20)=$AJ$3,1,0) -> 0 | AK46: =IF(MID($G46,1,20)=$AK$3,1,0) -> 0 | AL46: =IF(MID($F46,4,2)=(AL$3),1,0) -> 0 | AM46: =IF(MID($F46,4,2)=(AM$3),1,0) -> 0 | AN46: =IF(MID($F46,4,2)=(AN$3),1,0) -> 0 | AO46: =IF(MID($F46,6,2)=(AO$3),1,0) -> 0 | AP46: =IF(MID($F46,6,2)=(AP$3),1,0) -> 0 | AQ46: =IF(MID($F46,8,2)=(AQ$3),1,0) -> 0 | AR46: =IF(MID($F46,8,2)=(AR$3),1,0) -> 0 | AS46: =IF(MID($F46,10,2)=(AS$3),1,0) -> 0 | AT46: =IF(MID($F46,10,2)=(AT$3),1,0) -> 0 | AU46: =IF(MID($F46,10,2)=(AU$3),1,0) -> 0 | AV46: =IF(MID($F46,12,2)=(AV$3),1,0) -> 0 | AW46: =IF(MID($F46,12,2)=(AW$3),1,0) -> 0 | AX46: =IF(MID($F46,1,20)=$AX$3,1,0) -> 0 | AY46: =IF(MID($F46,1,20)=$AY$3,1,0) -> 0 | AZ46: =IF(MID($F46,1,20)=$AZ$3,1,0) -> 0 | BA46: =IF(MID($F46,1,20)=$BA$3,1,0) -> 0 | BB46: =IF(MID($F46,4,4)=$X$3,1,0) -> 0 | BC46: =IF(MID($F46,1,20)=$BC$3,1,0) -> 0
A47: ='[1]Fiche d''informations'!B66 -> 42 | B47: ='[1]Fiche d''informations'!C66 -> 0 | C47: ='[1]Fiche d''informations'!D66 -> 0 | D47: ='[1]Fiche d''informations'!E66 -> Mme | H47: =IF(MID($F47,1,2)=$H$3,1,0) -> 0 | I47: =IF(MID($F47,1,2)=$I$3,1,0) -> 0 | J47: =IF(MID($F47,1,2)=$J$3,1,0) -> 0 | K47: =IF(MID($F47,3,2)=$K$3,1,0) -> 0 | L47: =IF(MID($F47,3,2)=$L$3,1,0) -> 0 | M47: =IF(MID($F47,5,2)=$M$3,1,0) -> 0 | N47: =IF(MID($F47,5,2)=$N$3,1,0) -> 0 | O47: =IF(MID($F47,7,2)=$O$3,1,0) -> 0 | P47: =IF(MID($F47,7,2)=$P$3,1,0) -> 0 | Q47: =IF(MID($F47,7,2)=$Q$3,1,0) -> 0 | R47: =IF(MID($F47,9,2)=$R$3,1,0) -> 0 | S47: =IF(MID($F47,9,2)=$S$3,1,0) -> 0 | T47: =IF(MID($F47,1,5)=$T$3,1,0) -> 0 | U47: =IF(MID($F47,1,6)=$U$3,1,0) -> 0 | V47: =IF(MID($F47,1,4)=$V$3,1,0) -> 0 | W47: =IF(MID($F47,1,4)=$W$3,1,0) -> 0 | X47: =IF(MID($F47,1,4)=$X$3,1,0) -> 0 | Y47: =IF(MID($F47,1,4)=$Y$3,1,0) -> 0 | Z47: =IF(MID($G47,1,20)=$Z$3,1,0) -> 0 | AA47: =IF(MID($G47,1,20)=$AA$3,1,0) -> 0 | AB47: =IF(MID($G47,1,20)=$AB$3,1,0) -> 0 | AC47: =IF(MID($G47,1,20)=$AC$3,1,0) -> 0 | AD47: =IF(MID($G47,1,20)=$AD$3,1,0) -> 0 | AE47: =IF(MID($G47,1,20)=$AA$3,1,0) -> 0 | AF47: =IF(MID($G47,1,20)=$AF$3,1,0) -> 0 | AG47: =IF(MID($G47,1,20)=$AG$3,1,0) -> 0 | AH47: =IF(MID($G47,1,20)=$AH$3,1,0) -> 0 | AI47: =IF(MID($G47,1,20)=$AI$3,1,0) -> 0 | AJ47: =IF(MID($G47,1,20)=$AJ$3,1,0) -> 0 | AK47: =IF(MID($G47,1,20)=$AK$3,1,0) -> 0 | AL47: =IF(MID($F47,4,2)=(AL$3),1,0) -> 0 | AM47: =IF(MID($F47,4,2)=(AM$3),1,0) -> 0 | AN47: =IF(MID($F47,4,2)=(AN$3),1,0) -> 0 | AO47: =IF(MID($F47,6,2)=(AO$3),1,0) -> 0 | AP47: =IF(MID($F47,6,2)=(AP$3),1,0) -> 0 | AQ47: =IF(MID($F47,8,2)=(AQ$3),1,0) -> 0 | AR47: =IF(MID($F47,8,2)=(AR$3),1,0) -> 0 | AS47: =IF(MID($F47,10,2)=(AS$3),1,0) -> 0 | AT47: =IF(MID($F47,10,2)=(AT$3),1,0) -> 0 | AU47: =IF(MID($F47,10,2)=(AU$3),1,0) -> 0 | AV47: =IF(MID($F47,12,2)=(AV$3),1,0) -> 0 | AW47: =IF(MID($F47,12,2)=(AW$3),1,0) -> 0 | AX47: =IF(MID($F47,1,20)=$AX$3,1,0) -> 0 | AY47: =IF(MID($F47,1,20)=$AY$3,1,0) -> 0 | AZ47: =IF(MID($F47,1,20)=$AZ$3,1,0) -> 0 | BA47: =IF(MID($F47,1,20)=$BA$3,1,0) -> 0 | BB47: =IF(MID($F47,4,4)=$X$3,1,0) -> 0 | BC47: =IF(MID($F47,1,20)=$BC$3,1,0) -> 0
A48: ='[1]Fiche d''informations'!B67 -> 43 | B48: ='[1]Fiche d''informations'!C67 -> 0 | C48: ='[1]Fiche d''informations'!D67 -> 0 | D48: ='[1]Fiche d''informations'!E67 -> Mme | H48: =IF(MID($F48,1,2)=$H$3,1,0) -> 0 | I48: =IF(MID($F48,1,2)=$I$3,1,0) -> 0 | J48: =IF(MID($F48,1,2)=$J$3,1,0) -> 0 | K48: =IF(MID($F48,3,2)=$K$3,1,0) -> 0 | L48: =IF(MID($F48,3,2)=$L$3,1,0) -> 0 | M48: =IF(MID($F48,5,2)=$M$3,1,0) -> 0 | N48: =IF(MID($F48,5,2)=$N$3,1,0) -> 0 | O48: =IF(MID($F48,7,2)=$O$3,1,0) -> 0 | P48: =IF(MID($F48,7,2)=$P$3,1,0) -> 0 | Q48: =IF(MID($F48,7,2)=$Q$3,1,0) -> 0 | R48: =IF(MID($F48,9,2)=$R$3,1,0) -> 0 | S48: =IF(MID($F48,9,2)=$S$3,1,0) -> 0 | T48: =IF(MID($F48,1,5)=$T$3,1,0) -> 0 | U48: =IF(MID($F48,1,6)=$U$3,1,0) -> 0 | V48: =IF(MID($F48,1,4)=$V$3,1,0) -> 0 | W48: =IF(MID($F48,1,4)=$W$3,1,0) -> 0 | X48: =IF(MID($F48,1,4)=$X$3,1,0) -> 0 | Y48: =IF(MID($F48,1,4)=$Y$3,1,0) -> 0 | Z48: =IF(MID($G48,1,20)=$Z$3,1,0) -> 0 | AA48: =IF(MID($G48,1,20)=$AA$3,1,0) -> 0 | AB48: =IF(MID($G48,1,20)=$AB$3,1,0) -> 0 | AC48: =IF(MID($G48,1,20)=$AC$3,1,0) -> 0 | AD48: =IF(MID($G48,1,20)=$AD$3,1,0) -> 0 | AE48: =IF(MID($G48,1,20)=$AA$3,1,0) -> 0 | AF48: =IF(MID($G48,1,20)=$AF$3,1,0) -> 0 | AG48: =IF(MID($G48,1,20)=$AG$3,1,0) -> 0 | AH48: =IF(MID($G48,1,20)=$AH$3,1,0) -> 0 | AI48: =IF(MID($G48,1,20)=$AI$3,1,0) -> 0 | AJ48: =IF(MID($G48,1,20)=$AJ$3,1,0) -> 0 | AK48: =IF(MID($G48,1,20)=$AK$3,1,0) -> 0 | AL48: =IF(MID($F48,4,2)=(AL$3),1,0) -> 0 | AM48: =IF(MID($F48,4,2)=(AM$3),1,0) -> 0 | AN48: =IF(MID($F48,4,2)=(AN$3),1,0) -> 0 | AO48: =IF(MID($F48,6,2)=(AO$3),1,0) -> 0 | AP48: =IF(MID($F48,6,2)=(AP$3),1,0) -> 0 | AQ48: =IF(MID($F48,8,2)=(AQ$3),1,0) -> 0 | AR48: =IF(MID($F48,8,2)=(AR$3),1,0) -> 0 | AS48: =IF(MID($F48,10,2)=(AS$3),1,0) -> 0 | AT48: =IF(MID($F48,10,2)=(AT$3),1,0) -> 0 | AU48: =IF(MID($F48,10,2)=(AU$3),1,0) -> 0 | AV48: =IF(MID($F48,12,2)=(AV$3),1,0) -> 0 | AW48: =IF(MID($F48,12,2)=(AW$3),1,0) -> 0 | AX48: =IF(MID($F48,1,20)=$AX$3,1,0) -> 0 | AY48: =IF(MID($F48,1,20)=$AY$3,1,0) -> 0 | AZ48: =IF(MID($F48,1,20)=$AZ$3,1,0) -> 0 | BA48: =IF(MID($F48,1,20)=$BA$3,1,0) -> 0 | BB48: =IF(MID($F48,4,4)=$X$3,1,0) -> 0 | BC48: =IF(MID($F48,1,20)=$BC$3,1,0) -> 0
A49: ='[1]Fiche d''informations'!B68 -> 44 | B49: ='[1]Fiche d''informations'!C68 -> 0 | C49: ='[1]Fiche d''informations'!D68 -> 0 | D49: ='[1]Fiche d''informations'!E68 -> Mme | H49: =IF(MID($F49,1,2)=$H$3,1,0) -> 0 | I49: =IF(MID($F49,1,2)=$I$3,1,0) -> 0 | J49: =IF(MID($F49,1,2)=$J$3,1,0) -> 0 | K49: =IF(MID($F49,3,2)=$K$3,1,0) -> 0 | L49: =IF(MID($F49,3,2)=$L$3,1,0) -> 0 | M49: =IF(MID($F49,5,2)=$M$3,1,0) -> 0 | N49: =IF(MID($F49,5,2)=$N$3,1,0) -> 0 | O49: =IF(MID($F49,7,2)=$O$3,1,0) -> 0 | P49: =IF(MID($F49,7,2)=$P$3,1,0) -> 0 | Q49: =IF(MID($F49,7,2)=$Q$3,1,0) -> 0 | R49: =IF(MID($F49,9,2)=$R$3,1,0) -> 0 | S49: =IF(MID($F49,9,2)=$S$3,1,0) -> 0 | T49: =IF(MID($F49,1,5)=$T$3,1,0) -> 0 | U49: =IF(MID($F49,1,6)=$U$3,1,0) -> 0 | V49: =IF(MID($F49,1,4)=$V$3,1,0) -> 0 | W49: =IF(MID($F49,1,4)=$W$3,1,0) -> 0 | X49: =IF(MID($F49,1,4)=$X$3,1,0) -> 0 | Y49: =IF(MID($F49,1,4)=$Y$3,1,0) -> 0 | Z49: =IF(MID($G49,1,20)=$Z$3,1,0) -> 0 | AA49: =IF(MID($G49,1,20)=$AA$3,1,0) -> 0 | AB49: =IF(MID($G49,1,20)=$AB$3,1,0) -> 0 | AC49: =IF(MID($G49,1,20)=$AC$3,1,0) -> 0 | AD49: =IF(MID($G49,1,20)=$AD$3,1,0) -> 0 | AE49: =IF(MID($G49,1,20)=$AA$3,1,0) -> 0 | AF49: =IF(MID($G49,1,20)=$AF$3,1,0) -> 0 | AG49: =IF(MID($G49,1,20)=$AG$3,1,0) -> 0 | AH49: =IF(MID($G49,1,20)=$AH$3,1,0) -> 0 | AI49: =IF(MID($G49,1,20)=$AI$3,1,0) -> 0 | AJ49: =IF(MID($G49,1,20)=$AJ$3,1,0) -> 0 | AK49: =IF(MID($G49,1,20)=$AK$3,1,0) -> 0 | AL49: =IF(MID($F49,4,2)=(AL$3),1,0) -> 0 | AM49: =IF(MID($F49,4,2)=(AM$3),1,0) -> 0 | AN49: =IF(MID($F49,4,2)=(AN$3),1,0) -> 0 | AO49: =IF(MID($F49,6,2)=(AO$3),1,0) -> 0 | AP49: =IF(MID($F49,6,2)=(AP$3),1,0) -> 0 | AQ49: =IF(MID($F49,8,2)=(AQ$3),1,0) -> 0 | AR49: =IF(MID($F49,8,2)=(AR$3),1,0) -> 0 | AS49: =IF(MID($F49,10,2)=(AS$3),1,0) -> 0 | AT49: =IF(MID($F49,10,2)=(AT$3),1,0) -> 0 | AU49: =IF(MID($F49,10,2)=(AU$3),1,0) -> 0 | AV49: =IF(MID($F49,12,2)=(AV$3),1,0) -> 0 | AW49: =IF(MID($F49,12,2)=(AW$3),1,0) -> 0 | AX49: =IF(MID($F49,1,20)=$AX$3,1,0) -> 0 | AY49: =IF(MID($F49,1,20)=$AY$3,1,0) -> 0 | AZ49: =IF(MID($F49,1,20)=$AZ$3,1,0) -> 0 | BA49: =IF(MID($F49,1,20)=$BA$3,1,0) -> 0 | BB49: =IF(MID($F49,4,4)=$X$3,1,0) -> 0 | BC49: =IF(MID($F49,1,20)=$BC$3,1,0) -> 0
A50: ='[1]Fiche d''informations'!B69 -> 45 | B50: ='[1]Fiche d''informations'!C69 -> 1 | C50: ='[1]Fiche d''informations'!D69 -> 3 | D50: ='[1]Fiche d''informations'!E69 -> Mme | H50: =IF(MID($F50,1,2)=$H$3,1,0) -> 0 | I50: =IF(MID($F50,1,2)=$I$3,1,0) -> 0 | J50: =IF(MID($F50,1,2)=$J$3,1,0) -> 0 | K50: =IF(MID($F50,3,2)=$K$3,1,0) -> 0 | L50: =IF(MID($F50,3,2)=$L$3,1,0) -> 0 | M50: =IF(MID($F50,5,2)=$M$3,1,0) -> 0 | N50: =IF(MID($F50,5,2)=$N$3,1,0) -> 0 | O50: =IF(MID($F50,7,2)=$O$3,1,0) -> 0 | P50: =IF(MID($F50,7,2)=$P$3,1,0) -> 0 | Q50: =IF(MID($F50,7,2)=$Q$3,1,0) -> 0 | R50: =IF(MID($F50,9,2)=$R$3,1,0) -> 0 | S50: =IF(MID($F50,9,2)=$S$3,1,0) -> 0 | T50: =IF(MID($F50,1,5)=$T$3,1,0) -> 0 | U50: =IF(MID($F50,1,6)=$U$3,1,0) -> 0 | V50: =IF(MID($F50,1,4)=$V$3,1,0) -> 0 | W50: =IF(MID($F50,1,4)=$W$3,1,0) -> 0 | X50: =IF(MID($F50,1,4)=$X$3,1,0) -> 0 | Y50: =IF(MID($F50,1,4)=$Y$3,1,0) -> 0 | Z50: =IF(MID($G50,1,20)=$Z$3,1,0) -> 0 | AA50: =IF(MID($G50,1,20)=$AA$3,1,0) -> 0 | AB50: =IF(MID($G50,1,20)=$AB$3,1,0) -> 0 | AC50: =IF(MID($G50,1,20)=$AC$3,1,0) -> 0 | AD50: =IF(MID($G50,1,20)=$AD$3,1,0) -> 0 | AE50: =IF(MID($G50,1,20)=$AA$3,1,0) -> 0 | AF50: =IF(MID($G50,1,20)=$AF$3,1,0) -> 0 | AG50: =IF(MID($G50,1,20)=$AG$3,1,0) -> 0 | AH50: =IF(MID($G50,1,20)=$AH$3,1,0) -> 0 | AI50: =IF(MID($G50,1,20)=$AI$3,1,0) -> 0 | AJ50: =IF(MID($G50,1,20)=$AJ$3,1,0) -> 0 | AK50: =IF(MID($G50,1,20)=$AK$3,1,0) -> 0 | AL50: =IF(MID($F50,4,2)=(AL$3),1,0) -> 0 | AM50: =IF(MID($F50,4,2)=(AM$3),1,0) -> 0 | AN50: =IF(MID($F50,4,2)=(AN$3),1,0) -> 0 | AO50: =IF(MID($F50,6,2)=(AO$3),1,0) -> 0 | AP50: =IF(MID($F50,6,2)=(AP$3),1,0) -> 0 | AQ50: =IF(MID($F50,8,2)=(AQ$3),1,0) -> 0 | AR50: =IF(MID($F50,8,2)=(AR$3),1,0) -> 0 | AS50: =IF(MID($F50,10,2)=(AS$3),1,0) -> 0 | AT50: =IF(MID($F50,10,2)=(AT$3),1,0) -> 0 | AU50: =IF(MID($F50,10,2)=(AU$3),1,0) -> 0 | AV50: =IF(MID($F50,12,2)=(AV$3),1,0) -> 0 | AW50: =IF(MID($F50,12,2)=(AW$3),1,0) -> 0 | AX50: =IF(MID($F50,1,20)=$AX$3,1,0) -> 0 | AY50: =IF(MID($F50,1,20)=$AY$3,1,0) -> 0 | AZ50: =IF(MID($F50,1,20)=$AZ$3,1,0) -> 0 | BA50: =IF(MID($F50,1,20)=$BA$3,1,0) -> 0 | BB50: =IF(MID($F50,4,4)=$X$3,1,0) -> 0 | BC50: =IF(MID($F50,1,20)=$BC$3,1,0) -> 0
A51: ='[1]Fiche d''informations'!B70 -> 47 | B51: ='[1]Fiche d''informations'!C70 -> 1 | C51: ='[1]Fiche d''informations'!D70 -> 11 | D51: ='[1]Fiche d''informations'!E70 -> Mme | H51: =IF(MID($F51,1,2)=$H$3,1,0) -> 0 | I51: =IF(MID($F51,1,2)=$I$3,1,0) -> 0 | J51: =IF(MID($F51,1,2)=$J$3,1,0) -> 0 | K51: =IF(MID($F51,3,2)=$K$3,1,0) -> 0 | L51: =IF(MID($F51,3,2)=$L$3,1,0) -> 0 | M51: =IF(MID($F51,5,2)=$M$3,1,0) -> 0 | N51: =IF(MID($F51,5,2)=$N$3,1,0) -> 0 | O51: =IF(MID($F51,7,2)=$O$3,1,0) -> 0 | P51: =IF(MID($F51,7,2)=$P$3,1,0) -> 0 | Q51: =IF(MID($F51,7,2)=$Q$3,1,0) -> 0 | R51: =IF(MID($F51,9,2)=$R$3,1,0) -> 0 | S51: =IF(MID($F51,9,2)=$S$3,1,0) -> 0 | T51: =IF(MID($F51,1,5)=$T$3,1,0) -> 0 | U51: =IF(MID($F51,1,6)=$U$3,1,0) -> 0 | V51: =IF(MID($F51,1,4)=$V$3,1,0) -> 0 | W51: =IF(MID($F51,1,4)=$W$3,1,0) -> 0 | X51: =IF(MID($F51,1,4)=$X$3,1,0) -> 0 | Y51: =IF(MID($F51,1,4)=$Y$3,1,0) -> 0 | Z51: =IF(MID($G51,1,20)=$Z$3,1,0) -> 0 | AA51: =IF(MID($G51,1,20)=$AA$3,1,0) -> 0 | AB51: =IF(MID($G51,1,20)=$AB$3,1,0) -> 0 | AC51: =IF(MID($G51,1,20)=$AC$3,1,0) -> 0 | AD51: =IF(MID($G51,1,20)=$AD$3,1,0) -> 0 | AE51: =IF(MID($G51,1,20)=$AA$3,1,0) -> 0 | AF51: =IF(MID($G51,1,20)=$AF$3,1,0) -> 0 | AG51: =IF(MID($G51,1,20)=$AG$3,1,0) -> 0 | AH51: =IF(MID($G51,1,20)=$AH$3,1,0) -> 0 | AI51: =IF(MID($G51,1,20)=$AI$3,1,0) -> 0 | AJ51: =IF(MID($G51,1,20)=$AJ$3,1,0) -> 0 | AK51: =IF(MID($G51,1,20)=$AK$3,1,0) -> 0 | AL51: =IF(MID($F51,4,2)=(AL$3),1,0) -> 0 | AM51: =IF(MID($F51,4,2)=(AM$3),1,0) -> 0 | AN51: =IF(MID($F51,4,2)=(AN$3),1,0) -> 0 | AO51: =IF(MID($F51,6,2)=(AO$3),1,0) -> 0 | AP51: =IF(MID($F51,6,2)=(AP$3),1,0) -> 0 | AQ51: =IF(MID($F51,8,2)=(AQ$3),1,0) -> 0 | AR51: =IF(MID($F51,8,2)=(AR$3),1,0) -> 0 | AS51: =IF(MID($F51,10,2)=(AS$3),1,0) -> 0 | AT51: =IF(MID($F51,10,2)=(AT$3),1,0) -> 0 | AU51: =IF(MID($F51,10,2)=(AU$3),1,0) -> 0 | AV51: =IF(MID($F51,12,2)=(AV$3),1,0) -> 0 | AW51: =IF(MID($F51,12,2)=(AW$3),1,0) -> 0 | AX51: =IF(MID($F51,1,20)=$AX$3,1,0) -> 0 | AY51: =IF(MID($F51,1,20)=$AY$3,1,0) -> 0 | AZ51: =IF(MID($F51,1,20)=$AZ$3,1,0) -> 0 | BA51: =IF(MID($F51,1,20)=$BA$3,1,0) -> 0 | BB51: =IF(MID($F51,4,4)=$X$3,1,0) -> 0 | BC51: =IF(MID($F51,1,20)=$BC$3,1,0) -> 0
A52: ='[1]Fiche d''informations'!B71 -> 48 | B52: ='[1]Fiche d''informations'!C71 -> 1 | C52: ='[1]Fiche d''informations'!D71 -> 6 | D52: ='[1]Fiche d''informations'!E71 -> Mme | H52: =IF(MID($F52,1,2)=$H$3,1,0) -> 0 | I52: =IF(MID($F52,1,2)=$I$3,1,0) -> 0 | J52: =IF(MID($F52,1,2)=$J$3,1,0) -> 0 | K52: =IF(MID($F52,3,2)=$K$3,1,0) -> 0 | L52: =IF(MID($F52,3,2)=$L$3,1,0) -> 0 | M52: =IF(MID($F52,5,2)=$M$3,1,0) -> 0 | N52: =IF(MID($F52,5,2)=$N$3,1,0) -> 0 | O52: =IF(MID($F52,7,2)=$O$3,1,0) -> 0 | P52: =IF(MID($F52,7,2)=$P$3,1,0) -> 0 | Q52: =IF(MID($F52,7,2)=$Q$3,1,0) -> 0 | R52: =IF(MID($F52,9,2)=$R$3,1,0) -> 0 | S52: =IF(MID($F52,9,2)=$S$3,1,0) -> 0 | T52: =IF(MID($F52,1,5)=$T$3,1,0) -> 0 | U52: =IF(MID($F52,1,6)=$U$3,1,0) -> 0 | V52: =IF(MID($F52,1,4)=$V$3,1,0) -> 0 | W52: =IF(MID($F52,1,4)=$W$3,1,0) -> 0 | X52: =IF(MID($F52,1,4)=$X$3,1,0) -> 0 | Y52: =IF(MID($F52,1,4)=$Y$3,1,0) -> 0 | Z52: =IF(MID($G52,1,20)=$Z$3,1,0) -> 0 | AA52: =IF(MID($G52,1,20)=$AA$3,1,0) -> 0 | AB52: =IF(MID($G52,1,20)=$AB$3,1,0) -> 0 | AC52: =IF(MID($G52,1,20)=$AC$3,1,0) -> 0 | AD52: =IF(MID($G52,1,20)=$AD$3,1,0) -> 0 | AE52: =IF(MID($G52,1,20)=$AA$3,1,0) -> 0 | AF52: =IF(MID($G52,1,20)=$AF$3,1,0) -> 0 | AG52: =IF(MID($G52,1,20)=$AG$3,1,0) -> 0 | AH52: =IF(MID($G52,1,20)=$AH$3,1,0) -> 0 | AI52: =IF(MID($G52,1,20)=$AI$3,1,0) -> 0 | AJ52: =IF(MID($G52,1,20)=$AJ$3,1,0) -> 0 | AK52: =IF(MID($G52,1,20)=$AK$3,1,0) -> 0 | AL52: =IF(MID($F52,4,2)=(AL$3),1,0) -> 0 | AM52: =IF(MID($F52,4,2)=(AM$3),1,0) -> 0 | AN52: =IF(MID($F52,4,2)=(AN$3),1,0) -> 0 | AO52: =IF(MID($F52,6,2)=(AO$3),1,0) -> 0 | AP52: =IF(MID($F52,6,2)=(AP$3),1,0) -> 0 | AQ52: =IF(MID($F52,8,2)=(AQ$3),1,0) -> 0 | AR52: =IF(MID($F52,8,2)=(AR$3),1,0) -> 0 | AS52: =IF(MID($F52,10,2)=(AS$3),1,0) -> 0 | AT52: =IF(MID($F52,10,2)=(AT$3),1,0) -> 0 | AU52: =IF(MID($F52,10,2)=(AU$3),1,0) -> 0 | AV52: =IF(MID($F52,12,2)=(AV$3),1,0) -> 0 | AW52: =IF(MID($F52,12,2)=(AW$3),1,0) -> 0 | AX52: =IF(MID($F52,1,20)=$AX$3,1,0) -> 0 | AY52: =IF(MID($F52,1,20)=$AY$3,1,0) -> 0 | AZ52: =IF(MID($F52,1,20)=$AZ$3,1,0) -> 0 | BA52: =IF(MID($F52,1,20)=$BA$3,1,0) -> 0 | BB52: =IF(MID($F52,4,4)=$X$3,1,0) -> 0 | BC52: =IF(MID($F52,1,20)=$BC$3,1,0) -> 0
A53: ='[1]Fiche d''informations'!B72 -> 49 | B53: ='[1]Fiche d''informations'!C72 -> 0 | C53: ='[1]Fiche d''informations'!D72 -> 0 | D53: ='[1]Fiche d''informations'!E72 -> Mme | H53: =IF(MID($F53,1,2)=$H$3,1,0) -> 0 | I53: =IF(MID($F53,1,2)=$I$3,1,0) -> 0 | J53: =IF(MID($F53,1,2)=$J$3,1,0) -> 0 | K53: =IF(MID($F53,3,2)=$K$3,1,0) -> 0 | L53: =IF(MID($F53,3,2)=$L$3,1,0) -> 0 | M53: =IF(MID($F53,5,2)=$M$3,1,0) -> 0 | N53: =IF(MID($F53,5,2)=$N$3,1,0) -> 0 | O53: =IF(MID($F53,7,2)=$O$3,1,0) -> 0 | P53: =IF(MID($F53,7,2)=$P$3,1,0) -> 0 | Q53: =IF(MID($F53,7,2)=$Q$3,1,0) -> 0 | R53: =IF(MID($F53,9,2)=$R$3,1,0) -> 0 | S53: =IF(MID($F53,9,2)=$S$3,1,0) -> 0 | T53: =IF(MID($F53,1,5)=$T$3,1,0) -> 0 | U53: =IF(MID($F53,1,6)=$U$3,1,0) -> 0 | V53: =IF(MID($F53,1,4)=$V$3,1,0) -> 0 | W53: =IF(MID($F53,1,4)=$W$3,1,0) -> 0 | X53: =IF(MID($F53,1,4)=$X$3,1,0) -> 0 | Y53: =IF(MID($F53,1,4)=$Y$3,1,0) -> 0 | Z53: =IF(MID($G53,1,20)=$Z$3,1,0) -> 0 | AA53: =IF(MID($G53,1,20)=$AA$3,1,0) -> 0 | AB53: =IF(MID($G53,1,20)=$AB$3,1,0) -> 0 | AC53: =IF(MID($G53,1,20)=$AC$3,1,0) -> 0 | AD53: =IF(MID($G53,1,20)=$AD$3,1,0) -> 0 | AE53: =IF(MID($G53,1,20)=$AA$3,1,0) -> 0 | AF53: =IF(MID($G53,1,20)=$AF$3,1,0) -> 0 | AG53: =IF(MID($G53,1,20)=$AG$3,1,0) -> 0 | AH53: =IF(MID($G53,1,20)=$AH$3,1,0) -> 0 | AI53: =IF(MID($G53,1,20)=$AI$3,1,0) -> 0 | AJ53: =IF(MID($G53,1,20)=$AJ$3,1,0) -> 0 | AK53: =IF(MID($G53,1,20)=$AK$3,1,0) -> 0 | AL53: =IF(MID($F53,4,2)=(AL$3),1,0) -> 0 | AM53: =IF(MID($F53,4,2)=(AM$3),1,0) -> 0 | AN53: =IF(MID($F53,4,2)=(AN$3),1,0) -> 0 | AO53: =IF(MID($F53,6,2)=(AO$3),1,0) -> 0 | AP53: =IF(MID($F53,6,2)=(AP$3),1,0) -> 0 | AQ53: =IF(MID($F53,8,2)=(AQ$3),1,0) -> 0 | AR53: =IF(MID($F53,8,2)=(AR$3),1,0) -> 0 | AS53: =IF(MID($F53,10,2)=(AS$3),1,0) -> 0 | AT53: =IF(MID($F53,10,2)=(AT$3),1,0) -> 0 | AU53: =IF(MID($F53,10,2)=(AU$3),1,0) -> 0 | AV53: =IF(MID($F53,12,2)=(AV$3),1,0) -> 0 | AW53: =IF(MID($F53,12,2)=(AW$3),1,0) -> 0 | AX53: =IF(MID($F53,1,20)=$AX$3,1,0) -> 0 | AY53: =IF(MID($F53,1,20)=$AY$3,1,0) -> 0 | AZ53: =IF(MID($F53,1,20)=$AZ$3,1,0) -> 0 | BA53: =IF(MID($F53,1,20)=$BA$3,1,0) -> 0 | BB53: =IF(MID($F53,4,4)=$X$3,1,0) -> 0 | BC53: =IF(MID($F53,1,20)=$BC$3,1,0) -> 0
... A75: ='[1]Fiche d''informations'!B94 -> 0 | B75: ='[1]Fiche d''informations'!C94 -> 0 | C75: ='[1]Fiche d''informations'!D94 -> 0 | D75: ='[1]Fiche d''informations'!E94 -> 0 | H75: =IF(MID($F75,1,2)=$H$3,1,0) -> 0 | I75: =IF(MID($F75,1,2)=$I$3,1,0) -> 0 | J75: =IF(MID($F75,1,2)=$J$3,1,0) -> 0 | K75: =IF(MID($F75,3,2)=$K$3,1,0) -> 0 | L75: =IF(MID($F75,3,2)=$L$3,1,0) -> 0 | M75: =IF(MID($F75,5,2)=$M$3,1,0) -> 0 | N75: =IF(MID($F75,5,2)=$N$3,1,0) -> 0 | O75: =IF(MID($F75,7,2)=$O$3,1,0) -> 0 | P75: =IF(MID($F75,7,2)=$P$3,1,0) -> 0 | Q75: =IF(MID($F75,7,2)=$Q$3,1,0) -> 0 | R75: =IF(MID($F75,9,2)=$R$3,1,0) -> 0 | S75: =IF(MID($F75,9,2)=$S$3,1,0) -> 0 | T75: =IF(MID($F75,1,5)=$T$3,1,0) -> 0 | U75: =IF(MID($F75,1,6)=$U$3,1,0) -> 0 | V75: =IF(MID($F75,1,4)=$V$3,1,0) -> 0 | W75: =IF(MID($F75,1,4)=$W$3,1,0) -> 0 | X75: =IF(MID($F75,1,4)=$X$3,1,0) -> 0 | Y75: =IF(MID($F75,1,4)=$Y$3,1,0) -> 0 | Z75: =IF(MID($G75,1,20)=$Z$3,1,0) -> 0 | AA75: =IF(MID($G75,1,20)=$AA$3,1,0) -> 0 | AB75: =IF(MID($G75,1,20)=$AB$3,1,0) -> 0 | AC75: =IF(MID($G75,1,20)=$AC$3,1,0) -> 0 | AD75: =IF(MID($G75,1,20)=$AD$3,1,0) -> 0 | AE75: =IF(MID($G75,1,20)=$AA$3,1,0) -> 0 | AF75: =IF(MID($G75,1,20)=$AF$3,1,0) -> 0 | AG75: =IF(MID($G75,1,20)=$AG$3,1,0) -> 0 | AH75: =IF(MID($G75,1,20)=$AH$3,1,0) -> 0 | AI75: =IF(MID($G75,1,20)=$AI$3,1,0) -> 0 | AJ75: =IF(MID($G75,1,20)=$AJ$3,1,0) -> 0 | AK75: =IF(MID($G75,1,20)=$AK$3,1,0) -> 0 | AL75: =IF(MID($F75,4,2)=(AL$3),1,0) -> 0 | AM75: =IF(MID($F75,4,2)=(AM$3),1,0) -> 0 | AN75: =IF(MID($F75,4,2)=(AN$3),1,0) -> 0 | AO75: =IF(MID($F75,6,2)=(AO$3),1,0) -> 0 | AP75: =IF(MID($F75,6,2)=(AP$3),1,0) -> 0 | AQ75: =IF(MID($F75,8,2)=(AQ$3),1,0) -> 0 | AR75: =IF(MID($F75,8,2)=(AR$3),1,0) -> 0 | AS75: =IF(MID($F75,10,2)=(AS$3),1,0) -> 0 | AT75: =IF(MID($F75,10,2)=(AT$3),1,0) -> 0 | AU75: =IF(MID($F75,10,2)=(AU$3),1,0) -> 0 | AV75: =IF(MID($F75,12,2)=(AV$3),1,0) -> 0 | AW75: =IF(MID($F75,12,2)=(AW$3),1,0) -> 0 | AX75: =IF(MID($F75,1,20)=$AX$3,1,0) -> 0 | AY75: =IF(MID($F75,1,20)=$AY$3,1,0) -> 0 | AZ75: =IF(MID($F75,1,20)=$AZ$3,1,0) -> 0 | BA75: =IF(MID($F75,1,20)=$BA$3,1,0) -> 0 | BB75: =IF(MID($F75,4,4)=$X$3,1,0) -> 0 | BC75: =IF(MID($F75,1,20)=$BC$3,1,0) -> 0
A76: ='[1]Fiche d''informations'!B95 -> 0 | B76: ='[1]Fiche d''informations'!C95 -> 0 | C76: ='[1]Fiche d''informations'!D95 -> 0 | D76: ='[1]Fiche d''informations'!E95 -> 0 | E76: ='[1]Fiche d''informations'!F95 -> 0 | H76: =IF(MID($F76,1,2)=$H$3,1,0) -> 0 | I76: =IF(MID($F76,1,2)=$I$3,1,0) -> 0 | J76: =IF(MID($F76,1,2)=$J$3,1,0) -> 0 | K76: =IF(MID($F76,3,2)=$K$3,1,0) -> 0 | L76: =IF(MID($F76,3,2)=$L$3,1,0) -> 0 | M76: =IF(MID($F76,5,2)=$M$3,1,0) -> 0 | N76: =IF(MID($F76,5,2)=$N$3,1,0) -> 0 | O76: =IF(MID($F76,7,2)=$O$3,1,0) -> 0 | P76: =IF(MID($F76,7,2)=$P$3,1,0) -> 0 | Q76: =IF(MID($F76,7,2)=$Q$3,1,0) -> 0 | R76: =IF(MID($F76,9,2)=$R$3,1,0) -> 0 | S76: =IF(MID($F76,9,2)=$S$3,1,0) -> 0 | T76: =IF(MID($F76,1,5)=$T$3,1,0) -> 0 | U76: =IF(MID($F76,1,6)=$U$3,1,0) -> 0 | V76: =IF(MID($F76,1,4)=$V$3,1,0) -> 0 | W76: =IF(MID($F76,1,4)=$W$3,1,0) -> 0 | X76: =IF(MID($F76,1,4)=$X$3,1,0) -> 0 | Y76: =IF(MID($F76,1,4)=$Y$3,1,0) -> 0 | Z76: =IF(MID($G76,1,20)=$Z$3,1,0) -> 0 | AA76: =IF(MID($G76,1,20)=$AA$3,1,0) -> 0 | AB76: =IF(MID($G76,1,20)=$AB$3,1,0) -> 0 | AC76: =IF(MID($G76,1,20)=$AC$3,1,0) -> 0 | AD76: =IF(MID($G76,1,20)=$AD$3,1,0) -> 0 | AE76: =IF(MID($G76,1,20)=$AA$3,1,0) -> 0 | AF76: =IF(MID($G76,1,20)=$AF$3,1,0) -> 0 | AG76: =IF(MID($G76,1,20)=$AG$3,1,0) -> 0 | AH76: =IF(MID($G76,1,20)=$AH$3,1,0) -> 0 | AI76: =IF(MID($G76,1,20)=$AI$3,1,0) -> 0 | AJ76: =IF(MID($G76,1,20)=$AJ$3,1,0) -> 0 | AK76: =IF(MID($G76,1,20)=$AK$3,1,0) -> 0 | AL76: =IF(MID($F76,4,2)=(AL$3),1,0) -> 0 | AM76: =IF(MID($F76,4,2)=(AM$3),1,0) -> 0 | AN76: =IF(MID($F76,4,2)=(AN$3),1,0) -> 0 | AO76: =IF(MID($F76,6,2)=(AO$3),1,0) -> 0 | AP76: =IF(MID($F76,6,2)=(AP$3),1,0) -> 0 | AQ76: =IF(MID($F76,8,2)=(AQ$3),1,0) -> 0 | AR76: =IF(MID($F76,8,2)=(AR$3),1,0) -> 0 | AS76: =IF(MID($F76,10,2)=(AS$3),1,0) -> 0 | AT76: =IF(MID($F76,10,2)=(AT$3),1,0) -> 0 | AU76: =IF(MID($F76,10,2)=(AU$3),1,0) -> 0 | AV76: =IF(MID($F76,12,2)=(AV$3),1,0) -> 0 | AW76: =IF(MID($F76,12,2)=(AW$3),1,0) -> 0 | AX76: =IF(MID($F76,1,20)=$AX$3,1,0) -> 0 | AY76: =IF(MID($F76,1,20)=$AY$3,1,0) -> 0 | AZ76: =IF(MID($F76,1,20)=$AZ$3,1,0) -> 0 | BA76: =IF(MID($F76,1,20)=$BA$3,1,0) -> 0 | BB76: =IF(MID($F76,4,4)=$X$3,1,0) -> 0 | BC76: =IF(MID($F76,1,20)=$BC$3,1,0) -> 0
A77: ='[1]Fiche d''informations'!B96 -> 0 | B77: ='[1]Fiche d''informations'!C96 -> 0 | C77: ='[1]Fiche d''informations'!D96 -> 0 | D77: ='[1]Fiche d''informations'!E96 -> 0 | E77: ='[1]Fiche d''informations'!F96 -> 0 | H77: =IF(MID($F77,1,2)=$H$3,1,0) -> 0 | I77: =IF(MID($F77,1,2)=$I$3,1,0) -> 0 | J77: =IF(MID($F77,1,2)=$J$3,1,0) -> 0 | K77: =IF(MID($F77,3,2)=$K$3,1,0) -> 0 | L77: =IF(MID($F77,3,2)=$L$3,1,0) -> 0 | M77: =IF(MID($F77,5,2)=$M$3,1,0) -> 0 | N77: =IF(MID($F77,5,2)=$N$3,1,0) -> 0 | O77: =IF(MID($F77,7,2)=$O$3,1,0) -> 0 | P77: =IF(MID($F77,7,2)=$P$3,1,0) -> 0 | Q77: =IF(MID($F77,7,2)=$Q$3,1,0) -> 0 | R77: =IF(MID($F77,9,2)=$R$3,1,0) -> 0 | S77: =IF(MID($F77,9,2)=$S$3,1,0) -> 0 | T77: =IF(MID($F77,1,5)=$T$3,1,0) -> 0 | U77: =IF(MID($F77,1,6)=$U$3,1,0) -> 0 | V77: =IF(MID($F77,1,4)=$V$3,1,0) -> 0 | W77: =IF(MID($F77,1,4)=$W$3,1,0) -> 0 | X77: =IF(MID($F77,1,4)=$X$3,1,0) -> 0 | Y77: =IF(MID($F77,1,4)=$Y$3,1,0) -> 0 | Z77: =IF(MID($G77,1,20)=$Z$3,1,0) -> 0 | AA77: =IF(MID($G77,1,20)=$AA$3,1,0) -> 0 | AB77: =IF(MID($G77,1,20)=$AB$3,1,0) -> 0 | AC77: =IF(MID($G77,1,20)=$AC$3,1,0) -> 0 | AD77: =IF(MID($G77,1,20)=$AD$3,1,0) -> 0 | AE77: =IF(MID($G77,1,20)=$AA$3,1,0) -> 0 | AF77: =IF(MID($G77,1,20)=$AF$3,1,0) -> 0 | AG77: =IF(MID($G77,1,20)=$AG$3,1,0) -> 0 | AH77: =IF(MID($G77,1,20)=$AH$3,1,0) -> 0 | AI77: =IF(MID($G77,1,20)=$AI$3,1,0) -> 0 | AJ77: =IF(MID($G77,1,20)=$AJ$3,1,0) -> 0 | AK77: =IF(MID($G77,1,20)=$AK$3,1,0) -> 0 | AL77: =IF(MID($F77,4,2)=(AL$3),1,0) -> 0 | AM77: =IF(MID($F77,4,2)=(AM$3),1,0) -> 0 | AN77: =IF(MID($F77,4,2)=(AN$3),1,0) -> 0 | AO77: =IF(MID($F77,6,2)=(AO$3),1,0) -> 0 | AP77: =IF(MID($F77,6,2)=(AP$3),1,0) -> 0 | AQ77: =IF(MID($F77,8,2)=(AQ$3),1,0) -> 0 | AR77: =IF(MID($F77,8,2)=(AR$3),1,0) -> 0 | AS77: =IF(MID($F77,10,2)=(AS$3),1,0) -> 0 | AT77: =IF(MID($F77,10,2)=(AT$3),1,0) -> 0 | AU77: =IF(MID($F77,10,2)=(AU$3),1,0) -> 0 | AV77: =IF(MID($F77,12,2)=(AV$3),1,0) -> 0 | AW77: =IF(MID($F77,12,2)=(AW$3),1,0) -> 0 | AX77: =IF(MID($F77,1,20)=$AX$3,1,0) -> 0 | AY77: =IF(MID($F77,1,20)=$AY$3,1,0) -> 0 | AZ77: =IF(MID($F77,1,20)=$AZ$3,1,0) -> 0 | BA77: =IF(MID($F77,1,20)=$BA$3,1,0) -> 0 | BB77: =IF(MID($F77,4,4)=$X$3,1,0) -> 0 | BC77: =IF(MID($F77,1,20)=$BC$3,1,0) -> 0
A78: ='[1]Fiche d''informations'!B97 -> 0 | B78: ='[1]Fiche d''informations'!C97 -> 0 | C78: ='[1]Fiche d''informations'!D97 -> 0 | D78: ='[1]Fiche d''informations'!E97 -> 0 | E78: ='[1]Fiche d''informations'!F97 -> 0 | H78: =IF(MID($F78,1,2)=$H$3,1,0) -> 0 | I78: =IF(MID($F78,1,2)=$I$3,1,0) -> 0 | J78: =IF(MID($F78,1,2)=$J$3,1,0) -> 0 | K78: =IF(MID($F78,3,2)=$K$3,1,0) -> 0 | L78: =IF(MID($F78,3,2)=$L$3,1,0) -> 0 | M78: =IF(MID($F78,5,2)=$M$3,1,0) -> 0 | N78: =IF(MID($F78,5,2)=$N$3,1,0) -> 0 | O78: =IF(MID($F78,7,2)=$O$3,1,0) -> 0 | P78: =IF(MID($F78,7,2)=$P$3,1,0) -> 0 | Q78: =IF(MID($F78,7,2)=$Q$3,1,0) -> 0 | R78: =IF(MID($F78,9,2)=$R$3,1,0) -> 0 | S78: =IF(MID($F78,9,2)=$S$3,1,0) -> 0 | T78: =IF(MID($F78,1,5)=$T$3,1,0) -> 0 | U78: =IF(MID($F78,1,6)=$U$3,1,0) -> 0 | V78: =IF(MID($F78,1,4)=$V$3,1,0) -> 0 | W78: =IF(MID($F78,1,4)=$W$3,1,0) -> 0 | X78: =IF(MID($F78,1,4)=$X$3,1,0) -> 0 | Y78: =IF(MID($F78,1,4)=$Y$3,1,0) -> 0 | Z78: =IF(MID($G78,1,20)=$Z$3,1,0) -> 0 | AA78: =IF(MID($G78,1,20)=$AA$3,1,0) -> 0 | AB78: =IF(MID($G78,1,20)=$AB$3,1,0) -> 0 | AC78: =IF(MID($G78,1,20)=$AC$3,1,0) -> 0 | AD78: =IF(MID($G78,1,20)=$AD$3,1,0) -> 0 | AE78: =IF(MID($G78,1,20)=$AA$3,1,0) -> 0 | AF78: =IF(MID($G78,1,20)=$AF$3,1,0) -> 0 | AG78: =IF(MID($G78,1,20)=$AG$3,1,0) -> 0 | AH78: =IF(MID($G78,1,20)=$AH$3,1,0) -> 0 | AI78: =IF(MID($G78,1,20)=$AI$3,1,0) -> 0 | AJ78: =IF(MID($G78,1,20)=$AJ$3,1,0) -> 0 | AK78: =IF(MID($G78,1,20)=$AK$3,1,0) -> 0 | AL78: =IF(MID($F78,4,2)=(AL$3),1,0) -> 0 | AM78: =IF(MID($F78,4,2)=(AM$3),1,0) -> 0 | AN78: =IF(MID($F78,4,2)=(AN$3),1,0) -> 0 | AO78: =IF(MID($F78,6,2)=(AO$3),1,0) -> 0 | AP78: =IF(MID($F78,6,2)=(AP$3),1,0) -> 0 | AQ78: =IF(MID($F78,8,2)=(AQ$3),1,0) -> 0 | AR78: =IF(MID($F78,8,2)=(AR$3),1,0) -> 0 | AS78: =IF(MID($F78,10,2)=(AS$3),1,0) -> 0 | AT78: =IF(MID($F78,10,2)=(AT$3),1,0) -> 0 | AU78: =IF(MID($F78,10,2)=(AU$3),1,0) -> 0 | AV78: =IF(MID($F78,12,2)=(AV$3),1,0) -> 0 | AW78: =IF(MID($F78,12,2)=(AW$3),1,0) -> 0 | AX78: =IF(MID($F78,1,20)=$AX$3,1,0) -> 0 | AY78: =IF(MID($F78,1,20)=$AY$3,1,0) -> 0 | AZ78: =IF(MID($F78,1,20)=$AZ$3,1,0) -> 0 | BA78: =IF(MID($F78,1,20)=$BA$3,1,0) -> 0 | BB78: =IF(MID($F78,4,4)=$X$3,1,0) -> 0 | BC78: =IF(MID($F78,1,20)=$BC$3,1,0) -> 0
A79: ='[1]Fiche d''informations'!B98 -> 0 | B79: ='[1]Fiche d''informations'!C98 -> 0 | C79: ='[1]Fiche d''informations'!D98 -> 0 | D79: ='[1]Fiche d''informations'!E98 -> 0 | E79: ='[1]Fiche d''informations'!F98 -> 0 | H79: =IF(MID($F79,1,2)=$H$3,1,0) -> 0 | I79: =IF(MID($F79,1,2)=$I$3,1,0) -> 0 | J79: =IF(MID($F79,1,2)=$J$3,1,0) -> 0 | K79: =IF(MID($F79,3,2)=$K$3,1,0) -> 0 | L79: =IF(MID($F79,3,2)=$L$3,1,0) -> 0 | M79: =IF(MID($F79,5,2)=$M$3,1,0) -> 0 | N79: =IF(MID($F79,5,2)=$N$3,1,0) -> 0 | O79: =IF(MID($F79,7,2)=$O$3,1,0) -> 0 | P79: =IF(MID($F79,7,2)=$P$3,1,0) -> 0 | Q79: =IF(MID($F79,7,2)=$Q$3,1,0) -> 0 | R79: =IF(MID($F79,9,2)=$R$3,1,0) -> 0 | S79: =IF(MID($F79,9,2)=$S$3,1,0) -> 0 | T79: =IF(MID($F79,1,5)=$T$3,1,0) -> 0 | U79: =IF(MID($F79,1,6)=$U$3,1,0) -> 0 | V79: =IF(MID($F79,1,4)=$V$3,1,0) -> 0 | W79: =IF(MID($F79,1,4)=$W$3,1,0) -> 0 | X79: =IF(MID($F79,1,4)=$X$3,1,0) -> 0 | Y79: =IF(MID($F79,1,4)=$Y$3,1,0) -> 0 | Z79: =IF(MID($G79,1,20)=$Z$3,1,0) -> 0 | AA79: =IF(MID($G79,1,20)=$AA$3,1,0) -> 0 | AB79: =IF(MID($G79,1,20)=$AB$3,1,0) -> 0 | AC79: =IF(MID($G79,1,20)=$AC$3,1,0) -> 0 | AD79: =IF(MID($G79,1,20)=$AD$3,1,0) -> 0 | AE79: =IF(MID($G79,1,20)=$AA$3,1,0) -> 0 | AF79: =IF(MID($G79,1,20)=$AF$3,1,0) -> 0 | AG79: =IF(MID($G79,1,20)=$AG$3,1,0) -> 0 | AH79: =IF(MID($G79,1,20)=$AH$3,1,0) -> 0 | AI79: =IF(MID($G79,1,20)=$AI$3,1,0) -> 0 | AJ79: =IF(MID($G79,1,20)=$AJ$3,1,0) -> 0 | AK79: =IF(MID($G79,1,20)=$AK$3,1,0) -> 0 | AL79: =IF(MID($F79,4,2)=(AL$3),1,0) -> 0 | AM79: =IF(MID($F79,4,2)=(AM$3),1,0) -> 0 | AN79: =IF(MID($F79,4,2)=(AN$3),1,0) -> 0 | AO79: =IF(MID($F79,6,2)=(AO$3),1,0) -> 0 | AP79: =IF(MID($F79,6,2)=(AP$3),1,0) -> 0 | AQ79: =IF(MID($F79,8,2)=(AQ$3),1,0) -> 0 | AR79: =IF(MID($F79,8,2)=(AR$3),1,0) -> 0 | AS79: =IF(MID($F79,10,2)=(AS$3),1,0) -> 0 | AT79: =IF(MID($F79,10,2)=(AT$3),1,0) -> 0 | AU79: =IF(MID($F79,10,2)=(AU$3),1,0) -> 0 | AV79: =IF(MID($F79,12,2)=(AV$3),1,0) -> 0 | AW79: =IF(MID($F79,12,2)=(AW$3),1,0) -> 0 | AX79: =IF(MID($F79,1,20)=$AX$3,1,0) -> 0 | AY79: =IF(MID($F79,1,20)=$AY$3,1,0) -> 0 | AZ79: =IF(MID($F79,1,20)=$AZ$3,1,0) -> 0 | BA79: =IF(MID($F79,1,20)=$BA$3,1,0) -> 0 | BB79: =IF(MID($F79,4,4)=$X$3,1,0) -> 0 | BC79: =IF(MID($F79,1,20)=$BC$3,1,0) -> 0
A80: ='[1]Fiche d''informations'!B99 -> 0 | B80: ='[1]Fiche d''informations'!C99 -> 0 | C80: ='[1]Fiche d''informations'!D99 -> 0 | D80: ='[1]Fiche d''informations'!E99 -> 0 | E80: ='[1]Fiche d''informations'!F99 -> 0 | H80: =IF(MID($F80,1,2)=$H$3,1,0) -> 0 | I80: =IF(MID($F80,1,2)=$I$3,1,0) -> 0 | J80: =IF(MID($F80,1,2)=$J$3,1,0) -> 0 | K80: =IF(MID($F80,3,2)=$K$3,1,0) -> 0 | L80: =IF(MID($F80,3,2)=$L$3,1,0) -> 0 | M80: =IF(MID($F80,5,2)=$M$3,1,0) -> 0 | N80: =IF(MID($F80,5,2)=$N$3,1,0) -> 0 | O80: =IF(MID($F80,7,2)=$O$3,1,0) -> 0 | P80: =IF(MID($F80,7,2)=$P$3,1,0) -> 0 | Q80: =IF(MID($F80,7,2)=$Q$3,1,0) -> 0 | R80: =IF(MID($F80,9,2)=$R$3,1,0) -> 0 | S80: =IF(MID($F80,9,2)=$S$3,1,0) -> 0 | T80: =IF(MID($F80,1,5)=$T$3,1,0) -> 0 | U80: =IF(MID($F80,1,6)=$U$3,1,0) -> 0 | V80: =IF(MID($F80,1,4)=$V$3,1,0) -> 0 | W80: =IF(MID($F80,1,4)=$W$3,1,0) -> 0 | X80: =IF(MID($F80,1,4)=$X$3,1,0) -> 0 | Y80: =IF(MID($F80,1,4)=$Y$3,1,0) -> 0 | Z80: =IF(MID($G80,1,20)=$Z$3,1,0) -> 0 | AA80: =IF(MID($G80,1,20)=$AA$3,1,0) -> 0 | AB80: =IF(MID($G80,1,20)=$AB$3,1,0) -> 0 | AC80: =IF(MID($G80,1,20)=$AC$3,1,0) -> 0 | AD80: =IF(MID($G80,1,20)=$AD$3,1,0) -> 0 | AE80: =IF(MID($G80,1,20)=$AA$3,1,0) -> 0 | AF80: =IF(MID($G80,1,20)=$AF$3,1,0) -> 0 | AG80: =IF(MID($G80,1,20)=$AG$3,1,0) -> 0 | AH80: =IF(MID($G80,1,20)=$AH$3,1,0) -> 0 | AI80: =IF(MID($G80,1,20)=$AI$3,1,0) -> 0 | AJ80: =IF(MID($G80,1,20)=$AJ$3,1,0) -> 0 | AK80: =IF(MID($G80,1,20)=$AK$3,1,0) -> 0 | AL80: =IF(MID($F80,4,2)=(AL$3),1,0) -> 0 | AM80: =IF(MID($F80,4,2)=(AM$3),1,0) -> 0 | AN80: =IF(MID($F80,4,2)=(AN$3),1,0) -> 0 | AO80: =IF(MID($F80,6,2)=(AO$3),1,0) -> 0 | AP80: =IF(MID($F80,6,2)=(AP$3),1,0) -> 0 | AQ80: =IF(MID($F80,8,2)=(AQ$3),1,0) -> 0 | AR80: =IF(MID($F80,8,2)=(AR$3),1,0) -> 0 | AS80: =IF(MID($F80,10,2)=(AS$3),1,0) -> 0 | AT80: =IF(MID($F80,10,2)=(AT$3),1,0) -> 0 | AU80: =IF(MID($F80,10,2)=(AU$3),1,0) -> 0 | AV80: =IF(MID($F80,12,2)=(AV$3),1,0) -> 0 | AW80: =IF(MID($F80,12,2)=(AW$3),1,0) -> 0 | AX80: =IF(MID($F80,1,20)=$AX$3,1,0) -> 0 | AY80: =IF(MID($F80,1,20)=$AY$3,1,0) -> 0 | AZ80: =IF(MID($F80,1,20)=$AZ$3,1,0) -> 0 | BA80: =IF(MID($F80,1,20)=$BA$3,1,0) -> 0 | BB80: =IF(MID($F80,4,4)=$X$3,1,0) -> 0 | BC80: =IF(MID($F80,1,20)=$BC$3,1,0) -> 0
A81: ='[1]Fiche d''informations'!B100 -> 0 | B81: ='[1]Fiche d''informations'!C100 -> 0 | C81: ='[1]Fiche d''informations'!D100 -> 0 | D81: ='[1]Fiche d''informations'!E100 -> 0 | E81: ='[1]Fiche d''informations'!F100 -> 0 | H81: =IF(MID($F81,1,2)=$H$3,1,0) -> 0 | I81: =IF(MID($F81,1,2)=$I$3,1,0) -> 0 | J81: =IF(MID($F81,1,2)=$J$3,1,0) -> 0 | K81: =IF(MID($F81,3,2)=$K$3,1,0) -> 0 | L81: =IF(MID($F81,3,2)=$L$3,1,0) -> 0 | M81: =IF(MID($F81,5,2)=$M$3,1,0) -> 0 | N81: =IF(MID($F81,5,2)=$N$3,1,0) -> 0 | O81: =IF(MID($F81,7,2)=$O$3,1,0) -> 0 | P81: =IF(MID($F81,7,2)=$P$3,1,0) -> 0 | Q81: =IF(MID($F81,7,2)=$Q$3,1,0) -> 0 | R81: =IF(MID($F81,9,2)=$R$3,1,0) -> 0 | S81: =IF(MID($F81,9,2)=$S$3,1,0) -> 0 | T81: =IF(MID($F81,1,5)=$T$3,1,0) -> 0 | U81: =IF(MID($F81,1,6)=$U$3,1,0) -> 0 | V81: =IF(MID($F81,1,4)=$V$3,1,0) -> 0 | W81: =IF(MID($F81,1,4)=$W$3,1,0) -> 0 | X81: =IF(MID($F81,1,4)=$X$3,1,0) -> 0 | Y81: =IF(MID($F81,1,4)=$Y$3,1,0) -> 0 | Z81: =IF(MID($G81,1,20)=$Z$3,1,0) -> 0 | AA81: =IF(MID($G81,1,20)=$AA$3,1,0) -> 0 | AB81: =IF(MID($G81,1,20)=$AB$3,1,0) -> 0 | AC81: =IF(MID($G81,1,20)=$AC$3,1,0) -> 0 | AD81: =IF(MID($G81,1,20)=$AD$3,1,0) -> 0 | AE81: =IF(MID($G81,1,20)=$AA$3,1,0) -> 0 | AF81: =IF(MID($G81,1,20)=$AF$3,1,0) -> 0 | AG81: =IF(MID($G81,1,20)=$AG$3,1,0) -> 0 | AH81: =IF(MID($G81,1,20)=$AH$3,1,0) -> 0 | AI81: =IF(MID($G81,1,20)=$AI$3,1,0) -> 0 | AJ81: =IF(MID($G81,1,20)=$AJ$3,1,0) -> 0 | AK81: =IF(MID($G81,1,20)=$AK$3,1,0) -> 0 | AL81: =IF(MID($F81,4,2)=(AL$3),1,0) -> 0 | AM81: =IF(MID($F81,4,2)=(AM$3),1,0) -> 0 | AN81: =IF(MID($F81,4,2)=(AN$3),1,0) -> 0 | AO81: =IF(MID($F81,6,2)=(AO$3),1,0) -> 0 | AP81: =IF(MID($F81,6,2)=(AP$3),1,0) -> 0 | AQ81: =IF(MID($F81,8,2)=(AQ$3),1,0) -> 0 | AR81: =IF(MID($F81,8,2)=(AR$3),1,0) -> 0 | AS81: =IF(MID($F81,10,2)=(AS$3),1,0) -> 0 | AT81: =IF(MID($F81,10,2)=(AT$3),1,0) -> 0 | AU81: =IF(MID($F81,10,2)=(AU$3),1,0) -> 0 | AV81: =IF(MID($F81,12,2)=(AV$3),1,0) -> 0 | AW81: =IF(MID($F81,12,2)=(AW$3),1,0) -> 0 | AX81: =IF(MID($F81,1,20)=$AX$3,1,0) -> 0 | AY81: =IF(MID($F81,1,20)=$AY$3,1,0) -> 0 | AZ81: =IF(MID($F81,1,20)=$AZ$3,1,0) -> 0 | BA81: =IF(MID($F81,1,20)=$BA$3,1,0) -> 0 | BB81: =IF(MID($F81,4,4)=$X$3,1,0) -> 0 | BC81: =IF(MID($F81,1,20)=$BC$3,1,0) -> 0
A82: ='[1]Fiche d''informations'!B101 -> 0 | B82: ='[1]Fiche d''informations'!C101 -> 0 | C82: ='[1]Fiche d''informations'!D101 -> 0 | D82: ='[1]Fiche d''informations'!E101 -> 0 | E82: ='[1]Fiche d''informations'!F101 -> 0 | H82: =IF(MID($F82,1,2)=$H$3,1,0) -> 0 | I82: =IF(MID($F82,1,2)=$I$3,1,0) -> 0 | J82: =IF(MID($F82,1,2)=$J$3,1,0) -> 0 | K82: =IF(MID($F82,3,2)=$K$3,1,0) -> 0 | L82: =IF(MID($F82,3,2)=$L$3,1,0) -> 0 | M82: =IF(MID($F82,5,2)=$M$3,1,0) -> 0 | N82: =IF(MID($F82,5,2)=$N$3,1,0) -> 0 | O82: =IF(MID($F82,7,2)=$O$3,1,0) -> 0 | P82: =IF(MID($F82,7,2)=$P$3,1,0) -> 0 | Q82: =IF(MID($F82,7,2)=$Q$3,1,0) -> 0 | R82: =IF(MID($F82,9,2)=$R$3,1,0) -> 0 | S82: =IF(MID($F82,9,2)=$S$3,1,0) -> 0 | T82: =IF(MID($F82,1,5)=$T$3,1,0) -> 0 | U82: =IF(MID($F82,1,6)=$U$3,1,0) -> 0 | V82: =IF(MID($F82,1,4)=$V$3,1,0) -> 0 | W82: =IF(MID($F82,1,4)=$W$3,1,0) -> 0 | X82: =IF(MID($F82,1,4)=$X$3,1,0) -> 0 | Y82: =IF(MID($F82,1,4)=$Y$3,1,0) -> 0 | Z82: =IF(MID($G82,1,20)=$Z$3,1,0) -> 0 | AA82: =IF(MID($G82,1,20)=$AA$3,1,0) -> 0 | AB82: =IF(MID($G82,1,20)=$AB$3,1,0) -> 0 | AC82: =IF(MID($G82,1,20)=$AC$3,1,0) -> 0 | AD82: =IF(MID($G82,1,20)=$AD$3,1,0) -> 0 | AE82: =IF(MID($G82,1,20)=$AA$3,1,0) -> 0 | AF82: =IF(MID($G82,1,20)=$AF$3,1,0) -> 0 | AG82: =IF(MID($G82,1,20)=$AG$3,1,0) -> 0 | AH82: =IF(MID($G82,1,20)=$AH$3,1,0) -> 0 | AI82: =IF(MID($G82,1,20)=$AI$3,1,0) -> 0 | AJ82: =IF(MID($G82,1,20)=$AJ$3,1,0) -> 0 | AK82: =IF(MID($G82,1,20)=$AK$3,1,0) -> 0 | AL82: =IF(MID($F82,4,2)=(AL$3),1,0) -> 0 | AM82: =IF(MID($F82,4,2)=(AM$3),1,0) -> 0 | AN82: =IF(MID($F82,4,2)=(AN$3),1,0) -> 0 | AO82: =IF(MID($F82,6,2)=(AO$3),1,0) -> 0 | AP82: =IF(MID($F82,6,2)=(AP$3),1,0) -> 0 | AQ82: =IF(MID($F82,8,2)=(AQ$3),1,0) -> 0 | AR82: =IF(MID($F82,8,2)=(AR$3),1,0) -> 0 | AS82: =IF(MID($F82,10,2)=(AS$3),1,0) -> 0 | AT82: =IF(MID($F82,10,2)=(AT$3),1,0) -> 0 | AU82: =IF(MID($F82,10,2)=(AU$3),1,0) -> 0 | AV82: =IF(MID($F82,12,2)=(AV$3),1,0) -> 0 | AW82: =IF(MID($F82,12,2)=(AW$3),1,0) -> 0 | AX82: =IF(MID($F82,1,20)=$AX$3,1,0) -> 0 | AY82: =IF(MID($F82,1,20)=$AY$3,1,0) -> 0 | AZ82: =IF(MID($F82,1,20)=$AZ$3,1,0) -> 0 | BA82: =IF(MID($F82,1,20)=$BA$3,1,0) -> 0 | BB82: =IF(MID($F82,4,4)=$X$3,1,0) -> 0 | BC82: =IF(MID($F82,1,20)=$BC$3,1,0) -> 0
A83: ='[1]Fiche d''informations'!B102 -> 0 | B83: ='[1]Fiche d''informations'!C102 -> 0 | C83: ='[1]Fiche d''informations'!D102 -> 0 | D83: ='[1]Fiche d''informations'!E102 -> 0 | E83: ='[1]Fiche d''informations'!F102 -> 0 | H83: =IF(MID($F83,1,2)=$H$3,1,0) -> 0 | I83: =IF(MID($F83,1,2)=$I$3,1,0) -> 0 | J83: =IF(MID($F83,1,2)=$J$3,1,0) -> 0 | K83: =IF(MID($F83,3,2)=$K$3,1,0) -> 0 | L83: =IF(MID($F83,3,2)=$L$3,1,0) -> 0 | M83: =IF(MID($F83,5,2)=$M$3,1,0) -> 0 | N83: =IF(MID($F83,5,2)=$N$3,1,0) -> 0 | O83: =IF(MID($F83,7,2)=$O$3,1,0) -> 0 | P83: =IF(MID($F83,7,2)=$P$3,1,0) -> 0 | Q83: =IF(MID($F83,7,2)=$Q$3,1,0) -> 0 | R83: =IF(MID($F83,9,2)=$R$3,1,0) -> 0 | S83: =IF(MID($F83,9,2)=$S$3,1,0) -> 0 | T83: =IF(MID($F83,1,5)=$T$3,1,0) -> 0 | U83: =IF(MID($F83,1,6)=$U$3,1,0) -> 0 | V83: =IF(MID($F83,1,4)=$V$3,1,0) -> 0 | W83: =IF(MID($F83,1,4)=$W$3,1,0) -> 0 | X83: =IF(MID($F83,1,4)=$X$3,1,0) -> 0 | Y83: =IF(MID($F83,1,4)=$Y$3,1,0) -> 0 | Z83: =IF(MID($G83,1,20)=$Z$3,1,0) -> 0 | AA83: =IF(MID($G83,1,20)=$AA$3,1,0) -> 0 | AB83: =IF(MID($G83,1,20)=$AB$3,1,0) -> 0 | AC83: =IF(MID($G83,1,20)=$AC$3,1,0) -> 0 | AD83: =IF(MID($G83,1,20)=$AD$3,1,0) -> 0 | AE83: =IF(MID($G83,1,20)=$AA$3,1,0) -> 0 | AF83: =IF(MID($G83,1,20)=$AF$3,1,0) -> 0 | AG83: =IF(MID($G83,1,20)=$AG$3,1,0) -> 0 | AH83: =IF(MID($G83,1,20)=$AH$3,1,0) -> 0 | AI83: =IF(MID($G83,1,20)=$AI$3,1,0) -> 0 | AJ83: =IF(MID($G83,1,20)=$AJ$3,1,0) -> 0 | AK83: =IF(MID($G83,1,20)=$AK$3,1,0) -> 0 | AL83: =IF(MID($F83,4,2)=(AL$3),1,0) -> 0 | AM83: =IF(MID($F83,4,2)=(AM$3),1,0) -> 0 | AN83: =IF(MID($F83,4,2)=(AN$3),1,0) -> 0 | AO83: =IF(MID($F83,6,2)=(AO$3),1,0) -> 0 | AP83: =IF(MID($F83,6,2)=(AP$3),1,0) -> 0 | AQ83: =IF(MID($F83,8,2)=(AQ$3),1,0) -> 0 | AR83: =IF(MID($F83,8,2)=(AR$3),1,0) -> 0 | AS83: =IF(MID($F83,10,2)=(AS$3),1,0) -> 0 | AT83: =IF(MID($F83,10,2)=(AT$3),1,0) -> 0 | AU83: =IF(MID($F83,10,2)=(AU$3),1,0) -> 0 | AV83: =IF(MID($F83,12,2)=(AV$3),1,0) -> 0 | AW83: =IF(MID($F83,12,2)=(AW$3),1,0) -> 0 | AX83: =IF(MID($F83,1,20)=$AX$3,1,0) -> 0 | AY83: =IF(MID($F83,1,20)=$AY$3,1,0) -> 0 | AZ83: =IF(MID($F83,1,20)=$AZ$3,1,0) -> 0 | BA83: =IF(MID($F83,1,20)=$BA$3,1,0) -> 0 | BB83: =IF(MID($F83,4,4)=$X$3,1,0) -> 0 | BC83: =IF(MID($F83,1,20)=$BC$3,1,0) -> 0
A84: ='[1]Fiche d''informations'!B103 -> 0 | B84: ='[1]Fiche d''informations'!C103 -> 0 | C84: ='[1]Fiche d''informations'!D103 -> 0 | D84: ='[1]Fiche d''informations'!E103 -> 0 | E84: ='[1]Fiche d''informations'!F103 -> 0 | H84: =IF(MID($F84,1,2)=$H$3,1,0) -> 0 | I84: =IF(MID($F84,1,2)=$I$3,1,0) -> 0 | J84: =IF(MID($F84,1,2)=$J$3,1,0) -> 0 | K84: =IF(MID($F84,3,2)=$K$3,1,0) -> 0 | L84: =IF(MID($F84,3,2)=$L$3,1,0) -> 0 | M84: =IF(MID($F84,5,2)=$M$3,1,0) -> 0 | N84: =IF(MID($F84,5,2)=$N$3,1,0) -> 0 | O84: =IF(MID($F84,7,2)=$O$3,1,0) -> 0 | P84: =IF(MID($F84,7,2)=$P$3,1,0) -> 0 | Q84: =IF(MID($F84,7,2)=$Q$3,1,0) -> 0 | R84: =IF(MID($F84,9,2)=$R$3,1,0) -> 0 | S84: =IF(MID($F84,9,2)=$S$3,1,0) -> 0 | T84: =IF(MID($F84,1,5)=$T$3,1,0) -> 0 | U84: =IF(MID($F84,1,6)=$U$3,1,0) -> 0 | V84: =IF(MID($F84,1,4)=$V$3,1,0) -> 0 | W84: =IF(MID($F84,1,4)=$W$3,1,0) -> 0 | X84: =IF(MID($F84,1,4)=$X$3,1,0) -> 0 | Y84: =IF(MID($F84,1,4)=$Y$3,1,0) -> 0 | Z84: =IF(MID($G84,1,20)=$Z$3,1,0) -> 0 | AA84: =IF(MID($G84,1,20)=$AA$3,1,0) -> 0 | AB84: =IF(MID($G84,1,20)=$AB$3,1,0) -> 0 | AC84: =IF(MID($G84,1,20)=$AC$3,1,0) -> 0 | AD84: =IF(MID($G84,1,20)=$AD$3,1,0) -> 0 | AE84: =IF(MID($G84,1,20)=$AA$3,1,0) -> 0 | AF84: =IF(MID($G84,1,20)=$AF$3,1,0) -> 0 | AG84: =IF(MID($G84,1,20)=$AG$3,1,0) -> 0 | AH84: =IF(MID($G84,1,20)=$AH$3,1,0) -> 0 | AI84: =IF(MID($G84,1,20)=$AI$3,1,0) -> 0 | AJ84: =IF(MID($G84,1,20)=$AJ$3,1,0) -> 0 | AK84: =IF(MID($G84,1,20)=$AK$3,1,0) -> 0 | AL84: =IF(MID($F84,4,2)=(AL$3),1,0) -> 0 | AM84: =IF(MID($F84,4,2)=(AM$3),1,0) -> 0 | AN84: =IF(MID($F84,4,2)=(AN$3),1,0) -> 0 | AO84: =IF(MID($F84,6,2)=(AO$3),1,0) -> 0 | AP84: =IF(MID($F84,6,2)=(AP$3),1,0) -> 0 | AQ84: =IF(MID($F84,8,2)=(AQ$3),1,0) -> 0 | AR84: =IF(MID($F84,8,2)=(AR$3),1,0) -> 0 | AS84: =IF(MID($F84,10,2)=(AS$3),1,0) -> 0 | AT84: =IF(MID($F84,10,2)=(AT$3),1,0) -> 0 | AU84: =IF(MID($F84,10,2)=(AU$3),1,0) -> 0 | AV84: =IF(MID($F84,12,2)=(AV$3),1,0) -> 0 | AW84: =IF(MID($F84,12,2)=(AW$3),1,0) -> 0 | AX84: =IF(MID($F84,1,20)=$AX$3,1,0) -> 0 | AY84: =IF(MID($F84,1,20)=$AY$3,1,0) -> 0 | AZ84: =IF(MID($F84,1,20)=$AZ$3,1,0) -> 0 | BA84: =IF(MID($F84,1,20)=$BA$3,1,0) -> 0 | BB84: =IF(MID($F84,4,4)=$X$3,1,0) -> 0 | BC84: =IF(MID($F84,1,20)=$BC$3,1,0) -> 0
A85: ='[1]Fiche d''informations'!B104 -> 0 | B85: ='[1]Fiche d''informations'!C104 -> 0 | C85: ='[1]Fiche d''informations'!D104 -> 0 | D85: ='[1]Fiche d''informations'!E104 -> 0 | E85: ='[1]Fiche d''informations'!F104 -> 0 | H85: =IF(MID($F85,1,2)=$H$3,1,0) -> 0 | I85: =IF(MID($F85,1,2)=$I$3,1,0) -> 0 | J85: =IF(MID($F85,1,2)=$J$3,1,0) -> 0 | K85: =IF(MID($F85,3,2)=$K$3,1,0) -> 0 | L85: =IF(MID($F85,3,2)=$L$3,1,0) -> 0 | M85: =IF(MID($F85,5,2)=$M$3,1,0) -> 0 | N85: =IF(MID($F85,5,2)=$N$3,1,0) -> 0 | O85: =IF(MID($F85,7,2)=$O$3,1,0) -> 0 | P85: =IF(MID($F85,7,2)=$P$3,1,0) -> 0 | Q85: =IF(MID($F85,7,2)=$Q$3,1,0) -> 0 | R85: =IF(MID($F85,9,2)=$R$3,1,0) -> 0 | S85: =IF(MID($F85,9,2)=$S$3,1,0) -> 0 | T85: =IF(MID($F85,1,5)=$T$3,1,0) -> 0 | U85: =IF(MID($F85,1,6)=$U$3,1,0) -> 0 | V85: =IF(MID($F85,1,4)=$V$3,1,0) -> 0 | W85: =IF(MID($F85,1,4)=$W$3,1,0) -> 0 | X85: =IF(MID($F85,1,4)=$X$3,1,0) -> 0 | Y85: =IF(MID($F85,1,4)=$Y$3,1,0) -> 0 | Z85: =IF(MID($G85,1,20)=$Z$3,1,0) -> 0 | AA85: =IF(MID($G85,1,20)=$AA$3,1,0) -> 0 | AB85: =IF(MID($G85,1,20)=$AB$3,1,0) -> 0 | AC85: =IF(MID($G85,1,20)=$AC$3,1,0) -> 0 | AD85: =IF(MID($G85,1,20)=$AD$3,1,0) -> 0 | AE85: =IF(MID($G85,1,20)=$AA$3,1,0) -> 0 | AF85: =IF(MID($G85,1,20)=$AF$3,1,0) -> 0 | AG85: =IF(MID($G85,1,20)=$AG$3,1,0) -> 0 | AH85: =IF(MID($G85,1,20)=$AH$3,1,0) -> 0 | AI85: =IF(MID($G85,1,20)=$AI$3,1,0) -> 0 | AJ85: =IF(MID($G85,1,20)=$AJ$3,1,0) -> 0 | AK85: =IF(MID($G85,1,20)=$AK$3,1,0) -> 0 | AL85: =IF(MID($F85,4,2)=(AL$3),1,0) -> 0 | AM85: =IF(MID($F85,4,2)=(AM$3),1,0) -> 0 | AN85: =IF(MID($F85,4,2)=(AN$3),1,0) -> 0 | AO85: =IF(MID($F85,6,2)=(AO$3),1,0) -> 0 | AP85: =IF(MID($F85,6,2)=(AP$3),1,0) -> 0 | AQ85: =IF(MID($F85,8,2)=(AQ$3),1,0) -> 0 | AR85: =IF(MID($F85,8,2)=(AR$3),1,0) -> 0 | AS85: =IF(MID($F85,10,2)=(AS$3),1,0) -> 0 | AT85: =IF(MID($F85,10,2)=(AT$3),1,0) -> 0 | AU85: =IF(MID($F85,10,2)=(AU$3),1,0) -> 0 | AV85: =IF(MID($F85,12,2)=(AV$3),1,0) -> 0 | AW85: =IF(MID($F85,12,2)=(AW$3),1,0) -> 0 | AX85: =IF(MID($F85,1,20)=$AX$3,1,0) -> 0 | AY85: =IF(MID($F85,1,20)=$AY$3,1,0) -> 0 | AZ85: =IF(MID($F85,1,20)=$AZ$3,1,0) -> 0 | BA85: =IF(MID($F85,1,20)=$BA$3,1,0) -> 0 | BB85: =IF(MID($F85,4,4)=$X$3,1,0) -> 0 | BC85: =IF(MID($F85,1,20)=$BC$3,1,0) -> 0
A86: ='[1]Fiche d''informations'!B105 -> 0 | B86: ='[1]Fiche d''informations'!C105 -> 0 | C86: ='[1]Fiche d''informations'!D105 -> 0 | D86: ='[1]Fiche d''informations'!E105 -> 0 | E86: ='[1]Fiche d''informations'!F105 -> 0 | H86: =IF(MID($F86,1,2)=$H$3,1,0) -> 0 | I86: =IF(MID($F86,1,2)=$I$3,1,0) -> 0 | J86: =IF(MID($F86,1,2)=$J$3,1,0) -> 0 | K86: =IF(MID($F86,3,2)=$K$3,1,0) -> 0 | L86: =IF(MID($F86,3,2)=$L$3,1,0) -> 0 | M86: =IF(MID($F86,5,2)=$M$3,1,0) -> 0 | N86: =IF(MID($F86,5,2)=$N$3,1,0) -> 0 | O86: =IF(MID($F86,7,2)=$O$3,1,0) -> 0 | P86: =IF(MID($F86,7,2)=$P$3,1,0) -> 0 | Q86: =IF(MID($F86,7,2)=$Q$3,1,0) -> 0 | R86: =IF(MID($F86,9,2)=$R$3,1,0) -> 0 | S86: =IF(MID($F86,9,2)=$S$3,1,0) -> 0 | T86: =IF(MID($F86,1,5)=$T$3,1,0) -> 0 | U86: =IF(MID($F86,1,6)=$U$3,1,0) -> 0 | V86: =IF(MID($F86,1,4)=$V$3,1,0) -> 0 | W86: =IF(MID($F86,1,4)=$W$3,1,0) -> 0 | X86: =IF(MID($F86,1,4)=$X$3,1,0) -> 0 | Y86: =IF(MID($F86,1,4)=$Y$3,1,0) -> 0 | Z86: =IF(MID($G86,1,20)=$Z$3,1,0) -> 0 | AA86: =IF(MID($G86,1,20)=$AA$3,1,0) -> 0 | AB86: =IF(MID($G86,1,20)=$AB$3,1,0) -> 0 | AC86: =IF(MID($G86,1,20)=$AC$3,1,0) -> 0 | AD86: =IF(MID($G86,1,20)=$AD$3,1,0) -> 0 | AE86: =IF(MID($G86,1,20)=$AA$3,1,0) -> 0 | AF86: =IF(MID($G86,1,20)=$AF$3,1,0) -> 0 | AG86: =IF(MID($G86,1,20)=$AG$3,1,0) -> 0 | AH86: =IF(MID($G86,1,20)=$AH$3,1,0) -> 0 | AI86: =IF(MID($G86,1,20)=$AI$3,1,0) -> 0 | AJ86: =IF(MID($G86,1,20)=$AJ$3,1,0) -> 0 | AK86: =IF(MID($G86,1,20)=$AK$3,1,0) -> 0 | AL86: =IF(MID($F86,4,2)=(AL$3),1,0) -> 0 | AM86: =IF(MID($F86,4,2)=(AM$3),1,0) -> 0 | AN86: =IF(MID($F86,4,2)=(AN$3),1,0) -> 0 | AO86: =IF(MID($F86,6,2)=(AO$3),1,0) -> 0 | AP86: =IF(MID($F86,6,2)=(AP$3),1,0) -> 0 | AQ86: =IF(MID($F86,8,2)=(AQ$3),1,0) -> 0 | AR86: =IF(MID($F86,8,2)=(AR$3),1,0) -> 0 | AS86: =IF(MID($F86,10,2)=(AS$3),1,0) -> 0 | AT86: =IF(MID($F86,10,2)=(AT$3),1,0) -> 0 | AU86: =IF(MID($F86,10,2)=(AU$3),1,0) -> 0 | AV86: =IF(MID($F86,12,2)=(AV$3),1,0) -> 0 | AW86: =IF(MID($F86,12,2)=(AW$3),1,0) -> 0 | AX86: =IF(MID($F86,1,20)=$AX$3,1,0) -> 0 | AY86: =IF(MID($F86,1,20)=$AY$3,1,0) -> 0 | AZ86: =IF(MID($F86,1,20)=$AZ$3,1,0) -> 0 | BA86: =IF(MID($F86,1,20)=$BA$3,1,0) -> 0 | BB86: =IF(MID($F86,4,4)=$X$3,1,0) -> 0 | BC86: =IF(MID($F86,1,20)=$BC$3,1,0) -> 0
A87: ='[1]Fiche d''informations'!B106 -> 0 | B87: ='[1]Fiche d''informations'!C106 -> 0 | C87: ='[1]Fiche d''informations'!D106 -> 0 | D87: ='[1]Fiche d''informations'!E106 -> 0 | E87: ='[1]Fiche d''informations'!F106 -> 0 | H87: =IF(MID($F87,1,2)=$H$3,1,0) -> 0 | I87: =IF(MID($F87,1,2)=$I$3,1,0) -> 0 | J87: =IF(MID($F87,1,2)=$J$3,1,0) -> 0 | K87: =IF(MID($F87,3,2)=$K$3,1,0) -> 0 | L87: =IF(MID($F87,3,2)=$L$3,1,0) -> 0 | M87: =IF(MID($F87,5,2)=$M$3,1,0) -> 0 | N87: =IF(MID($F87,5,2)=$N$3,1,0) -> 0 | O87: =IF(MID($F87,7,2)=$O$3,1,0) -> 0 | P87: =IF(MID($F87,7,2)=$P$3,1,0) -> 0 | Q87: =IF(MID($F87,7,2)=$Q$3,1,0) -> 0 | R87: =IF(MID($F87,9,2)=$R$3,1,0) -> 0 | S87: =IF(MID($F87,9,2)=$S$3,1,0) -> 0 | T87: =IF(MID($F87,1,5)=$T$3,1,0) -> 0 | U87: =IF(MID($F87,1,6)=$U$3,1,0) -> 0 | V87: =IF(MID($F87,1,4)=$V$3,1,0) -> 0 | W87: =IF(MID($F87,1,4)=$W$3,1,0) -> 0 | X87: =IF(MID($F87,1,4)=$X$3,1,0) -> 0 | Y87: =IF(MID($F87,1,4)=$Y$3,1,0) -> 0 | Z87: =IF(MID($G87,1,20)=$Z$3,1,0) -> 0 | AA87: =IF(MID($G87,1,20)=$AA$3,1,0) -> 0 | AB87: =IF(MID($G87,1,20)=$AB$3,1,0) -> 0 | AC87: =IF(MID($G87,1,20)=$AC$3,1,0) -> 0 | AD87: =IF(MID($G87,1,20)=$AD$3,1,0) -> 0 | AE87: =IF(MID($G87,1,20)=$AA$3,1,0) -> 0 | AF87: =IF(MID($G87,1,20)=$AF$3,1,0) -> 0 | AG87: =IF(MID($G87,1,20)=$AG$3,1,0) -> 0 | AH87: =IF(MID($G87,1,20)=$AH$3,1,0) -> 0 | AI87: =IF(MID($G87,1,20)=$AI$3,1,0) -> 0 | AJ87: =IF(MID($G87,1,20)=$AJ$3,1,0) -> 0 | AK87: =IF(MID($G87,1,20)=$AK$3,1,0) -> 0 | AL87: =IF(MID($F87,4,2)=(AL$3),1,0) -> 0 | AM87: =IF(MID($F87,4,2)=(AM$3),1,0) -> 0 | AN87: =IF(MID($F87,4,2)=(AN$3),1,0) -> 0 | AO87: =IF(MID($F87,6,2)=(AO$3),1,0) -> 0 | AP87: =IF(MID($F87,6,2)=(AP$3),1,0) -> 0 | AQ87: =IF(MID($F87,8,2)=(AQ$3),1,0) -> 0 | AR87: =IF(MID($F87,8,2)=(AR$3),1,0) -> 0 | AS87: =IF(MID($F87,10,2)=(AS$3),1,0) -> 0 | AT87: =IF(MID($F87,10,2)=(AT$3),1,0) -> 0 | AU87: =IF(MID($F87,10,2)=(AU$3),1,0) -> 0 | AV87: =IF(MID($F87,12,2)=(AV$3),1,0) -> 0 | AW87: =IF(MID($F87,12,2)=(AW$3),1,0) -> 0 | AX87: =IF(MID($F87,1,20)=$AX$3,1,0) -> 0 | AY87: =IF(MID($F87,1,20)=$AY$3,1,0) -> 0 | AZ87: =IF(MID($F87,1,20)=$AZ$3,1,0) -> 0 | BA87: =IF(MID($F87,1,20)=$BA$3,1,0) -> 0 | BB87: =IF(MID($F87,4,4)=$X$3,1,0) -> 0 | BC87: =IF(MID($F87,1,20)=$BC$3,1,0) -> 0
... A155: ='[1]Fiche d''informations'!B174 -> FIN | B155: ='[1]Fiche d''informations'!C174 -> FIN | C155: ='[1]Fiche d''informations'!D174 -> FIN | D155: ='[1]Fiche d''informations'!E174 -> FIN | E155: ='[1]Fiche d''informations'!F174 -> FIN | H155: =IF(MID($F155,1,2)=$H$3,1,0) -> 0 | I155: =IF(MID($F155,1,2)=$I$3,1,0) -> 0 | J155: =IF(MID($F155,1,2)=$J$3,1,0) -> 0 | K155: =IF(MID($F155,3,2)=$K$3,1,0) -> 0 | L155: =IF(MID($F155,3,2)=$L$3,1,0) -> 0 | M155: =IF(MID($F155,5,2)=$M$3,1,0) -> 0 | N155: =IF(MID($F155,5,2)=$N$3,1,0) -> 0 | O155: =IF(MID($F155,7,2)=$O$3,1,0) -> 0 | P155: =IF(MID($F155,7,2)=$P$3,1,0) -> 0 | Q155: =IF(MID($F155,7,2)=$Q$3,1,0) -> 0 | R155: =IF(MID($F155,9,2)=$R$3,1,0) -> 0 | S155: =IF(MID($F155,9,2)=$S$3,1,0) -> 0 | T155: =IF(MID($F155,1,5)=$T$3,1,0) -> 0 | U155: =IF(MID($F155,1,6)=$U$3,1,0) -> 0 | V155: =IF(MID($F155,1,4)=$V$3,1,0) -> 0 | W155: =IF(MID($F155,1,4)=$W$3,1,0) -> 0 | X155: =IF(MID($F155,1,4)=$X$3,1,0) -> 0 | Y155: =IF(MID($F155,1,4)=$Y$3,1,0) -> 0 | Z155: =IF(MID($G155,1,20)=$Z$3,1,0) -> 0 | AA155: =IF(MID($G155,1,20)=$AA$3,1,0) -> 0 | AB155: =IF(MID($G155,1,20)=$AB$3,1,0) -> 0 | AC155: =IF(MID($G155,1,20)=$AC$3,1,0) -> 0 | AD155: =IF(MID($G155,1,20)=$AD$3,1,0) -> 0 | AE155: =IF(MID($G155,1,20)=$AA$3,1,0) -> 0 | AF155: =IF(MID($G155,1,20)=$AF$3,1,0) -> 0 | AG155: =IF(MID($G155,1,20)=$AG$3,1,0) -> 0 | AH155: =IF(MID($G155,1,20)=$AH$3,1,0) -> 0 | AI155: =IF(MID($G155,1,20)=$AI$3,1,0) -> 0 | AJ155: =IF(MID($G155,1,20)=$AJ$3,1,0) -> 0 | AK155: =IF(MID($G155,1,20)=$AK$3,1,0) -> 0 | AL155: =IF(MID($F155,4,2)=(AL$3),1,0) -> 0 | AM155: =IF(MID($F155,4,2)=(AM$3),1,0) -> 0 | AN155: =IF(MID($F155,4,2)=(AN$3),1,0) -> 0 | AO155: =IF(MID($F155,6,2)=(AO$3),1,0) -> 0 | AP155: =IF(MID($F155,6,2)=(AP$3),1,0) -> 0 | AQ155: =IF(MID($F155,8,2)=(AQ$3),1,0) -> 0 | AR155: =IF(MID($F155,8,2)=(AR$3),1,0) -> 0 | AS155: =IF(MID($F155,10,2)=(AS$3),1,0) -> 0 | AT155: =IF(MID($F155,10,2)=(AT$3),1,0) -> 0 | AU155: =IF(MID($F155,10,2)=(AU$3),1,0) -> 0 | AV155: =IF(MID($F155,12,2)=(AV$3),1,0) -> 0 | AW155: =IF(MID($F155,12,2)=(AW$3),1,0) -> 0 | AX155: =IF(MID($F155,1,20)=$AX$3,1,0) -> 0 | AY155: =IF(MID($F155,1,20)=$AY$3,1,0) -> 0 | AZ155: =IF(MID($F155,1,20)=$AZ$3,1,0) -> 0 | BA155: =IF(MID($F155,1,20)=$BA$3,1,0) -> 0 | BB155: =IF(MID($F155,4,4)=$X$3,1,0) -> 0 | BC155: =IF(MID($F155,1,20)=$BC$3,1,0) -> 0
F157: TOTAUX | H157: =SUM(H6:H115) -> 4 | I157: =SUM(I6:I115) -> 2 | J157: =SUM(J6:J115) -> 0 | K157: =SUM(K6:K115) -> 5 | L157: =SUM(L6:L115) -> 1 | M157: =SUM(M6:M115) -> 4 | N157: =SUM(N6:N115) -> 2 | O157: =SUM(O6:O115) -> 2 | ... BC157: =SUM(BC6:BC115) -> 0 | BD157: TOTAUX | DB157: TOTAUX | EZ157: TOTAUX | GX157: TOTAUX | IV157: TOTAUX | KT157: TOTAUX
A163: Liste des choix
D164: E1V1A1L1D1 | F164: Mr
D165: E1V1A1L1D2 | F165: Mme
D166: E1V1A1L2D1
D167: E1V1A1L2D2
D168: E1V1A1L3D1
D169: E1V1A1L3D2
D170: E1V1A2L1D1
D171: E1V1A2L1D2
D172: E1V1A2L2D1
D173: E1V1A2L2D2
D174: E1V1A2L3D1
D175: E1V1A2L3D2
D176: E1V2A1L1D1
D177: E1V2A1L1D2
... D331: DlSGSS
