Workbook

Sheet Synthèse globale
A10: =TODAY() -> 42652
A12: CCL5 | C12: noms | D12: motifs
A13: EFFECTIF PRATIQUE | B13: ='CCL5'!A35 -> 5 | C13: {=IFERROR(INDEX(INDIRECT(E13&"!G$13:G$34"),SMALL(IF(INDIRECT(E13&"!G$13:G$34")<>"",ROW(G$13:G$34)-12),COUNTIF(E$13:E13,E13))),"")} -> Cadre A | D13: {=IFERROR(INDEX(INDIRECT(E13&"!E$13:E$34"),SMALL(IF(INDIRECT(E13&"!E$13:E$34")<>"",ROW(H$13:H$34)-12),COUNTIF(E$13:E13,E13))),"")} -> malade | E13: ccl5
A14: EFFECTIF RÉALISÉ | B14: ='CCL5'!B35 -> 4 | C14: {=IFERROR(INDEX(INDIRECT(E14&"!G$13:G$34"),SMALL(IF(INDIRECT(E14&"!G$13:G$34")<>"",ROW(G$13:G$34)-12),COUNTIF(E$13:E14,E14))),"")} -> Cadre A | D14: {=IFERROR(INDEX(INDIRECT(E14&"!E$13:E$34"),SMALL(IF(INDIRECT(E14&"!E$13:E$34")<>"",ROW(H$13:H$34)-12),COUNTIF(E$13:E14,E14))),"")} -> deuil | E14: ccl5
A15: PERMISSIONS / JRC | B15: ='CCL5'!C35 -> 0 | C15: {=IFERROR(INDEX(INDIRECT(E15&"!G$13:G$34"),SMALL(IF(INDIRECT(E15&"!G$13:G$34")<>"",ROW(G$13:G$34)-12),COUNTIF(E$13:E15,E15))),"")} -> Cadre B | D15: {=IFERROR(INDEX(INDIRECT(E15&"!E$13:E$34"),SMALL(IF(INDIRECT(E15&"!E$13:E$34")<>"",ROW(H$13:H$34)-12),COUNTIF(E$13:E15,E15))),"")} -> accidenté | E15: ccl5
A16: ABSENCES (Motifs) | B16: ='CCL5'!D35 -> 0 | C16: {=IFERROR(INDEX(INDIRECT(E16&"!G$13:G$34"),SMALL(IF(INDIRECT(E16&"!G$13:G$34")<>"",ROW(G$13:G$34)-12),COUNTIF(E$13:E16,E16))),"")} -> Cadre B | D16: {=IFERROR(INDEX(INDIRECT(E16&"!E$13:E$34"),SMALL(IF(INDIRECT(E16&"!E$13:E$34")<>"",ROW(H$13:H$34)-12),COUNTIF(E$13:E16,E16))),"")} -> malade | E16: ccl5
C17: {=IFERROR(INDEX(INDIRECT(E17&"!G$13:G$34"),SMALL(IF(INDIRECT(E17&"!G$13:G$34")<>"",ROW(G$13:G$34)-12),COUNTIF(E$13:E17,E17))),"")} -> Cadre C | D17: {=IFERROR(INDEX(INDIRECT(E17&"!E$13:E$34"),SMALL(IF(INDIRECT(E17&"!E$13:E$34")<>"",ROW(H$13:H$34)-12),COUNTIF(E$13:E17,E17))),"")} -> consultation médicale | E17: ccl5
C18: {=IFERROR(INDEX(INDIRECT(E18&"!G$13:G$34"),SMALL(IF(INDIRECT(E18&"!G$13:G$34")<>"",ROW(G$13:G$34)-12),COUNTIF(E$13:E18,E18))),"")} -> Cadre C | D18: {=IFERROR(INDEX(INDIRECT(E18&"!E$13:E$34"),SMALL(IF(INDIRECT(E18&"!E$13:E$34")<>"",ROW(H$13:H$34)-12),COUNTIF(E$13:E18,E18))),"")} -> malade | E18: ccl5
C19: {=IFERROR(INDEX(INDIRECT(E19&"!G$13:G$34"),SMALL(IF(INDIRECT(E19&"!G$13:G$34")<>"",ROW(G$13:G$34)-12),COUNTIF(E$13:E19,E19))),"")} -> Cadre C | D19: {=IFERROR(INDEX(INDIRECT(E19&"!E$13:E$34"),SMALL(IF(INDIRECT(E19&"!E$13:E$34")<>"",ROW(H$13:H$34)-12),COUNTIF(E$13:E19,E19))),"")} -> malade | E19: ccl5
A20: CMAI | C20: {=IFERROR(INDEX(INDIRECT(E20&"!G$13:G$34"),SMALL(IF(INDIRECT(E20&"!G$13:G$34")<>"",ROW(G$13:G$34)-12),COUNTIF(E$13:E20,E20))),"")} | D20: {=IFERROR(INDEX(INDIRECT(E20&"!E$13:E$34"),SMALL(IF(INDIRECT(E20&"!E$13:E$34")<>"",ROW(H$13:H$34)-12),COUNTIF(E$13:E20,E20))),"")}
A21: EFFECTIF PRATIQUE | B21: =CMAI!A35 -> 12 | C21: {=IFERROR(INDEX(INDIRECT(E21&"!G$13:G$34"),SMALL(IF(INDIRECT(E21&"!G$13:G$34")<>"",ROW(G$13:G$34)-12),COUNTIF(E$13:E21,E21))),"")} -> bruno | D21: {=IFERROR(INDEX(INDIRECT(E21&"!E$13:E$34"),SMALL(IF(INDIRECT(E21&"!E$13:E$34")<>"",ROW(H$13:H$34)-12),COUNTIF(E$13:E21,E21))),"")} -> autorisation d'absence | E21: cmai
A22: EFFECTIF RÉALISÉ | B22: =CMAI!B35 -> 11 | C22: {=IFERROR(INDEX(INDIRECT(E22&"!G$13:G$34"),SMALL(IF(INDIRECT(E22&"!G$13:G$34")<>"",ROW(G$13:G$34)-12),COUNTIF(E$13:E22,E22))),"")} -> bruno | D22: {=IFERROR(INDEX(INDIRECT(E22&"!E$13:E$34"),SMALL(IF(INDIRECT(E22&"!E$13:E$34")<>"",ROW(H$13:H$34)-12),COUNTIF(E$13:E22,E22))),"")} -> absence injustifiée | E22: cmai
A23: PERMISSIONS / JRC | B23: =CMAI!C35 -> 0 | C23: {=IFERROR(INDEX(INDIRECT(E23&"!G$13:G$34"),SMALL(IF(INDIRECT(E23&"!G$13:G$34")<>"",ROW(G$13:G$34)-12),COUNTIF(E$13:E23,E23))),"")} -> bruno | D23: {=IFERROR(INDEX(INDIRECT(E23&"!E$13:E$34"),SMALL(IF(INDIRECT(E23&"!E$13:E$34")<>"",ROW(H$13:H$34)-12),COUNTIF(E$13:E23,E23))),"")} -> absence injustifiée | E23: cmai
A24: ABSENCES (Motifs) | B24: =CMAI!D35 -> 0 | C24: {=IFERROR(INDEX(INDIRECT(E24&"!G$13:G$34"),SMALL(IF(INDIRECT(E24&"!G$13:G$34")<>"",ROW(G$13:G$34)-12),COUNTIF(E$13:E24,E24))),"")} -> bruno | D24: {=IFERROR(INDEX(INDIRECT(E24&"!E$13:E$34"),SMALL(IF(INDIRECT(E24&"!E$13:E$34")<>"",ROW(H$13:H$34)-12),COUNTIF(E$13:E24,E24))),"")} -> absence injustifiée | E24: cmai
C25: {=IFERROR(INDEX(INDIRECT(E25&"!G$13:G$34"),SMALL(IF(INDIRECT(E25&"!G$13:G$34")<>"",ROW(G$13:G$34)-12),COUNTIF(E$13:E25,E25))),"")} -> bruno | D25: {=IFERROR(INDEX(INDIRECT(E25&"!E$13:E$34"),SMALL(IF(INDIRECT(E25&"!E$13:E$34")<>"",ROW(H$13:H$34)-12),COUNTIF(E$13:E25,E25))),"")} -> malade | E25: cmai
C26: noms | D26: motifs
C27: {=IFERROR(INDEX(INDIRECT($E27&"!D13:D34"),SMALL(IF(INDIRECT($E27&"!D13:D34")<>"",ROW(D$13:D$36)-12,""),COUNTIF($E$13:$E27,$E27))),"")} | D27: {=IFERROR(INDEX(INDIRECT($E27&"!e13:e34"),SMALL(IF(INDIRECT($E27&"!D13:D34")<>"",ROW(E$13:E$36)-12,""),COUNTIF($E$13:$E27,$E27))),"")} | E27: cavril
C28: {=IFERROR(INDEX(INDIRECT($E28&"!D13:D34"),SMALL(IF(INDIRECT($E28&"!D13:D34")<>"",ROW(D$13:D$36)-12,""),COUNTIF($E$13:$E28,$E28))),"")} | D28: {=IFERROR(INDEX(INDIRECT($E28&"!e13:e34"),SMALL(IF(INDIRECT($E28&"!D13:D34")<>"",ROW(E$13:E$36)-12,""),COUNTIF($E$13:$E28,$E28))),"")} | E28: cavril
C29: {=IFERROR(INDEX(INDIRECT($E29&"!D13:D34"),SMALL(IF(INDIRECT($E29&"!D13:D34")<>"",ROW(D$13:D$36)-12,""),COUNTIF($E$13:$E29,$E29))),"")} | D29: {=IFERROR(INDEX(INDIRECT($E29&"!e13:e34"),SMALL(IF(INDIRECT($E29&"!D13:D34")<>"",ROW(E$13:E$36)-12,""),COUNTIF($E$13:$E29,$E29))),"")} | E29: cavril
C30: {=IFERROR(INDEX(INDIRECT($E30&"!D13:D34"),SMALL(IF(INDIRECT($E30&"!D13:D34")<>"",ROW(D$13:D$36)-12,""),COUNTIF($E$13:$E30,$E30))),"")} | D30: {=IFERROR(INDEX(INDIRECT($E30&"!e13:e34"),SMALL(IF(INDIRECT($E30&"!D13:D34")<>"",ROW(E$13:E$36)-12,""),COUNTIF($E$13:$E30,$E30))),"")} | E30: cavril
C31: {=IFERROR(INDEX(INDIRECT($E31&"!D13:D34"),SMALL(IF(INDIRECT($E31&"!D13:D34")<>"",ROW(D$13:D$36)-12,""),COUNTIF($E$13:$E31,$E31))),"")} | D31: {=IFERROR(INDEX(INDIRECT($E31&"!e13:e34"),SMALL(IF(INDIRECT($E31&"!D13:D34")<>"",ROW(E$13:E$36)-12,""),COUNTIF($E$13:$E31,$E31))),"")} | E31: cavril
C32: {=IFERROR(INDEX(INDIRECT($E32&"!D13:D34"),SMALL(IF(INDIRECT($E32&"!D13:D34")<>"",ROW(D$13:D$36)-12,""),COUNTIF($E$13:$E32,$E32))),"")} | D32: {=IFERROR(INDEX(INDIRECT($E32&"!e13:e34"),SMALL(IF(INDIRECT($E32&"!D13:D34")<>"",ROW(E$13:E$36)-12,""),COUNTIF($E$13:$E32,$E32))),"")} | E32: cavril
C33: {=IFERROR(INDEX(INDIRECT($E33&"!D13:D34"),SMALL(IF(INDIRECT($E33&"!D13:D34")<>"",ROW(D$13:D$36)-12,""),COUNTIF($E$13:$E33,$E33))),"")} | D33: {=IFERROR(INDEX(INDIRECT($E33&"!e13:e34"),SMALL(IF(INDIRECT($E33&"!D13:D34")<>"",ROW(E$13:E$36)-12,""),COUNTIF($E$13:$E33,$E33))),"")} | E33: cavril
C34: {=IFERROR(INDEX(INDIRECT($E34&"!D13:D34"),SMALL(IF(INDIRECT($E34&"!D13:D34")<>"",ROW(D$13:D$36)-12,""),COUNTIF($E$13:$E34,$E34))),"")} | D34: {=IFERROR(INDEX(INDIRECT($E34&"!e13:e34"),SMALL(IF(INDIRECT($E34&"!D13:D34")<>"",ROW(E$13:E$36)-12,""),COUNTIF($E$13:$E34,$E34))),"")} | E34: cavril
C35: {=IFERROR(INDEX(INDIRECT($E35&"!D13:D34"),SMALL(IF(INDIRECT($E35&"!D13:D34")<>"",ROW(D$13:D$36)-12,""),COUNTIF($E$13:$E35,$E35))),"")} | D35: {=IFERROR(INDEX(INDIRECT($E35&"!e13:e34"),SMALL(IF(INDIRECT($E35&"!D13:D34")<>"",ROW(E$13:E$36)-12,""),COUNTIF($E$13:$E35,$E35))),"")} | E35: cavril
C36: {=IFERROR(INDEX(INDIRECT($E36&"!D13:D34"),SMALL(IF(INDIRECT($E36&"!D13:D34")<>"",ROW(D$13:D$36)-12,""),COUNTIF($E$13:$E36,$E36))),"")} | D36: {=IFERROR(INDEX(INDIRECT($E36&"!e13:e34"),SMALL(IF(INDIRECT($E36&"!D13:D34")<>"",ROW(E$13:E$36)-12,""),COUNTIF($E$13:$E36,$E36))),"")} | E36: cavril
A37: =SUM(A13,A21,A27) -> 0 | B37: =SUM(B13,B21,B27) -> 17 | C37: =COUNTA(C13:C19,C21:C25) -> 12 | D37: =COUNTA(D13:D19,D21:D25) -> 12

Sheet CCL5
A10: =TODAY() -> 42652
A11: EFFECTIF PRATIQUE | B11: EFFECTIF RÉALISÉ | C11: PERMISSIONS / JRC | D11: NOMS | E11: ABSENCES (Motifs)
A12: Cadre A | F12: 1
A13: 5 | B13: 4 | C13: 0 | D13: aaaaa | E13: malade | G13: {=IF(D13="","",INDEX(A$12:A$34,MAX(IF(D$13:D13<>"",F$12:F12))))} -> Cadre A
D14: bbbbbb | E14: deuil | G14: {=IF(D14="","",INDEX(A$12:A$34,MAX(IF(D$13:D14<>"",F$12:F13))))} -> Cadre A
G15: {=IF(D15="","",INDEX(A$12:A$34,MAX(IF(D$13:D15<>"",F$12:F14))))}
G16: {=IF(D16="","",INDEX(A$12:A$34,MAX(IF(D$13:D16<>"",F$12:F15))))}
G17: {=IF(D17="","",INDEX(A$12:A$34,MAX(IF(D$13:D17<>"",F$12:F16))))}
A18: Cadre B | F18: 7 | G18: {=IF(D18="","",INDEX(A$12:A$34,MAX(IF(D$13:D18<>"",F$12:F17))))}
A19: =IF(ISBLANK([1]CCL5!A19),"",[1]CCL5!A19) -> 0 | B19: =IF(ISBLANK([1]CCL5!B19),"",[1]CCL5!B19) -> 0 | C19: =IF(ISBLANK([1]CCL5!C19),"",[1]CCL5!C19) -> 0 | D19: cccccc | E19: accidenté | G19: {=IF(D19="","",INDEX(A$12:A$34,MAX(IF(D$13:D19<>"",F$12:F18))))} -> Cadre B
D20: dddd | E20: malade | G20: {=IF(D20="","",INDEX(A$12:A$34,MAX(IF(D$13:D20<>"",F$12:F19))))} -> Cadre B
G21: {=IF(D21="","",INDEX(A$12:A$34,MAX(IF(D$13:D21<>"",F$12:F20))))}
G22: {=IF(D22="","",INDEX(A$12:A$34,MAX(IF(D$13:D22<>"",F$12:F21))))}
G23: {=IF(D23="","",INDEX(A$12:A$34,MAX(IF(D$13:D23<>"",F$12:F22))))}
A24: Cadre C | F24: 13 | G24: {=IF(D24="","",INDEX(A$12:A$34,MAX(IF(D$13:D24<>"",F$12:F23))))}
A25: =IF(ISBLANK([1]CCL5!A25),"",[1]CCL5!A25) -> 0 | B25: =IF(ISBLANK([1]CCL5!B25),"",[1]CCL5!B25) -> 0 | C25: =IF(ISBLANK([1]CCL5!C25),"",[1]CCL5!C25) -> 0 | D25: eeee | E25: consultation médicale | G25: {=IF(D25="","",INDEX(A$12:A$34,MAX(IF(D$13:D25<>"",F$12:F24))))} -> Cadre C
D26: fffff | E26: malade | G26: {=IF(D26="","",INDEX(A$12:A$34,MAX(IF(D$13:D26<>"",F$12:F25))))} -> Cadre C
D27: ggggg | E27: malade | G27: {=IF(D27="","",INDEX(A$12:A$34,MAX(IF(D$13:D27<>"",F$12:F26))))} -> Cadre C
G28: {=IF(D28="","",INDEX(A$12:A$34,MAX(IF(D$13:D28<>"",F$12:F27))))}
G29: {=IF(D29="","",INDEX(A$12:A$34,MAX(IF(D$13:D29<>"",F$12:F28))))}
G30: {=IF(D30="","",INDEX(A$12:A$34,MAX(IF(D$13:D30<>"",F$12:F29))))}
G31: {=IF(D31="","",INDEX(A$12:A$34,MAX(IF(D$13:D31<>"",F$12:F30))))}
G32: {=IF(D32="","",INDEX(A$12:A$34,MAX(IF(D$13:D32<>"",F$12:F31))))}
G33: {=IF(D33="","",INDEX(A$12:A$34,MAX(IF(D$13:D33<>"",F$12:F32))))}
G34: {=IF(D34="","",INDEX(A$12:A$34,MAX(IF(D$13:D34<>"",F$12:F33))))}
A35: =SUM(A13,A19,A25) -> 5 | B35: =SUM(B13,B19,B25) -> 4 | C35: =SUM(C13,C19,C25) -> 0 | D35: =[1]CCL5!$D$35 -> 0 | E35: =[1]CCL5!$E$35 -> 0

Sheet CMAI
A10: =TODAY() -> 42652
A11: EFFECTIF PRATIQUE | B11: EFFECTIF RÉALISÉ | C11: PERMISSIONS / JRC | D11: NOMS | E11: ABSENCES (Motifs)
F12: 1
A13: 12 | B13: 11 | C13: 0 | D13: bruno | E13: autorisation d'absence | G13: {=IF(D13=0,"",INDEX(D$13:D$34,MAX(IF(D$13:D13<>"",F$12:F12))))} -> bruno
D14: serge | E14: absence injustifiée | G14: {=IF(D14=0,"",INDEX(D$13:D$34,MAX(IF(D$13:D14<>"",F$12:F13))))} -> bruno
D15: alain | E15: absence injustifiée | G15: {=IF(D15=0,"",INDEX(D$13:D$34,MAX(IF(D$13:D15<>"",F$12:F14))))} -> bruno
D16: corinne | E16: absence injustifiée | G16: {=IF(D16=0,"",INDEX(D$13:D$34,MAX(IF(D$13:D16<>"",F$12:F15))))} -> bruno
D17: elise | E17: malade | G17: {=IF(D17=0,"",INDEX(D$13:D$34,MAX(IF(D$13:D17<>"",F$12:F16))))} -> bruno
F18: 7 | G18: {=IF(D18=0,"",INDEX(D$13:D$34,MAX(IF(D$13:D18<>"",F$12:F17))))}
A19: =IF(ISBLANK([2]CMAI!A19),"",[2]CMAI!A19) -> 0 | B19: =IF(ISBLANK([2]CMAI!B19),"",[2]CMAI!B19) -> 0 | C19: =IF(ISBLANK([2]CMAI!C19),"",[2]CMAI!C19) -> 0 | D19: tulipe | E19: ok | G19: {=IF(D19=0,"",INDEX(D$13:D$34,MAX(IF(D$13:D19<>"",F$12:F18))))} -> tulipe
D20: aaaaaa | E20: d'accord | G20: {=IF(D20=0,"",INDEX(D$13:D$34,MAX(IF(D$13:D20<>"",F$12:F19))))} -> tulipe
G21: {=IF(D21=0,"",INDEX(D$13:D$34,MAX(IF(D$13:D21<>"",F$12:F20))))}
G22: {=IF(D22=0,"",INDEX(D$13:D$34,MAX(IF(D$13:D22<>"",F$12:F21))))}
G23: {=IF(D23=0,"",INDEX(D$13:D$34,MAX(IF(D$13:D23<>"",F$12:F22))))}
F24: 13 | G24: {=IF(D24=0,"",INDEX(D$13:D$34,MAX(IF(D$13:D24<>"",F$12:F23))))}
A25: =IF(ISBLANK([2]CMAI!A25),"",[2]CMAI!A25) -> 0 | B25: =IF(ISBLANK([2]CMAI!B25),"",[2]CMAI!B25) -> 0 | C25: =IF(ISBLANK([2]CMAI!C25),"",[2]CMAI!C25) -> 0 | D25: guillaume | E25: absent | G25: {=IF(D25=0,"",INDEX(D$13:D$34,MAX(IF(D$13:D25<>"",F$12:F24))))} -> guillaume
G26: {=IF(D26=0,"",INDEX(D$13:D$34,MAX(IF(D$13:D26<>"",F$12:F25))))}
G27: {=IF(D27=0,"",INDEX(D$13:D$34,MAX(IF(D$13:D27<>"",F$12:F26))))}
G28: {=IF(D28=0,"",INDEX(D$13:D$34,MAX(IF(D$13:D28<>"",F$12:F27))))}
G29: {=IF(D29=0,"",INDEX(D$13:D$34,MAX(IF(D$13:D29<>"",F$12:F28))))}
G30: {=IF(D30=0,"",INDEX(D$13:D$34,MAX(IF(D$13:D30<>"",F$12:F29))))}
G31: {=IF(D31=0,"",INDEX(D$13:D$34,MAX(IF(D$13:D31<>"",F$12:F30))))}
G32: {=IF(D32=0,"",INDEX(D$13:D$34,MAX(IF(D$13:D32<>"",F$12:F31))))}
G33: {=IF(D33=0,"",INDEX(D$13:D$34,MAX(IF(D$13:D33<>"",F$12:F32))))}
G34: {=IF(D34=0,"",INDEX(D$13:D$34,MAX(IF(D$13:D34<>"",F$12:F33))))}
A35: =SUM(A13,A19,A25) -> 12 | B35: =SUM(B13,B19,B25) -> 11 | C35: =SUM(C13,C19,C25) -> 0 | E35: =SUM(E13:E17) -> 0

Sheet CAVRIL
