Workbook
Name atlass: 'FACTURATION ANNEE 2020'!$BB$78
Name bp: 'FACTURATION ANNEE 2020'!#REF!
Name brunaud: 'FACTURATION ANNEE 2020'!$BB$77
Name CAN: 'FACTURATION ANNEE 2020'!$BB$76
Name datlass: 'FACTURATION ANNEE 2020'!#REF!
Name dpae: 'FACTURATION ANNEE 2020'!#REF!
Name maladie: 'FACTURATION ANNEE 2020'!#REF!
Name PAS: 'FACTURATION ANNEE 2020'!#REF!
Name stc: 'FACTURATION ANNEE 2020'!#REF!
Name stcatlass: 'FACTURATION ANNEE 2020'!$BE$76

Sheet FACTURATION ANNEE 2020
A3: CODE | B3: CLIENT | C3: Janvier | F3: Février | I3: Mars | L3: 1er TRIMESTRE | O3: Avril | R3: Mai | U3: Juin | X3: 2ème TRIMESTRE | AA3: Juillet | AD3: Août | AG3: Septembre | AJ3: 3ème TRIMESTRE | AM3: Octobre | AP3: Novembre | AS3: Décembre | AV3: 4ème TRIMESTRE | AY3: Nombre total bulletins | AZ3: Tarif unitaire | BA3: TOTAL | BB3: Arrêt maladie ou AT | BC3: Tarif unitaire | BD3: TOTAL | BE3: Nombre STC | BF3: Tarif unitaire | BG3: TOTAL | BH3: TOTAUX GLOBAUX
C4: BULL | D4: MAL/AT | E4: STC | F4: BULL | G4: MAL/AT | H4: STC | I4: BULL | J4: MAL/AT | K4: STC | L4: BULL | M4: MAL/AT | N4: STC | O4: BULL | P4: MAL/AT | Q4: STC | R4: BULL | S4: MAL/AT | T4: STC | U4: BULL | V4: MAL/AT | W4: STC | X4: BULL | Y4: MAL/AT | Z4: STC | AA4: BULL | AB4: MAL/AT | AC4: STC | AD4: BULL | AE4: MAL/AT | AF4: STC | AG4: BULL | AH4: MAL/AT | AI4: STC | AJ4: BULL | AK4: MAL/AT | AL4: STC | AM4: BULL | AN4: MAL/AT | AO4: STC | AP4: BULL | AQ4: MAL/AT | AR4: STC | AS4: BULL | AT4: MAL/AT | AU4: STC | AV4: BULL | AW4: MAL/AT | AX4: STC
A5: 08090A | B5: BIDULE | C5: 3 | E5: 1 | F5: 2 | L5: =C5+F5+I5 -> 5 | M5: =D5+G5+J5 -> 0 | N5: =E5+H5+K5 -> 1 | X5: =O5+R5+U5 -> 0 | Y5: =P5+S5+V5 -> 0 | Z5: =Q5+T5+W5 -> 0 | AJ5: =AA5+AD5+AG5 -> 0 | AK5: =AB5+AE5+AH5 -> 0 | AL5: =AC5+AF5+AI5 -> 0 | AV5: =AM5+AP5+AS5 -> 0 | AW5: =AN5+AQ5+AT5 -> 0 | AX5: =AO5+AR5+AU5 -> 0 | AY5: =L5+X5+AJ5+AV5 -> 5 | AZ5: ='REFERENCES TARIF'!C3 -> 25 | BA5: =AY5*AZ5 -> 125 | BB5: =M5+Y5+AK5+AW5 -> 0 | BC5: ='REFERENCES TARIF'!D3 -> 20 | BD5: =BB5*BC5 -> 0 | BE5: =N5+Z5+AL5+AX5 -> 1 | BF5: ='REFERENCES TARIF'!E3 -> 20 | BG5: =BE5*BF5 -> 20 | BH5: =BA5+BD5+BG5 -> 145
A6: 08004A | B6: MACHIN | C6: 2 | F6: 2 | L6: =C6+F6+I6 -> 4 | M6: =D6+G6+J6 -> 0 | N6: =E6+H6+K6 -> 0 | X6: =O6+R6+U6 -> 0 | Y6: =P6+S6+V6 -> 0 | Z6: =Q6+T6+W6 -> 0 | AJ6: =AA6+AD6+AG6 -> 0 | AK6: =AB6+AE6+AH6 -> 0 | AL6: =AC6+AF6+AI6 -> 0 | AV6: =AM6+AP6+AS6 -> 0 | AW6: =AN6+AQ6+AT6 -> 0 | AX6: =AO6+AR6+AU6 -> 0 | AY6: =L6+X6+AJ6+AV6 -> 4 | AZ6: ='REFERENCES TARIF'!C4 -> 20 | BA6: =AY6*AZ6 -> 80 | BB6: =M6+Y6+AK6+AW6 -> 0 | BC6: ='REFERENCES TARIF'!D4 -> 20 | BD6: =BB6*BC6 -> 0 | BE6: =N6+Z6+AL6+AX6 -> 0 | BF6: ='REFERENCES TARIF'!E4 -> 20 | BG6: =BE6*BF6 -> 0 | BH6: =BA6+BD6+BG6 -> 80
A7: 0810417 | B7: CHOUETTE | C7: 1 | F7: 1 | L7: =C7+F7+I7 -> 2 | M7: =D7+G7+J7 -> 0 | N7: =E7+H7+K7 -> 0 | X7: =O7+R7+U7 -> 0 | Y7: =P7+S7+V7 -> 0 | Z7: =Q7+T7+W7 -> 0 | AJ7: =AA7+AD7+AG7 -> 0 | AK7: =AB7+AE7+AH7 -> 0 | AL7: =AC7+AF7+AI7 -> 0 | AV7: =AM7+AP7+AS7 -> 0 | AW7: =AN7+AQ7+AT7 -> 0 | AX7: =AO7+AR7+AU7 -> 0 | AY7: =L7+X7+AJ7+AV7 -> 2 | AZ7: ='REFERENCES TARIF'!C5 -> 18 | BA7: =AY7*AZ7 -> 36 | BB7: =M7+Y7+AK7+AW7 -> 0 | BC7: ='REFERENCES TARIF'!D5 -> 15 | BD7: =BB7*BC7 -> 0 | BE7: =N7+Z7+AL7+AX7 -> 0 | BF7: ='REFERENCES TARIF'!E5 -> 16 | BG7: =BE7*BF7 -> 0 | BH7: =BA7+BD7+BG7 -> 36
L8: =C8+F8+I8 -> 0 | M8: =D8+G8+J8 -> 0 | N8: =E8+H8+K8 -> 0 | X8: =O8+R8+U8 -> 0 | Y8: =P8+S8+V8 -> 0 | Z8: =Q8+T8+W8 -> 0 | AJ8: =AA8+AD8+AG8 -> 0 | AK8: =AB8+AE8+AH8 -> 0 | AL8: =AC8+AF8+AI8 -> 0 | AV8: =AM8+AP8+AS8 -> 0 | AW8: =AN8+AQ8+AT8 -> 0 | AX8: =AO8+AR8+AU8 -> 0 | AY8: =L8+X8+AJ8+AV8 -> 0 | AZ8: ='REFERENCES TARIF'!C6 -> 0 | BA8: =AY8*AZ8 -> 0 | BB8: =M8+Y8+AK8+AW8 -> 0 | BC8: ='REFERENCES TARIF'!D6 -> 0 | BD8: =BB8*BC8 -> 0 | BE8: =N8+Z8+AL8+AX8 -> 0 | BF8: ='REFERENCES TARIF'!E6 -> 0 | BG8: =BE8*BF8 -> 0 | BH8: =BA8+BD8+BG8 -> 0
L9: =C9+F9+I9 -> 0 | M9: =D9+G9+J9 -> 0 | N9: =E9+H9+K9 -> 0 | X9: =O9+R9+U9 -> 0 | Y9: =P9+S9+V9 -> 0 | Z9: =Q9+T9+W9 -> 0 | AJ9: =AA9+AD9+AG9 -> 0 | AK9: =AB9+AE9+AH9 -> 0 | AL9: =AC9+AF9+AI9 -> 0 | AV9: =AM9+AP9+AS9 -> 0 | AW9: =AN9+AQ9+AT9 -> 0 | AX9: =AO9+AR9+AU9 -> 0 | AY9: =L9+X9+AJ9+AV9 -> 0 | AZ9: ='REFERENCES TARIF'!C7 -> 0 | BA9: =AY9*AZ9 -> 0 | BB9: =M9+Y9+AK9+AW9 -> 0 | BC9: ='REFERENCES TARIF'!D7 -> 0 | BD9: =BB9*BC9 -> 0 | BE9: =N9+Z9+AL9+AX9 -> 0 | BF9: ='REFERENCES TARIF'!E7 -> 0 | BG9: =BE9*BF9 -> 0 | BH9: =BA9+BD9+BG9 -> 0
L10: =C10+F10+I10 -> 0 | M10: =D10+G10+J10 -> 0 | N10: =E10+H10+K10 -> 0 | X10: =O10+R10+U10 -> 0 | Y10: =P10+S10+V10 -> 0 | Z10: =Q10+T10+W10 -> 0 | AJ10: =AA10+AD10+AG10 -> 0 | AK10: =AB10+AE10+AH10 -> 0 | AL10: =AC10+AF10+AI10 -> 0 | AV10: =AM10+AP10+AS10 -> 0 | AW10: =AN10+AQ10+AT10 -> 0 | AX10: =AO10+AR10+AU10 -> 0 | AY10: =L10+X10+AJ10+AV10 -> 0 | AZ10: ='REFERENCES TARIF'!C8 -> 0 | BA10: =AY10*AZ10 -> 0 | BB10: =M10+Y10+AK10+AW10 -> 0 | BC10: ='REFERENCES TARIF'!D8 -> 0 | BD10: =BB10*BC10 -> 0 | BE10: =N10+Z10+AL10+AX10 -> 0 | BF10: ='REFERENCES TARIF'!E8 -> 0 | BG10: =BE10*BF10 -> 0 | BH10: =BA10+BD10+BG10 -> 0
L11: =C11+F11+I11 -> 0 | M11: =D11+G11+J11 -> 0 | N11: =E11+H11+K11 -> 0 | X11: =O11+R11+U11 -> 0 | Y11: =P11+S11+V11 -> 0 | Z11: =Q11+T11+W11 -> 0 | AJ11: =AA11+AD11+AG11 -> 0 | AK11: =AB11+AE11+AH11 -> 0 | AL11: =AC11+AF11+AI11 -> 0 | AV11: =AM11+AP11+AS11 -> 0 | AW11: =AN11+AQ11+AT11 -> 0 | AX11: =AO11+AR11+AU11 -> 0 | AY11: =L11+X11+AJ11+AV11 -> 0 | AZ11: ='REFERENCES TARIF'!C9 -> 0 | BA11: =AY11*AZ11 -> 0 | BB11: =M11+Y11+AK11+AW11 -> 0 | BC11: ='REFERENCES TARIF'!D9 -> 0 | BD11: =BB11*BC11 -> 0 | BE11: =N11+Z11+AL11+AX11 -> 0 | BF11: ='REFERENCES TARIF'!E9 -> 0 | BG11: =BE11*BF11 -> 0 | BH11: =BA11+BD11+BG11 -> 0
L12: =C12+F12+I12 -> 0 | M12: =D12+G12+J12 -> 0 | N12: =E12+H12+K12 -> 0 | X12: =O12+R12+U12 -> 0 | Y12: =P12+S12+V12 -> 0 | Z12: =Q12+T12+W12 -> 0 | AJ12: =AA12+AD12+AG12 -> 0 | AK12: =AB12+AE12+AH12 -> 0 | AL12: =AC12+AF12+AI12 -> 0 | AV12: =AM12+AP12+AS12 -> 0 | AW12: =AN12+AQ12+AT12 -> 0 | AX12: =AO12+AR12+AU12 -> 0 | AY12: =L12+X12+AJ12+AV12 -> 0 | AZ12: ='REFERENCES TARIF'!C10 -> 0 | BA12: =AY12*AZ12 -> 0 | BB12: =M12+Y12+AK12+AW12 -> 0 | BC12: ='REFERENCES TARIF'!D10 -> 0 | BD12: =BB12*BC12 -> 0 | BE12: =N12+Z12+AL12+AX12 -> 0 | BF12: ='REFERENCES TARIF'!E10 -> 0 | BG12: =BE12*BF12 -> 0 | BH12: =BA12+BD12+BG12 -> 0
L13: =C13+F13+I13 -> 0 | M13: =D13+G13+J13 -> 0 | N13: =E13+H13+K13 -> 0 | X13: =O13+R13+U13 -> 0 | Y13: =P13+S13+V13 -> 0 | Z13: =Q13+T13+W13 -> 0 | AJ13: =AA13+AD13+AG13 -> 0 | AK13: =AB13+AE13+AH13 -> 0 | AL13: =AC13+AF13+AI13 -> 0 | AV13: =AM13+AP13+AS13 -> 0 | AW13: =AN13+AQ13+AT13 -> 0 | AX13: =AO13+AR13+AU13 -> 0 | AY13: =L13+X13+AJ13+AV13 -> 0 | AZ13: ='REFERENCES TARIF'!C11 -> 0 | BA13: =AY13*AZ13 -> 0 | BB13: =M13+Y13+AK13+AW13 -> 0 | BC13: ='REFERENCES TARIF'!D11 -> 0 | BD13: =BB13*BC13 -> 0 | BE13: =N13+Z13+AL13+AX13 -> 0 | BF13: ='REFERENCES TARIF'!E11 -> 0 | BG13: =BE13*BF13 -> 0 | BH13: =BA13+BD13+BG13 -> 0
L14: =C14+F14+I14 -> 0 | M14: =D14+G14+J14 -> 0 | N14: =E14+H14+K14 -> 0 | X14: =O14+R14+U14 -> 0 | Y14: =P14+S14+V14 -> 0 | Z14: =Q14+T14+W14 -> 0 | AJ14: =AA14+AD14+AG14 -> 0 | AK14: =AB14+AE14+AH14 -> 0 | AL14: =AC14+AF14+AI14 -> 0 | AV14: =AM14+AP14+AS14 -> 0 | AW14: =AN14+AQ14+AT14 -> 0 | AX14: =AO14+AR14+AU14 -> 0 | AY14: =L14+X14+AJ14+AV14 -> 0 | AZ14: ='REFERENCES TARIF'!C12 -> 0 | BA14: =AY14*AZ14 -> 0 | BB14: =M14+Y14+AK14+AW14 -> 0 | BC14: ='REFERENCES TARIF'!D12 -> 0 | BD14: =BB14*BC14 -> 0 | BE14: =N14+Z14+AL14+AX14 -> 0 | BF14: ='REFERENCES TARIF'!E12 -> 0 | BG14: =BE14*BF14 -> 0 | BH14: =BA14+BD14+BG14 -> 0
L15: =C15+F15+I15 -> 0 | M15: =D15+G15+J15 -> 0 | N15: =E15+H15+K15 -> 0 | X15: =O15+R15+U15 -> 0 | Y15: =P15+S15+V15 -> 0 | Z15: =Q15+T15+W15 -> 0 | AJ15: =AA15+AD15+AG15 -> 0 | AK15: =AB15+AE15+AH15 -> 0 | AL15: =AC15+AF15+AI15 -> 0 | AV15: =AM15+AP15+AS15 -> 0 | AW15: =AN15+AQ15+AT15 -> 0 | AX15: =AO15+AR15+AU15 -> 0 | AY15: =L15+X15+AJ15+AV15 -> 0 | AZ15: ='REFERENCES TARIF'!C13 -> 0 | BA15: =AY15*AZ15 -> 0 | BB15: =M15+Y15+AK15+AW15 -> 0 | BC15: ='REFERENCES TARIF'!D13 -> 0 | BD15: =BB15*BC15 -> 0 | BE15: =N15+Z15+AL15+AX15 -> 0 | BF15: ='REFERENCES TARIF'!E13 -> 0 | BG15: =BE15*BF15 -> 0 | BH15: =BA15+BD15+BG15 -> 0
L16: =C16+F16+I16 -> 0 | M16: =D16+G16+J16 -> 0 | N16: =E16+H16+K16 -> 0 | X16: =O16+R16+U16 -> 0 | Y16: =P16+S16+V16 -> 0 | Z16: =Q16+T16+W16 -> 0 | AJ16: =AA16+AD16+AG16 -> 0 | AK16: =AB16+AE16+AH16 -> 0 | AL16: =AC16+AF16+AI16 -> 0 | AV16: =AM16+AP16+AS16 -> 0 | AW16: =AN16+AQ16+AT16 -> 0 | AX16: =AO16+AR16+AU16 -> 0 | AY16: =L16+X16+AJ16+AV16 -> 0 | AZ16: ='REFERENCES TARIF'!C14 -> 0 | BA16: =AY16*AZ16 -> 0 | BB16: =M16+Y16+AK16+AW16 -> 0 | BC16: ='REFERENCES TARIF'!D14 -> 0 | BD16: =BB16*BC16 -> 0 | BE16: =N16+Z16+AL16+AX16 -> 0 | BF16: ='REFERENCES TARIF'!E14 -> 0 | BG16: =BE16*BF16 -> 0 | BH16: =BA16+BD16+BG16 -> 0
L17: =C17+F17+I17 -> 0 | M17: =D17+G17+J17 -> 0 | N17: =E17+H17+K17 -> 0 | X17: =O17+R17+U17 -> 0 | Y17: =P17+S17+V17 -> 0 | Z17: =Q17+T17+W17 -> 0 | AJ17: =AA17+AD17+AG17 -> 0 | AK17: =AB17+AE17+AH17 -> 0 | AL17: =AC17+AF17+AI17 -> 0 | AV17: =AM17+AP17+AS17 -> 0 | AW17: =AN17+AQ17+AT17 -> 0 | AX17: =AO17+AR17+AU17 -> 0 | AY17: =L17+X17+AJ17+AV17 -> 0 | AZ17: ='REFERENCES TARIF'!C15 -> 0 | BA17: =AY17*AZ17 -> 0 | BB17: =M17+Y17+AK17+AW17 -> 0 | BC17: ='REFERENCES TARIF'!D15 -> 0 | BD17: =BB17*BC17 -> 0 | BE17: =N17+Z17+AL17+AX17 -> 0 | BF17: ='REFERENCES TARIF'!E15 -> 0 | BG17: =BE17*BF17 -> 0 | BH17: =BA17+BD17+BG17 -> 0
L18: =C18+F18+I18 -> 0 | M18: =D18+G18+J18 -> 0 | N18: =E18+H18+K18 -> 0 | X18: =O18+R18+U18 -> 0 | Y18: =P18+S18+V18 -> 0 | Z18: =Q18+T18+W18 -> 0 | AJ18: =AA18+AD18+AG18 -> 0 | AK18: =AB18+AE18+AH18 -> 0 | AL18: =AC18+AF18+AI18 -> 0 | AV18: =AM18+AP18+AS18 -> 0 | AW18: =AN18+AQ18+AT18 -> 0 | AX18: =AO18+AR18+AU18 -> 0 | AY18: =L18+X18+AJ18+AV18 -> 0 | AZ18: ='REFERENCES TARIF'!C16 -> 0 | BA18: =AY18*AZ18 -> 0 | BB18: =M18+Y18+AK18+AW18 -> 0 | BC18: ='REFERENCES TARIF'!D16 -> 0 | BD18: =BB18*BC18 -> 0 | BE18: =N18+Z18+AL18+AX18 -> 0 | BF18: ='REFERENCES TARIF'!E16 -> 0 | BG18: =BE18*BF18 -> 0 | BH18: =BA18+BD18+BG18 -> 0
L19: =C19+F19+I19 -> 0 | M19: =D19+G19+J19 -> 0 | N19: =E19+H19+K19 -> 0 | X19: =O19+R19+U19 -> 0 | Y19: =P19+S19+V19 -> 0 | Z19: =Q19+T19+W19 -> 0 | AJ19: =AA19+AD19+AG19 -> 0 | AK19: =AB19+AE19+AH19 -> 0 | AL19: =AC19+AF19+AI19 -> 0 | AV19: =AM19+AP19+AS19 -> 0 | AW19: =AN19+AQ19+AT19 -> 0 | AX19: =AO19+AR19+AU19 -> 0 | AY19: =L19+X19+AJ19+AV19 -> 0 | AZ19: ='REFERENCES TARIF'!C17 -> 0 | BA19: =AY19*AZ19 -> 0 | BB19: =M19+Y19+AK19+AW19 -> 0 | BC19: ='REFERENCES TARIF'!D17 -> 0 | BD19: =BB19*BC19 -> 0 | BE19: =N19+Z19+AL19+AX19 -> 0 | BF19: ='REFERENCES TARIF'!E17 -> 0 | BG19: =BE19*BF19 -> 0 | BH19: =BA19+BD19+BG19 -> 0
... L50: =C50+F50+I50 -> 0 | M50: =D50+G50+J50 -> 0 | N50: =E50+H50+K50 -> 0 | X50: =O50+R50+U50 -> 0 | Y50: =P50+S50+V50 -> 0 | Z50: =Q50+T50+W50 -> 0 | AJ50: =AA50+AD50+AG50 -> 0 | AK50: =AB50+AE50+AH50 -> 0 | AL50: =AC50+AF50+AI50 -> 0 | AV50: =AM50+AP50+AS50 -> 0 | AW50: =AN50+AQ50+AT50 -> 0 | AX50: =AO50+AR50+AU50 -> 0 | AY50: =L50+X50+AJ50+AV50 -> 0 | AZ50: ='REFERENCES TARIF'!C48 -> 0 | BA50: =AY50*AZ50 -> 0 | BB50: =M50+Y50+AK50+AW50 -> 0 | BC50: ='REFERENCES TARIF'!D48 -> 0 | BD50: =BB50*BC50 -> 0 | BE50: =N50+Z50+AL50+AX50 -> 0 | BF50: ='REFERENCES TARIF'!E48 -> 0 | BG50: =BE50*BF50 -> 0 | BH50: =BA50+BD50+BG50 -> 0
L51: =C51+F51+I51 -> 0 | M51: =D51+G51+J51 -> 0 | N51: =E51+H51+K51 -> 0 | X51: =O51+R51+U51 -> 0 | Y51: =P51+S51+V51 -> 0 | Z51: =Q51+T51+W51 -> 0 | AJ51: =AA51+AD51+AG51 -> 0 | AK51: =AB51+AE51+AH51 -> 0 | AL51: =AC51+AF51+AI51 -> 0 | AV51: =AM51+AP51+AS51 -> 0 | AW51: =AN51+AQ51+AT51 -> 0 | AX51: =AO51+AR51+AU51 -> 0 | AY51: =L51+X51+AJ51+AV51 -> 0 | AZ51: ='REFERENCES TARIF'!C48 -> 0 | BA51: =AY51*AZ51 -> 0 | BB51: =M51+Y51+AK51+AW51 -> 0 | BC51: ='REFERENCES TARIF'!D48 -> 0 | BD51: =BB51*BC51 -> 0 | BE51: =N51+Z51+AL51+AX51 -> 0 | BF51: ='REFERENCES TARIF'!E48 -> 0 | BG51: =BE51*BF51 -> 0 | BH51: =BA51+BD51+BG51 -> 0
L52: =C52+F52+I52 -> 0 | M52: =D52+G52+J52 -> 0 | N52: =E52+H52+K52 -> 0 | X52: =O52+R52+U52 -> 0 | Y52: =P52+S52+V52 -> 0 | Z52: =Q52+T52+W52 -> 0 | AJ52: =AA52+AD52+AG52 -> 0 | AK52: =AB52+AE52+AH52 -> 0 | AL52: =AC52+AF52+AI52 -> 0 | AV52: =AM52+AP52+AS52 -> 0 | AW52: =AN52+AQ52+AT52 -> 0 | AX52: =AO52+AR52+AU52 -> 0 | AY52: =L52+X52+AJ52+AV52 -> 0 | AZ52: ='REFERENCES TARIF'!C49 -> 0 | BA52: =AY52*AZ52 -> 0 | BB52: =M52+Y52+AK52+AW52 -> 0 | BC52: ='REFERENCES TARIF'!D49 -> 0 | BD52: =BB52*BC52 -> 0 | BE52: =N52+Z52+AL52+AX52 -> 0 | BF52: ='REFERENCES TARIF'!E49 -> 0 | BG52: =BE52*BF52 -> 0 | BH52: =BA52+BD52+BG52 -> 0
L53: =C53+F53+I53 -> 0 | M53: =D53+G53+J53 -> 0 | N53: =E53+H53+K53 -> 0 | X53: =O53+R53+U53 -> 0 | Y53: =P53+S53+V53 -> 0 | Z53: =Q53+T53+W53 -> 0 | AJ53: =AA53+AD53+AG53 -> 0 | AK53: =AB53+AE53+AH53 -> 0 | AL53: =AC53+AF53+AI53 -> 0 | AV53: =AM53+AP53+AS53 -> 0 | AW53: =AN53+AQ53+AT53 -> 0 | AX53: =AO53+AR53+AU53 -> 0 | AY53: =L53+X53+AJ53+AV53 -> 0 | AZ53: ='REFERENCES TARIF'!C50 -> 0 | BA53: =AY53*AZ53 -> 0 | BB53: =M53+Y53+AK53+AW53 -> 0 | BC53: ='REFERENCES TARIF'!D50 -> 0 | BD53: =BB53*BC53 -> 0 | BE53: =N53+Z53+AL53+AX53 -> 0 | BF53: ='REFERENCES TARIF'!E50 -> 0 | BG53: =BE53*BF53 -> 0 | BH53: =BA53+BD53+BG53 -> 0
L54: =C54+F54+I54 -> 0 | M54: =D54+G54+J54 -> 0 | N54: =E54+H54+K54 -> 0 | X54: =O54+R54+U54 -> 0 | Y54: =P54+S54+V54 -> 0 | Z54: =Q54+T54+W54 -> 0 | AJ54: =AA54+AD54+AG54 -> 0 | AK54: =AB54+AE54+AH54 -> 0 | AL54: =AC54+AF54+AI54 -> 0 | AV54: =AM54+AP54+AS54 -> 0 | AW54: =AN54+AQ54+AT54 -> 0 | AX54: =AO54+AR54+AU54 -> 0 | AY54: =L54+X54+AJ54+AV54 -> 0 | AZ54: ='REFERENCES TARIF'!C51 -> 0 | BA54: =AY54*AZ54 -> 0 | BB54: =M54+Y54+AK54+AW54 -> 0 | BC54: ='REFERENCES TARIF'!D51 -> 0 | BD54: =BB54*BC54 -> 0 | BE54: =N54+Z54+AL54+AX54 -> 0 | BF54: ='REFERENCES TARIF'!E51 -> 0 | BG54: =BE54*BF54 -> 0 | BH54: =BA54+BD54+BG54 -> 0
L55: =C55+F55+I55 -> 0 | M55: =D55+G55+J55 -> 0 | N55: =E55+H55+K55 -> 0 | X55: =O55+R55+U55 -> 0 | Y55: =P55+S55+V55 -> 0 | Z55: =Q55+T55+W55 -> 0 | AJ55: =AA55+AD55+AG55 -> 0 | AK55: =AB55+AE55+AH55 -> 0 | AL55: =AC55+AF55+AI55 -> 0 | AV55: =AM55+AP55+AS55 -> 0 | AW55: =AN55+AQ55+AT55 -> 0 | AX55: =AO55+AR55+AU55 -> 0 | AY55: =L55+X55+AJ55+AV55 -> 0 | AZ55: ='REFERENCES TARIF'!C52 -> 0 | BA55: =AY55*AZ55 -> 0 | BB55: =M55+Y55+AK55+AW55 -> 0 | BC55: ='REFERENCES TARIF'!D52 -> 0 | BD55: =BB55*BC55 -> 0 | BE55: =N55+Z55+AL55+AX55 -> 0 | BF55: ='REFERENCES TARIF'!E52 -> 0 | BG55: =BE55*BF55 -> 0 | BH55: =BA55+BD55+BG55 -> 0
L56: =C56+F56+I56 -> 0 | M56: =D56+G56+J56 -> 0 | N56: =E56+H56+K56 -> 0 | X56: =O56+R56+U56 -> 0 | Y56: =P56+S56+V56 -> 0 | Z56: =Q56+T56+W56 -> 0 | AJ56: =AA56+AD56+AG56 -> 0 | AK56: =AB56+AE56+AH56 -> 0 | AL56: =AC56+AF56+AI56 -> 0 | AV56: =AM56+AP56+AS56 -> 0 | AW56: =AN56+AQ56+AT56 -> 0 | AX56: =AO56+AR56+AU56 -> 0 | AY56: =L56+X56+AJ56+AV56 -> 0 | AZ56: ='REFERENCES TARIF'!C53 -> 0 | BA56: =AY56*AZ56 -> 0 | BB56: =M56+Y56+AK56+AW56 -> 0 | BC56: ='REFERENCES TARIF'!D53 -> 0 | BD56: =BB56*BC56 -> 0 | BE56: =N56+Z56+AL56+AX56 -> 0 | BF56: ='REFERENCES TARIF'!E53 -> 0 | BG56: =BE56*BF56 -> 0 | BH56: =BA56+BD56+BG56 -> 0
L57: =C57+F57+I57 -> 0 | M57: =D57+G57+J57 -> 0 | N57: =E57+H57+K57 -> 0 | X57: =O57+R57+U57 -> 0 | Y57: =P57+S57+V57 -> 0 | Z57: =Q57+T57+W57 -> 0 | AJ57: =AA57+AD57+AG57 -> 0 | AK57: =AB57+AE57+AH57 -> 0 | AL57: =AC57+AF57+AI57 -> 0 | AV57: =AM57+AP57+AS57 -> 0 | AW57: =AN57+AQ57+AT57 -> 0 | AX57: =AO57+AR57+AU57 -> 0 | AY57: =L57+X57+AJ57+AV57 -> 0 | AZ57: ='REFERENCES TARIF'!C54 -> 0 | BA57: =AY57*AZ57 -> 0 | BB57: =M57+Y57+AK57+AW57 -> 0 | BC57: ='REFERENCES TARIF'!D54 -> 0 | BD57: =BB57*BC57 -> 0 | BE57: =N57+Z57+AL57+AX57 -> 0 | BF57: ='REFERENCES TARIF'!E54 -> 0 | BG57: =BE57*BF57 -> 0 | BH57: =BA57+BD57+BG57 -> 0
L58: =C58+F58+I58 -> 0 | M58: =D58+G58+J58 -> 0 | N58: =E58+H58+K58 -> 0 | X58: =O58+R58+U58 -> 0 | Y58: =P58+S58+V58 -> 0 | Z58: =Q58+T58+W58 -> 0 | AJ58: =AA58+AD58+AG58 -> 0 | AK58: =AB58+AE58+AH58 -> 0 | AL58: =AC58+AF58+AI58 -> 0 | AV58: =AM58+AP58+AS58 -> 0 | AW58: =AN58+AQ58+AT58 -> 0 | AX58: =AO58+AR58+AU58 -> 0 | AY58: =L58+X58+AJ58+AV58 -> 0 | AZ58: ='REFERENCES TARIF'!C55 -> 0 | BA58: =AY58*AZ58 -> 0 | BB58: =M58+Y58+AK58+AW58 -> 0 | BC58: ='REFERENCES TARIF'!D55 -> 0 | BD58: =BB58*BC58 -> 0 | BE58: =N58+Z58+AL58+AX58 -> 0 | BF58: ='REFERENCES TARIF'!E55 -> 0 | BG58: =BE58*BF58 -> 0 | BH58: =BA58+BD58+BG58 -> 0
L59: =C59+F59+I59 -> 0 | M59: =D59+G59+J59 -> 0 | N59: =E59+H59+K59 -> 0 | X59: =O59+R59+U59 -> 0 | Y59: =P59+S59+V59 -> 0 | Z59: =Q59+T59+W59 -> 0 | AJ59: =AA59+AD59+AG59 -> 0 | AK59: =AB59+AE59+AH59 -> 0 | AL59: =AC59+AF59+AI59 -> 0 | AV59: =AM59+AP59+AS59 -> 0 | AW59: =AN59+AQ59+AT59 -> 0 | AX59: =AO59+AR59+AU59 -> 0 | AY59: =L59+X59+AJ59+AV59 -> 0 | AZ59: ='REFERENCES TARIF'!C56 -> 0 | BA59: =AY59*AZ59 -> 0 | BB59: =M59+Y59+AK59+AW59 -> 0 | BC59: ='REFERENCES TARIF'!D56 -> 0 | BD59: =BB59*BC59 -> 0 | BE59: =N59+Z59+AL59+AX59 -> 0 | BF59: ='REFERENCES TARIF'!E56 -> 0 | BG59: =BE59*BF59 -> 0 | BH59: =BA59+BD59+BG59 -> 0
L60: =C60+F60+I60 -> 0 | M60: =D60+G60+J60 -> 0 | N60: =E60+H60+K60 -> 0 | X60: =O60+R60+U60 -> 0 | Y60: =P60+S60+V60 -> 0 | Z60: =Q60+T60+W60 -> 0 | AJ60: =AA60+AD60+AG60 -> 0 | AK60: =AB60+AE60+AH60 -> 0 | AL60: =AC60+AF60+AI60 -> 0 | AV60: =AM60+AP60+AS60 -> 0 | AW60: =AN60+AQ60+AT60 -> 0 | AX60: =AO60+AR60+AU60 -> 0 | AY60: =L60+X60+AJ60+AV60 -> 0 | AZ60: ='REFERENCES TARIF'!C57 -> 0 | BA60: =AY60*AZ60 -> 0 | BB60: =M60+Y60+AK60+AW60 -> 0 | BC60: ='REFERENCES TARIF'!D57 -> 0 | BD60: =BB60*BC60 -> 0 | BE60: =N60+Z60+AL60+AX60 -> 0 | BF60: ='REFERENCES TARIF'!E57 -> 0 | BG60: =BE60*BF60 -> 0 | BH60: =BA60+BD60+BG60 -> 0
L61: =C61+F61+I61 -> 0 | M61: =D61+G61+J61 -> 0 | N61: =E61+H61+K61 -> 0 | X61: =O61+R61+U61 -> 0 | Y61: =P61+S61+V61 -> 0 | Z61: =Q61+T61+W61 -> 0 | AJ61: =AA61+AD61+AG61 -> 0 | AK61: =AB61+AE61+AH61 -> 0 | AL61: =AC61+AF61+AI61 -> 0 | AV61: =AM61+AP61+AS61 -> 0 | AW61: =AN61+AQ61+AT61 -> 0 | AX61: =AO61+AR61+AU61 -> 0 | AY61: =L61+X61+AJ61+AV61 -> 0 | AZ61: ='REFERENCES TARIF'!C58 -> 0 | BA61: =AY61*AZ61 -> 0 | BB61: =M61+Y61+AK61+AW61 -> 0 | BC61: ='REFERENCES TARIF'!D58 -> 0 | BD61: =BB61*BC61 -> 0 | BE61: =N61+Z61+AL61+AX61 -> 0 | BF61: ='REFERENCES TARIF'!E58 -> 0 | BG61: =BE61*BF61 -> 0 | BH61: =BA61+BD61+BG61 -> 0
L62: =C62+F62+I62 -> 0 | M62: =D62+G62+J62 -> 0 | N62: =E62+H62+K62 -> 0 | X62: =O62+R62+U62 -> 0 | Y62: =P62+S62+V62 -> 0 | Z62: =Q62+T62+W62 -> 0 | AJ62: =AA62+AD62+AG62 -> 0 | AK62: =AB62+AE62+AH62 -> 0 | AL62: =AC62+AF62+AI62 -> 0 | AV62: =AM62+AP62+AS62 -> 0 | AW62: =AN62+AQ62+AT62 -> 0 | AX62: =AO62+AR62+AU62 -> 0 | AY62: =L62+X62+AJ62+AV62 -> 0 | AZ62: ='REFERENCES TARIF'!C59 -> 0 | BA62: =AY62*AZ62 -> 0 | BB62: =M62+Y62+AK62+AW62 -> 0 | BC62: ='REFERENCES TARIF'!D59 -> 0 | BD62: =BB62*BC62 -> 0 | BE62: =N62+Z62+AL62+AX62 -> 0 | BF62: ='REFERENCES TARIF'!E59 -> 0 | BG62: =BE62*BF62 -> 0 | BH62: =BA62+BD62+BG62 -> 0
... L82: =C82+F82+I82 -> 0 | M82: =D82+G82+J82 -> 0 | N82: =E82+H82+K82 -> 0 | X82: =O82+R82+U82 -> 0 | Y82: =P82+S82+V82 -> 0 | Z82: =Q82+T82+W82 -> 0 | AJ82: =AA82+AD82+AG82 -> 0 | AK82: =AB82+AE82+AH82 -> 0 | AL82: =AC82+AF82+AI82 -> 0 | AV82: =AM82+AP82+AS82 -> 0 | AW82: =AN82+AQ82+AT82 -> 0 | AX82: =AO82+AR82+AU82 -> 0 | AY82: =L82+X82+AJ82+AV82 -> 0 | AZ82: ='REFERENCES TARIF'!C79 -> 0 | BA82: =AY82*AZ82 -> 0 | BB82: =M82+Y82+AK82+AW82 -> 0 | BC82: ='REFERENCES TARIF'!D79 -> 0 | BD82: =BB82*BC82 -> 0 | BE82: =N82+Z82+AL82+AX82 -> 0 | BF82: ='REFERENCES TARIF'!E79 -> 0 | BG82: =BE82*BF82 -> 0 | BH82: =BA82+BD82+BG82 -> 0
L83: =C83+F83+I83 -> 0 | M83: =D83+G83+J83 -> 0 | N83: =E83+H83+K83 -> 0 | X83: =O83+R83+U83 -> 0 | Y83: =P83+S83+V83 -> 0 | Z83: =Q83+T83+W83 -> 0 | AJ83: =AA83+AD83+AG83 -> 0 | AK83: =AB83+AE83+AH83 -> 0 | AL83: =AC83+AF83+AI83 -> 0 | AV83: =AM83+AP83+AS83 -> 0 | AW83: =AN83+AQ83+AT83 -> 0 | AX83: =AO83+AR83+AU83 -> 0 | AY83: =L83+X83+AJ83+AV83 -> 0 | AZ83: ='REFERENCES TARIF'!C79 -> 0 | BA83: =AY83*AZ83 -> 0 | BB83: =M83+Y83+AK83+AW83 -> 0 | BC83: ='REFERENCES TARIF'!D79 -> 0 | BD83: =BB83*BC83 -> 0 | BE83: =N83+Z83+AL83+AX83 -> 0 | BF83: ='REFERENCES TARIF'!E79 -> 0 | BG83: =BE83*BF83 -> 0 | BH83: =BA83+BD83+BG83 -> 0
L84: =SUM(L5:L83) -> 11 | M84: =SUM(M5:M83) -> 0 | N84: =SUM(N5:N83) -> 1 | X84: =SUM(X5:X83) -> 0 | Y84: =SUM(Y5:Y83) -> 0 | Z84: =SUM(Z5:Z83) -> 0 | AJ84: =SUM(AJ5:AJ83) -> 0 | AK84: =SUM(AK5:AK83) -> 0 | AL84: =SUM(AL5:AL83) -> 0 | AV84: =SUM(AV5:AV83) -> 0 | AW84: =SUM(AW5:AW83) -> 0 | AX84: =SUM(AX5:AX83) -> 0 | AY84: =SUM(AY5:AY83) -> 11 | BA84: =SUM(BA5:BA83) -> 241 | BB84: =SUM(BB5:BB83) -> 0 | BD84: =SUM(BD5:BD83) -> 0 | BE84: =SUM(BE5:BE83) -> 1 | BG84: =SUM(BG5:BG83) -> 20 | BH84: =SUM(BH5:BH83) -> 261

Sheet REFERENCES TARIF
A2: CLIENTS | C2: TARIF BULL | D2: TARIF ARRET/AT | E2: TARIF STC | F2: TARIF SIC
A3: 08090A | B3: BIDULE | C3: 25 | D3: 20 | E3: 20
A4: 08004A | B4: MACHIN | C4: 20 | D4: 20 | E4: 20
A5: 0810417 | B5: CHOUETTE | C5: 18 | D5: 15 | E5: 16
