Workbook

Sheet GABARIT Chèque
A1: Chèque
A2: Numéro | B2: Date | C2: Description de la transaction | D2: Débit (-) | E2: √ | F2: Crédit (+) | G2: Solde au livre | H2: Dépenses
C4: Solde précédent | D4: 0 | F4: 0 | G4: =IF(AND(ISBLANK(D4),ISBLANK(F4)),"",G3-D4+F4) -> 0 | H4: =SUM(D9:D35) -> 1896.68
B5: 41821 | C5: AFM | D5: 0 | F5: 0 | G5: =IF(AND(ISBLANK(D5),ISBLANK(F5)),"",G4-D5+F5) -> 0 | H5: Différence avec AFM
C6: Transactions du compte celi | D6: ='GABARIT Celi'!F142 -> 0 | F6: ='GABARIT Celi'!D142 -> 0 | G6: =IF(AND(ISBLANK(D6),ISBLANK(F6)),"",G5-D6+F6) -> 0 | H6: =1486-H4 -> -410.68
C7: Transactions du compte scotia | D7: ='GABARIT Scotia'!F142 -> 0 | F7: ='GABARIT Scotia'!D142 -> 0 | G7: =IF(AND(ISBLANK(D7),ISBLANK(F7)),"",G6-D7+F7) -> 0 | H7: Solde à la banque
C8: Transactions du compte épargne | D8: ='GABARIT Épargne'!F141 -> 0 | F8: ='GABARIT Épargne'!D141 -> 0 | G8: =IF(AND(ISBLANK(D8),ISBLANK(F8)),"",G7-D8+F8) -> 0 | H8: =SUMPRODUCT((($E4:$E140="X")+($E4:$E140="C")+($E4:$E140="S")+($E4:$E140="CE")+($E4:$E140="E"))*(($F4:$F140)-($D4:$D140))) -> 0
B9: 41821 | C9: Guilde des musiciens | D9: 17.08 | F9: 0 | G9: =IF(AND(ISBLANK(D9),ISBLANK(F9)),"",G8-D9+F9) -> -17.08
B10: 41823 | C10: SAAQ | D10: 35.16 | F10: 0 | G10: =IF(AND(ISBLANK(D10),ISBLANK(F10)),"",G9-D10+F10) -> -52.24
B11: 41824 | C11: Assurance auto | D11: 71.32 | F11: 0 | G11: =IF(AND(ISBLANK(D11),ISBLANK(F11)),"",G10-D11+F11) -> -123.56
B12: 41835 | C12: Assurance vie | D12: 70.12 | F12: 0 | G12: =IF(AND(ISBLANK(D12),ISBLANK(F12)),"",G11-D12+F12) -> -193.68
B13: 41837 | C13: Loyer | D13: 185 | F13: 0 | G13: =IF(AND(ISBLANK(D13),ISBLANK(F13)),"",G12-D13+F13) -> -378.68
B14: 41851 | C14: Loyer | D14: 185 | F14: 0 | G14: =IF(AND(ISBLANK(D14),ISBLANK(F14)),"",G13-D14+F14) -> -563.68
C15: Auto | D15: 400 | F15: 0 | G15: =IF(AND(ISBLANK(D15),ISBLANK(F15)),"",G14-D15+F15) -> -963.68
C16: Cellulaire | D16: 80 | F16: 0 | G16: =IF(AND(ISBLANK(D16),ISBLANK(F16)),"",G15-D16+F16) -> -1043.68
C17: Vidéotron | D17: 80 | F17: 0 | G17: =IF(AND(ISBLANK(D17),ISBLANK(F17)),"",G16-D17+F17) -> -1123.68
C18: Hydro | D18: 50 | F18: 0 | G18: =IF(AND(ISBLANK(D18),ISBLANK(F18)),"",G17-D18+F18) -> -1173.68
C19: Épicerie 1 | D19: 100 | F19: 0 | G19: =IF(AND(ISBLANK(D19),ISBLANK(F19)),"",G18-D19+F19) -> -1273.68
C20: Essence 1 | D20: 50 | F20: 0 | G20: =IF(AND(ISBLANK(D20),ISBLANK(F20)),"",G19-D20+F20) -> -1323.68
C21: Épicerie 2 | D21: 100 | F21: 0 | G21: =IF(AND(ISBLANK(D21),ISBLANK(F21)),"",G20-D21+F21) -> -1423.68
C22: Essence 2 | D22: 50 | F22: 0 | G22: =IF(AND(ISBLANK(D22),ISBLANK(F22)),"",G21-D22+F22) -> -1473.68
C23: Épicerie 3 | D23: 100 | F23: 0 | G23: =IF(AND(ISBLANK(D23),ISBLANK(F23)),"",G22-D23+F23) -> -1573.68
C24: Essence 3 | D24: 50 | F24: 0 | G24: =IF(AND(ISBLANK(D24),ISBLANK(F24)),"",G23-D24+F24) -> -1623.68
C25: Épicerie 4 | D25: 100 | F25: 0 | G25: =IF(AND(ISBLANK(D25),ISBLANK(F25)),"",G24-D25+F25) -> -1723.68
C26: Essence 4 | D26: 50 | F26: 0 | G26: =IF(AND(ISBLANK(D26),ISBLANK(F26)),"",G25-D26+F26) -> -1773.68
... C31: Assurance instruments | D31: 60 | F31: 0 | G31: =IF(AND(ISBLANK(D31),ISBLANK(F31)),"",G30-D31+F31) -> -1896.68
D32: 0 | F32: 0 | G32: =IF(AND(ISBLANK(D32),ISBLANK(F32)),"",G31-D32+F32) -> -1896.68
D33: 0 | F33: 0 | G33: =IF(AND(ISBLANK(D33),ISBLANK(F33)),"",G32-D33+F33) -> -1896.68
D34: 0 | F34: 0 | G34: =IF(AND(ISBLANK(D34),ISBLANK(F34)),"",G33-D34+F34) -> -1896.68
D35: 0 | F35: 0 | G35: =IF(AND(ISBLANK(D35),ISBLANK(F35)),"",G34-D35+F35) -> -1896.68
D36: 0 | F36: 0 | G36: =IF(AND(ISBLANK(D36),ISBLANK(F36)),"",G35-D36+F36) -> -1896.68
D37: 0 | F37: 0 | G37: =IF(AND(ISBLANK(D37),ISBLANK(F37)),"",G36-D37+F37) -> -1896.68
D38: 0 | F38: 0 | G38: =IF(AND(ISBLANK(D38),ISBLANK(F38)),"",G37-D38+F38) -> -1896.68
D39: 0 | F39: 0 | G39: =IF(AND(ISBLANK(D39),ISBLANK(F39)),"",G38-D39+F39) -> -1896.68
D40: 0 | F40: 0 | G40: =IF(AND(ISBLANK(D40),ISBLANK(F40)),"",G39-D40+F40) -> -1896.68
D41: 0 | F41: 0 | G41: =IF(AND(ISBLANK(D41),ISBLANK(F41)),"",G40-D41+F41) -> -1896.68
D42: 0 | F42: 0 | G42: =IF(AND(ISBLANK(D42),ISBLANK(F42)),"",G41-D42+F42) -> -1896.68
D43: 0 | F43: 0 | G43: =IF(AND(ISBLANK(D43),ISBLANK(F43)),"",G42-D43+F43) -> -1896.68
... D140: 0 | F140: 0 | G140: =IF(AND(ISBLANK(D140),ISBLANK(F140)),"",G139-D140+F140) -> -1896.68
C141: ÉPARGNE | D141: =SUMIF($E:$E,"E",D:D) -> 0 | F141: =SUMIF($E:$E,"E",F:F) -> 0
...

Sheet GABARIT Épargne
A1: Épargne
A2: Numéro | B2: Date | C2: Description de la transaction | D2: Débit (-) | E2: √ | F2: Crédit (+) | G2: Solde au livre | H2: Dépenses
C4: Solde précédent | D4: 0 | F4: 0 | G4: =IF(AND(ISBLANK(D4),ISBLANK(F4)),"",G3-D4+F4) -> 0 | H4: =SUM(D9:D35) -> 0
C5: AFM | H5: Différence avec AFM
C6: Transactions du compte Celi | D6: ='GABARIT Celi'!F141 -> 0 | F6: ='GABARIT Celi'!D141 -> 0 | G6: =IF(AND(ISBLANK(D6),ISBLANK(F6)),"",G4-D6+F6) -> 0 | H6: =1591-H4 -> 1591
C7: Transactions du compte scotia | D7: ='GABARIT Scotia'!F140 -> 0 | F7: ='GABARIT Scotia'!D140 -> 0 | G7: =IF(AND(ISBLANK(D7),ISBLANK(F7)),"",G6-D7+F7) -> 0 | H7: Solde à la banque
C8: Transactions du compte de chèque | D8: ='GABARIT Chèque'!F141 -> 0 | F8: ='GABARIT Chèque'!D141 -> 0 | G8: =IF(AND(ISBLANK(D8),ISBLANK(F8)),"",G7-D8+F8) -> 0 | H8: =SUMPRODUCT((($E4:$E140="X")+($E4:$E140="C")+($E4:$E140="S")+($E4:$E140="CE")+($E4:$E140="E"))*(($F4:$F140)-($D4:$D140))) -> 0
D9: 0 | F9: 0 | G9: =IF(AND(ISBLANK(D9),ISBLANK(F9)),"",G8-D9+F9) -> 0
D10: 0 | F10: 0 | G10: =IF(AND(ISBLANK(D10),ISBLANK(F10)),"",G9-D10+F10) -> 0
D11: 0 | F11: 0 | G11: =IF(AND(ISBLANK(D11),ISBLANK(F11)),"",G10-D11+F11) -> 0
D12: 0 | F12: 0 | G12: =IF(AND(ISBLANK(D12),ISBLANK(F12)),"",G11-D12+F12) -> 0
D13: 0 | F13: 0 | G13: =IF(AND(ISBLANK(D13),ISBLANK(F13)),"",G12-D13+F13) -> 0
D14: 0 | F14: 0 | G14: =IF(AND(ISBLANK(D14),ISBLANK(F14)),"",G13-D14+F14) -> 0
D15: 0 | F15: 0 | G15: =IF(AND(ISBLANK(D15),ISBLANK(F15)),"",G14-D15+F15) -> 0
D16: 0 | F16: 0 | G16: =IF(AND(ISBLANK(D16),ISBLANK(F16)),"",G15-D16+F16) -> 0
D17: 0 | F17: 0 | G17: =IF(AND(ISBLANK(D17),ISBLANK(F17)),"",G16-D17+F17) -> 0
D18: 0 | F18: 0 | G18: =IF(AND(ISBLANK(D18),ISBLANK(F18)),"",G17-D18+F18) -> 0
D19: 0 | F19: 0 | G19: =IF(AND(ISBLANK(D19),ISBLANK(F19)),"",G18-D19+F19) -> 0
D20: 0 | F20: 0 | G20: =IF(AND(ISBLANK(D20),ISBLANK(F20)),"",G19-D20+F20) -> 0
... D36: 0 | F36: 0 | G36: =IF(AND(ISBLANK(D36),ISBLANK(F36)),"",G35-D36+F36) -> 0
D37: 0 | F37: 0 | G37: =IF(AND(ISBLANK(E37),ISBLANK(F37)),"",G36-D37+F37) -> 0
D38: 0 | F38: 0 | G38: =IF(AND(ISBLANK(E38),ISBLANK(F38)),"",G37-D38+F38) -> 0
D39: 0 | F39: 0 | G39: =IF(AND(ISBLANK(E39),ISBLANK(F39)),"",G38-D39+F39) -> 0
D40: 0 | F40: 0 | G40: =IF(AND(ISBLANK(E40),ISBLANK(F40)),"",G39-D40+F40) -> 0
D41: 0 | F41: 0 | G41: =IF(AND(ISBLANK(E41),ISBLANK(F41)),"",G40-D41+F41) -> 0
D42: 0 | F42: 0 | G42: =IF(AND(ISBLANK(E42),ISBLANK(F42)),"",G41-D42+F42) -> 0
D43: 0 | F43: 0 | G43: =IF(AND(ISBLANK(E43),ISBLANK(F43)),"",G42-D43+F43) -> 0
D44: 0 | F44: 0 | G44: =IF(AND(ISBLANK(E44),ISBLANK(F44)),"",G43-D44+F44) -> 0
D45: 0 | F45: 0 | G45: =IF(AND(ISBLANK(E45),ISBLANK(F45)),"",G44-D45+F45) -> 0
D46: 0 | F46: 0 | G46: =IF(AND(ISBLANK(E46),ISBLANK(F46)),"",G45-D46+F46) -> 0
D47: 0 | F47: 0 | G47: =IF(AND(ISBLANK(E47),ISBLANK(F47)),"",G46-D47+F47) -> 0
D48: 0 | F48: 0 | G48: =IF(AND(ISBLANK(E48),ISBLANK(F48)),"",G47-D48+F48) -> 0
... D140: 0 | F140: 0 | G140: =IF(AND(ISBLANK(E140),ISBLANK(F140)),"",G139-D140+F140) -> 0
C141: CHÈQUE | D141: =SUMIF($E:$E,"C",D:D) -> 0 | F141: =SUMIF($E:$E,"C",F:F) -> 0
C142: CELI | D142: =SUMIF($E:$E,"CE",D:D) -> 0 | F142: =SUMIF($E:$E,"CE",F:F) -> 0
C143: SCOTIA | D143: =SUMIF($E:$E,"S",D:D) -> 0 | F143: =SUMIF($E:$E,"S",F:F) -> 0
D144: =SUM(D4:D140 ) -> 0 | F144: =SUM(F4:F140 ) -> 0

Sheet GABARIT Celi
A1: Celli
A2: Numéro | B2: Date | C2: Description de la transaction | D2: Débit (-) | E2: √ | F2: Crédit (+) | G2: Solde au livre | H2: Dépenses
C4: Solde précédent | D4: 0 | F4: 0 | G4: =IF(AND(ISBLANK(D4),ISBLANK(F4)),"",G3-D4+F4) -> 0 | H4: =SUM(D9:D35) -> 0
C5: AFM | H5: Différence avec AFM
C6: Transactions du compte épargne | D6: ='GABARIT Épargne'!F142 -> 0 | F6: ='GABARIT Épargne'!D142 -> 0 | G6: =IF(AND(ISBLANK(D6),ISBLANK(F6)),"",G4-D6+F6) -> 0 | H6: =1591-H4 -> 1591
C7: Transactions du compte scotia | D7: ='GABARIT Scotia'!F141 -> 0 | F7: ='GABARIT Scotia'!D141 -> 0 | G7: =IF(AND(ISBLANK(D7),ISBLANK(F7)),"",G6-D7+F7) -> 0 | H7: Solde à la banque
C8: Tansactions du compte de chèque | D8: ='GABARIT Chèque'!F142 -> 0 | F8: ='GABARIT Chèque'!D142 -> 0 | G8: =IF(AND(ISBLANK(D8),ISBLANK(F8)),"",G7-D8+F8) -> 0 | H8: =SUMPRODUCT((($E4:$E140="X")+($E4:$E140="C")+($E4:$E140="S")+($E4:$E140="CE")+($E4:$E140="E"))*(($F4:$F140)-($D4:$D140))) -> 0
D9: 0 | F9: 0 | G9: =IF(AND(ISBLANK(D9),ISBLANK(F9)),"",G8-D9+F9) -> 0
D10: 0 | F10: 0 | G10: =IF(AND(ISBLANK(D10),ISBLANK(F10)),"",G9-D10+F10) -> 0
D11: 0 | F11: 0 | G11: =IF(AND(ISBLANK(D11),ISBLANK(F11)),"",G10-D11+F11) -> 0
D12: 0 | F12: 0 | G12: =IF(AND(ISBLANK(D12),ISBLANK(F12)),"",G11-D12+F12) -> 0
D13: 0 | F13: 0 | G13: =IF(AND(ISBLANK(D13),ISBLANK(F13)),"",G12-D13+F13) -> 0
D14: 0 | F14: 0 | G14: =IF(AND(ISBLANK(D14),ISBLANK(F14)),"",G13-D14+F14) -> 0
D15: 0 | F15: 0 | G15: =IF(AND(ISBLANK(D15),ISBLANK(F15)),"",G14-D15+F15) -> 0
D16: 0 | F16: 0 | G16: =IF(AND(ISBLANK(D16),ISBLANK(F16)),"",G15-D16+F16) -> 0
D17: 0 | F17: 0 | G17: =IF(AND(ISBLANK(D17),ISBLANK(F17)),"",G16-D17+F17) -> 0
D18: 0 | F18: 0 | G18: =IF(AND(ISBLANK(D18),ISBLANK(F18)),"",G17-D18+F18) -> 0
D19: 0 | F19: 0 | G19: =IF(AND(ISBLANK(D19),ISBLANK(F19)),"",G18-D19+F19) -> 0
D20: 0 | F20: 0 | G20: =IF(AND(ISBLANK(D20),ISBLANK(F20)),"",G19-D20+F20) -> 0
... D36: 0 | F36: 0 | G36: =IF(AND(ISBLANK(D36),ISBLANK(F36)),"",G35-D36+F36) -> 0
D37: 0 | F37: 0 | G37: =IF(AND(ISBLANK(E37),ISBLANK(F37)),"",G36-D37+F37) -> 0
D38: 0 | F38: 0 | G38: =IF(AND(ISBLANK(E38),ISBLANK(F38)),"",G37-D38+F38) -> 0
D39: 0 | F39: 0 | G39: =IF(AND(ISBLANK(E39),ISBLANK(F39)),"",G38-D39+F39) -> 0
D40: 0 | F40: 0 | G40: =IF(AND(ISBLANK(E40),ISBLANK(F40)),"",G39-D40+F40) -> 0
D41: 0 | F41: 0 | G41: =IF(AND(ISBLANK(E41),ISBLANK(F41)),"",G40-D41+F41) -> 0
D42: 0 | F42: 0 | G42: =IF(AND(ISBLANK(E42),ISBLANK(F42)),"",G41-D42+F42) -> 0
D43: 0 | F43: 0 | G43: =IF(AND(ISBLANK(E43),ISBLANK(F43)),"",G42-D43+F43) -> 0
D44: 0 | F44: 0 | G44: =IF(AND(ISBLANK(E44),ISBLANK(F44)),"",G43-D44+F44) -> 0
D45: 0 | F45: 0 | G45: =IF(AND(ISBLANK(E45),ISBLANK(F45)),"",G44-D45+F45) -> 0
D46: 0 | F46: 0 | G46: =IF(AND(ISBLANK(E46),ISBLANK(F46)),"",G45-D46+F46) -> 0
D47: 0 | F47: 0 | G47: =IF(AND(ISBLANK(E47),ISBLANK(F47)),"",G46-D47+F47) -> 0
D48: 0 | F48: 0 | G48: =IF(AND(ISBLANK(E48),ISBLANK(F48)),"",G47-D48+F48) -> 0
... D140: 0 | F140: 0 | G140: =IF(AND(ISBLANK(E140),ISBLANK(F140)),"",G139-D140+F140) -> 0
C141: ÉPARGNE | D141: =SUMIF($E:$E,"E",D:D) -> 0 | F141: =SUMIF($E:$E,"E",F:F) -> 0
C142: CHÈQUE | D142: =SUMIF($E:$E,"C",D:D) -> 0 | F142: =SUMIF($E:$E,"C",F:F) -> 0
C143: SCOTIA | D143: =SUMIF($E:$E,"S",D:D) -> 0 | F143: =SUMIF($E:$E,"S",F:F) -> 0
D144: =SUM(D4:D140) -> 0 | F144: =SUM(F4:F140) -> 0

Sheet GABARIT Scotia
A1: Scotia
A2: Numéro | B2: Date | C2: Description de la transaction | D2: Débit (-) | E2: √ | F2: Crédit (+) | G2: Solde au livre | H2: Dépenses
C4: Solde précédent | D4: 0 | F4: 0 | G4: =IF(AND(ISBLANK(D4),ISBLANK(F4)),"",G3-D4+F4) -> 0 | H4: =SUM(D9:D35) -> 0
C5: AFM | D5: 0 | F5: 0 | G5: =IF(AND(ISBLANK(D5),ISBLANK(F5)),"",G4-D5+F5) -> 0 | H5: Différence avec AFM
C6: Transactions du compte épargne | D6: ='GABARIT Épargne'!F143 -> 0 | F6: ='GABARIT Épargne'!D143 -> 0 | G6: =IF(AND(ISBLANK(D6),ISBLANK(F6)),"",G4-D6+F6) -> 0 | H6: =1486-H4 -> 1486
C7: Transactions du compte Celi | D7: ='GABARIT Celi'!F144 -> 0 | F7: ='GABARIT Celi'!D144 -> 0 | G7: =IF(AND(ISBLANK(D7),ISBLANK(F7)),"",G6-D7+F7) -> 0 | H7: Solde à la banque
C8: Transactions du compte de chèque | D8: ='GABARIT Chèque'!F143 -> 0 | F8: ='GABARIT Chèque'!D143 -> 0 | G8: =IF(AND(ISBLANK(D8),ISBLANK(F8)),"",G7-D8+F8) -> 0 | H8: =SUMPRODUCT((($E4:$E140="X")+($E4:$E140="C")+($E4:$E140="S")+($E4:$E140="CE")+($E4:$E140="E"))*(($F4:$F140)-($D4:$D140))) -> 0
D9: 0 | F9: 0 | G9: =IF(AND(ISBLANK(D9),ISBLANK(F9)),"",G8-D9+F9) -> 0
D10: 0 | F10: 0 | G10: =IF(AND(ISBLANK(D10),ISBLANK(F10)),"",G9-D10+F10) -> 0
D11: 0 | F11: 0 | G11: =IF(AND(ISBLANK(D11),ISBLANK(F11)),"",G10-D11+F11) -> 0
D12: 0 | F12: 0 | G12: =IF(AND(ISBLANK(D12),ISBLANK(F12)),"",G11-D12+F12) -> 0
D13: 0 | F13: 0 | G13: =IF(AND(ISBLANK(D13),ISBLANK(F13)),"",G12-D13+F13) -> 0
D14: 0 | F14: 0 | G14: =IF(AND(ISBLANK(D14),ISBLANK(F14)),"",G13-D14+F14) -> 0
D15: 0 | F15: 0 | G15: =IF(AND(ISBLANK(D15),ISBLANK(F15)),"",G14-D15+F15) -> 0
D16: 0 | F16: 0 | G16: =IF(AND(ISBLANK(D16),ISBLANK(F16)),"",G15-D16+F16) -> 0
D17: 0 | F17: 0 | G17: =IF(AND(ISBLANK(D17),ISBLANK(F17)),"",G16-D17+F17) -> 0
D18: 0 | F18: 0 | G18: =IF(AND(ISBLANK(D18),ISBLANK(F18)),"",G17-D18+F18) -> 0
D19: 0 | F19: 0 | G19: =IF(AND(ISBLANK(D19),ISBLANK(F19)),"",G18-D19+F19) -> 0
D20: 0 | F20: 0 | G20: =IF(AND(ISBLANK(D20),ISBLANK(F20)),"",G19-D20+F20) -> 0
... D35: 0 | F35: 0 | G35: =IF(AND(ISBLANK(D35),ISBLANK(F35)),"",G34-D35+F35) -> 0
D36: 0 | F36: 0 | G36: =IF(AND(ISBLANK(E36),ISBLANK(F36)),"",G35-D36+F36) -> 0
D37: 0 | F37: 0 | G37: =IF(AND(ISBLANK(E37),ISBLANK(F37)),"",G36-D37+F37) -> 0
D38: 0 | F38: 0 | G38: =IF(AND(ISBLANK(E38),ISBLANK(F38)),"",G37-D38+F38) -> 0
D39: 0 | F39: 0 | G39: =IF(AND(ISBLANK(E39),ISBLANK(F39)),"",G38-D39+F39) -> 0
D40: 0 | F40: 0 | G40: =IF(AND(ISBLANK(E40),ISBLANK(F40)),"",G39-D40+F40) -> 0
D41: 0 | F41: 0 | G41: =IF(AND(ISBLANK(E41),ISBLANK(F41)),"",G40-D41+F41) -> 0
D42: 0 | F42: 0 | G42: =IF(AND(ISBLANK(E42),ISBLANK(F42)),"",G41-D42+F42) -> 0
D43: 0 | F43: 0 | G43: =IF(AND(ISBLANK(E43),ISBLANK(F43)),"",G42-D43+F43) -> 0
D44: 0 | F44: 0 | G44: =IF(AND(ISBLANK(E44),ISBLANK(F44)),"",G43-D44+F44) -> 0
D45: 0 | F45: 0 | G45: =IF(AND(ISBLANK(E45),ISBLANK(F45)),"",G44-D45+F45) -> 0
D46: 0 | F46: 0 | G46: =IF(AND(ISBLANK(E46),ISBLANK(F46)),"",G45-D46+F46) -> 0
D47: 0 | F47: 0 | G47: =IF(AND(ISBLANK(E47),ISBLANK(F47)),"",G46-D47+F47) -> 0
... D139: 0 | F139: 0 | G139: =IF(AND(ISBLANK(E139),ISBLANK(F139)),"",G138-D139+F139) -> 0
C140: ÉPARGNE | D140: =SUMIF($E:$E,"E",D:D) -> 0 | F140: =SUMIF($E:$E,"E",F:F) -> 0
C141: CELI | D141: =SUMIF($E:$E,"CE",D:D) -> 0 | F141: =SUMIF($E:$E,"CE",F:F) -> 0
C142: CHÈQUE | D142: =SUMIF($E:$E,"C",D:D) -> 0 | F142: =SUMIF($E:$E,"C",F:F) -> 0
D143: =SUM(D4:D139) -> 0 | F143: =SUM(F4:F139) -> 0

Sheet JUILLET Chèque 1
A1: Chèque
A2: Numéro | B2: Date | C2: Description de la transaction | D2: Débit (-) | E2: √ | F2: Crédit (+) | G2: Solde au livre | H2: Dépenses
C4: Solde précédent | D4: 0 | F4: 0 | G4: =IF(AND(ISBLANK(D4),ISBLANK(F4)),"",G3-D4+F4) -> 0 | H4: =SUM(D9:D35) -> 1773.49
B5: =DATE(YEAR('GABARIT Chèque'!B5),MONTH('GABARIT Chèque'!B5)+1,DAY('GABARIT Chèque'!B5)) -> 41852 | C5: AFM | D5: 0 | F5: 0 | G5: =IF(AND(ISBLANK(D5),ISBLANK(F5)),"",G4-D5+F5) -> 0 | H5: Différence avec AFM
C6: Transactions du compte celi | D6: ='GABARIT Celi'!F142 -> 0 | F6: ='GABARIT Celi'!D142 -> 0 | G6: =IF(AND(ISBLANK(D6),ISBLANK(F6)),"",G5-D6+F6) -> 0 | H6: =1486-H4 -> -287.49
C7: Transactions du compte scotia | D7: ='GABARIT Scotia'!F142 -> 0 | F7: ='GABARIT Scotia'!D142 -> 0 | G7: =IF(AND(ISBLANK(D7),ISBLANK(F7)),"",G6-D7+F7) -> 0 | H7: Solde à la banque
C8: Transactions du compte épargne | D8: ='GABARIT Épargne'!F141 -> 0 | F8: ='GABARIT Épargne'!D141 -> 0 | G8: =IF(AND(ISBLANK(D8),ISBLANK(F8)),"",G7-D8+F8) -> 0 | H8: =SUMPRODUCT((($E4:$E140="X")+($E4:$E140="C")+($E4:$E140="S")+($E4:$E140="CE")+($E4:$E140="E"))*(($F4:$F140)-($D4:$D140))) -> 0
B9: =DATE(YEAR('GABARIT Chèque'!B9),MONTH('GABARIT Chèque'!B9)+1,DAY('GABARIT Chèque'!B9)) -> 41852 | C9: Guilde des musiciens | D9: 17.08 | F9: 0 | G9: =IF(AND(ISBLANK(D9),ISBLANK(F9)),"",G8-D9+F9) -> -17.08
B10: =DATE(YEAR('GABARIT Chèque'!B10),MONTH('GABARIT Chèque'!B10)+1,DAY('GABARIT Chèque'!B10)) -> 41854 | C10: SAAQ | D10: 34.97 | F10: 0 | G10: =IF(AND(ISBLANK(D10),ISBLANK(F10)),"",G9-D10+F10) -> -52.05
B11: =DATE(YEAR('GABARIT Chèque'!B11),MONTH('GABARIT Chèque'!B11)+1,DAY('GABARIT Chèque'!B11)) -> 41855 | C11: Assurance auto | D11: 71.32 | F11: 0 | G11: =IF(AND(ISBLANK(D11),ISBLANK(F11)),"",G10-D11+F11) -> -123.37
B12: =DATE(YEAR('GABARIT Chèque'!B12),MONTH('GABARIT Chèque'!B12)+1,DAY('GABARIT Chèque'!B12)) -> 41866 | C12: Assurance vie | D12: 70.12 | F12: 0 | G12: =IF(AND(ISBLANK(D12),ISBLANK(F12)),"",G11-D12+F12) -> -193.49
B13: ='GABARIT Chèque'!B13+28 -> 41865 | C13: Loyer | D13: 185 | F13: 0 | G13: =IF(AND(ISBLANK(D13),ISBLANK(F13)),"",G12-D13+F13) -> -378.49
B14: ='GABARIT Chèque'!B14+28 -> 41879 | C14: Loyer | D14: 185 | F14: 0 | G14: =IF(AND(ISBLANK(D14),ISBLANK(F14)),"",G13-D14+F14) -> -563.49
C15: Auto | D15: 400 | F15: 0 | G15: =IF(AND(ISBLANK(D15),ISBLANK(F15)),"",G14-D15+F15) -> -963.49
C16: Cellulaire | D16: 80 | F16: 0 | G16: =IF(AND(ISBLANK(D16),ISBLANK(F16)),"",G15-D16+F16) -> -1043.49
C17: Vidéotron | D17: 80 | F17: 0 | G17: =IF(AND(ISBLANK(D17),ISBLANK(F17)),"",G16-D17+F17) -> -1123.49
C18: Hydro | D18: 50 | F18: 0 | G18: =IF(AND(ISBLANK(D18),ISBLANK(F18)),"",G17-D18+F18) -> -1173.49
C19: Épicerie 1 | D19: 100 | F19: 0 | G19: =IF(AND(ISBLANK(D19),ISBLANK(F19)),"",G18-D19+F19) -> -1273.49
C20: Essence 1 | D20: 50 | F20: 0 | G20: =IF(AND(ISBLANK(D20),ISBLANK(F20)),"",G19-D20+F20) -> -1323.49
C21: Épicerie 2 | D21: 100 | F21: 0 | G21: =IF(AND(ISBLANK(D21),ISBLANK(F21)),"",G20-D21+F21) -> -1423.49
C22: Essence 2 | D22: 50 | F22: 0 | G22: =IF(AND(ISBLANK(D22),ISBLANK(F22)),"",G21-D22+F22) -> -1473.49
C23: Épicerie 3 | D23: 100 | F23: 0 | G23: =IF(AND(ISBLANK(D23),ISBLANK(F23)),"",G22-D23+F23) -> -1573.49
C24: Essence 3 | D24: 50 | F24: 0 | G24: =IF(AND(ISBLANK(D24),ISBLANK(F24)),"",G23-D24+F24) -> -1623.49
C25: Épicerie 4 | D25: 100 | F25: 0 | G25: =IF(AND(ISBLANK(D25),ISBLANK(F25)),"",G24-D25+F25) -> -1723.49
C26: Essence 4 | D26: 50 | F26: 0 | G26: =IF(AND(ISBLANK(D26),ISBLANK(F26)),"",G25-D26+F26) -> -1773.49
D27: 0 | F27: 0 | G27: =IF(AND(ISBLANK(D27),ISBLANK(F27)),"",G26-D27+F27) -> -1773.49
D28: 0 | F28: 0 | G28: =IF(AND(ISBLANK(D28),ISBLANK(F28)),"",G27-D28+F28) -> -1773.49
D29: 0 | F29: 0 | G29: =IF(AND(ISBLANK(D29),ISBLANK(F29)),"",G28-D29+F29) -> -1773.49
D30: 0 | F30: 0 | G30: =IF(AND(ISBLANK(D30),ISBLANK(F30)),"",G29-D30+F30) -> -1773.49
D31: 0 | F31: 0 | G31: =IF(AND(ISBLANK(D31),ISBLANK(F31)),"",G30-D31+F31) -> -1773.49
D32: 0 | F32: 0 | G32: =IF(AND(ISBLANK(D32),ISBLANK(F32)),"",G31-D32+F32) -> -1773.49
D33: 0 | F33: 0 | G33: =IF(AND(ISBLANK(D33),ISBLANK(F33)),"",G32-D33+F33) -> -1773.49
D34: 0 | F34: 0 | G34: =IF(AND(ISBLANK(D34),ISBLANK(F34)),"",G33-D34+F34) -> -1773.49
D35: 0 | F35: 0 | G35: =IF(AND(ISBLANK(D35),ISBLANK(F35)),"",G34-D35+F35) -> -1773.49
D36: 0 | F36: 0 | G36: =IF(AND(ISBLANK(D36),ISBLANK(F36)),"",G35-D36+F36) -> -1773.49
D37: 0 | F37: 0 | G37: =IF(AND(ISBLANK(D37),ISBLANK(F37)),"",G36-D37+F37) -> -1773.49
D38: 0 | F38: 0 | G38: =IF(AND(ISBLANK(D38),ISBLANK(F38)),"",G37-D38+F38) -> -1773.49
... D140: 0 | F140: 0 | G140: =IF(AND(ISBLANK(D140),ISBLANK(F140)),"",G139-D140+F140) -> -1773.49
C141: ÉPARGNE | D141: =SUMIF($E:$E,"E",D:D) -> 0 | F141: =SUMIF($E:$E,"E",F:F) -> 0
C142: CELI | D142: =SUMIF($E:$E,"CE",D:D) -> 0 | F142: =SUMIF($E:$E,"CE",F:F) -> 0
...

Sheet MAI Chèque
A1: Chèque
A2: Numéro | B2: Date | C2: Description de la transaction | D2: Débit (-) | E2: √ | F2: Crédit (+) | G2: Solde au livre | H2: Dépenses
C4: Solde précédent | D4: 0 | F4: 0 | G4: =IF(AND(ISBLANK(D4),ISBLANK(F4)),"",G3-D4+F4) -> 0 | H4: =SUM(D9:D35) -> 0
B5: 41760 | C5: AFM | D5: 0 | F5: 0 | G5: =IF(AND(ISBLANK(D5),ISBLANK(F5)),"",G4-D5+F5) -> 0 | H5: Différence avec AFM
C6: Transactions du compte celi | D6: =#REF! -> #REF! | F6: =#REF! -> #REF! | G6: =IF(AND(ISBLANK(D6),ISBLANK(F6)),"",G5-D6+F6) -> #REF! | H6: =1591-H4 -> 1591
C7: Transactions du compte scotia | D7: =#REF! -> #REF! | F7: =#REF! -> #REF! | G7: =IF(AND(ISBLANK(D7),ISBLANK(F7)),"",G6-D7+F7) -> #REF! | H7: Solde à la banque
C8: Transactions du compte épargne | D8: ='MAI Épargne'!F141 -> 0 | F8: ='MAI Épargne'!D141 -> 0 | G8: =IF(AND(ISBLANK(D8),ISBLANK(F8)),"",G7-D8+F8) -> #REF! | H8: =SUMPRODUCT((($E4:$E140="X")+($E4:$E140="C")+($E4:$E140="S")+($E4:$E140="CE")+($E4:$E140="E"))*(($F4:$F140)-($D4:$D140))) -> #REF!
B9: 41760 | C9: Guilde des musiciens 17.08 | D9: 0 | F9: 0 | G9: =IF(AND(ISBLANK(D9),ISBLANK(F9)),"",G8-D9+F9) -> #REF!
B10: 41760 | C10: Celi 10 | D10: 0 | F10: 0 | G10: =IF(AND(ISBLANK(D10),ISBLANK(F10)),"",G9-D10+F10) -> #REF!
B11: 41762 | C11: SAAQ 34.97 | D11: 0 | F11: 0 | G11: =IF(AND(ISBLANK(D11),ISBLANK(F11)),"",G10-D11+F11) -> #REF!
B12: 41763 | C12: Assurance auto 71.32 | D12: 0 | F12: 0 | G12: =IF(AND(ISBLANK(D12),ISBLANK(F12)),"",G11-D12+F12) -> #REF!
B13: 41774 | C13: Assurance vie 51.58 | D13: 0 | F13: 0 | G13: =IF(AND(ISBLANK(D13),ISBLANK(F13)),"",G12-D13+F13) -> #REF!
B14: 41760 | C14: Assrance médicament 51.58 | D14: 0 | F14: 0 | G14: =IF(AND(ISBLANK(D14),ISBLANK(F14)),"",G13-D14+F14) -> #REF!
C15: Assurance instrument 60 | D15: 0 | F15: 0 | G15: =IF(AND(ISBLANK(D15),ISBLANK(F15)),"",G14-D15+F15) -> #REF!
B16: 41760 | C16: Loyer 185 | D16: 0 | F16: 0 | G16: =IF(AND(ISBLANK(D16),ISBLANK(F16)),"",G15-D16+F16) -> #REF!
B17: 41774 | C17: Loyer 185 | D17: 0 | F17: 0 | G17: =IF(AND(ISBLANK(D17),ISBLANK(F17)),"",G16-D17+F17) -> #REF!
C18: Auto 400 | D18: 0 | F18: 0 | G18: =IF(AND(ISBLANK(D18),ISBLANK(F18)),"",G17-D18+F18) -> #REF!
C19: Cellulaire 80 | D19: 0 | F19: 0 | G19: =IF(AND(ISBLANK(D19),ISBLANK(F19)),"",G18-D19+F19) -> #REF!
C20: Vidéotron 80 | D20: 0 | F20: 0 | G20: =IF(AND(ISBLANK(D20),ISBLANK(F20)),"",G19-D20+F20) -> #REF!
C21: Hydro 50 | D21: 0 | F21: 0 | G21: =IF(AND(ISBLANK(D21),ISBLANK(F21)),"",G20-D21+F21) -> #REF!
C22: Épicerie 1 100 | D22: 0 | F22: 0 | G22: =IF(AND(ISBLANK(D22),ISBLANK(F22)),"",G21-D22+F22) -> #REF!
C23: Essence 1 50 | D23: 0 | F23: 0 | G23: =IF(AND(ISBLANK(D23),ISBLANK(F23)),"",G22-D23+F23) -> #REF!
C24: Épicerie 2 100 | D24: 0 | F24: 0 | G24: =IF(AND(ISBLANK(D24),ISBLANK(F24)),"",G23-D24+F24) -> #REF!
C25: Essence 2 50 | D25: 0 | F25: 0 | G25: =IF(AND(ISBLANK(D25),ISBLANK(F25)),"",G24-D25+F25) -> #REF!
C26: Épicerie 3 100 | D26: 0 | F26: 0 | G26: =IF(AND(ISBLANK(D26),ISBLANK(F26)),"",G25-D26+F26) -> #REF!
C27: Essence 3 50 | D27: 0 | F27: 0 | G27: =IF(AND(ISBLANK(D27),ISBLANK(F27)),"",G26-D27+F27) -> #REF!
C28: Épicerie 4 100 | D28: 0 | F28: 0 | G28: =IF(AND(ISBLANK(D28),ISBLANK(F28)),"",G27-D28+F28) -> #REF!
C29: Essence 4 50 | D29: 0 | F29: 0 | G29: =IF(AND(ISBLANK(D29),ISBLANK(F29)),"",G28-D29+F29) -> #REF!
... C33: Calcium | D33: 0 | F33: 0 | G33: =IF(AND(ISBLANK(D33),ISBLANK(F33)),"",G32-D33+F33) -> #REF!
D34: 0 | F34: 0 | G34: =IF(AND(ISBLANK(D34),ISBLANK(F34)),"",G33-D34+F34) -> #REF!
D35: 0 | F35: 0 | G35: =IF(AND(ISBLANK(D35),ISBLANK(F35)),"",G34-D35+F35) -> #REF!
B36: 41787 | C36: Chèque de Scotia photocopie | D36: 0 | E36: x | F36: 251 | G36: =IF(AND(ISBLANK(D36),ISBLANK(F36)),"",G35-D36+F36) -> #REF!
B37: 41789 | C37: Transfert de Scotia | D37: 0 | E37: s | F37: 1280 | G37: =IF(AND(ISBLANK(D37),ISBLANK(F37)),"",G36-D37+F37) -> #REF!
B38: 41789 | C38: Transfert compte épargne | D38: 1200 | E38: e | F38: 0 | G38: =IF(AND(ISBLANK(D38),ISBLANK(F38)),"",G37-D38+F38) -> #REF!
B39: 41789 | C39: Versement prime | D39: 0 | E39: x | F39: 50 | G39: =IF(AND(ISBLANK(D39),ISBLANK(F39)),"",G38-D39+F39) -> #REF!
B40: 41790 | C40: Intérêts | D40: 0 | E40: x | F40: 0.01 | G40: =IF(AND(ISBLANK(D40),ISBLANK(F40)),"",G39-D40+F40) -> #REF!
D41: 0 | F41: 0 | G41: =IF(AND(ISBLANK(D41),ISBLANK(F41)),"",G40-D41+F41) -> #REF!
D42: 0 | F42: 0 | G42: =IF(AND(ISBLANK(D42),ISBLANK(F42)),"",G41-D42+F42) -> #REF!
D43: 0 | F43: 0 | G43: =IF(AND(ISBLANK(D43),ISBLANK(F43)),"",G42-D43+F43) -> #REF!
D44: 0 | F44: 0 | G44: =IF(AND(ISBLANK(D44),ISBLANK(F44)),"",G43-D44+F44) -> #REF!
...

Sheet MAI Épargne
A1: Épargne
A2: Numéro | B2: Date | C2: Description de la transaction | D2: Débit (-) | E2: √ | F2: Crédit (+) | G2: Solde au livre | H2: Dépenses
C4: Solde précédent | D4: 0 | F4: 0 | G4: =IF(AND(ISBLANK(D4),ISBLANK(F4)),"",G3-D4+F4) -> 0 | H4: =SUM(D9:D35) -> 0
B5: 41760 | C5: AFM | H5: Différence avec AFM
C6: Transactions du compte Celi | D6: =#REF! -> #REF! | F6: =#REF! -> #REF! | G6: =IF(AND(ISBLANK(D6),ISBLANK(F6)),"",G4-D6+F6) -> #REF! | H6: =1591-H4 -> 1591
C7: Transactions du compte scotia | D7: =#REF! -> #REF! | F7: =#REF! -> #REF! | G7: =IF(AND(ISBLANK(D7),ISBLANK(F7)),"",G6-D7+F7) -> #REF! | H7: Solde à la banque
C8: Transactions du compte de chèque | D8: ='MAI Chèque'!F141 -> 0 | E8: x | F8: ='MAI Chèque'!D141 -> 1200 | G8: =IF(AND(ISBLANK(D8),ISBLANK(F8)),"",G7-D8+F8) -> #REF! | H8: =SUMPRODUCT((($E4:$E140="X")+($E4:$E140="C")+($E4:$E140="S")+($E4:$E140="CE")+($E4:$E140="E"))*(($F4:$F140)-($D4:$D140))) -> #REF!
D9: 0 | F9: 0 | G9: =IF(AND(ISBLANK(D9),ISBLANK(F9)),"",G8-D9+F9) -> #REF!
D10: 0 | F10: 0 | G10: =IF(AND(ISBLANK(D10),ISBLANK(F10)),"",G9-D10+F10) -> #REF!
D11: 0 | F11: 0 | G11: =IF(AND(ISBLANK(D11),ISBLANK(F11)),"",G10-D11+F11) -> #REF!
D12: 0 | F12: 0 | G12: =IF(AND(ISBLANK(D12),ISBLANK(F12)),"",G11-D12+F12) -> #REF!
D13: 0 | F13: 0 | G13: =IF(AND(ISBLANK(D13),ISBLANK(F13)),"",G12-D13+F13) -> #REF!
D14: 0 | F14: 0 | G14: =IF(AND(ISBLANK(D14),ISBLANK(F14)),"",G13-D14+F14) -> #REF!
D15: 0 | F15: 0 | G15: =IF(AND(ISBLANK(D15),ISBLANK(F15)),"",G14-D15+F15) -> #REF!
D16: 0 | F16: 0 | G16: =IF(AND(ISBLANK(D16),ISBLANK(F16)),"",G15-D16+F16) -> #REF!
D17: 0 | F17: 0 | G17: =IF(AND(ISBLANK(D17),ISBLANK(F17)),"",G16-D17+F17) -> #REF!
D18: 0 | F18: 0 | G18: =IF(AND(ISBLANK(D18),ISBLANK(F18)),"",G17-D18+F18) -> #REF!
D19: 0 | F19: 0 | G19: =IF(AND(ISBLANK(D19),ISBLANK(F19)),"",G18-D19+F19) -> #REF!
D20: 0 | F20: 0 | G20: =IF(AND(ISBLANK(D20),ISBLANK(F20)),"",G19-D20+F20) -> #REF!
... D35: 0 | F35: 0 | G35: =IF(AND(ISBLANK(D35),ISBLANK(F35)),"",G34-D35+F35) -> #REF!
B36: 41788 | C36: Transfert de Scotia ouverture | D36: 0 | E36: x | F36: 251 | G36: =IF(AND(ISBLANK(D36),ISBLANK(F36)),"",G35-D36+F36) -> #REF!
B37: 41789 | C37: Versement de prime | D37: 0 | E37: x | F37: 50 | G37: =IF(AND(ISBLANK(E37),ISBLANK(F37)),"",G36-D37+F37) -> #REF!
B38: 41790 | C38: Intérêts | D38: 0 | E38: x | F38: 0.12 | G38: =IF(AND(ISBLANK(E38),ISBLANK(F38)),"",G37-D38+F38) -> #REF!
D39: 0 | F39: 0 | G39: =IF(AND(ISBLANK(E39),ISBLANK(F39)),"",G38-D39+F39) -> #REF!
D40: 0 | F40: 0 | G40: =IF(AND(ISBLANK(E40),ISBLANK(F40)),"",G39-D40+F40) -> #REF!
D41: 0 | F41: 0 | G41: =IF(AND(ISBLANK(E41),ISBLANK(F41)),"",G40-D41+F41) -> #REF!
D42: 0 | F42: 0 | G42: =IF(AND(ISBLANK(E42),ISBLANK(F42)),"",G41-D42+F42) -> #REF!
D43: 0 | F43: 0 | G43: =IF(AND(ISBLANK(E43),ISBLANK(F43)),"",G42-D43+F43) -> #REF!
D44: 0 | F44: 0 | G44: =IF(AND(ISBLANK(E44),ISBLANK(F44)),"",G43-D44+F44) -> #REF!
D45: 0 | F45: 0 | G45: =IF(AND(ISBLANK(E45),ISBLANK(F45)),"",G44-D45+F45) -> #REF!
D46: 0 | F46: 0 | G46: =IF(AND(ISBLANK(E46),ISBLANK(F46)),"",G45-D46+F46) -> #REF!
D47: 0 | F47: 0 | G47: =IF(AND(ISBLANK(E47),ISBLANK(F47)),"",G46-D47+F47) -> #REF!
D48: 0 | F48: 0 | G48: =IF(AND(ISBLANK(E48),ISBLANK(F48)),"",G47-D48+F48) -> #REF!
D49: 0 | F49: 0 | G49: =IF(AND(ISBLANK(E49),ISBLANK(F49)),"",G48-D49+F49) -> #REF!
D50: 0 | F50: 0 | G50: =IF(AND(ISBLANK(E50),ISBLANK(F50)),"",G49-D50+F50) -> #REF!
... D140: 0 | F140: 0 | G140: =IF(AND(ISBLANK(E140),ISBLANK(F140)),"",G139-D140+F140) -> #REF!
C141: CHÈQUE | D141: =SUMIF($E:$E,"C",D:D) -> 0 | F141: =SUMIF($E:$E,"C",F:F) -> 0
C142: CELI | D142: =SUMIF($E:$E,"CE",D:D) -> 0 | F142: =SUMIF($E:$E,"CE",F:F) -> 0
C143: SCOTIA | D143: =SUMIF($E:$E,"S",D:D) -> 0 | F143: =SUMIF($E:$E,"S",F:F) -> 0
D144: =SUM(D4:D140 ) -> #REF! | F144: =SUM(F4:F140 ) -> #REF!

Sheet CHÈQUE
A1: CHÈQUE 2014 | L1: =SUM(H68:H70) -> 29.32
A2: Date | B2: Trans. | C2: Colonne1 | D2: Description | E2: Code | F2: % | G2: Colonne3 | H2: Débit (-) | I2: √ | J2: Crédit (+) | K2: Solde | L2: =1583-L1 -> 1553.68 | M2: Diffé.
A3: x | G3: =#REF! -> #REF! | K3: 0 | L3: =SUMPRODUCT((($I4:$I86="X")+($I4:$I86="C")+($I4:$I86="S")+($I4:$I86="CE")+($I4:$I86="E"))*(($J4:$J86)-($H4:$H86))) -> 1643.86 | M3: Solde
A4: 41821 | D4: JUILLET | G4: =#REF! -> #REF! | H4: 0 | I4: X | J4: 357.36 | K4: =IF(AND(ISBLANK(H4),ISBLANK(J4)),"",K3-H4+J4) -> 357.36
A5: =A4 -> 41821 | D5: Transactions de Celi | G5: =#REF! -> #REF! | H5: =SUMIF(CELI!$E:$E,"C",CELI!F:F) -> 0 | I5: X | J5: =SUMIF(CELI!$E:$E,"C",CELI!D:D) -> 0 | K5: =IF(AND(ISBLANK(H5),ISBLANK(J5)),"",K4-H5+J5) -> 357.36 | L5: x
A6: =A4 -> 41821 | D6: Transactions de Scotia | G6: =#REF! -> #REF! | H6: =SUMIF(SCOTIA!$E:$E,"C",SCOTIA!F:F) -> 0 | I6: X | J6: =SUMIF(SCOTIA!$E:$E,"C",SCOTIA!D:D) -> 700 | K6: =IF(AND(ISBLANK(H6),ISBLANK(J6)),"",K5-H6+J6) -> 1057.36 | L6: x
A7: =A4 -> 41821 | D7: Transactions de Épargne | G7: =#REF! -> #REF! | H7: =SUMIF(ÉPARGNE!$E:$E,"C",ÉPARGNE!F:F) -> 0 | I7: X | J7: =SUMIF(ÉPARGNE!$E:$E,"C",ÉPARGNE!D:D) -> 100 | K7: =IF(AND(ISBLANK(H7),ISBLANK(J7)),"",K6-H7+J7) -> 1157.36 | L7: x
A8: =A7 -> 41821 | D8: AFM | G8: =#REF! -> #REF! | H8: 0 | J8: 0 | K8: =IF(AND(ISBLANK(H8),ISBLANK(J8)),"",K7-H8+J8) -> 1157.36 | L8: x
A9: =A4 -> 41821 | D9: Celi | G9: =#REF! -> #REF! | H9: 10 | I9: ce | J9: 0 | K9: =IF(AND(ISBLANK(H9),ISBLANK(J9)),"",K8-H9+J9) -> 1147.36 | L9: x
A10: 41830 | C10: x | D10: Loyer | E10: 5760 | G10: =#REF! -> #REF! | H10: 185 | I10: X | J10: 0 | K10: =IF(AND(ISBLANK(H10),ISBLANK(J10)),"",K9-H10+J10) -> 962.36 | L10: x
A11: =A10+14 -> 41844 | D11: Loyer | E11: 5760 | G11: =#REF! -> #REF! | H11: 185 | I11: x | J11: 0 | K11: =IF(AND(ISBLANK(H11),ISBLANK(J11)),"",K10-H11+J11) -> 777.36 | L11: x
A12: =A4+14 -> 41835 | C12: x | D12: Assurance vie | E12: 5967 | G12: =#REF! -> #REF! | H12: 70.12 | I12: x | J12: 0 | K12: =IF(AND(ISBLANK(H12),ISBLANK(J12)),"",K11-H12+J12) -> 707.24 | L12: x
A13: 41835 | D13: Fosavence | E13: 5901 | G13: =#REF! -> #REF! | H13: 10.56 | I13: x | J13: 0 | K13: =IF(AND(ISBLANK(H13),ISBLANK(J13)),"",K12-H13+J13) -> 696.68 | L13: x
A14: 41842 | C14: x | D14: D-Tab 5 | E14: 5901 | G14: =#REF! -> #REF! | H14: 2 | I14: x | J14: 0 | K14: =IF(AND(ISBLANK(H14),ISBLANK(J14)),"",K13-H14+J14) -> 694.68 | L14: x
A15: 41823 | C15: x | D15: SAAQ | F15: 35.16 | G15: =#REF! -> #REF! | H15: 0 | I15: x | J15: 0 | K15: =IF(AND(ISBLANK(H15),ISBLANK(J15)),"",K14-H15+J15) -> 694.68 | L15: x
A16: =A15 -> 41823 | D16: % Non-déductible | E16: 5330 | F16: =ROUND(100%-F17,2) -> 0.07 | G16: =#REF! -> #REF! | H16: =ROUND(Tableau3[[#This Row],[ %]]*F15,2) -> 2.46 | I16: =I15 -> x | J16: 0 | K16: =IF(AND(ISBLANK(H16),ISBLANK(J16)),"",K15-H16+J16) -> 692.22 | L16: x
A17: =A16 -> 41823 | D17: % Déductible | E17: 5329 | F17: 0.93 | G17: =#REF! -> #REF! | H17: =ROUND(Tableau3[[#This Row],[ %]]*F15,2) -> 32.7 | I17: =I15 -> x | J17: 0 | K17: =IF(AND(ISBLANK(H17),ISBLANK(J17)),"",K16-H17+J17) -> 659.52 | L17: x
A18: 41851 | D18: Épicerie 1 | E18: 5972 | G18: =#REF! -> #REF! | H18: 0 | J18: 0 | K18: =IF(AND(ISBLANK(H18),ISBLANK(J18)),"",K17-H18+J18) -> 659.52 | L18: x
A19: 41832 | C19: x | D19: Essence | E19: =ROUND((F23*F19)/100,2) -> 42.78 | F19: 46 | G19: =#REF! -> #REF! | H19: 0 | I19: x | J19: 0 | K19: =IF(AND(ISBLANK(H19),ISBLANK(J19)),"",K18-H19+J19) -> 659.52 | L19: x
A20: =A19 -> 41832 | D20: TPS | E20: 2315 | F20: 5 | G20: =#REF! -> #REF! | H20: =ROUND((E19-H21)*F20/105,2) -> 1.86 | I20: =I19 -> x | J20: 0 | K20: =IF(AND(ISBLANK(H20),ISBLANK(J20)),"",K19-H20+J20) -> 657.66 | L20: x
A21: =A19 -> 41832 | D21: TVQ | E21: 2345 | F21: 9.5 | G21: =#REF! -> #REF! | H21: =ROUND((E19*F21)/109.5,2) -> 3.71 | I21: =I19 -> x | J21: 0 | K21: =IF(AND(ISBLANK(H21),ISBLANK(J21)),"",K20-H21+J21) -> 653.95 | L21: x
A22: =A19 -> 41832 | D22: % Non-déductible | E22: 5348 | F22: =ROUND(100-F23,2) -> 7 | G22: =#REF! -> #REF! | H22: =ROUND((F22*F19)/100,2) -> 3.22 | I22: =I20 -> x | J22: 0 | K22: =IF(AND(ISBLANK(H22),ISBLANK(J22)),"",K21-H22+J22) -> 650.73 | L22: x
A23: =A19 -> 41832 | D23: % Déductible | E23: 5347 | F23: 93 | G23: =#REF! -> #REF! | H23: =ROUND(E19-H20-H21,2) -> 37.21 | I23: =I20 -> x | J23: 0 | K23: =IF(AND(ISBLANK(H23),ISBLANK(J23)),"",K22-H23+J23) -> 613.52 | L23: x
A24: 41833 | B24: G17802 | C24: x | D24: Épicerie 2 | E24: 5972 | G24: =#REF! -> #REF! | H24: 131.4 | I24: X | J24: 0 | K24: =IF(AND(ISBLANK(H24),ISBLANK(J24)),"",K23-H24+J24) -> 482.12 | L24: x
A25: 41840 | B25: G2615 | C25: x | D25: Épicerie 3 | G25: =#REF! -> #REF! | H25: 38.25 | I25: x | J25: 0 | K25: =IF(AND(ISBLANK(H25),ISBLANK(J25)),"",K24-H25+J25) -> 443.87 | L25: x
A26: 41847 | B26: G13516 | D26: Épicerie transfert à compte conjoint Scotia | E26: 5972 | G26: =#REF! -> #REF! | H26: 52.33 | I26: x | J26: 0 | K26: =IF(AND(ISBLANK(H26),ISBLANK(J26)),"",K25-H26+J26) -> 391.54 | L26: x
A27: 41822 | D27: Transfert à Scotia conjoint | G27: =#REF! -> #REF! | H27: 137.85 | I27: s | J27: 0 | K27: =IF(AND(ISBLANK(H27),ISBLANK(J27)),"",K26-H27+J27) -> 253.69 | L27: x
A28: 41823 | D28: Salaire | G28: =#REF! -> #REF! | H28: 0 | I28: x | J28: 381.73 | K28: =IF(AND(ISBLANK(H28),ISBLANK(J28)),"",K27-H28+J28) -> 635.42 | L28: x
A29: 41822 | B29: 1 | D29: AFMCanada | G29: =#REF! -> #REF! | H29: 216 | I29: x | J29: 0 | K29: =IF(AND(ISBLANK(H29),ISBLANK(J29)),"",K28-H29+J29) -> 419.42 | L29: x
A30: 41827 | B30: 3 | D30: AFMCanada | G30: =#REF! -> #REF! | H30: 18 | I30: x | J30: 0 | K30: =IF(AND(ISBLANK(H30),ISBLANK(J30)),"",K29-H30+J30) -> 401.42 | L30: x
A31: 41829 | C31: x | D31: Cash guichet | G31: =#REF! -> #REF! | H31: 20 | I31: x | J31: 0 | K31: =IF(AND(ISBLANK(H31),ISBLANK(J31)),"",K30-H31+J31) -> 381.42 | L31: x
A32: 41829 | C32: x | D32: Cash guichet | G32: =#REF! -> #REF! | H32: 40 | I32: x | J32: 0 | K32: =IF(AND(ISBLANK(H32),ISBLANK(J32)),"",K31-H32+J32) -> 341.42 | L32: x
A33: 41830 | C33: x | D33: Chiro | G33: =#REF! -> #REF! | H33: 55 | I33: x | J33: 0 | K33: =IF(AND(ISBLANK(H33),ISBLANK(J33)),"",K32-H33+J33) -> 286.42 | L33: x
A34: 41830 | C34: x | D34: Eau | G34: =#REF! -> #REF! | H34: 3 | I34: x | J34: 0 | K34: =IF(AND(ISBLANK(H34),ISBLANK(J34)),"",K33-H34+J34) -> 283.42 | L34: x
A35: 41830 | C35: x | D35: Épicerie | G35: =#REF! -> #REF! | H35: 10 | I35: x | J35: 0 | K35: =IF(AND(ISBLANK(H35),ISBLANK(J35)),"",K34-H35+J35) -> 273.42 | L35: x
A36: 41830 | B36: G31378 | C36: x | D36: Transfert de Scotia CIPAP | G36: =#REF! -> #REF! | H36: 0 | I36: s | J36: 200 | K36: =IF(AND(ISBLANK(H36),ISBLANK(J36)),"",K35-H36+J36) -> 473.42 | L36: x
A37: 41830 | B37: G31427 | C37: x | D37: Transfert de Scotia montre | G37: =#REF! -> #REF! | H37: 0 | I37: s | J37: 60 | K37: =IF(AND(ISBLANK(H37),ISBLANK(J37)),"",K36-H37+J37) -> 533.42 | L37: x
A38: 41835 | C38: x | D38: Médicament | G38: =#REF! -> #REF! | H38: 3.8 | I38: x | J38: 0 | K38: =IF(AND(ISBLANK(H38),ISBLANK(J38)),"",K37-H38+J38) -> 529.62 | L38: x
A39: 41827 | C39: x | D39: Cash guichet | G39: =#REF! -> #REF! | H39: 20 | I39: x | J39: 0 | K39: =IF(AND(ISBLANK(H39),ISBLANK(J39)),"",K38-H39+J39) -> 509.62 | L39: x
A40: 41837 | D40: Master card | G40: =#REF! -> #REF! | H40: 31.11 | I40: x | J40: 0 | K40: =IF(AND(ISBLANK(H40),ISBLANK(J40)),"",K39-H40+J40) -> 478.51 | L40: x
...

Sheet ÉPARGNE
A1: ÉPARGNE 2014
A2: Numéro | B2: Date | C2: Description de la transaction | D2: Débit (-) | E2: √ | F2: Crédit (+) | G2: Solde au livre | H2: Dépenses
D3: 0 | F3: 0 | G3: 0
C4: Solde précédent | D4: 0 | E4: x | F4: 2234.3 | G4: =IF(AND(ISBLANK(D4),ISBLANK(F4)),"",G3-D4+F4) -> 2234.3 | H4: =SUM(#REF!) -> #REF!
C5: AFM | D5: 0 | F5: 0 | G5: =IF(AND(ISBLANK(D5),ISBLANK(F5)),"",G4-D5+F5) -> 2234.3 | H5: Différence avec AFM
C6: Transactions du compte Celi | D6: =SUMIF(CELI!$E:$E,"E",CELI!F:F) -> 0 | F6: =SUMIF(CELI!$E:$E,"E",CELI!D:D) -> 0 | G6: =IF(AND(ISBLANK(D6),ISBLANK(F6)),"",G5-D6+F6) -> 2234.3 | H6: =1591-H4 -> #REF!
C7: Transactions du compte scotia | D7: =SUMIF(SCOTIA!$E:$E,"E",SCOTIA!F:F) -> 0 | E7: X | F7: =SUMIF(SCOTIA!$E:$E,"E",SCOTIA!D:D) -> 0 | G7: =IF(AND(ISBLANK(D7),ISBLANK(F7)),"",G6-D7+F7) -> 2234.3 | H7: Solde à la banque
C8: Transactions du compte de chèque | D8: =SUMIF(CHÈQUE!$I:$I,"E",CHÈQUE!J:J) -> 0 | E8: x | F8: =SUMIF(CHÈQUE!$I:$I,"E",CHÈQUE!H:H) -> 300 | G8: =IF(AND(ISBLANK(D8),ISBLANK(F8)),"",G7-D8+F8) -> 2534.3 | H8: =SUMPRODUCT((($E4:$E19="X")+($E4:$E19="C")+($E4:$E19="S")+($E4:$E19="CE")+($E4:$E19="E"))*(($F4:$F19)-($D4:$D19))) -> 1641
B9: 41821 | C9: Intérêt | D9: 0 | E9: X | F9: 1.87 | G9: =IF(AND(ISBLANK(D9),ISBLANK(F9)),"",G8-D9+F9) -> 2536.17
B10: 41851 | C10: Intérêts | D10: 0 | E10: x | F10: 2.54 | G10: =IF(AND(ISBLANK(D10),ISBLANK(F10)),"",G9-D10+F10) -> 2538.71
A11: G08146 | B11: 41849 | C11: Transfert à chèque | D11: 100 | E11: c | F11: 0 | G11: =IF(AND(ISBLANK(D11),ISBLANK(F11)),"",G10-D11+F11) -> 2438.71
A12: H10162 | B12: 41852 | C12: Transfert conjoint auto | D12: 800 | E12: s | F12: 0 | G12: =IF(AND(ISBLANK(D12),ISBLANK(F12)),"",G11-D12+F12) -> 1638.71
B13: 41852 | C13: Intérêts | D13: 0 | E13: x | F13: 2.29 | G13: =IF(AND(ISBLANK(D13),ISBLANK(F13)),"",G12-D13+F13) -> 1641
D14: 0 | F14: 0 | G14: =IF(AND(ISBLANK(D14),ISBLANK(F14)),"",G13-D14+F14) -> 1641
D15: 0 | F15: 0 | G15: =IF(AND(ISBLANK(D15),ISBLANK(F15)),"",G14-D15+F15) -> 1641
D16: 0 | F16: 0 | G16: =IF(AND(ISBLANK(D16),ISBLANK(F16)),"",G15-D16+F16) -> 1641
D17: 0 | F17: 0 | G17: =IF(AND(ISBLANK(D17),ISBLANK(F17)),"",G16-D17+F17) -> 1641
D18: 0 | F18: 0 | G18: =IF(AND(ISBLANK(D18),ISBLANK(F18)),"",G17-D18+F18) -> 1641
D19: 0 | F19: 0 | G19: =IF(AND(ISBLANK(D19),ISBLANK(F19)),"",G18-D19+F19) -> 1641
D20: =SUM(D4:D19 ) -> 900 | F20: =SUM(F4:F19 ) -> 2541

Sheet CELI
A1: CELI 2014
A2: Numéro | B2: Date | C2: Description de la transaction | D2: Débit (-) | E2: √ | F2: Crédit (+) | G2: Solde au livre | H2: Dépenses
C4: Solde précédent | D4: 0 | E4: x | F4: 50.04 | G4: =IF(AND(ISBLANK(D4),ISBLANK(F4)),"",G3-D4+F4) -> 50.04 | H4: =SUM(D9:D9) -> 0
C5: AFM | D5: 0 | G5: =IF(AND(ISBLANK(D5),ISBLANK(F5)),"",G4-D5+F5) -> 50.04 | H5: Différence avec AFM
C6: Transactions du compte épargne | D6: =SUMIF(ÉPARGNE!$E:$E,"CE",ÉPARGNE!F:F) -> 0 | E6: x | F6: =SUMIF(ÉPARGNE!$E:$E,"CE",ÉPARGNE!D:D) -> 0 | G6: =IF(AND(ISBLANK(D6),ISBLANK(F6)),"",G5-D6+F6) -> 50.04 | H6: =1591-H4 -> 1591
C7: Transactions du compte scotia | D7: =SUMIF(SCOTIA!$E:$E,"CE",SCOTIA!F:F) -> 0 | E7: x | F7: =SUMIF(SCOTIA!$E:$E,"CE",SCOTIA!D:D) -> 0 | G7: =IF(AND(ISBLANK(D7),ISBLANK(F7)),"",G6-D7+F7) -> 50.04 | H7: Solde à la banque
C8: Tansactions du compte de chèque | D8: =SUMIF(CHÈQUE!$I:$I,"CE",CHÈQUE!J:J) -> 0 | E8: X | F8: =SUMIF(CHÈQUE!$I:$I,"CE",CHÈQUE!H:H) -> 20 | G8: =IF(AND(ISBLANK(D8),ISBLANK(F8)),"",G7-D8+F8) -> 70.04 | H8: =SUMPRODUCT((($E4:$E100="X")+($E4:$E100="C")+($E4:$E100="S")+($E4:$E100="CE")+($E4:$E100="E"))*(($F4:$F100)-($D4:$D100))) -> 70.15
D9: 0 | F9: 0 | G9: =IF(AND(ISBLANK(D9),ISBLANK(F9)),"",G8-D9+F9) -> 70.04
D10: 0 | F10: 0 | G10: =IF(AND(ISBLANK(D10),ISBLANK(F10)),"",G9-D10+F10) -> 70.04
B11: 41821 | C11: Intérêts | D11: 0 | E11: x | F11: 0.04 | G11: =IF(AND(ISBLANK(D11),ISBLANK(F11)),"",G10-D11+F11) -> 70.08
B12: 41851 | C12: Intérêts | D12: 0 | E12: x | F12: 0.07 | G12: =IF(AND(ISBLANK(D12),ISBLANK(F12)),"",G11-D12+F12) -> 70.15
D13: 0 | F13: 0 | G13: =IF(AND(ISBLANK(D13),ISBLANK(F13)),"",G12-D13+F13) -> 70.15
D14: 0 | F14: 0 | G14: =IF(AND(ISBLANK(D14),ISBLANK(F14)),"",G13-D14+F14) -> 70.15
D15: 0 | F15: 0 | G15: =IF(AND(ISBLANK(D15),ISBLANK(F15)),"",G14-D15+F15) -> 70.15
D16: 0 | F16: 0 | G16: =IF(AND(ISBLANK(D16),ISBLANK(F16)),"",G15-D16+F16) -> 70.15
D17: 0 | F17: 0 | G17: =IF(AND(ISBLANK(D17),ISBLANK(F17)),"",G16-D17+F17) -> 70.15
D18: 0 | F18: 0 | G18: =IF(AND(ISBLANK(D18),ISBLANK(F18)),"",G17-D18+F18) -> 70.15
D19: 0 | F19: 0 | G19: =IF(AND(ISBLANK(D19),ISBLANK(F19)),"",G18-D19+F19) -> 70.15
D20: 0 | F20: 0 | G20: =IF(AND(ISBLANK(D20),ISBLANK(F20)),"",G19-D20+F20) -> 70.15
D21: 0 | F21: 0 | G21: =IF(AND(ISBLANK(D21),ISBLANK(F21)),"",G20-D21+F21) -> 70.15
D22: 0 | F22: 0 | G22: =IF(AND(ISBLANK(D22),ISBLANK(F22)),"",G21-D22+F22) -> 70.15
D23: 0 | F23: 0 | G23: =IF(AND(ISBLANK(D23),ISBLANK(F23)),"",G22-D23+F23) -> 70.15
D24: 0 | F24: 0 | G24: =IF(AND(ISBLANK(D24),ISBLANK(F24)),"",G23-D24+F24) -> 70.15
D25: 0 | F25: 0 | G25: =IF(AND(ISBLANK(E25),ISBLANK(F25)),"",G24-D25+F25) -> 70.15
D26: 0 | F26: 0 | G26: =IF(AND(ISBLANK(E26),ISBLANK(F26)),"",G25-D26+F26) -> 70.15
D27: 0 | F27: 0 | G27: =IF(AND(ISBLANK(E27),ISBLANK(F27)),"",G26-D27+F27) -> 70.15
D28: 0 | F28: 0 | G28: =IF(AND(ISBLANK(E28),ISBLANK(F28)),"",G27-D28+F28) -> 70.15
D29: 0 | F29: 0 | G29: =IF(AND(ISBLANK(E29),ISBLANK(F29)),"",G28-D29+F29) -> 70.15
D30: 0 | F30: 0 | G30: =IF(AND(ISBLANK(E30),ISBLANK(F30)),"",G29-D30+F30) -> 70.15
D31: 0 | F31: 0 | G31: =IF(AND(ISBLANK(E31),ISBLANK(F31)),"",G30-D31+F31) -> 70.15
D32: 0 | F32: 0 | G32: =IF(AND(ISBLANK(E32),ISBLANK(F32)),"",G31-D32+F32) -> 70.15
D33: 0 | F33: 0 | G33: =IF(AND(ISBLANK(E33),ISBLANK(F33)),"",G32-D33+F33) -> 70.15
D34: 0 | F34: 0 | G34: =IF(AND(ISBLANK(E34),ISBLANK(F34)),"",G33-D34+F34) -> 70.15
D35: 0 | F35: 0 | G35: =IF(AND(ISBLANK(E35),ISBLANK(F35)),"",G34-D35+F35) -> 70.15
D36: 0 | F36: 0 | G36: =IF(AND(ISBLANK(E36),ISBLANK(F36)),"",G35-D36+F36) -> 70.15
... D100: 0 | F100: 0 | G100: =IF(AND(ISBLANK(E100),ISBLANK(F100)),"",G99-D100+F100) -> 70.15
D101: =SUM(D4:D100) -> 0 | F101: =SUM(F4:F100) -> 70.15

Sheet SCOTIA
A1: SCOTIA 2014
A2: Numéro | B2: Date | C2: Description de la transaction | D2: Débit (-) | E2: √ | F2: Crédit (+) | G2: Solde au livre | H2: Dépenses
C4: Solde précédent | D4: 0 | F4: 0 | G4: =IF(AND(ISBLANK(D4),ISBLANK(F4)),"",G3-D4+F4) -> 0 | H4: =SUM(D9:D35) -> 700
C5: AFM | D5: 0 | F5: 0 | G5: =IF(AND(ISBLANK(D5),ISBLANK(F5)),"",G4-D5+F5) -> 0 | H5: Différence avec AFM
C6: Transactions du compte épargne | D6: =SUMIF(ÉPARGNE!$E:$E,"S",ÉPARGNE!F:F) -> 0 | E6: X | F6: =SUMIF(ÉPARGNE!$E:$E,"S",ÉPARGNE!D:D) -> 800 | G6: =IF(AND(ISBLANK(D6),ISBLANK(F6)),"",G4-D6+F6) -> 800 | H6: =1486-H4 -> 786
C7: Transactions du compte Celi | D7: =SUMIF(CELI!$E:$E,"S",CELI!F:F) -> 0 | E7: X | F7: =SUMIF(CELI!$E:$E,"S",CELI!D:D) -> 0 | G7: =IF(AND(ISBLANK(D7),ISBLANK(F7)),"",G6-D7+F7) -> 800 | H7: Solde à la banque
C8: Transactions du compte de chèque | D8: =SUMIF(CHÈQUE!$I:$I,"S",CHÈQUE!J:J) -> 260 | E8: x | F8: =SUMIF(CHÈQUE!$I:$I,"S",CHÈQUE!H:EL) -> 137.85 | G8: =IF(AND(ISBLANK(D8),ISBLANK(F8)),"",G7-D8+F8) -> 677.85 | H8: =SUMPRODUCT((($E4:$E139="X")+($E4:$E139="C")+($E4:$E139="S")+($E4:$E139="CE")+($E4:$E139="E"))*(($F4:$F139)-($D4:$D139))) -> -22.15
D9: 0 | F9: 0 | G9: =IF(AND(ISBLANK(D9),ISBLANK(F9)),"",G8-D9+F9) -> 677.85
D10: 0 | F10: 0 | G10: =IF(AND(ISBLANK(D10),ISBLANK(F10)),"",G9-D10+F10) -> 677.85
D11: 0 | F11: 0 | G11: =IF(AND(ISBLANK(D11),ISBLANK(F11)),"",G10-D11+F11) -> 677.85
D12: 0 | F12: 0 | G12: =IF(AND(ISBLANK(D12),ISBLANK(F12)),"",G11-D12+F12) -> 677.85
D13: 0 | F13: 0 | G13: =IF(AND(ISBLANK(D13),ISBLANK(F13)),"",G12-D13+F13) -> 677.85
D14: 0 | F14: 0 | G14: =IF(AND(ISBLANK(D14),ISBLANK(F14)),"",G13-D14+F14) -> 677.85
D15: 0 | F15: 0 | G15: =IF(AND(ISBLANK(D15),ISBLANK(F15)),"",G14-D15+F15) -> 677.85
D16: 0 | F16: 0 | G16: =IF(AND(ISBLANK(D16),ISBLANK(F16)),"",G15-D16+F16) -> 677.85
D17: 0 | F17: 0 | G17: =IF(AND(ISBLANK(D17),ISBLANK(F17)),"",G16-D17+F17) -> 677.85
D18: 0 | F18: 0 | G18: =IF(AND(ISBLANK(D18),ISBLANK(F18)),"",G17-D18+F18) -> 677.85
D19: 0 | F19: 0 | G19: =IF(AND(ISBLANK(D19),ISBLANK(F19)),"",G18-D19+F19) -> 677.85
D20: 0 | F20: 0 | G20: =IF(AND(ISBLANK(D20),ISBLANK(F20)),"",G19-D20+F20) -> 677.85
... D34: 0 | F34: 0 | G34: =IF(AND(ISBLANK(D34),ISBLANK(F34)),"",G33-D34+F34) -> 677.85
B35: 41822 | C35: Tramsfert à chèque | D35: 700 | E35: c | F35: 0 | G35: =IF(AND(ISBLANK(D35),ISBLANK(F35)),"",G34-D35+F35) -> -22.15
D36: 0 | F36: 0 | G36: =IF(AND(ISBLANK(E36),ISBLANK(F36)),"",G35-D36+F36) -> -22.15
D37: 0 | F37: 0 | G37: =IF(AND(ISBLANK(E37),ISBLANK(F37)),"",G36-D37+F37) -> -22.15
D38: 0 | F38: 0 | G38: =IF(AND(ISBLANK(E38),ISBLANK(F38)),"",G37-D38+F38) -> -22.15
D39: 0 | F39: 0 | G39: =IF(AND(ISBLANK(E39),ISBLANK(F39)),"",G38-D39+F39) -> -22.15
D40: 0 | F40: 0 | G40: =IF(AND(ISBLANK(E40),ISBLANK(F40)),"",G39-D40+F40) -> -22.15
D41: 0 | F41: 0 | G41: =IF(AND(ISBLANK(E41),ISBLANK(F41)),"",G40-D41+F41) -> -22.15
D42: 0 | F42: 0 | G42: =IF(AND(ISBLANK(E42),ISBLANK(F42)),"",G41-D42+F42) -> -22.15
D43: 0 | F43: 0 | G43: =IF(AND(ISBLANK(E43),ISBLANK(F43)),"",G42-D43+F43) -> -22.15
D44: 0 | F44: 0 | G44: =IF(AND(ISBLANK(E44),ISBLANK(F44)),"",G43-D44+F44) -> -22.15
D45: 0 | F45: 0 | G45: =IF(AND(ISBLANK(E45),ISBLANK(F45)),"",G44-D45+F45) -> -22.15
D46: 0 | F46: 0 | G46: =IF(AND(ISBLANK(E46),ISBLANK(F46)),"",G45-D46+F46) -> -22.15
D47: 0 | F47: 0 | G47: =IF(AND(ISBLANK(E47),ISBLANK(F47)),"",G46-D47+F47) -> -22.15
... D139: 0 | F139: 0 | G139: =IF(AND(ISBLANK(E139),ISBLANK(F139)),"",G138-D139+F139) -> -22.15
D140: =SUM(D4:D139) -> 960 | F140: =SUM(F4:F139) -> 937.85

Sheet PRÊT AUTO
A1: Prêt automobile
A2: Numéro | B2: Date | C2: Description | D2: JANVIER | E2: FÉVRIER | F2: MARS | G2: AVRIL | H2: MAI | I2: JUIN | J2: JUILLET | K2: AOÛT | L2: SEPTEMBRE | M2: OCTOBRE | N2: NOVEMBRE | O2: DÉCEMBRE
B3: x | C3: Prêt→ | I3: 22048.56 | J3: =Tableau4[[#This Row],[JUIN]]-Tableau4[[#Totals],[JUIN]] -> 21500 | K3: =Tableau4[[#This Row],[JUILLET]]-Tableau4[[#Totals],[JUILLET]] -> 21400 | L3: =Tableau4[[#This Row],[AOÛT]]-Tableau4[[#Totals],[AOÛT]] -> 20600 | M3: =Tableau4[[#This Row],[SEPTEMBRE]]-Tableau4[[#Totals],[SEPTEMBRE]] -> 20600 | N3: =Tableau4[[#This Row],[OCTOBRE]]-Tableau4[[#Totals],[OCTOBRE]] -> 20600 | O3: =Tableau4[[#This Row],[NOVEMBRE]]-Tableau4[[#Totals],[NOVEMBRE]] -> 20600
A4: H9188041 | B4: 41810 | C4: Scotia | I4: 35.64
A5: H9318653 | B5: 41811 | C5: Scotia | I5: 12.92
A6: F35946 | B6: 41813 | C6: Tangerine | I6: 100
A7: H10217289 | B7: 41820 | C7: Scotia | I7: 400
B8: 41827 | C8: cash | J8: 100
B9: 41856 | C9: Tangerine | K9: 800
A14: Total | D14: =SUM(D4:D13) -> 0 | E14: =SUM(E4:E13) -> 0 | F14: =SUM(F4:F13) -> 0 | G14: =SUM(G4:G13) -> 0 | H14: =SUM(H4:H13) -> 0 | I14: =SUM(I4:I13) -> 548.56 | J14: =SUM(J4:J13) -> 100 | K14: =SUM(K4:K13) -> 800 | ... O14: =SUM(O4:O13) -> 0

Sheet ÉTAT DES RÉSULTATS
A1: Martin Egan
A2: État des résultats 2014
B3: Dates | C3: Colonne1 | D3: Colonne2 | E3: Colonne3
A4: CHARGES | B4: 14juil
A6: Frais de déplacement
A7: Essence à 100% sans les taxes | C7: =C8+D9 -> 40.43
A8: Essence non-déductible déductible à 7% | C8: =SUMIF(CHÈQUE!E:E,5348,CHÈQUE!H:H) -> 3.22
A9: Essence déductible à 93% | D9: =SUMIF(CHÈQUE!E:E,5347,CHÈQUE!H:H) -> 37.21
A10: Entretien du véhicule à 100% sans les taxes | C10: =C11+D12 -> 0
A11: Entretien du véhicule non-déductible à 7% | C11: =SUMIF(CHÈQUE!E:E,5352,CHÈQUE!H:H) -> 0
A12: Entretien du véhicule déductible à 93% | D12: =SUMIF(CHÈQUE!E:E,5352,CHÈQUE!H:H) -> 0
A13: SAAQ à 100% sans les taxes | C13: =C14+D15 -> 35.16
A14: SAAQ non-déductible à 7% | C14: =SUMIF(CHÈQUE!E:E,5330,CHÈQUE!H:H) -> 2.46
A15: SAAQ déductible à 93% | D15: =SUMIF(CHÈQUE!E:E,5329,CHÈQUE!H:H) -> 32.7
A16: Assurance automobile à sans 100% sans les taxes | C16: =C17+D18 -> 0
A17: Assurance automobile non-déductible à 7% | C17: =SUMIF(CHÈQUE!E:E,5342,CHÈQUE!H:H) -> 0
A18: Assurance automobile déductible à 93% | D18: =SUMIF(CHÈQUE!E:E,5341,CHÈQUE!H:H) -> 0
A23: Total - Frais de déplacement | D23: =SUM(D7:D22) -> 69.91
A24: Total
A28: Frais généraux d'administration
A29: Cotisations syndicales | D29: =SUMIF(CHÈQUE!E:E,5636,CHÈQUE!H:H) -> 0
A30: Réparations et entretien | D30: =SUMIF(CHÈQUE!E:E,5765,CHÈQUE!H:H) -> 0
A31: Fournitures de bureau | D31: =SUMIF(CHÈQUE!E:E,5700,CHÈQUE!H:H) -> 13.99
A32: Loyer non déductible | C32: =SUMIF(CHÈQUE!E:E,5760,CHÈQUE!H:H) -> 740
A33: Location de local à 100% | C33: =C34+D35 -> 0
A34: Location de local non déductible à 50% | C34: =SUMIF(CHÈQUE!E:E,5762,CHÈQUE!H:H) -> 0
A35: Location de local déductible à 50% | D35: =SUMIF(CHÈQUE!E:E,5761,CHÈQUE!H:H) -> 0
A36: Hydro à 100% sans les taxes | C36: =C37+D38 -> 0
A37: Hydro non-déductible déductible à 75% | C37: =SUMIF(CHÈQUE!E:E,5705,CHÈQUE!H:H) -> 0
A38: Hydro déductible à 25% | D38: =SUMIF(CHÈQUE!E:E,5704,CHÈQUE!H:H) -> 0
A39: Internet à 100% sans les taxes | C39: =C40+D41 -> 0
A40: Internet non-déductible déductible à 5% | C40: =SUMIF(CHÈQUE!E:E,5742,CHÈQUE!H:H) -> 0
A41: Internet déductible à 95% | D41: =SUMIF(CHÈQUE!E:E,5741,CHÈQUE!H:H) -> 0
A42: Cellulaire à 100% | D42: =SUMIF(CHÈQUE!E:E,5781,CHÈQUE!H:H) -> 0
A43: Courrier et frais postaux à 100% | D43: =SUMIF(CHÈQUE!E:E,5640,CHÈQUE!H:H) -> 0
A44: Frais comptables et judiciaires à 100% | D44: =SUMIF(CHÈQUE!E:E,5610,CHÈQUE!H:H) -> 0
A45: Frais de carte de crédit à 100% | D45: =SUMIF(CHÈQUE!E:E,5645,CHÈQUE!H:H) -> 0
A46: Assurances instruments à 100% | D46: =SUMIF(CHÈQUE!E:E,5686,CHÈQUE!H:H) -> 0
A47: Total - Frais d'administration | D47: =SUM(D29:D46) -> 13.99
A50: Frais financiers
...
