Workbook
Name critere: Feuil2!$A$3:$A$17

Sheet Feuil1
B2: Drag & Drop | C2: A | E2: En C2, choisir le critere. En cellules A5 et suivante tous les citeres de C2 a la suite avec les valeurs en critere 2 correspondant.*
A4: critere1 | B4: Critere2
A5: {=IF(ROWS($1:1)>COUNTIF(critere,$C$2),"",OFFSET(critere,SMALL(IF(critere=Feuil1!$C$2,(critere=Feuil1!$C$2)*(ROW(critere))),ROWS($1:1))-3,COLUMNS($A:A)-1))} -> A | B5: {=IF(ROWS($1:1)>COUNTIF(critere,$C$2),"",OFFSET(critere,SMALL(IF(critere=Feuil1!$C$2,(critere=Feuil1!$C$2)*(ROW(critere))),ROWS($1:1))-3,COLUMNS($A:B)-1))} -> 12
A6: {=IF(ROWS($1:2)>COUNTIF(critere,$C$2),"",OFFSET(critere,SMALL(IF(critere=Feuil1!$C$2,(critere=Feuil1!$C$2)*(ROW(critere))),ROWS($1:2))-3,COLUMNS($A:A)-1))} -> A | B6: {=IF(ROWS($1:2)>COUNTIF(critere,$C$2),"",OFFSET(critere,SMALL(IF(critere=Feuil1!$C$2,(critere=Feuil1!$C$2)*(ROW(critere))),ROWS($1:2))-3,COLUMNS($A:B)-1))} -> 676
A7: {=IF(ROWS($1:3)>COUNTIF(critere,$C$2),"",OFFSET(critere,SMALL(IF(critere=Feuil1!$C$2,(critere=Feuil1!$C$2)*(ROW(critere))),ROWS($1:3))-3,COLUMNS($A:A)-1))} -> A | B7: {=IF(ROWS($1:3)>COUNTIF(critere,$C$2),"",OFFSET(critere,SMALL(IF(critere=Feuil1!$C$2,(critere=Feuil1!$C$2)*(ROW(critere))),ROWS($1:3))-3,COLUMNS($A:B)-1))} -> 465
A8: {=IF(ROWS($1:4)>COUNTIF(critere,$C$2),"",OFFSET(critere,SMALL(IF(critere=Feuil1!$C$2,(critere=Feuil1!$C$2)*(ROW(critere))),ROWS($1:4))-3,COLUMNS($A:A)-1))} -> A | B8: {=IF(ROWS($1:4)>COUNTIF(critere,$C$2),"",OFFSET(critere,SMALL(IF(critere=Feuil1!$C$2,(critere=Feuil1!$C$2)*(ROW(critere))),ROWS($1:4))-3,COLUMNS($A:B)-1))} -> 80
A9: {=IF(ROWS($1:5)>COUNTIF(critere,$C$2),"",OFFSET(critere,SMALL(IF(critere=Feuil1!$C$2,(critere=Feuil1!$C$2)*(ROW(critere))),ROWS($1:5))-3,COLUMNS($A:A)-1))} | B9: {=IF(ROWS($1:5)>COUNTIF(critere,$C$2),"",OFFSET(critere,SMALL(IF(critere=Feuil1!$C$2,(critere=Feuil1!$C$2)*(ROW(critere))),ROWS($1:5))-3,COLUMNS($A:B)-1))}
A10: {=IF(ROWS($1:6)>COUNTIF(critere,$C$2),"",OFFSET(critere,SMALL(IF(critere=Feuil1!$C$2,(critere=Feuil1!$C$2)*(ROW(critere))),ROWS($1:6))-3,COLUMNS($A:A)-1))} | B10: {=IF(ROWS($1:6)>COUNTIF(critere,$C$2),"",OFFSET(critere,SMALL(IF(critere=Feuil1!$C$2,(critere=Feuil1!$C$2)*(ROW(critere))),ROWS($1:6))-3,COLUMNS($A:B)-1))}
A11: {=IF(ROWS($1:7)>COUNTIF(critere,$C$2),"",OFFSET(critere,SMALL(IF(critere=Feuil1!$C$2,(critere=Feuil1!$C$2)*(ROW(critere))),ROWS($1:7))-3,COLUMNS($A:A)-1))} | B11: {=IF(ROWS($1:7)>COUNTIF(critere,$C$2),"",OFFSET(critere,SMALL(IF(critere=Feuil1!$C$2,(critere=Feuil1!$C$2)*(ROW(critere))),ROWS($1:7))-3,COLUMNS($A:B)-1))}
A12: {=IF(ROWS($1:8)>COUNTIF(critere,$C$2),"",OFFSET(critere,SMALL(IF(critere=Feuil1!$C$2,(critere=Feuil1!$C$2)*(ROW(critere))),ROWS($1:8))-3,COLUMNS($A:A)-1))} | B12: {=IF(ROWS($1:8)>COUNTIF(critere,$C$2),"",OFFSET(critere,SMALL(IF(critere=Feuil1!$C$2,(critere=Feuil1!$C$2)*(ROW(critere))),ROWS($1:8))-3,COLUMNS($A:B)-1))}
A13: {=IF(ROWS($1:9)>COUNTIF(critere,$C$2),"",OFFSET(critere,SMALL(IF(critere=Feuil1!$C$2,(critere=Feuil1!$C$2)*(ROW(critere))),ROWS($1:9))-3,COLUMNS($A:A)-1))} | B13: {=IF(ROWS($1:9)>COUNTIF(critere,$C$2),"",OFFSET(critere,SMALL(IF(critere=Feuil1!$C$2,(critere=Feuil1!$C$2)*(ROW(critere))),ROWS($1:9))-3,COLUMNS($A:B)-1))}
A14: {=IF(ROWS($1:10)>COUNTIF(critere,$C$2),"",OFFSET(critere,SMALL(IF(critere=Feuil1!$C$2,(critere=Feuil1!$C$2)*(ROW(critere))),ROWS($1:10))-3,COLUMNS($A:A)-1))} | B14: {=IF(ROWS($1:10)>COUNTIF(critere,$C$2),"",OFFSET(critere,SMALL(IF(critere=Feuil1!$C$2,(critere=Feuil1!$C$2)*(ROW(critere))),ROWS($1:10))-3,COLUMNS($A:B)-1))}
A15: {=IF(ROWS($1:11)>COUNTIF(critere,$C$2),"",OFFSET(critere,SMALL(IF(critere=Feuil1!$C$2,(critere=Feuil1!$C$2)*(ROW(critere))),ROWS($1:11))-3,COLUMNS($A:A)-1))} | B15: {=IF(ROWS($1:11)>COUNTIF(critere,$C$2),"",OFFSET(critere,SMALL(IF(critere=Feuil1!$C$2,(critere=Feuil1!$C$2)*(ROW(critere))),ROWS($1:11))-3,COLUMNS($A:B)-1))}
A16: {=IF(ROWS($1:12)>COUNTIF(critere,$C$2),"",OFFSET(critere,SMALL(IF(critere=Feuil1!$C$2,(critere=Feuil1!$C$2)*(ROW(critere))),ROWS($1:12))-3,COLUMNS($A:A)-1))} | B16: {=IF(ROWS($1:12)>COUNTIF(critere,$C$2),"",OFFSET(critere,SMALL(IF(critere=Feuil1!$C$2,(critere=Feuil1!$C$2)*(ROW(critere))),ROWS($1:12))-3,COLUMNS($A:B)-1))}

Sheet Feuil2
A2: critere1 | B2: Critere2
A3: A | B3: 12
A4: B | B4: 344
A5: C | B5: 54
A6: B | B6: 345
A7: C | B7: 65
A8: A | B8: 676
A9: D | B9: 5
A10: E | B10: 35
A11: D | B11: 453
A12: D | B12: 867
A13: D | B13: 9876
A14: A | B14: 465
... A17: B | B17: 78

Sheet Feuil3
