Workbook

Sheet OngletA
B1: Janvier | D1: Février | F1: Mars
B2: Nb Appels | C2: Durée | D2: Nb Appels | E2: Durée | F2: Nb Appels | G2: Durée
A3: Pascal | B3: 2 | C3: 110 | D3: 1 | E3: 45 | F3: 78 | G3: 450
A4: Laurent | B4: 4 | C4: 145 | D4: 12 | E4: 255 | F4: 45 | G4: 302
A5: René | B5: 5 | C5: 123 | D5: 27 | E5: 2577 | F5: 24 | G5: 145
A6: Marc | B6: 8 | C6: 201 | D6: 145 | E6: 23365 | F6: 2 | G6: 125
A7: Thierry | B7: 12 | C7: 350 | D7: 7 | E7: 85 | F7: 3 | G7: 57
A8: Lionel | B8: 20 | C8: 407 | D8: 233 | E8: 89 | F8: 15 | G8: 45
A9: Medhi | B9: 12 | C9: 12 | D9: 45 | E9: 57 | F9: 24 | G9: 400
A10: Baptiste | B10: 5 | C10: 25 | D10: 12 | E10: 555 | F10: 12 | G10: 209
A11: Boris | B11: 7 | C11: 53 | D11: 33 | E11: 200 | F11: 21 | G11: 99

Sheet OngletB
C1: Nb Appels | D1: Durée | F1: Nb Appels | G1: Durée
A2: Janvier | B2: Pascal | C2: =OngletA!B3 -> 2 | D2: =OngletA!C3 -> 110 | F2: =OngletA!B3 -> 2 | G2: =OngletA!C3 -> 110
B3: Laurent | C3: =OngletA!B4 -> 4 | D3: =OngletA!C4 -> 145 | F3: =OngletA!B4 -> 4 | G3: =OngletA!C4 -> 145
B4: René | C4: =OngletA!B5 -> 5 | D4: =OngletA!C5 -> 123 | F4: =OngletA!B5 -> 5 | G4: =OngletA!C5 -> 123
B5: Marc | C5: =OngletA!B6 -> 8 | D5: =OngletA!C6 -> 201 | F5: =OngletA!B6 -> 8 | G5: =OngletA!C6 -> 201
B6: Thierry | C6: =OngletA!B7 -> 12 | D6: =OngletA!C7 -> 350 | F6: =OngletA!B7 -> 12 | G6: =OngletA!C7 -> 350
B7: Lionel | C7: =OngletA!B8 -> 20 | D7: =OngletA!C8 -> 407 | F7: =OngletA!B8 -> 20 | G7: =OngletA!C8 -> 407
B8: Medhi | C8: =OngletA!B9 -> 12 | D8: =OngletA!C9 -> 12 | F8: =OngletA!B9 -> 12 | G8: =OngletA!C9 -> 12
B9: Baptiste | C9: =OngletA!B10 -> 5 | D9: =OngletA!C10 -> 25 | F9: =OngletA!B10 -> 5 | G9: =OngletA!C10 -> 25
B10: Boris | C10: =OngletA!B11 -> 7 | D10: =OngletA!C11 -> 53 | F10: =OngletA!B11 -> 7 | G10: =OngletA!C11 -> 53
A11: Février | B11: Pascal | C11: =OngletA!D3 -> 1 | D11: =OngletA!E3 -> 45 | F11: =OngletA!B12 -> 0 | G11: =OngletA!C12 -> 0
B12: Laurent | C12: =OngletA!D4 -> 12 | D12: =OngletA!E4 -> 255 | F12: =OngletA!B13 -> 0 | G12: =OngletA!C13 -> 0
B13: René | C13: =OngletA!D5 -> 27 | D13: =OngletA!E5 -> 2577 | F13: =OngletA!B14 -> 0 | G13: =OngletA!C14 -> 0
B14: Marc | C14: =OngletA!D6 -> 145 | D14: =OngletA!E6 -> 23365 | F14: =OngletA!B15 -> 0 | G14: =OngletA!C15 -> 0
B15: Thierry | C15: =OngletA!D7 -> 7 | D15: =OngletA!E7 -> 85 | F15: =OngletA!B16 -> 0 | G15: =OngletA!C16 -> 0
B16: Lionel | C16: =OngletA!D8 -> 233 | D16: =OngletA!E8 -> 89 | F16: =OngletA!B17 -> 0 | G16: =OngletA!C17 -> 0
B17: Medhi | C17: =OngletA!D9 -> 45 | D17: =OngletA!E9 -> 57 | F17: =OngletA!B18 -> 0 | G17: =OngletA!C18 -> 0
B18: Baptiste | C18: =OngletA!D10 -> 12 | D18: =OngletA!E10 -> 555 | F18: =OngletA!B19 -> 0 | G18: =OngletA!C19 -> 0
B19: Boris | C19: =OngletA!D11 -> 33 | D19: =OngletA!E11 -> 200 | F19: =OngletA!B20 -> 0 | G19: =OngletA!C20 -> 0
A20: Mars | B20: Pascal | C20: =OngletA!F3 -> 78 | D20: =OngletA!G3 -> 450 | F20: =OngletA!B21 -> 0 | G20: =OngletA!C21 -> 0
B21: Laurent | C21: =OngletA!F4 -> 45 | D21: =OngletA!G4 -> 302 | F21: =OngletA!B22 -> 0 | G21: =OngletA!C22 -> 0
B22: René | C22: =OngletA!F5 -> 24 | D22: =OngletA!G5 -> 145 | F22: =OngletA!B23 -> 0 | G22: =OngletA!C23 -> 0
B23: Marc | C23: =OngletA!F6 -> 2 | D23: =OngletA!G6 -> 125 | F23: =OngletA!B24 -> 0 | G23: =OngletA!C24 -> 0
B24: Thierry | C24: =OngletA!F7 -> 3 | D24: =OngletA!G7 -> 57 | F24: =OngletA!B25 -> 0 | G24: =OngletA!C25 -> 0
B25: Lionel | C25: =OngletA!F8 -> 15 | D25: =OngletA!G8 -> 45 | F25: =OngletA!B26 -> 0 | G25: =OngletA!C26 -> 0
B26: Medhi | C26: =OngletA!F9 -> 24 | D26: =OngletA!G9 -> 400 | F26: =OngletA!B27 -> 0 | G26: =OngletA!C27 -> 0
B27: Baptiste | C27: =OngletA!F10 -> 12 | D27: =OngletA!G10 -> 209 | F27: =OngletA!B28 -> 0 | G27: =OngletA!C28 -> 0
B28: Boris | C28: =OngletA!F11 -> 21 | D28: =OngletA!G11 -> 99 | F28: =OngletA!B29 -> 0 | G28: =OngletA!C29 -> 0
