Workbook

Sheet Feuil2
B1: JANVIER | C1: FÉVRIER | D1: MARS | E1: AVRIL | F1: MAI | G1: JUIN | H1: JUILLET | I1: AOÛT | J1: SEPTEMBRE | K1: OCTOBRE | L1: NOVEMBRE | M1: DÉCEMBRE
A2: GRENOBLE | B2: =OFFSET([1]Feuil1!$B$2,MATCH($A2,[1]Feuil1!$B$3:$B$103,0)+(MONTH("1/"&B$1)-1)*101,9) -> #VALUE! | C2: =OFFSET([1]Feuil1!$B$2,MATCH($A2,[1]Feuil1!$B$3:$B$103,0)+(MONTH("1/"&C$1)-1)*101,9) -> #VALUE! | D2: =OFFSET([1]Feuil1!$B$2,MATCH($A2,[1]Feuil1!$B$3:$B$103,0)+(MONTH("1/"&Feuil2!D$1)-1)*101,9) -> #VALUE! | E2: =OFFSET([1]Feuil1!$B$2,MATCH($A2,[1]Feuil1!$B$3:$B$103,0)+(MONTH("1/"&Feuil2!E$1)-1)*101,9) -> #VALUE! | F2: =OFFSET([1]Feuil1!$B$2,MATCH($A2,[1]Feuil1!$B$3:$B$103,0)+(MONTH("1/"&Feuil2!F$1)-1)*101,9) -> #VALUE! | G2: =OFFSET([1]Feuil1!$B$2,MATCH($A2,[1]Feuil1!$B$3:$B$103,0)+(MONTH("1/"&Feuil2!G$1)-1)*101,9) -> #VALUE! | H2: =OFFSET([1]Feuil1!$B$2,MATCH($A2,[1]Feuil1!$B$3:$B$103,0)+(MONTH("1/"&Feuil2!H$1)-1)*101,9) -> #VALUE! | I2: =OFFSET([1]Feuil1!$B$2,MATCH($A2,[1]Feuil1!$B$3:$B$103,0)+(MONTH("1/"&Feuil2!I$1)-1)*101,9) -> #VALUE! | J2: =OFFSET([1]Feuil1!$B$2,MATCH($A2,[1]Feuil1!$B$3:$B$103,0)+(MONTH("1/"&Feuil2!J$1)-1)*101,9) -> #VALUE! | K2: =OFFSET([1]Feuil1!$B$2,MATCH($A2,[1]Feuil1!$B$3:$B$103,0)+(MONTH("1/"&Feuil2!K$1)-1)*101,9) -> #VALUE! | ... M2: =OFFSET([1]Feuil1!$B$2,MATCH($A2,[1]Feuil1!$B$3:$B$103,0)+(MONTH("1/"&Feuil2!M$1)-1)*101,9) -> #VALUE!
A3: NICE | B3: =OFFSET([1]Feuil1!$B$2,MATCH($A3,[1]Feuil1!$B$3:$B$103,0)+(MONTH("1/"&B$1)-1)*101,9) -> #VALUE! | C3: =OFFSET([1]Feuil1!$B$2,MATCH($A3,[1]Feuil1!$B$3:$B$103,0)+(MONTH("1/"&C$1)-1)*101,9) -> #VALUE! | D3: =OFFSET([1]Feuil1!$B$2,MATCH($A3,[1]Feuil1!$B$3:$B$103,0)+(MONTH("1/"&Feuil2!D$1)-1)*101,9) -> #VALUE! | E3: =OFFSET([1]Feuil1!$B$2,MATCH($A3,[1]Feuil1!$B$3:$B$103,0)+(MONTH("1/"&Feuil2!E$1)-1)*101,9) -> #VALUE! | F3: =OFFSET([1]Feuil1!$B$2,MATCH($A3,[1]Feuil1!$B$3:$B$103,0)+(MONTH("1/"&Feuil2!F$1)-1)*101,9) -> #VALUE! | G3: =OFFSET([1]Feuil1!$B$2,MATCH($A3,[1]Feuil1!$B$3:$B$103,0)+(MONTH("1/"&Feuil2!G$1)-1)*101,9) -> #VALUE! | H3: =OFFSET([1]Feuil1!$B$2,MATCH($A3,[1]Feuil1!$B$3:$B$103,0)+(MONTH("1/"&Feuil2!H$1)-1)*101,9) -> #VALUE! | I3: =OFFSET([1]Feuil1!$B$2,MATCH($A3,[1]Feuil1!$B$3:$B$103,0)+(MONTH("1/"&Feuil2!I$1)-1)*101,9) -> #VALUE! | J3: =OFFSET([1]Feuil1!$B$2,MATCH($A3,[1]Feuil1!$B$3:$B$103,0)+(MONTH("1/"&Feuil2!J$1)-1)*101,9) -> #VALUE! | K3: =OFFSET([1]Feuil1!$B$2,MATCH($A3,[1]Feuil1!$B$3:$B$103,0)+(MONTH("1/"&Feuil2!K$1)-1)*101,9) -> #VALUE! | ... M3: =OFFSET([1]Feuil1!$B$2,MATCH($A3,[1]Feuil1!$B$3:$B$103,0)+(MONTH("1/"&Feuil2!M$1)-1)*101,9) -> #VALUE!
A4: MONTPELLIER | B4: =OFFSET([1]Feuil1!$B$2,MATCH($A4,[1]Feuil1!$B$3:$B$103,0)+(MONTH("1/"&B$1)-1)*101,9) -> #VALUE! | C4: =OFFSET([1]Feuil1!$B$2,MATCH($A4,[1]Feuil1!$B$3:$B$103,0)+(MONTH("1/"&C$1)-1)*101,9) -> #VALUE! | D4: =OFFSET([1]Feuil1!$B$2,MATCH($A4,[1]Feuil1!$B$3:$B$103,0)+(MONTH("1/"&Feuil2!D$1)-1)*101,9) -> #VALUE! | E4: =OFFSET([1]Feuil1!$B$2,MATCH($A4,[1]Feuil1!$B$3:$B$103,0)+(MONTH("1/"&Feuil2!E$1)-1)*101,9) -> #VALUE! | F4: =OFFSET([1]Feuil1!$B$2,MATCH($A4,[1]Feuil1!$B$3:$B$103,0)+(MONTH("1/"&Feuil2!F$1)-1)*101,9) -> #VALUE! | G4: =OFFSET([1]Feuil1!$B$2,MATCH($A4,[1]Feuil1!$B$3:$B$103,0)+(MONTH("1/"&Feuil2!G$1)-1)*101,9) -> #VALUE! | H4: =OFFSET([1]Feuil1!$B$2,MATCH($A4,[1]Feuil1!$B$3:$B$103,0)+(MONTH("1/"&Feuil2!H$1)-1)*101,9) -> #VALUE! | I4: =OFFSET([1]Feuil1!$B$2,MATCH($A4,[1]Feuil1!$B$3:$B$103,0)+(MONTH("1/"&Feuil2!I$1)-1)*101,9) -> #VALUE! | J4: =OFFSET([1]Feuil1!$B$2,MATCH($A4,[1]Feuil1!$B$3:$B$103,0)+(MONTH("1/"&Feuil2!J$1)-1)*101,9) -> #VALUE! | K4: =OFFSET([1]Feuil1!$B$2,MATCH($A4,[1]Feuil1!$B$3:$B$103,0)+(MONTH("1/"&Feuil2!K$1)-1)*101,9) -> #VALUE! | ... M4: =OFFSET([1]Feuil1!$B$2,MATCH($A4,[1]Feuil1!$B$3:$B$103,0)+(MONTH("1/"&Feuil2!M$1)-1)*101,9) -> #VALUE!
A5: MARSEILLE | B5: =OFFSET([1]Feuil1!$B$2,MATCH($A5,[1]Feuil1!$B$3:$B$103,0)+(MONTH("1/"&B$1)-1)*101,9) -> #VALUE! | C5: =OFFSET([1]Feuil1!$B$2,MATCH($A5,[1]Feuil1!$B$3:$B$103,0)+(MONTH("1/"&C$1)-1)*101,9) -> #VALUE! | D5: =OFFSET([1]Feuil1!$B$2,MATCH($A5,[1]Feuil1!$B$3:$B$103,0)+(MONTH("1/"&Feuil2!D$1)-1)*101,9) -> #VALUE! | E5: =OFFSET([1]Feuil1!$B$2,MATCH($A5,[1]Feuil1!$B$3:$B$103,0)+(MONTH("1/"&Feuil2!E$1)-1)*101,9) -> #VALUE! | F5: =OFFSET([1]Feuil1!$B$2,MATCH($A5,[1]Feuil1!$B$3:$B$103,0)+(MONTH("1/"&Feuil2!F$1)-1)*101,9) -> #VALUE! | G5: =OFFSET([1]Feuil1!$B$2,MATCH($A5,[1]Feuil1!$B$3:$B$103,0)+(MONTH("1/"&Feuil2!G$1)-1)*101,9) -> #VALUE! | H5: =OFFSET([1]Feuil1!$B$2,MATCH($A5,[1]Feuil1!$B$3:$B$103,0)+(MONTH("1/"&Feuil2!H$1)-1)*101,9) -> #VALUE! | I5: =OFFSET([1]Feuil1!$B$2,MATCH($A5,[1]Feuil1!$B$3:$B$103,0)+(MONTH("1/"&Feuil2!I$1)-1)*101,9) -> #VALUE! | J5: =OFFSET([1]Feuil1!$B$2,MATCH($A5,[1]Feuil1!$B$3:$B$103,0)+(MONTH("1/"&Feuil2!J$1)-1)*101,9) -> #VALUE! | K5: =OFFSET([1]Feuil1!$B$2,MATCH($A5,[1]Feuil1!$B$3:$B$103,0)+(MONTH("1/"&Feuil2!K$1)-1)*101,9) -> #VALUE! | ... M5: =OFFSET([1]Feuil1!$B$2,MATCH($A5,[1]Feuil1!$B$3:$B$103,0)+(MONTH("1/"&Feuil2!M$1)-1)*101,9) -> #VALUE!
A6: LYON | B6: =OFFSET([1]Feuil1!$B$2,MATCH($A6,[1]Feuil1!$B$3:$B$103,0)+(MONTH("1/"&B$1)-1)*101,9) -> #VALUE! | C6: =OFFSET([1]Feuil1!$B$2,MATCH($A6,[1]Feuil1!$B$3:$B$103,0)+(MONTH("1/"&C$1)-1)*101,9) -> #VALUE! | D6: =OFFSET([1]Feuil1!$B$2,MATCH($A6,[1]Feuil1!$B$3:$B$103,0)+(MONTH("1/"&Feuil2!D$1)-1)*101,9) -> #VALUE! | E6: =OFFSET([1]Feuil1!$B$2,MATCH($A6,[1]Feuil1!$B$3:$B$103,0)+(MONTH("1/"&Feuil2!E$1)-1)*101,9) -> #VALUE! | F6: =OFFSET([1]Feuil1!$B$2,MATCH($A6,[1]Feuil1!$B$3:$B$103,0)+(MONTH("1/"&Feuil2!F$1)-1)*101,9) -> #VALUE! | G6: =OFFSET([1]Feuil1!$B$2,MATCH($A6,[1]Feuil1!$B$3:$B$103,0)+(MONTH("1/"&Feuil2!G$1)-1)*101,9) -> #VALUE! | H6: =OFFSET([1]Feuil1!$B$2,MATCH($A6,[1]Feuil1!$B$3:$B$103,0)+(MONTH("1/"&Feuil2!H$1)-1)*101,9) -> #VALUE! | I6: =OFFSET([1]Feuil1!$B$2,MATCH($A6,[1]Feuil1!$B$3:$B$103,0)+(MONTH("1/"&Feuil2!I$1)-1)*101,9) -> #VALUE! | J6: =OFFSET([1]Feuil1!$B$2,MATCH($A6,[1]Feuil1!$B$3:$B$103,0)+(MONTH("1/"&Feuil2!J$1)-1)*101,9) -> #VALUE! | K6: =OFFSET([1]Feuil1!$B$2,MATCH($A6,[1]Feuil1!$B$3:$B$103,0)+(MONTH("1/"&Feuil2!K$1)-1)*101,9) -> #VALUE! | ... M6: =OFFSET([1]Feuil1!$B$2,MATCH($A6,[1]Feuil1!$B$3:$B$103,0)+(MONTH("1/"&Feuil2!M$1)-1)*101,9) -> #VALUE!
A7: SELESTAT | B7: =OFFSET([1]Feuil1!$B$2,MATCH($A7,[1]Feuil1!$B$3:$B$103,0)+(MONTH("1/"&B$1)-1)*101,9) -> #VALUE! | C7: =OFFSET([1]Feuil1!$B$2,MATCH($A7,[1]Feuil1!$B$3:$B$103,0)+(MONTH("1/"&C$1)-1)*101,9) -> #VALUE! | D7: =OFFSET([1]Feuil1!$B$2,MATCH($A7,[1]Feuil1!$B$3:$B$103,0)+(MONTH("1/"&Feuil2!D$1)-1)*101,9) -> #VALUE! | E7: =OFFSET([1]Feuil1!$B$2,MATCH($A7,[1]Feuil1!$B$3:$B$103,0)+(MONTH("1/"&Feuil2!E$1)-1)*101,9) -> #VALUE! | F7: =OFFSET([1]Feuil1!$B$2,MATCH($A7,[1]Feuil1!$B$3:$B$103,0)+(MONTH("1/"&Feuil2!F$1)-1)*101,9) -> #VALUE! | G7: =OFFSET([1]Feuil1!$B$2,MATCH($A7,[1]Feuil1!$B$3:$B$103,0)+(MONTH("1/"&Feuil2!G$1)-1)*101,9) -> #VALUE! | H7: =OFFSET([1]Feuil1!$B$2,MATCH($A7,[1]Feuil1!$B$3:$B$103,0)+(MONTH("1/"&Feuil2!H$1)-1)*101,9) -> #VALUE! | I7: =OFFSET([1]Feuil1!$B$2,MATCH($A7,[1]Feuil1!$B$3:$B$103,0)+(MONTH("1/"&Feuil2!I$1)-1)*101,9) -> #VALUE! | J7: =OFFSET([1]Feuil1!$B$2,MATCH($A7,[1]Feuil1!$B$3:$B$103,0)+(MONTH("1/"&Feuil2!J$1)-1)*101,9) -> #VALUE! | K7: =OFFSET([1]Feuil1!$B$2,MATCH($A7,[1]Feuil1!$B$3:$B$103,0)+(MONTH("1/"&Feuil2!K$1)-1)*101,9) -> #VALUE! | ... M7: =OFFSET([1]Feuil1!$B$2,MATCH($A7,[1]Feuil1!$B$3:$B$103,0)+(MONTH("1/"&Feuil2!M$1)-1)*101,9) -> #VALUE!
A8: BESANCON | B8: =OFFSET([1]Feuil1!$B$2,MATCH($A8,[1]Feuil1!$B$3:$B$103,0)+(MONTH("1/"&B$1)-1)*101,9) -> #VALUE! | C8: =OFFSET([1]Feuil1!$B$2,MATCH($A8,[1]Feuil1!$B$3:$B$103,0)+(MONTH("1/"&C$1)-1)*101,9) -> #VALUE! | D8: =OFFSET([1]Feuil1!$B$2,MATCH($A8,[1]Feuil1!$B$3:$B$103,0)+(MONTH("1/"&Feuil2!D$1)-1)*101,9) -> #VALUE! | E8: =OFFSET([1]Feuil1!$B$2,MATCH($A8,[1]Feuil1!$B$3:$B$103,0)+(MONTH("1/"&Feuil2!E$1)-1)*101,9) -> #VALUE! | F8: =OFFSET([1]Feuil1!$B$2,MATCH($A8,[1]Feuil1!$B$3:$B$103,0)+(MONTH("1/"&Feuil2!F$1)-1)*101,9) -> #VALUE! | G8: =OFFSET([1]Feuil1!$B$2,MATCH($A8,[1]Feuil1!$B$3:$B$103,0)+(MONTH("1/"&Feuil2!G$1)-1)*101,9) -> #VALUE! | H8: =OFFSET([1]Feuil1!$B$2,MATCH($A8,[1]Feuil1!$B$3:$B$103,0)+(MONTH("1/"&Feuil2!H$1)-1)*101,9) -> #VALUE! | I8: =OFFSET([1]Feuil1!$B$2,MATCH($A8,[1]Feuil1!$B$3:$B$103,0)+(MONTH("1/"&Feuil2!I$1)-1)*101,9) -> #VALUE! | J8: =OFFSET([1]Feuil1!$B$2,MATCH($A8,[1]Feuil1!$B$3:$B$103,0)+(MONTH("1/"&Feuil2!J$1)-1)*101,9) -> #VALUE! | K8: =OFFSET([1]Feuil1!$B$2,MATCH($A8,[1]Feuil1!$B$3:$B$103,0)+(MONTH("1/"&Feuil2!K$1)-1)*101,9) -> #VALUE! | ... M8: =OFFSET([1]Feuil1!$B$2,MATCH($A8,[1]Feuil1!$B$3:$B$103,0)+(MONTH("1/"&Feuil2!M$1)-1)*101,9) -> #VALUE!
A9: PARIS | B9: =OFFSET([1]Feuil1!$B$2,MATCH($A9,[1]Feuil1!$B$3:$B$103,0)+(MONTH("1/"&B$1)-1)*101,9) -> #VALUE! | C9: =OFFSET([1]Feuil1!$B$2,MATCH($A9,[1]Feuil1!$B$3:$B$103,0)+(MONTH("1/"&C$1)-1)*101,9) -> #VALUE! | D9: =OFFSET([1]Feuil1!$B$2,MATCH($A9,[1]Feuil1!$B$3:$B$103,0)+(MONTH("1/"&Feuil2!D$1)-1)*101,9) -> #VALUE! | E9: =OFFSET([1]Feuil1!$B$2,MATCH($A9,[1]Feuil1!$B$3:$B$103,0)+(MONTH("1/"&Feuil2!E$1)-1)*101,9) -> #VALUE! | F9: =OFFSET([1]Feuil1!$B$2,MATCH($A9,[1]Feuil1!$B$3:$B$103,0)+(MONTH("1/"&Feuil2!F$1)-1)*101,9) -> #VALUE! | G9: =OFFSET([1]Feuil1!$B$2,MATCH($A9,[1]Feuil1!$B$3:$B$103,0)+(MONTH("1/"&Feuil2!G$1)-1)*101,9) -> #VALUE! | H9: =OFFSET([1]Feuil1!$B$2,MATCH($A9,[1]Feuil1!$B$3:$B$103,0)+(MONTH("1/"&Feuil2!H$1)-1)*101,9) -> #VALUE! | I9: =OFFSET([1]Feuil1!$B$2,MATCH($A9,[1]Feuil1!$B$3:$B$103,0)+(MONTH("1/"&Feuil2!I$1)-1)*101,9) -> #VALUE! | J9: =OFFSET([1]Feuil1!$B$2,MATCH($A9,[1]Feuil1!$B$3:$B$103,0)+(MONTH("1/"&Feuil2!J$1)-1)*101,9) -> #VALUE! | K9: =OFFSET([1]Feuil1!$B$2,MATCH($A9,[1]Feuil1!$B$3:$B$103,0)+(MONTH("1/"&Feuil2!K$1)-1)*101,9) -> #VALUE! | ... M9: =OFFSET([1]Feuil1!$B$2,MATCH($A9,[1]Feuil1!$B$3:$B$103,0)+(MONTH("1/"&Feuil2!M$1)-1)*101,9) -> #VALUE!
A10: CAMBRAI | B10: =OFFSET([1]Feuil1!$B$2,MATCH($A10,[1]Feuil1!$B$3:$B$103,0)+(MONTH("1/"&B$1)-1)*101,9) -> #VALUE! | C10: =OFFSET([1]Feuil1!$B$2,MATCH($A10,[1]Feuil1!$B$3:$B$103,0)+(MONTH("1/"&C$1)-1)*101,9) -> #VALUE! | D10: =OFFSET([1]Feuil1!$B$2,MATCH($A10,[1]Feuil1!$B$3:$B$103,0)+(MONTH("1/"&Feuil2!D$1)-1)*101,9) -> #VALUE! | E10: =OFFSET([1]Feuil1!$B$2,MATCH($A10,[1]Feuil1!$B$3:$B$103,0)+(MONTH("1/"&Feuil2!E$1)-1)*101,9) -> #VALUE! | F10: =OFFSET([1]Feuil1!$B$2,MATCH($A10,[1]Feuil1!$B$3:$B$103,0)+(MONTH("1/"&Feuil2!F$1)-1)*101,9) -> #VALUE! | G10: =OFFSET([1]Feuil1!$B$2,MATCH($A10,[1]Feuil1!$B$3:$B$103,0)+(MONTH("1/"&Feuil2!G$1)-1)*101,9) -> #VALUE! | H10: =OFFSET([1]Feuil1!$B$2,MATCH($A10,[1]Feuil1!$B$3:$B$103,0)+(MONTH("1/"&Feuil2!H$1)-1)*101,9) -> #VALUE! | I10: =OFFSET([1]Feuil1!$B$2,MATCH($A10,[1]Feuil1!$B$3:$B$103,0)+(MONTH("1/"&Feuil2!I$1)-1)*101,9) -> #VALUE! | J10: =OFFSET([1]Feuil1!$B$2,MATCH($A10,[1]Feuil1!$B$3:$B$103,0)+(MONTH("1/"&Feuil2!J$1)-1)*101,9) -> #VALUE! | K10: =OFFSET([1]Feuil1!$B$2,MATCH($A10,[1]Feuil1!$B$3:$B$103,0)+(MONTH("1/"&Feuil2!K$1)-1)*101,9) -> #VALUE! | ... M10: =OFFSET([1]Feuil1!$B$2,MATCH($A10,[1]Feuil1!$B$3:$B$103,0)+(MONTH("1/"&Feuil2!M$1)-1)*101,9) -> #VALUE!
A11: ROUEN | B11: =OFFSET([1]Feuil1!$B$2,MATCH($A11,[1]Feuil1!$B$3:$B$103,0)+(MONTH("1/"&B$1)-1)*101,9) -> #VALUE! | C11: =OFFSET([1]Feuil1!$B$2,MATCH($A11,[1]Feuil1!$B$3:$B$103,0)+(MONTH("1/"&C$1)-1)*101,9) -> #VALUE! | D11: =OFFSET([1]Feuil1!$B$2,MATCH($A11,[1]Feuil1!$B$3:$B$103,0)+(MONTH("1/"&Feuil2!D$1)-1)*101,9) -> #VALUE! | E11: =OFFSET([1]Feuil1!$B$2,MATCH($A11,[1]Feuil1!$B$3:$B$103,0)+(MONTH("1/"&Feuil2!E$1)-1)*101,9) -> #VALUE! | F11: =OFFSET([1]Feuil1!$B$2,MATCH($A11,[1]Feuil1!$B$3:$B$103,0)+(MONTH("1/"&Feuil2!F$1)-1)*101,9) -> #VALUE! | G11: =OFFSET([1]Feuil1!$B$2,MATCH($A11,[1]Feuil1!$B$3:$B$103,0)+(MONTH("1/"&Feuil2!G$1)-1)*101,9) -> #VALUE! | H11: =OFFSET([1]Feuil1!$B$2,MATCH($A11,[1]Feuil1!$B$3:$B$103,0)+(MONTH("1/"&Feuil2!H$1)-1)*101,9) -> #VALUE! | I11: =OFFSET([1]Feuil1!$B$2,MATCH($A11,[1]Feuil1!$B$3:$B$103,0)+(MONTH("1/"&Feuil2!I$1)-1)*101,9) -> #VALUE! | J11: =OFFSET([1]Feuil1!$B$2,MATCH($A11,[1]Feuil1!$B$3:$B$103,0)+(MONTH("1/"&Feuil2!J$1)-1)*101,9) -> #VALUE! | K11: =OFFSET([1]Feuil1!$B$2,MATCH($A11,[1]Feuil1!$B$3:$B$103,0)+(MONTH("1/"&Feuil2!K$1)-1)*101,9) -> #VALUE! | ... M11: =OFFSET([1]Feuil1!$B$2,MATCH($A11,[1]Feuil1!$B$3:$B$103,0)+(MONTH("1/"&Feuil2!M$1)-1)*101,9) -> #VALUE!
A12: CLERMONT FERRAND | B12: =OFFSET([1]Feuil1!$B$2,MATCH($A12,[1]Feuil1!$B$3:$B$103,0)+(MONTH("1/"&B$1)-1)*101,9) -> #VALUE! | C12: =OFFSET([1]Feuil1!$B$2,MATCH($A12,[1]Feuil1!$B$3:$B$103,0)+(MONTH("1/"&C$1)-1)*101,9) -> #VALUE! | D12: =OFFSET([1]Feuil1!$B$2,MATCH($A12,[1]Feuil1!$B$3:$B$103,0)+(MONTH("1/"&Feuil2!D$1)-1)*101,9) -> #VALUE! | E12: =OFFSET([1]Feuil1!$B$2,MATCH($A12,[1]Feuil1!$B$3:$B$103,0)+(MONTH("1/"&Feuil2!E$1)-1)*101,9) -> #VALUE! | F12: =OFFSET([1]Feuil1!$B$2,MATCH($A12,[1]Feuil1!$B$3:$B$103,0)+(MONTH("1/"&Feuil2!F$1)-1)*101,9) -> #VALUE! | G12: =OFFSET([1]Feuil1!$B$2,MATCH($A12,[1]Feuil1!$B$3:$B$103,0)+(MONTH("1/"&Feuil2!G$1)-1)*101,9) -> #VALUE! | H12: =OFFSET([1]Feuil1!$B$2,MATCH($A12,[1]Feuil1!$B$3:$B$103,0)+(MONTH("1/"&Feuil2!H$1)-1)*101,9) -> #VALUE! | I12: =OFFSET([1]Feuil1!$B$2,MATCH($A12,[1]Feuil1!$B$3:$B$103,0)+(MONTH("1/"&Feuil2!I$1)-1)*101,9) -> #VALUE! | J12: =OFFSET([1]Feuil1!$B$2,MATCH($A12,[1]Feuil1!$B$3:$B$103,0)+(MONTH("1/"&Feuil2!J$1)-1)*101,9) -> #VALUE! | K12: =OFFSET([1]Feuil1!$B$2,MATCH($A12,[1]Feuil1!$B$3:$B$103,0)+(MONTH("1/"&Feuil2!K$1)-1)*101,9) -> #VALUE! | ... M12: =OFFSET([1]Feuil1!$B$2,MATCH($A12,[1]Feuil1!$B$3:$B$103,0)+(MONTH("1/"&Feuil2!M$1)-1)*101,9) -> #VALUE!
A13: BORDEAUX | B13: =OFFSET([1]Feuil1!$B$2,MATCH($A13,[1]Feuil1!$B$3:$B$103,0)+(MONTH("1/"&B$1)-1)*101,9) -> #VALUE! | C13: =OFFSET([1]Feuil1!$B$2,MATCH($A13,[1]Feuil1!$B$3:$B$103,0)+(MONTH("1/"&C$1)-1)*101,9) -> #VALUE! | D13: =OFFSET([1]Feuil1!$B$2,MATCH($A13,[1]Feuil1!$B$3:$B$103,0)+(MONTH("1/"&Feuil2!D$1)-1)*101,9) -> #VALUE! | E13: =OFFSET([1]Feuil1!$B$2,MATCH($A13,[1]Feuil1!$B$3:$B$103,0)+(MONTH("1/"&Feuil2!E$1)-1)*101,9) -> #VALUE! | F13: =OFFSET([1]Feuil1!$B$2,MATCH($A13,[1]Feuil1!$B$3:$B$103,0)+(MONTH("1/"&Feuil2!F$1)-1)*101,9) -> #VALUE! | G13: =OFFSET([1]Feuil1!$B$2,MATCH($A13,[1]Feuil1!$B$3:$B$103,0)+(MONTH("1/"&Feuil2!G$1)-1)*101,9) -> #VALUE! | H13: =OFFSET([1]Feuil1!$B$2,MATCH($A13,[1]Feuil1!$B$3:$B$103,0)+(MONTH("1/"&Feuil2!H$1)-1)*101,9) -> #VALUE! | I13: =OFFSET([1]Feuil1!$B$2,MATCH($A13,[1]Feuil1!$B$3:$B$103,0)+(MONTH("1/"&Feuil2!I$1)-1)*101,9) -> #VALUE! | J13: =OFFSET([1]Feuil1!$B$2,MATCH($A13,[1]Feuil1!$B$3:$B$103,0)+(MONTH("1/"&Feuil2!J$1)-1)*101,9) -> #VALUE! | K13: =OFFSET([1]Feuil1!$B$2,MATCH($A13,[1]Feuil1!$B$3:$B$103,0)+(MONTH("1/"&Feuil2!K$1)-1)*101,9) -> #VALUE! | ... M13: =OFFSET([1]Feuil1!$B$2,MATCH($A13,[1]Feuil1!$B$3:$B$103,0)+(MONTH("1/"&Feuil2!M$1)-1)*101,9) -> #VALUE!
... A19: SANTE | B19: =OFFSET([1]Feuil1!$B$2,MATCH($A19,[1]Feuil1!$B$3:$B$103,0)+(MONTH("1/"&B$1)-1)*101,9) -> #VALUE! | C19: =OFFSET([1]Feuil1!$B$2,MATCH($A19,[1]Feuil1!$B$3:$B$103,0)+(MONTH("1/"&C$1)-1)*101,9) -> #VALUE! | D19: =OFFSET([1]Feuil1!$B$2,MATCH($A19,[1]Feuil1!$B$3:$B$103,0)+(MONTH("1/"&Feuil2!D$1)-1)*101,9) -> #VALUE! | E19: =OFFSET([1]Feuil1!$B$2,MATCH($A19,[1]Feuil1!$B$3:$B$103,0)+(MONTH("1/"&Feuil2!E$1)-1)*101,9) -> #VALUE! | F19: =OFFSET([1]Feuil1!$B$2,MATCH($A19,[1]Feuil1!$B$3:$B$103,0)+(MONTH("1/"&Feuil2!F$1)-1)*101,9) -> #VALUE! | G19: =OFFSET([1]Feuil1!$B$2,MATCH($A19,[1]Feuil1!$B$3:$B$103,0)+(MONTH("1/"&Feuil2!G$1)-1)*101,9) -> #VALUE! | H19: =OFFSET([1]Feuil1!$B$2,MATCH($A19,[1]Feuil1!$B$3:$B$103,0)+(MONTH("1/"&Feuil2!H$1)-1)*101,9) -> #VALUE! | I19: =OFFSET([1]Feuil1!$B$2,MATCH($A19,[1]Feuil1!$B$3:$B$103,0)+(MONTH("1/"&Feuil2!I$1)-1)*101,9) -> #VALUE! | J19: =OFFSET([1]Feuil1!$B$2,MATCH($A19,[1]Feuil1!$B$3:$B$103,0)+(MONTH("1/"&Feuil2!J$1)-1)*101,9) -> #VALUE! | K19: =OFFSET([1]Feuil1!$B$2,MATCH($A19,[1]Feuil1!$B$3:$B$103,0)+(MONTH("1/"&Feuil2!K$1)-1)*101,9) -> #VALUE! | ... M19: =OFFSET([1]Feuil1!$B$2,MATCH($A19,[1]Feuil1!$B$3:$B$103,0)+(MONTH("1/"&Feuil2!M$1)-1)*101,9) -> #VALUE!
B24: JANVIER | C24: FÉVRIER | D24: MARS | E24: AVRIL | F24: MAI | G24: JUIN | H24: JUILLET | I24: AOÛT | J24: SEPTEMBRE | K24: OCTOBRE | L24: NOVEMBRE | M24: DÉCEMBRE
A25: GRENOBLE | B25: =[1]Feuil1!O2 -> 37 | C25: =[1]Feuil1!P2 -> 2 | D25: =[1]Feuil1!Q2 -> 0 | E25: =[1]Feuil1!R2 -> 0 | F25: =[1]Feuil1!S2 -> 0 | G25: =[1]Feuil1!T2 -> 0 | H25: =[1]Feuil1!U2 -> 0 | I25: =[1]Feuil1!V2 -> 0 | ... M25: =[1]Feuil1!Z2 -> 0
A26: NICE | B26: =[1]Feuil1!O3 -> 21 | C26: =[1]Feuil1!P3 -> 8 | D26: =[1]Feuil1!Q3 -> 0 | E26: =[1]Feuil1!R3 -> 0 | F26: =[1]Feuil1!S3 -> 0 | G26: =[1]Feuil1!T3 -> 0 | H26: =[1]Feuil1!U3 -> 0 | I26: =[1]Feuil1!V3 -> 0 | ... M26: =[1]Feuil1!Z3 -> 0
A27: MONTPELLIER | B27: =[1]Feuil1!O4 -> 31 | C27: =[1]Feuil1!P4 -> 5 | D27: =[1]Feuil1!Q4 -> 0 | E27: =[1]Feuil1!R4 -> 0 | F27: =[1]Feuil1!S4 -> 0 | G27: =[1]Feuil1!T4 -> 0 | H27: =[1]Feuil1!U4 -> 0 | I27: =[1]Feuil1!V4 -> 0 | ... M27: =[1]Feuil1!Z4 -> 0
A28: MARSEILLE | B28: =[1]Feuil1!O5 -> 9 | C28: =[1]Feuil1!P5 -> 4 | D28: =[1]Feuil1!Q5 -> 0 | E28: =[1]Feuil1!R5 -> 0 | F28: =[1]Feuil1!S5 -> 0 | G28: =[1]Feuil1!T5 -> 0 | H28: =[1]Feuil1!U5 -> 0 | I28: =[1]Feuil1!V5 -> 0 | ... M28: =[1]Feuil1!Z5 -> 0
A29: LYON | B29: =[1]Feuil1!O6 -> 28 | C29: =[1]Feuil1!P6 -> 5 | D29: =[1]Feuil1!Q6 -> 0 | E29: =[1]Feuil1!R6 -> 0 | F29: =[1]Feuil1!S6 -> 0 | G29: =[1]Feuil1!T6 -> 0 | H29: =[1]Feuil1!U6 -> 0 | I29: =[1]Feuil1!V6 -> 0 | ... M29: =[1]Feuil1!Z6 -> 0
A30: SELESTAT | B30: =[1]Feuil1!O7 -> 32 | C30: =[1]Feuil1!P7 -> 6 | D30: =[1]Feuil1!Q7 -> 0 | E30: =[1]Feuil1!R7 -> 0 | F30: =[1]Feuil1!S7 -> 0 | G30: =[1]Feuil1!T7 -> 0 | H30: =[1]Feuil1!U7 -> 0 | I30: =[1]Feuil1!V7 -> 0 | ... M30: =[1]Feuil1!Z7 -> 0
A31: BESANCON | B31: =[1]Feuil1!O8 -> 35 | C31: =[1]Feuil1!P8 -> 7 | D31: =[1]Feuil1!Q8 -> 0 | E31: =[1]Feuil1!R8 -> 0 | F31: =[1]Feuil1!S8 -> 0 | G31: =[1]Feuil1!T8 -> 0 | H31: =[1]Feuil1!U8 -> 0 | I31: =[1]Feuil1!V8 -> 0 | ... M31: =[1]Feuil1!Z8 -> 0
A32: PARIS | B32: =[1]Feuil1!O9 -> 47 | C32: =[1]Feuil1!P9 -> 8 | D32: =[1]Feuil1!Q9 -> 0 | E32: =[1]Feuil1!R9 -> 0 | F32: =[1]Feuil1!S9 -> 0 | G32: =[1]Feuil1!T9 -> 0 | H32: =[1]Feuil1!U9 -> 0 | I32: =[1]Feuil1!V9 -> 0 | ... M32: =[1]Feuil1!Z9 -> 0
A33: CAMBRAI | B33: =[1]Feuil1!O10 -> 38 | C33: =[1]Feuil1!P10 -> 9 | D33: =[1]Feuil1!Q10 -> 0 | E33: =[1]Feuil1!R10 -> 0 | F33: =[1]Feuil1!S10 -> 0 | G33: =[1]Feuil1!T10 -> 0 | H33: =[1]Feuil1!U10 -> 0 | I33: =[1]Feuil1!V10 -> 0 | ... M33: =[1]Feuil1!Z10 -> 0
A34: ROUEN | B34: =[1]Feuil1!O11 -> 51 | C34: =[1]Feuil1!P11 -> 10 | D34: =[1]Feuil1!Q11 -> 0 | E34: =[1]Feuil1!R11 -> 0 | F34: =[1]Feuil1!S11 -> 0 | G34: =[1]Feuil1!T11 -> 0 | H34: =[1]Feuil1!U11 -> 0 | I34: =[1]Feuil1!V11 -> 0 | ... M34: =[1]Feuil1!Z11 -> 0
A35: CLERMONT FERRAND | B35: =[1]Feuil1!O12 -> 4 | C35: =[1]Feuil1!P12 -> 11 | D35: =[1]Feuil1!Q12 -> 0 | E35: =[1]Feuil1!R12 -> 0 | F35: =[1]Feuil1!S12 -> 0 | G35: =[1]Feuil1!T12 -> 0 | H35: =[1]Feuil1!U12 -> 0 | I35: =[1]Feuil1!V12 -> 0 | ... M35: =[1]Feuil1!Z12 -> 0
A36: BORDEAUX | B36: =[1]Feuil1!O13 -> 8 | C36: =[1]Feuil1!P13 -> 12 | D36: =[1]Feuil1!Q13 -> 0 | E36: =[1]Feuil1!R13 -> 0 | F36: =[1]Feuil1!S13 -> 0 | G36: =[1]Feuil1!T13 -> 0 | H36: =[1]Feuil1!U13 -> 0 | I36: =[1]Feuil1!V13 -> 0 | ... M36: =[1]Feuil1!Z13 -> 0
... A42: SANTE | B42: =[1]Feuil1!O19 -> 3 | C42: =[1]Feuil1!P19 -> 18 | D42: =[1]Feuil1!Q19 -> 0 | E42: =[1]Feuil1!R19 -> 0 | F42: =[1]Feuil1!S19 -> 0 | G42: =[1]Feuil1!T19 -> 0 | H42: =[1]Feuil1!U19 -> 0 | I42: =[1]Feuil1!V19 -> 0 | ... M42: =[1]Feuil1!Z19 -> 0
