Workbook
Name ArticleAlpha: ARTICLES!$G$3:$G$2983
Name ArticleRef: ARTICLES!$A$3:$A$2983
Name NomAbrégé: OFFSET(CLIENTS!$G$3,,,COUNTA(NumClient))
Name NumClient: OFFSET(CLIENTS!$A$3,,,COUNTA(CLIENTS!$A:$A)-2)
Name TabloAlphabetik: OFFSET(CLIENTS!$G$3:$K$3,,,COUNTA(NomAbrégé))
Name TabloNumerik: OFFSET(CLIENTS!$A$3:'CLIENTS'!$D$3,,,COUNTA(NumClient))
Name TabloRef1: OFFSET(ARTICLES!$A$3:$B$3,,,COUNTA(ArticleRef))
Name TabloRef2: OFFSET(ARTICLES!$F$3:$G$3,,,COUNTA(ArticleAlpha))

Sheet COMMANDES
A1: RECHERCHE PAR NUMERO DE CLIENT | C1: RECHERCHE PAR NOM DE CLIENT | F1: ADRESSE | H1: Nom Client SI NOUVEAU | I1: Adresse de Livraison (si différente) | J1: Date de Commande | K1: Date Expédition Souhaitée | L1: RECHERCHE PAR REFERENCE | N1: RECHERCHE PAR NOM D'ARTICLE | P1: Description Article (entrée manuelle) | Q1: Quantité
A2: Numéro Client | B2: Nom Client | C2: Nom Client - abrégé | D2: Nom Client - complet | E2: Numéro Client | F2: Code postal | G2: VILLE | L2: Référence Article | M2: Libellé Article | N2: Libellé Article | O2: Référence Article
B3: =IF($A3="","",INDEX(TabloNumerik,MATCH($A3,NumClient,0),2)) | D3: =IF($C3="","",INDEX(TabloAlphabetik,MATCH($C3,NomAbrégé,0),2)) | E3: =IF($C3="","",INDEX(TabloAlphabetik,MATCH($D3,CLIENTS!H$3:H$266,0),3)) | F3: =IF(AND($A3="",$C3=""),"",IF($A3<>"",INDEX(TabloNumerik,MATCH($A3,NumClient,0),3),INDEX(TabloAlphabetik,MATCH($C3,NomAbrégé,0),4))) | G3: =IF(AND($A3="",$C3=""),"",IF($A3<>"",INDEX(TabloNumerik,MATCH($A3,NumClient,0),4),INDEX(TabloAlphabetik,MATCH($C3,NomAbrégé,0),5))) | M3: =IF($L3="","",INDEX(TabloRef1,MATCH($L3,ArticleRef,0),2)) | O3: =IF($N3="","",INDEX(TabloRef2,MATCH($N3,ArticleAlpha,0),2))
B4: =IF($A4="","",INDEX(TabloNumerik,MATCH($A4,NumClient,0),2)) | D4: =IF($C4="","",INDEX(TabloAlphabetik,MATCH($C4,NomAbrégé,0),2)) | E4: =IF($C4="","",INDEX(TabloAlphabetik,MATCH($D4,CLIENTS!H$3:H$266,0),3)) | F4: =IF(AND($A4="",$C4=""),"",IF($A4<>"",INDEX(TabloNumerik,MATCH($A4,NumClient,0),3),INDEX(TabloAlphabetik,MATCH($C4,NomAbrégé,0),4))) | G4: =IF(AND($A4="",$C4=""),"",IF($A4<>"",INDEX(TabloNumerik,MATCH($A4,NumClient,0),4),INDEX(TabloAlphabetik,MATCH($C4,NomAbrégé,0),5))) | M4: =IF($L4="","",INDEX(TabloRef1,MATCH($L4,ArticleRef,0),2)) | O4: =IF($N4="","",INDEX(TabloRef2,MATCH($N4,ArticleAlpha,0),2))
B5: =IF($A5="","",INDEX(TabloNumerik,MATCH($A5,NumClient,0),2)) | D5: =IF($C5="","",INDEX(TabloAlphabetik,MATCH($C5,NomAbrégé,0),2)) | E5: =IF($C5="","",INDEX(TabloAlphabetik,MATCH($D5,CLIENTS!H$3:H$266,0),3)) | F5: =IF(AND($A5="",$C5=""),"",IF($A5<>"",INDEX(TabloNumerik,MATCH($A5,NumClient,0),3),INDEX(TabloAlphabetik,MATCH($C5,NomAbrégé,0),4))) | G5: =IF(AND($A5="",$C5=""),"",IF($A5<>"",INDEX(TabloNumerik,MATCH($A5,NumClient,0),4),INDEX(TabloAlphabetik,MATCH($C5,NomAbrégé,0),5))) | M5: =IF($L5="","",INDEX(TabloRef1,MATCH($L5,ArticleRef,0),2)) | O5: =IF($N5="","",INDEX(TabloRef2,MATCH($N5,ArticleAlpha,0),2))
B6: =IF($A6="","",INDEX(TabloNumerik,MATCH($A6,NumClient,0),2)) | D6: =IF($C6="","",INDEX(TabloAlphabetik,MATCH($C6,NomAbrégé,0),2)) | E6: =IF($C6="","",INDEX(TabloAlphabetik,MATCH($D6,CLIENTS!H$3:H$266,0),3)) | F6: =IF(AND($A6="",$C6=""),"",IF($A6<>"",INDEX(TabloNumerik,MATCH($A6,NumClient,0),3),INDEX(TabloAlphabetik,MATCH($C6,NomAbrégé,0),4))) | G6: =IF(AND($A6="",$C6=""),"",IF($A6<>"",INDEX(TabloNumerik,MATCH($A6,NumClient,0),4),INDEX(TabloAlphabetik,MATCH($C6,NomAbrégé,0),5))) | M6: =IF($L6="","",INDEX(TabloRef1,MATCH($L6,ArticleRef,0),2)) | O6: =IF($N6="","",INDEX(TabloRef2,MATCH($N6,ArticleAlpha,0),2))
B7: =IF($A7="","",INDEX(TabloNumerik,MATCH($A7,NumClient,0),2)) | D7: =IF($C7="","",INDEX(TabloAlphabetik,MATCH($C7,NomAbrégé,0),2)) | E7: =IF($C7="","",INDEX(TabloAlphabetik,MATCH($D7,CLIENTS!H$3:H$266,0),3)) | F7: =IF(AND($A7="",$C7=""),"",IF($A7<>"",INDEX(TabloNumerik,MATCH($A7,NumClient,0),3),INDEX(TabloAlphabetik,MATCH($C7,NomAbrégé,0),4))) | G7: =IF(AND($A7="",$C7=""),"",IF($A7<>"",INDEX(TabloNumerik,MATCH($A7,NumClient,0),4),INDEX(TabloAlphabetik,MATCH($C7,NomAbrégé,0),5))) | M7: =IF($L7="","",INDEX(TabloRef1,MATCH($L7,ArticleRef,0),2)) | O7: =IF($N7="","",INDEX(TabloRef2,MATCH($N7,ArticleAlpha,0),2))
B8: =IF($A8="","",INDEX(TabloNumerik,MATCH($A8,NumClient,0),2)) | D8: =IF($C8="","",INDEX(TabloAlphabetik,MATCH($C8,NomAbrégé,0),2)) | E8: =IF($C8="","",INDEX(TabloAlphabetik,MATCH($D8,CLIENTS!H$3:H$266,0),3)) | F8: =IF(AND($A8="",$C8=""),"",IF($A8<>"",INDEX(TabloNumerik,MATCH($A8,NumClient,0),3),INDEX(TabloAlphabetik,MATCH($C8,NomAbrégé,0),4))) | G8: =IF(AND($A8="",$C8=""),"",IF($A8<>"",INDEX(TabloNumerik,MATCH($A8,NumClient,0),4),INDEX(TabloAlphabetik,MATCH($C8,NomAbrégé,0),5))) | M8: =IF($L8="","",INDEX(TabloRef1,MATCH($L8,ArticleRef,0),2)) | O8: =IF($N8="","",INDEX(TabloRef2,MATCH($N8,ArticleAlpha,0),2))
B9: =IF($A9="","",INDEX(TabloNumerik,MATCH($A9,NumClient,0),2)) | D9: =IF($C9="","",INDEX(TabloAlphabetik,MATCH($C9,NomAbrégé,0),2)) | E9: =IF($C9="","",INDEX(TabloAlphabetik,MATCH($D9,CLIENTS!H$3:H$266,0),3)) | F9: =IF(AND($A9="",$C9=""),"",IF($A9<>"",INDEX(TabloNumerik,MATCH($A9,NumClient,0),3),INDEX(TabloAlphabetik,MATCH($C9,NomAbrégé,0),4))) | G9: =IF(AND($A9="",$C9=""),"",IF($A9<>"",INDEX(TabloNumerik,MATCH($A9,NumClient,0),4),INDEX(TabloAlphabetik,MATCH($C9,NomAbrégé,0),5))) | M9: =IF($L9="","",INDEX(TabloRef1,MATCH($L9,ArticleRef,0),2)) | O9: =IF($N9="","",INDEX(TabloRef2,MATCH($N9,ArticleAlpha,0),2))
B10: =IF($A10="","",INDEX(TabloNumerik,MATCH($A10,NumClient,0),2)) | D10: =IF($C10="","",INDEX(TabloAlphabetik,MATCH($C10,NomAbrégé,0),2)) | E10: =IF($C10="","",INDEX(TabloAlphabetik,MATCH($D10,CLIENTS!H$3:H$266,0),3)) | F10: =IF(AND($A10="",$C10=""),"",IF($A10<>"",INDEX(TabloNumerik,MATCH($A10,NumClient,0),3),INDEX(TabloAlphabetik,MATCH($C10,NomAbrégé,0),4))) | G10: =IF(AND($A10="",$C10=""),"",IF($A10<>"",INDEX(TabloNumerik,MATCH($A10,NumClient,0),4),INDEX(TabloAlphabetik,MATCH($C10,NomAbrégé,0),5))) | M10: =IF($L10="","",INDEX(TabloRef1,MATCH($L10,ArticleRef,0),2)) | O10: =IF($N10="","",INDEX(TabloRef2,MATCH($N10,ArticleAlpha,0),2))
B11: =IF($A11="","",INDEX(TabloNumerik,MATCH($A11,NumClient,0),2)) | D11: =IF($C11="","",INDEX(TabloAlphabetik,MATCH($C11,NomAbrégé,0),2)) | E11: =IF($C11="","",INDEX(TabloAlphabetik,MATCH($D11,CLIENTS!H$3:H$266,0),3)) | F11: =IF(AND($A11="",$C11=""),"",IF($A11<>"",INDEX(TabloNumerik,MATCH($A11,NumClient,0),3),INDEX(TabloAlphabetik,MATCH($C11,NomAbrégé,0),4))) | G11: =IF(AND($A11="",$C11=""),"",IF($A11<>"",INDEX(TabloNumerik,MATCH($A11,NumClient,0),4),INDEX(TabloAlphabetik,MATCH($C11,NomAbrégé,0),5))) | M11: =IF($L11="","",INDEX(TabloRef1,MATCH($L11,ArticleRef,0),2)) | O11: =IF($N11="","",INDEX(TabloRef2,MATCH($N11,ArticleAlpha,0),2))
B12: =IF($A12="","",INDEX(TabloNumerik,MATCH($A12,NumClient,0),2)) | D12: =IF($C12="","",INDEX(TabloAlphabetik,MATCH($C12,NomAbrégé,0),2)) | E12: =IF($C12="","",INDEX(TabloAlphabetik,MATCH($D12,CLIENTS!H$3:H$266,0),3)) | F12: =IF(AND($A12="",$C12=""),"",IF($A12<>"",INDEX(TabloNumerik,MATCH($A12,NumClient,0),3),INDEX(TabloAlphabetik,MATCH($C12,NomAbrégé,0),4))) | G12: =IF(AND($A12="",$C12=""),"",IF($A12<>"",INDEX(TabloNumerik,MATCH($A12,NumClient,0),4),INDEX(TabloAlphabetik,MATCH($C12,NomAbrégé,0),5))) | M12: =IF($L12="","",INDEX(TabloRef1,MATCH($L12,ArticleRef,0),2)) | O12: =IF($N12="","",INDEX(TabloRef2,MATCH($N12,ArticleAlpha,0),2))
B13: =IF($A13="","",INDEX(TabloNumerik,MATCH($A13,NumClient,0),2)) | D13: =IF($C13="","",INDEX(TabloAlphabetik,MATCH($C13,NomAbrégé,0),2)) | E13: =IF($C13="","",INDEX(TabloAlphabetik,MATCH($D13,CLIENTS!H$3:H$266,0),3)) | F13: =IF(AND($A13="",$C13=""),"",IF($A13<>"",INDEX(TabloNumerik,MATCH($A13,NumClient,0),3),INDEX(TabloAlphabetik,MATCH($C13,NomAbrégé,0),4))) | G13: =IF(AND($A13="",$C13=""),"",IF($A13<>"",INDEX(TabloNumerik,MATCH($A13,NumClient,0),4),INDEX(TabloAlphabetik,MATCH($C13,NomAbrégé,0),5))) | M13: =IF($L13="","",INDEX(TabloRef1,MATCH($L13,ArticleRef,0),2)) | O13: =IF($N13="","",INDEX(TabloRef2,MATCH($N13,ArticleAlpha,0),2))
B14: =IF($A14="","",INDEX(TabloNumerik,MATCH($A14,NumClient,0),2)) | D14: =IF($C14="","",INDEX(TabloAlphabetik,MATCH($C14,NomAbrégé,0),2)) | E14: =IF($C14="","",INDEX(TabloAlphabetik,MATCH($D14,CLIENTS!H$3:H$266,0),3)) | F14: =IF(AND($A14="",$C14=""),"",IF($A14<>"",INDEX(TabloNumerik,MATCH($A14,NumClient,0),3),INDEX(TabloAlphabetik,MATCH($C14,NomAbrégé,0),4))) | G14: =IF(AND($A14="",$C14=""),"",IF($A14<>"",INDEX(TabloNumerik,MATCH($A14,NumClient,0),4),INDEX(TabloAlphabetik,MATCH($C14,NomAbrégé,0),5))) | M14: =IF($L14="","",INDEX(TabloRef1,MATCH($L14,ArticleRef,0),2)) | O14: =IF($N14="","",INDEX(TabloRef2,MATCH($N14,ArticleAlpha,0),2))
... B401: =IF($A401="","",INDEX(TabloNumerik,MATCH($A401,NumClient,0),2)) | D401: =IF($C401="","",INDEX(TabloAlphabetik,MATCH($C401,NomAbrégé,0),2)) | E401: =IF($C401="","",INDEX(TabloAlphabetik,MATCH($D401,CLIENTS!H$3:H$266,0),3)) | F401: =IF(AND($A401="",$C401=""),"",IF($A401<>"",INDEX(TabloNumerik,MATCH($A401,NumClient,0),3),INDEX(TabloAlphabetik,MATCH($C401,NomAbrégé,0),4))) | G401: =IF(AND($A401="",$C401=""),"",IF($A401<>"",INDEX(TabloNumerik,MATCH($A401,NumClient,0),4),INDEX(TabloAlphabetik,MATCH($C401,NomAbrégé,0),5))) | M401: =IF($L401="","",INDEX(TabloRef1,MATCH($L401,ArticleRef,0),2)) | O401: =IF($N401="","",INDEX(TabloRef2,MATCH($N401,ArticleAlpha,0),2))

Sheet CLIENTS
A1: ORDRE par num client | G1: ORDRE Alphabétique
A2: Numéro Client | B2: Nom Client | C2: Code Postal | D2: Ville | G2: Nom Abrégé | H2: Nom Client complet | I2: Numéro Client | J2: Code Postal | K2: Ville
A3: 000332 | B3: GARAGE D. VALLEE CRANCEY | C3: 10100 | D3: CRANCEY | G3: ABS AUTO | H3: ABS AUTO HARDRICOURT | I3: 002885 | J3: 78250 | K3: HARDRICOURT
A4: 000423 | B4: D.G.A. - TOYOTA | C4: 59400 | D4: CAMBRAI | G4: ACE 28 CHARTRES | H4: ACE 28 CHARTRES | I4: 003562 | J4: 28110 | K4: LUCE
A5: 000498 | B5: GTA MEAUX SAS | C5: 77109 | D5: NANTEUIL LES MEAUX | G5: ACE CORBEIL | H5: AUTOMOBILES DE CORBEIL ESSONNE | I5: 002948 | J5: 91100 | K5: CORBEIL ESSONNES
A6: 000575 | B6: MACON AUTOMOBILES | C6: 71000 | D6: MACON | G6: ACT AUTOMOBILES | H6: ACT AUTOMOBILES MACON | I6: 002729 | J6: 71000 | K6: MACON
A7: 000670 | B7: SIVAM ASNIERES | C7: 92600 | D7: ASNIERES | G7: ADC | H7: ADC ST BONNET | I7: 003394 | J7: 43290 | K7: ST BONNET LE FROID
A8: 000685 | B8: GARAGE FOUCHER - TOYOTA | C8: 89000 | D8: AUXERRE | G8: ALLIANCE AMIENS | H8: STE AUTOMOBILE DE L'ALLIANCE AMIENS | I8: 003256 | J8: 80000 | K8: AMIENS
A9: 000698 | B9: SAGAS AUTOMOBILES | C9: 60280 | D9: VENETTE | G9: ALLIANCE AUTOM 4X | H9: ALLIANCE AUTOMOBILES 4X4 SOUFFELWEY | I9: 002093 | J9: 67460 | K9: SOUFFELWEYERSHEIM
A10: 000744 | B10: GARAGE JAMES LEFEBVRE | C10: 80480 | D10: DURY LES AMIENS | G10: ALLIANCE AUTOMOBI | H10: ALLIANCE AUTOMOBILES HAGUENAU | I10: 003717 | J10: 67501 | K10: HAGUENAU CEDEX
A11: 000746 | B11: SAS PRUVOST RIVERY | C11: 80136 | D11: RIVERY | G11: ALLIANCE MOTORS 7 | H11: ALLIANCE MOTORS 77 | I11: 002816 | J11: 77100 | K11: MEAUX
A12: 000797 | B12: DESCOLLONGES SA | C12: 21242 | D12: TALANT CEDEX | G12: ALLIANCE ST QUENT | H12: ALLIANCE ST QUENTIN | I12: 003459 | J12: 02100 | K12: ST QUENTIN
A13: 000821 | B13: LA BRETECHE SARL | C13: 80000 | D13: AMIENS | G13: ALLIANS CAR | H13: ALLIAN'S CAR | I13: 003269 | J13: 91955 | K13: COURTABOEUF
... A266: X2594 | B266: ERIC PASTOURET | C266: 21121 | D266: VAL SUZON | G266: ZANETTI AUTOMOBIL | H266: ZANETTI AUTOMOBILES | I266: 003514 | J266: 94700 | K266: MAISONS ALFORT

Sheet ARTICLES
A1: Trié par Réf. Article | F1: Trié par Désignation Article
A2: Référence Article | B2: Désignation Article | F2: Référence Article | G2: Désignation Article
A3: 70316 | B3: FAISCEAU SPECIFIQUE CHEVROLET CAPTIVA | F3: RE50780/I | G3: = RE50782/I MARCHE PIEDS ALU S50 DAIHATSU TERIOS 97/06
A4: 101350 | B4: CHAPE MIXTE SEMI-AUTOMATIQUE ENTRAXE 90mm 2 TROUS Ø 16mm | F4: FAB6801859 | G4: ADAPTATEUR POUR BARRE DE TOIT UNIVERSELLE
A5: 101352 | B5: CHAPE MIXTE 2 TROUS ENTRAXE 90mm 2 TROUS Ø 17mm | F5: FAB6801895 | G5: ALU SKI ET BOARD PORTE SKI ET SURF A GLISSIERE
A6: 101353 | B6: CHAPE MIXTE 4 TROUS ENTRAXE 83X56mm 4 TROUS Ø 11mm | F6: AC02 | G6: ANNEAUX DE SANGLAGE INOX (6 pièces) Tonneau cover aluminium
A7: 101361 | B7: AXE POUR CHAPPE 0101352/0101353 | F7: AC01 | G7: ANNEAUX DE SANGLAGE POLYAMIDE (4pièces) tonneau cover aluminium
A8: 101372 | B8: CHAPE MIXTE 4 TROUS ENTRAXE 90X50mm 3.5T SUR BOULE 4 TROUS Ø 17mm | F8: ATL551800 | G8: ATTELAGE AUDI Q3 2011+ (décrochage rapide)
A9: 101373 | B9: CHAPE MIXTE ENTRAXE 83X56 3.5T SUR BOULE 8TO SUR AXE 4 TROUS Ø 11mm | F9: ATL551700 | G9: ATTELAGE AUDI Q3 2011+ COMPACT
A10: 101402 | B10: CHAPE MIXTE 4 TROUS ENTRAXE 90X50mm TROUS Ø 13mm | F10: AGD1749T45 | G10: ATTELAGE AUDI Q5 2009+ (col de cygne)
A11: 101412 | B11: CHAPE AGRAIRE 4 TROUS Ø 17mm ENTRAXE 90X50mm | F11: AGD1415T30 | G11: ATTELAGE AUDI Q7 / VOLKSWAGEN TOUAREG (décrochage rapide)
A12: 101413 | B12: CHAPE AGRAIRE 2 TROUS Ø 17mm ENTRAXE 90mm | F12: AGD1788T45 | G12: ATTELAGE BMW X1 E84 10-2009+ (col de cygne)
A13: 700130 | B13: CAPOTE COMPLETE SUZUKI JIMNY MAORI BLANCHE (pressions) | F13: AGD1788T36 | G13: ATTELAGE BMW X1 E84 10-2009+ (décrochage rapide)
A14: 700131 | B14: CAPOTE COMPLETE SUZUKI JIMNY MAORI NOIRE (pressions) | F14: ATL420600 | G14: ATTELAGE BMW X3 2004+ (décrochage rapide)
... A33: 759191 | B33: FAISCEAU SPECIFIQUE VOLVO XC 90 2004+ | F33: AGD1160 | G33: ATTELAGE HYUNDAI GALLOPER 3 PORTES 3300Kg (classic) 98/2002
A34: 2PP141IX | B34: PARE CHOC ARRIERE DOUBLE TUBES INOX Ø 63 MAZDA B2500 DOUBLE CAB 1999+ | F34: AGD1081 | G34: ATTELAGE HYUNDAI GALLOPER 5 PORTES 3000 Kg (classic) 98/2002
A35: 2PP178IX | B35: PARE CHOC ARRIERE DOUBLE TUBES INOX Ø 63 MITSUBISHI L200 2006/2009 | F35: AGD1799T45 | G35: ATTELAGE HYUNDAI IX35 2010+ (col de cygne)
A36: 2PP195IX | B36: PARE CHOC ARRIERE DOUBLE TUBES INOX Ø 63 MAZDA BT50 2007/2009 | F36: ATL529300 | G36: ATTELAGE HYUNDAI IX35 2010+ (col de cygne) + KIA SPORTAGE 2010+
A37: 2PP197IX | B37: PARE CHOC ARRIERE DOUBLE TUBES INOX Ø 63 ISUZU D-MAX | F37: AGD1799T36 | G37: ATTELAGE HYUNDAI IX35 2010+ (décrochage rapide)
A38: 2PP206IX | B38: PARE CHOC ARRIERE DOUBLE TUBES INOX Ø 63 SSANGYONG ACTYON SPORTS 2007 | F38: ATL529400 | G38: ATTELAGE HYUNDAI IX35 2010+ (décrochage rapide) + KIA SPORTAGE 2010+
A39: 2PP252IX | B39: PARE CHOC ARRIERE DOUBLE TUBES INOX Ø 63 MAZDA BT50 2009/2011 | F39: ATL335700 | G39: ATTELAGE HYUNDAI SANTA FE 2000/2005 (col de cygne) 2300 Kg
A40: 2PP260IX | B40: PARE CHOC ARRIERE DOUBLE TUBES INOX Ø 63 MITSUBISHI L200 2010+ DB CAB | F40: AGD1570T48 | G40: ATTELAGE HYUNDAI SANTA FE 2006/2010 (col de cygne)
A41: 2PP262IX | B41: PARE CHOC ARRIERE DOUBLE TUBES INOX Ø 63 MITSUBISHI L200 2010+ CL CAB | F41: AGD1570T38 | G41: ATTELAGE HYUNDAI SANTA FE 2006/2010 (décrochage rapide)
A42: 2PP66IX | B42: PARE CHOC ARRIERE DOUBLE TUBES INOX Ø 63 MITSUBISHI L200 1997/2005 | F42: AGD1308T50 | G42: ATTELAGE HYUNDAI TERRACAN 2800 Kg (classic)
A43: 51133-15 | B43: CAPOTE SUZUKI SAMURAI NOIRE | F43: ATL335900 | G43: ATTELAGE HYUNDAI TERRACAN 2800 Kg (col de cygne)
A44: 51133-52 | B44: CAPOTE SUZUKI SAMURAI BLANCHE | F44: ATL336000 | G44: ATTELAGE HYUNDAI TERRACAN 2800 Kg (décrochage rapide)
A45: 51137-15 | B45: CAPOTE SUZUKI VITARA 1988+ NOIRE CROCHETS VITRES FIXES | F45: ATL430200 | G45: ATTELAGE HYUNDAI TUCSON 2004+ (col de cygne)
... A245: ATL336000 | B245: ATTELAGE HYUNDAI TERRACAN 2800 Kg (décrochage rapide) | F245: AGD1391T36 | G245: ATTELAGE VOLVO XC90 2003+ (décrochage rapide)
A246: ATL338900 | B246: ATTELAGE TOYOTA RAV'4 2000/2005 (décrochage rapide) ( 1800 Kg ) | F246: 101361 | G246: AXE POUR CHAPPE 0101352/0101353
A247: ATL349900 | B247: ATTELAGE MERCEDES ML (classic) 1998/2005 | F247: NAV071/2N | G247: BACHE INTEGRALE NOIRE NISSAN NAVARA KING CAB 98/05
A248: ATL359000 | B248: ATTELAGE VOLKSWAGEN TOUAREG (col de cygne) | F248: SFTC0030 | G248: BACHE PLATE EGR NOIRE FORD RANGER DBL CAB 2012+ AVEC PORTE ECHELLE
A249: ATL359100 | B249: ATTELAGE VOLKSWAGEN TOUAREG (décrochage rapide) | F249: SFTC0029 | G249: BACHE PLATE EGR NOIRE FORD RANGER DBL CAB 2012+ AVEC SPORT BAR
A250: ATL359200 | B250: ATTELAGE NISSAN X-TRAIL 2001/2007 (col de cygne) | F250: SFTC0028 | G250: BACHE PLATE EGR NOIRE FORD RANGER DBL CAB 2012+ SS P ECH ET SS SP BAR
A251: ATL359300 | B251: ATTELAGE NISSAN X-TRAIL 2001/2007 (décrochage rapide) | F251: SFTC0036 | G251: BACHE PLATE EGR NOIRE FORD RANGER SIMPLE CAB 2012+ AVEC PORTE ECHELLE
A252: ATL359400 | B252: ATTELAGE NISSAN X-TRAIL 2001/2007 (classic) | F252: SFTC0034 | G252: BACHE PLATE EGR NOIRE FORD RANGER SUPER CAB 2012+ AVEC PORTE ECHELLE
A253: ATL362600 | B253: ATTELAGE SUZUKI IGNIS 4X4 2001/09-2003 (décrochage rapide) | F253: SFTC0035 | G253: BACHE PLATE EGR NOIRE FORD RANGER SUPER CAB 2012+ AVEC SPORT BAR
A254: ATL366800 | B254: ATTELAGE SSANGYONG REXTON (décrochage rapide) 2002/2006 | F254: SFTC0004 | G254: BACHE PLATE EGR NOIRE FORD RANGER/MAZDA BT50 DOUBLE CABINE -2011
A255: ATL372700 | B255: ATTELAGE SUZUKI WAGON R 2003+ (col de cygne) | F255: SFTC0009 | G255: BACHE PLATE EGR NOIRE FORD RANGER/MAZDA BT50 XTRA CAB 2006/2011
A256: ATL379900 | B256: ATTELAGE JEEP GRAND CHEROKEE 06/2005+ COMMANDER (cdc) | F256: SFTC0001 | G256: BACHE PLATE EGR NOIRE ISUZU DMAX 2003/2011 DOUBLE CABINE
A257: ATL380000 | B257: ATTELAGE JEEP GRAND CHEROKEE 06/2005+ (rdso) | F257: SFTC0011 | G257: BACHE PLATE EGR NOIRE ISUZU DMAX 2003/2011 SPACE CAB
A258: ATL382300 | B258: ATTELAGE LAND ROVER FREELANDER 1998/2007 (décrochage rapide) | F258: SFTC0040 | G258: BACHE PLATE EGR NOIRE ISUZU DMAX 2012+ DOUBLE CABINE
... A422: BIG680IX | B422: BIG BAR INOX Ø 76 JEEP GRAND CHEROKEE 97/99 5.2LV8 UNIQUEMENT | F422: 58700-52 | G422: CAPOTE COMPLETE SUZUKI BLANCHE JIMNY FAST TOP (vitre latérale amovib
A423: BIG710IX | B423: BIG BAR INOX Ø 76 MITSUBISHI PAJERO 91+ 2.8TD+3.5 | F423: 700130 | G423: CAPOTE COMPLETE SUZUKI JIMNY MAORI BLANCHE (pressions)
A424: BIG730IX | B424: BIG BAR INOX Ø 76 JEEP CHEROKEE 1984/2001 | F424: 700131 | G424: CAPOTE COMPLETE SUZUKI JIMNY MAORI NOIRE (pressions)
A425: BIG740IX | B425: BIG BAR INOX Ø 76 HYUNDAI GALLOPER 1998/2002 | F425: 51133-52 | G425: CAPOTE SUZUKI SAMURAI BLANCHE
A426: BIG750IX | B426: BIG BAR INOX Ø 76 HONDA CRV -2002 | F426: 51133-15 | G426: CAPOTE SUZUKI SAMURAI NOIRE
A427: BIG760IX | B427: BIG BAR INOX Ø 76 MITSUBISHI PAJERO GLS/MONTERO 98+ | F427: 51137-52 | G427: CAPOTE SUZUKI VITARA 1988+ BLANCHE CROCHETS VITRES FIXES
A428: BIG780IX | B428: BIG BAR INOX Ø 76 TOYOTA HILUX 98/2002 | F428: 51137-15 | G428: CAPOTE SUZUKI VITARA 1988+ NOIRE CROCHETS VITRES FIXES
A429: BIG800IX | B429: BIG BAR INOX Ø 76 SUZUKI GRAND VITARA 1998/2005 | F429: 51380-52 | G429: CAPOTE SUZUKI VITARA 1996+ BLANC PRESSSIONS BARRE AV /COTE DEMONTABLE
A430: BIG810IX | B430: BIG BAR INOX Ø 76 NISSAN PATROL GR 1998/2004 | F430: 51380-15 | G430: CAPOTE SUZUKI VITARA 1996+ NOIRE PRESSSIONS BARRE AV /COTE DEMONTABLE
A431: BIG830IX | B431: BIG BAR INOX Ø 76 LANDROVER FREELANDER 98/2000 | F431: CL3907 | G431: CARGO LINER BMW X5
A432: BIG840IX | B432: BIG BAR INOX Ø 76 TOYOTA LC100 | F432: CL3954. | G432: CARGO LINER DAIHATSU TERIOS 97/06
A433: BIG850IX | B433: BIG BAR INOX Ø 76 NISSAN NAVARA 98/2002 | F433: CL3600. | G433: CARGO LINER HYUNDAI SANTA FE 2000/2005
A434: BIG870IX | B434: BIG BAR INOX Ø 76 OPEL FRONTERA 1998/2005 | F434: CL3176 | G434: CARGO LINER HYUNDAI SANTA FE 5P 2006/2010
A435: BIG880IX | B435: BIG BAR INOX Ø 76 MITSUBISHI PAJERO SPORT 98/99 | F435: CL3601. | G435: CARGO LINER HYUNDAI TERRACAN 2001/2006
A436: BIG900IX | B436: BIG BAR INOX Ø 76 KIA SPORTAGE 1999/2004 | F436: CL3952 | G436: CARGO LINER JEEP CHEROKEE 2002/2007
... A459: C-0045/3 | B459: SUPPORT DE TREUIL LANDROVER DISCOVERY 2003 | F459: CL3910 | G459: CARGO LINER VOLKSWAGEN TOUAREG
A460: C-0046/5 | B460: SUPPORT DE TREUIL JEEP WRANGLER YJ | F460: 101413 | G460: CHAPE AGRAIRE 2 TROUS Ø 17mm ENTRAXE 90mm
A461: C-0047/5 | B461: SUPPORT DE TREUIL JEEP WRANGLER TJ 1998/2007 | F461: 101412 | G461: CHAPE AGRAIRE 4 TROUS Ø 17mm ENTRAXE 90X50mm
A462: C-0048/5 | B462: SUPPORT DE TREUIL BLACK JEEP WRANGLER TJ 1998/2007 | F462: 101352 | G462: CHAPE MIXTE 2 TROUS ENTRAXE 90mm 2 TROUS Ø 17mm
A463: C-0050/3 | B463: SUPPORT DE TREUIL NISSAN PATROL GR 2003+ | F463: 101353 | G463: CHAPE MIXTE 4 TROUS ENTRAXE 83X56mm 4 TROUS Ø 11mm
A464: C-0052/3 | B464: SUPPORT DE TREUIL NISSAN X-TRAIL 2004/2007 DCI | F464: 101372 | G464: CHAPE MIXTE 4 TROUS ENTRAXE 90X50mm 3.5T SUR BOULE 4 TROUS Ø 17mm
A465: C-0053/3 | B465: SUPPORT DE TREUIL SANTANA ANIBAL | F465: 101402 | G465: CHAPE MIXTE 4 TROUS ENTRAXE 90X50mm TROUS Ø 13mm
A466: C-0054/3 | B466: SUPPORT DE TREUIL MITSUBISHI PAJERO DID 2000/2003 | F466: 101373 | G466: CHAPE MIXTE ENTRAXE 83X56 3.5T SUR BOULE 8TO SUR AXE 4 TROUS Ø 11mm
A467: C-0056/3 | B467: SUPPORT DE TREUIL TOYOTA VIGO 2005+ | F467: 101350 | G467: CHAPE MIXTE SEMI-AUTOMATIQUE ENTRAXE 90mm 2 TROUS Ø 16mm
A468: C-0058/3 | B468: SUPPORT DE TREUIL MITSUBISHI L200 2006/2009 | F468: IC198 | G468: COQUES RETROVISEUR CHROMEES AV CLIGNOTANT ISUZU DMAX 07/11 (euro4) X2
A469: C-0060/3 | B469: SUPPORT DE TREUIL MAZDA BT50/FORD 2007/2011 | F469: MK336 | G469: COQUES RETROVISEUR CHROMEES AV CLIGNOTANT MITSUBISHI L200 06 la paire
A470: C-0061/3 | B470: SUPPORT DE TREUIL ISUZU D-MAX 2003/2011 | F470: TR82 | G470: COQUES RETROVISEUR CHROMEES AV CLIGNOTANT TOYOTA LC150 2010 (la paire
A471: C-0066/3 | B471: SUPPORT DE TREUIL NISSAN X-TRAIL 2008+ | F471: TV180 | G471: COQUES RETROVISEUR CHROMEES AV CLIGNOTANT TOYOTA VIGO 2006 (la paire)
A472: C-0068/7 | B472: SUPPORT DE TREUIL AMOVIBLE TOUS VEHICULES AVANT ET ARRIERE | F472: MC226180 | G472: COQUES RETROVISEUR CHROMEES MITSUBISHI OUTLANDER 2007+ (la paire)
A473: C-0072/3 | B473: SUPPORT DE TREUIL TOYOTA LC150 | F473: MC226190 | G473: COQUES RETROVISEUR CHROMEES MITSUBISHI PAJERO 2007+ (la paire)
A474: C-0072/4 | B474: SUPPORT DE TREUIL LANDROVER DISCOVERY 3 2005+ | F474: MC238090 | G474: COQUES RETROVISEUR CHROMEES SUZUKI GRAND VITARA 2008+ (la paire)
A475: C-0073/3 | B475: SUPPORT DE TREUIL NISSAN NAVARA TOUS MODELE 2005+ (SAUF BOITE AUTO) | F475: TC152 | G475: COQUES RETROVISEUR CHROMEES TOYOTA J120 2003+ (la paire)
A476: C-0074/3 | B476: SUPPORT DE TREUIL SUZUKI GRAND VITARA 2005+ | F476: MC239230 | G476: COQUES RETROVISEUR CHROMEES TOYOTA LC200 (la paire)
A477: C-0076/3 | B477: SUPPORT DE TREUIL VOLKSWAGEN AMAROK (SAUF HIGHLINE) | F477: CRCV21 | G477: COUVRE ROUE INOX
A478: C-0078/4 | B478: SUPPORT DE TREUIL LANDROVER DISCOVERY 4 | F478: CRCV22 | G478: COUVRE ROUE INOX
A479: C-0079/9 | B479: SUPPORT DE TREUIL FORD RANGER 2012+ | F479: CRCV32 | G479: COUVRE ROUE INOX
... A685: ECMED138 | B685: MEDIUM BAR INOX Ø 63 TOYOTA J120 2003+ CE | F685: SET322 | G685: FAISCEAU SPECIFIQUE AUDI Q7
A686: ECMED152 | B686: MEDIUM BAR INOX Ø 63 HYUNDAI TUCSON 2004+ CE | F686: 70316 | G686: FAISCEAU SPECIFIQUE CHEVROLET CAPTIVA
A687: ECMED158 | B687: MEDIUM BAR INOX Ø 63 KIA SPORTAGE 2004/2008 CE | F687: SET0316 | G687: FAISCEAU SPECIFIQUE CHEVROLET CAPTIVA 08-2006+
A688: ECMED164 | B688: MEDIUM BAR INOX Ø 63 NISSAN PATHFINDER 2005/2011 CE | F688: SET0370 | G688: FAISCEAU SPECIFIQUE CITROEN C-CROSSER/OUTLANDER 07+
A689: ECMED167 | B689: MEDIUM BAR INOX Ø 63 NISSAN NAVARA D40 2005/04-2010 CE | F689: 742741 | G689: FAISCEAU SPECIFIQUE DACIA DUSTER 2010+
A690: ECMED168 | B690: MEDIUM BAR INOX Ø 63 SUZUKI GRAND VITARA 2005/2009 CE | F690: 744154 | G690: FAISCEAU SPECIFIQUE DISCOVERY TD5
A691: ECMED171 | B691: MEDIUM BAR INOX Ø 63 TOYOTA VIGO/HILUX 2006/2011 CE | F691: SET0401 | G691: FAISCEAU SPECIFIQUE FORD KUGA
A692: ECMED175 | B692: MEDIUM BAR INOX Ø 63 TOYOTA RAV4 2006/2009 CE | F692: J2150 | G692: FAISCEAU SPECIFIQUE FORD RANGER 2012+ 13PLOTS
A693: ECMED176 | B693: MEDIUM BAR INOX Ø 63 HYUNDAI SANTA FE 2006/2010 CE | F693: J1250 | G693: FAISCEAU SPECIFIQUE FORD RANGER 2012+ 7PLOTS
A694: ECMED177 | B694: MEDIUM BAR INOX Ø 63 SUZUKI JIMNY 2006+ DIESEL + ESSENCE CE | F694: 714341 | G694: FAISCEAU SPECIFIQUE HONDA CRV 2004/2006
A695: ECMED178 | B695: MEDIUM BAR INOX Ø 63 MITSUBISHI L200 2006/2009 CE | F695: 716391 | G695: FAISCEAU SPECIFIQUE HYUNDAI TERRACAN 2001/2006
A696: ECMED181 | B696: MEDIUM BAR INOX Ø 63 DAIHATSU TERIOS 2005/2008 CE | F696: J2609 | G696: FAISCEAU SPECIFIQUE ISUZU DMAX 06-2012+ 13PLOTS
A697: ECMED188 | B697: MEDIUM BAR INOX Ø 63 KIA SORENTO 2006/2008 CE | F697: J1609 | G697: FAISCEAU SPECIFIQUE ISUZU DMAX 06-2012+ 7PLOTS
A698: ECMED189 | B698: MEDIUM BAR INOX Ø 63 SSANGYONG REXTON II 2007+ CE | F698: J12610502 | G698: FAISCEAU SPECIFIQUE JEEP WRANGLER J 04-2007+ 7PLOTS
A699: ECMED190 | B699: MEDIUM BAR INOX Ø 63 CHEVROLET CAPTIVA 2006/2010 CE | F699: 720513 | G699: FAISCEAU SPECIFIQUE KIA CEED HAYON 11-2009+ sauf sport
A700: ECMED191 | B700: MEDIUM BAR INOX Ø 63 SSANGYONG ACTYON 2006+ CE | F700: 720423 | G700: FAISCEAU SPECIFIQUE KIA CEED HAYON 2006/2009 sauf sport
A701: ECMED194 | B701: MEDIUM BAR INOX Ø 63 MITSUBISHI PAJERO DID 2007+ CE | F701: SET0533 | G701: FAISCEAU SPECIFIQUE KIA SORENTO10-2009+ FEUX A LED
A702: ECMED195 | B702: MEDIUM BAR INOX Ø 63 MAZDA BT50 2007/2008 CE | F702: 744196 | G702: FAISCEAU SPECIFIQUE LAND ROVER FREELANDER II 2007+
A703: ECMED197 | B703: MEDIUM BAR INOX Ø 63 ISUZU DMAX 2007/2011 CE | F703: SET0308 | G703: FAISCEAU SPECIFIQUE MERCEDES ML 2005+(w164)
A704: ECMED200 | B704: MEDIUM BAR INOX Ø 63 MITSUBISHI OUTLANDER 2007/2009 CE | F704: J1650 | G704: FAISCEAU SPECIFIQUE MITSUBISHI OUTLANDER 02-2007+ 7PLOTS
A705: ECMED202 | B705: MEDIUM BAR INOX Ø 63 OPEL ANTARA 2007+ CE | F705: 732321 | G705: FAISCEAU SPECIFIQUE NISSAN TERRANO II
A706: ECMED203 | B706: MEDIUM BAR INOX Ø 63 NISSAN QASHQAI 2007/2010 CE | F706: 732481 | G706: FAISCEAU SPECIFIQUE NISSAN X-TRAIL 2001/2007
A707: ECMED204 | B707: MEDIUM BAR INOX Ø 63 FORD RANGER 2006/2009 CE | F707: J16500524 | G707: FAISCEAU SPECIFIQUE PEUGEOT 4007 09-2007+ 7PLOTS
...
