Workbook

Sheet Base de données
A1: NOM | B1: Prénom | C1: DE | D1: DS | E1: DDS | F1: DC | G1: DE MM/AA | H1: DS MM/AA
A2: DUCHMOLE | B2: Duduche | C2: 42736 | D2: 42750 | E2: =DATEDIF(Tableau1[[#This Row],[DE]],Tableau1[[#This Row],[DS]],"d") -> 14 | F2: OUI | G2: =YEAR(Tableau1[[#This Row],[DE]])&"-"&TEXT(MONTH(Tableau1[[#This Row],[DE]]),"00") -> 2017-01 | H2: =YEAR(Tableau1[[#This Row],[DS]])&"-"&TEXT(MONTH(Tableau1[[#This Row],[DS]]),"00") -> 2017-01
A3: BABAR | B3: Eléphant | C3: 42770 | D3: 42798 | E3: =DATEDIF(Tableau1[[#This Row],[DE]],Tableau1[[#This Row],[DS]],"d") -> 28 | F3: NON | G3: =YEAR(Tableau1[[#This Row],[DE]])&"-"&TEXT(MONTH(Tableau1[[#This Row],[DE]]),"00") -> 2017-02 | H3: =YEAR(Tableau1[[#This Row],[DS]])&"-"&TEXT(MONTH(Tableau1[[#This Row],[DS]]),"00") -> 2017-03
A4: LAFEE | B4: Clochette | C4: 42740 | D4: 42834 | E4: =DATEDIF(Tableau1[[#This Row],[DE]],Tableau1[[#This Row],[DS]],"d") -> 94 | F4: OUI | G4: =YEAR(Tableau1[[#This Row],[DE]])&"-"&TEXT(MONTH(Tableau1[[#This Row],[DE]]),"00") -> 2017-01 | H4: =YEAR(Tableau1[[#This Row],[DS]])&"-"&TEXT(MONTH(Tableau1[[#This Row],[DS]]),"00") -> 2017-04
A5: BANANA | B5: Split | C5: 42798 | D5: 42831 | E5: =DATEDIF(Tableau1[[#This Row],[DE]],Tableau1[[#This Row],[DS]],"d") -> 33 | F5: NON | G5: =YEAR(Tableau1[[#This Row],[DE]])&"-"&TEXT(MONTH(Tableau1[[#This Row],[DE]]),"00") -> 2017-03 | H5: =YEAR(Tableau1[[#This Row],[DS]])&"-"&TEXT(MONTH(Tableau1[[#This Row],[DS]]),"00") -> 2017-04

Sheet TCD
C4: Le TCD que j'aimerai avoir
D6: Nombre d'entrée (DE) | E6: Nombre de sorties (DS) | F6: Durée de séjour moyenne (DDS) (Ne doit être pris en compte que si il existe une date de sortie) | G6: Mortalité (DC = OUI) | H6: Mortalité (% de décès par rapport au nombre de sortie)
C7: 2017
C8: Janv | D8: 2 | E8: 1 | F8: 14 | G8: 1 | H8: 1
C9: Févr | D9: 1 | E9: 0 | F9: 0 | G9: 0 | H9: 0
C10: Mars | D10: 1 | E10: 1 | F10: 28 | G10: 0 | H10: 0
C11: Avri | D11: 0 | E11: 2 | F11: 63.5 | G11: 1 | H11: 0.5
D13: Ca j'y arrive | E13: Ca j'y arrive aussi mais sur un tableau à part, sinon il se mélange les pinceaux avec les dates | F13: Ca j'y arrive | G13: Je n'y arrive pas | H13: Je n'y arrive pas
D18: Nombre d'entrée (DE) | E18: Nombre de sorties (DS) | F18: Durée de séjour moyenne (DDS) (Ne doit être pris en compte que si il existe une date de sortie) | G18: Mortalité (DC = OUI) | H18: Mortalité (% de décès par rapport au nombre de sortie)
C19: 2017-01 | D19: =COUNTIF('Base de données'!G:G,TCD!C19) -> 2 | E19: =COUNTIF('Base de données'!H:H,TCD!C19) -> 1 | F19: =SUMIFS('Base de données'!E:E,'Base de données'!G:G,TCD!C19,'Base de données'!H:H,TCD!C19) -> 14 | G19: =COUNTIFS('Base de données'!H:H,TCD!C19,'Base de données'!F:F,"OUI") -> 1 | H19: =IF(E19=0,"",G19/E19) -> 1
C20: 2017-02 | D20: =COUNTIF('Base de données'!G:G,TCD!C20) -> 1 | E20: =COUNTIF('Base de données'!H:H,TCD!C20) -> 0 | F20: =SUMIFS('Base de données'!E:E,'Base de données'!G:G,TCD!C20,'Base de données'!H:H,TCD!C20) -> 0 | G20: =COUNTIFS('Base de données'!H:H,TCD!C20,'Base de données'!F:F,"OUI") -> 0 | H20: =IF(E20=0,"",G20/E20)
C21: 2017-03 | D21: =COUNTIF('Base de données'!G:G,TCD!C21) -> 1 | E21: =COUNTIF('Base de données'!H:H,TCD!C21) -> 1 | F21: =SUMIFS('Base de données'!E:E,'Base de données'!G:G,TCD!C21,'Base de données'!H:H,TCD!C21) -> 0 | G21: =COUNTIFS('Base de données'!H:H,TCD!C21,'Base de données'!F:F,"OUI") -> 0 | H21: =IF(E21=0,"",G21/E21) -> 0
C22: 2017-04 | D22: =COUNTIF('Base de données'!G:G,TCD!C22) -> 0 | E22: =COUNTIF('Base de données'!H:H,TCD!C22) -> 2 | F22: =SUMIFS('Base de données'!E:E,'Base de données'!G:G,TCD!C22,'Base de données'!H:H,TCD!C22) -> 0 | G22: =COUNTIFS('Base de données'!H:H,TCD!C22,'Base de données'!F:F,"OUI") -> 1 | H22: =IF(E22=0,"",G22/E22) -> 0.5
C23: 2017-05 | D23: =COUNTIF('Base de données'!G:G,TCD!C23) -> 0 | E23: =COUNTIF('Base de données'!H:H,TCD!C23) -> 0 | F23: =SUMIFS('Base de données'!E:E,'Base de données'!G:G,TCD!C23,'Base de données'!H:H,TCD!C23) -> 0 | G23: =COUNTIFS('Base de données'!H:H,TCD!C23,'Base de données'!F:F,"OUI") -> 0 | H23: =IF(E23=0,"",G23/E23)
C24: 2017-06 | D24: =COUNTIF('Base de données'!G:G,TCD!C24) -> 0 | E24: =COUNTIF('Base de données'!H:H,TCD!C24) -> 0 | F24: =SUMIFS('Base de données'!E:E,'Base de données'!G:G,TCD!C24,'Base de données'!H:H,TCD!C24) -> 0 | G24: =COUNTIFS('Base de données'!H:H,TCD!C24,'Base de données'!F:F,"OUI") -> 0 | H24: =IF(E24=0,"",G24/E24)
C25: 2017-07 | D25: =COUNTIF('Base de données'!G:G,TCD!C25) -> 0 | E25: =COUNTIF('Base de données'!H:H,TCD!C25) -> 0 | F25: =SUMIFS('Base de données'!E:E,'Base de données'!G:G,TCD!C25,'Base de données'!H:H,TCD!C25) -> 0 | G25: =COUNTIFS('Base de données'!H:H,TCD!C25,'Base de données'!F:F,"OUI") -> 0 | H25: =IF(E25=0,"",G25/E25)
C26: 2017-08 | D26: =COUNTIF('Base de données'!G:G,TCD!C26) -> 0 | E26: =COUNTIF('Base de données'!H:H,TCD!C26) -> 0 | F26: =SUMIFS('Base de données'!E:E,'Base de données'!G:G,TCD!C26,'Base de données'!H:H,TCD!C26) -> 0 | G26: =COUNTIFS('Base de données'!H:H,TCD!C26,'Base de données'!F:F,"OUI") -> 0 | H26: =IF(E26=0,"",G26/E26)
C27: 2017-09 | D27: =COUNTIF('Base de données'!G:G,TCD!C27) -> 0 | E27: =COUNTIF('Base de données'!H:H,TCD!C27) -> 0 | F27: =SUMIFS('Base de données'!E:E,'Base de données'!G:G,TCD!C27,'Base de données'!H:H,TCD!C27) -> 0 | G27: =COUNTIFS('Base de données'!H:H,TCD!C27,'Base de données'!F:F,"OUI") -> 0 | H27: =IF(E27=0,"",G27/E27)
C28: 2017-10 | D28: =COUNTIF('Base de données'!G:G,TCD!C28) -> 0 | E28: =COUNTIF('Base de données'!H:H,TCD!C28) -> 0 | F28: =SUMIFS('Base de données'!E:E,'Base de données'!G:G,TCD!C28,'Base de données'!H:H,TCD!C28) -> 0 | G28: =COUNTIFS('Base de données'!H:H,TCD!C28,'Base de données'!F:F,"OUI") -> 0 | H28: =IF(E28=0,"",G28/E28)
C29: 2017-11 | D29: =COUNTIF('Base de données'!G:G,TCD!C29) -> 0 | E29: =COUNTIF('Base de données'!H:H,TCD!C29) -> 0 | F29: =SUMIFS('Base de données'!E:E,'Base de données'!G:G,TCD!C29,'Base de données'!H:H,TCD!C29) -> 0 | G29: =COUNTIFS('Base de données'!H:H,TCD!C29,'Base de données'!F:F,"OUI") -> 0 | H29: =IF(E29=0,"",G29/E29)
C30: 2017-12 | D30: =COUNTIF('Base de données'!G:G,TCD!C30) -> 0 | E30: =COUNTIF('Base de données'!H:H,TCD!C30) -> 0 | F30: =SUMIFS('Base de données'!E:E,'Base de données'!G:G,TCD!C30,'Base de données'!H:H,TCD!C30) -> 0 | G30: =COUNTIFS('Base de données'!H:H,TCD!C30,'Base de données'!F:F,"OUI") -> 0 | H30: =IF(E30=0,"",G30/E30)
