Workbook

Sheet janvier
A1: SEMAINE 1 | B1: 42370 | S1: E,GENTILE | T1: D,DASILVA | U1: C,ROUSSON | V1: D,BETTE | W1: L,CAILLE | X1: N,COLLOT | Y1: G,REDON | Z1: J,JAILLET | AA1: S,JONDOT | AB1: N,FAIVRE | AC1: STAGIERE | AD1: AUTRE 1 | AE1: AUTRE 2
B2: lundi matin | C2: lundi apm | D2: mardi matin | E2: mardi apm | F2: mercredi matin | G2: mercredi apm | H2: jeudi matin | I2: jeudi apm | J2: vendredi matin | K2: vendredi apm | L2: samedi | M2: COMMENTAIRE | R2: Fournisseur 1 | S2: =SUMPRODUCT(($B$3:$N$115=$R2)*($A$3:$A$115=S$1)) -> 0 | T2: =SUMPRODUCT(($B$3:$N$115=$R2)*($A$3:$A$115=T$1)) -> 0 | U2: =SUMPRODUCT(($B$3:$N$115=$R2)*($A$3:$A$115=U$1)) -> 0 | V2: =SUMPRODUCT(($B$3:$N$115=$R2)*($A$3:$A$115=V$1)) -> 0 | W2: =SUMPRODUCT(($B$3:$N$115=$R2)*($A$3:$A$115=W$1)) -> 0 | X2: =SUMPRODUCT(($B$3:$N$115=$R2)*($A$3:$A$115=X$1)) -> 0 | Y2: =SUMPRODUCT(($B$3:$N$115=$R2)*($A$3:$A$115=Y$1)) -> 0 | Z2: =SUMPRODUCT(($B$3:$N$115=$R2)*($A$3:$A$115=Z$1)) -> 0 | ... AE2: =SUMPRODUCT(($B$3:$N$115=$R2)*($A$3:$A$115=AE$1)) -> 0
A3: E,GENTILE | R3: Filiale Client 2 | S3: =SUMPRODUCT(($B$3:$N$115=$R3)*($A$3:$A$115=S$1)) -> 0 | T3: =SUMPRODUCT(($B$3:$N$115=$R3)*($A$3:$A$115=T$1)) -> 0 | U3: =SUMPRODUCT(($B$3:$N$115=$R3)*($A$3:$A$115=U$1)) -> 0 | V3: =SUMPRODUCT(($B$3:$N$115=$R3)*($A$3:$A$115=V$1)) -> 0 | W3: =SUMPRODUCT(($B$3:$N$115=$R3)*($A$3:$A$115=W$1)) -> 0 | X3: =SUMPRODUCT(($B$3:$N$115=$R3)*($A$3:$A$115=X$1)) -> 0 | Y3: =SUMPRODUCT(($B$3:$N$115=$R3)*($A$3:$A$115=Y$1)) -> 0 | Z3: =SUMPRODUCT(($B$3:$N$115=$R3)*($A$3:$A$115=Z$1)) -> 0 | ... AE3: =SUMPRODUCT(($B$3:$N$115=$R3)*($A$3:$A$115=AE$1)) -> 0
A4: D,DASILVA | R4: RTT 3 | S4: =SUMPRODUCT(($B$3:$N$115=$R4)*($A$3:$A$115=S$1)) -> 0 | T4: =SUMPRODUCT(($B$3:$N$115=$R4)*($A$3:$A$115=T$1)) -> 0 | U4: =SUMPRODUCT(($B$3:$N$115=$R4)*($A$3:$A$115=U$1)) -> 0 | V4: =SUMPRODUCT(($B$3:$N$115=$R4)*($A$3:$A$115=V$1)) -> 0 | W4: =SUMPRODUCT(($B$3:$N$115=$R4)*($A$3:$A$115=W$1)) -> 0 | X4: =SUMPRODUCT(($B$3:$N$115=$R4)*($A$3:$A$115=X$1)) -> 0 | Y4: =SUMPRODUCT(($B$3:$N$115=$R4)*($A$3:$A$115=Y$1)) -> 0 | Z4: =SUMPRODUCT(($B$3:$N$115=$R4)*($A$3:$A$115=Z$1)) -> 0 | ... AE4: =SUMPRODUCT(($B$3:$N$115=$R4)*($A$3:$A$115=AE$1)) -> 0
A5: E,ETIENNE | R5: CP 4 | S5: =SUMPRODUCT(($B$3:$N$115=$R5)*($A$3:$A$115=S$1)) -> 0 | T5: =SUMPRODUCT(($B$3:$N$115=$R5)*($A$3:$A$115=T$1)) -> 0 | U5: =SUMPRODUCT(($B$3:$N$115=$R5)*($A$3:$A$115=U$1)) -> 0 | V5: =SUMPRODUCT(($B$3:$N$115=$R5)*($A$3:$A$115=V$1)) -> 0 | W5: =SUMPRODUCT(($B$3:$N$115=$R5)*($A$3:$A$115=W$1)) -> 0 | X5: =SUMPRODUCT(($B$3:$N$115=$R5)*($A$3:$A$115=X$1)) -> 0 | Y5: =SUMPRODUCT(($B$3:$N$115=$R5)*($A$3:$A$115=Y$1)) -> 0 | Z5: =SUMPRODUCT(($B$3:$N$115=$R5)*($A$3:$A$115=Z$1)) -> 0 | ... AE5: =SUMPRODUCT(($B$3:$N$115=$R5)*($A$3:$A$115=AE$1)) -> 0
A6: C,ROUSSON | R6: Formation 5 | S6: =SUMPRODUCT(($B$3:$N$115=$R6)*($A$3:$A$115=S$1)) -> 0 | T6: =SUMPRODUCT(($B$3:$N$115=$R6)*($A$3:$A$115=T$1)) -> 0 | U6: =SUMPRODUCT(($B$3:$N$115=$R6)*($A$3:$A$115=U$1)) -> 0 | V6: =SUMPRODUCT(($B$3:$N$115=$R6)*($A$3:$A$115=V$1)) -> 0 | W6: =SUMPRODUCT(($B$3:$N$115=$R6)*($A$3:$A$115=W$1)) -> 0 | X6: =SUMPRODUCT(($B$3:$N$115=$R6)*($A$3:$A$115=X$1)) -> 0 | Y6: =SUMPRODUCT(($B$3:$N$115=$R6)*($A$3:$A$115=Y$1)) -> 0 | Z6: =SUMPRODUCT(($B$3:$N$115=$R6)*($A$3:$A$115=Z$1)) -> 0 | ... AE6: =SUMPRODUCT(($B$3:$N$115=$R6)*($A$3:$A$115=AE$1)) -> 0
A7: D,BETTE | R7: Animation Qualité ligne 6 | S7: =SUMPRODUCT(($B$3:$N$115=$R7)*($A$3:$A$115=S$1)) -> 0 | T7: =SUMPRODUCT(($B$3:$N$115=$R7)*($A$3:$A$115=T$1)) -> 0 | U7: =SUMPRODUCT(($B$3:$N$115=$R7)*($A$3:$A$115=U$1)) -> 0 | V7: =SUMPRODUCT(($B$3:$N$115=$R7)*($A$3:$A$115=V$1)) -> 0 | W7: =SUMPRODUCT(($B$3:$N$115=$R7)*($A$3:$A$115=W$1)) -> 0 | X7: =SUMPRODUCT(($B$3:$N$115=$R7)*($A$3:$A$115=X$1)) -> 0 | Y7: =SUMPRODUCT(($B$3:$N$115=$R7)*($A$3:$A$115=Y$1)) -> 0 | Z7: =SUMPRODUCT(($B$3:$N$115=$R7)*($A$3:$A$115=Z$1)) -> 0 | ... AE7: =SUMPRODUCT(($B$3:$N$115=$R7)*($A$3:$A$115=AE$1)) -> 0
A8: L,CAILLE | R8: Maladie 7 | S8: =SUMPRODUCT(($B$3:$N$115=$R8)*($A$3:$A$115=S$1)) -> 0 | T8: =SUMPRODUCT(($B$3:$N$115=$R8)*($A$3:$A$115=T$1)) -> 0 | U8: =SUMPRODUCT(($B$3:$N$115=$R8)*($A$3:$A$115=U$1)) -> 0 | V8: =SUMPRODUCT(($B$3:$N$115=$R8)*($A$3:$A$115=V$1)) -> 0 | W8: =SUMPRODUCT(($B$3:$N$115=$R8)*($A$3:$A$115=W$1)) -> 0 | X8: =SUMPRODUCT(($B$3:$N$115=$R8)*($A$3:$A$115=X$1)) -> 0 | Y8: =SUMPRODUCT(($B$3:$N$115=$R8)*($A$3:$A$115=Y$1)) -> 0 | Z8: =SUMPRODUCT(($B$3:$N$115=$R8)*($A$3:$A$115=Z$1)) -> 0 | ... AE8: =SUMPRODUCT(($B$3:$N$115=$R8)*($A$3:$A$115=AE$1)) -> 0
A9: N,COLLOT | R9: Inter site 8 | S9: =SUMPRODUCT(($B$3:$N$115=$R9)*($A$3:$A$115=S$1)) -> 0 | T9: =SUMPRODUCT(($B$3:$N$115=$R9)*($A$3:$A$115=T$1)) -> 0 | U9: =SUMPRODUCT(($B$3:$N$115=$R9)*($A$3:$A$115=U$1)) -> 0 | V9: =SUMPRODUCT(($B$3:$N$115=$R9)*($A$3:$A$115=V$1)) -> 0 | W9: =SUMPRODUCT(($B$3:$N$115=$R9)*($A$3:$A$115=W$1)) -> 0 | X9: =SUMPRODUCT(($B$3:$N$115=$R9)*($A$3:$A$115=X$1)) -> 0 | Y9: =SUMPRODUCT(($B$3:$N$115=$R9)*($A$3:$A$115=Y$1)) -> 0 | Z9: =SUMPRODUCT(($B$3:$N$115=$R9)*($A$3:$A$115=Z$1)) -> 0 | ... AE9: =SUMPRODUCT(($B$3:$N$115=$R9)*($A$3:$A$115=AE$1)) -> 0
A10: G,REDON | R10: Concept° Indicateur Présence sur FLC obligatoire (ou backup exceptionnellement) 9 | S10: =SUMPRODUCT(($B$3:$N$115=$R10)*($A$3:$A$115=S$1)) -> 0 | T10: =SUMPRODUCT(($B$3:$N$115=$R10)*($A$3:$A$115=T$1)) -> 0 | U10: =SUMPRODUCT(($B$3:$N$115=$R10)*($A$3:$A$115=U$1)) -> 0 | V10: =SUMPRODUCT(($B$3:$N$115=$R10)*($A$3:$A$115=V$1)) -> 0 | W10: =SUMPRODUCT(($B$3:$N$115=$R10)*($A$3:$A$115=W$1)) -> 0 | X10: =SUMPRODUCT(($B$3:$N$115=$R10)*($A$3:$A$115=X$1)) -> 0 | Y10: =SUMPRODUCT(($B$3:$N$115=$R10)*($A$3:$A$115=Y$1)) -> 0 | Z10: =SUMPRODUCT(($B$3:$N$115=$R10)*($A$3:$A$115=Z$1)) -> 0 | ... AE10: =SUMPRODUCT(($B$3:$N$115=$R10)*($A$3:$A$115=AE$1)) -> 0
A11: J,JAILLET | R11: CHSCT 10 | S11: =SUMPRODUCT(($B$3:$N$115=$R11)*($A$3:$A$115=S$1)) -> 0 | T11: =SUMPRODUCT(($B$3:$N$115=$R11)*($A$3:$A$115=T$1)) -> 0 | U11: =SUMPRODUCT(($B$3:$N$115=$R11)*($A$3:$A$115=U$1)) -> 0 | V11: =SUMPRODUCT(($B$3:$N$115=$R11)*($A$3:$A$115=V$1)) -> 0 | W11: =SUMPRODUCT(($B$3:$N$115=$R11)*($A$3:$A$115=W$1)) -> 0 | X11: =SUMPRODUCT(($B$3:$N$115=$R11)*($A$3:$A$115=X$1)) -> 0 | Y11: =SUMPRODUCT(($B$3:$N$115=$R11)*($A$3:$A$115=Y$1)) -> 0 | Z11: =SUMPRODUCT(($B$3:$N$115=$R11)*($A$3:$A$115=Z$1)) -> 0 | ... AE11: =SUMPRODUCT(($B$3:$N$115=$R11)*($A$3:$A$115=AE$1)) -> 0
A12: S,JONDOT | R12: Hot Liner 11 | S12: =SUMPRODUCT(($B$3:$N$115=$R12)*($A$3:$A$115=S$1)) -> 0 | T12: =SUMPRODUCT(($B$3:$N$115=$R12)*($A$3:$A$115=T$1)) -> 0 | U12: =SUMPRODUCT(($B$3:$N$115=$R12)*($A$3:$A$115=U$1)) -> 0 | V12: =SUMPRODUCT(($B$3:$N$115=$R12)*($A$3:$A$115=V$1)) -> 0 | W12: =SUMPRODUCT(($B$3:$N$115=$R12)*($A$3:$A$115=W$1)) -> 0 | X12: =SUMPRODUCT(($B$3:$N$115=$R12)*($A$3:$A$115=X$1)) -> 0 | Y12: =SUMPRODUCT(($B$3:$N$115=$R12)*($A$3:$A$115=Y$1)) -> 0 | Z12: =SUMPRODUCT(($B$3:$N$115=$R12)*($A$3:$A$115=Z$1)) -> 0 | ... AE12: =SUMPRODUCT(($B$3:$N$115=$R12)*($A$3:$A$115=AE$1)) -> 0
A13: N,FAIVRE | R13: ACCIDENT 12 | S13: =SUMPRODUCT(($B$3:$N$115=$R13)*($A$3:$A$115=S$1)) -> 0 | T13: =SUMPRODUCT(($B$3:$N$115=$R13)*($A$3:$A$115=T$1)) -> 0 | U13: =SUMPRODUCT(($B$3:$N$115=$R13)*($A$3:$A$115=U$1)) -> 0 | V13: =SUMPRODUCT(($B$3:$N$115=$R13)*($A$3:$A$115=V$1)) -> 0 | W13: =SUMPRODUCT(($B$3:$N$115=$R13)*($A$3:$A$115=W$1)) -> 0 | X13: =SUMPRODUCT(($B$3:$N$115=$R13)*($A$3:$A$115=X$1)) -> 0 | Y13: =SUMPRODUCT(($B$3:$N$115=$R13)*($A$3:$A$115=Y$1)) -> 0 | Z13: =SUMPRODUCT(($B$3:$N$115=$R13)*($A$3:$A$115=Z$1)) -> 0 | ... AE13: =SUMPRODUCT(($B$3:$N$115=$R13)*($A$3:$A$115=AE$1)) -> 0
A14: STAGIERE | R14: SECURISATION 13 | S14: =SUMPRODUCT(($B$3:$N$115=$R14)*($A$3:$A$115=S$1)) -> 0 | T14: =SUMPRODUCT(($B$3:$N$115=$R14)*($A$3:$A$115=T$1)) -> 0 | U14: =SUMPRODUCT(($B$3:$N$115=$R14)*($A$3:$A$115=U$1)) -> 0 | V14: =SUMPRODUCT(($B$3:$N$115=$R14)*($A$3:$A$115=V$1)) -> 0 | W14: =SUMPRODUCT(($B$3:$N$115=$R14)*($A$3:$A$115=W$1)) -> 0 | X14: =SUMPRODUCT(($B$3:$N$115=$R14)*($A$3:$A$115=X$1)) -> 0 | Y14: =SUMPRODUCT(($B$3:$N$115=$R14)*($A$3:$A$115=Y$1)) -> 0 | Z14: =SUMPRODUCT(($B$3:$N$115=$R14)*($A$3:$A$115=Z$1)) -> 0 | ... AE14: =SUMPRODUCT(($B$3:$N$115=$R14)*($A$3:$A$115=AE$1)) -> 0
... A16: AUTRE 2 | R16: EXPEDITION PIECES 15 | S16: =SUMPRODUCT(($B$3:$N$115=$R16)*($A$3:$A$115=S$1)) -> 0 | T16: =SUMPRODUCT(($B$3:$N$115=$R16)*($A$3:$A$115=T$1)) -> 0 | U16: =SUMPRODUCT(($B$3:$N$115=$R16)*($A$3:$A$115=U$1)) -> 0 | V16: =SUMPRODUCT(($B$3:$N$115=$R16)*($A$3:$A$115=V$1)) -> 0 | W16: =SUMPRODUCT(($B$3:$N$115=$R16)*($A$3:$A$115=W$1)) -> 0 | X16: =SUMPRODUCT(($B$3:$N$115=$R16)*($A$3:$A$115=X$1)) -> 0 | Y16: =SUMPRODUCT(($B$3:$N$115=$R16)*($A$3:$A$115=Y$1)) -> 0 | Z16: =SUMPRODUCT(($B$3:$N$115=$R16)*($A$3:$A$115=Z$1)) -> 0 | ... AE16: =SUMPRODUCT(($B$3:$N$115=$R16)*($A$3:$A$115=AE$1)) -> 0
A17: SEMAINE 2 | B17: 42370 | R17: AUDIT 16 | S17: =SUMPRODUCT(($B$3:$N$115=$R17)*($A$3:$A$115=S$1)) -> 0 | T17: =SUMPRODUCT(($B$3:$N$115=$R17)*($A$3:$A$115=T$1)) -> 0 | U17: =SUMPRODUCT(($B$3:$N$115=$R17)*($A$3:$A$115=U$1)) -> 0 | V17: =SUMPRODUCT(($B$3:$N$115=$R17)*($A$3:$A$115=V$1)) -> 0 | W17: =SUMPRODUCT(($B$3:$N$115=$R17)*($A$3:$A$115=W$1)) -> 0 | X17: =SUMPRODUCT(($B$3:$N$115=$R17)*($A$3:$A$115=X$1)) -> 0 | Y17: =SUMPRODUCT(($B$3:$N$115=$R17)*($A$3:$A$115=Y$1)) -> 0 | Z17: =SUMPRODUCT(($B$3:$N$115=$R17)*($A$3:$A$115=Z$1)) -> 0 | ... AE17: =SUMPRODUCT(($B$3:$N$115=$R17)*($A$3:$A$115=AE$1)) -> 0
B18: lundi matin | C18: lundi apm | D18: mardi matin | E18: mardi apm | F18: mercredi matin | G18: mercredi apm | H18: jeudi matin | I18: jeudi apm | J18: vendredi matin | K18: vendredi apm | L18: samedi | M18: COMMENTAIRE | R18: SUIVI DES ZONES 17 | S18: =SUMPRODUCT(($B$3:$N$115=$R18)*($A$3:$A$115=S$1)) -> 0 | T18: =SUMPRODUCT(($B$3:$N$115=$R18)*($A$3:$A$115=T$1)) -> 0 | U18: =SUMPRODUCT(($B$3:$N$115=$R18)*($A$3:$A$115=U$1)) -> 0 | V18: =SUMPRODUCT(($B$3:$N$115=$R18)*($A$3:$A$115=V$1)) -> 0 | W18: =SUMPRODUCT(($B$3:$N$115=$R18)*($A$3:$A$115=W$1)) -> 0 | X18: =SUMPRODUCT(($B$3:$N$115=$R18)*($A$3:$A$115=X$1)) -> 0 | Y18: =SUMPRODUCT(($B$3:$N$115=$R18)*($A$3:$A$115=Y$1)) -> 0 | Z18: =SUMPRODUCT(($B$3:$N$115=$R18)*($A$3:$A$115=Z$1)) -> 0 | ... AE18: =SUMPRODUCT(($B$3:$N$115=$R18)*($A$3:$A$115=AE$1)) -> 0
A19: E,GENTILE | R19: 8D/PDCA 18 | S19: =SUMPRODUCT(($B$3:$N$115=$R19)*($A$3:$A$115=S$1)) -> 0 | T19: =SUMPRODUCT(($B$3:$N$115=$R19)*($A$3:$A$115=T$1)) -> 0 | U19: =SUMPRODUCT(($B$3:$N$115=$R19)*($A$3:$A$115=U$1)) -> 0 | V19: =SUMPRODUCT(($B$3:$N$115=$R19)*($A$3:$A$115=V$1)) -> 0 | W19: =SUMPRODUCT(($B$3:$N$115=$R19)*($A$3:$A$115=W$1)) -> 0 | X19: =SUMPRODUCT(($B$3:$N$115=$R19)*($A$3:$A$115=X$1)) -> 0 | Y19: =SUMPRODUCT(($B$3:$N$115=$R19)*($A$3:$A$115=Y$1)) -> 0 | Z19: =SUMPRODUCT(($B$3:$N$115=$R19)*($A$3:$A$115=Z$1)) -> 0 | ... AE19: =SUMPRODUCT(($B$3:$N$115=$R19)*($A$3:$A$115=AE$1)) -> 0
A20: D,DASILVA | R20: HOTLINE SAV 19 | S20: =SUMPRODUCT(($B$3:$N$115=$R20)*($A$3:$A$115=S$1)) -> 0 | T20: =SUMPRODUCT(($B$3:$N$115=$R20)*($A$3:$A$115=T$1)) -> 0 | U20: =SUMPRODUCT(($B$3:$N$115=$R20)*($A$3:$A$115=U$1)) -> 0 | V20: =SUMPRODUCT(($B$3:$N$115=$R20)*($A$3:$A$115=V$1)) -> 0 | W20: =SUMPRODUCT(($B$3:$N$115=$R20)*($A$3:$A$115=W$1)) -> 0 | X20: =SUMPRODUCT(($B$3:$N$115=$R20)*($A$3:$A$115=X$1)) -> 0 | Y20: =SUMPRODUCT(($B$3:$N$115=$R20)*($A$3:$A$115=Y$1)) -> 0 | Z20: =SUMPRODUCT(($B$3:$N$115=$R20)*($A$3:$A$115=Z$1)) -> 0 | ... AE20: =SUMPRODUCT(($B$3:$N$115=$R20)*($A$3:$A$115=AE$1)) -> 0
A21: E,ETIENNE | R21: SUIVI RENFORCE 20 | S21: =SUMPRODUCT(($B$3:$N$115=$R21)*($A$3:$A$115=S$1)) -> 0 | T21: =SUMPRODUCT(($B$3:$N$115=$R21)*($A$3:$A$115=T$1)) -> 0 | U21: =SUMPRODUCT(($B$3:$N$115=$R21)*($A$3:$A$115=U$1)) -> 0 | V21: =SUMPRODUCT(($B$3:$N$115=$R21)*($A$3:$A$115=V$1)) -> 0 | W21: =SUMPRODUCT(($B$3:$N$115=$R21)*($A$3:$A$115=W$1)) -> 0 | X21: =SUMPRODUCT(($B$3:$N$115=$R21)*($A$3:$A$115=X$1)) -> 0 | Y21: =SUMPRODUCT(($B$3:$N$115=$R21)*($A$3:$A$115=Y$1)) -> 0 | Z21: =SUMPRODUCT(($B$3:$N$115=$R21)*($A$3:$A$115=Z$1)) -> 0 | ... AE21: =SUMPRODUCT(($B$3:$N$115=$R21)*($A$3:$A$115=AE$1)) -> 0
A22: C,ROUSSON | R22: TRAITEMENT RNC 21 | S22: =SUMPRODUCT(($B$3:$N$115=$R22)*($A$3:$A$115=S$1)) -> 0 | T22: =SUMPRODUCT(($B$3:$N$115=$R22)*($A$3:$A$115=T$1)) -> 0 | U22: =SUMPRODUCT(($B$3:$N$115=$R22)*($A$3:$A$115=U$1)) -> 0 | V22: =SUMPRODUCT(($B$3:$N$115=$R22)*($A$3:$A$115=V$1)) -> 0 | W22: =SUMPRODUCT(($B$3:$N$115=$R22)*($A$3:$A$115=W$1)) -> 0 | X22: =SUMPRODUCT(($B$3:$N$115=$R22)*($A$3:$A$115=X$1)) -> 0 | Y22: =SUMPRODUCT(($B$3:$N$115=$R22)*($A$3:$A$115=Y$1)) -> 0 | Z22: =SUMPRODUCT(($B$3:$N$115=$R22)*($A$3:$A$115=Z$1)) -> 0 | ... AE22: =SUMPRODUCT(($B$3:$N$115=$R22)*($A$3:$A$115=AE$1)) -> 0
A23: D,BETTE | R23: ANALYSE DE NC 22 | S23: =SUMPRODUCT(($B$3:$N$115=$R23)*($A$3:$A$115=S$1)) -> 0 | T23: =SUMPRODUCT(($B$3:$N$115=$R23)*($A$3:$A$115=T$1)) -> 0 | U23: =SUMPRODUCT(($B$3:$N$115=$R23)*($A$3:$A$115=U$1)) -> 0 | V23: =SUMPRODUCT(($B$3:$N$115=$R23)*($A$3:$A$115=V$1)) -> 0 | W23: =SUMPRODUCT(($B$3:$N$115=$R23)*($A$3:$A$115=W$1)) -> 0 | X23: =SUMPRODUCT(($B$3:$N$115=$R23)*($A$3:$A$115=X$1)) -> 0 | Y23: =SUMPRODUCT(($B$3:$N$115=$R23)*($A$3:$A$115=Y$1)) -> 0 | Z23: =SUMPRODUCT(($B$3:$N$115=$R23)*($A$3:$A$115=Z$1)) -> 0 | ... AE23: =SUMPRODUCT(($B$3:$N$115=$R23)*($A$3:$A$115=AE$1)) -> 0
A24: L,CAILLE | R24: DOSSIER MACHINE 23 | S24: =SUMPRODUCT(($B$3:$N$115=$R24)*($A$3:$A$115=S$1)) -> 0 | T24: =SUMPRODUCT(($B$3:$N$115=$R24)*($A$3:$A$115=T$1)) -> 0 | U24: =SUMPRODUCT(($B$3:$N$115=$R24)*($A$3:$A$115=U$1)) -> 0 | V24: =SUMPRODUCT(($B$3:$N$115=$R24)*($A$3:$A$115=V$1)) -> 0 | W24: =SUMPRODUCT(($B$3:$N$115=$R24)*($A$3:$A$115=W$1)) -> 0 | X24: =SUMPRODUCT(($B$3:$N$115=$R24)*($A$3:$A$115=X$1)) -> 0 | Y24: =SUMPRODUCT(($B$3:$N$115=$R24)*($A$3:$A$115=Y$1)) -> 0 | Z24: =SUMPRODUCT(($B$3:$N$115=$R24)*($A$3:$A$115=Z$1)) -> 0 | ... AE24: =SUMPRODUCT(($B$3:$N$115=$R24)*($A$3:$A$115=AE$1)) -> 0
A25: N,COLLOT | R25: ECME 24 | S25: =SUMPRODUCT(($B$3:$N$115=$R25)*($A$3:$A$115=S$1)) -> 0 | T25: =SUMPRODUCT(($B$3:$N$115=$R25)*($A$3:$A$115=T$1)) -> 0 | U25: =SUMPRODUCT(($B$3:$N$115=$R25)*($A$3:$A$115=U$1)) -> 0 | V25: =SUMPRODUCT(($B$3:$N$115=$R25)*($A$3:$A$115=V$1)) -> 0 | W25: =SUMPRODUCT(($B$3:$N$115=$R25)*($A$3:$A$115=W$1)) -> 0 | X25: =SUMPRODUCT(($B$3:$N$115=$R25)*($A$3:$A$115=X$1)) -> 0 | Y25: =SUMPRODUCT(($B$3:$N$115=$R25)*($A$3:$A$115=Y$1)) -> 0 | Z25: =SUMPRODUCT(($B$3:$N$115=$R25)*($A$3:$A$115=Z$1)) -> 0 | ... AE25: =SUMPRODUCT(($B$3:$N$115=$R25)*($A$3:$A$115=AE$1)) -> 0
A26: G,REDON | R26: GESTION EI 25 | S26: =SUMPRODUCT(($B$3:$N$115=$R26)*($A$3:$A$115=S$1)) -> 0 | T26: =SUMPRODUCT(($B$3:$N$115=$R26)*($A$3:$A$115=T$1)) -> 0 | U26: =SUMPRODUCT(($B$3:$N$115=$R26)*($A$3:$A$115=U$1)) -> 0 | V26: =SUMPRODUCT(($B$3:$N$115=$R26)*($A$3:$A$115=V$1)) -> 0 | W26: =SUMPRODUCT(($B$3:$N$115=$R26)*($A$3:$A$115=W$1)) -> 0 | X26: =SUMPRODUCT(($B$3:$N$115=$R26)*($A$3:$A$115=X$1)) -> 0 | Y26: =SUMPRODUCT(($B$3:$N$115=$R26)*($A$3:$A$115=Y$1)) -> 0 | Z26: =SUMPRODUCT(($B$3:$N$115=$R26)*($A$3:$A$115=Z$1)) -> 0 | ... AE26: =SUMPRODUCT(($B$3:$N$115=$R26)*($A$3:$A$115=AE$1)) -> 0
A27: J,JAILLET | R27: REDACTION FLASH / DDM 26 | S27: =SUMPRODUCT(($B$3:$N$115=$R27)*($A$3:$A$115=S$1)) -> 0 | T27: =SUMPRODUCT(($B$3:$N$115=$R27)*($A$3:$A$115=T$1)) -> 0 | U27: =SUMPRODUCT(($B$3:$N$115=$R27)*($A$3:$A$115=U$1)) -> 0 | V27: =SUMPRODUCT(($B$3:$N$115=$R27)*($A$3:$A$115=V$1)) -> 0 | W27: =SUMPRODUCT(($B$3:$N$115=$R27)*($A$3:$A$115=W$1)) -> 0 | X27: =SUMPRODUCT(($B$3:$N$115=$R27)*($A$3:$A$115=X$1)) -> 0 | Y27: =SUMPRODUCT(($B$3:$N$115=$R27)*($A$3:$A$115=Y$1)) -> 0 | Z27: =SUMPRODUCT(($B$3:$N$115=$R27)*($A$3:$A$115=Z$1)) -> 0 | ... AE27: =SUMPRODUCT(($B$3:$N$115=$R27)*($A$3:$A$115=AE$1)) -> 0
A28: S,JONDOT | R28: CONDITIONNEMENT 27 | S28: =SUMPRODUCT(($B$3:$N$115=$R28)*($A$3:$A$115=S$1)) -> 0 | T28: =SUMPRODUCT(($B$3:$N$115=$R28)*($A$3:$A$115=T$1)) -> 0 | U28: =SUMPRODUCT(($B$3:$N$115=$R28)*($A$3:$A$115=U$1)) -> 0 | V28: =SUMPRODUCT(($B$3:$N$115=$R28)*($A$3:$A$115=V$1)) -> 0 | W28: =SUMPRODUCT(($B$3:$N$115=$R28)*($A$3:$A$115=W$1)) -> 0 | X28: =SUMPRODUCT(($B$3:$N$115=$R28)*($A$3:$A$115=X$1)) -> 0 | Y28: =SUMPRODUCT(($B$3:$N$115=$R28)*($A$3:$A$115=Y$1)) -> 0 | Z28: =SUMPRODUCT(($B$3:$N$115=$R28)*($A$3:$A$115=Z$1)) -> 0 | ... AE28: =SUMPRODUCT(($B$3:$N$115=$R28)*($A$3:$A$115=AE$1)) -> 0
A29: N,FAIVRE | R29: VALIDATION METHODE / INDUS 28 | S29: =SUMPRODUCT(($B$3:$N$115=$R29)*($A$3:$A$115=S$1)) -> 0 | T29: =SUMPRODUCT(($B$3:$N$115=$R29)*($A$3:$A$115=T$1)) -> 0 | U29: =SUMPRODUCT(($B$3:$N$115=$R29)*($A$3:$A$115=U$1)) -> 0 | V29: =SUMPRODUCT(($B$3:$N$115=$R29)*($A$3:$A$115=V$1)) -> 0 | W29: =SUMPRODUCT(($B$3:$N$115=$R29)*($A$3:$A$115=W$1)) -> 0 | X29: =SUMPRODUCT(($B$3:$N$115=$R29)*($A$3:$A$115=X$1)) -> 0 | Y29: =SUMPRODUCT(($B$3:$N$115=$R29)*($A$3:$A$115=Y$1)) -> 0 | Z29: =SUMPRODUCT(($B$3:$N$115=$R29)*($A$3:$A$115=Z$1)) -> 0 | ... AE29: =SUMPRODUCT(($B$3:$N$115=$R29)*($A$3:$A$115=AE$1)) -> 0
A30: STAGIERE | R30: TOTAL | S30: =SUM(S2:S29) -> 0 | T30: =SUM(T2:T29) -> 0 | U30: =SUM(U2:U29) -> 0 | V30: =SUM(V2:V29) -> 0 | W30: =SUM(W2:W29) -> 0 | X30: =SUM(X2:X29) -> 0 | Y30: =SUM(Y2:Y29) -> 0 | Z30: =SUM(Z2:Z29) -> 0 | ... AE30: =SUM(AE2:AE29) -> 0
A31: AUTRE 1 | S31: E,GENTILE | T31: D,DASILVA | U31: C,ROUSSON | V31: D,BETE | W31: L,CAILLE | X31: N,COLLOT | Y31: G,REDON | Z31: J,JAILLET | AA31: S,JONDOT | AB31: N,FAIVRE | AC31: STAGIERE | AD31: AUTRE 1 | AE31: AUTRE 2
A32: AUTRE 2
A33: SEMAINE 3 | B33: 42370
B34: lundi matin | C34: lundi apm | D34: mardi matin | E34: mardi apm | F34: mercredi matin | G34: mercredi apm | H34: jeudi matin | I34: jeudi apm | J34: vendredi matin | K34: vendredi apm | L34: samedi | M34: COMMENTAIRE
A35: E,GENTILE
A36: D,DASILVA
A37: E,ETIENNE
A38: C,ROUSSON
A39: D,BETTE
A40: L,CAILLE
A41: N,COLLOT
...

Sheet fevrier mars 
A1: SEMAINE 1 | B1: 42370 | S1: E,GENTILE | T1: D,DASILVA | U1: C,ROUSSON | V1: D,BETTE | W1: L,CAILLE | X1: N,COLLOT | Y1: G,REDON | Z1: J,JAILLET | AA1: S,JONDOT | AB1: N,FAIVRE | AC1: STAGIERE | AD1: AUTRE 1 | AE1: AUTRE 2
B2: lundi matin | C2: lundi apm | D2: mardi matin | E2: mardi apm | F2: mercredi matin | G2: mercredi apm | H2: jeudi matin | I2: jeudi apm | J2: vendredi matin | K2: vendredi apm | L2: samedi | M2: COMMENTAIRE | R2: Fournisseur 1 | S2: =SUMPRODUCT(($B$3:$N$115=$R2)*($A$3:$A$115=S$1)) -> 0 | T2: =SUMPRODUCT(($B$3:$N$115=$R2)*($A$3:$A$115=T$1)) -> 0 | U2: =SUMPRODUCT(($B$3:$N$115=$R2)*($A$3:$A$115=U$1)) -> 0 | V2: =SUMPRODUCT(($B$3:$N$115=$R2)*($A$3:$A$115=V$1)) -> 0 | W2: =SUMPRODUCT(($B$3:$N$115=$R2)*($A$3:$A$115=W$1)) -> 0 | X2: =SUMPRODUCT(($B$3:$N$115=$R2)*($A$3:$A$115=X$1)) -> 0 | Y2: =SUMPRODUCT(($B$3:$N$115=$R2)*($A$3:$A$115=Y$1)) -> 0 | Z2: =SUMPRODUCT(($B$3:$N$115=$R2)*($A$3:$A$115=Z$1)) -> 0 | ... AE2: =SUMPRODUCT(($B$3:$N$115=$R2)*($A$3:$A$115=AE$1)) -> 0
A3: E,GENTILE | R3: Filiale Client 2 | S3: =SUMPRODUCT(($B$3:$N$115=$R3)*($A$3:$A$115=S$1)) -> 0 | T3: =SUMPRODUCT(($B$3:$N$115=$R3)*($A$3:$A$115=T$1)) -> 0 | U3: =SUMPRODUCT(($B$3:$N$115=$R3)*($A$3:$A$115=U$1)) -> 0 | V3: =SUMPRODUCT(($B$3:$N$115=$R3)*($A$3:$A$115=V$1)) -> 0 | W3: =SUMPRODUCT(($B$3:$N$115=$R3)*($A$3:$A$115=W$1)) -> 0 | X3: =SUMPRODUCT(($B$3:$N$115=$R3)*($A$3:$A$115=X$1)) -> 0 | Y3: =SUMPRODUCT(($B$3:$N$115=$R3)*($A$3:$A$115=Y$1)) -> 0 | Z3: =SUMPRODUCT(($B$3:$N$115=$R3)*($A$3:$A$115=Z$1)) -> 0 | ... AE3: =SUMPRODUCT(($B$3:$N$115=$R3)*($A$3:$A$115=AE$1)) -> 0
A4: D,DASILVA | R4: RTT 3 | S4: =SUMPRODUCT(($B$3:$N$115=$R4)*($A$3:$A$115=S$1)) -> 0 | T4: =SUMPRODUCT(($B$3:$N$115=$R4)*($A$3:$A$115=T$1)) -> 0 | U4: =SUMPRODUCT(($B$3:$N$115=$R4)*($A$3:$A$115=U$1)) -> 0 | V4: =SUMPRODUCT(($B$3:$N$115=$R4)*($A$3:$A$115=V$1)) -> 0 | W4: =SUMPRODUCT(($B$3:$N$115=$R4)*($A$3:$A$115=W$1)) -> 0 | X4: =SUMPRODUCT(($B$3:$N$115=$R4)*($A$3:$A$115=X$1)) -> 0 | Y4: =SUMPRODUCT(($B$3:$N$115=$R4)*($A$3:$A$115=Y$1)) -> 0 | Z4: =SUMPRODUCT(($B$3:$N$115=$R4)*($A$3:$A$115=Z$1)) -> 0 | ... AE4: =SUMPRODUCT(($B$3:$N$115=$R4)*($A$3:$A$115=AE$1)) -> 0
A5: E,ETIENNE | R5: CP 4 | S5: =SUMPRODUCT(($B$3:$N$115=$R5)*($A$3:$A$115=S$1)) -> 0 | T5: =SUMPRODUCT(($B$3:$N$115=$R5)*($A$3:$A$115=T$1)) -> 0 | U5: =SUMPRODUCT(($B$3:$N$115=$R5)*($A$3:$A$115=U$1)) -> 0 | V5: =SUMPRODUCT(($B$3:$N$115=$R5)*($A$3:$A$115=V$1)) -> 0 | W5: =SUMPRODUCT(($B$3:$N$115=$R5)*($A$3:$A$115=W$1)) -> 0 | X5: =SUMPRODUCT(($B$3:$N$115=$R5)*($A$3:$A$115=X$1)) -> 0 | Y5: =SUMPRODUCT(($B$3:$N$115=$R5)*($A$3:$A$115=Y$1)) -> 0 | Z5: =SUMPRODUCT(($B$3:$N$115=$R5)*($A$3:$A$115=Z$1)) -> 0 | ... AE5: =SUMPRODUCT(($B$3:$N$115=$R5)*($A$3:$A$115=AE$1)) -> 0
A6: C,ROUSSON | R6: Formation 5 | S6: =SUMPRODUCT(($B$3:$N$115=$R6)*($A$3:$A$115=S$1)) -> 0 | T6: =SUMPRODUCT(($B$3:$N$115=$R6)*($A$3:$A$115=T$1)) -> 0 | U6: =SUMPRODUCT(($B$3:$N$115=$R6)*($A$3:$A$115=U$1)) -> 0 | V6: =SUMPRODUCT(($B$3:$N$115=$R6)*($A$3:$A$115=V$1)) -> 0 | W6: =SUMPRODUCT(($B$3:$N$115=$R6)*($A$3:$A$115=W$1)) -> 0 | X6: =SUMPRODUCT(($B$3:$N$115=$R6)*($A$3:$A$115=X$1)) -> 0 | Y6: =SUMPRODUCT(($B$3:$N$115=$R6)*($A$3:$A$115=Y$1)) -> 0 | Z6: =SUMPRODUCT(($B$3:$N$115=$R6)*($A$3:$A$115=Z$1)) -> 0 | ... AE6: =SUMPRODUCT(($B$3:$N$115=$R6)*($A$3:$A$115=AE$1)) -> 0
A7: D,BETTE | R7: Animation Qualité ligne 6 | S7: =SUMPRODUCT(($B$3:$N$115=$R7)*($A$3:$A$115=S$1)) -> 0 | T7: =SUMPRODUCT(($B$3:$N$115=$R7)*($A$3:$A$115=T$1)) -> 0 | U7: =SUMPRODUCT(($B$3:$N$115=$R7)*($A$3:$A$115=U$1)) -> 0 | V7: =SUMPRODUCT(($B$3:$N$115=$R7)*($A$3:$A$115=V$1)) -> 0 | W7: =SUMPRODUCT(($B$3:$N$115=$R7)*($A$3:$A$115=W$1)) -> 0 | X7: =SUMPRODUCT(($B$3:$N$115=$R7)*($A$3:$A$115=X$1)) -> 0 | Y7: =SUMPRODUCT(($B$3:$N$115=$R7)*($A$3:$A$115=Y$1)) -> 0 | Z7: =SUMPRODUCT(($B$3:$N$115=$R7)*($A$3:$A$115=Z$1)) -> 0 | ... AE7: =SUMPRODUCT(($B$3:$N$115=$R7)*($A$3:$A$115=AE$1)) -> 0
A8: L,CAILLE | R8: Maladie 7 | S8: =SUMPRODUCT(($B$3:$N$115=$R8)*($A$3:$A$115=S$1)) -> 0 | T8: =SUMPRODUCT(($B$3:$N$115=$R8)*($A$3:$A$115=T$1)) -> 0 | U8: =SUMPRODUCT(($B$3:$N$115=$R8)*($A$3:$A$115=U$1)) -> 0 | V8: =SUMPRODUCT(($B$3:$N$115=$R8)*($A$3:$A$115=V$1)) -> 0 | W8: =SUMPRODUCT(($B$3:$N$115=$R8)*($A$3:$A$115=W$1)) -> 0 | X8: =SUMPRODUCT(($B$3:$N$115=$R8)*($A$3:$A$115=X$1)) -> 0 | Y8: =SUMPRODUCT(($B$3:$N$115=$R8)*($A$3:$A$115=Y$1)) -> 0 | Z8: =SUMPRODUCT(($B$3:$N$115=$R8)*($A$3:$A$115=Z$1)) -> 0 | ... AE8: =SUMPRODUCT(($B$3:$N$115=$R8)*($A$3:$A$115=AE$1)) -> 0
A9: N,COLLOT | R9: Inter site 8 | S9: =SUMPRODUCT(($B$3:$N$115=$R9)*($A$3:$A$115=S$1)) -> 0 | T9: =SUMPRODUCT(($B$3:$N$115=$R9)*($A$3:$A$115=T$1)) -> 0 | U9: =SUMPRODUCT(($B$3:$N$115=$R9)*($A$3:$A$115=U$1)) -> 0 | V9: =SUMPRODUCT(($B$3:$N$115=$R9)*($A$3:$A$115=V$1)) -> 0 | W9: =SUMPRODUCT(($B$3:$N$115=$R9)*($A$3:$A$115=W$1)) -> 0 | X9: =SUMPRODUCT(($B$3:$N$115=$R9)*($A$3:$A$115=X$1)) -> 0 | Y9: =SUMPRODUCT(($B$3:$N$115=$R9)*($A$3:$A$115=Y$1)) -> 0 | Z9: =SUMPRODUCT(($B$3:$N$115=$R9)*($A$3:$A$115=Z$1)) -> 0 | ... AE9: =SUMPRODUCT(($B$3:$N$115=$R9)*($A$3:$A$115=AE$1)) -> 0
A10: G,REDON | R10: Concept° Indicateur Présence sur FLC obligatoire (ou backup exceptionnellement) 9 | S10: =SUMPRODUCT(($B$3:$N$115=$R10)*($A$3:$A$115=S$1)) -> 0 | T10: =SUMPRODUCT(($B$3:$N$115=$R10)*($A$3:$A$115=T$1)) -> 0 | U10: =SUMPRODUCT(($B$3:$N$115=$R10)*($A$3:$A$115=U$1)) -> 0 | V10: =SUMPRODUCT(($B$3:$N$115=$R10)*($A$3:$A$115=V$1)) -> 0 | W10: =SUMPRODUCT(($B$3:$N$115=$R10)*($A$3:$A$115=W$1)) -> 0 | X10: =SUMPRODUCT(($B$3:$N$115=$R10)*($A$3:$A$115=X$1)) -> 0 | Y10: =SUMPRODUCT(($B$3:$N$115=$R10)*($A$3:$A$115=Y$1)) -> 0 | Z10: =SUMPRODUCT(($B$3:$N$115=$R10)*($A$3:$A$115=Z$1)) -> 0 | ... AE10: =SUMPRODUCT(($B$3:$N$115=$R10)*($A$3:$A$115=AE$1)) -> 0
A11: J,JAILLET | R11: CHSCT 10 | S11: =SUMPRODUCT(($B$3:$N$115=$R11)*($A$3:$A$115=S$1)) -> 0 | T11: =SUMPRODUCT(($B$3:$N$115=$R11)*($A$3:$A$115=T$1)) -> 0 | U11: =SUMPRODUCT(($B$3:$N$115=$R11)*($A$3:$A$115=U$1)) -> 0 | V11: =SUMPRODUCT(($B$3:$N$115=$R11)*($A$3:$A$115=V$1)) -> 0 | W11: =SUMPRODUCT(($B$3:$N$115=$R11)*($A$3:$A$115=W$1)) -> 0 | X11: =SUMPRODUCT(($B$3:$N$115=$R11)*($A$3:$A$115=X$1)) -> 0 | Y11: =SUMPRODUCT(($B$3:$N$115=$R11)*($A$3:$A$115=Y$1)) -> 0 | Z11: =SUMPRODUCT(($B$3:$N$115=$R11)*($A$3:$A$115=Z$1)) -> 0 | ... AE11: =SUMPRODUCT(($B$3:$N$115=$R11)*($A$3:$A$115=AE$1)) -> 0
A12: S,JONDOT | R12: Hot Liner 11 | S12: =SUMPRODUCT(($B$3:$N$115=$R12)*($A$3:$A$115=S$1)) -> 0 | T12: =SUMPRODUCT(($B$3:$N$115=$R12)*($A$3:$A$115=T$1)) -> 0 | U12: =SUMPRODUCT(($B$3:$N$115=$R12)*($A$3:$A$115=U$1)) -> 0 | V12: =SUMPRODUCT(($B$3:$N$115=$R12)*($A$3:$A$115=V$1)) -> 0 | W12: =SUMPRODUCT(($B$3:$N$115=$R12)*($A$3:$A$115=W$1)) -> 0 | X12: =SUMPRODUCT(($B$3:$N$115=$R12)*($A$3:$A$115=X$1)) -> 0 | Y12: =SUMPRODUCT(($B$3:$N$115=$R12)*($A$3:$A$115=Y$1)) -> 0 | Z12: =SUMPRODUCT(($B$3:$N$115=$R12)*($A$3:$A$115=Z$1)) -> 0 | ... AE12: =SUMPRODUCT(($B$3:$N$115=$R12)*($A$3:$A$115=AE$1)) -> 0
A13: N,FAIVRE | R13: ACCIDENT 12 | S13: =SUMPRODUCT(($B$3:$N$115=$R13)*($A$3:$A$115=S$1)) -> 0 | T13: =SUMPRODUCT(($B$3:$N$115=$R13)*($A$3:$A$115=T$1)) -> 0 | U13: =SUMPRODUCT(($B$3:$N$115=$R13)*($A$3:$A$115=U$1)) -> 0 | V13: =SUMPRODUCT(($B$3:$N$115=$R13)*($A$3:$A$115=V$1)) -> 0 | W13: =SUMPRODUCT(($B$3:$N$115=$R13)*($A$3:$A$115=W$1)) -> 0 | X13: =SUMPRODUCT(($B$3:$N$115=$R13)*($A$3:$A$115=X$1)) -> 0 | Y13: =SUMPRODUCT(($B$3:$N$115=$R13)*($A$3:$A$115=Y$1)) -> 0 | Z13: =SUMPRODUCT(($B$3:$N$115=$R13)*($A$3:$A$115=Z$1)) -> 0 | ... AE13: =SUMPRODUCT(($B$3:$N$115=$R13)*($A$3:$A$115=AE$1)) -> 0
A14: STAGIERE | R14: SECURISATION 13 | S14: =SUMPRODUCT(($B$3:$N$115=$R14)*($A$3:$A$115=S$1)) -> 0 | T14: =SUMPRODUCT(($B$3:$N$115=$R14)*($A$3:$A$115=T$1)) -> 0 | U14: =SUMPRODUCT(($B$3:$N$115=$R14)*($A$3:$A$115=U$1)) -> 0 | V14: =SUMPRODUCT(($B$3:$N$115=$R14)*($A$3:$A$115=V$1)) -> 0 | W14: =SUMPRODUCT(($B$3:$N$115=$R14)*($A$3:$A$115=W$1)) -> 0 | X14: =SUMPRODUCT(($B$3:$N$115=$R14)*($A$3:$A$115=X$1)) -> 0 | Y14: =SUMPRODUCT(($B$3:$N$115=$R14)*($A$3:$A$115=Y$1)) -> 0 | Z14: =SUMPRODUCT(($B$3:$N$115=$R14)*($A$3:$A$115=Z$1)) -> 0 | ... AE14: =SUMPRODUCT(($B$3:$N$115=$R14)*($A$3:$A$115=AE$1)) -> 0
... A16: AUTRE 2 | R16: EXPEDITION PIECES 15 | S16: =SUMPRODUCT(($B$3:$N$115=$R16)*($A$3:$A$115=S$1)) -> 0 | T16: =SUMPRODUCT(($B$3:$N$115=$R16)*($A$3:$A$115=T$1)) -> 0 | U16: =SUMPRODUCT(($B$3:$N$115=$R16)*($A$3:$A$115=U$1)) -> 0 | V16: =SUMPRODUCT(($B$3:$N$115=$R16)*($A$3:$A$115=V$1)) -> 0 | W16: =SUMPRODUCT(($B$3:$N$115=$R16)*($A$3:$A$115=W$1)) -> 0 | X16: =SUMPRODUCT(($B$3:$N$115=$R16)*($A$3:$A$115=X$1)) -> 0 | Y16: =SUMPRODUCT(($B$3:$N$115=$R16)*($A$3:$A$115=Y$1)) -> 0 | Z16: =SUMPRODUCT(($B$3:$N$115=$R16)*($A$3:$A$115=Z$1)) -> 0 | ... AE16: =SUMPRODUCT(($B$3:$N$115=$R16)*($A$3:$A$115=AE$1)) -> 0
A17: SEMAINE 2 | B17: 42370 | R17: AUDIT 16 | S17: =SUMPRODUCT(($B$3:$N$115=$R17)*($A$3:$A$115=S$1)) -> 0 | T17: =SUMPRODUCT(($B$3:$N$115=$R17)*($A$3:$A$115=T$1)) -> 0 | U17: =SUMPRODUCT(($B$3:$N$115=$R17)*($A$3:$A$115=U$1)) -> 0 | V17: =SUMPRODUCT(($B$3:$N$115=$R17)*($A$3:$A$115=V$1)) -> 0 | W17: =SUMPRODUCT(($B$3:$N$115=$R17)*($A$3:$A$115=W$1)) -> 0 | X17: =SUMPRODUCT(($B$3:$N$115=$R17)*($A$3:$A$115=X$1)) -> 0 | Y17: =SUMPRODUCT(($B$3:$N$115=$R17)*($A$3:$A$115=Y$1)) -> 0 | Z17: =SUMPRODUCT(($B$3:$N$115=$R17)*($A$3:$A$115=Z$1)) -> 0 | ... AE17: =SUMPRODUCT(($B$3:$N$115=$R17)*($A$3:$A$115=AE$1)) -> 0
B18: lundi matin | C18: lundi apm | D18: mardi matin | E18: mardi apm | F18: mercredi matin | G18: mercredi apm | H18: jeudi matin | I18: jeudi apm | J18: vendredi matin | K18: vendredi apm | L18: samedi | M18: COMMENTAIRE | R18: SUIVI DES ZONES 17 | S18: =SUMPRODUCT(($B$3:$N$115=$R18)*($A$3:$A$115=S$1)) -> 0 | T18: =SUMPRODUCT(($B$3:$N$115=$R18)*($A$3:$A$115=T$1)) -> 0 | U18: =SUMPRODUCT(($B$3:$N$115=$R18)*($A$3:$A$115=U$1)) -> 0 | V18: =SUMPRODUCT(($B$3:$N$115=$R18)*($A$3:$A$115=V$1)) -> 0 | W18: =SUMPRODUCT(($B$3:$N$115=$R18)*($A$3:$A$115=W$1)) -> 0 | X18: =SUMPRODUCT(($B$3:$N$115=$R18)*($A$3:$A$115=X$1)) -> 0 | Y18: =SUMPRODUCT(($B$3:$N$115=$R18)*($A$3:$A$115=Y$1)) -> 0 | Z18: =SUMPRODUCT(($B$3:$N$115=$R18)*($A$3:$A$115=Z$1)) -> 0 | ... AE18: =SUMPRODUCT(($B$3:$N$115=$R18)*($A$3:$A$115=AE$1)) -> 0
A19: E,GENTILE | R19: 8D/PDCA 18 | S19: =SUMPRODUCT(($B$3:$N$115=$R19)*($A$3:$A$115=S$1)) -> 0 | T19: =SUMPRODUCT(($B$3:$N$115=$R19)*($A$3:$A$115=T$1)) -> 0 | U19: =SUMPRODUCT(($B$3:$N$115=$R19)*($A$3:$A$115=U$1)) -> 0 | V19: =SUMPRODUCT(($B$3:$N$115=$R19)*($A$3:$A$115=V$1)) -> 0 | W19: =SUMPRODUCT(($B$3:$N$115=$R19)*($A$3:$A$115=W$1)) -> 0 | X19: =SUMPRODUCT(($B$3:$N$115=$R19)*($A$3:$A$115=X$1)) -> 0 | Y19: =SUMPRODUCT(($B$3:$N$115=$R19)*($A$3:$A$115=Y$1)) -> 0 | Z19: =SUMPRODUCT(($B$3:$N$115=$R19)*($A$3:$A$115=Z$1)) -> 0 | ... AE19: =SUMPRODUCT(($B$3:$N$115=$R19)*($A$3:$A$115=AE$1)) -> 0
A20: D,DASILVA | R20: HOTLINE SAV 19 | S20: =SUMPRODUCT(($B$3:$N$115=$R20)*($A$3:$A$115=S$1)) -> 0 | T20: =SUMPRODUCT(($B$3:$N$115=$R20)*($A$3:$A$115=T$1)) -> 0 | U20: =SUMPRODUCT(($B$3:$N$115=$R20)*($A$3:$A$115=U$1)) -> 0 | V20: =SUMPRODUCT(($B$3:$N$115=$R20)*($A$3:$A$115=V$1)) -> 0 | W20: =SUMPRODUCT(($B$3:$N$115=$R20)*($A$3:$A$115=W$1)) -> 0 | X20: =SUMPRODUCT(($B$3:$N$115=$R20)*($A$3:$A$115=X$1)) -> 0 | Y20: =SUMPRODUCT(($B$3:$N$115=$R20)*($A$3:$A$115=Y$1)) -> 0 | Z20: =SUMPRODUCT(($B$3:$N$115=$R20)*($A$3:$A$115=Z$1)) -> 0 | ... AE20: =SUMPRODUCT(($B$3:$N$115=$R20)*($A$3:$A$115=AE$1)) -> 0
A21: E,ETIENNE | R21: SUIVI RENFORCE 20 | S21: =SUMPRODUCT(($B$3:$N$115=$R21)*($A$3:$A$115=S$1)) -> 0 | T21: =SUMPRODUCT(($B$3:$N$115=$R21)*($A$3:$A$115=T$1)) -> 0 | U21: =SUMPRODUCT(($B$3:$N$115=$R21)*($A$3:$A$115=U$1)) -> 0 | V21: =SUMPRODUCT(($B$3:$N$115=$R21)*($A$3:$A$115=V$1)) -> 0 | W21: =SUMPRODUCT(($B$3:$N$115=$R21)*($A$3:$A$115=W$1)) -> 0 | X21: =SUMPRODUCT(($B$3:$N$115=$R21)*($A$3:$A$115=X$1)) -> 0 | Y21: =SUMPRODUCT(($B$3:$N$115=$R21)*($A$3:$A$115=Y$1)) -> 0 | Z21: =SUMPRODUCT(($B$3:$N$115=$R21)*($A$3:$A$115=Z$1)) -> 0 | ... AE21: =SUMPRODUCT(($B$3:$N$115=$R21)*($A$3:$A$115=AE$1)) -> 0
A22: C,ROUSSON | R22: TRAITEMENT RNC 21 | S22: =SUMPRODUCT(($B$3:$N$115=$R22)*($A$3:$A$115=S$1)) -> 0 | T22: =SUMPRODUCT(($B$3:$N$115=$R22)*($A$3:$A$115=T$1)) -> 0 | U22: =SUMPRODUCT(($B$3:$N$115=$R22)*($A$3:$A$115=U$1)) -> 0 | V22: =SUMPRODUCT(($B$3:$N$115=$R22)*($A$3:$A$115=V$1)) -> 0 | W22: =SUMPRODUCT(($B$3:$N$115=$R22)*($A$3:$A$115=W$1)) -> 0 | X22: =SUMPRODUCT(($B$3:$N$115=$R22)*($A$3:$A$115=X$1)) -> 0 | Y22: =SUMPRODUCT(($B$3:$N$115=$R22)*($A$3:$A$115=Y$1)) -> 0 | Z22: =SUMPRODUCT(($B$3:$N$115=$R22)*($A$3:$A$115=Z$1)) -> 0 | ... AE22: =SUMPRODUCT(($B$3:$N$115=$R22)*($A$3:$A$115=AE$1)) -> 0
A23: D,BETTE | R23: ANALYSE DE NC 22 | S23: =SUMPRODUCT(($B$3:$N$115=$R23)*($A$3:$A$115=S$1)) -> 0 | T23: =SUMPRODUCT(($B$3:$N$115=$R23)*($A$3:$A$115=T$1)) -> 0 | U23: =SUMPRODUCT(($B$3:$N$115=$R23)*($A$3:$A$115=U$1)) -> 0 | V23: =SUMPRODUCT(($B$3:$N$115=$R23)*($A$3:$A$115=V$1)) -> 0 | W23: =SUMPRODUCT(($B$3:$N$115=$R23)*($A$3:$A$115=W$1)) -> 0 | X23: =SUMPRODUCT(($B$3:$N$115=$R23)*($A$3:$A$115=X$1)) -> 0 | Y23: =SUMPRODUCT(($B$3:$N$115=$R23)*($A$3:$A$115=Y$1)) -> 0 | Z23: =SUMPRODUCT(($B$3:$N$115=$R23)*($A$3:$A$115=Z$1)) -> 0 | ... AE23: =SUMPRODUCT(($B$3:$N$115=$R23)*($A$3:$A$115=AE$1)) -> 0
A24: L,CAILLE | R24: DOSSIER MACHINE 23 | S24: =SUMPRODUCT(($B$3:$N$115=$R24)*($A$3:$A$115=S$1)) -> 0 | T24: =SUMPRODUCT(($B$3:$N$115=$R24)*($A$3:$A$115=T$1)) -> 0 | U24: =SUMPRODUCT(($B$3:$N$115=$R24)*($A$3:$A$115=U$1)) -> 0 | V24: =SUMPRODUCT(($B$3:$N$115=$R24)*($A$3:$A$115=V$1)) -> 0 | W24: =SUMPRODUCT(($B$3:$N$115=$R24)*($A$3:$A$115=W$1)) -> 0 | X24: =SUMPRODUCT(($B$3:$N$115=$R24)*($A$3:$A$115=X$1)) -> 0 | Y24: =SUMPRODUCT(($B$3:$N$115=$R24)*($A$3:$A$115=Y$1)) -> 0 | Z24: =SUMPRODUCT(($B$3:$N$115=$R24)*($A$3:$A$115=Z$1)) -> 0 | ... AE24: =SUMPRODUCT(($B$3:$N$115=$R24)*($A$3:$A$115=AE$1)) -> 0
A25: N,COLLOT | R25: ECME 24 | S25: =SUMPRODUCT(($B$3:$N$115=$R25)*($A$3:$A$115=S$1)) -> 0 | T25: =SUMPRODUCT(($B$3:$N$115=$R25)*($A$3:$A$115=T$1)) -> 0 | U25: =SUMPRODUCT(($B$3:$N$115=$R25)*($A$3:$A$115=U$1)) -> 0 | V25: =SUMPRODUCT(($B$3:$N$115=$R25)*($A$3:$A$115=V$1)) -> 0 | W25: =SUMPRODUCT(($B$3:$N$115=$R25)*($A$3:$A$115=W$1)) -> 0 | X25: =SUMPRODUCT(($B$3:$N$115=$R25)*($A$3:$A$115=X$1)) -> 0 | Y25: =SUMPRODUCT(($B$3:$N$115=$R25)*($A$3:$A$115=Y$1)) -> 0 | Z25: =SUMPRODUCT(($B$3:$N$115=$R25)*($A$3:$A$115=Z$1)) -> 0 | ... AE25: =SUMPRODUCT(($B$3:$N$115=$R25)*($A$3:$A$115=AE$1)) -> 0
A26: G,REDON | R26: GESTION EI 25 | S26: =SUMPRODUCT(($B$3:$N$115=$R26)*($A$3:$A$115=S$1)) -> 0 | T26: =SUMPRODUCT(($B$3:$N$115=$R26)*($A$3:$A$115=T$1)) -> 0 | U26: =SUMPRODUCT(($B$3:$N$115=$R26)*($A$3:$A$115=U$1)) -> 0 | V26: =SUMPRODUCT(($B$3:$N$115=$R26)*($A$3:$A$115=V$1)) -> 0 | W26: =SUMPRODUCT(($B$3:$N$115=$R26)*($A$3:$A$115=W$1)) -> 0 | X26: =SUMPRODUCT(($B$3:$N$115=$R26)*($A$3:$A$115=X$1)) -> 0 | Y26: =SUMPRODUCT(($B$3:$N$115=$R26)*($A$3:$A$115=Y$1)) -> 0 | Z26: =SUMPRODUCT(($B$3:$N$115=$R26)*($A$3:$A$115=Z$1)) -> 0 | ... AE26: =SUMPRODUCT(($B$3:$N$115=$R26)*($A$3:$A$115=AE$1)) -> 0
A27: J,JAILLET | R27: REDACTION FLASH / DDM 26 | S27: =SUMPRODUCT(($B$3:$N$115=$R27)*($A$3:$A$115=S$1)) -> 0 | T27: =SUMPRODUCT(($B$3:$N$115=$R27)*($A$3:$A$115=T$1)) -> 0 | U27: =SUMPRODUCT(($B$3:$N$115=$R27)*($A$3:$A$115=U$1)) -> 0 | V27: =SUMPRODUCT(($B$3:$N$115=$R27)*($A$3:$A$115=V$1)) -> 0 | W27: =SUMPRODUCT(($B$3:$N$115=$R27)*($A$3:$A$115=W$1)) -> 0 | X27: =SUMPRODUCT(($B$3:$N$115=$R27)*($A$3:$A$115=X$1)) -> 0 | Y27: =SUMPRODUCT(($B$3:$N$115=$R27)*($A$3:$A$115=Y$1)) -> 0 | Z27: =SUMPRODUCT(($B$3:$N$115=$R27)*($A$3:$A$115=Z$1)) -> 0 | ... AE27: =SUMPRODUCT(($B$3:$N$115=$R27)*($A$3:$A$115=AE$1)) -> 0
A28: S,JONDOT | R28: CONDITIONNEMENT 27 | S28: =SUMPRODUCT(($B$3:$N$115=$R28)*($A$3:$A$115=S$1)) -> 0 | T28: =SUMPRODUCT(($B$3:$N$115=$R28)*($A$3:$A$115=T$1)) -> 0 | U28: =SUMPRODUCT(($B$3:$N$115=$R28)*($A$3:$A$115=U$1)) -> 0 | V28: =SUMPRODUCT(($B$3:$N$115=$R28)*($A$3:$A$115=V$1)) -> 0 | W28: =SUMPRODUCT(($B$3:$N$115=$R28)*($A$3:$A$115=W$1)) -> 0 | X28: =SUMPRODUCT(($B$3:$N$115=$R28)*($A$3:$A$115=X$1)) -> 0 | Y28: =SUMPRODUCT(($B$3:$N$115=$R28)*($A$3:$A$115=Y$1)) -> 0 | Z28: =SUMPRODUCT(($B$3:$N$115=$R28)*($A$3:$A$115=Z$1)) -> 0 | ... AE28: =SUMPRODUCT(($B$3:$N$115=$R28)*($A$3:$A$115=AE$1)) -> 0
A29: N,FAIVRE | R29: VALIDATION METHODE / INDUS 28 | S29: =SUMPRODUCT(($B$3:$N$115=$R29)*($A$3:$A$115=S$1)) -> 0 | T29: =SUMPRODUCT(($B$3:$N$115=$R29)*($A$3:$A$115=T$1)) -> 0 | U29: =SUMPRODUCT(($B$3:$N$115=$R29)*($A$3:$A$115=U$1)) -> 0 | V29: =SUMPRODUCT(($B$3:$N$115=$R29)*($A$3:$A$115=V$1)) -> 0 | W29: =SUMPRODUCT(($B$3:$N$115=$R29)*($A$3:$A$115=W$1)) -> 0 | X29: =SUMPRODUCT(($B$3:$N$115=$R29)*($A$3:$A$115=X$1)) -> 0 | Y29: =SUMPRODUCT(($B$3:$N$115=$R29)*($A$3:$A$115=Y$1)) -> 0 | Z29: =SUMPRODUCT(($B$3:$N$115=$R29)*($A$3:$A$115=Z$1)) -> 0 | ... AE29: =SUMPRODUCT(($B$3:$N$115=$R29)*($A$3:$A$115=AE$1)) -> 0
A30: STAGIERE | R30: TOTAL | S30: =SUM(S2:S29) -> 0 | T30: =SUM(T2:T29) -> 0 | U30: =SUM(U2:U29) -> 0 | V30: =SUM(V2:V29) -> 0 | W30: =SUM(W2:W29) -> 0 | X30: =SUM(X2:X29) -> 0 | Y30: =SUM(Y2:Y29) -> 0 | Z30: =SUM(Z2:Z29) -> 0 | ... AE30: =SUM(AE2:AE29) -> 0
A31: AUTRE 1 | S31: E,GENTILE | T31: D,DASILVA | U31: C,ROUSSON | V31: D,BETE | W31: L,CAILLE | X31: N,COLLOT | Y31: G,REDON | Z31: J,JAILLET | AA31: S,JONDOT | AB31: N,FAIVRE | AC31: STAGIERE | AD31: AUTRE 1 | AE31: AUTRE 2
A32: AUTRE 2
A33: SEMAINE 3 | B33: 42370
B34: lundi matin | C34: lundi apm | D34: mardi matin | E34: mardi apm | F34: mercredi matin | G34: mercredi apm | H34: jeudi matin | I34: jeudi apm | J34: vendredi matin | K34: vendredi apm | L34: samedi | M34: COMMENTAIRE
A35: E,GENTILE
A36: D,DASILVA
A37: E,ETIENNE
A38: C,ROUSSON
A39: D,BETTE
A40: L,CAILLE
A41: N,COLLOT
...

Sheet mars
A1: SEMAINE 1 | B1: 42370 | S1: E,GENTILE | T1: D,DASILVA | U1: C,ROUSSON | V1: D,BETTE | W1: L,CAILLE | X1: N,COLLOT | Y1: G,REDON | Z1: J,JAILLET | AA1: S,JONDOT | AB1: N,FAIVRE | AC1: STAGIERE | AD1: AUTRE 1 | AE1: AUTRE 2
B2: lundi matin | C2: lundi apm | D2: mardi matin | E2: mardi apm | F2: mercredi matin | G2: mercredi apm | H2: jeudi matin | I2: jeudi apm | J2: vendredi matin | K2: vendredi apm | L2: samedi | M2: COMMENTAIRE | R2: Fournisseur 1 | S2: =SUMPRODUCT(($B$3:$N$115=$R2)*($A$3:$A$115=S$1)) -> 0 | T2: =SUMPRODUCT(($B$3:$N$115=$R2)*($A$3:$A$115=T$1)) -> 0 | U2: =SUMPRODUCT(($B$3:$N$115=$R2)*($A$3:$A$115=U$1)) -> 0 | V2: =SUMPRODUCT(($B$3:$N$115=$R2)*($A$3:$A$115=V$1)) -> 0 | W2: =SUMPRODUCT(($B$3:$N$115=$R2)*($A$3:$A$115=W$1)) -> 0 | X2: =SUMPRODUCT(($B$3:$N$115=$R2)*($A$3:$A$115=X$1)) -> 0 | Y2: =SUMPRODUCT(($B$3:$N$115=$R2)*($A$3:$A$115=Y$1)) -> 0 | Z2: =SUMPRODUCT(($B$3:$N$115=$R2)*($A$3:$A$115=Z$1)) -> 0 | ... AC2: =SUMPRODUCT(($B$3:$N$115=$R2)*($A$3:$A$115=AC$1)) -> 0 | AD2: mars | AE2: =SUMPRODUCT(($B$3:$N$115=$R2)*($A$3:$A$115=AE$1)) -> 0
A3: E,GENTILE | R3: Filiale Client 2 | S3: =SUMPRODUCT(($B$3:$N$115=$R3)*($A$3:$A$115=S$1)) -> 0 | T3: =SUMPRODUCT(($B$3:$N$115=$R3)*($A$3:$A$115=T$1)) -> 0 | U3: =SUMPRODUCT(($B$3:$N$115=$R3)*($A$3:$A$115=U$1)) -> 0 | V3: =SUMPRODUCT(($B$3:$N$115=$R3)*($A$3:$A$115=V$1)) -> 0 | W3: =SUMPRODUCT(($B$3:$N$115=$R3)*($A$3:$A$115=W$1)) -> 0 | X3: =SUMPRODUCT(($B$3:$N$115=$R3)*($A$3:$A$115=X$1)) -> 0 | Y3: =SUMPRODUCT(($B$3:$N$115=$R3)*($A$3:$A$115=Y$1)) -> 0 | Z3: =SUMPRODUCT(($B$3:$N$115=$R3)*($A$3:$A$115=Z$1)) -> 0 | ... AE3: =SUMPRODUCT(($B$3:$N$115=$R3)*($A$3:$A$115=AE$1)) -> 0
A4: D,DASILVA | R4: RTT 3 | S4: =SUMPRODUCT(($B$3:$N$115=$R4)*($A$3:$A$115=S$1)) -> 0 | T4: =SUMPRODUCT(($B$3:$N$115=$R4)*($A$3:$A$115=T$1)) -> 0 | U4: =SUMPRODUCT(($B$3:$N$115=$R4)*($A$3:$A$115=U$1)) -> 0 | V4: =SUMPRODUCT(($B$3:$N$115=$R4)*($A$3:$A$115=V$1)) -> 0 | W4: =SUMPRODUCT(($B$3:$N$115=$R4)*($A$3:$A$115=W$1)) -> 0 | X4: =SUMPRODUCT(($B$3:$N$115=$R4)*($A$3:$A$115=X$1)) -> 0 | Y4: =SUMPRODUCT(($B$3:$N$115=$R4)*($A$3:$A$115=Y$1)) -> 0 | Z4: =SUMPRODUCT(($B$3:$N$115=$R4)*($A$3:$A$115=Z$1)) -> 0 | ... AE4: =SUMPRODUCT(($B$3:$N$115=$R4)*($A$3:$A$115=AE$1)) -> 0
A5: E,ETIENNE | R5: CP 4 | S5: =SUMPRODUCT(($B$3:$N$115=$R5)*($A$3:$A$115=S$1)) -> 0 | T5: =SUMPRODUCT(($B$3:$N$115=$R5)*($A$3:$A$115=T$1)) -> 0 | U5: =SUMPRODUCT(($B$3:$N$115=$R5)*($A$3:$A$115=U$1)) -> 0 | V5: =SUMPRODUCT(($B$3:$N$115=$R5)*($A$3:$A$115=V$1)) -> 0 | W5: =SUMPRODUCT(($B$3:$N$115=$R5)*($A$3:$A$115=W$1)) -> 0 | X5: =SUMPRODUCT(($B$3:$N$115=$R5)*($A$3:$A$115=X$1)) -> 0 | Y5: =SUMPRODUCT(($B$3:$N$115=$R5)*($A$3:$A$115=Y$1)) -> 0 | Z5: =SUMPRODUCT(($B$3:$N$115=$R5)*($A$3:$A$115=Z$1)) -> 0 | ... AE5: =SUMPRODUCT(($B$3:$N$115=$R5)*($A$3:$A$115=AE$1)) -> 0
A6: C,ROUSSON | R6: Formation 5 | S6: =SUMPRODUCT(($B$3:$N$115=$R6)*($A$3:$A$115=S$1)) -> 0 | T6: =SUMPRODUCT(($B$3:$N$115=$R6)*($A$3:$A$115=T$1)) -> 0 | U6: =SUMPRODUCT(($B$3:$N$115=$R6)*($A$3:$A$115=U$1)) -> 0 | V6: =SUMPRODUCT(($B$3:$N$115=$R6)*($A$3:$A$115=V$1)) -> 0 | W6: =SUMPRODUCT(($B$3:$N$115=$R6)*($A$3:$A$115=W$1)) -> 0 | X6: =SUMPRODUCT(($B$3:$N$115=$R6)*($A$3:$A$115=X$1)) -> 0 | Y6: =SUMPRODUCT(($B$3:$N$115=$R6)*($A$3:$A$115=Y$1)) -> 0 | Z6: =SUMPRODUCT(($B$3:$N$115=$R6)*($A$3:$A$115=Z$1)) -> 0 | ... AE6: =SUMPRODUCT(($B$3:$N$115=$R6)*($A$3:$A$115=AE$1)) -> 0
A7: D,BETTE | R7: Animation Qualité ligne 6 | S7: =SUMPRODUCT(($B$3:$N$115=$R7)*($A$3:$A$115=S$1)) -> 0 | T7: =SUMPRODUCT(($B$3:$N$115=$R7)*($A$3:$A$115=T$1)) -> 0 | U7: =SUMPRODUCT(($B$3:$N$115=$R7)*($A$3:$A$115=U$1)) -> 0 | V7: =SUMPRODUCT(($B$3:$N$115=$R7)*($A$3:$A$115=V$1)) -> 0 | W7: =SUMPRODUCT(($B$3:$N$115=$R7)*($A$3:$A$115=W$1)) -> 0 | X7: =SUMPRODUCT(($B$3:$N$115=$R7)*($A$3:$A$115=X$1)) -> 0 | Y7: =SUMPRODUCT(($B$3:$N$115=$R7)*($A$3:$A$115=Y$1)) -> 0 | Z7: =SUMPRODUCT(($B$3:$N$115=$R7)*($A$3:$A$115=Z$1)) -> 0 | ... AE7: =SUMPRODUCT(($B$3:$N$115=$R7)*($A$3:$A$115=AE$1)) -> 0
A8: L,CAILLE | R8: Maladie 7 | S8: =SUMPRODUCT(($B$3:$N$115=$R8)*($A$3:$A$115=S$1)) -> 0 | T8: =SUMPRODUCT(($B$3:$N$115=$R8)*($A$3:$A$115=T$1)) -> 0 | U8: =SUMPRODUCT(($B$3:$N$115=$R8)*($A$3:$A$115=U$1)) -> 0 | V8: =SUMPRODUCT(($B$3:$N$115=$R8)*($A$3:$A$115=V$1)) -> 0 | W8: =SUMPRODUCT(($B$3:$N$115=$R8)*($A$3:$A$115=W$1)) -> 0 | X8: =SUMPRODUCT(($B$3:$N$115=$R8)*($A$3:$A$115=X$1)) -> 0 | Y8: =SUMPRODUCT(($B$3:$N$115=$R8)*($A$3:$A$115=Y$1)) -> 0 | Z8: =SUMPRODUCT(($B$3:$N$115=$R8)*($A$3:$A$115=Z$1)) -> 0 | ... AE8: =SUMPRODUCT(($B$3:$N$115=$R8)*($A$3:$A$115=AE$1)) -> 0
A9: N,COLLOT | R9: Inter site 8 | S9: =SUMPRODUCT(($B$3:$N$115=$R9)*($A$3:$A$115=S$1)) -> 0 | T9: =SUMPRODUCT(($B$3:$N$115=$R9)*($A$3:$A$115=T$1)) -> 0 | U9: =SUMPRODUCT(($B$3:$N$115=$R9)*($A$3:$A$115=U$1)) -> 0 | V9: =SUMPRODUCT(($B$3:$N$115=$R9)*($A$3:$A$115=V$1)) -> 0 | W9: =SUMPRODUCT(($B$3:$N$115=$R9)*($A$3:$A$115=W$1)) -> 0 | X9: =SUMPRODUCT(($B$3:$N$115=$R9)*($A$3:$A$115=X$1)) -> 0 | Y9: =SUMPRODUCT(($B$3:$N$115=$R9)*($A$3:$A$115=Y$1)) -> 0 | Z9: =SUMPRODUCT(($B$3:$N$115=$R9)*($A$3:$A$115=Z$1)) -> 0 | ... AE9: =SUMPRODUCT(($B$3:$N$115=$R9)*($A$3:$A$115=AE$1)) -> 0
A10: G,REDON | R10: Concept° Indicateur Présence sur FLC obligatoire (ou backup exceptionnellement) 9 | S10: =SUMPRODUCT(($B$3:$N$115=$R10)*($A$3:$A$115=S$1)) -> 0 | T10: =SUMPRODUCT(($B$3:$N$115=$R10)*($A$3:$A$115=T$1)) -> 0 | U10: =SUMPRODUCT(($B$3:$N$115=$R10)*($A$3:$A$115=U$1)) -> 0 | V10: =SUMPRODUCT(($B$3:$N$115=$R10)*($A$3:$A$115=V$1)) -> 0 | W10: =SUMPRODUCT(($B$3:$N$115=$R10)*($A$3:$A$115=W$1)) -> 0 | X10: =SUMPRODUCT(($B$3:$N$115=$R10)*($A$3:$A$115=X$1)) -> 0 | Y10: =SUMPRODUCT(($B$3:$N$115=$R10)*($A$3:$A$115=Y$1)) -> 0 | Z10: =SUMPRODUCT(($B$3:$N$115=$R10)*($A$3:$A$115=Z$1)) -> 0 | ... AE10: =SUMPRODUCT(($B$3:$N$115=$R10)*($A$3:$A$115=AE$1)) -> 0
A11: J,JAILLET | R11: CHSCT 10 | S11: =SUMPRODUCT(($B$3:$N$115=$R11)*($A$3:$A$115=S$1)) -> 0 | T11: =SUMPRODUCT(($B$3:$N$115=$R11)*($A$3:$A$115=T$1)) -> 0 | U11: =SUMPRODUCT(($B$3:$N$115=$R11)*($A$3:$A$115=U$1)) -> 0 | V11: =SUMPRODUCT(($B$3:$N$115=$R11)*($A$3:$A$115=V$1)) -> 0 | W11: =SUMPRODUCT(($B$3:$N$115=$R11)*($A$3:$A$115=W$1)) -> 0 | X11: =SUMPRODUCT(($B$3:$N$115=$R11)*($A$3:$A$115=X$1)) -> 0 | Y11: =SUMPRODUCT(($B$3:$N$115=$R11)*($A$3:$A$115=Y$1)) -> 0 | Z11: =SUMPRODUCT(($B$3:$N$115=$R11)*($A$3:$A$115=Z$1)) -> 0 | ... AE11: =SUMPRODUCT(($B$3:$N$115=$R11)*($A$3:$A$115=AE$1)) -> 0
A12: S,JONDOT | R12: Hot Liner 11 | S12: =SUMPRODUCT(($B$3:$N$115=$R12)*($A$3:$A$115=S$1)) -> 0 | T12: =SUMPRODUCT(($B$3:$N$115=$R12)*($A$3:$A$115=T$1)) -> 0 | U12: =SUMPRODUCT(($B$3:$N$115=$R12)*($A$3:$A$115=U$1)) -> 0 | V12: =SUMPRODUCT(($B$3:$N$115=$R12)*($A$3:$A$115=V$1)) -> 0 | W12: =SUMPRODUCT(($B$3:$N$115=$R12)*($A$3:$A$115=W$1)) -> 0 | X12: =SUMPRODUCT(($B$3:$N$115=$R12)*($A$3:$A$115=X$1)) -> 0 | Y12: =SUMPRODUCT(($B$3:$N$115=$R12)*($A$3:$A$115=Y$1)) -> 0 | Z12: =SUMPRODUCT(($B$3:$N$115=$R12)*($A$3:$A$115=Z$1)) -> 0 | ... AE12: =SUMPRODUCT(($B$3:$N$115=$R12)*($A$3:$A$115=AE$1)) -> 0
A13: N,FAIVRE | R13: ACCIDENT 12 | S13: =SUMPRODUCT(($B$3:$N$115=$R13)*($A$3:$A$115=S$1)) -> 0 | T13: =SUMPRODUCT(($B$3:$N$115=$R13)*($A$3:$A$115=T$1)) -> 0 | U13: =SUMPRODUCT(($B$3:$N$115=$R13)*($A$3:$A$115=U$1)) -> 0 | V13: =SUMPRODUCT(($B$3:$N$115=$R13)*($A$3:$A$115=V$1)) -> 0 | W13: =SUMPRODUCT(($B$3:$N$115=$R13)*($A$3:$A$115=W$1)) -> 0 | X13: =SUMPRODUCT(($B$3:$N$115=$R13)*($A$3:$A$115=X$1)) -> 0 | Y13: =SUMPRODUCT(($B$3:$N$115=$R13)*($A$3:$A$115=Y$1)) -> 0 | Z13: =SUMPRODUCT(($B$3:$N$115=$R13)*($A$3:$A$115=Z$1)) -> 0 | ... AE13: =SUMPRODUCT(($B$3:$N$115=$R13)*($A$3:$A$115=AE$1)) -> 0
A14: STAGIERE | R14: SECURISATION 13 | S14: =SUMPRODUCT(($B$3:$N$115=$R14)*($A$3:$A$115=S$1)) -> 0 | T14: =SUMPRODUCT(($B$3:$N$115=$R14)*($A$3:$A$115=T$1)) -> 0 | U14: =SUMPRODUCT(($B$3:$N$115=$R14)*($A$3:$A$115=U$1)) -> 0 | V14: =SUMPRODUCT(($B$3:$N$115=$R14)*($A$3:$A$115=V$1)) -> 0 | W14: =SUMPRODUCT(($B$3:$N$115=$R14)*($A$3:$A$115=W$1)) -> 0 | X14: =SUMPRODUCT(($B$3:$N$115=$R14)*($A$3:$A$115=X$1)) -> 0 | Y14: =SUMPRODUCT(($B$3:$N$115=$R14)*($A$3:$A$115=Y$1)) -> 0 | Z14: =SUMPRODUCT(($B$3:$N$115=$R14)*($A$3:$A$115=Z$1)) -> 0 | ... AE14: =SUMPRODUCT(($B$3:$N$115=$R14)*($A$3:$A$115=AE$1)) -> 0
... A16: AUTRE 2 | R16: EXPEDITION PIECES 15 | S16: =SUMPRODUCT(($B$3:$N$115=$R16)*($A$3:$A$115=S$1)) -> 0 | T16: =SUMPRODUCT(($B$3:$N$115=$R16)*($A$3:$A$115=T$1)) -> 0 | U16: =SUMPRODUCT(($B$3:$N$115=$R16)*($A$3:$A$115=U$1)) -> 0 | V16: =SUMPRODUCT(($B$3:$N$115=$R16)*($A$3:$A$115=V$1)) -> 0 | W16: =SUMPRODUCT(($B$3:$N$115=$R16)*($A$3:$A$115=W$1)) -> 0 | X16: =SUMPRODUCT(($B$3:$N$115=$R16)*($A$3:$A$115=X$1)) -> 0 | Y16: =SUMPRODUCT(($B$3:$N$115=$R16)*($A$3:$A$115=Y$1)) -> 0 | Z16: =SUMPRODUCT(($B$3:$N$115=$R16)*($A$3:$A$115=Z$1)) -> 0 | ... AE16: =SUMPRODUCT(($B$3:$N$115=$R16)*($A$3:$A$115=AE$1)) -> 0
A17: SEMAINE 2 | B17: 42370 | R17: AUDIT 16 | S17: =SUMPRODUCT(($B$3:$N$115=$R17)*($A$3:$A$115=S$1)) -> 0 | T17: =SUMPRODUCT(($B$3:$N$115=$R17)*($A$3:$A$115=T$1)) -> 0 | U17: =SUMPRODUCT(($B$3:$N$115=$R17)*($A$3:$A$115=U$1)) -> 0 | V17: =SUMPRODUCT(($B$3:$N$115=$R17)*($A$3:$A$115=V$1)) -> 0 | W17: =SUMPRODUCT(($B$3:$N$115=$R17)*($A$3:$A$115=W$1)) -> 0 | X17: =SUMPRODUCT(($B$3:$N$115=$R17)*($A$3:$A$115=X$1)) -> 0 | Y17: =SUMPRODUCT(($B$3:$N$115=$R17)*($A$3:$A$115=Y$1)) -> 0 | Z17: =SUMPRODUCT(($B$3:$N$115=$R17)*($A$3:$A$115=Z$1)) -> 0 | ... AE17: =SUMPRODUCT(($B$3:$N$115=$R17)*($A$3:$A$115=AE$1)) -> 0
B18: lundi matin | C18: lundi apm | D18: mardi matin | E18: mardi apm | F18: mercredi matin | G18: mercredi apm | H18: jeudi matin | I18: jeudi apm | J18: vendredi matin | K18: vendredi apm | L18: samedi | M18: COMMENTAIRE | R18: SUIVI DES ZONES 17 | S18: =SUMPRODUCT(($B$3:$N$115=$R18)*($A$3:$A$115=S$1)) -> 0 | T18: =SUMPRODUCT(($B$3:$N$115=$R18)*($A$3:$A$115=T$1)) -> 0 | U18: =SUMPRODUCT(($B$3:$N$115=$R18)*($A$3:$A$115=U$1)) -> 0 | V18: =SUMPRODUCT(($B$3:$N$115=$R18)*($A$3:$A$115=V$1)) -> 0 | W18: =SUMPRODUCT(($B$3:$N$115=$R18)*($A$3:$A$115=W$1)) -> 0 | X18: =SUMPRODUCT(($B$3:$N$115=$R18)*($A$3:$A$115=X$1)) -> 0 | Y18: =SUMPRODUCT(($B$3:$N$115=$R18)*($A$3:$A$115=Y$1)) -> 0 | Z18: =SUMPRODUCT(($B$3:$N$115=$R18)*($A$3:$A$115=Z$1)) -> 0 | ... AE18: =SUMPRODUCT(($B$3:$N$115=$R18)*($A$3:$A$115=AE$1)) -> 0
A19: E,GENTILE | R19: 8D/PDCA 18 | S19: =SUMPRODUCT(($B$3:$N$115=$R19)*($A$3:$A$115=S$1)) -> 0 | T19: =SUMPRODUCT(($B$3:$N$115=$R19)*($A$3:$A$115=T$1)) -> 0 | U19: =SUMPRODUCT(($B$3:$N$115=$R19)*($A$3:$A$115=U$1)) -> 0 | V19: =SUMPRODUCT(($B$3:$N$115=$R19)*($A$3:$A$115=V$1)) -> 0 | W19: =SUMPRODUCT(($B$3:$N$115=$R19)*($A$3:$A$115=W$1)) -> 0 | X19: =SUMPRODUCT(($B$3:$N$115=$R19)*($A$3:$A$115=X$1)) -> 0 | Y19: =SUMPRODUCT(($B$3:$N$115=$R19)*($A$3:$A$115=Y$1)) -> 0 | Z19: =SUMPRODUCT(($B$3:$N$115=$R19)*($A$3:$A$115=Z$1)) -> 0 | ... AE19: =SUMPRODUCT(($B$3:$N$115=$R19)*($A$3:$A$115=AE$1)) -> 0
A20: D,DASILVA | R20: HOTLINE SAV 19 | S20: =SUMPRODUCT(($B$3:$N$115=$R20)*($A$3:$A$115=S$1)) -> 0 | T20: =SUMPRODUCT(($B$3:$N$115=$R20)*($A$3:$A$115=T$1)) -> 0 | U20: =SUMPRODUCT(($B$3:$N$115=$R20)*($A$3:$A$115=U$1)) -> 0 | V20: =SUMPRODUCT(($B$3:$N$115=$R20)*($A$3:$A$115=V$1)) -> 0 | W20: =SUMPRODUCT(($B$3:$N$115=$R20)*($A$3:$A$115=W$1)) -> 0 | X20: =SUMPRODUCT(($B$3:$N$115=$R20)*($A$3:$A$115=X$1)) -> 0 | Y20: =SUMPRODUCT(($B$3:$N$115=$R20)*($A$3:$A$115=Y$1)) -> 0 | Z20: =SUMPRODUCT(($B$3:$N$115=$R20)*($A$3:$A$115=Z$1)) -> 0 | ... AE20: =SUMPRODUCT(($B$3:$N$115=$R20)*($A$3:$A$115=AE$1)) -> 0
A21: E,ETIENNE | R21: SUIVI RENFORCE 20 | S21: =SUMPRODUCT(($B$3:$N$115=$R21)*($A$3:$A$115=S$1)) -> 0 | T21: =SUMPRODUCT(($B$3:$N$115=$R21)*($A$3:$A$115=T$1)) -> 0 | U21: =SUMPRODUCT(($B$3:$N$115=$R21)*($A$3:$A$115=U$1)) -> 0 | V21: =SUMPRODUCT(($B$3:$N$115=$R21)*($A$3:$A$115=V$1)) -> 0 | W21: =SUMPRODUCT(($B$3:$N$115=$R21)*($A$3:$A$115=W$1)) -> 0 | X21: =SUMPRODUCT(($B$3:$N$115=$R21)*($A$3:$A$115=X$1)) -> 0 | Y21: =SUMPRODUCT(($B$3:$N$115=$R21)*($A$3:$A$115=Y$1)) -> 0 | Z21: =SUMPRODUCT(($B$3:$N$115=$R21)*($A$3:$A$115=Z$1)) -> 0 | ... AE21: =SUMPRODUCT(($B$3:$N$115=$R21)*($A$3:$A$115=AE$1)) -> 0
A22: C,ROUSSON | R22: TRAITEMENT RNC 21 | S22: =SUMPRODUCT(($B$3:$N$115=$R22)*($A$3:$A$115=S$1)) -> 0 | T22: =SUMPRODUCT(($B$3:$N$115=$R22)*($A$3:$A$115=T$1)) -> 0 | U22: =SUMPRODUCT(($B$3:$N$115=$R22)*($A$3:$A$115=U$1)) -> 0 | V22: =SUMPRODUCT(($B$3:$N$115=$R22)*($A$3:$A$115=V$1)) -> 0 | W22: =SUMPRODUCT(($B$3:$N$115=$R22)*($A$3:$A$115=W$1)) -> 0 | X22: =SUMPRODUCT(($B$3:$N$115=$R22)*($A$3:$A$115=X$1)) -> 0 | Y22: =SUMPRODUCT(($B$3:$N$115=$R22)*($A$3:$A$115=Y$1)) -> 0 | Z22: =SUMPRODUCT(($B$3:$N$115=$R22)*($A$3:$A$115=Z$1)) -> 0 | ... AE22: =SUMPRODUCT(($B$3:$N$115=$R22)*($A$3:$A$115=AE$1)) -> 0
A23: D,BETTE | R23: ANALYSE DE NC 22 | S23: =SUMPRODUCT(($B$3:$N$115=$R23)*($A$3:$A$115=S$1)) -> 0 | T23: =SUMPRODUCT(($B$3:$N$115=$R23)*($A$3:$A$115=T$1)) -> 0 | U23: =SUMPRODUCT(($B$3:$N$115=$R23)*($A$3:$A$115=U$1)) -> 0 | V23: =SUMPRODUCT(($B$3:$N$115=$R23)*($A$3:$A$115=V$1)) -> 0 | W23: =SUMPRODUCT(($B$3:$N$115=$R23)*($A$3:$A$115=W$1)) -> 0 | X23: =SUMPRODUCT(($B$3:$N$115=$R23)*($A$3:$A$115=X$1)) -> 0 | Y23: =SUMPRODUCT(($B$3:$N$115=$R23)*($A$3:$A$115=Y$1)) -> 0 | Z23: =SUMPRODUCT(($B$3:$N$115=$R23)*($A$3:$A$115=Z$1)) -> 0 | ... AE23: =SUMPRODUCT(($B$3:$N$115=$R23)*($A$3:$A$115=AE$1)) -> 0
A24: L,CAILLE | R24: DOSSIER MACHINE 23 | S24: =SUMPRODUCT(($B$3:$N$115=$R24)*($A$3:$A$115=S$1)) -> 0 | T24: =SUMPRODUCT(($B$3:$N$115=$R24)*($A$3:$A$115=T$1)) -> 0 | U24: =SUMPRODUCT(($B$3:$N$115=$R24)*($A$3:$A$115=U$1)) -> 0 | V24: =SUMPRODUCT(($B$3:$N$115=$R24)*($A$3:$A$115=V$1)) -> 0 | W24: =SUMPRODUCT(($B$3:$N$115=$R24)*($A$3:$A$115=W$1)) -> 0 | X24: =SUMPRODUCT(($B$3:$N$115=$R24)*($A$3:$A$115=X$1)) -> 0 | Y24: =SUMPRODUCT(($B$3:$N$115=$R24)*($A$3:$A$115=Y$1)) -> 0 | Z24: =SUMPRODUCT(($B$3:$N$115=$R24)*($A$3:$A$115=Z$1)) -> 0 | ... AE24: =SUMPRODUCT(($B$3:$N$115=$R24)*($A$3:$A$115=AE$1)) -> 0
A25: N,COLLOT | R25: ECME 24 | S25: =SUMPRODUCT(($B$3:$N$115=$R25)*($A$3:$A$115=S$1)) -> 0 | T25: =SUMPRODUCT(($B$3:$N$115=$R25)*($A$3:$A$115=T$1)) -> 0 | U25: =SUMPRODUCT(($B$3:$N$115=$R25)*($A$3:$A$115=U$1)) -> 0 | V25: =SUMPRODUCT(($B$3:$N$115=$R25)*($A$3:$A$115=V$1)) -> 0 | W25: =SUMPRODUCT(($B$3:$N$115=$R25)*($A$3:$A$115=W$1)) -> 0 | X25: =SUMPRODUCT(($B$3:$N$115=$R25)*($A$3:$A$115=X$1)) -> 0 | Y25: =SUMPRODUCT(($B$3:$N$115=$R25)*($A$3:$A$115=Y$1)) -> 0 | Z25: =SUMPRODUCT(($B$3:$N$115=$R25)*($A$3:$A$115=Z$1)) -> 0 | ... AE25: =SUMPRODUCT(($B$3:$N$115=$R25)*($A$3:$A$115=AE$1)) -> 0
A26: G,REDON | R26: GESTION EI 25 | S26: =SUMPRODUCT(($B$3:$N$115=$R26)*($A$3:$A$115=S$1)) -> 0 | T26: =SUMPRODUCT(($B$3:$N$115=$R26)*($A$3:$A$115=T$1)) -> 0 | U26: =SUMPRODUCT(($B$3:$N$115=$R26)*($A$3:$A$115=U$1)) -> 0 | V26: =SUMPRODUCT(($B$3:$N$115=$R26)*($A$3:$A$115=V$1)) -> 0 | W26: =SUMPRODUCT(($B$3:$N$115=$R26)*($A$3:$A$115=W$1)) -> 0 | X26: =SUMPRODUCT(($B$3:$N$115=$R26)*($A$3:$A$115=X$1)) -> 0 | Y26: =SUMPRODUCT(($B$3:$N$115=$R26)*($A$3:$A$115=Y$1)) -> 0 | Z26: =SUMPRODUCT(($B$3:$N$115=$R26)*($A$3:$A$115=Z$1)) -> 0 | ... AE26: =SUMPRODUCT(($B$3:$N$115=$R26)*($A$3:$A$115=AE$1)) -> 0
A27: J,JAILLET | R27: REDACTION FLASH / DDM 26 | S27: =SUMPRODUCT(($B$3:$N$115=$R27)*($A$3:$A$115=S$1)) -> 0 | T27: =SUMPRODUCT(($B$3:$N$115=$R27)*($A$3:$A$115=T$1)) -> 0 | U27: =SUMPRODUCT(($B$3:$N$115=$R27)*($A$3:$A$115=U$1)) -> 0 | V27: =SUMPRODUCT(($B$3:$N$115=$R27)*($A$3:$A$115=V$1)) -> 0 | W27: =SUMPRODUCT(($B$3:$N$115=$R27)*($A$3:$A$115=W$1)) -> 0 | X27: =SUMPRODUCT(($B$3:$N$115=$R27)*($A$3:$A$115=X$1)) -> 0 | Y27: =SUMPRODUCT(($B$3:$N$115=$R27)*($A$3:$A$115=Y$1)) -> 0 | Z27: =SUMPRODUCT(($B$3:$N$115=$R27)*($A$3:$A$115=Z$1)) -> 0 | ... AE27: =SUMPRODUCT(($B$3:$N$115=$R27)*($A$3:$A$115=AE$1)) -> 0
A28: S,JONDOT | R28: CONDITIONNEMENT 27 | S28: =SUMPRODUCT(($B$3:$N$115=$R28)*($A$3:$A$115=S$1)) -> 0 | T28: =SUMPRODUCT(($B$3:$N$115=$R28)*($A$3:$A$115=T$1)) -> 0 | U28: =SUMPRODUCT(($B$3:$N$115=$R28)*($A$3:$A$115=U$1)) -> 0 | V28: =SUMPRODUCT(($B$3:$N$115=$R28)*($A$3:$A$115=V$1)) -> 0 | W28: =SUMPRODUCT(($B$3:$N$115=$R28)*($A$3:$A$115=W$1)) -> 0 | X28: =SUMPRODUCT(($B$3:$N$115=$R28)*($A$3:$A$115=X$1)) -> 0 | Y28: =SUMPRODUCT(($B$3:$N$115=$R28)*($A$3:$A$115=Y$1)) -> 0 | Z28: =SUMPRODUCT(($B$3:$N$115=$R28)*($A$3:$A$115=Z$1)) -> 0 | ... AE28: =SUMPRODUCT(($B$3:$N$115=$R28)*($A$3:$A$115=AE$1)) -> 0
A29: N,FAIVRE | R29: VALIDATION METHODE / INDUS 28 | S29: =SUMPRODUCT(($B$3:$N$115=$R29)*($A$3:$A$115=S$1)) -> 0 | T29: =SUMPRODUCT(($B$3:$N$115=$R29)*($A$3:$A$115=T$1)) -> 0 | U29: =SUMPRODUCT(($B$3:$N$115=$R29)*($A$3:$A$115=U$1)) -> 0 | V29: =SUMPRODUCT(($B$3:$N$115=$R29)*($A$3:$A$115=V$1)) -> 0 | W29: =SUMPRODUCT(($B$3:$N$115=$R29)*($A$3:$A$115=W$1)) -> 0 | X29: =SUMPRODUCT(($B$3:$N$115=$R29)*($A$3:$A$115=X$1)) -> 0 | Y29: =SUMPRODUCT(($B$3:$N$115=$R29)*($A$3:$A$115=Y$1)) -> 0 | Z29: =SUMPRODUCT(($B$3:$N$115=$R29)*($A$3:$A$115=Z$1)) -> 0 | ... AE29: =SUMPRODUCT(($B$3:$N$115=$R29)*($A$3:$A$115=AE$1)) -> 0
A30: STAGIERE | R30: TOTAL | S30: =SUM(S2:S29) -> 0 | T30: =SUM(T2:T29) -> 0 | U30: =SUM(U2:U29) -> 0 | V30: =SUM(V2:V29) -> 0 | W30: =SUM(W2:W29) -> 0 | X30: =SUM(X2:X29) -> 0 | Y30: =SUM(Y2:Y29) -> 0 | Z30: =SUM(Z2:Z29) -> 0 | ... AE30: =SUM(AE2:AE29) -> 0
A31: AUTRE 1 | S31: E,GENTILE | T31: D,DASILVA | U31: C,ROUSSON | V31: D,BETE | W31: L,CAILLE | X31: N,COLLOT | Y31: G,REDON | Z31: J,JAILLET | AA31: S,JONDOT | AB31: N,FAIVRE | AC31: STAGIERE | AD31: AUTRE 1 | AE31: AUTRE 2
A32: AUTRE 2
A33: SEMAINE 3 | B33: 42370
B34: lundi matin | C34: lundi apm | D34: mardi matin | E34: mardi apm | F34: mercredi matin | G34: mercredi apm | H34: jeudi matin | I34: jeudi apm | J34: vendredi matin | K34: vendredi apm | L34: samedi | M34: COMMENTAIRE
A35: E,GENTILE
A36: D,DASILVA
A37: E,ETIENNE
A38: C,ROUSSON
A39: D,BETTE
A40: L,CAILLE
A41: N,COLLOT
...

Sheet avril mai 
A1: SEMAINE 1 | B1: 42370 | S1: E,GENTILE | T1: D,DASILVA | U1: C,ROUSSON | V1: D,BETTE | W1: L,CAILLE | X1: N,COLLOT | Y1: G,REDON | Z1: J,JAILLET | AA1: S,JONDOT | AB1: N,FAIVRE | AC1: STAGIERE | AD1: AUTRE 1 | AE1: AUTRE 2
B2: lundi matin | C2: lundi apm | D2: mardi matin | E2: mardi apm | F2: mercredi matin | G2: mercredi apm | H2: jeudi matin | I2: jeudi apm | J2: vendredi matin | K2: vendredi apm | L2: samedi | M2: COMMENTAIRE | R2: Fournisseur 1 | S2: =SUMPRODUCT(($B$3:$N$115=$R2)*($A$3:$A$115=S$1)) -> 0 | T2: =SUMPRODUCT(($B$3:$N$115=$R2)*($A$3:$A$115=T$1)) -> 0 | U2: =SUMPRODUCT(($B$3:$N$115=$R2)*($A$3:$A$115=U$1)) -> 0 | V2: =SUMPRODUCT(($B$3:$N$115=$R2)*($A$3:$A$115=V$1)) -> 0 | W2: =SUMPRODUCT(($B$3:$N$115=$R2)*($A$3:$A$115=W$1)) -> 0 | X2: =SUMPRODUCT(($B$3:$N$115=$R2)*($A$3:$A$115=X$1)) -> 0 | Y2: =SUMPRODUCT(($B$3:$N$115=$R2)*($A$3:$A$115=Y$1)) -> 0 | Z2: =SUMPRODUCT(($B$3:$N$115=$R2)*($A$3:$A$115=Z$1)) -> 0 | ... AE2: =SUMPRODUCT(($B$3:$N$115=$R2)*($A$3:$A$115=AE$1)) -> 0
A3: E,GENTILE | R3: Filiale Client 2 | S3: =SUMPRODUCT(($B$3:$N$115=$R3)*($A$3:$A$115=S$1)) -> 0 | T3: =SUMPRODUCT(($B$3:$N$115=$R3)*($A$3:$A$115=T$1)) -> 0 | U3: =SUMPRODUCT(($B$3:$N$115=$R3)*($A$3:$A$115=U$1)) -> 0 | V3: =SUMPRODUCT(($B$3:$N$115=$R3)*($A$3:$A$115=V$1)) -> 0 | W3: =SUMPRODUCT(($B$3:$N$115=$R3)*($A$3:$A$115=W$1)) -> 0 | X3: =SUMPRODUCT(($B$3:$N$115=$R3)*($A$3:$A$115=X$1)) -> 0 | Y3: =SUMPRODUCT(($B$3:$N$115=$R3)*($A$3:$A$115=Y$1)) -> 0 | Z3: =SUMPRODUCT(($B$3:$N$115=$R3)*($A$3:$A$115=Z$1)) -> 0 | ... AE3: =SUMPRODUCT(($B$3:$N$115=$R3)*($A$3:$A$115=AE$1)) -> 0
A4: D,DASILVA | R4: RTT 3 | S4: =SUMPRODUCT(($B$3:$N$115=$R4)*($A$3:$A$115=S$1)) -> 0 | T4: =SUMPRODUCT(($B$3:$N$115=$R4)*($A$3:$A$115=T$1)) -> 0 | U4: =SUMPRODUCT(($B$3:$N$115=$R4)*($A$3:$A$115=U$1)) -> 0 | V4: =SUMPRODUCT(($B$3:$N$115=$R4)*($A$3:$A$115=V$1)) -> 0 | W4: =SUMPRODUCT(($B$3:$N$115=$R4)*($A$3:$A$115=W$1)) -> 0 | X4: =SUMPRODUCT(($B$3:$N$115=$R4)*($A$3:$A$115=X$1)) -> 0 | Y4: =SUMPRODUCT(($B$3:$N$115=$R4)*($A$3:$A$115=Y$1)) -> 0 | Z4: =SUMPRODUCT(($B$3:$N$115=$R4)*($A$3:$A$115=Z$1)) -> 0 | ... AE4: =SUMPRODUCT(($B$3:$N$115=$R4)*($A$3:$A$115=AE$1)) -> 0
A5: E,ETIENNE | R5: CP 4 | S5: =SUMPRODUCT(($B$3:$N$115=$R5)*($A$3:$A$115=S$1)) -> 0 | T5: =SUMPRODUCT(($B$3:$N$115=$R5)*($A$3:$A$115=T$1)) -> 0 | U5: =SUMPRODUCT(($B$3:$N$115=$R5)*($A$3:$A$115=U$1)) -> 0 | V5: =SUMPRODUCT(($B$3:$N$115=$R5)*($A$3:$A$115=V$1)) -> 0 | W5: =SUMPRODUCT(($B$3:$N$115=$R5)*($A$3:$A$115=W$1)) -> 0 | X5: =SUMPRODUCT(($B$3:$N$115=$R5)*($A$3:$A$115=X$1)) -> 0 | Y5: =SUMPRODUCT(($B$3:$N$115=$R5)*($A$3:$A$115=Y$1)) -> 0 | Z5: =SUMPRODUCT(($B$3:$N$115=$R5)*($A$3:$A$115=Z$1)) -> 0 | ... AE5: =SUMPRODUCT(($B$3:$N$115=$R5)*($A$3:$A$115=AE$1)) -> 0
A6: C,ROUSSON | R6: Formation 5 | S6: =SUMPRODUCT(($B$3:$N$115=$R6)*($A$3:$A$115=S$1)) -> 0 | T6: =SUMPRODUCT(($B$3:$N$115=$R6)*($A$3:$A$115=T$1)) -> 0 | U6: =SUMPRODUCT(($B$3:$N$115=$R6)*($A$3:$A$115=U$1)) -> 0 | V6: =SUMPRODUCT(($B$3:$N$115=$R6)*($A$3:$A$115=V$1)) -> 0 | W6: =SUMPRODUCT(($B$3:$N$115=$R6)*($A$3:$A$115=W$1)) -> 0 | X6: =SUMPRODUCT(($B$3:$N$115=$R6)*($A$3:$A$115=X$1)) -> 0 | Y6: =SUMPRODUCT(($B$3:$N$115=$R6)*($A$3:$A$115=Y$1)) -> 0 | Z6: =SUMPRODUCT(($B$3:$N$115=$R6)*($A$3:$A$115=Z$1)) -> 0 | ... AE6: =SUMPRODUCT(($B$3:$N$115=$R6)*($A$3:$A$115=AE$1)) -> 0
A7: D,BETTE | R7: Animation Qualité ligne 6 | S7: =SUMPRODUCT(($B$3:$N$115=$R7)*($A$3:$A$115=S$1)) -> 0 | T7: =SUMPRODUCT(($B$3:$N$115=$R7)*($A$3:$A$115=T$1)) -> 0 | U7: =SUMPRODUCT(($B$3:$N$115=$R7)*($A$3:$A$115=U$1)) -> 0 | V7: =SUMPRODUCT(($B$3:$N$115=$R7)*($A$3:$A$115=V$1)) -> 0 | W7: =SUMPRODUCT(($B$3:$N$115=$R7)*($A$3:$A$115=W$1)) -> 0 | X7: =SUMPRODUCT(($B$3:$N$115=$R7)*($A$3:$A$115=X$1)) -> 0 | Y7: =SUMPRODUCT(($B$3:$N$115=$R7)*($A$3:$A$115=Y$1)) -> 0 | Z7: =SUMPRODUCT(($B$3:$N$115=$R7)*($A$3:$A$115=Z$1)) -> 0 | ... AE7: =SUMPRODUCT(($B$3:$N$115=$R7)*($A$3:$A$115=AE$1)) -> 0
A8: L,CAILLE | R8: Maladie 7 | S8: =SUMPRODUCT(($B$3:$N$115=$R8)*($A$3:$A$115=S$1)) -> 0 | T8: =SUMPRODUCT(($B$3:$N$115=$R8)*($A$3:$A$115=T$1)) -> 0 | U8: =SUMPRODUCT(($B$3:$N$115=$R8)*($A$3:$A$115=U$1)) -> 0 | V8: =SUMPRODUCT(($B$3:$N$115=$R8)*($A$3:$A$115=V$1)) -> 0 | W8: =SUMPRODUCT(($B$3:$N$115=$R8)*($A$3:$A$115=W$1)) -> 0 | X8: =SUMPRODUCT(($B$3:$N$115=$R8)*($A$3:$A$115=X$1)) -> 0 | Y8: =SUMPRODUCT(($B$3:$N$115=$R8)*($A$3:$A$115=Y$1)) -> 0 | Z8: =SUMPRODUCT(($B$3:$N$115=$R8)*($A$3:$A$115=Z$1)) -> 0 | ... AE8: =SUMPRODUCT(($B$3:$N$115=$R8)*($A$3:$A$115=AE$1)) -> 0
A9: N,COLLOT | R9: Inter site 8 | S9: =SUMPRODUCT(($B$3:$N$115=$R9)*($A$3:$A$115=S$1)) -> 0 | T9: =SUMPRODUCT(($B$3:$N$115=$R9)*($A$3:$A$115=T$1)) -> 0 | U9: =SUMPRODUCT(($B$3:$N$115=$R9)*($A$3:$A$115=U$1)) -> 0 | V9: =SUMPRODUCT(($B$3:$N$115=$R9)*($A$3:$A$115=V$1)) -> 0 | W9: =SUMPRODUCT(($B$3:$N$115=$R9)*($A$3:$A$115=W$1)) -> 0 | X9: =SUMPRODUCT(($B$3:$N$115=$R9)*($A$3:$A$115=X$1)) -> 0 | Y9: =SUMPRODUCT(($B$3:$N$115=$R9)*($A$3:$A$115=Y$1)) -> 0 | Z9: =SUMPRODUCT(($B$3:$N$115=$R9)*($A$3:$A$115=Z$1)) -> 0 | ... AE9: =SUMPRODUCT(($B$3:$N$115=$R9)*($A$3:$A$115=AE$1)) -> 0
A10: G,REDON | R10: Concept° Indicateur Présence sur FLC obligatoire (ou backup exceptionnellement) 9 | S10: =SUMPRODUCT(($B$3:$N$115=$R10)*($A$3:$A$115=S$1)) -> 0 | T10: =SUMPRODUCT(($B$3:$N$115=$R10)*($A$3:$A$115=T$1)) -> 0 | U10: =SUMPRODUCT(($B$3:$N$115=$R10)*($A$3:$A$115=U$1)) -> 0 | V10: =SUMPRODUCT(($B$3:$N$115=$R10)*($A$3:$A$115=V$1)) -> 0 | W10: =SUMPRODUCT(($B$3:$N$115=$R10)*($A$3:$A$115=W$1)) -> 0 | X10: =SUMPRODUCT(($B$3:$N$115=$R10)*($A$3:$A$115=X$1)) -> 0 | Y10: =SUMPRODUCT(($B$3:$N$115=$R10)*($A$3:$A$115=Y$1)) -> 0 | Z10: =SUMPRODUCT(($B$3:$N$115=$R10)*($A$3:$A$115=Z$1)) -> 0 | ... AE10: =SUMPRODUCT(($B$3:$N$115=$R10)*($A$3:$A$115=AE$1)) -> 0
A11: J,JAILLET | R11: CHSCT 10 | S11: =SUMPRODUCT(($B$3:$N$115=$R11)*($A$3:$A$115=S$1)) -> 0 | T11: =SUMPRODUCT(($B$3:$N$115=$R11)*($A$3:$A$115=T$1)) -> 0 | U11: =SUMPRODUCT(($B$3:$N$115=$R11)*($A$3:$A$115=U$1)) -> 0 | V11: =SUMPRODUCT(($B$3:$N$115=$R11)*($A$3:$A$115=V$1)) -> 0 | W11: =SUMPRODUCT(($B$3:$N$115=$R11)*($A$3:$A$115=W$1)) -> 0 | X11: =SUMPRODUCT(($B$3:$N$115=$R11)*($A$3:$A$115=X$1)) -> 0 | Y11: =SUMPRODUCT(($B$3:$N$115=$R11)*($A$3:$A$115=Y$1)) -> 0 | Z11: =SUMPRODUCT(($B$3:$N$115=$R11)*($A$3:$A$115=Z$1)) -> 0 | ... AE11: =SUMPRODUCT(($B$3:$N$115=$R11)*($A$3:$A$115=AE$1)) -> 0
A12: S,JONDOT | R12: Hot Liner 11 | S12: =SUMPRODUCT(($B$3:$N$115=$R12)*($A$3:$A$115=S$1)) -> 0 | T12: =SUMPRODUCT(($B$3:$N$115=$R12)*($A$3:$A$115=T$1)) -> 0 | U12: =SUMPRODUCT(($B$3:$N$115=$R12)*($A$3:$A$115=U$1)) -> 0 | V12: =SUMPRODUCT(($B$3:$N$115=$R12)*($A$3:$A$115=V$1)) -> 0 | W12: =SUMPRODUCT(($B$3:$N$115=$R12)*($A$3:$A$115=W$1)) -> 0 | X12: =SUMPRODUCT(($B$3:$N$115=$R12)*($A$3:$A$115=X$1)) -> 0 | Y12: =SUMPRODUCT(($B$3:$N$115=$R12)*($A$3:$A$115=Y$1)) -> 0 | Z12: =SUMPRODUCT(($B$3:$N$115=$R12)*($A$3:$A$115=Z$1)) -> 0 | ... AE12: =SUMPRODUCT(($B$3:$N$115=$R12)*($A$3:$A$115=AE$1)) -> 0
