Workbook
Name semaine14.: [1]S15!$Q$57:$T$59

Sheet Synthèse
A1: Tableau de synthèse
B3: Semaine | C3: Date | D3: Monitrice | E3: CA | F3: CIO | G3: Taux 1 | H3: Taux 2 | I3: Mois | J3: SEM | K3: Jours
B4: ="S"&_xlfn.ISOWEEKNUM(Tableau_de_synthèse[[#This Row],[Date]]) -> S26 | C4: 42548 | D4: Client 1 | E4: =SUMPRODUCT((INDIRECT($B4&"!G41:G43")=Synthèse!$D4)*(INDIRECT($B4&"!H39:AE39")=Synthèse!E$3)*(INDIRECT($B4&"!H40:AE40")=Synthèse!$C4)*(INDIRECT($B4&"!H41:AE43"))) -> 15711 | F4: =SUMPRODUCT((INDIRECT($B4&"!G41:G43")=Synthèse!$D4)*(INDIRECT($B4&"!H39:AE39")=Synthèse!F$3)*(INDIRECT($B4&"!H40:AE40")=Synthèse!$C4)*(INDIRECT($B4&"!H41:AE43"))) -> 11088 | G4: =SUMPRODUCT((INDIRECT($B4&"!G41:G43")=Synthèse!$D4)*(INDIRECT($B4&"!H39:AE39")=Synthèse!G$3)*(INDIRECT($B4&"!H40:AE40")=Synthèse!$C4)*(INDIRECT($B4&"!H41:AE43"))) -> 0.70574757 | H4: =SUMPRODUCT((INDIRECT($B4&"!G41:G43")=Synthèse!$D4)*(INDIRECT($B4&"!H39:AE39")=Synthèse!H$3)*(INDIRECT($B4&"!H40:AE40")=Synthèse!$C4)*(INDIRECT($B4&"!H41:AE43"))) -> 0.99 | I4: =PROPER(TEXT(Tableau_de_synthèse[[#This Row],[Date]],"mmm")) -> Juin | J4: =_xlfn.ISOWEEKNUM(C4) -> 26 | K4: =PROPER(TEXT(C4,"jjj")) -> Lun
B5: ="S"&_xlfn.ISOWEEKNUM(Tableau_de_synthèse[[#This Row],[Date]]) -> S26 | C5: 42548 | D5: Client 2 | E5: =SUMPRODUCT((INDIRECT($B5&"!G41:G43")=Synthèse!$D5)*(INDIRECT($B5&"!H39:AE39")=Synthèse!E$3)*(INDIRECT($B5&"!H40:AE40")=Synthèse!$C5)*(INDIRECT($B5&"!H41:AE43"))) -> 13477 | F5: =SUMPRODUCT((INDIRECT($B5&"!G41:G43")=Synthèse!$D5)*(INDIRECT($B5&"!H39:AE39")=Synthèse!F$3)*(INDIRECT($B5&"!H40:AE40")=Synthèse!$C5)*(INDIRECT($B5&"!H41:AE43"))) -> 9538 | G5: =SUMPRODUCT((INDIRECT($B5&"!G41:G43")=Synthèse!$D5)*(INDIRECT($B5&"!H39:AE39")=Synthèse!G$3)*(INDIRECT($B5&"!H40:AE40")=Synthèse!$C5)*(INDIRECT($B5&"!H41:AE43"))) -> 0.70772427 | H5: =SUMPRODUCT((INDIRECT($B5&"!G41:G43")=Synthèse!$D5)*(INDIRECT($B5&"!H39:AE39")=Synthèse!H$3)*(INDIRECT($B5&"!H40:AE40")=Synthèse!$C5)*(INDIRECT($B5&"!H41:AE43"))) -> 1.0458333 | I5: =PROPER(TEXT(Tableau_de_synthèse[[#This Row],[Date]],"mmm")) -> Juin | J5: =_xlfn.ISOWEEKNUM(C5) -> 26 | K5: =PROPER(TEXT(C5,"jjj")) -> Lun
B6: ="S"&_xlfn.ISOWEEKNUM(Tableau_de_synthèse[[#This Row],[Date]]) -> S26 | C6: 42548 | D6: Client 3 | E6: =SUMPRODUCT((INDIRECT($B6&"!G41:G43")=Synthèse!$D6)*(INDIRECT($B6&"!H39:AE39")=Synthèse!E$3)*(INDIRECT($B6&"!H40:AE40")=Synthèse!$C6)*(INDIRECT($B6&"!H41:AE43"))) -> 5852 | F6: =SUMPRODUCT((INDIRECT($B6&"!G41:G43")=Synthèse!$D6)*(INDIRECT($B6&"!H39:AE39")=Synthèse!F$3)*(INDIRECT($B6&"!H40:AE40")=Synthèse!$C6)*(INDIRECT($B6&"!H41:AE43"))) -> 952 | G6: =SUMPRODUCT((INDIRECT($B6&"!G41:G43")=Synthèse!$D6)*(INDIRECT($B6&"!H39:AE39")=Synthèse!G$3)*(INDIRECT($B6&"!H40:AE40")=Synthèse!$C6)*(INDIRECT($B6&"!H41:AE43"))) -> 0.16267943 | H6: =SUMPRODUCT((INDIRECT($B6&"!G41:G43")=Synthèse!$D6)*(INDIRECT($B6&"!H39:AE39")=Synthèse!H$3)*(INDIRECT($B6&"!H40:AE40")=Synthèse!$C6)*(INDIRECT($B6&"!H41:AE43"))) -> 0.85 | I6: =PROPER(TEXT(Tableau_de_synthèse[[#This Row],[Date]],"mmm")) -> Juin | J6: =_xlfn.ISOWEEKNUM(C6) -> 26 | K6: =PROPER(TEXT(C6,"jjj")) -> Lun
B7: ="S"&_xlfn.ISOWEEKNUM(Tableau_de_synthèse[[#This Row],[Date]]) -> S26 | C7: 42549 | D7: Client 1 | E7: =SUMPRODUCT((INDIRECT($B7&"!G41:G43")=Synthèse!$D7)*(INDIRECT($B7&"!H39:AE39")=Synthèse!E$3)*(INDIRECT($B7&"!H40:AE40")=Synthèse!$C7)*(INDIRECT($B7&"!H41:AE43"))) -> 16923 | F7: =SUMPRODUCT((INDIRECT($B7&"!G41:G43")=Synthèse!$D7)*(INDIRECT($B7&"!H39:AE39")=Synthèse!F$3)*(INDIRECT($B7&"!H40:AE40")=Synthèse!$C7)*(INDIRECT($B7&"!H41:AE43"))) -> 3808 | G7: =SUMPRODUCT((INDIRECT($B7&"!G41:G43")=Synthèse!$D7)*(INDIRECT($B7&"!H39:AE39")=Synthèse!G$3)*(INDIRECT($B7&"!H40:AE40")=Synthèse!$C7)*(INDIRECT($B7&"!H41:AE43"))) -> 0.2250192 | H7: =SUMPRODUCT((INDIRECT($B7&"!G41:G43")=Synthèse!$D7)*(INDIRECT($B7&"!H39:AE39")=Synthèse!H$3)*(INDIRECT($B7&"!H40:AE40")=Synthèse!$C7)*(INDIRECT($B7&"!H41:AE43"))) -> 0.71957672 | I7: =PROPER(TEXT(Tableau_de_synthèse[[#This Row],[Date]],"mmm")) -> Juin | J7: =_xlfn.ISOWEEKNUM(C7) -> 26 | K7: =PROPER(TEXT(C7,"jjj")) -> Mar
B8: ="S"&_xlfn.ISOWEEKNUM(Tableau_de_synthèse[[#This Row],[Date]]) -> S26 | C8: 42549 | D8: Client 2 | E8: =SUMPRODUCT((INDIRECT($B8&"!G41:G43")=Synthèse!$D8)*(INDIRECT($B8&"!H39:AE39")=Synthèse!E$3)*(INDIRECT($B8&"!H40:AE40")=Synthèse!$C8)*(INDIRECT($B8&"!H41:AE43"))) -> 14313 | F8: =SUMPRODUCT((INDIRECT($B8&"!G41:G43")=Synthèse!$D8)*(INDIRECT($B8&"!H39:AE39")=Synthèse!F$3)*(INDIRECT($B8&"!H40:AE40")=Synthèse!$C8)*(INDIRECT($B8&"!H41:AE43"))) -> 9538 | G8: =SUMPRODUCT((INDIRECT($B8&"!G41:G43")=Synthèse!$D8)*(INDIRECT($B8&"!H39:AE39")=Synthèse!G$3)*(INDIRECT($B8&"!H40:AE40")=Synthèse!$C8)*(INDIRECT($B8&"!H41:AE43"))) -> 0.6663872 | H8: =SUMPRODUCT((INDIRECT($B8&"!G41:G43")=Synthèse!$D8)*(INDIRECT($B8&"!H39:AE39")=Synthèse!H$3)*(INDIRECT($B8&"!H40:AE40")=Synthèse!$C8)*(INDIRECT($B8&"!H41:AE43"))) -> 1.0458333 | I8: =PROPER(TEXT(Tableau_de_synthèse[[#This Row],[Date]],"mmm")) -> Juin | J8: =_xlfn.ISOWEEKNUM(C8) -> 26 | K8: =PROPER(TEXT(C8,"jjj")) -> Mar
B9: ="S"&_xlfn.ISOWEEKNUM(Tableau_de_synthèse[[#This Row],[Date]]) -> S26 | C9: 42549 | D9: Client 3 | E9: =SUMPRODUCT((INDIRECT($B9&"!G41:G43")=Synthèse!$D9)*(INDIRECT($B9&"!H39:AE39")=Synthèse!E$3)*(INDIRECT($B9&"!H40:AE40")=Synthèse!$C9)*(INDIRECT($B9&"!H41:AE43"))) -> 6255 | F9: =SUMPRODUCT((INDIRECT($B9&"!G41:G43")=Synthèse!$D9)*(INDIRECT($B9&"!H39:AE39")=Synthèse!F$3)*(INDIRECT($B9&"!H40:AE40")=Synthèse!$C9)*(INDIRECT($B9&"!H41:AE43"))) -> 168 | G9: =SUMPRODUCT((INDIRECT($B9&"!G41:G43")=Synthèse!$D9)*(INDIRECT($B9&"!H39:AE39")=Synthèse!G$3)*(INDIRECT($B9&"!H40:AE40")=Synthèse!$C9)*(INDIRECT($B9&"!H41:AE43"))) -> 0.026858513 | H9: =SUMPRODUCT((INDIRECT($B9&"!G41:G43")=Synthèse!$D9)*(INDIRECT($B9&"!H39:AE39")=Synthèse!H$3)*(INDIRECT($B9&"!H40:AE40")=Synthèse!$C9)*(INDIRECT($B9&"!H41:AE43"))) -> 0 | I9: =PROPER(TEXT(Tableau_de_synthèse[[#This Row],[Date]],"mmm")) -> Juin | J9: =_xlfn.ISOWEEKNUM(C9) -> 26 | K9: =PROPER(TEXT(C9,"jjj")) -> Mar
B10: ="S"&_xlfn.ISOWEEKNUM(Tableau_de_synthèse[[#This Row],[Date]]) -> S26 | C10: 42549 | D10: Client 1 | E10: =SUMPRODUCT((INDIRECT($B10&"!G41:G43")=Synthèse!$D10)*(INDIRECT($B10&"!H39:AE39")=Synthèse!E$3)*(INDIRECT($B10&"!H40:AE40")=Synthèse!$C10)*(INDIRECT($B10&"!H41:AE43"))) -> 16923 | F10: =SUMPRODUCT((INDIRECT($B10&"!G41:G43")=Synthèse!$D10) *(INDIRECT($B10&"!H39:AE39")=Synthèse!F$3) *(INDIRECT($B10&"!H40:AE40")=Synthèse!$C10) *(INDIRECT($B10&"!H41:AE41"))) -> 3808 | G10: =SUMPRODUCT((INDIRECT($B10&"!G41:G43")=Synthèse!$D10) *(INDIRECT($B10&"!H39:AE39")=Synthèse!G$3) *(INDIRECT($B10&"!H40:AE40")=Synthèse!$C10) *(INDIRECT($B10&"!H41:AE41"))) -> 0.2250192 | H10: =SUMPRODUCT((INDIRECT($B10&"!G41:G43")=Synthèse!$D10) *(INDIRECT($B10&"!H39:AE39")=Synthèse!H$3) *(INDIRECT($B10&"!H40:AE40")=Synthèse!$C10) *(INDIRECT($B10&"!H41:AE41"))) -> 0.71957672 | I10: =PROPER(TEXT(Tableau_de_synthèse[[#This Row],[Date]],"mmm")) -> Juin | J10: =_xlfn.ISOWEEKNUM(C10) -> 26 | K10: =PROPER(TEXT(C10,"jjj")) -> Mar

Sheet S26
H39: CA | I39: CIO | J39: Taux 1 | K39: Taux 2 | L39: CA | M39: CIO | N39: Taux 1 | O39: Taux 2 | P39: CA | Q39: CIO | R39: Taux 1 | S39: Taux 2 | T39: CA | U39: CIO | V39: Taux 1 | W39: Taux 2 | X39: CA | Y39: CIO | Z39: Taux 1 | AA39: Taux 2 | AB39: CA | AC39: CIO | AD39: Taux 1 | AE39: Taux 2
H40: 42548 | I40: 42548 | J40: 42548 | K40: 42548 | L40: 42549 | M40: 42549 | N40: 42549 | O40: 42549 | P40: 42550 | Q40: 42550 | R40: 42550 | S40: 42550 | T40: 42551 | U40: 42551 | V40: 42551 | W40: 42551 | X40: 42552 | Y40: 42552 | Z40: 42552 | AA40: 42552 | AB40: 42553 | AC40: 42552 | AD40: 42553 | AE40: 42552
G41: Client 1 | H41: 15711 | I41: 11088 | J41: 0.70574757 | K41: 0.99 | L41: 16923 | M41: 3808 | N41: 0.2250192 | O41: 0.71957672 | P41: 17113 | Q41: 0 | R41: 0 | S41: 0 | T41: 17693 | U41: 28 | V41: 0.0015825468 | W41: 0 | X41: 0 | Y41: 0 | Z41: 0 | AA41: 0 | AB41: 0 | AC41: 0 | AD41: 0 | AE41: 0
G42: Client 2 | H42: 13477 | I42: 9538 | J42: 0.70772427 | K42: 1.0458333 | L42: 14313 | M42: 9538 | N42: 0.6663872 | O42: 1.0458333 | P42: 15079 | Q42: 9500 | R42: 0.63001525 | S42: 1.0416667 | T42: 15227 | U42: 9234 | V42: 0.6064228 | W42: 1.0125 | X42: 0 | Y42: 0 | Z42: 0 | AA42: 0 | AB42: 0 | AC42: 0 | AD42: 0 | AE42: 0
G43: Client 3 | H43: 5852 | I43: 952 | J43: 0.16267943 | K43: 0.85 | L43: 6255 | M43: 168 | N43: 0.026858513 | O43: 0 | P43: 6233 | Q43: 0 | R43: 0 | S43: 0 | T43: 6456 | U43: 1176 | V43: 0.18215613 | W43: 0 | X43: 0 | Y43: 0 | Z43: 0 | AA43: 0 | AB43: 0 | AC43: 0 | AD43: 0 | AE43: 0
