Workbook
Name annee: Données!$E$1:$E$20
Name date: Calendrier!$E$3
Name JFeries: Données!$H$1:$H$26
Name Salaries: Données!$K$1:$K$40

Sheet Calendrier
E1: ="CALENDRIER " & MIN(E2:P2) & "-" & MAX(E2:P2) -> CALENDRIER 2012-2013
E2: =C4 -> 2012 | I2: =+E2+1 -> 2013
C3: Première Année à considérer : | E3: =DATE(YEAR(DATE(C4,9,1)),MONTH(DATE(C4,9,1)),1) -> 41153 | F3: =DATE(YEAR(DATE(C4,9,1)),MONTH(date)+1,1) -> 41183 | G3: =DATE(YEAR(F3),MONTH(F3)+1,1) -> 41214 | H3: =DATE(YEAR(G3),MONTH(G3)+1,1) -> 41244 | I3: =DATE(YEAR(H3),MONTH(H3)+1,1) -> 41275 | J3: =DATE(YEAR(I3),MONTH(I3)+1,1) -> 41306 | K3: =DATE(YEAR(J3),MONTH(J3)+1,1) -> 41334 | L3: =DATE(YEAR(K3),MONTH(K3)+1,1) -> 41365 | M3: =DATE(YEAR(L3),MONTH(L3)+1,1) -> 41395 | N3: =DATE(YEAR(M3),MONTH(M3)+1,1) -> 41426 | ... P3: =DATE(YEAR(O3),MONTH(O3)+1,1) -> 41487
C4: 2012 | E4: =E3 -> 41153 | F4: =F3 -> 41183 | G4: =G3 -> 41214 | H4: =H3 -> 41244 | I4: =I3 -> 41275 | J4: =J3 -> 41306 | K4: =K3 -> 41334 | L4: =L3 -> 41365 | ... P4: =P3 -> 41487
E5: =E4+1 -> 41154 | F5: =F4+1 -> 41184 | G5: =G4+1 -> 41215 | H5: =H4+1 -> 41245 | I5: =I4+1 -> 41276 | J5: =J4+1 -> 41307 | K5: =K4+1 -> 41335 | L5: =L4+1 -> 41366 | ... P5: =P4+1 -> 41488
C6: =C4 -> 2012 | E6: =E5+1 -> 41155 | F6: =F5+1 -> 41185 | G6: =G5+1 -> 41216 | H6: =H5+1 -> 41246 | I6: =I5+1 -> 41277 | J6: =J5+1 -> 41308 | K6: =K5+1 -> 41336 | L6: =L5+1 -> 41367 | ... P6: =P5+1 -> 41489
B7: Nouvel an | C7: =DATE($C$6,1,1) -> 40909 | E7: =E6+1 -> 41156 | F7: =F6+1 -> 41186 | G7: =G6+1 -> 41217 | H7: =H6+1 -> 41247 | I7: =I6+1 -> 41278 | J7: =J6+1 -> 41309 | K7: =K6+1 -> 41337 | L7: =L6+1 -> 41368 | ... P7: =P6+1 -> 41490
B8: Pâques | C8: =ROUND(DATE($C$6,4,MOD(234-11*MOD($C$6,19),30))/7,)*7-6 -> 41007 | E8: =E7+1 -> 41157 | F8: =F7+1 -> 41187 | G8: =G7+1 -> 41218 | H8: =H7+1 -> 41248 | I8: =I7+1 -> 41279 | J8: =J7+1 -> 41310 | K8: =K7+1 -> 41338 | L8: =L7+1 -> 41369 | ... P8: =P7+1 -> 41491
B9: Lundi de Pâques | C9: =C8+1 -> 41008 | E9: =E8+1 -> 41158 | F9: =F8+1 -> 41188 | G9: =G8+1 -> 41219 | H9: =H8+1 -> 41249 | I9: =I8+1 -> 41280 | J9: =J8+1 -> 41311 | K9: =K8+1 -> 41339 | L9: =L8+1 -> 41370 | ... P9: =P8+1 -> 41492
B10: Fête du travail | C10: =DATE($C$6,5,1) -> 41030 | E10: =E9+1 -> 41159 | F10: =F9+1 -> 41189 | G10: =G9+1 -> 41220 | H10: =H9+1 -> 41250 | I10: =I9+1 -> 41281 | J10: =J9+1 -> 41312 | K10: =K9+1 -> 41340 | L10: =L9+1 -> 41371 | ... P10: =P9+1 -> 41493
B11: Victoire 1945 | C11: =DATE($C$6,5,8) -> 41037 | E11: =E10+1 -> 41160 | F11: =F10+1 -> 41190 | G11: =G10+1 -> 41221 | H11: =H10+1 -> 41251 | I11: =I10+1 -> 41282 | J11: =J10+1 -> 41313 | K11: =K10+1 -> 41341 | L11: =L10+1 -> 41372 | ... P11: =P10+1 -> 41494
B12: Ascencion | C12: =C8+39 -> 41046 | E12: =E11+1 -> 41161 | F12: =F11+1 -> 41191 | G12: =G11+1 -> 41222 | H12: =H11+1 -> 41252 | I12: =I11+1 -> 41283 | J12: =J11+1 -> 41314 | K12: =K11+1 -> 41342 | L12: =L11+1 -> 41373 | ... P12: =P11+1 -> 41495
B13: Pentecôte | C13: =C8+49 -> 41056 | E13: =E12+1 -> 41162 | F13: =F12+1 -> 41192 | G13: =G12+1 -> 41223 | H13: =H12+1 -> 41253 | I13: =I12+1 -> 41284 | J13: =J12+1 -> 41315 | K13: =K12+1 -> 41343 | L13: =L12+1 -> 41374 | ... P13: =P12+1 -> 41496
B14: Lundi de Pentecôte | C14: =C13+1 -> 41057 | E14: =E13+1 -> 41163 | F14: =F13+1 -> 41193 | G14: =G13+1 -> 41224 | H14: =H13+1 -> 41254 | I14: =I13+1 -> 41285 | J14: =J13+1 -> 41316 | K14: =K13+1 -> 41344 | L14: =L13+1 -> 41375 | ... P14: =P13+1 -> 41497
B15: Fête Nationale | C15: =DATE($C$6,7,14) -> 41104 | E15: =E14+1 -> 41164 | F15: =F14+1 -> 41194 | G15: =G14+1 -> 41225 | H15: =H14+1 -> 41255 | I15: =I14+1 -> 41286 | J15: =J14+1 -> 41317 | K15: =K14+1 -> 41345 | L15: =L14+1 -> 41376 | ... P15: =P14+1 -> 41498
B16: Assomption | C16: =DATE($C$6,8,15) -> 41136 | E16: =E15+1 -> 41165 | F16: =F15+1 -> 41195 | G16: =G15+1 -> 41226 | H16: =H15+1 -> 41256 | I16: =I15+1 -> 41287 | J16: =J15+1 -> 41318 | K16: =K15+1 -> 41346 | L16: =L15+1 -> 41377 | ... P16: =P15+1 -> 41499
B17: Toussaint | C17: =DATE($C$6,11,1) -> 41214 | E17: =E16+1 -> 41166 | F17: =F16+1 -> 41196 | G17: =G16+1 -> 41227 | H17: =H16+1 -> 41257 | I17: =I16+1 -> 41288 | J17: =J16+1 -> 41319 | K17: =K16+1 -> 41347 | L17: =L16+1 -> 41378 | ... P17: =P16+1 -> 41500
B18: Armistice 1918 | C18: =DATE($C$6,11,11) -> 41224 | E18: =E17+1 -> 41167 | F18: =F17+1 -> 41197 | G18: =G17+1 -> 41228 | H18: =H17+1 -> 41258 | I18: =I17+1 -> 41289 | J18: =J17+1 -> 41320 | K18: =K17+1 -> 41348 | L18: =L17+1 -> 41379 | ... P18: =P17+1 -> 41501
B19: Noël | C19: =DATE($C$6,12,25) -> 41268 | E19: =E18+1 -> 41168 | F19: =F18+1 -> 41198 | G19: =G18+1 -> 41229 | H19: =H18+1 -> 41259 | I19: =I18+1 -> 41290 | J19: =J18+1 -> 41321 | K19: =K18+1 -> 41349 | L19: =L18+1 -> 41380 | ... P19: =P18+1 -> 41502
E20: =E19+1 -> 41169 | F20: =F19+1 -> 41199 | G20: =G19+1 -> 41230 | H20: =H19+1 -> 41260 | I20: =I19+1 -> 41291 | J20: =J19+1 -> 41322 | K20: =K19+1 -> 41350 | L20: =L19+1 -> 41381 | ... P20: =P19+1 -> 41503
C21: =C4+1 -> 2013 | E21: =E20+1 -> 41170 | F21: =F20+1 -> 41200 | G21: =G20+1 -> 41231 | H21: =H20+1 -> 41261 | I21: =I20+1 -> 41292 | J21: =J20+1 -> 41323 | K21: =K20+1 -> 41351 | L21: =L20+1 -> 41382 | ... P21: =P20+1 -> 41504
B22: Nouvel an | C22: =DATE($C$21,1,1) -> 41275 | E22: =E21+1 -> 41171 | F22: =F21+1 -> 41201 | G22: =G21+1 -> 41232 | H22: =H21+1 -> 41262 | I22: =I21+1 -> 41293 | J22: =J21+1 -> 41324 | K22: =K21+1 -> 41352 | L22: =L21+1 -> 41383 | ... P22: =P21+1 -> 41505
B23: Pâques | C23: =ROUND(DATE($C$21,4,MOD(234-11*MOD($C$21,19),30))/7,)*7-6 -> 41364 | E23: =E22+1 -> 41172 | F23: =F22+1 -> 41202 | G23: =G22+1 -> 41233 | H23: =H22+1 -> 41263 | I23: =I22+1 -> 41294 | J23: =J22+1 -> 41325 | K23: =K22+1 -> 41353 | L23: =L22+1 -> 41384 | ... P23: =P22+1 -> 41506
B24: Lundi de Pâques | C24: =C23+1 -> 41365 | E24: =E23+1 -> 41173 | F24: =F23+1 -> 41203 | G24: =G23+1 -> 41234 | H24: =H23+1 -> 41264 | I24: =I23+1 -> 41295 | J24: =J23+1 -> 41326 | K24: =K23+1 -> 41354 | L24: =L23+1 -> 41385 | ... P24: =P23+1 -> 41507
B25: Fête du travail | C25: =DATE($C$21,5,1) -> 41395 | E25: =E24+1 -> 41174 | F25: =F24+1 -> 41204 | G25: =G24+1 -> 41235 | H25: =H24+1 -> 41265 | I25: =I24+1 -> 41296 | J25: =J24+1 -> 41327 | K25: =K24+1 -> 41355 | L25: =L24+1 -> 41386 | ... P25: =P24+1 -> 41508
B26: Victoire 1945 | C26: =DATE($C$21,5,8) -> 41402 | E26: =E25+1 -> 41175 | F26: =F25+1 -> 41205 | G26: =G25+1 -> 41236 | H26: =H25+1 -> 41266 | I26: =I25+1 -> 41297 | J26: =J25+1 -> 41328 | K26: =K25+1 -> 41356 | L26: =L25+1 -> 41387 | ... P26: =P25+1 -> 41509
B27: Ascencion | C27: =C23+39 -> 41403 | E27: =E26+1 -> 41176 | F27: =F26+1 -> 41206 | G27: =G26+1 -> 41237 | H27: =H26+1 -> 41267 | I27: =I26+1 -> 41298 | J27: =J26+1 -> 41329 | K27: =K26+1 -> 41357 | L27: =L26+1 -> 41388 | ... P27: =P26+1 -> 41510
B28: Pentecôte | C28: =C23+49 -> 41413 | E28: =E27+1 -> 41177 | F28: =F27+1 -> 41207 | G28: =G27+1 -> 41238 | H28: =H27+1 -> 41268 | I28: =I27+1 -> 41299 | J28: =J27+1 -> 41330 | K28: =K27+1 -> 41358 | L28: =L27+1 -> 41389 | ... P28: =P27+1 -> 41511
B29: Lundi de Pentecôte | C29: =C28+1 -> 41414 | E29: =E28+1 -> 41178 | F29: =F28+1 -> 41208 | G29: =G28+1 -> 41239 | H29: =H28+1 -> 41269 | I29: =I28+1 -> 41300 | J29: =J28+1 -> 41331 | K29: =K28+1 -> 41359 | L29: =L28+1 -> 41390 | ... P29: =P28+1 -> 41512
B30: Fête Nationale | C30: =DATE($C$21,7,14) -> 41469 | E30: =E29+1 -> 41179 | F30: =F29+1 -> 41209 | G30: =G29+1 -> 41240 | H30: =H29+1 -> 41270 | I30: =I29+1 -> 41301 | J30: =J29+1 -> 41332 | K30: =K29+1 -> 41360 | L30: =L29+1 -> 41391 | ... P30: =P29+1 -> 41513
B31: Assomption | C31: =DATE($C$21,8,15) -> 41501 | E31: =IF(MONTH(E30+1)=MONTH(E30),E30+1,"") -> 41180 | F31: =IF(MONTH(F30+1)=MONTH(F30),F30+1,"") -> 41210 | G31: =IF(MONTH(G30+1)=MONTH(G30),G30+1,"") -> 41241 | H31: =IF(MONTH(H30+1)=MONTH(H30),H30+1,"") -> 41271 | I31: =IF(MONTH(I30+1)=MONTH(I30),I30+1,"") -> 41302 | J31: =IF(MONTH(J30+1)=MONTH(J30),J30+1,"") -> 41333 | K31: =IF(MONTH(K30+1)=MONTH(K30),K30+1,"") -> 41361 | L31: =IF(MONTH(L30+1)=MONTH(L30),L30+1,"") -> 41392 | ... P31: =IF(MONTH(P30+1)=MONTH(P30),P30+1,"") -> 41514
B32: Toussaint | C32: =DATE($C$21,11,1) -> 41579 | E32: =IF(E31<>"",IF(MONTH(E31+1)=MONTH(E31),E31+1,""),"") -> 41181 | F32: =IF(F31<>"",IF(MONTH(F31+1)=MONTH(F31),F31+1,""),"") -> 41211 | G32: =IF(G31<>"",IF(MONTH(G31+1)=MONTH(G31),G31+1,""),"") -> 41242 | H32: =IF(H31<>"",IF(MONTH(H31+1)=MONTH(H31),H31+1,""),"") -> 41272 | I32: =IF(I31<>"",IF(MONTH(I31+1)=MONTH(I31),I31+1,""),"") -> 41303 | J32: =IF(J31<>"",IF(MONTH(J31+1)=MONTH(J31),J31+1,""),"") | K32: =IF(K31<>"",IF(MONTH(K31+1)=MONTH(K31),K31+1,""),"") -> 41362 | L32: =IF(L31<>"",IF(MONTH(L31+1)=MONTH(L31),L31+1,""),"") -> 41393 | ... P32: =IF(P31<>"",IF(MONTH(P31+1)=MONTH(P31),P31+1,""),"") -> 41515
B33: Armistice 1918 | C33: =DATE($C$21,11,11) -> 41589 | E33: =IF(E32<>"",IF(MONTH(E32+1)=MONTH(E32),E32+1,""),"") -> 41182 | F33: =IF(F32<>"",IF(MONTH(F32+1)=MONTH(F32),F32+1,""),"") -> 41212 | G33: =IF(G32<>"",IF(MONTH(G32+1)=MONTH(G32),G32+1,""),"") -> 41243 | H33: =IF(H32<>"",IF(MONTH(H32+1)=MONTH(H32),H32+1,""),"") -> 41273 | I33: =IF(I32<>"",IF(MONTH(I32+1)=MONTH(I32),I32+1,""),"") -> 41304 | J33: =IF(J32<>"",IF(MONTH(J32+1)=MONTH(J32),J32+1,""),"") | K33: =IF(K32<>"",IF(MONTH(K32+1)=MONTH(K32),K32+1,""),"") -> 41363 | L33: =IF(L32<>"",IF(MONTH(L32+1)=MONTH(L32),L32+1,""),"") -> 41394 | ... P33: =IF(P32<>"",IF(MONTH(P32+1)=MONTH(P32),P32+1,""),"") -> 41516
B34: Noël | C34: =DATE($C$21,12,25) -> 41633 | E34: =IF(E33<>"",IF(MONTH(E33+1)=MONTH(E33),E33+1,""),"") | F34: =IF(F33<>"",IF(MONTH(F33+1)=MONTH(F33),F33+1,""),"") -> 41213 | G34: =IF(G33<>"",IF(MONTH(G33+1)=MONTH(G33),G33+1,""),"") | H34: =IF(H33<>"",IF(MONTH(H33+1)=MONTH(H33),H33+1,""),"") -> 41274 | I34: =IF(I33<>"",IF(MONTH(I33+1)=MONTH(I33),I33+1,""),"") -> 41305 | J34: =IF(J33<>"",IF(MONTH(J33+1)=MONTH(J33),J33+1,""),"") | K34: =IF(K33<>"",IF(MONTH(K33+1)=MONTH(K33),K33+1,""),"") -> 41364 | L34: =IF(L33<>"",IF(MONTH(L33+1)=MONTH(L33),L33+1,""),"") | ... P34: =IF(P33<>"",IF(MONTH(P33+1)=MONTH(P33),P33+1,""),"") -> 41517

Sheet Septembre
C2: ="PLANNING CONGES " & VLOOKUP(MONTH((C3)),Données!$B$1:$C$12,2,0) -> PLANNING CONGES Septembre
B3: =Calendrier!E3 -> 41153 | C3: =B3 -> 41153 | D3: =D4 -> 41154 | E3: =E4 -> 41155 | F3: =F4 -> 41156 | G3: =G4 -> 41157 | H3: =H4 -> 41158 | I3: =I4 -> 41159 | J3: =J4 -> 41160 | K3: =K4 -> 41161 | ... AF3: =AF4 -> 41182
C4: =B3 -> 41153 | D4: =C4+1 -> 41154 | E4: =D4+1 -> 41155 | F4: =E4+1 -> 41156 | G4: =F4+1 -> 41157 | H4: =G4+1 -> 41158 | I4: =H4+1 -> 41159 | J4: =I4+1 -> 41160 | K4: =J4+1 -> 41161 | ... AF4: =AE4+1 -> 41182 | FP4: 0
A5: BU 1 | B5: Dupont 1 | AH5: RTT
B6: Dupont 2 | AH6: CP
B7: Dupont 3 | AH7: Récup
B8: Dupont 4 | AH8: Maladie
B9: Dupont 5 | AH9: W
B10: Dupont 6 | AH10: JA
B11: Dupont 7 | AH11: CSS
B12: Dupont 8 | AH12: Conven.
B13: Dupont 9
B14: Dupont 10
B15: Dupont 11
B16: Dupont 12
B17: Dupont 13
B18: Dupont 14
B19: Dupont 15
B20: Dupont 16
B21: Dupont 17
A23: BU 2 | B23: Dupont 18
B24: Dupont 19
B25: Dupont 20
B26: Dupont 21
B27: Dupont 22
B28: Dupont 23
B29: Dupont 24
B30: Dupont 25
B31: Dupont 26
B32: Dupont 27
B33: Dupont 28
A35: BU 3 | B35: Dupont 30
B36: Dupont 31
B37: Dupont 32
B38: Dupont 33
B39: Dupont 34
B40: Dupont 35
B41: Dupont 36
B47: Légende
B48: des codes
AG1130: 0 | AH1130: 0 | AI1130: 0 | AJ1130: 0 | AK1130: 0 | AL1130: 0 | AM1130: 0 | AN1130: 0 | AO1130: 0 | AP1130: 0 | AQ1130: 0 | AR1130: 0 | AS1130: 0 | AT1130: 0 | AU1130: 0 | AV1130: 0 | AW1130: 0 | AX1130: 0 | AY1130: 0 | AZ1130: 0 | BA1130: 0 | BB1130: 0 | BC1130: 0 | BD1130: 0 | BE1130: 0 | BF1130: 0 | BG1130: 0 | BH1130: 0 | BI1130: 0 | BJ1130: 0 | BK1130: 0 | BL1130: 0 | BM1130: 0 | BN1130: 0 | BO1130: 0 | BP1130: 0 | BQ1130: 0 | BR1130: 0 | BS1130: 0 | BT1130: 0 | BU1130: 0 | BV1130: 0 | BW1130: 0 | BX1130: 0 | BY1130: 0 | BZ1130: 0 | CA1130: 0 | CB1130: 0 | CC1130: 0 | CD1130: 0 | CE1130: 0 | CF1130: 0 | CG1130: 0 | CH1130: 0 | CI1130: 0 | CJ1130: 0 | CK1130: 0 | CL1130: 0 | CM1130: 0 | CN1130: 0 | CO1130: 0 | CP1130: 0 | CQ1130: 0 | CR1130: 0 | CS1130: 0 | CT1130: 0 | CU1130: 0 | CV1130: 0 | CW1130: 0 | CX1130: 0 | CY1130: 0 | CZ1130: 0 | DA1130: 0 | DB1130: 0 | DC1130: 0 | DD1130: 0 | DE1130: 0 | DF1130: 0 | DG1130: 0 | DH1130: 0 | DI1130: 0 | DJ1130: 0 | DK1130: 0 | DL1130: 0 | DM1130: 0 | DN1130: 0 | DO1130: 0 | DP1130: 0 | DQ1130: 0 | DR1130: 0 | DS1130: 0 | DT1130: 0 | DU1130: 0 | DV1130: 0 | DW1130: 0 | DX1130: 0 | DY1130: 0 | DZ1130: 0 | EA1130: 0 | EB1130: 0 | EC1130: 0 | ED1130: 0 | EE1130: 0 | EF1130: 0 | EG1130: 0 | EH1130: 0 | EI1130: 0 | EJ1130: 0 | EK1130: 0 | EL1130: 0 | EM1130: 0 | EN1130: 0 | EO1130: 0 | EP1130: 0 | EQ1130: 0 | ER1130: 0 | ES1130: 0 | ET1130: 0 | EU1130: 0 | EV1130: 0 | EW1130: 0 | EX1130: 0 | EY1130: 0 | EZ1130: 0 | FA1130: 0 | FB1130: 0 | FC1130: 0 | FD1130: 0 | FE1130: 0 | FF1130: 0 | FG1130: 0 | FH1130: 0 | FI1130: 0 | FJ1130: 0 | FK1130: 0 | FL1130: 0 | FM1130: 0 | FN1130: 0 | FO1130: 0 | FP1130: 0 | FQ1130: 0 | FR1130: 0

Sheet Octobre
C2: ="PLANNING CONGES " & VLOOKUP(MONTH((C3)),Données!$B$1:$C$12,2,0) -> PLANNING CONGES Octobre
B3: =Calendrier!F3 -> 41183 | C3: =B3 -> 41183 | D3: =D4 -> 41184 | E3: =E4 -> 41185 | F3: =F4 -> 41186 | G3: =G4 -> 41187 | H3: =H4 -> 41188 | I3: =I4 -> 41189 | J3: =J4 -> 41190 | K3: =K4 -> 41191 | ... AG3: =AG4 -> 41213
C4: =B3 -> 41183 | D4: =C4+1 -> 41184 | E4: =D4+1 -> 41185 | F4: =E4+1 -> 41186 | G4: =F4+1 -> 41187 | H4: =G4+1 -> 41188 | I4: =H4+1 -> 41189 | J4: =I4+1 -> 41190 | K4: =J4+1 -> 41191 | ... AG4: =AF4+1 -> 41213 | FQ4: 0
A5: BU 1 | B5: Dupont 1 | AI5: RTT
B6: Dupont 2 | AI6: CP
B7: Dupont 3 | AI7: Récup
B8: Dupont 4 | AI8: Maladie
B9: Dupont 5 | AI9: W
B10: Dupont 6 | AI10: JA
B11: Dupont 7 | AI11: CSS
B12: Dupont 8 | AI12: Conven.
B13: Dupont 9
B14: Dupont 10
B15: Dupont 11
B16: Dupont 12
B17: Dupont 13
B18: Dupont 14
B19: Dupont 15
B20: Dupont 16
B21: Dupont 17
A23: BU 2 | B23: Dupont 18
B24: Dupont 19
B25: Dupont 20
B26: Dupont 21
B27: Dupont 22
B28: Dupont 23
B29: Dupont 24
B30: Dupont 25
B31: Dupont 26
B32: Dupont 27
B33: Dupont 28
A35: BU 3 | B35: Dupont 30
B36: Dupont 31
B37: Dupont 32
B38: Dupont 33
B39: Dupont 34
B40: Dupont 35
B41: Dupont 36
B44: Légende
B45: des codes
AH1127: 0 | AI1127: 0 | AJ1127: 0 | AK1127: 0 | AL1127: 0 | AM1127: 0 | AN1127: 0 | AO1127: 0 | AP1127: 0 | AQ1127: 0 | AR1127: 0 | AS1127: 0 | AT1127: 0 | AU1127: 0 | AV1127: 0 | AW1127: 0 | AX1127: 0 | AY1127: 0 | AZ1127: 0 | BA1127: 0 | BB1127: 0 | BC1127: 0 | BD1127: 0 | BE1127: 0 | BF1127: 0 | BG1127: 0 | BH1127: 0 | BI1127: 0 | BJ1127: 0 | BK1127: 0 | BL1127: 0 | BM1127: 0 | BN1127: 0 | BO1127: 0 | BP1127: 0 | BQ1127: 0 | BR1127: 0 | BS1127: 0 | BT1127: 0 | BU1127: 0 | BV1127: 0 | BW1127: 0 | BX1127: 0 | BY1127: 0 | BZ1127: 0 | CA1127: 0 | CB1127: 0 | CC1127: 0 | CD1127: 0 | CE1127: 0 | CF1127: 0 | CG1127: 0 | CH1127: 0 | CI1127: 0 | CJ1127: 0 | CK1127: 0 | CL1127: 0 | CM1127: 0 | CN1127: 0 | CO1127: 0 | CP1127: 0 | CQ1127: 0 | CR1127: 0 | CS1127: 0 | CT1127: 0 | CU1127: 0 | CV1127: 0 | CW1127: 0 | CX1127: 0 | CY1127: 0 | CZ1127: 0 | DA1127: 0 | DB1127: 0 | DC1127: 0 | DD1127: 0 | DE1127: 0 | DF1127: 0 | DG1127: 0 | DH1127: 0 | DI1127: 0 | DJ1127: 0 | DK1127: 0 | DL1127: 0 | DM1127: 0 | DN1127: 0 | DO1127: 0 | DP1127: 0 | DQ1127: 0 | DR1127: 0 | DS1127: 0 | DT1127: 0 | DU1127: 0 | DV1127: 0 | DW1127: 0 | DX1127: 0 | DY1127: 0 | DZ1127: 0 | EA1127: 0 | EB1127: 0 | EC1127: 0 | ED1127: 0 | EE1127: 0 | EF1127: 0 | EG1127: 0 | EH1127: 0 | EI1127: 0 | EJ1127: 0 | EK1127: 0 | EL1127: 0 | EM1127: 0 | EN1127: 0 | EO1127: 0 | EP1127: 0 | EQ1127: 0 | ER1127: 0 | ES1127: 0 | ET1127: 0 | EU1127: 0 | EV1127: 0 | EW1127: 0 | EX1127: 0 | EY1127: 0 | EZ1127: 0 | FA1127: 0 | FB1127: 0 | FC1127: 0 | FD1127: 0 | FE1127: 0 | FF1127: 0 | FG1127: 0 | FH1127: 0 | FI1127: 0 | FJ1127: 0 | FK1127: 0 | FL1127: 0 | FM1127: 0 | FN1127: 0 | FO1127: 0 | FP1127: 0 | FQ1127: 0 | FR1127: 0 | FS1127: 0

Sheet Novembre
C2: ="PLANNING CONGES " & VLOOKUP(MONTH((C3)),Données!$B$1:$C$12,2,0) -> PLANNING CONGES Novembre
B3: =Calendrier!G3 -> 41214 | C3: =B3 -> 41214 | D3: =D4 -> 41215 | E3: =E4 -> 41216 | F3: =F4 -> 41217 | G3: =G4 -> 41218 | H3: =H4 -> 41219 | I3: =I4 -> 41220 | J3: =J4 -> 41221 | K3: =K4 -> 41222 | ... AF3: =AF4 -> 41243
C4: =B3 -> 41214 | D4: =C4+1 -> 41215 | E4: =D4+1 -> 41216 | F4: =E4+1 -> 41217 | G4: =F4+1 -> 41218 | H4: =G4+1 -> 41219 | I4: =H4+1 -> 41220 | J4: =I4+1 -> 41221 | K4: =J4+1 -> 41222 | ... AF4: =AE4+1 -> 41243 | FP4: 0
A5: BU 1 | B5: Dupont 1 | AH5: RTT
B6: Dupont 2 | AH6: CP
B7: Dupont 3 | AH7: Récup
B8: Dupont 4 | AH8: Maladie
B9: Dupont 5 | AH9: W
B10: Dupont 6 | AH10: JA
B11: Dupont 7 | AH11: CSS
B12: Dupont 8 | AH12: Conven.
B13: Dupont 9
B14: Dupont 10
B15: Dupont 11
B16: Dupont 12
B17: Dupont 13
B18: Dupont 14
B19: Dupont 15
B20: Dupont 16
B21: Dupont 17
A23: BU 2 | B23: Dupont 18
B24: Dupont 19
B25: Dupont 20
B26: Dupont 21
B27: Dupont 22
B28: Dupont 23
B29: Dupont 24
B30: Dupont 25
B31: Dupont 26
B32: Dupont 27
B33: Dupont 28
A35: BU 3 | B35: Dupont 30
B36: Dupont 31
B37: Dupont 32
B38: Dupont 33
B39: Dupont 34
B40: Dupont 35
B41: Dupont 36
B44: Légende
B45: des codes
AG1127: 0 | AH1127: 0 | AI1127: 0 | AJ1127: 0 | AK1127: 0 | AL1127: 0 | AM1127: 0 | AN1127: 0 | AO1127: 0 | AP1127: 0 | AQ1127: 0 | AR1127: 0 | AS1127: 0 | AT1127: 0 | AU1127: 0 | AV1127: 0 | AW1127: 0 | AX1127: 0 | AY1127: 0 | AZ1127: 0 | BA1127: 0 | BB1127: 0 | BC1127: 0 | BD1127: 0 | BE1127: 0 | BF1127: 0 | BG1127: 0 | BH1127: 0 | BI1127: 0 | BJ1127: 0 | BK1127: 0 | BL1127: 0 | BM1127: 0 | BN1127: 0 | BO1127: 0 | BP1127: 0 | BQ1127: 0 | BR1127: 0 | BS1127: 0 | BT1127: 0 | BU1127: 0 | BV1127: 0 | BW1127: 0 | BX1127: 0 | BY1127: 0 | BZ1127: 0 | CA1127: 0 | CB1127: 0 | CC1127: 0 | CD1127: 0 | CE1127: 0 | CF1127: 0 | CG1127: 0 | CH1127: 0 | CI1127: 0 | CJ1127: 0 | CK1127: 0 | CL1127: 0 | CM1127: 0 | CN1127: 0 | CO1127: 0 | CP1127: 0 | CQ1127: 0 | CR1127: 0 | CS1127: 0 | CT1127: 0 | CU1127: 0 | CV1127: 0 | CW1127: 0 | CX1127: 0 | CY1127: 0 | CZ1127: 0 | DA1127: 0 | DB1127: 0 | DC1127: 0 | DD1127: 0 | DE1127: 0 | DF1127: 0 | DG1127: 0 | DH1127: 0 | DI1127: 0 | DJ1127: 0 | DK1127: 0 | DL1127: 0 | DM1127: 0 | DN1127: 0 | DO1127: 0 | DP1127: 0 | DQ1127: 0 | DR1127: 0 | DS1127: 0 | DT1127: 0 | DU1127: 0 | DV1127: 0 | DW1127: 0 | DX1127: 0 | DY1127: 0 | DZ1127: 0 | EA1127: 0 | EB1127: 0 | EC1127: 0 | ED1127: 0 | EE1127: 0 | EF1127: 0 | EG1127: 0 | EH1127: 0 | EI1127: 0 | EJ1127: 0 | EK1127: 0 | EL1127: 0 | EM1127: 0 | EN1127: 0 | EO1127: 0 | EP1127: 0 | EQ1127: 0 | ER1127: 0 | ES1127: 0 | ET1127: 0 | EU1127: 0 | EV1127: 0 | EW1127: 0 | EX1127: 0 | EY1127: 0 | EZ1127: 0 | FA1127: 0 | FB1127: 0 | FC1127: 0 | FD1127: 0 | FE1127: 0 | FF1127: 0 | FG1127: 0 | FH1127: 0 | FI1127: 0 | FJ1127: 0 | FK1127: 0 | FL1127: 0 | FM1127: 0 | FN1127: 0 | FO1127: 0 | FP1127: 0 | FQ1127: 0 | FR1127: 0

Sheet Décembre
C2: ="PLANNING CONGES " & VLOOKUP(MONTH((C3)),Données!$B$1:$C$12,2,0) -> PLANNING CONGES Décembre
B3: =Calendrier!H3 -> 41244 | C3: =B3 -> 41244 | D3: =D4 -> 41245 | E3: =E4 -> 41246 | F3: =F4 -> 41247 | G3: =G4 -> 41248 | H3: =H4 -> 41249 | I3: =I4 -> 41250 | J3: =J4 -> 41251 | K3: =K4 -> 41252 | ... AG3: =AG4 -> 41274
C4: =B3 -> 41244 | D4: =C4+1 -> 41245 | E4: =D4+1 -> 41246 | F4: =E4+1 -> 41247 | G4: =F4+1 -> 41248 | H4: =G4+1 -> 41249 | I4: =H4+1 -> 41250 | J4: =I4+1 -> 41251 | K4: =J4+1 -> 41252 | ... AG4: =AF4+1 -> 41274 | FQ4: 0
A5: BU 1 | B5: Dupont 1 | AI5: RTT
B6: Dupont 2 | AI6: CP
B7: Dupont 3 | AI7: Récup
B8: Dupont 4 | AI8: Maladie
B9: Dupont 5 | AI9: W
B10: Dupont 6 | AI10: JA
B11: Dupont 7 | AI11: CSS
B12: Dupont 8 | AI12: Conven.
B13: Dupont 9
B14: Dupont 10
B15: Dupont 11
B16: Dupont 12
B17: Dupont 13
B18: Dupont 14
B19: Dupont 15
B20: Dupont 16
B21: Dupont 17
A23: BU 2 | B23: Dupont 18
B24: Dupont 19
B25: Dupont 20
B26: Dupont 21
B27: Dupont 22
B28: Dupont 23
B29: Dupont 24
B30: Dupont 25
B31: Dupont 26
B32: Dupont 27
B33: Dupont 28
A35: BU 3 | B35: Dupont 30
B36: Dupont 31
B37: Dupont 32
B38: Dupont 33
B39: Dupont 34
B40: Dupont 35
B41: Dupont 36
B44: Légende
B45: des codes
AH1127: 0 | AI1127: 0 | AJ1127: 0 | AK1127: 0 | AL1127: 0 | AM1127: 0 | AN1127: 0 | AO1127: 0 | AP1127: 0 | AQ1127: 0 | AR1127: 0 | AS1127: 0 | AT1127: 0 | AU1127: 0 | AV1127: 0 | AW1127: 0 | AX1127: 0 | AY1127: 0 | AZ1127: 0 | BA1127: 0 | BB1127: 0 | BC1127: 0 | BD1127: 0 | BE1127: 0 | BF1127: 0 | BG1127: 0 | BH1127: 0 | BI1127: 0 | BJ1127: 0 | BK1127: 0 | BL1127: 0 | BM1127: 0 | BN1127: 0 | BO1127: 0 | BP1127: 0 | BQ1127: 0 | BR1127: 0 | BS1127: 0 | BT1127: 0 | BU1127: 0 | BV1127: 0 | BW1127: 0 | BX1127: 0 | BY1127: 0 | BZ1127: 0 | CA1127: 0 | CB1127: 0 | CC1127: 0 | CD1127: 0 | CE1127: 0 | CF1127: 0 | CG1127: 0 | CH1127: 0 | CI1127: 0 | CJ1127: 0 | CK1127: 0 | CL1127: 0 | CM1127: 0 | CN1127: 0 | CO1127: 0 | CP1127: 0 | CQ1127: 0 | CR1127: 0 | CS1127: 0 | CT1127: 0 | CU1127: 0 | CV1127: 0 | CW1127: 0 | CX1127: 0 | CY1127: 0 | CZ1127: 0 | DA1127: 0 | DB1127: 0 | DC1127: 0 | DD1127: 0 | DE1127: 0 | DF1127: 0 | DG1127: 0 | DH1127: 0 | DI1127: 0 | DJ1127: 0 | DK1127: 0 | DL1127: 0 | DM1127: 0 | DN1127: 0 | DO1127: 0 | DP1127: 0 | DQ1127: 0 | DR1127: 0 | DS1127: 0 | DT1127: 0 | DU1127: 0 | DV1127: 0 | DW1127: 0 | DX1127: 0 | DY1127: 0 | DZ1127: 0 | EA1127: 0 | EB1127: 0 | EC1127: 0 | ED1127: 0 | EE1127: 0 | EF1127: 0 | EG1127: 0 | EH1127: 0 | EI1127: 0 | EJ1127: 0 | EK1127: 0 | EL1127: 0 | EM1127: 0 | EN1127: 0 | EO1127: 0 | EP1127: 0 | EQ1127: 0 | ER1127: 0 | ES1127: 0 | ET1127: 0 | EU1127: 0 | EV1127: 0 | EW1127: 0 | EX1127: 0 | EY1127: 0 | EZ1127: 0 | FA1127: 0 | FB1127: 0 | FC1127: 0 | FD1127: 0 | FE1127: 0 | FF1127: 0 | FG1127: 0 | FH1127: 0 | FI1127: 0 | FJ1127: 0 | FK1127: 0 | FL1127: 0 | FM1127: 0 | FN1127: 0 | FO1127: 0 | FP1127: 0 | FQ1127: 0 | FR1127: 0 | FS1127: 0

Sheet Janvier
C2: ="PLANNING CONGES " & VLOOKUP(MONTH((C3)),Données!$B$1:$C$12,2,0) -> PLANNING CONGES Janvier
B3: =Calendrier!I3 -> 41275 | C3: =B3 -> 41275 | D3: =D4 -> 41276 | E3: =E4 -> 41277 | F3: =F4 -> 41278 | G3: =G4 -> 41279 | H3: =H4 -> 41280 | I3: =I4 -> 41281 | J3: =J4 -> 41282 | K3: =K4 -> 41283 | ... AG3: =AG4 -> 41305
C4: =B3 -> 41275 | D4: =C4+1 -> 41276 | E4: =D4+1 -> 41277 | F4: =E4+1 -> 41278 | G4: =F4+1 -> 41279 | H4: =G4+1 -> 41280 | I4: =H4+1 -> 41281 | J4: =I4+1 -> 41282 | K4: =J4+1 -> 41283 | ... AG4: =AF4+1 -> 41305 | FQ4: 0
A5: BU 1 | B5: Dupont 1 | AI5: RTT
B6: Dupont 2 | AI6: CP
B7: Dupont 3 | AI7: Récup
B8: Dupont 4 | AI8: Maladie
B9: Dupont 5 | AI9: W
B10: Dupont 6 | AI10: JA
B11: Dupont 7 | AI11: CSS
B12: Dupont 8 | AI12: Conven.
B13: Dupont 9
B14: Dupont 10
B15: Dupont 11
B16: Dupont 12
B17: Dupont 13
B18: Dupont 14
B19: Dupont 15
B20: Dupont 16
B21: Dupont 17
A23: BU 2 | B23: Dupont 18
B24: Dupont 19
B25: Dupont 20
B26: Dupont 21
B27: Dupont 22
B28: Dupont 23
B29: Dupont 24
B30: Dupont 25
B31: Dupont 26
B32: Dupont 27
B33: Dupont 28
A35: BU 3 | B35: Dupont 30
B36: Dupont 31
B37: Dupont 32
B38: Dupont 33
B39: Dupont 34
B40: Dupont 35
B41: Dupont 36
B44: Légende
B45: des codes
AH1127: 0 | AI1127: 0 | AJ1127: 0 | AK1127: 0 | AL1127: 0 | AM1127: 0 | AN1127: 0 | AO1127: 0 | AP1127: 0 | AQ1127: 0 | AR1127: 0 | AS1127: 0 | AT1127: 0 | AU1127: 0 | AV1127: 0 | AW1127: 0 | AX1127: 0 | AY1127: 0 | AZ1127: 0 | BA1127: 0 | BB1127: 0 | BC1127: 0 | BD1127: 0 | BE1127: 0 | BF1127: 0 | BG1127: 0 | BH1127: 0 | BI1127: 0 | BJ1127: 0 | BK1127: 0 | BL1127: 0 | BM1127: 0 | BN1127: 0 | BO1127: 0 | BP1127: 0 | BQ1127: 0 | BR1127: 0 | BS1127: 0 | BT1127: 0 | BU1127: 0 | BV1127: 0 | BW1127: 0 | BX1127: 0 | BY1127: 0 | BZ1127: 0 | CA1127: 0 | CB1127: 0 | CC1127: 0 | CD1127: 0 | CE1127: 0 | CF1127: 0 | CG1127: 0 | CH1127: 0 | CI1127: 0 | CJ1127: 0 | CK1127: 0 | CL1127: 0 | CM1127: 0 | CN1127: 0 | CO1127: 0 | CP1127: 0 | CQ1127: 0 | CR1127: 0 | CS1127: 0 | CT1127: 0 | CU1127: 0 | CV1127: 0 | CW1127: 0 | CX1127: 0 | CY1127: 0 | CZ1127: 0 | DA1127: 0 | DB1127: 0 | DC1127: 0 | DD1127: 0 | DE1127: 0 | DF1127: 0 | DG1127: 0 | DH1127: 0 | DI1127: 0 | DJ1127: 0 | DK1127: 0 | DL1127: 0 | DM1127: 0 | DN1127: 0 | DO1127: 0 | DP1127: 0 | DQ1127: 0 | DR1127: 0 | DS1127: 0 | DT1127: 0 | DU1127: 0 | DV1127: 0 | DW1127: 0 | DX1127: 0 | DY1127: 0 | DZ1127: 0 | EA1127: 0 | EB1127: 0 | EC1127: 0 | ED1127: 0 | EE1127: 0 | EF1127: 0 | EG1127: 0 | EH1127: 0 | EI1127: 0 | EJ1127: 0 | EK1127: 0 | EL1127: 0 | EM1127: 0 | EN1127: 0 | EO1127: 0 | EP1127: 0 | EQ1127: 0 | ER1127: 0 | ES1127: 0 | ET1127: 0 | EU1127: 0 | EV1127: 0 | EW1127: 0 | EX1127: 0 | EY1127: 0 | EZ1127: 0 | FA1127: 0 | FB1127: 0 | FC1127: 0 | FD1127: 0 | FE1127: 0 | FF1127: 0 | FG1127: 0 | FH1127: 0 | FI1127: 0 | FJ1127: 0 | FK1127: 0 | FL1127: 0 | FM1127: 0 | FN1127: 0 | FO1127: 0 | FP1127: 0 | FQ1127: 0 | FR1127: 0 | FS1127: 0

Sheet Récapitulatif Perso
A2: Nom: | B2: Dupont 3
B4: 1 | C4: 2 | D4: 3 | E4: 4 | F4: 5 | G4: 6 | H4: 7 | I4: 8 | J4: 9 | K4: 10 | L4: 11 | M4: 12 | N4: 13 | O4: 14 | P4: 15 | Q4: 16 | R4: 17 | S4: 18 | T4: 19 | U4: 20 | V4: 21 | W4: 22 | X4: 23 | Y4: 24 | Z4: 25 | AA4: 26 | AB4: 27 | AC4: 28 | AD4: 29 | AE4: 30 | AF4: 31
A5: =Données!N1 -> 41153
A6: =Données!N2 -> 41183
A7: =Données!N3 -> 41214
A8: =Données!N4 -> 41244
A9: =Données!N5 -> 41275
A10: =Données!N6 -> 41306
A11: =Données!N7 -> 41334
A12: =Données!N8 -> 41365
A13: =Données!N9 -> 41395
A14: =Données!N10 -> 41426
A15: =Données!N11 -> 41456
A16: =Données!N12 -> 41487
A19: RTT
A20: CP
A21: Récup
A22: Maladie
A23: W
A24: JA
A25: CSS
A26: Conven.
A29: Nom: | B29: Dupont 3
B31: 1 | C31: 2 | D31: 3 | E31: 4 | F31: 5 | G31: 6 | H31: 7 | I31: 8 | J31: 9 | K31: 10 | L31: 11 | M31: 12 | N31: 13 | O31: 14 | P31: 15 | Q31: 16 | R31: 17 | S31: 18 | T31: 19 | U31: 20 | V31: 21 | W31: 22 | X31: 23 | Y31: 24 | Z31: 25 | AA31: 26 | AB31: 27 | AC31: 28 | AD31: 29 | AE31: 30 | AF31: 31
A32: =Données!N1 -> 41153
A33: =Données!N2 -> 41183
A34: =Données!N3 -> 41214
A35: =Données!N4 -> 41244
A36: =Données!N5 -> 41275
A37: =Données!N6 -> 41306
A38: =Données!N7 -> 41334
A39: =Données!N8 -> 41365
A40: =Données!N9 -> 41395
A41: =Données!N10 -> 41426
A42: =Données!N11 -> 41456
A43: =Données!N12 -> 41487
A46: RTT
A47: CP
A48: Récup
A49: Maladie
A50: W
A51: JA
A52: CSS
A53: Conven.

Sheet Données
B1: 1 | C1: Janvier | E1: =YEAR(TODAY())-1 -> 2011 | H1: =Calendrier!C7 -> 40909 | K1: Dupont 1 | N1: =date -> 41153
B2: 2 | C2: Février | E2: =E1+1 -> 2012 | H2: =Calendrier!C8 -> 41007 | K2: Dupont 2 | N2: =Calendrier!F3 -> 41183
B3: 3 | C3: Mars | E3: =E2+1 -> 2013 | H3: =Calendrier!C9 -> 41008 | K3: Dupont 3 | N3: =Calendrier!G3 -> 41214
B4: 4 | C4: Avril | E4: =E3+1 -> 2014 | H4: =Calendrier!C10 -> 41030 | K4: Dupont 4 | N4: =Calendrier!H3 -> 41244
B5: 5 | C5: Mai | E5: =E4+1 -> 2015 | H5: =Calendrier!C11 -> 41037 | K5: Dupont 5 | N5: =Calendrier!I3 -> 41275
B6: 6 | C6: Juin | E6: =E5+1 -> 2016 | H6: =Calendrier!C12 -> 41046 | K6: Dupont 6 | N6: =Calendrier!J3 -> 41306
B7: 7 | C7: Juillet | E7: =E6+1 -> 2017 | H7: =Calendrier!C13 -> 41056 | K7: Dupont 7 | N7: =Calendrier!K3 -> 41334
B8: 8 | C8: Août | E8: =E7+1 -> 2018 | H8: =Calendrier!C14 -> 41057 | K8: Dupont 8 | N8: =Calendrier!L3 -> 41365
B9: 9 | C9: Septembre | E9: =E8+1 -> 2019 | H9: =Calendrier!C15 -> 41104 | K9: Dupont 9 | N9: =Calendrier!M3 -> 41395
B10: 10 | C10: Octobre | E10: =E9+1 -> 2020 | H10: =Calendrier!C16 -> 41136 | K10: Dupont 10 | N10: =Calendrier!N3 -> 41426
B11: 11 | C11: Novembre | E11: =E10+1 -> 2021 | H11: =Calendrier!C17 -> 41214 | K11: Dupont 11 | N11: =Calendrier!O3 -> 41456
B12: 12 | C12: Décembre | E12: =E11+1 -> 2022 | H12: =Calendrier!C18 -> 41224 | K12: Dupont 12 | N12: =Calendrier!P3 -> 41487
E13: =E12+1 -> 2023 | H13: =Calendrier!C19 -> 41268 | K13: Dupont 13
E14: =E13+1 -> 2024 | H14: =Calendrier!C22 -> 41275 | K14: Dupont 14
E15: =E14+1 -> 2025 | H15: =Calendrier!C23 -> 41364 | K15: Dupont 15
E16: =E15+1 -> 2026 | H16: =Calendrier!C24 -> 41365 | K16: Dupont 16
E17: =E16+1 -> 2027 | H17: =Calendrier!C25 -> 41395 | K17: Dupont 17
E18: =E17+1 -> 2028 | H18: =Calendrier!C26 -> 41402 | K18: Dupont 18
E19: =E18+1 -> 2029 | H19: =Calendrier!C27 -> 41403 | K19: Dupont 19
E20: =E19+1 -> 2030 | H20: =Calendrier!C28 -> 41413 | K20: Dupont 20
H21: =Calendrier!C29 -> 41414 | K21: Dupont 21
H22: =Calendrier!C30 -> 41469 | K22: Dupont 22
H23: =Calendrier!C31 -> 41501 | K23: Dupont 23
H24: =Calendrier!C32 -> 41579 | K24: Dupont 24
H25: =Calendrier!C33 -> 41589 | K25: Dupont 25
H26: =Calendrier!C34 -> 41633 | K26: Dupont 26
K27: Dupont 27
K28: Dupont 28
K29: Dupont 29
K30: Dupont 30
K31: Dupont 31
K32: Dupont 32
K33: Dupont 33
K34: Dupont 34
K35: Dupont 35
K36: Dupont 36
