Workbook
Name Année: Données!$A$1:$A$13
Name Collaborateurs: Données!$D$1:$D$53
Name JFeries: Calendrier!$R$7:$R$35

Sheet Calendrier
E1: ="CALENDRIER "&E2&" - "&I2 -> CALENDRIER 2014 - 2015
E2: =C4 -> 2014 | I2: =E2+1 -> 2015
C3: Première année à considérer | E3: Sept | F3: Oct | G3: Nov | H3: Déc | I3: Janv | J3: Févr | K3: Mars | L3: Avr | M3: Mai | N3: Juin | O3: Juil | P3: Août
C4: 2014 | E4: =DATE($E$2,9,$Q4) -> 41883 | F4: =DATE($E$2,10,$Q4) -> 41913 | G4: =DATE($E$2,11,$Q4) -> 41944 | H4: =DATE($E$2,12,$Q4) -> 41974 | I4: =DATE($I$2,1,$Q4) -> 42005 | J4: =DATE($I$2,2,$Q4) -> 42036 | K4: =DATE($I$2,3,$Q4) -> 42064 | L4: =DATE($I$2,4,$Q4) -> 42095 | M4: =DATE($I$2,5,$Q4) -> 42125 | N4: =DATE($I$2,6,$Q4) -> 42156 | O4: =DATE($I$2,7,$Q4) -> 42186 | P4: =DATE($I$2,8,$Q4) -> 42217 | Q4: 1
E5: =DATE($E$2,9,$Q5) -> 41884 | F5: =DATE($E$2,10,$Q5) -> 41914 | G5: =DATE($E$2,11,$Q5) -> 41945 | H5: =DATE($E$2,12,$Q5) -> 41975 | I5: =DATE($I$2,1,$Q5) -> 42006 | J5: =DATE($I$2,2,$Q5) -> 42037 | K5: =DATE($I$2,3,$Q5) -> 42065 | L5: =DATE($I$2,4,$Q5) -> 42096 | M5: =DATE($I$2,5,$Q5) -> 42126 | N5: =DATE($I$2,6,$Q5) -> 42157 | O5: =DATE($I$2,7,$Q5) -> 42187 | P5: =DATE($I$2,8,$Q5) -> 42218 | Q5: 2
C6: ="Les jours fériés de "&E2 -> Les jours fériés de 2014 | E6: =DATE($E$2,9,$Q6) -> 41885 | F6: =DATE($E$2,10,$Q6) -> 41915 | G6: =DATE($E$2,11,$Q6) -> 41946 | H6: =DATE($E$2,12,$Q6) -> 41976 | I6: =DATE($I$2,1,$Q6) -> 42007 | J6: =DATE($I$2,2,$Q6) -> 42038 | K6: =DATE($I$2,3,$Q6) -> 42066 | L6: =DATE($I$2,4,$Q6) -> 42097 | M6: =DATE($I$2,5,$Q6) -> 42127 | N6: =DATE($I$2,6,$Q6) -> 42158 | O6: =DATE($I$2,7,$Q6) -> 42188 | P6: =DATE($I$2,8,$Q6) -> 42219 | Q6: 3
B7: Nouvel an | C7: =DATE(C4,1,1) -> 41640 | E7: =DATE($E$2,9,$Q7) -> 41886 | F7: =DATE($E$2,10,$Q7) -> 41916 | G7: =DATE($E$2,11,$Q7) -> 41947 | H7: =DATE($E$2,12,$Q7) -> 41977 | I7: =DATE($I$2,1,$Q7) -> 42008 | J7: =DATE($I$2,2,$Q7) -> 42039 | K7: =DATE($I$2,3,$Q7) -> 42067 | L7: =DATE($I$2,4,$Q7) -> 42098 | M7: =DATE($I$2,5,$Q7) -> 42128 | N7: =DATE($I$2,6,$Q7) -> 42159 | O7: =DATE($I$2,7,$Q7) -> 42189 | P7: =DATE($I$2,8,$Q7) -> 42220 | Q7: 4 | R7: =C7 -> 41640
B8: Pâques | C8: =ROUND(DATE($E$2,4,MOD(234-11*MOD($E$2,19),30))/7,)*7-6 -> 41749 | E8: =DATE($E$2,9,$Q8) -> 41887 | F8: =DATE($E$2,10,$Q8) -> 41917 | G8: =DATE($E$2,11,$Q8) -> 41948 | H8: =DATE($E$2,12,$Q8) -> 41978 | I8: =DATE($I$2,1,$Q8) -> 42009 | J8: =DATE($I$2,2,$Q8) -> 42040 | K8: =DATE($I$2,3,$Q8) -> 42068 | L8: =DATE($I$2,4,$Q8) -> 42099 | M8: =DATE($I$2,5,$Q8) -> 42129 | N8: =DATE($I$2,6,$Q8) -> 42160 | O8: =DATE($I$2,7,$Q8) -> 42190 | P8: =DATE($I$2,8,$Q8) -> 42221 | Q8: 5 | R8: =C8 -> 41749
B9: Lundi de Pâques | C9: =C8+1 -> 41750 | E9: =DATE($E$2,9,$Q9) -> 41888 | F9: =DATE($E$2,10,$Q9) -> 41918 | G9: =DATE($E$2,11,$Q9) -> 41949 | H9: =DATE($E$2,12,$Q9) -> 41979 | I9: =DATE($I$2,1,$Q9) -> 42010 | J9: =DATE($I$2,2,$Q9) -> 42041 | K9: =DATE($I$2,3,$Q9) -> 42069 | L9: =DATE($I$2,4,$Q9) -> 42100 | M9: =DATE($I$2,5,$Q9) -> 42130 | N9: =DATE($I$2,6,$Q9) -> 42161 | O9: =DATE($I$2,7,$Q9) -> 42191 | P9: =DATE($I$2,8,$Q9) -> 42222 | Q9: 6 | R9: =C9 -> 41750
B10: Fête du travail | C10: =DATE(E2,5,1) -> 41760 | E10: =DATE($E$2,9,$Q10) -> 41889 | F10: =DATE($E$2,10,$Q10) -> 41919 | G10: =DATE($E$2,11,$Q10) -> 41950 | H10: =DATE($E$2,12,$Q10) -> 41980 | I10: =DATE($I$2,1,$Q10) -> 42011 | J10: =DATE($I$2,2,$Q10) -> 42042 | K10: =DATE($I$2,3,$Q10) -> 42070 | L10: =DATE($I$2,4,$Q10) -> 42101 | M10: =DATE($I$2,5,$Q10) -> 42131 | N10: =DATE($I$2,6,$Q10) -> 42162 | O10: =DATE($I$2,7,$Q10) -> 42192 | P10: =DATE($I$2,8,$Q10) -> 42223 | Q10: 7 | R10: =C10 -> 41760
B11: Victoire 1945 | C11: =DATE(E2,5,8) -> 41767 | E11: =DATE($E$2,9,$Q11) -> 41890 | F11: =DATE($E$2,10,$Q11) -> 41920 | G11: =DATE($E$2,11,$Q11) -> 41951 | H11: =DATE($E$2,12,$Q11) -> 41981 | I11: =DATE($I$2,1,$Q11) -> 42012 | J11: =DATE($I$2,2,$Q11) -> 42043 | K11: =DATE($I$2,3,$Q11) -> 42071 | L11: =DATE($I$2,4,$Q11) -> 42102 | M11: =DATE($I$2,5,$Q11) -> 42132 | N11: =DATE($I$2,6,$Q11) -> 42163 | O11: =DATE($I$2,7,$Q11) -> 42193 | P11: =DATE($I$2,8,$Q11) -> 42224 | Q11: 8 | R11: =C11 -> 41767
B12: Ascencion | C12: =C11+1 -> 41768 | E12: =DATE($E$2,9,$Q12) -> 41891 | F12: =DATE($E$2,10,$Q12) -> 41921 | G12: =DATE($E$2,11,$Q12) -> 41952 | H12: =DATE($E$2,12,$Q12) -> 41982 | I12: =DATE($I$2,1,$Q12) -> 42013 | J12: =DATE($I$2,2,$Q12) -> 42044 | K12: =DATE($I$2,3,$Q12) -> 42072 | L12: =DATE($I$2,4,$Q12) -> 42103 | M12: =DATE($I$2,5,$Q12) -> 42133 | N12: =DATE($I$2,6,$Q12) -> 42164 | O12: =DATE($I$2,7,$Q12) -> 42194 | P12: =DATE($I$2,8,$Q12) -> 42225 | Q12: 9 | R12: =C12 -> 41768
B13: Pentecôte | C13: =C8+49 -> 41798 | E13: =DATE($E$2,9,$Q13) -> 41892 | F13: =DATE($E$2,10,$Q13) -> 41922 | G13: =DATE($E$2,11,$Q13) -> 41953 | H13: =DATE($E$2,12,$Q13) -> 41983 | I13: =DATE($I$2,1,$Q13) -> 42014 | J13: =DATE($I$2,2,$Q13) -> 42045 | K13: =DATE($I$2,3,$Q13) -> 42073 | L13: =DATE($I$2,4,$Q13) -> 42104 | M13: =DATE($I$2,5,$Q13) -> 42134 | N13: =DATE($I$2,6,$Q13) -> 42165 | O13: =DATE($I$2,7,$Q13) -> 42195 | P13: =DATE($I$2,8,$Q13) -> 42226 | Q13: 10 | R13: =C13 -> 41798
B14: Lundi de Pentecôte | C14: =C13+1 -> 41799 | E14: =DATE($E$2,9,$Q14) -> 41893 | F14: =DATE($E$2,10,$Q14) -> 41923 | G14: =DATE($E$2,11,$Q14) -> 41954 | H14: =DATE($E$2,12,$Q14) -> 41984 | I14: =DATE($I$2,1,$Q14) -> 42015 | J14: =DATE($I$2,2,$Q14) -> 42046 | K14: =DATE($I$2,3,$Q14) -> 42074 | L14: =DATE($I$2,4,$Q14) -> 42105 | M14: =DATE($I$2,5,$Q14) -> 42135 | N14: =DATE($I$2,6,$Q14) -> 42166 | O14: =DATE($I$2,7,$Q14) -> 42196 | P14: =DATE($I$2,8,$Q14) -> 42227 | Q14: 11 | R14: =C14 -> 41799
B15: Fête Nationale | C15: =DATE(E2,7,14) -> 41834 | E15: =DATE($E$2,9,$Q15) -> 41894 | F15: =DATE($E$2,10,$Q15) -> 41924 | G15: =DATE($E$2,11,$Q15) -> 41955 | H15: =DATE($E$2,12,$Q15) -> 41985 | I15: =DATE($I$2,1,$Q15) -> 42016 | J15: =DATE($I$2,2,$Q15) -> 42047 | K15: =DATE($I$2,3,$Q15) -> 42075 | L15: =DATE($I$2,4,$Q15) -> 42106 | M15: =DATE($I$2,5,$Q15) -> 42136 | N15: =DATE($I$2,6,$Q15) -> 42167 | O15: =DATE($I$2,7,$Q15) -> 42197 | P15: =DATE($I$2,8,$Q15) -> 42228 | Q15: 12 | R15: =C15 -> 41834
B16: Assomption | C16: =DATE(E2,8,15) -> 41866 | E16: =DATE($E$2,9,$Q16) -> 41895 | F16: =DATE($E$2,10,$Q16) -> 41925 | G16: =DATE($E$2,11,$Q16) -> 41956 | H16: =DATE($E$2,12,$Q16) -> 41986 | I16: =DATE($I$2,1,$Q16) -> 42017 | J16: =DATE($I$2,2,$Q16) -> 42048 | K16: =DATE($I$2,3,$Q16) -> 42076 | L16: =DATE($I$2,4,$Q16) -> 42107 | M16: =DATE($I$2,5,$Q16) -> 42137 | N16: =DATE($I$2,6,$Q16) -> 42168 | O16: =DATE($I$2,7,$Q16) -> 42198 | P16: =DATE($I$2,8,$Q16) -> 42229 | Q16: 13 | R16: =C16 -> 41866
B17: Toussaint | C17: =DATE(E2,11,1) -> 41944 | E17: =DATE($E$2,9,$Q17) -> 41896 | F17: =DATE($E$2,10,$Q17) -> 41926 | G17: =DATE($E$2,11,$Q17) -> 41957 | H17: =DATE($E$2,12,$Q17) -> 41987 | I17: =DATE($I$2,1,$Q17) -> 42018 | J17: =DATE($I$2,2,$Q17) -> 42049 | K17: =DATE($I$2,3,$Q17) -> 42077 | L17: =DATE($I$2,4,$Q17) -> 42108 | M17: =DATE($I$2,5,$Q17) -> 42138 | N17: =DATE($I$2,6,$Q17) -> 42169 | O17: =DATE($I$2,7,$Q17) -> 42199 | P17: =DATE($I$2,8,$Q17) -> 42230 | Q17: 14 | R17: =C17 -> 41944
B18: Armistice 1918 | C18: =DATE(E2,11,11) -> 41954 | E18: =DATE($E$2,9,$Q18) -> 41897 | F18: =DATE($E$2,10,$Q18) -> 41927 | G18: =DATE($E$2,11,$Q18) -> 41958 | H18: =DATE($E$2,12,$Q18) -> 41988 | I18: =DATE($I$2,1,$Q18) -> 42019 | J18: =DATE($I$2,2,$Q18) -> 42050 | K18: =DATE($I$2,3,$Q18) -> 42078 | L18: =DATE($I$2,4,$Q18) -> 42109 | M18: =DATE($I$2,5,$Q18) -> 42139 | N18: =DATE($I$2,6,$Q18) -> 42170 | O18: =DATE($I$2,7,$Q18) -> 42200 | P18: =DATE($I$2,8,$Q18) -> 42231 | Q18: 15 | R18: =C18 -> 41954
B19: Noël | C19: =DATE(E2,12,25) -> 41998 | E19: =DATE($E$2,9,$Q19) -> 41898 | F19: =DATE($E$2,10,$Q19) -> 41928 | G19: =DATE($E$2,11,$Q19) -> 41959 | H19: =DATE($E$2,12,$Q19) -> 41989 | I19: =DATE($I$2,1,$Q19) -> 42020 | J19: =DATE($I$2,2,$Q19) -> 42051 | K19: =DATE($I$2,3,$Q19) -> 42079 | L19: =DATE($I$2,4,$Q19) -> 42110 | M19: =DATE($I$2,5,$Q19) -> 42140 | N19: =DATE($I$2,6,$Q19) -> 42171 | O19: =DATE($I$2,7,$Q19) -> 42201 | P19: =DATE($I$2,8,$Q19) -> 42232 | Q19: 16 | R19: =C19 -> 41998
E20: =DATE($E$2,9,$Q20) -> 41899 | F20: =DATE($E$2,10,$Q20) -> 41929 | G20: =DATE($E$2,11,$Q20) -> 41960 | H20: =DATE($E$2,12,$Q20) -> 41990 | I20: =DATE($I$2,1,$Q20) -> 42021 | J20: =DATE($I$2,2,$Q20) -> 42052 | K20: =DATE($I$2,3,$Q20) -> 42080 | L20: =DATE($I$2,4,$Q20) -> 42111 | M20: =DATE($I$2,5,$Q20) -> 42141 | N20: =DATE($I$2,6,$Q20) -> 42172 | O20: =DATE($I$2,7,$Q20) -> 42202 | P20: =DATE($I$2,8,$Q20) -> 42233 | Q20: 17 | R20: =C22 -> 42005
C21: ="Les jours fériés de "&I2 -> Les jours fériés de 2015 | E21: =DATE($E$2,9,$Q21) -> 41900 | F21: =DATE($E$2,10,$Q21) -> 41930 | G21: =DATE($E$2,11,$Q21) -> 41961 | H21: =DATE($E$2,12,$Q21) -> 41991 | I21: =DATE($I$2,1,$Q21) -> 42022 | J21: =DATE($I$2,2,$Q21) -> 42053 | K21: =DATE($I$2,3,$Q21) -> 42081 | L21: =DATE($I$2,4,$Q21) -> 42112 | M21: =DATE($I$2,5,$Q21) -> 42142 | N21: =DATE($I$2,6,$Q21) -> 42173 | O21: =DATE($I$2,7,$Q21) -> 42203 | P21: =DATE($I$2,8,$Q21) -> 42234 | Q21: 18 | R21: =C23 -> 42099
B22: Nouvel an | C22: =DATE(I2,1,1) -> 42005 | E22: =DATE($E$2,9,$Q22) -> 41901 | F22: =DATE($E$2,10,$Q22) -> 41931 | G22: =DATE($E$2,11,$Q22) -> 41962 | H22: =DATE($E$2,12,$Q22) -> 41992 | I22: =DATE($I$2,1,$Q22) -> 42023 | J22: =DATE($I$2,2,$Q22) -> 42054 | K22: =DATE($I$2,3,$Q22) -> 42082 | L22: =DATE($I$2,4,$Q22) -> 42113 | M22: =DATE($I$2,5,$Q22) -> 42143 | N22: =DATE($I$2,6,$Q22) -> 42174 | O22: =DATE($I$2,7,$Q22) -> 42204 | P22: =DATE($I$2,8,$Q22) -> 42235 | Q22: 19 | R22: =C24 -> 42100
B23: Pâques | C23: =ROUND(DATE($I$2,4,MOD(234-11*MOD($I$2,19),30))/7,)*7-6 -> 42099 | E23: =DATE($E$2,9,$Q23) -> 41902 | F23: =DATE($E$2,10,$Q23) -> 41932 | G23: =DATE($E$2,11,$Q23) -> 41963 | H23: =DATE($E$2,12,$Q23) -> 41993 | I23: =DATE($I$2,1,$Q23) -> 42024 | J23: =DATE($I$2,2,$Q23) -> 42055 | K23: =DATE($I$2,3,$Q23) -> 42083 | L23: =DATE($I$2,4,$Q23) -> 42114 | M23: =DATE($I$2,5,$Q23) -> 42144 | N23: =DATE($I$2,6,$Q23) -> 42175 | O23: =DATE($I$2,7,$Q23) -> 42205 | P23: =DATE($I$2,8,$Q23) -> 42236 | Q23: 20 | R23: =C25 -> 42125
B24: Lundi de Pâques | C24: =C23+1 -> 42100 | E24: =DATE($E$2,9,$Q24) -> 41903 | F24: =DATE($E$2,10,$Q24) -> 41933 | G24: =DATE($E$2,11,$Q24) -> 41964 | H24: =DATE($E$2,12,$Q24) -> 41994 | I24: =DATE($I$2,1,$Q24) -> 42025 | J24: =DATE($I$2,2,$Q24) -> 42056 | K24: =DATE($I$2,3,$Q24) -> 42084 | L24: =DATE($I$2,4,$Q24) -> 42115 | M24: =DATE($I$2,5,$Q24) -> 42145 | N24: =DATE($I$2,6,$Q24) -> 42176 | O24: =DATE($I$2,7,$Q24) -> 42206 | P24: =DATE($I$2,8,$Q24) -> 42237 | Q24: 21 | R24: =C26 -> 42132
B25: Fête du travail | C25: =DATE(I2,5,1) -> 42125 | E25: =DATE($E$2,9,$Q25) -> 41904 | F25: =DATE($E$2,10,$Q25) -> 41934 | G25: =DATE($E$2,11,$Q25) -> 41965 | H25: =DATE($E$2,12,$Q25) -> 41995 | I25: =DATE($I$2,1,$Q25) -> 42026 | J25: =DATE($I$2,2,$Q25) -> 42057 | K25: =DATE($I$2,3,$Q25) -> 42085 | L25: =DATE($I$2,4,$Q25) -> 42116 | M25: =DATE($I$2,5,$Q25) -> 42146 | N25: =DATE($I$2,6,$Q25) -> 42177 | O25: =DATE($I$2,7,$Q25) -> 42207 | P25: =DATE($I$2,8,$Q25) -> 42238 | Q25: 22 | R25: =C27 -> 42133
B26: Victoire 1945 | C26: =DATE(I2,5,8) -> 42132 | E26: =DATE($E$2,9,$Q26) -> 41905 | F26: =DATE($E$2,10,$Q26) -> 41935 | G26: =DATE($E$2,11,$Q26) -> 41966 | H26: =DATE($E$2,12,$Q26) -> 41996 | I26: =DATE($I$2,1,$Q26) -> 42027 | J26: =DATE($I$2,2,$Q26) -> 42058 | K26: =DATE($I$2,3,$Q26) -> 42086 | L26: =DATE($I$2,4,$Q26) -> 42117 | M26: =DATE($I$2,5,$Q26) -> 42147 | N26: =DATE($I$2,6,$Q26) -> 42178 | O26: =DATE($I$2,7,$Q26) -> 42208 | P26: =DATE($I$2,8,$Q26) -> 42239 | Q26: 23 | R26: =C28 -> 42148
B27: Ascencion | C27: =C26+1 -> 42133 | E27: =DATE($E$2,9,$Q27) -> 41906 | F27: =DATE($E$2,10,$Q27) -> 41936 | G27: =DATE($E$2,11,$Q27) -> 41967 | H27: =DATE($E$2,12,$Q27) -> 41997 | I27: =DATE($I$2,1,$Q27) -> 42028 | J27: =DATE($I$2,2,$Q27) -> 42059 | K27: =DATE($I$2,3,$Q27) -> 42087 | L27: =DATE($I$2,4,$Q27) -> 42118 | M27: =DATE($I$2,5,$Q27) -> 42148 | N27: =DATE($I$2,6,$Q27) -> 42179 | O27: =DATE($I$2,7,$Q27) -> 42209 | P27: =DATE($I$2,8,$Q27) -> 42240 | Q27: 24 | R27: =C29 -> 42149
B28: Pentecôte | C28: =C23+49 -> 42148 | E28: =DATE($E$2,9,$Q28) -> 41907 | F28: =DATE($E$2,10,$Q28) -> 41937 | G28: =DATE($E$2,11,$Q28) -> 41968 | H28: =DATE($E$2,12,$Q28) -> 41998 | I28: =DATE($I$2,1,$Q28) -> 42029 | J28: =DATE($I$2,2,$Q28) -> 42060 | K28: =DATE($I$2,3,$Q28) -> 42088 | L28: =DATE($I$2,4,$Q28) -> 42119 | M28: =DATE($I$2,5,$Q28) -> 42149 | N28: =DATE($I$2,6,$Q28) -> 42180 | O28: =DATE($I$2,7,$Q28) -> 42210 | P28: =DATE($I$2,8,$Q28) -> 42241 | Q28: 25 | R28: =C30 -> 42199
B29: Lundi de Pentecôte | C29: =C28+1 -> 42149 | E29: =DATE($E$2,9,$Q29) -> 41908 | F29: =DATE($E$2,10,$Q29) -> 41938 | G29: =DATE($E$2,11,$Q29) -> 41969 | H29: =DATE($E$2,12,$Q29) -> 41999 | I29: =DATE($I$2,1,$Q29) -> 42030 | J29: =DATE($I$2,2,$Q29) -> 42061 | K29: =DATE($I$2,3,$Q29) -> 42089 | L29: =DATE($I$2,4,$Q29) -> 42120 | M29: =DATE($I$2,5,$Q29) -> 42150 | N29: =DATE($I$2,6,$Q29) -> 42181 | O29: =DATE($I$2,7,$Q29) -> 42211 | P29: =DATE($I$2,8,$Q29) -> 42242 | Q29: 26 | R29: =C31 -> 42231
B30: Fête Nationale | C30: =DATE(I2,7,14) -> 42199 | E30: =DATE($E$2,9,$Q30) -> 41909 | F30: =DATE($E$2,10,$Q30) -> 41939 | G30: =DATE($E$2,11,$Q30) -> 41970 | H30: =DATE($E$2,12,$Q30) -> 42000 | I30: =DATE($I$2,1,$Q30) -> 42031 | J30: =DATE($I$2,2,$Q30) -> 42062 | K30: =DATE($I$2,3,$Q30) -> 42090 | L30: =DATE($I$2,4,$Q30) -> 42121 | M30: =DATE($I$2,5,$Q30) -> 42151 | N30: =DATE($I$2,6,$Q30) -> 42182 | O30: =DATE($I$2,7,$Q30) -> 42212 | P30: =DATE($I$2,8,$Q30) -> 42243 | Q30: 27 | R30: =C32 -> 42309
B31: Assomption | C31: =DATE(I2,8,15) -> 42231 | E31: =DATE($E$2,9,$Q31) -> 41910 | F31: =DATE($E$2,10,$Q31) -> 41940 | G31: =DATE($E$2,11,$Q31) -> 41971 | H31: =DATE($E$2,12,$Q31) -> 42001 | I31: =DATE($I$2,1,$Q31) -> 42032 | J31: =IF(0=MOD(I2,4),DATE($I$2,2,$Q31),"") | K31: =DATE($I$2,3,$Q31) -> 42091 | L31: =DATE($I$2,4,$Q31) -> 42122 | M31: =DATE($I$2,5,$Q31) -> 42152 | N31: =DATE($I$2,6,$Q31) -> 42183 | O31: =DATE($I$2,7,$Q31) -> 42213 | P31: =DATE($I$2,8,$Q31) -> 42244 | Q31: 28 | R31: =C33 -> 42319
B32: Toussaint | C32: =DATE(I2,11,1) -> 42309 | E32: =DATE($E$2,9,$Q32) -> 41911 | F32: =DATE($E$2,10,$Q32) -> 41941 | G32: =DATE($E$2,11,$Q32) -> 41972 | H32: =DATE($E$2,12,$Q32) -> 42002 | I32: =DATE($I$2,1,$Q32) -> 42033 | K32: =DATE($I$2,3,$Q32) -> 42092 | L32: =DATE($I$2,4,$Q32) -> 42123 | M32: =DATE($I$2,5,$Q32) -> 42153 | N32: =DATE($I$2,6,$Q32) -> 42184 | O32: =DATE($I$2,7,$Q32) -> 42214 | P32: =DATE($I$2,8,$Q32) -> 42245 | Q32: 29 | R32: =C34 -> 42363
B33: Armistice 1918 | C33: =DATE(I2,11,11) -> 42319 | E33: =DATE($E$2,9,$Q33) -> 41912 | F33: =DATE($E$2,10,$Q33) -> 41942 | G33: =DATE($E$2,11,$Q33) -> 41973 | H33: =DATE($E$2,12,$Q33) -> 42003 | I33: =DATE($I$2,1,$Q33) -> 42034 | K33: =DATE($I$2,3,$Q33) -> 42093 | L33: =DATE($I$2,4,$Q33) -> 42124 | M33: =DATE($I$2,5,$Q33) -> 42154 | N33: =DATE($I$2,6,$Q33) -> 42185 | O33: =DATE($I$2,7,$Q33) -> 42215 | P33: =DATE($I$2,8,$Q33) -> 42246 | Q33: 30
B34: Noël | C34: =DATE(I2,12,25) -> 42363 | F34: =DATE($E$2,10,$Q34) -> 41943 | H34: =DATE($E$2,12,$Q34) -> 42004 | I34: =DATE($I$2,1,$Q34) -> 42035 | K34: =DATE($I$2,3,$Q34) -> 42094 | M34: =DATE($I$2,5,$Q34) -> 42155 | O34: =DATE($I$2,7,$Q34) -> 42216 | P34: =DATE($I$2,8,$Q34) -> 42247 | Q34: 31

Sheet Données
A1: 2013 | D1: Utilisateur 1 | E1: BU1
A2: 2014 | D2: Utilisateur 2 | E2: BU2
A3: 2015 | D3: Utilisateur 3 | E3: BU3
A4: 2016 | D4: Utilisateur 4 | E4: BU1
A5: 2017 | D5: Utilisateur 5 | E5: BU1
A6: 2018 | D6: Utilisateur 6 | E6: BU1
A7: 2019 | D7: Utilisateur 7 | E7: BU1
A8: 2020 | D8: Utilisateur 8 | E8: BU1
A9: 2021 | D9: Utilisateur 9 | E9: BU1
A10: 2022 | D10: Utilisateur 10 | E10: BU1
A11: 2023 | D11: Utilisateur 11 | E11: BU1
A12: 2024 | D12: Utilisateur 12 | E12: BU1
A13: 2025 | D13: Utilisateur 13 | E13: BU3
D14: Utilisateur 14 | E14: BU2
D15: Utilisateur 15 | E15: BU1
D16: Utilisateur 16 | E16: BU2
D17: Utilisateur 17 | E17: BU2
D18: Utilisateur 18 | E18: BU2
D19: Utilisateur 19 | E19: BU2
D20: Utilisateur 20 | E20: BU1

Sheet Septembre
C1: RTT | D1: CP | E1: Récup | F1: Maladie | G1: W | H1: JA | I1: CSS | J1: Conven.
C2: ="PLANNING CONGES " &B3 -> PLANNING CONGES Sept 2014
B3: =Calendrier!E3 & " " &Calendrier!E2 -> Sept 2014 | C3: =DATE(Calendrier!$E$2,9,C4) -> 41883 | D3: =DATE(Calendrier!$E$2,9,D4) -> 41884 | E3: =DATE(Calendrier!$E$2,9,E4) -> 41885 | F3: =DATE(Calendrier!$E$2,9,F4) -> 41886 | G3: =DATE(Calendrier!$E$2,9,G4) -> 41887 | H3: =DATE(Calendrier!$E$2,9,H4) -> 41888 | I3: =DATE(Calendrier!$E$2,9,I4) -> 41889 | J3: =DATE(Calendrier!$E$2,9,J4) -> 41890 | ... AF3: =DATE(Calendrier!$E$2,9,AF4) -> 41912
C4: 1 | D4: 2 | E4: 3 | F4: 4 | G4: 5 | H4: 6 | I4: 7 | J4: 8 | K4: 9 | L4: 10 | M4: 11 | N4: 12 | O4: 13 | P4: 14 | Q4: 15 | R4: 16 | S4: 17 | T4: 18 | U4: 19 | V4: 20 | W4: 21 | X4: 22 | Y4: 23 | Z4: 24 | AA4: 25 | AB4: 26 | AC4: 27 | AD4: 28 | AE4: 29 | AF4: 30

Sheet Octobre
C1: RTT | D1: CP | E1: Récup | F1: Maladie | G1: W | H1: JA | I1: CSS | J1: Conven.
C2: ="PLANNING CONGES " &B3 -> PLANNING CONGES Oct 2014
B3: =Calendrier!F3 & " " &Calendrier!E2 -> Oct 2014 | C3: =DATE(Calendrier!$E$2,10,C4) -> 41913 | D3: =DATE(Calendrier!$E$2,10,D4) -> 41914 | E3: =DATE(Calendrier!$E$2,10,E4) -> 41915 | F3: =DATE(Calendrier!$E$2,10,F4) -> 41916 | G3: =DATE(Calendrier!$E$2,10,G4) -> 41917 | H3: =DATE(Calendrier!$E$2,10,H4) -> 41918 | I3: =DATE(Calendrier!$E$2,10,I4) -> 41919 | J3: =DATE(Calendrier!$E$2,10,J4) -> 41920 | ... AG3: =DATE(Calendrier!$E$2,10,AG4) -> 41943
C4: 1 | D4: 2 | E4: 3 | F4: 4 | G4: 5 | H4: 6 | I4: 7 | J4: 8 | K4: 9 | L4: 10 | M4: 11 | N4: 12 | O4: 13 | P4: 14 | Q4: 15 | R4: 16 | S4: 17 | T4: 18 | U4: 19 | V4: 20 | W4: 21 | X4: 22 | Y4: 23 | Z4: 24 | AA4: 25 | AB4: 26 | AC4: 27 | AD4: 28 | AE4: 29 | AF4: 30 | AG4: 31

Sheet Novembre
C1: RTT | D1: CP | E1: Récup | F1: Maladie | G1: W | H1: JA | I1: CSS | J1: Conven.
C2: ="PLANNING CONGES " &B3 -> PLANNING CONGES Nov 2014
B3: =Calendrier!G3 & " " &Calendrier!E2 -> Nov 2014 | C3: =DATE(Calendrier!$E$2,11,C4) -> 41944 | D3: =DATE(Calendrier!$E$2,11,D4) -> 41945 | E3: =DATE(Calendrier!$E$2,11,E4) -> 41946 | F3: =DATE(Calendrier!$E$2,11,F4) -> 41947 | G3: =DATE(Calendrier!$E$2,11,G4) -> 41948 | H3: =DATE(Calendrier!$E$2,11,H4) -> 41949 | I3: =DATE(Calendrier!$E$2,11,I4) -> 41950 | J3: =DATE(Calendrier!$E$2,11,J4) -> 41951 | ... AF3: =DATE(Calendrier!$E$2,11,AF4) -> 41973
C4: 1 | D4: 2 | E4: 3 | F4: 4 | G4: 5 | H4: 6 | I4: 7 | J4: 8 | K4: 9 | L4: 10 | M4: 11 | N4: 12 | O4: 13 | P4: 14 | Q4: 15 | R4: 16 | S4: 17 | T4: 18 | U4: 19 | V4: 20 | W4: 21 | X4: 22 | Y4: 23 | Z4: 24 | AA4: 25 | AB4: 26 | AC4: 27 | AD4: 28 | AE4: 29 | AF4: 30

Sheet Décembre
C1: RTT | D1: CP | E1: Récup | F1: Maladie | G1: W | H1: JA | I1: CSS | J1: Conven.
C2: ="PLANNING CONGES " &B3 -> PLANNING CONGES Déc 2014
B3: =Calendrier!H3 & " " &Calendrier!E2 -> Déc 2014 | C3: =DATE(Calendrier!$E$2,12,C4) -> 41974 | D3: =DATE(Calendrier!$E$2,12,D4) -> 41975 | E3: =DATE(Calendrier!$E$2,12,E4) -> 41976 | F3: =DATE(Calendrier!$E$2,12,F4) -> 41977 | G3: =DATE(Calendrier!$E$2,12,G4) -> 41978 | H3: =DATE(Calendrier!$E$2,12,H4) -> 41979 | I3: =DATE(Calendrier!$E$2,12,I4) -> 41980 | J3: =DATE(Calendrier!$E$2,12,J4) -> 41981 | ... AG3: =DATE(Calendrier!$E$2,12,AG4) -> 42004
C4: 1 | D4: 2 | E4: 3 | F4: 4 | G4: 5 | H4: 6 | I4: 7 | J4: 8 | K4: 9 | L4: 10 | M4: 11 | N4: 12 | O4: 13 | P4: 14 | Q4: 15 | R4: 16 | S4: 17 | T4: 18 | U4: 19 | V4: 20 | W4: 21 | X4: 22 | Y4: 23 | Z4: 24 | AA4: 25 | AB4: 26 | AC4: 27 | AD4: 28 | AE4: 29 | AF4: 30 | AG4: 31

Sheet Janvier
C1: RTT | D1: CP | E1: Récup | F1: Maladie | G1: W | H1: JA | I1: CSS | J1: Conven.
C2: ="PLANNING CONGES " &B3 -> PLANNING CONGES Janv 2015
B3: =Calendrier!I3 & " " &Calendrier!I2 -> Janv 2015 | C3: =DATE(Calendrier!$I$2,1,C4) -> 42005 | D3: =DATE(Calendrier!$I$2,1,D4) -> 42006 | E3: =DATE(Calendrier!$I$2,1,E4) -> 42007 | F3: =DATE(Calendrier!$I$2,1,F4) -> 42008 | G3: =DATE(Calendrier!$I$2,1,G4) -> 42009 | H3: =DATE(Calendrier!$I$2,1,H4) -> 42010 | I3: =DATE(Calendrier!$I$2,1,I4) -> 42011 | J3: =DATE(Calendrier!$I$2,1,J4) -> 42012 | ... AG3: =DATE(Calendrier!$I$2,1,AG4) -> 42035
C4: 1 | D4: 2 | E4: 3 | F4: 4 | G4: 5 | H4: 6 | I4: 7 | J4: 8 | K4: 9 | L4: 10 | M4: 11 | N4: 12 | O4: 13 | P4: 14 | Q4: 15 | R4: 16 | S4: 17 | T4: 18 | U4: 19 | V4: 20 | W4: 21 | X4: 22 | Y4: 23 | Z4: 24 | AA4: 25 | AB4: 26 | AC4: 27 | AD4: 28 | AE4: 29 | AF4: 30 | AG4: 31

Sheet Février
C1: RTT | D1: CP | E1: Récup | F1: Maladie | G1: W | H1: JA | I1: CSS | J1: Conven.
C2: ="PLANNING CONGES " &B3 -> PLANNING CONGES Févr 2015
B3: =Calendrier!J3 & " " &Calendrier!I2 -> Févr 2015 | C3: =DATE(Calendrier!$I$2,2,C4) -> 42036 | D3: =DATE(Calendrier!$I$2,2,D4) -> 42037 | E3: =DATE(Calendrier!$I$2,2,E4) -> 42038 | F3: =DATE(Calendrier!$I$2,2,F4) -> 42039 | G3: =DATE(Calendrier!$I$2,2,G4) -> 42040 | H3: =DATE(Calendrier!$I$2,2,H4) -> 42041 | I3: =DATE(Calendrier!$I$2,2,I4) -> 42042 | J3: =DATE(Calendrier!$I$2,2,J4) -> 42043 | ... AD3: =DATE(Calendrier!$I$2,2,AD4) -> 42063
C4: 1 | D4: 2 | E4: 3 | F4: 4 | G4: 5 | H4: 6 | I4: 7 | J4: 8 | K4: 9 | L4: 10 | M4: 11 | N4: 12 | O4: 13 | P4: 14 | Q4: 15 | R4: 16 | S4: 17 | T4: 18 | U4: 19 | V4: 20 | W4: 21 | X4: 22 | Y4: 23 | Z4: 24 | AA4: 25 | AB4: 26 | AC4: 27 | AD4: 28

Sheet Mars
C1: RTT | D1: CP | E1: Récup | F1: Maladie | G1: W | H1: JA | I1: CSS | J1: Conven.
C2: ="PLANNING CONGES " &B3 -> PLANNING CONGES Mars 2015
B3: =Calendrier!K3 & " " &Calendrier!I2 -> Mars 2015 | C3: =DATE(Calendrier!$I$2,3,C4) -> 42064 | D3: =DATE(Calendrier!$I$2,3,D4) -> 42065 | E3: =DATE(Calendrier!$I$2,3,E4) -> 42066 | F3: =DATE(Calendrier!$I$2,3,F4) -> 42067 | G3: =DATE(Calendrier!$I$2,3,G4) -> 42068 | H3: =DATE(Calendrier!$I$2,3,H4) -> 42069 | I3: =DATE(Calendrier!$I$2,3,I4) -> 42070 | J3: =DATE(Calendrier!$I$2,3,J4) -> 42071 | ... AG3: =DATE(Calendrier!$I$2,3,AG4) -> 42094
C4: 1 | D4: 2 | E4: 3 | F4: 4 | G4: 5 | H4: 6 | I4: 7 | J4: 8 | K4: 9 | L4: 10 | M4: 11 | N4: 12 | O4: 13 | P4: 14 | Q4: 15 | R4: 16 | S4: 17 | T4: 18 | U4: 19 | V4: 20 | W4: 21 | X4: 22 | Y4: 23 | Z4: 24 | AA4: 25 | AB4: 26 | AC4: 27 | AD4: 28 | AE4: 29 | AF4: 30 | AG4: 31

Sheet Avril
C1: RTT | D1: CP | E1: Récup | F1: Maladie | G1: W | H1: JA | I1: CSS | J1: Conven.
C2: ="PLANNING CONGES " &B3 -> PLANNING CONGES Avr 2015
B3: =Calendrier!L3 & " " &Calendrier!I2 -> Avr 2015 | C3: =DATE(Calendrier!$I$2,4,C4) -> 42095 | D3: =DATE(Calendrier!$I$2,4,D4) -> 42096 | E3: =DATE(Calendrier!$I$2,4,E4) -> 42097 | F3: =DATE(Calendrier!$I$2,4,F4) -> 42098 | G3: =DATE(Calendrier!$I$2,4,G4) -> 42099 | H3: =DATE(Calendrier!$I$2,4,H4) -> 42100 | I3: =DATE(Calendrier!$I$2,4,I4) -> 42101 | J3: =DATE(Calendrier!$I$2,4,J4) -> 42102 | ... AF3: =DATE(Calendrier!$I$2,4,AF4) -> 42124
C4: 1 | D4: 2 | E4: 3 | F4: 4 | G4: 5 | H4: 6 | I4: 7 | J4: 8 | K4: 9 | L4: 10 | M4: 11 | N4: 12 | O4: 13 | P4: 14 | Q4: 15 | R4: 16 | S4: 17 | T4: 18 | U4: 19 | V4: 20 | W4: 21 | X4: 22 | Y4: 23 | Z4: 24 | AA4: 25 | AB4: 26 | AC4: 27 | AD4: 28 | AE4: 29 | AF4: 30

Sheet Mai
C1: RTT | D1: CP | E1: Récup | F1: Maladie | G1: W | H1: JA | I1: CSS | J1: Conven.
C2: ="PLANNING CONGES " &B3 -> PLANNING CONGES Mai 2015
B3: =Calendrier!M3 & " " &Calendrier!I2 -> Mai 2015 | C3: =DATE(Calendrier!$I$2,5,C4) -> 42125 | D3: =DATE(Calendrier!$I$2,5,D4) -> 42126 | E3: =DATE(Calendrier!$I$2,5,E4) -> 42127 | F3: =DATE(Calendrier!$I$2,5,F4) -> 42128 | G3: =DATE(Calendrier!$I$2,5,G4) -> 42129 | H3: =DATE(Calendrier!$I$2,5,H4) -> 42130 | I3: =DATE(Calendrier!$I$2,5,I4) -> 42131 | J3: =DATE(Calendrier!$I$2,5,J4) -> 42132 | ... AG3: =DATE(Calendrier!$I$2,5,AG4) -> 42155
C4: 1 | D4: 2 | E4: 3 | F4: 4 | G4: 5 | H4: 6 | I4: 7 | J4: 8 | K4: 9 | L4: 10 | M4: 11 | N4: 12 | O4: 13 | P4: 14 | Q4: 15 | R4: 16 | S4: 17 | T4: 18 | U4: 19 | V4: 20 | W4: 21 | X4: 22 | Y4: 23 | Z4: 24 | AA4: 25 | AB4: 26 | AC4: 27 | AD4: 28 | AE4: 29 | AF4: 30 | AG4: 31

Sheet Juin
C1: RTT | D1: CP | E1: Récup | F1: Maladie | G1: W | H1: JA | I1: CSS | J1: Conven.
C2: ="PLANNING CONGES " &B3 -> PLANNING CONGES Juin 2015
B3: =Calendrier!N3 & " " &Calendrier!I2 -> Juin 2015 | C3: =DATE(Calendrier!$I$2,6,C4) -> 42156 | D3: =DATE(Calendrier!$I$2,6,D4) -> 42157 | E3: =DATE(Calendrier!$I$2,6,E4) -> 42158 | F3: =DATE(Calendrier!$I$2,6,F4) -> 42159 | G3: =DATE(Calendrier!$I$2,6,G4) -> 42160 | H3: =DATE(Calendrier!$I$2,6,H4) -> 42161 | I3: =DATE(Calendrier!$I$2,6,I4) -> 42162 | J3: =DATE(Calendrier!$I$2,6,J4) -> 42163 | ... AF3: =DATE(Calendrier!$I$2,6,AF4) -> 42185
C4: 1 | D4: 2 | E4: 3 | F4: 4 | G4: 5 | H4: 6 | I4: 7 | J4: 8 | K4: 9 | L4: 10 | M4: 11 | N4: 12 | O4: 13 | P4: 14 | Q4: 15 | R4: 16 | S4: 17 | T4: 18 | U4: 19 | V4: 20 | W4: 21 | X4: 22 | Y4: 23 | Z4: 24 | AA4: 25 | AB4: 26 | AC4: 27 | AD4: 28 | AE4: 29 | AF4: 30

Sheet Juillet
C1: RTT | D1: CP | E1: Récup | F1: Maladie | G1: W | H1: JA | I1: CSS | J1: Conven.
C2: ="PLANNING CONGES " &B3 -> PLANNING CONGES Juil 2015
B3: =Calendrier!O3 & " " &Calendrier!I2 -> Juil 2015 | C3: =DATE(Calendrier!$I$2,7,C4) -> 42186 | D3: =DATE(Calendrier!$I$2,7,D4) -> 42187 | E3: =DATE(Calendrier!$I$2,7,E4) -> 42188 | F3: =DATE(Calendrier!$I$2,7,F4) -> 42189 | G3: =DATE(Calendrier!$I$2,7,G4) -> 42190 | H3: =DATE(Calendrier!$I$2,7,H4) -> 42191 | I3: =DATE(Calendrier!$I$2,7,I4) -> 42192 | J3: =DATE(Calendrier!$I$2,7,J4) -> 42193 | ... AG3: =DATE(Calendrier!$I$2,7,AG4) -> 42216
C4: 1 | D4: 2 | E4: 3 | F4: 4 | G4: 5 | H4: 6 | I4: 7 | J4: 8 | K4: 9 | L4: 10 | M4: 11 | N4: 12 | O4: 13 | P4: 14 | Q4: 15 | R4: 16 | S4: 17 | T4: 18 | U4: 19 | V4: 20 | W4: 21 | X4: 22 | Y4: 23 | Z4: 24 | AA4: 25 | AB4: 26 | AC4: 27 | AD4: 28 | AE4: 29 | AF4: 30 | AG4: 31

Sheet Août
C1: RTT | D1: CP | E1: Récup | F1: Maladie | G1: W | H1: JA | I1: CSS | J1: Conven.
C2: ="PLANNING CONGES " &B3 -> PLANNING CONGES Août 2015
B3: =Calendrier!P3 & " " &Calendrier!I2 -> Août 2015 | C3: =DATE(Calendrier!$I$2,8,C4) -> 42217 | D3: =DATE(Calendrier!$I$2,8,D4) -> 42218 | E3: =DATE(Calendrier!$I$2,8,E4) -> 42219 | F3: =DATE(Calendrier!$I$2,8,F4) -> 42220 | G3: =DATE(Calendrier!$I$2,8,G4) -> 42221 | H3: =DATE(Calendrier!$I$2,8,H4) -> 42222 | I3: =DATE(Calendrier!$I$2,8,I4) -> 42223 | J3: =DATE(Calendrier!$I$2,8,J4) -> 42224 | ... AG3: =DATE(Calendrier!$I$2,8,AG4) -> 42247
C4: 1 | D4: 2 | E4: 3 | F4: 4 | G4: 5 | H4: 6 | I4: 7 | J4: 8 | K4: 9 | L4: 10 | M4: 11 | N4: 12 | O4: 13 | P4: 14 | Q4: 15 | R4: 16 | S4: 17 | T4: 18 | U4: 19 | V4: 20 | W4: 21 | X4: 22 | Y4: 23 | Z4: 24 | AA4: 25 | AB4: 26 | AC4: 27 | AD4: 28 | AE4: 29 | AF4: 30 | AG4: 31

Sheet Récap. Perso
C1: RTT | D1: CP | E1: Récup | F1: Maladie | G1: W | H1: JA | I1: CSS | J1: Conven.
A2: Nom: | B2: Utilisateur 1
B4: 1 | C4: 2 | D4: 3 | E4: 4 | F4: 5 | G4: 6 | H4: 7 | I4: 8 | J4: 9 | K4: 10 | L4: 11 | M4: 12 | N4: 13 | O4: 14 | P4: 15 | Q4: 16 | R4: 17 | S4: 18 | T4: 19 | U4: 20 | V4: 21 | W4: 22 | X4: 23 | Y4: 24 | Z4: 25 | AA4: 26 | AB4: 27 | AC4: 28 | AD4: 29 | AE4: 30 | AF4: 31 | AH4: RTT | AI4: CP | AJ4: CSS | AK4: Maladie | AL4: Récup
A5: Septembre | AH5: =COUNTIFS($B5:$AF5,"RTT")+COUNTIFS($B5:$AF5,"*1/2 RTT*")/2+3*COUNTIFS($B5:$AF5,"*1/4 RTT*")/4 -> 0 | AI5: =COUNTIFS($B5:$AF5,"CP")+COUNTIFS($B5:$AF5,"*1/2 CP*")/2+3*COUNTIFS($B5:$AF5,"*1/4 CP*")/4 -> 0 | AJ5: =COUNTIFS($B5:$AF5,"CSS")+COUNTIFS($B5:$AF5,"*1/2 CSS*")/2+3*COUNTIFS($B5:$AF5,"*1/4 CSS*")/4 -> 0 | AK5: =COUNTIFS($B5:$AF5,"M")+COUNTIFS($B5:$AF5,"*1/2 M*")/2+3*COUNTIFS($B5:$AF5,"*1/4 M*")/4 -> 0 | AL5: =COUNTIFS($B5:$AF5,"Récup")+COUNTIFS($B5:$AF5,"*1/2 Récup*")/2+3*COUNTIFS($B5:$AF5,"*1/4 Récup*")/4 -> 0
A6: Octobre | AH6: =COUNTIFS($B6:$AF6,"RTT")+COUNTIFS($B6:$AF6,"*1/2 RTT*")/2+3*COUNTIFS($B6:$AF6,"*1/4 RTT*")/4 -> 0 | AI6: =COUNTIFS($B6:$AF6,"CP")+COUNTIFS($B6:$AF6,"*1/2 CP*")/2+3*COUNTIFS($B6:$AF6,"*1/4 CP*")/4 -> 0 | AJ6: =COUNTIFS($B6:$AF6,"CSS")+COUNTIFS($B6:$AF6,"*1/2 CSS*")/2+3*COUNTIFS($B6:$AF6,"*1/4 CSS*")/4 -> 0 | AK6: =COUNTIFS($B6:$AF6,"M")+COUNTIFS($B6:$AF6,"*1/2 M*")/2+3*COUNTIFS($B6:$AF6,"*1/4 M*")/4 -> 0 | AL6: =COUNTIFS($B6:$AF6,"Récup")+COUNTIFS($B6:$AF6,"*1/2 Récup*")/2+3*COUNTIFS($B6:$AF6,"*1/4 Récup*")/4 -> 0
A7: Novembre | AH7: =COUNTIFS($B7:$AF7,"RTT")+COUNTIFS($B7:$AF7,"*1/2 RTT*")/2+3*COUNTIFS($B7:$AF7,"*1/4 RTT*")/4 -> 0 | AI7: =COUNTIFS($B7:$AF7,"CP")+COUNTIFS($B7:$AF7,"*1/2 CP*")/2+3*COUNTIFS($B7:$AF7,"*1/4 CP*")/4 -> 0 | AJ7: =COUNTIFS($B7:$AF7,"CSS")+COUNTIFS($B7:$AF7,"*1/2 CSS*")/2+3*COUNTIFS($B7:$AF7,"*1/4 CSS*")/4 -> 0 | AK7: =COUNTIFS($B7:$AF7,"M")+COUNTIFS($B7:$AF7,"*1/2 M*")/2+3*COUNTIFS($B7:$AF7,"*1/4 M*")/4 -> 0 | AL7: =COUNTIFS($B7:$AF7,"Récup")+COUNTIFS($B7:$AF7,"*1/2 Récup*")/2+3*COUNTIFS($B7:$AF7,"*1/4 Récup*")/4 -> 0
A8: Décembre | AH8: =COUNTIFS($B8:$AF8,"RTT")+COUNTIFS($B8:$AF8,"*1/2 RTT*")/2+3*COUNTIFS($B8:$AF8,"*1/4 RTT*")/4 -> 0 | AI8: =COUNTIFS($B8:$AF8,"CP")+COUNTIFS($B8:$AF8,"*1/2 CP*")/2+3*COUNTIFS($B8:$AF8,"*1/4 CP*")/4 -> 0 | AJ8: =COUNTIFS($B8:$AF8,"CSS")+COUNTIFS($B8:$AF8,"*1/2 CSS*")/2+3*COUNTIFS($B8:$AF8,"*1/4 CSS*")/4 -> 0 | AK8: =COUNTIFS($B8:$AF8,"M")+COUNTIFS($B8:$AF8,"*1/2 M*")/2+3*COUNTIFS($B8:$AF8,"*1/4 M*")/4 -> 0 | AL8: =COUNTIFS($B8:$AF8,"Récup")+COUNTIFS($B8:$AF8,"*1/2 Récup*")/2+3*COUNTIFS($B8:$AF8,"*1/4 Récup*")/4 -> 0
A9: Janvier | AH9: =COUNTIFS($B9:$AF9,"RTT")+COUNTIFS($B9:$AF9,"*1/2 RTT*")/2+3*COUNTIFS($B9:$AF9,"*1/4 RTT*")/4 -> 0 | AI9: =COUNTIFS($B9:$AF9,"CP")+COUNTIFS($B9:$AF9,"*1/2 CP*")/2+3*COUNTIFS($B9:$AF9,"*1/4 CP*")/4 -> 0 | AJ9: =COUNTIFS($B9:$AF9,"CSS")+COUNTIFS($B9:$AF9,"*1/2 CSS*")/2+3*COUNTIFS($B9:$AF9,"*1/4 CSS*")/4 -> 0 | AK9: =COUNTIFS($B9:$AF9,"M")+COUNTIFS($B9:$AF9,"*1/2 M*")/2+3*COUNTIFS($B9:$AF9,"*1/4 M*")/4 -> 0 | AL9: =COUNTIFS($B9:$AF9,"Récup")+COUNTIFS($B9:$AF9,"*1/2 Récup*")/2+3*COUNTIFS($B9:$AF9,"*1/4 Récup*")/4 -> 0
A10: Février | AH10: =COUNTIFS($B10:$AF10,"RTT")+COUNTIFS($B10:$AF10,"*1/2 RTT*")/2+3*COUNTIFS($B10:$AF10,"*1/4 RTT*")/4 -> 0 | AI10: =COUNTIFS($B10:$AF10,"CP")+COUNTIFS($B10:$AF10,"*1/2 CP*")/2+3*COUNTIFS($B10:$AF10,"*1/4 CP*")/4 -> 0 | AJ10: =COUNTIFS($B10:$AF10,"CSS")+COUNTIFS($B10:$AF10,"*1/2 CSS*")/2+3*COUNTIFS($B10:$AF10,"*1/4 CSS*")/4 -> 0 | AK10: =COUNTIFS($B10:$AF10,"M")+COUNTIFS($B10:$AF10,"*1/2 M*")/2+3*COUNTIFS($B10:$AF10,"*1/4 M*")/4 -> 0 | AL10: =COUNTIFS($B10:$AF10,"Récup")+COUNTIFS($B10:$AF10,"*1/2 Récup*")/2+3*COUNTIFS($B10:$AF10,"*1/4 Récup*")/4 -> 0
A11: Mars | AH11: =COUNTIFS($B11:$AF11,"RTT")+COUNTIFS($B11:$AF11,"*1/2 RTT*")/2+3*COUNTIFS($B11:$AF11,"*1/4 RTT*")/4 -> 0 | AI11: =COUNTIFS($B11:$AF11,"CP")+COUNTIFS($B11:$AF11,"*1/2 CP*")/2+3*COUNTIFS($B11:$AF11,"*1/4 CP*")/4 -> 0 | AJ11: =COUNTIFS($B11:$AF11,"CSS")+COUNTIFS($B11:$AF11,"*1/2 CSS*")/2+3*COUNTIFS($B11:$AF11,"*1/4 CSS*")/4 -> 0 | AK11: =COUNTIFS($B11:$AF11,"M")+COUNTIFS($B11:$AF11,"*1/2 M*")/2+3*COUNTIFS($B11:$AF11,"*1/4 M*")/4 -> 0 | AL11: =COUNTIFS($B11:$AF11,"Récup")+COUNTIFS($B11:$AF11,"*1/2 Récup*")/2+3*COUNTIFS($B11:$AF11,"*1/4 Récup*")/4 -> 0
A12: Avril | AH12: =COUNTIFS($B12:$AF12,"RTT")+COUNTIFS($B12:$AF12,"*1/2 RTT*")/2+3*COUNTIFS($B12:$AF12,"*1/4 RTT*")/4 -> 0 | AI12: =COUNTIFS($B12:$AF12,"CP")+COUNTIFS($B12:$AF12,"*1/2 CP*")/2+3*COUNTIFS($B12:$AF12,"*1/4 CP*")/4 -> 0 | AJ12: =COUNTIFS($B12:$AF12,"CSS")+COUNTIFS($B12:$AF12,"*1/2 CSS*")/2+3*COUNTIFS($B12:$AF12,"*1/4 CSS*")/4 -> 0 | AK12: =COUNTIFS($B12:$AF12,"M")+COUNTIFS($B12:$AF12,"*1/2 M*")/2+3*COUNTIFS($B12:$AF12,"*1/4 M*")/4 -> 0 | AL12: =COUNTIFS($B12:$AF12,"Récup")+COUNTIFS($B12:$AF12,"*1/2 Récup*")/2+3*COUNTIFS($B12:$AF12,"*1/4 Récup*")/4 -> 0
A13: Mai | AH13: =COUNTIFS($B13:$AF13,"RTT")+COUNTIFS($B13:$AF13,"*1/2 RTT*")/2+3*COUNTIFS($B13:$AF13,"*1/4 RTT*")/4 -> 0 | AI13: =COUNTIFS($B13:$AF13,"CP")+COUNTIFS($B13:$AF13,"*1/2 CP*")/2+3*COUNTIFS($B13:$AF13,"*1/4 CP*")/4 -> 0 | AJ13: =COUNTIFS($B13:$AF13,"CSS")+COUNTIFS($B13:$AF13,"*1/2 CSS*")/2+3*COUNTIFS($B13:$AF13,"*1/4 CSS*")/4 -> 0 | AK13: =COUNTIFS($B13:$AF13,"M")+COUNTIFS($B13:$AF13,"*1/2 M*")/2+3*COUNTIFS($B13:$AF13,"*1/4 M*")/4 -> 0 | AL13: =COUNTIFS($B13:$AF13,"Récup")+COUNTIFS($B13:$AF13,"*1/2 Récup*")/2+3*COUNTIFS($B13:$AF13,"*1/4 Récup*")/4 -> 0
A14: Juin | AH14: =COUNTIFS($B14:$AF14,"RTT")+COUNTIFS($B14:$AF14,"*1/2 RTT*")/2+3*COUNTIFS($B14:$AF14,"*1/4 RTT*")/4 -> 0 | AI14: =COUNTIFS($B14:$AF14,"CP")+COUNTIFS($B14:$AF14,"*1/2 CP*")/2+3*COUNTIFS($B14:$AF14,"*1/4 CP*")/4 -> 0 | AJ14: =COUNTIFS($B14:$AF14,"CSS")+COUNTIFS($B14:$AF14,"*1/2 CSS*")/2+3*COUNTIFS($B14:$AF14,"*1/4 CSS*")/4 -> 0 | AK14: =COUNTIFS($B14:$AF14,"M")+COUNTIFS($B14:$AF14,"*1/2 M*")/2+3*COUNTIFS($B14:$AF14,"*1/4 M*")/4 -> 0 | AL14: =COUNTIFS($B14:$AF14,"Récup")+COUNTIFS($B14:$AF14,"*1/2 Récup*")/2+3*COUNTIFS($B14:$AF14,"*1/4 Récup*")/4 -> 0
A15: Juillet | AH15: =COUNTIFS($B15:$AF15,"RTT")+COUNTIFS($B15:$AF15,"*1/2 RTT*")/2+3*COUNTIFS($B15:$AF15,"*1/4 RTT*")/4 -> 0 | AI15: =COUNTIFS($B15:$AF15,"CP")+COUNTIFS($B15:$AF15,"*1/2 CP*")/2+3*COUNTIFS($B15:$AF15,"*1/4 CP*")/4 -> 0 | AJ15: =COUNTIFS($B15:$AF15,"CSS")+COUNTIFS($B15:$AF15,"*1/2 CSS*")/2+3*COUNTIFS($B15:$AF15,"*1/4 CSS*")/4 -> 0 | AK15: =COUNTIFS($B15:$AF15,"M")+COUNTIFS($B15:$AF15,"*1/2 M*")/2+3*COUNTIFS($B15:$AF15,"*1/4 M*")/4 -> 0 | AL15: =COUNTIFS($B15:$AF15,"Récup")+COUNTIFS($B15:$AF15,"*1/2 Récup*")/2+3*COUNTIFS($B15:$AF15,"*1/4 Récup*")/4 -> 0
A16: Août | AH16: =COUNTIFS($B16:$AF16,"RTT")+COUNTIFS($B16:$AF16,"*1/2 RTT*")/2+3*COUNTIFS($B16:$AF16,"*1/4 RTT*")/4 -> 0 | AI16: =COUNTIFS($B16:$AF16,"CP")+COUNTIFS($B16:$AF16,"*1/2 CP*")/2+3*COUNTIFS($B16:$AF16,"*1/4 CP*")/4 -> 0 | AJ16: =COUNTIFS($B16:$AF16,"CSS")+COUNTIFS($B16:$AF16,"*1/2 CSS*")/2+3*COUNTIFS($B16:$AF16,"*1/4 CSS*")/4 -> 0 | AK16: =COUNTIFS($B16:$AF16,"M")+COUNTIFS($B16:$AF16,"*1/2 M*")/2+3*COUNTIFS($B16:$AF16,"*1/4 M*")/4 -> 0 | AL16: =COUNTIFS($B16:$AF16,"Récup")+COUNTIFS($B16:$AF16,"*1/2 Récup*")/2+3*COUNTIFS($B16:$AF16,"*1/4 Récup*")/4 -> 0
AH17: =SUM(AH5:AH16) -> 0 | AI17: =SUM(AI5:AI16) -> 0 | AJ17: =SUM(AJ5:AJ16) -> 0 | AK17: =SUM(AK5:AK16) -> 0 | AL17: =SUM(AL5:AL16) -> 0
