Workbook
Name An: Planning2!$A$1
Name An: Planning!$A$1
Name L_Agents: T_Agents[Agents]
Name L_Agents: T_Agents[Agents]
Name L_Agents: T_Agents[Agents]
Name L_Codes: T_Codes[Codes]
Name L_Codes: T_Codes[Codes]
Name L_Codes: T_Codes[Codes]

Sheet Planning
A1: 2026
B3: =UPPER(TEXT(DATE(An,1,1),"mmmm-aa")) -> JANVIER-26
B4: =PROPER(TEXT(DATE(An,MONTH($B$3),B5),"jjjj")) -> Jeudi | C4: =PROPER(TEXT(DATE(An,MONTH($B$3),C5),"jjjj")) -> Vendredi | D4: =PROPER(TEXT(DATE(An,MONTH($B$3),D5),"jjjj")) -> Samedi | E4: =PROPER(TEXT(DATE(An,MONTH($B$3),E5),"jjjj")) -> Dimanche | F4: =PROPER(TEXT(DATE(An,MONTH($B$3),F5),"jjjj")) -> Lundi | G4: =PROPER(TEXT(DATE(An,MONTH($B$3),G5),"jjjj")) -> Mardi | H4: =PROPER(TEXT(DATE(An,MONTH($B$3),H5),"jjjj")) -> Mercredi | I4: =PROPER(TEXT(DATE(An,MONTH($B$3),I5),"jjjj")) -> Jeudi | ... AF4: =PROPER(TEXT(DATE(An,MONTH($B$3),AF5),"jjjj")) -> Samedi
B5: 1 | C5: 2 | D5: 3 | E5: 4 | F5: 5 | G5: 6 | H5: 7 | I5: 8 | J5: 9 | K5: 10 | L5: 11 | M5: 12 | N5: 13 | O5: 14 | P5: 15 | Q5: 16 | R5: 17 | S5: 18 | T5: 19 | U5: 20 | V5: 21 | W5: 22 | X5: 23 | Y5: 24 | Z5: 25 | AA5: 26 | AB5: 27 | AC5: 28 | AD5: 29 | AE5: 30 | AF5: 31
A6: Agent 1 | B6: AB1 | E6: ARH | F6: B1 | G6: B1 | I6: B3 | K6: AB3 | N6: AB1 | O6: CA | P6: RTT | S6: ARH | T6: B1 | U6: B1 | X6: RTT | Y6: B1 | AA6: B1
A7: Agent 2 | F7: B1 | M7: B1
A8: Agent 3
A9: Agent 4
A10: Agent 5
A11: Agent 6
A12: Agent 7 | K12: B1 | R12: B1 | Y12: B1
A13: Agent 8
A14: Agent 9 | B14: B1 | M14: B1
A15: Agent 10 | M15: B1
A16: Agent 11
A17: Agent 12
A18: Agent 13
A19: Agent 14
A20: Agent 15
A21: Agent 16
A22: Agent 17
A23: Agent 18
A24: Agent 19
A25: Agent 20 | E25: FC | F25: FC | G25: RTT | I25: CA | M25: B1 | S25: CA | T25: CA | U25: RTT | AA25: B1
A26: TOTAL ETP | B26: =COUNTA(B6:B25) -> 2 | C26: =COUNTA(C6:C25) -> 0 | D26: =COUNTA(D6:D25) -> 0 | E26: =COUNTA(E6:E25) -> 2 | F26: =COUNTA(F6:F25) -> 3 | G26: =COUNTA(G6:G25) -> 2 | H26: =COUNTA(H6:H25) -> 0 | I26: =COUNTA(I6:I25) -> 2 | ... AF26: =COUNTA(AF6:AF25) -> 0
B29: =UPPER(TEXT(DATE(An,2,1),"mmmm-aa")) -> FÉVRIER-26
B30: =PROPER(TEXT(DATE(An,MONTH($B$29),B31),"jjjj")) -> Dimanche | C30: =PROPER(TEXT(DATE(An,MONTH($B$29),C31),"jjjj")) -> Lundi | D30: =PROPER(TEXT(DATE(An,MONTH($B$29),D31),"jjjj")) -> Mardi | E30: =PROPER(TEXT(DATE(An,MONTH($B$29),E31),"jjjj")) -> Mercredi | F30: =PROPER(TEXT(DATE(An,MONTH($B$29),F31),"jjjj")) -> Jeudi | G30: =PROPER(TEXT(DATE(An,MONTH($B$29),G31),"jjjj")) -> Vendredi | H30: =PROPER(TEXT(DATE(An,MONTH($B$29),H31),"jjjj")) -> Samedi | I30: =PROPER(TEXT(DATE(An,MONTH($B$29),I31),"jjjj")) -> Dimanche | ... AC30: =PROPER(TEXT(DATE(An,MONTH($B$29),AC31),"jjjj")) -> Samedi | AD30: =IFERROR(PROPER(TEXT(DATE(An,MONTH($B$29),AD31),"jjjj")),"")
B31: 1 | C31: 2 | D31: 3 | E31: 4 | F31: 5 | G31: 6 | H31: 7 | I31: 8 | J31: 9 | K31: 10 | L31: 11 | M31: 12 | N31: 13 | O31: 14 | P31: 15 | Q31: 16 | R31: 17 | S31: 18 | T31: 19 | U31: 20 | V31: 21 | W31: 22 | X31: 23 | Y31: 24 | Z31: 25 | AA31: 26 | AB31: 27 | AC31: 28 | AD31: =IF(DAY(DATE(An,3,))+1<>29,AC31+1,"")
A32: =A6 -> Agent 1 | B32: AB1 | E32: ARH | F32: B1 | G32: B1 | I32: B3 | K32: AB3 | N32: AB1 | O32: CA | P32: RTT | S32: ARH | T32: B1 | U32: B1 | X32: RTT | Y32: B1 | AA32: B1
A33: =A7 -> Agent 2 | F33: B1 | M33: B1
A34: =A8 -> Agent 3
A35: =A9 -> Agent 4
A36: =A10 -> Agent 5
A37: =A11 -> Agent 6
A38: =A12 -> Agent 7 | K38: B1 | R38: B1 | Y38: B1
A39: =A13 -> Agent 8
A40: =A14 -> Agent 9 | B40: B1 | M40: B1
A41: =A15 -> Agent 10 | M41: B1
A42: =A16 -> Agent 11 | I42: ARH | N42: ARH
A43: =A17 -> Agent 12
...

Sheet Totaux_mois
B3: =UPPER(TEXT(DATE(An,1,1),"mmmm-aa")) -> JANVIER-26
B4: B1 | I4: ="TOTAL " & B4 -> TOTAL B1
B5: Lundi | C5: Mardi | D5: Mercredi | E5: Jeudi | F5: Vendredi | G5: Samedi | H5: Dimanche
A6: =Planning!A6 -> Agent 1 | B6: =COUNTIFS(Planning!$4:$4,B$5, Planning!6:6,$B$4) -> 3 | C6: =COUNTIFS(Planning!$4:$4,C$5, Planning!6:6,$B$4) -> 2 | D6: =COUNTIFS(Planning!$4:$4,D$5, Planning!6:6,$B$4) -> 0 | E6: =COUNTIFS(Planning!$4:$4,E$5, Planning!6:6,$B$4) -> 0 | F6: =COUNTIFS(Planning!$4:$4,F$5, Planning!6:6,$B$4) -> 0 | G6: =COUNTIFS(Planning!$4:$4,G$5, Planning!6:6,$B$4) -> 1 | H6: =COUNTIFS(Planning!$4:$4,H$5, Planning!6:6,$B$4) -> 0 | I6: =SUM(B6:G6) -> 6
A7: =Planning!A7 -> Agent 2 | B7: =COUNTIFS(Planning!$4:$4,B$5, Planning!7:7,$B$4) -> 2 | C7: =COUNTIFS(Planning!$4:$4,C$5, Planning!7:7,$B$4) -> 0 | D7: =COUNTIFS(Planning!$4:$4,D$5, Planning!7:7,$B$4) -> 0 | E7: =COUNTIFS(Planning!$4:$4,E$5, Planning!7:7,$B$4) -> 0 | F7: =COUNTIFS(Planning!$4:$4,F$5, Planning!7:7,$B$4) -> 0 | G7: =COUNTIFS(Planning!$4:$4,G$5, Planning!7:7,$B$4) -> 0 | H7: =COUNTIFS(Planning!$4:$4,H$5, Planning!7:7,$B$4) -> 0 | I7: =SUM(B7:G7) -> 2
A8: =Planning!A8 -> Agent 3 | B8: =COUNTIFS(Planning!$4:$4,B$5, Planning!8:8,$B$4) -> 0 | C8: =COUNTIFS(Planning!$4:$4,C$5, Planning!8:8,$B$4) -> 0 | D8: =COUNTIFS(Planning!$4:$4,D$5, Planning!8:8,$B$4) -> 0 | E8: =COUNTIFS(Planning!$4:$4,E$5, Planning!8:8,$B$4) -> 0 | F8: =COUNTIFS(Planning!$4:$4,F$5, Planning!8:8,$B$4) -> 0 | G8: =COUNTIFS(Planning!$4:$4,G$5, Planning!8:8,$B$4) -> 0 | H8: =COUNTIFS(Planning!$4:$4,H$5, Planning!8:8,$B$4) -> 0 | I8: =SUM(B8:G8) -> 0
A9: =Planning!A9 -> Agent 4 | B9: =COUNTIFS(Planning!$4:$4,B$5, Planning!9:9,$B$4) -> 0 | C9: =COUNTIFS(Planning!$4:$4,C$5, Planning!9:9,$B$4) -> 0 | D9: =COUNTIFS(Planning!$4:$4,D$5, Planning!9:9,$B$4) -> 0 | E9: =COUNTIFS(Planning!$4:$4,E$5, Planning!9:9,$B$4) -> 0 | F9: =COUNTIFS(Planning!$4:$4,F$5, Planning!9:9,$B$4) -> 0 | G9: =COUNTIFS(Planning!$4:$4,G$5, Planning!9:9,$B$4) -> 0 | H9: =COUNTIFS(Planning!$4:$4,H$5, Planning!9:9,$B$4) -> 0 | I9: =SUM(B9:G9) -> 0
A10: =Planning!A10 -> Agent 5 | B10: =COUNTIFS(Planning!$4:$4,B$5, Planning!10:10,$B$4) -> 0 | C10: =COUNTIFS(Planning!$4:$4,C$5, Planning!10:10,$B$4) -> 0 | D10: =COUNTIFS(Planning!$4:$4,D$5, Planning!10:10,$B$4) -> 0 | E10: =COUNTIFS(Planning!$4:$4,E$5, Planning!10:10,$B$4) -> 0 | F10: =COUNTIFS(Planning!$4:$4,F$5, Planning!10:10,$B$4) -> 0 | G10: =COUNTIFS(Planning!$4:$4,G$5, Planning!10:10,$B$4) -> 0 | H10: =COUNTIFS(Planning!$4:$4,H$5, Planning!10:10,$B$4) -> 0 | I10: =SUM(B10:G10) -> 0
A11: =Planning!A11 -> Agent 6 | B11: =COUNTIFS(Planning!$4:$4,B$5, Planning!11:11,$B$4) -> 0 | C11: =COUNTIFS(Planning!$4:$4,C$5, Planning!11:11,$B$4) -> 0 | D11: =COUNTIFS(Planning!$4:$4,D$5, Planning!11:11,$B$4) -> 0 | E11: =COUNTIFS(Planning!$4:$4,E$5, Planning!11:11,$B$4) -> 0 | F11: =COUNTIFS(Planning!$4:$4,F$5, Planning!11:11,$B$4) -> 0 | G11: =COUNTIFS(Planning!$4:$4,G$5, Planning!11:11,$B$4) -> 0 | H11: =COUNTIFS(Planning!$4:$4,H$5, Planning!11:11,$B$4) -> 0 | I11: =SUM(B11:G11) -> 0
A12: =Planning!A12 -> Agent 7 | B12: =COUNTIFS(Planning!$4:$4,B$5, Planning!12:12,$B$4) -> 0 | C12: =COUNTIFS(Planning!$4:$4,C$5, Planning!12:12,$B$4) -> 0 | D12: =COUNTIFS(Planning!$4:$4,D$5, Planning!12:12,$B$4) -> 0 | E12: =COUNTIFS(Planning!$4:$4,E$5, Planning!12:12,$B$4) -> 0 | F12: =COUNTIFS(Planning!$4:$4,F$5, Planning!12:12,$B$4) -> 0 | G12: =COUNTIFS(Planning!$4:$4,G$5, Planning!12:12,$B$4) -> 3 | H12: =COUNTIFS(Planning!$4:$4,H$5, Planning!12:12,$B$4) -> 0 | I12: =SUM(B12:G12) -> 3
A13: =Planning!A13 -> Agent 8 | B13: =COUNTIFS(Planning!$4:$4,B$5, Planning!13:13,$B$4) -> 0 | C13: =COUNTIFS(Planning!$4:$4,C$5, Planning!13:13,$B$4) -> 0 | D13: =COUNTIFS(Planning!$4:$4,D$5, Planning!13:13,$B$4) -> 0 | E13: =COUNTIFS(Planning!$4:$4,E$5, Planning!13:13,$B$4) -> 0 | F13: =COUNTIFS(Planning!$4:$4,F$5, Planning!13:13,$B$4) -> 0 | G13: =COUNTIFS(Planning!$4:$4,G$5, Planning!13:13,$B$4) -> 0 | H13: =COUNTIFS(Planning!$4:$4,H$5, Planning!13:13,$B$4) -> 0 | I13: =SUM(B13:G13) -> 0
A14: =Planning!A14 -> Agent 9 | B14: =COUNTIFS(Planning!$4:$4,B$5, Planning!14:14,$B$4) -> 1 | C14: =COUNTIFS(Planning!$4:$4,C$5, Planning!14:14,$B$4) -> 0 | D14: =COUNTIFS(Planning!$4:$4,D$5, Planning!14:14,$B$4) -> 0 | E14: =COUNTIFS(Planning!$4:$4,E$5, Planning!14:14,$B$4) -> 1 | F14: =COUNTIFS(Planning!$4:$4,F$5, Planning!14:14,$B$4) -> 0 | G14: =COUNTIFS(Planning!$4:$4,G$5, Planning!14:14,$B$4) -> 0 | H14: =COUNTIFS(Planning!$4:$4,H$5, Planning!14:14,$B$4) -> 0 | I14: =SUM(B14:G14) -> 2
A15: =Planning!A15 -> Agent 10 | B15: =COUNTIFS(Planning!$4:$4,B$5, Planning!15:15,$B$4) -> 1 | C15: =COUNTIFS(Planning!$4:$4,C$5, Planning!15:15,$B$4) -> 0 | D15: =COUNTIFS(Planning!$4:$4,D$5, Planning!15:15,$B$4) -> 0 | E15: =COUNTIFS(Planning!$4:$4,E$5, Planning!15:15,$B$4) -> 0 | F15: =COUNTIFS(Planning!$4:$4,F$5, Planning!15:15,$B$4) -> 0 | G15: =COUNTIFS(Planning!$4:$4,G$5, Planning!15:15,$B$4) -> 0 | H15: =COUNTIFS(Planning!$4:$4,H$5, Planning!15:15,$B$4) -> 0 | I15: =SUM(B15:G15) -> 1
A16: =Planning!A16 -> Agent 11 | B16: =COUNTIFS(Planning!$4:$4,B$5, Planning!16:16,$B$4) -> 0 | C16: =COUNTIFS(Planning!$4:$4,C$5, Planning!16:16,$B$4) -> 0 | D16: =COUNTIFS(Planning!$4:$4,D$5, Planning!16:16,$B$4) -> 0 | E16: =COUNTIFS(Planning!$4:$4,E$5, Planning!16:16,$B$4) -> 0 | F16: =COUNTIFS(Planning!$4:$4,F$5, Planning!16:16,$B$4) -> 0 | G16: =COUNTIFS(Planning!$4:$4,G$5, Planning!16:16,$B$4) -> 0 | H16: =COUNTIFS(Planning!$4:$4,H$5, Planning!16:16,$B$4) -> 0 | I16: =SUM(B16:G16) -> 0
A17: =Planning!A17 -> Agent 12 | B17: =COUNTIFS(Planning!$4:$4,B$5, Planning!17:17,$B$4) -> 0 | C17: =COUNTIFS(Planning!$4:$4,C$5, Planning!17:17,$B$4) -> 0 | D17: =COUNTIFS(Planning!$4:$4,D$5, Planning!17:17,$B$4) -> 0 | E17: =COUNTIFS(Planning!$4:$4,E$5, Planning!17:17,$B$4) -> 0 | F17: =COUNTIFS(Planning!$4:$4,F$5, Planning!17:17,$B$4) -> 0 | G17: =COUNTIFS(Planning!$4:$4,G$5, Planning!17:17,$B$4) -> 0 | H17: =COUNTIFS(Planning!$4:$4,H$5, Planning!17:17,$B$4) -> 0 | I17: =SUM(B17:G17) -> 0
A18: =Planning!A18 -> Agent 13 | B18: =COUNTIFS(Planning!$4:$4,B$5, Planning!18:18,$B$4) -> 0 | C18: =COUNTIFS(Planning!$4:$4,C$5, Planning!18:18,$B$4) -> 0 | D18: =COUNTIFS(Planning!$4:$4,D$5, Planning!18:18,$B$4) -> 0 | E18: =COUNTIFS(Planning!$4:$4,E$5, Planning!18:18,$B$4) -> 0 | F18: =COUNTIFS(Planning!$4:$4,F$5, Planning!18:18,$B$4) -> 0 | G18: =COUNTIFS(Planning!$4:$4,G$5, Planning!18:18,$B$4) -> 0 | H18: =COUNTIFS(Planning!$4:$4,H$5, Planning!18:18,$B$4) -> 0 | I18: =SUM(B18:G18) -> 0
A19: =Planning!A19 -> Agent 14 | B19: =COUNTIFS(Planning!$4:$4,B$5, Planning!19:19,$B$4) -> 0 | C19: =COUNTIFS(Planning!$4:$4,C$5, Planning!19:19,$B$4) -> 0 | D19: =COUNTIFS(Planning!$4:$4,D$5, Planning!19:19,$B$4) -> 0 | E19: =COUNTIFS(Planning!$4:$4,E$5, Planning!19:19,$B$4) -> 0 | F19: =COUNTIFS(Planning!$4:$4,F$5, Planning!19:19,$B$4) -> 0 | G19: =COUNTIFS(Planning!$4:$4,G$5, Planning!19:19,$B$4) -> 0 | H19: =COUNTIFS(Planning!$4:$4,H$5, Planning!19:19,$B$4) -> 0 | I19: =SUM(B19:G19) -> 0
A20: =Planning!A20 -> Agent 15 | B20: =COUNTIFS(Planning!$4:$4,B$5, Planning!20:20,$B$4) -> 0 | C20: =COUNTIFS(Planning!$4:$4,C$5, Planning!20:20,$B$4) -> 0 | D20: =COUNTIFS(Planning!$4:$4,D$5, Planning!20:20,$B$4) -> 0 | E20: =COUNTIFS(Planning!$4:$4,E$5, Planning!20:20,$B$4) -> 0 | F20: =COUNTIFS(Planning!$4:$4,F$5, Planning!20:20,$B$4) -> 0 | G20: =COUNTIFS(Planning!$4:$4,G$5, Planning!20:20,$B$4) -> 0 | H20: =COUNTIFS(Planning!$4:$4,H$5, Planning!20:20,$B$4) -> 0 | I20: =SUM(B20:G20) -> 0
A21: =Planning!A21 -> Agent 16 | B21: =COUNTIFS(Planning!$4:$4,B$5, Planning!21:21,$B$4) -> 0 | C21: =COUNTIFS(Planning!$4:$4,C$5, Planning!21:21,$B$4) -> 0 | D21: =COUNTIFS(Planning!$4:$4,D$5, Planning!21:21,$B$4) -> 0 | E21: =COUNTIFS(Planning!$4:$4,E$5, Planning!21:21,$B$4) -> 0 | F21: =COUNTIFS(Planning!$4:$4,F$5, Planning!21:21,$B$4) -> 0 | G21: =COUNTIFS(Planning!$4:$4,G$5, Planning!21:21,$B$4) -> 0 | H21: =COUNTIFS(Planning!$4:$4,H$5, Planning!21:21,$B$4) -> 0 | I21: =SUM(B21:G21) -> 0
A22: =Planning!A22 -> Agent 17 | B22: =COUNTIFS(Planning!$4:$4,B$5, Planning!22:22,$B$4) -> 0 | C22: =COUNTIFS(Planning!$4:$4,C$5, Planning!22:22,$B$4) -> 0 | D22: =COUNTIFS(Planning!$4:$4,D$5, Planning!22:22,$B$4) -> 0 | E22: =COUNTIFS(Planning!$4:$4,E$5, Planning!22:22,$B$4) -> 0 | F22: =COUNTIFS(Planning!$4:$4,F$5, Planning!22:22,$B$4) -> 0 | G22: =COUNTIFS(Planning!$4:$4,G$5, Planning!22:22,$B$4) -> 0 | H22: =COUNTIFS(Planning!$4:$4,H$5, Planning!22:22,$B$4) -> 0 | I22: =SUM(B22:G22) -> 0
A23: =Planning!A23 -> Agent 18 | B23: =COUNTIFS(Planning!$4:$4,B$5, Planning!23:23,$B$4) -> 0 | C23: =COUNTIFS(Planning!$4:$4,C$5, Planning!23:23,$B$4) -> 0 | D23: =COUNTIFS(Planning!$4:$4,D$5, Planning!23:23,$B$4) -> 0 | E23: =COUNTIFS(Planning!$4:$4,E$5, Planning!23:23,$B$4) -> 0 | F23: =COUNTIFS(Planning!$4:$4,F$5, Planning!23:23,$B$4) -> 0 | G23: =COUNTIFS(Planning!$4:$4,G$5, Planning!23:23,$B$4) -> 0 | H23: =COUNTIFS(Planning!$4:$4,H$5, Planning!23:23,$B$4) -> 0 | I23: =SUM(B23:G23) -> 0
A24: =Planning!A24 -> Agent 19 | B24: =COUNTIFS(Planning!$4:$4,B$5, Planning!24:24,$B$4) -> 0 | C24: =COUNTIFS(Planning!$4:$4,C$5, Planning!24:24,$B$4) -> 0 | D24: =COUNTIFS(Planning!$4:$4,D$5, Planning!24:24,$B$4) -> 0 | E24: =COUNTIFS(Planning!$4:$4,E$5, Planning!24:24,$B$4) -> 0 | F24: =COUNTIFS(Planning!$4:$4,F$5, Planning!24:24,$B$4) -> 0 | G24: =COUNTIFS(Planning!$4:$4,G$5, Planning!24:24,$B$4) -> 0 | H24: =COUNTIFS(Planning!$4:$4,H$5, Planning!24:24,$B$4) -> 0 | I24: =SUM(B24:G24) -> 0
A25: =Planning!A25 -> Agent 20 | B25: =COUNTIFS(Planning!$4:$4,B$5, Planning!25:25,$B$4) -> 2 | C25: =COUNTIFS(Planning!$4:$4,C$5, Planning!25:25,$B$4) -> 0 | D25: =COUNTIFS(Planning!$4:$4,D$5, Planning!25:25,$B$4) -> 0 | E25: =COUNTIFS(Planning!$4:$4,E$5, Planning!25:25,$B$4) -> 0 | F25: =COUNTIFS(Planning!$4:$4,F$5, Planning!25:25,$B$4) -> 0 | G25: =COUNTIFS(Planning!$4:$4,G$5, Planning!25:25,$B$4) -> 0 | H25: =COUNTIFS(Planning!$4:$4,H$5, Planning!25:25,$B$4) -> 0 | I25: =SUM(B25:G25) -> 2
B30: =UPPER(TEXT(DATE(An,2,1),"mmmm-aa")) -> FÉVRIER-26
B31: B1 | I31: ="TOTAL " & B31 -> TOTAL B1
B32: Lundi | C32: Mardi | D32: Mercredi | E32: Jeudi | F32: Vendredi | G32: Samedi | H32: Dimanche
A33: =A6 -> Agent 1 | B33: =COUNTIFS(Planning!$30:$30,B$32, Planning!32:32,$B$31) -> 0 | C33: =COUNTIFS(Planning!$30:$30,C$32, Planning!32:32,$B$31) -> 1 | D33: =COUNTIFS(Planning!$30:$30,D$32, Planning!32:32,$B$31) -> 0 | E33: =COUNTIFS(Planning!$30:$30,E$32, Planning!32:32,$B$31) -> 3 | F33: =COUNTIFS(Planning!$30:$30,F$32, Planning!32:32,$B$31) -> 2 | G33: =COUNTIFS(Planning!$30:$30,G$32, Planning!32:32,$B$31) -> 0 | H33: =COUNTIFS(Planning!$30:$30,H$32, Planning!32:32,$B$31) -> 0 | I33: =SUM(B33:G33) -> 6
A34: =A7 -> Agent 2 | B34: =COUNTIFS(Planning!$30:$30,B$32, Planning!33:33,$B$31) -> 0 | C34: =COUNTIFS(Planning!$30:$30,C$32, Planning!33:33,$B$31) -> 0 | D34: =COUNTIFS(Planning!$30:$30,D$32, Planning!33:33,$B$31) -> 0 | E34: =COUNTIFS(Planning!$30:$30,E$32, Planning!33:33,$B$31) -> 2 | F34: =COUNTIFS(Planning!$30:$30,F$32, Planning!33:33,$B$31) -> 0 | G34: =COUNTIFS(Planning!$30:$30,G$32, Planning!33:33,$B$31) -> 0 | H34: =COUNTIFS(Planning!$30:$30,H$32, Planning!33:33,$B$31) -> 0 | I34: =SUM(B34:G34) -> 2
A35: =A8 -> Agent 3 | B35: =COUNTIFS(Planning!$30:$30,B$32, Planning!34:34,$B$31) -> 0 | C35: =COUNTIFS(Planning!$30:$30,C$32, Planning!34:34,$B$31) -> 0 | D35: =COUNTIFS(Planning!$30:$30,D$32, Planning!34:34,$B$31) -> 0 | E35: =COUNTIFS(Planning!$30:$30,E$32, Planning!34:34,$B$31) -> 0 | F35: =COUNTIFS(Planning!$30:$30,F$32, Planning!34:34,$B$31) -> 0 | G35: =COUNTIFS(Planning!$30:$30,G$32, Planning!34:34,$B$31) -> 0 | H35: =COUNTIFS(Planning!$30:$30,H$32, Planning!34:34,$B$31) -> 0 | I35: =SUM(B35:G35) -> 0
A36: =A9 -> Agent 4 | B36: =COUNTIFS(Planning!$30:$30,B$32, Planning!35:35,$B$31) -> 0 | C36: =COUNTIFS(Planning!$30:$30,C$32, Planning!35:35,$B$31) -> 0 | D36: =COUNTIFS(Planning!$30:$30,D$32, Planning!35:35,$B$31) -> 0 | E36: =COUNTIFS(Planning!$30:$30,E$32, Planning!35:35,$B$31) -> 0 | F36: =COUNTIFS(Planning!$30:$30,F$32, Planning!35:35,$B$31) -> 0 | G36: =COUNTIFS(Planning!$30:$30,G$32, Planning!35:35,$B$31) -> 0 | H36: =COUNTIFS(Planning!$30:$30,H$32, Planning!35:35,$B$31) -> 0 | I36: =SUM(B36:G36) -> 0
A37: =A10 -> Agent 5 | B37: =COUNTIFS(Planning!$30:$30,B$32, Planning!36:36,$B$31) -> 0 | C37: =COUNTIFS(Planning!$30:$30,C$32, Planning!36:36,$B$31) -> 0 | D37: =COUNTIFS(Planning!$30:$30,D$32, Planning!36:36,$B$31) -> 0 | E37: =COUNTIFS(Planning!$30:$30,E$32, Planning!36:36,$B$31) -> 0 | F37: =COUNTIFS(Planning!$30:$30,F$32, Planning!36:36,$B$31) -> 0 | G37: =COUNTIFS(Planning!$30:$30,G$32, Planning!36:36,$B$31) -> 0 | H37: =COUNTIFS(Planning!$30:$30,H$32, Planning!36:36,$B$31) -> 0 | I37: =SUM(B37:G37) -> 0
A38: =A11 -> Agent 6 | B38: =COUNTIFS(Planning!$30:$30,B$32, Planning!37:37,$B$31) -> 0 | C38: =COUNTIFS(Planning!$30:$30,C$32, Planning!37:37,$B$31) -> 0 | D38: =COUNTIFS(Planning!$30:$30,D$32, Planning!37:37,$B$31) -> 0 | E38: =COUNTIFS(Planning!$30:$30,E$32, Planning!37:37,$B$31) -> 0 | F38: =COUNTIFS(Planning!$30:$30,F$32, Planning!37:37,$B$31) -> 0 | G38: =COUNTIFS(Planning!$30:$30,G$32, Planning!37:37,$B$31) -> 0 | H38: =COUNTIFS(Planning!$30:$30,H$32, Planning!37:37,$B$31) -> 0 | I38: =SUM(B38:G38) -> 0
A39: =A12 -> Agent 7 | B39: =COUNTIFS(Planning!$30:$30,B$32, Planning!38:38,$B$31) -> 0 | C39: =COUNTIFS(Planning!$30:$30,C$32, Planning!38:38,$B$31) -> 3 | D39: =COUNTIFS(Planning!$30:$30,D$32, Planning!38:38,$B$31) -> 0 | E39: =COUNTIFS(Planning!$30:$30,E$32, Planning!38:38,$B$31) -> 0 | F39: =COUNTIFS(Planning!$30:$30,F$32, Planning!38:38,$B$31) -> 0 | G39: =COUNTIFS(Planning!$30:$30,G$32, Planning!38:38,$B$31) -> 0 | H39: =COUNTIFS(Planning!$30:$30,H$32, Planning!38:38,$B$31) -> 0 | I39: =SUM(B39:G39) -> 3
A40: =A13 -> Agent 8 | B40: =COUNTIFS(Planning!$30:$30,B$32, Planning!39:39,$B$31) -> 0 | C40: =COUNTIFS(Planning!$30:$30,C$32, Planning!39:39,$B$31) -> 0 | D40: =COUNTIFS(Planning!$30:$30,D$32, Planning!39:39,$B$31) -> 0 | E40: =COUNTIFS(Planning!$30:$30,E$32, Planning!39:39,$B$31) -> 0 | F40: =COUNTIFS(Planning!$30:$30,F$32, Planning!39:39,$B$31) -> 0 | G40: =COUNTIFS(Planning!$30:$30,G$32, Planning!39:39,$B$31) -> 0 | H40: =COUNTIFS(Planning!$30:$30,H$32, Planning!39:39,$B$31) -> 0 | I40: =SUM(B40:G40) -> 0
A41: =A14 -> Agent 9 | B41: =COUNTIFS(Planning!$30:$30,B$32, Planning!40:40,$B$31) -> 0 | C41: =COUNTIFS(Planning!$30:$30,C$32, Planning!40:40,$B$31) -> 0 | D41: =COUNTIFS(Planning!$30:$30,D$32, Planning!40:40,$B$31) -> 0 | E41: =COUNTIFS(Planning!$30:$30,E$32, Planning!40:40,$B$31) -> 1 | F41: =COUNTIFS(Planning!$30:$30,F$32, Planning!40:40,$B$31) -> 0 | G41: =COUNTIFS(Planning!$30:$30,G$32, Planning!40:40,$B$31) -> 0 | H41: =COUNTIFS(Planning!$30:$30,H$32, Planning!40:40,$B$31) -> 1 | I41: =SUM(B41:G41) -> 1
A42: =A15 -> Agent 10 | B42: =COUNTIFS(Planning!$30:$30,B$32, Planning!41:41,$B$31) -> 0 | C42: =COUNTIFS(Planning!$30:$30,C$32, Planning!41:41,$B$31) -> 0 | D42: =COUNTIFS(Planning!$30:$30,D$32, Planning!41:41,$B$31) -> 0 | E42: =COUNTIFS(Planning!$30:$30,E$32, Planning!41:41,$B$31) -> 1 | F42: =COUNTIFS(Planning!$30:$30,F$32, Planning!41:41,$B$31) -> 0 | G42: =COUNTIFS(Planning!$30:$30,G$32, Planning!41:41,$B$31) -> 0 | H42: =COUNTIFS(Planning!$30:$30,H$32, Planning!41:41,$B$31) -> 0 | I42: =SUM(B42:G42) -> 1
A43: =A16 -> Agent 11 | B43: =COUNTIFS(Planning!$30:$30,B$32, Planning!42:42,$B$31) -> 0 | C43: =COUNTIFS(Planning!$30:$30,C$32, Planning!42:42,$B$31) -> 0 | D43: =COUNTIFS(Planning!$30:$30,D$32, Planning!42:42,$B$31) -> 0 | E43: =COUNTIFS(Planning!$30:$30,E$32, Planning!42:42,$B$31) -> 0 | F43: =COUNTIFS(Planning!$30:$30,F$32, Planning!42:42,$B$31) -> 0 | G43: =COUNTIFS(Planning!$30:$30,G$32, Planning!42:42,$B$31) -> 0 | H43: =COUNTIFS(Planning!$30:$30,H$32, Planning!42:42,$B$31) -> 0 | I43: =SUM(B43:G43) -> 0
A44: =A17 -> Agent 12 | B44: =COUNTIFS(Planning!$30:$30,B$32, Planning!43:43,$B$31) -> 0 | C44: =COUNTIFS(Planning!$30:$30,C$32, Planning!43:43,$B$31) -> 0 | D44: =COUNTIFS(Planning!$30:$30,D$32, Planning!43:43,$B$31) -> 0 | E44: =COUNTIFS(Planning!$30:$30,E$32, Planning!43:43,$B$31) -> 0 | F44: =COUNTIFS(Planning!$30:$30,F$32, Planning!43:43,$B$31) -> 0 | G44: =COUNTIFS(Planning!$30:$30,G$32, Planning!43:43,$B$31) -> 0 | H44: =COUNTIFS(Planning!$30:$30,H$32, Planning!43:43,$B$31) -> 0 | I44: =SUM(B44:G44) -> 0
A45: =A18 -> Agent 13 | B45: =COUNTIFS(Planning!$30:$30,B$32, Planning!44:44,$B$31) -> 0 | C45: =COUNTIFS(Planning!$30:$30,C$32, Planning!44:44,$B$31) -> 0 | D45: =COUNTIFS(Planning!$30:$30,D$32, Planning!44:44,$B$31) -> 0 | E45: =COUNTIFS(Planning!$30:$30,E$32, Planning!44:44,$B$31) -> 0 | F45: =COUNTIFS(Planning!$30:$30,F$32, Planning!44:44,$B$31) -> 0 | G45: =COUNTIFS(Planning!$30:$30,G$32, Planning!44:44,$B$31) -> 0 | H45: =COUNTIFS(Planning!$30:$30,H$32, Planning!44:44,$B$31) -> 0 | I45: =SUM(B45:G45) -> 0
A46: =A19 -> Agent 14 | B46: =COUNTIFS(Planning!$30:$30,B$32, Planning!45:45,$B$31) -> 0 | C46: =COUNTIFS(Planning!$30:$30,C$32, Planning!45:45,$B$31) -> 0 | D46: =COUNTIFS(Planning!$30:$30,D$32, Planning!45:45,$B$31) -> 0 | E46: =COUNTIFS(Planning!$30:$30,E$32, Planning!45:45,$B$31) -> 0 | F46: =COUNTIFS(Planning!$30:$30,F$32, Planning!45:45,$B$31) -> 0 | G46: =COUNTIFS(Planning!$30:$30,G$32, Planning!45:45,$B$31) -> 0 | H46: =COUNTIFS(Planning!$30:$30,H$32, Planning!45:45,$B$31) -> 0 | I46: =SUM(B46:G46) -> 0
...

Sheet Totaux_annuels
B4: B1
B5: Lundi | C5: Mardi | D5: Mercredi | E5: Jeudi | F5: Vendredi | G5: Samedi | H5: Dimanche
A6: =Planning!A6 -> Agent 1 | B6: =COUNTIFS(Planning!$B$4:$AF$4,Totaux_annuels!B$5,Planning!$B6:$AF6,Totaux_annuels!$B$4) +COUNTIFS(Planning!$B$30:$AF$30,Totaux_annuels!B$5,Planning!$B32:$AF32,Totaux_annuels!$B$4) +COUNTIFS(Planning!$B$56:$AF$56,Totaux_annuels!B$5,Planning!$B58:$AF58,Totaux_annuels!$B$4) +COUNTIFS(Planning!$B$82:$AF$82,Totaux_annuels!B$5,Planning!$B84:$AF84,Totaux_annuels!$B$4) +COUNTIFS(Planning!$B$108:$AF$108,Totaux_annuels!B$5,Planning!$B110:$AF110,Totaux_annuels!$B$4) -> 3 | C6: =COUNTIFS(Planning!$B$4:$AF$4,Totaux_annuels!C$5,Planning!$B6:$AF6,Totaux_annuels!$B$4) +COUNTIFS(Planning!$B$30:$AF$30,Totaux_annuels!C$5,Planning!$B32:$AF32,Totaux_annuels!$B$4) +COUNTIFS(Planning!$B$56:$AF$56,Totaux_annuels!C$5,Planning!$B58:$AF58,Totaux_annuels!$B$4) +COUNTIFS(Planning!$B$82:$AF$82,Totaux_annuels!C$5,Planning!$B84:$AF84,Totaux_annuels!$B$4) +COUNTIFS(Planning!$B$108:$AF$108,Totaux_annuels!C$5,Planning!$B110:$AF110,Totaux_annuels!$B$4) -> 8 | D6: =COUNTIFS(Planning!$B$4:$AF$4,Totaux_annuels!D$5,Planning!$B6:$AF6,Totaux_annuels!$B$4) +COUNTIFS(Planning!$B$30:$AF$30,Totaux_annuels!D$5,Planning!$B32:$AF32,Totaux_annuels!$B$4) +COUNTIFS(Planning!$B$56:$AF$56,Totaux_annuels!D$5,Planning!$B58:$AF58,Totaux_annuels!$B$4) +COUNTIFS(Planning!$B$82:$AF$82,Totaux_annuels!D$5,Planning!$B84:$AF84,Totaux_annuels!$B$4) +COUNTIFS(Planning!$B$108:$AF$108,Totaux_annuels!D$5,Planning!$B110:$AF110,Totaux_annuels!$B$4) -> 2 | E6: =COUNTIFS(Planning!$B$4:$AF$4,Totaux_annuels!E$5,Planning!$B6:$AF6,Totaux_annuels!$B$4) +COUNTIFS(Planning!$B$30:$AF$30,Totaux_annuels!E$5,Planning!$B32:$AF32,Totaux_annuels!$B$4) +COUNTIFS(Planning!$B$56:$AF$56,Totaux_annuels!E$5,Planning!$B58:$AF58,Totaux_annuels!$B$4) +COUNTIFS(Planning!$B$82:$AF$82,Totaux_annuels!E$5,Planning!$B84:$AF84,Totaux_annuels!$B$4) +COUNTIFS(Planning!$B$108:$AF$108,Totaux_annuels!E$5,Planning!$B110:$AF110,Totaux_annuels!$B$4) -> 9 | F6: =COUNTIFS(Planning!$B$4:$AF$4,Totaux_annuels!F$5,Planning!$B6:$AF6,Totaux_annuels!$B$4) +COUNTIFS(Planning!$B$30:$AF$30,Totaux_annuels!F$5,Planning!$B32:$AF32,Totaux_annuels!$B$4) +COUNTIFS(Planning!$B$56:$AF$56,Totaux_annuels!F$5,Planning!$B58:$AF58,Totaux_annuels!$B$4) +COUNTIFS(Planning!$B$82:$AF$82,Totaux_annuels!F$5,Planning!$B84:$AF84,Totaux_annuels!$B$4) +COUNTIFS(Planning!$B$108:$AF$108,Totaux_annuels!F$5,Planning!$B110:$AF110,Totaux_annuels!$B$4) -> 6 | G6: =COUNTIFS(Planning!$B$4:$AF$4,Totaux_annuels!G$5,Planning!$B6:$AF6,Totaux_annuels!$B$4) +COUNTIFS(Planning!$B$30:$AF$30,Totaux_annuels!G$5,Planning!$B32:$AF32,Totaux_annuels!$B$4) +COUNTIFS(Planning!$B$56:$AF$56,Totaux_annuels!G$5,Planning!$B58:$AF58,Totaux_annuels!$B$4) +COUNTIFS(Planning!$B$82:$AF$82,Totaux_annuels!G$5,Planning!$B84:$AF84,Totaux_annuels!$B$4) +COUNTIFS(Planning!$B$108:$AF$108,Totaux_annuels!G$5,Planning!$B110:$AF110,Totaux_annuels!$B$4) -> 1 | H6: =COUNTIFS(Planning!$B$4:$AF$4,Totaux_annuels!H$5,Planning!$B6:$AF6,Totaux_annuels!$B$4) +COUNTIFS(Planning!$B$30:$AF$30,Totaux_annuels!H$5,Planning!$B32:$AF32,Totaux_annuels!$B$4) +COUNTIFS(Planning!$B$56:$AF$56,Totaux_annuels!H$5,Planning!$B58:$AF58,Totaux_annuels!$B$4) +COUNTIFS(Planning!$B$82:$AF$82,Totaux_annuels!H$5,Planning!$B84:$AF84,Totaux_annuels!$B$4) +COUNTIFS(Planning!$B$108:$AF$108,Totaux_annuels!H$5,Planning!$B110:$AF110,Totaux_annuels!$B$4) -> 1
A7: =Planning!A7 -> Agent 2 | B7: =COUNTIFS(Planning!$B$4:$AF$4,Totaux_annuels!B$5,Planning!$B7:$AF7,Totaux_annuels!$B$4) +COUNTIFS(Planning!$B$30:$AF$30,Totaux_annuels!B$5,Planning!$B33:$AF33,Totaux_annuels!$B$4) +COUNTIFS(Planning!$B$56:$AF$56,Totaux_annuels!B$5,Planning!$B59:$AF59,Totaux_annuels!$B$4) +COUNTIFS(Planning!$B$82:$AF$82,Totaux_annuels!B$5,Planning!$B85:$AF85,Totaux_annuels!$B$4) +COUNTIFS(Planning!$B$108:$AF$108,Totaux_annuels!B$5,Planning!$B111:$AF111,Totaux_annuels!$B$4) -> 2 | C7: =COUNTIFS(Planning!$B$4:$AF$4,Totaux_annuels!C$5,Planning!$B7:$AF7,Totaux_annuels!$B$4) +COUNTIFS(Planning!$B$30:$AF$30,Totaux_annuels!C$5,Planning!$B33:$AF33,Totaux_annuels!$B$4) +COUNTIFS(Planning!$B$56:$AF$56,Totaux_annuels!C$5,Planning!$B59:$AF59,Totaux_annuels!$B$4) +COUNTIFS(Planning!$B$82:$AF$82,Totaux_annuels!C$5,Planning!$B85:$AF85,Totaux_annuels!$B$4) +COUNTIFS(Planning!$B$108:$AF$108,Totaux_annuels!C$5,Planning!$B111:$AF111,Totaux_annuels!$B$4) -> 2 | D7: =COUNTIFS(Planning!$B$4:$AF$4,Totaux_annuels!D$5,Planning!$B7:$AF7,Totaux_annuels!$B$4) +COUNTIFS(Planning!$B$30:$AF$30,Totaux_annuels!D$5,Planning!$B33:$AF33,Totaux_annuels!$B$4) +COUNTIFS(Planning!$B$56:$AF$56,Totaux_annuels!D$5,Planning!$B59:$AF59,Totaux_annuels!$B$4) +COUNTIFS(Planning!$B$82:$AF$82,Totaux_annuels!D$5,Planning!$B85:$AF85,Totaux_annuels!$B$4) +COUNTIFS(Planning!$B$108:$AF$108,Totaux_annuels!D$5,Planning!$B111:$AF111,Totaux_annuels!$B$4) -> 0 | E7: =COUNTIFS(Planning!$B$4:$AF$4,Totaux_annuels!E$5,Planning!$B7:$AF7,Totaux_annuels!$B$4) +COUNTIFS(Planning!$B$30:$AF$30,Totaux_annuels!E$5,Planning!$B33:$AF33,Totaux_annuels!$B$4) +COUNTIFS(Planning!$B$56:$AF$56,Totaux_annuels!E$5,Planning!$B59:$AF59,Totaux_annuels!$B$4) +COUNTIFS(Planning!$B$82:$AF$82,Totaux_annuels!E$5,Planning!$B85:$AF85,Totaux_annuels!$B$4) +COUNTIFS(Planning!$B$108:$AF$108,Totaux_annuels!E$5,Planning!$B111:$AF111,Totaux_annuels!$B$4) -> 6 | F7: =COUNTIFS(Planning!$B$4:$AF$4,Totaux_annuels!F$5,Planning!$B7:$AF7,Totaux_annuels!$B$4) +COUNTIFS(Planning!$B$30:$AF$30,Totaux_annuels!F$5,Planning!$B33:$AF33,Totaux_annuels!$B$4) +COUNTIFS(Planning!$B$56:$AF$56,Totaux_annuels!F$5,Planning!$B59:$AF59,Totaux_annuels!$B$4) +COUNTIFS(Planning!$B$82:$AF$82,Totaux_annuels!F$5,Planning!$B85:$AF85,Totaux_annuels!$B$4) +COUNTIFS(Planning!$B$108:$AF$108,Totaux_annuels!F$5,Planning!$B111:$AF111,Totaux_annuels!$B$4) -> 0 | G7: =COUNTIFS(Planning!$B$4:$AF$4,Totaux_annuels!G$5,Planning!$B7:$AF7,Totaux_annuels!$B$4) +COUNTIFS(Planning!$B$30:$AF$30,Totaux_annuels!G$5,Planning!$B33:$AF33,Totaux_annuels!$B$4) +COUNTIFS(Planning!$B$56:$AF$56,Totaux_annuels!G$5,Planning!$B59:$AF59,Totaux_annuels!$B$4) +COUNTIFS(Planning!$B$82:$AF$82,Totaux_annuels!G$5,Planning!$B85:$AF85,Totaux_annuels!$B$4) +COUNTIFS(Planning!$B$108:$AF$108,Totaux_annuels!G$5,Planning!$B111:$AF111,Totaux_annuels!$B$4) -> 0 | H7: =COUNTIFS(Planning!$B$4:$AF$4,Totaux_annuels!H$5,Planning!$B7:$AF7,Totaux_annuels!$B$4) +COUNTIFS(Planning!$B$30:$AF$30,Totaux_annuels!H$5,Planning!$B33:$AF33,Totaux_annuels!$B$4) +COUNTIFS(Planning!$B$56:$AF$56,Totaux_annuels!H$5,Planning!$B59:$AF59,Totaux_annuels!$B$4) +COUNTIFS(Planning!$B$82:$AF$82,Totaux_annuels!H$5,Planning!$B85:$AF85,Totaux_annuels!$B$4) +COUNTIFS(Planning!$B$108:$AF$108,Totaux_annuels!H$5,Planning!$B111:$AF111,Totaux_annuels!$B$4) -> 0
A8: =Planning!A8 -> Agent 3 | B8: =COUNTIFS(Planning!$B$4:$AF$4,Totaux_annuels!B$5,Planning!$B8:$AF8,Totaux_annuels!$B$4) +COUNTIFS(Planning!$B$30:$AF$30,Totaux_annuels!B$5,Planning!$B34:$AF34,Totaux_annuels!$B$4) +COUNTIFS(Planning!$B$56:$AF$56,Totaux_annuels!B$5,Planning!$B60:$AF60,Totaux_annuels!$B$4) +COUNTIFS(Planning!$B$82:$AF$82,Totaux_annuels!B$5,Planning!$B86:$AF86,Totaux_annuels!$B$4) +COUNTIFS(Planning!$B$108:$AF$108,Totaux_annuels!B$5,Planning!$B112:$AF112,Totaux_annuels!$B$4) -> 0 | C8: =COUNTIFS(Planning!$B$4:$AF$4,Totaux_annuels!C$5,Planning!$B8:$AF8,Totaux_annuels!$B$4) +COUNTIFS(Planning!$B$30:$AF$30,Totaux_annuels!C$5,Planning!$B34:$AF34,Totaux_annuels!$B$4) +COUNTIFS(Planning!$B$56:$AF$56,Totaux_annuels!C$5,Planning!$B60:$AF60,Totaux_annuels!$B$4) +COUNTIFS(Planning!$B$82:$AF$82,Totaux_annuels!C$5,Planning!$B86:$AF86,Totaux_annuels!$B$4) +COUNTIFS(Planning!$B$108:$AF$108,Totaux_annuels!C$5,Planning!$B112:$AF112,Totaux_annuels!$B$4) -> 0 | D8: =COUNTIFS(Planning!$B$4:$AF$4,Totaux_annuels!D$5,Planning!$B8:$AF8,Totaux_annuels!$B$4) +COUNTIFS(Planning!$B$30:$AF$30,Totaux_annuels!D$5,Planning!$B34:$AF34,Totaux_annuels!$B$4) +COUNTIFS(Planning!$B$56:$AF$56,Totaux_annuels!D$5,Planning!$B60:$AF60,Totaux_annuels!$B$4) +COUNTIFS(Planning!$B$82:$AF$82,Totaux_annuels!D$5,Planning!$B86:$AF86,Totaux_annuels!$B$4) +COUNTIFS(Planning!$B$108:$AF$108,Totaux_annuels!D$5,Planning!$B112:$AF112,Totaux_annuels!$B$4) -> 0 | E8: =COUNTIFS(Planning!$B$4:$AF$4,Totaux_annuels!E$5,Planning!$B8:$AF8,Totaux_annuels!$B$4) +COUNTIFS(Planning!$B$30:$AF$30,Totaux_annuels!E$5,Planning!$B34:$AF34,Totaux_annuels!$B$4) +COUNTIFS(Planning!$B$56:$AF$56,Totaux_annuels!E$5,Planning!$B60:$AF60,Totaux_annuels!$B$4) +COUNTIFS(Planning!$B$82:$AF$82,Totaux_annuels!E$5,Planning!$B86:$AF86,Totaux_annuels!$B$4) +COUNTIFS(Planning!$B$108:$AF$108,Totaux_annuels!E$5,Planning!$B112:$AF112,Totaux_annuels!$B$4) -> 0 | F8: =COUNTIFS(Planning!$B$4:$AF$4,Totaux_annuels!F$5,Planning!$B8:$AF8,Totaux_annuels!$B$4) +COUNTIFS(Planning!$B$30:$AF$30,Totaux_annuels!F$5,Planning!$B34:$AF34,Totaux_annuels!$B$4) +COUNTIFS(Planning!$B$56:$AF$56,Totaux_annuels!F$5,Planning!$B60:$AF60,Totaux_annuels!$B$4) +COUNTIFS(Planning!$B$82:$AF$82,Totaux_annuels!F$5,Planning!$B86:$AF86,Totaux_annuels!$B$4) +COUNTIFS(Planning!$B$108:$AF$108,Totaux_annuels!F$5,Planning!$B112:$AF112,Totaux_annuels!$B$4) -> 0 | G8: =COUNTIFS(Planning!$B$4:$AF$4,Totaux_annuels!G$5,Planning!$B8:$AF8,Totaux_annuels!$B$4) +COUNTIFS(Planning!$B$30:$AF$30,Totaux_annuels!G$5,Planning!$B34:$AF34,Totaux_annuels!$B$4) +COUNTIFS(Planning!$B$56:$AF$56,Totaux_annuels!G$5,Planning!$B60:$AF60,Totaux_annuels!$B$4) +COUNTIFS(Planning!$B$82:$AF$82,Totaux_annuels!G$5,Planning!$B86:$AF86,Totaux_annuels!$B$4) +COUNTIFS(Planning!$B$108:$AF$108,Totaux_annuels!G$5,Planning!$B112:$AF112,Totaux_annuels!$B$4) -> 0 | H8: =COUNTIFS(Planning!$B$4:$AF$4,Totaux_annuels!H$5,Planning!$B8:$AF8,Totaux_annuels!$B$4) +COUNTIFS(Planning!$B$30:$AF$30,Totaux_annuels!H$5,Planning!$B34:$AF34,Totaux_annuels!$B$4) +COUNTIFS(Planning!$B$56:$AF$56,Totaux_annuels!H$5,Planning!$B60:$AF60,Totaux_annuels!$B$4) +COUNTIFS(Planning!$B$82:$AF$82,Totaux_annuels!H$5,Planning!$B86:$AF86,Totaux_annuels!$B$4) +COUNTIFS(Planning!$B$108:$AF$108,Totaux_annuels!H$5,Planning!$B112:$AF112,Totaux_annuels!$B$4) -> 0
A9: =Planning!A9 -> Agent 4 | B9: =COUNTIFS(Planning!$B$4:$AF$4,Totaux_annuels!B$5,Planning!$B9:$AF9,Totaux_annuels!$B$4) +COUNTIFS(Planning!$B$30:$AF$30,Totaux_annuels!B$5,Planning!$B35:$AF35,Totaux_annuels!$B$4) +COUNTIFS(Planning!$B$56:$AF$56,Totaux_annuels!B$5,Planning!$B61:$AF61,Totaux_annuels!$B$4) +COUNTIFS(Planning!$B$82:$AF$82,Totaux_annuels!B$5,Planning!$B87:$AF87,Totaux_annuels!$B$4) +COUNTIFS(Planning!$B$108:$AF$108,Totaux_annuels!B$5,Planning!$B113:$AF113,Totaux_annuels!$B$4) -> 0 | C9: =COUNTIFS(Planning!$B$4:$AF$4,Totaux_annuels!C$5,Planning!$B9:$AF9,Totaux_annuels!$B$4) +COUNTIFS(Planning!$B$30:$AF$30,Totaux_annuels!C$5,Planning!$B35:$AF35,Totaux_annuels!$B$4) +COUNTIFS(Planning!$B$56:$AF$56,Totaux_annuels!C$5,Planning!$B61:$AF61,Totaux_annuels!$B$4) +COUNTIFS(Planning!$B$82:$AF$82,Totaux_annuels!C$5,Planning!$B87:$AF87,Totaux_annuels!$B$4) +COUNTIFS(Planning!$B$108:$AF$108,Totaux_annuels!C$5,Planning!$B113:$AF113,Totaux_annuels!$B$4) -> 0 | D9: =COUNTIFS(Planning!$B$4:$AF$4,Totaux_annuels!D$5,Planning!$B9:$AF9,Totaux_annuels!$B$4) +COUNTIFS(Planning!$B$30:$AF$30,Totaux_annuels!D$5,Planning!$B35:$AF35,Totaux_annuels!$B$4) +COUNTIFS(Planning!$B$56:$AF$56,Totaux_annuels!D$5,Planning!$B61:$AF61,Totaux_annuels!$B$4) +COUNTIFS(Planning!$B$82:$AF$82,Totaux_annuels!D$5,Planning!$B87:$AF87,Totaux_annuels!$B$4) +COUNTIFS(Planning!$B$108:$AF$108,Totaux_annuels!D$5,Planning!$B113:$AF113,Totaux_annuels!$B$4) -> 0 | E9: =COUNTIFS(Planning!$B$4:$AF$4,Totaux_annuels!E$5,Planning!$B9:$AF9,Totaux_annuels!$B$4) +COUNTIFS(Planning!$B$30:$AF$30,Totaux_annuels!E$5,Planning!$B35:$AF35,Totaux_annuels!$B$4) +COUNTIFS(Planning!$B$56:$AF$56,Totaux_annuels!E$5,Planning!$B61:$AF61,Totaux_annuels!$B$4) +COUNTIFS(Planning!$B$82:$AF$82,Totaux_annuels!E$5,Planning!$B87:$AF87,Totaux_annuels!$B$4) +COUNTIFS(Planning!$B$108:$AF$108,Totaux_annuels!E$5,Planning!$B113:$AF113,Totaux_annuels!$B$4) -> 0 | F9: =COUNTIFS(Planning!$B$4:$AF$4,Totaux_annuels!F$5,Planning!$B9:$AF9,Totaux_annuels!$B$4) +COUNTIFS(Planning!$B$30:$AF$30,Totaux_annuels!F$5,Planning!$B35:$AF35,Totaux_annuels!$B$4) +COUNTIFS(Planning!$B$56:$AF$56,Totaux_annuels!F$5,Planning!$B61:$AF61,Totaux_annuels!$B$4) +COUNTIFS(Planning!$B$82:$AF$82,Totaux_annuels!F$5,Planning!$B87:$AF87,Totaux_annuels!$B$4) +COUNTIFS(Planning!$B$108:$AF$108,Totaux_annuels!F$5,Planning!$B113:$AF113,Totaux_annuels!$B$4) -> 0 | G9: =COUNTIFS(Planning!$B$4:$AF$4,Totaux_annuels!G$5,Planning!$B9:$AF9,Totaux_annuels!$B$4) +COUNTIFS(Planning!$B$30:$AF$30,Totaux_annuels!G$5,Planning!$B35:$AF35,Totaux_annuels!$B$4) +COUNTIFS(Planning!$B$56:$AF$56,Totaux_annuels!G$5,Planning!$B61:$AF61,Totaux_annuels!$B$4) +COUNTIFS(Planning!$B$82:$AF$82,Totaux_annuels!G$5,Planning!$B87:$AF87,Totaux_annuels!$B$4) +COUNTIFS(Planning!$B$108:$AF$108,Totaux_annuels!G$5,Planning!$B113:$AF113,Totaux_annuels!$B$4) -> 0 | H9: =COUNTIFS(Planning!$B$4:$AF$4,Totaux_annuels!H$5,Planning!$B9:$AF9,Totaux_annuels!$B$4) +COUNTIFS(Planning!$B$30:$AF$30,Totaux_annuels!H$5,Planning!$B35:$AF35,Totaux_annuels!$B$4) +COUNTIFS(Planning!$B$56:$AF$56,Totaux_annuels!H$5,Planning!$B61:$AF61,Totaux_annuels!$B$4) +COUNTIFS(Planning!$B$82:$AF$82,Totaux_annuels!H$5,Planning!$B87:$AF87,Totaux_annuels!$B$4) +COUNTIFS(Planning!$B$108:$AF$108,Totaux_annuels!H$5,Planning!$B113:$AF113,Totaux_annuels!$B$4) -> 0
A10: =Planning!A10 -> Agent 5 | B10: =COUNTIFS(Planning!$B$4:$AF$4,Totaux_annuels!B$5,Planning!$B10:$AF10,Totaux_annuels!$B$4) +COUNTIFS(Planning!$B$30:$AF$30,Totaux_annuels!B$5,Planning!$B36:$AF36,Totaux_annuels!$B$4) +COUNTIFS(Planning!$B$56:$AF$56,Totaux_annuels!B$5,Planning!$B62:$AF62,Totaux_annuels!$B$4) +COUNTIFS(Planning!$B$82:$AF$82,Totaux_annuels!B$5,Planning!$B88:$AF88,Totaux_annuels!$B$4) +COUNTIFS(Planning!$B$108:$AF$108,Totaux_annuels!B$5,Planning!$B114:$AF114,Totaux_annuels!$B$4) -> 0 | C10: =COUNTIFS(Planning!$B$4:$AF$4,Totaux_annuels!C$5,Planning!$B10:$AF10,Totaux_annuels!$B$4) +COUNTIFS(Planning!$B$30:$AF$30,Totaux_annuels!C$5,Planning!$B36:$AF36,Totaux_annuels!$B$4) +COUNTIFS(Planning!$B$56:$AF$56,Totaux_annuels!C$5,Planning!$B62:$AF62,Totaux_annuels!$B$4) +COUNTIFS(Planning!$B$82:$AF$82,Totaux_annuels!C$5,Planning!$B88:$AF88,Totaux_annuels!$B$4) +COUNTIFS(Planning!$B$108:$AF$108,Totaux_annuels!C$5,Planning!$B114:$AF114,Totaux_annuels!$B$4) -> 0 | D10: =COUNTIFS(Planning!$B$4:$AF$4,Totaux_annuels!D$5,Planning!$B10:$AF10,Totaux_annuels!$B$4) +COUNTIFS(Planning!$B$30:$AF$30,Totaux_annuels!D$5,Planning!$B36:$AF36,Totaux_annuels!$B$4) +COUNTIFS(Planning!$B$56:$AF$56,Totaux_annuels!D$5,Planning!$B62:$AF62,Totaux_annuels!$B$4) +COUNTIFS(Planning!$B$82:$AF$82,Totaux_annuels!D$5,Planning!$B88:$AF88,Totaux_annuels!$B$4) +COUNTIFS(Planning!$B$108:$AF$108,Totaux_annuels!D$5,Planning!$B114:$AF114,Totaux_annuels!$B$4) -> 0 | E10: =COUNTIFS(Planning!$B$4:$AF$4,Totaux_annuels!E$5,Planning!$B10:$AF10,Totaux_annuels!$B$4) +COUNTIFS(Planning!$B$30:$AF$30,Totaux_annuels!E$5,Planning!$B36:$AF36,Totaux_annuels!$B$4) +COUNTIFS(Planning!$B$56:$AF$56,Totaux_annuels!E$5,Planning!$B62:$AF62,Totaux_annuels!$B$4) +COUNTIFS(Planning!$B$82:$AF$82,Totaux_annuels!E$5,Planning!$B88:$AF88,Totaux_annuels!$B$4) +COUNTIFS(Planning!$B$108:$AF$108,Totaux_annuels!E$5,Planning!$B114:$AF114,Totaux_annuels!$B$4) -> 0 | F10: =COUNTIFS(Planning!$B$4:$AF$4,Totaux_annuels!F$5,Planning!$B10:$AF10,Totaux_annuels!$B$4) +COUNTIFS(Planning!$B$30:$AF$30,Totaux_annuels!F$5,Planning!$B36:$AF36,Totaux_annuels!$B$4) +COUNTIFS(Planning!$B$56:$AF$56,Totaux_annuels!F$5,Planning!$B62:$AF62,Totaux_annuels!$B$4) +COUNTIFS(Planning!$B$82:$AF$82,Totaux_annuels!F$5,Planning!$B88:$AF88,Totaux_annuels!$B$4) +COUNTIFS(Planning!$B$108:$AF$108,Totaux_annuels!F$5,Planning!$B114:$AF114,Totaux_annuels!$B$4) -> 0 | G10: =COUNTIFS(Planning!$B$4:$AF$4,Totaux_annuels!G$5,Planning!$B10:$AF10,Totaux_annuels!$B$4) +COUNTIFS(Planning!$B$30:$AF$30,Totaux_annuels!G$5,Planning!$B36:$AF36,Totaux_annuels!$B$4) +COUNTIFS(Planning!$B$56:$AF$56,Totaux_annuels!G$5,Planning!$B62:$AF62,Totaux_annuels!$B$4) +COUNTIFS(Planning!$B$82:$AF$82,Totaux_annuels!G$5,Planning!$B88:$AF88,Totaux_annuels!$B$4) +COUNTIFS(Planning!$B$108:$AF$108,Totaux_annuels!G$5,Planning!$B114:$AF114,Totaux_annuels!$B$4) -> 0 | H10: =COUNTIFS(Planning!$B$4:$AF$4,Totaux_annuels!H$5,Planning!$B10:$AF10,Totaux_annuels!$B$4) +COUNTIFS(Planning!$B$30:$AF$30,Totaux_annuels!H$5,Planning!$B36:$AF36,Totaux_annuels!$B$4) +COUNTIFS(Planning!$B$56:$AF$56,Totaux_annuels!H$5,Planning!$B62:$AF62,Totaux_annuels!$B$4) +COUNTIFS(Planning!$B$82:$AF$82,Totaux_annuels!H$5,Planning!$B88:$AF88,Totaux_annuels!$B$4) +COUNTIFS(Planning!$B$108:$AF$108,Totaux_annuels!H$5,Planning!$B114:$AF114,Totaux_annuels!$B$4) -> 0
A11: =Planning!A11 -> Agent 6 | B11: =COUNTIFS(Planning!$B$4:$AF$4,Totaux_annuels!B$5,Planning!$B11:$AF11,Totaux_annuels!$B$4) +COUNTIFS(Planning!$B$30:$AF$30,Totaux_annuels!B$5,Planning!$B37:$AF37,Totaux_annuels!$B$4) +COUNTIFS(Planning!$B$56:$AF$56,Totaux_annuels!B$5,Planning!$B63:$AF63,Totaux_annuels!$B$4) +COUNTIFS(Planning!$B$82:$AF$82,Totaux_annuels!B$5,Planning!$B89:$AF89,Totaux_annuels!$B$4) +COUNTIFS(Planning!$B$108:$AF$108,Totaux_annuels!B$5,Planning!$B115:$AF115,Totaux_annuels!$B$4) -> 0 | C11: =COUNTIFS(Planning!$B$4:$AF$4,Totaux_annuels!C$5,Planning!$B11:$AF11,Totaux_annuels!$B$4) +COUNTIFS(Planning!$B$30:$AF$30,Totaux_annuels!C$5,Planning!$B37:$AF37,Totaux_annuels!$B$4) +COUNTIFS(Planning!$B$56:$AF$56,Totaux_annuels!C$5,Planning!$B63:$AF63,Totaux_annuels!$B$4) +COUNTIFS(Planning!$B$82:$AF$82,Totaux_annuels!C$5,Planning!$B89:$AF89,Totaux_annuels!$B$4) +COUNTIFS(Planning!$B$108:$AF$108,Totaux_annuels!C$5,Planning!$B115:$AF115,Totaux_annuels!$B$4) -> 0 | D11: =COUNTIFS(Planning!$B$4:$AF$4,Totaux_annuels!D$5,Planning!$B11:$AF11,Totaux_annuels!$B$4) +COUNTIFS(Planning!$B$30:$AF$30,Totaux_annuels!D$5,Planning!$B37:$AF37,Totaux_annuels!$B$4) +COUNTIFS(Planning!$B$56:$AF$56,Totaux_annuels!D$5,Planning!$B63:$AF63,Totaux_annuels!$B$4) +COUNTIFS(Planning!$B$82:$AF$82,Totaux_annuels!D$5,Planning!$B89:$AF89,Totaux_annuels!$B$4) +COUNTIFS(Planning!$B$108:$AF$108,Totaux_annuels!D$5,Planning!$B115:$AF115,Totaux_annuels!$B$4) -> 0 | E11: =COUNTIFS(Planning!$B$4:$AF$4,Totaux_annuels!E$5,Planning!$B11:$AF11,Totaux_annuels!$B$4) +COUNTIFS(Planning!$B$30:$AF$30,Totaux_annuels!E$5,Planning!$B37:$AF37,Totaux_annuels!$B$4) +COUNTIFS(Planning!$B$56:$AF$56,Totaux_annuels!E$5,Planning!$B63:$AF63,Totaux_annuels!$B$4) +COUNTIFS(Planning!$B$82:$AF$82,Totaux_annuels!E$5,Planning!$B89:$AF89,Totaux_annuels!$B$4) +COUNTIFS(Planning!$B$108:$AF$108,Totaux_annuels!E$5,Planning!$B115:$AF115,Totaux_annuels!$B$4) -> 0 | F11: =COUNTIFS(Planning!$B$4:$AF$4,Totaux_annuels!F$5,Planning!$B11:$AF11,Totaux_annuels!$B$4) +COUNTIFS(Planning!$B$30:$AF$30,Totaux_annuels!F$5,Planning!$B37:$AF37,Totaux_annuels!$B$4) +COUNTIFS(Planning!$B$56:$AF$56,Totaux_annuels!F$5,Planning!$B63:$AF63,Totaux_annuels!$B$4) +COUNTIFS(Planning!$B$82:$AF$82,Totaux_annuels!F$5,Planning!$B89:$AF89,Totaux_annuels!$B$4) +COUNTIFS(Planning!$B$108:$AF$108,Totaux_annuels!F$5,Planning!$B115:$AF115,Totaux_annuels!$B$4) -> 0 | G11: =COUNTIFS(Planning!$B$4:$AF$4,Totaux_annuels!G$5,Planning!$B11:$AF11,Totaux_annuels!$B$4) +COUNTIFS(Planning!$B$30:$AF$30,Totaux_annuels!G$5,Planning!$B37:$AF37,Totaux_annuels!$B$4) +COUNTIFS(Planning!$B$56:$AF$56,Totaux_annuels!G$5,Planning!$B63:$AF63,Totaux_annuels!$B$4) +COUNTIFS(Planning!$B$82:$AF$82,Totaux_annuels!G$5,Planning!$B89:$AF89,Totaux_annuels!$B$4) +COUNTIFS(Planning!$B$108:$AF$108,Totaux_annuels!G$5,Planning!$B115:$AF115,Totaux_annuels!$B$4) -> 0 | H11: =COUNTIFS(Planning!$B$4:$AF$4,Totaux_annuels!H$5,Planning!$B11:$AF11,Totaux_annuels!$B$4) +COUNTIFS(Planning!$B$30:$AF$30,Totaux_annuels!H$5,Planning!$B37:$AF37,Totaux_annuels!$B$4) +COUNTIFS(Planning!$B$56:$AF$56,Totaux_annuels!H$5,Planning!$B63:$AF63,Totaux_annuels!$B$4) +COUNTIFS(Planning!$B$82:$AF$82,Totaux_annuels!H$5,Planning!$B89:$AF89,Totaux_annuels!$B$4) +COUNTIFS(Planning!$B$108:$AF$108,Totaux_annuels!H$5,Planning!$B115:$AF115,Totaux_annuels!$B$4) -> 0
A12: =Planning!A12 -> Agent 7 | B12: =COUNTIFS(Planning!$B$4:$AF$4,Totaux_annuels!B$5,Planning!$B12:$AF12,Totaux_annuels!$B$4) +COUNTIFS(Planning!$B$30:$AF$30,Totaux_annuels!B$5,Planning!$B38:$AF38,Totaux_annuels!$B$4) +COUNTIFS(Planning!$B$56:$AF$56,Totaux_annuels!B$5,Planning!$B64:$AF64,Totaux_annuels!$B$4) +COUNTIFS(Planning!$B$82:$AF$82,Totaux_annuels!B$5,Planning!$B90:$AF90,Totaux_annuels!$B$4) +COUNTIFS(Planning!$B$108:$AF$108,Totaux_annuels!B$5,Planning!$B116:$AF116,Totaux_annuels!$B$4) -> 0 | C12: =COUNTIFS(Planning!$B$4:$AF$4,Totaux_annuels!C$5,Planning!$B12:$AF12,Totaux_annuels!$B$4) +COUNTIFS(Planning!$B$30:$AF$30,Totaux_annuels!C$5,Planning!$B38:$AF38,Totaux_annuels!$B$4) +COUNTIFS(Planning!$B$56:$AF$56,Totaux_annuels!C$5,Planning!$B64:$AF64,Totaux_annuels!$B$4) +COUNTIFS(Planning!$B$82:$AF$82,Totaux_annuels!C$5,Planning!$B90:$AF90,Totaux_annuels!$B$4) +COUNTIFS(Planning!$B$108:$AF$108,Totaux_annuels!C$5,Planning!$B116:$AF116,Totaux_annuels!$B$4) -> 9 | D12: =COUNTIFS(Planning!$B$4:$AF$4,Totaux_annuels!D$5,Planning!$B12:$AF12,Totaux_annuels!$B$4) +COUNTIFS(Planning!$B$30:$AF$30,Totaux_annuels!D$5,Planning!$B38:$AF38,Totaux_annuels!$B$4) +COUNTIFS(Planning!$B$56:$AF$56,Totaux_annuels!D$5,Planning!$B64:$AF64,Totaux_annuels!$B$4) +COUNTIFS(Planning!$B$82:$AF$82,Totaux_annuels!D$5,Planning!$B90:$AF90,Totaux_annuels!$B$4) +COUNTIFS(Planning!$B$108:$AF$108,Totaux_annuels!D$5,Planning!$B116:$AF116,Totaux_annuels!$B$4) -> 0 | E12: =COUNTIFS(Planning!$B$4:$AF$4,Totaux_annuels!E$5,Planning!$B12:$AF12,Totaux_annuels!$B$4) +COUNTIFS(Planning!$B$30:$AF$30,Totaux_annuels!E$5,Planning!$B38:$AF38,Totaux_annuels!$B$4) +COUNTIFS(Planning!$B$56:$AF$56,Totaux_annuels!E$5,Planning!$B64:$AF64,Totaux_annuels!$B$4) +COUNTIFS(Planning!$B$82:$AF$82,Totaux_annuels!E$5,Planning!$B90:$AF90,Totaux_annuels!$B$4) +COUNTIFS(Planning!$B$108:$AF$108,Totaux_annuels!E$5,Planning!$B116:$AF116,Totaux_annuels!$B$4) -> 0 | F12: =COUNTIFS(Planning!$B$4:$AF$4,Totaux_annuels!F$5,Planning!$B12:$AF12,Totaux_annuels!$B$4) +COUNTIFS(Planning!$B$30:$AF$30,Totaux_annuels!F$5,Planning!$B38:$AF38,Totaux_annuels!$B$4) +COUNTIFS(Planning!$B$56:$AF$56,Totaux_annuels!F$5,Planning!$B64:$AF64,Totaux_annuels!$B$4) +COUNTIFS(Planning!$B$82:$AF$82,Totaux_annuels!F$5,Planning!$B90:$AF90,Totaux_annuels!$B$4) +COUNTIFS(Planning!$B$108:$AF$108,Totaux_annuels!F$5,Planning!$B116:$AF116,Totaux_annuels!$B$4) -> 0 | G12: =COUNTIFS(Planning!$B$4:$AF$4,Totaux_annuels!G$5,Planning!$B12:$AF12,Totaux_annuels!$B$4) +COUNTIFS(Planning!$B$30:$AF$30,Totaux_annuels!G$5,Planning!$B38:$AF38,Totaux_annuels!$B$4) +COUNTIFS(Planning!$B$56:$AF$56,Totaux_annuels!G$5,Planning!$B64:$AF64,Totaux_annuels!$B$4) +COUNTIFS(Planning!$B$82:$AF$82,Totaux_annuels!G$5,Planning!$B90:$AF90,Totaux_annuels!$B$4) +COUNTIFS(Planning!$B$108:$AF$108,Totaux_annuels!G$5,Planning!$B116:$AF116,Totaux_annuels!$B$4) -> 3 | H12: =COUNTIFS(Planning!$B$4:$AF$4,Totaux_annuels!H$5,Planning!$B12:$AF12,Totaux_annuels!$B$4) +COUNTIFS(Planning!$B$30:$AF$30,Totaux_annuels!H$5,Planning!$B38:$AF38,Totaux_annuels!$B$4) +COUNTIFS(Planning!$B$56:$AF$56,Totaux_annuels!H$5,Planning!$B64:$AF64,Totaux_annuels!$B$4) +COUNTIFS(Planning!$B$82:$AF$82,Totaux_annuels!H$5,Planning!$B90:$AF90,Totaux_annuels!$B$4) +COUNTIFS(Planning!$B$108:$AF$108,Totaux_annuels!H$5,Planning!$B116:$AF116,Totaux_annuels!$B$4) -> 3
A13: =Planning!A13 -> Agent 8 | B13: =COUNTIFS(Planning!$B$4:$AF$4,Totaux_annuels!B$5,Planning!$B13:$AF13,Totaux_annuels!$B$4) +COUNTIFS(Planning!$B$30:$AF$30,Totaux_annuels!B$5,Planning!$B39:$AF39,Totaux_annuels!$B$4) +COUNTIFS(Planning!$B$56:$AF$56,Totaux_annuels!B$5,Planning!$B65:$AF65,Totaux_annuels!$B$4) +COUNTIFS(Planning!$B$82:$AF$82,Totaux_annuels!B$5,Planning!$B91:$AF91,Totaux_annuels!$B$4) +COUNTIFS(Planning!$B$108:$AF$108,Totaux_annuels!B$5,Planning!$B117:$AF117,Totaux_annuels!$B$4) -> 0 | C13: =COUNTIFS(Planning!$B$4:$AF$4,Totaux_annuels!C$5,Planning!$B13:$AF13,Totaux_annuels!$B$4) +COUNTIFS(Planning!$B$30:$AF$30,Totaux_annuels!C$5,Planning!$B39:$AF39,Totaux_annuels!$B$4) +COUNTIFS(Planning!$B$56:$AF$56,Totaux_annuels!C$5,Planning!$B65:$AF65,Totaux_annuels!$B$4) +COUNTIFS(Planning!$B$82:$AF$82,Totaux_annuels!C$5,Planning!$B91:$AF91,Totaux_annuels!$B$4) +COUNTIFS(Planning!$B$108:$AF$108,Totaux_annuels!C$5,Planning!$B117:$AF117,Totaux_annuels!$B$4) -> 0 | D13: =COUNTIFS(Planning!$B$4:$AF$4,Totaux_annuels!D$5,Planning!$B13:$AF13,Totaux_annuels!$B$4) +COUNTIFS(Planning!$B$30:$AF$30,Totaux_annuels!D$5,Planning!$B39:$AF39,Totaux_annuels!$B$4) +COUNTIFS(Planning!$B$56:$AF$56,Totaux_annuels!D$5,Planning!$B65:$AF65,Totaux_annuels!$B$4) +COUNTIFS(Planning!$B$82:$AF$82,Totaux_annuels!D$5,Planning!$B91:$AF91,Totaux_annuels!$B$4) +COUNTIFS(Planning!$B$108:$AF$108,Totaux_annuels!D$5,Planning!$B117:$AF117,Totaux_annuels!$B$4) -> 0 | E13: =COUNTIFS(Planning!$B$4:$AF$4,Totaux_annuels!E$5,Planning!$B13:$AF13,Totaux_annuels!$B$4) +COUNTIFS(Planning!$B$30:$AF$30,Totaux_annuels!E$5,Planning!$B39:$AF39,Totaux_annuels!$B$4) +COUNTIFS(Planning!$B$56:$AF$56,Totaux_annuels!E$5,Planning!$B65:$AF65,Totaux_annuels!$B$4) +COUNTIFS(Planning!$B$82:$AF$82,Totaux_annuels!E$5,Planning!$B91:$AF91,Totaux_annuels!$B$4) +COUNTIFS(Planning!$B$108:$AF$108,Totaux_annuels!E$5,Planning!$B117:$AF117,Totaux_annuels!$B$4) -> 0 | F13: =COUNTIFS(Planning!$B$4:$AF$4,Totaux_annuels!F$5,Planning!$B13:$AF13,Totaux_annuels!$B$4) +COUNTIFS(Planning!$B$30:$AF$30,Totaux_annuels!F$5,Planning!$B39:$AF39,Totaux_annuels!$B$4) +COUNTIFS(Planning!$B$56:$AF$56,Totaux_annuels!F$5,Planning!$B65:$AF65,Totaux_annuels!$B$4) +COUNTIFS(Planning!$B$82:$AF$82,Totaux_annuels!F$5,Planning!$B91:$AF91,Totaux_annuels!$B$4) +COUNTIFS(Planning!$B$108:$AF$108,Totaux_annuels!F$5,Planning!$B117:$AF117,Totaux_annuels!$B$4) -> 0 | G13: =COUNTIFS(Planning!$B$4:$AF$4,Totaux_annuels!G$5,Planning!$B13:$AF13,Totaux_annuels!$B$4) +COUNTIFS(Planning!$B$30:$AF$30,Totaux_annuels!G$5,Planning!$B39:$AF39,Totaux_annuels!$B$4) +COUNTIFS(Planning!$B$56:$AF$56,Totaux_annuels!G$5,Planning!$B65:$AF65,Totaux_annuels!$B$4) +COUNTIFS(Planning!$B$82:$AF$82,Totaux_annuels!G$5,Planning!$B91:$AF91,Totaux_annuels!$B$4) +COUNTIFS(Planning!$B$108:$AF$108,Totaux_annuels!G$5,Planning!$B117:$AF117,Totaux_annuels!$B$4) -> 0 | H13: =COUNTIFS(Planning!$B$4:$AF$4,Totaux_annuels!H$5,Planning!$B13:$AF13,Totaux_annuels!$B$4) +COUNTIFS(Planning!$B$30:$AF$30,Totaux_annuels!H$5,Planning!$B39:$AF39,Totaux_annuels!$B$4) +COUNTIFS(Planning!$B$56:$AF$56,Totaux_annuels!H$5,Planning!$B65:$AF65,Totaux_annuels!$B$4) +COUNTIFS(Planning!$B$82:$AF$82,Totaux_annuels!H$5,Planning!$B91:$AF91,Totaux_annuels!$B$4) +COUNTIFS(Planning!$B$108:$AF$108,Totaux_annuels!H$5,Planning!$B117:$AF117,Totaux_annuels!$B$4) -> 0
A14: =Planning!A14 -> Agent 9 | B14: =COUNTIFS(Planning!$B$4:$AF$4,Totaux_annuels!B$5,Planning!$B14:$AF14,Totaux_annuels!$B$4) +COUNTIFS(Planning!$B$30:$AF$30,Totaux_annuels!B$5,Planning!$B40:$AF40,Totaux_annuels!$B$4) +COUNTIFS(Planning!$B$56:$AF$56,Totaux_annuels!B$5,Planning!$B66:$AF66,Totaux_annuels!$B$4) +COUNTIFS(Planning!$B$82:$AF$82,Totaux_annuels!B$5,Planning!$B92:$AF92,Totaux_annuels!$B$4) +COUNTIFS(Planning!$B$108:$AF$108,Totaux_annuels!B$5,Planning!$B118:$AF118,Totaux_annuels!$B$4) -> 1 | C14: =COUNTIFS(Planning!$B$4:$AF$4,Totaux_annuels!C$5,Planning!$B14:$AF14,Totaux_annuels!$B$4) +COUNTIFS(Planning!$B$30:$AF$30,Totaux_annuels!C$5,Planning!$B40:$AF40,Totaux_annuels!$B$4) +COUNTIFS(Planning!$B$56:$AF$56,Totaux_annuels!C$5,Planning!$B66:$AF66,Totaux_annuels!$B$4) +COUNTIFS(Planning!$B$82:$AF$82,Totaux_annuels!C$5,Planning!$B92:$AF92,Totaux_annuels!$B$4) +COUNTIFS(Planning!$B$108:$AF$108,Totaux_annuels!C$5,Planning!$B118:$AF118,Totaux_annuels!$B$4) -> 1 | D14: =COUNTIFS(Planning!$B$4:$AF$4,Totaux_annuels!D$5,Planning!$B14:$AF14,Totaux_annuels!$B$4) +COUNTIFS(Planning!$B$30:$AF$30,Totaux_annuels!D$5,Planning!$B40:$AF40,Totaux_annuels!$B$4) +COUNTIFS(Planning!$B$56:$AF$56,Totaux_annuels!D$5,Planning!$B66:$AF66,Totaux_annuels!$B$4) +COUNTIFS(Planning!$B$82:$AF$82,Totaux_annuels!D$5,Planning!$B92:$AF92,Totaux_annuels!$B$4) +COUNTIFS(Planning!$B$108:$AF$108,Totaux_annuels!D$5,Planning!$B118:$AF118,Totaux_annuels!$B$4) -> 0 | E14: =COUNTIFS(Planning!$B$4:$AF$4,Totaux_annuels!E$5,Planning!$B14:$AF14,Totaux_annuels!$B$4) +COUNTIFS(Planning!$B$30:$AF$30,Totaux_annuels!E$5,Planning!$B40:$AF40,Totaux_annuels!$B$4) +COUNTIFS(Planning!$B$56:$AF$56,Totaux_annuels!E$5,Planning!$B66:$AF66,Totaux_annuels!$B$4) +COUNTIFS(Planning!$B$82:$AF$82,Totaux_annuels!E$5,Planning!$B92:$AF92,Totaux_annuels!$B$4) +COUNTIFS(Planning!$B$108:$AF$108,Totaux_annuels!E$5,Planning!$B118:$AF118,Totaux_annuels!$B$4) -> 4 | F14: =COUNTIFS(Planning!$B$4:$AF$4,Totaux_annuels!F$5,Planning!$B14:$AF14,Totaux_annuels!$B$4) +COUNTIFS(Planning!$B$30:$AF$30,Totaux_annuels!F$5,Planning!$B40:$AF40,Totaux_annuels!$B$4) +COUNTIFS(Planning!$B$56:$AF$56,Totaux_annuels!F$5,Planning!$B66:$AF66,Totaux_annuels!$B$4) +COUNTIFS(Planning!$B$82:$AF$82,Totaux_annuels!F$5,Planning!$B92:$AF92,Totaux_annuels!$B$4) +COUNTIFS(Planning!$B$108:$AF$108,Totaux_annuels!F$5,Planning!$B118:$AF118,Totaux_annuels!$B$4) -> 1 | G14: =COUNTIFS(Planning!$B$4:$AF$4,Totaux_annuels!G$5,Planning!$B14:$AF14,Totaux_annuels!$B$4) +COUNTIFS(Planning!$B$30:$AF$30,Totaux_annuels!G$5,Planning!$B40:$AF40,Totaux_annuels!$B$4) +COUNTIFS(Planning!$B$56:$AF$56,Totaux_annuels!G$5,Planning!$B66:$AF66,Totaux_annuels!$B$4) +COUNTIFS(Planning!$B$82:$AF$82,Totaux_annuels!G$5,Planning!$B92:$AF92,Totaux_annuels!$B$4) +COUNTIFS(Planning!$B$108:$AF$108,Totaux_annuels!G$5,Planning!$B118:$AF118,Totaux_annuels!$B$4) -> 0 | H14: =COUNTIFS(Planning!$B$4:$AF$4,Totaux_annuels!H$5,Planning!$B14:$AF14,Totaux_annuels!$B$4) +COUNTIFS(Planning!$B$30:$AF$30,Totaux_annuels!H$5,Planning!$B40:$AF40,Totaux_annuels!$B$4) +COUNTIFS(Planning!$B$56:$AF$56,Totaux_annuels!H$5,Planning!$B66:$AF66,Totaux_annuels!$B$4) +COUNTIFS(Planning!$B$82:$AF$82,Totaux_annuels!H$5,Planning!$B92:$AF92,Totaux_annuels!$B$4) +COUNTIFS(Planning!$B$108:$AF$108,Totaux_annuels!H$5,Planning!$B118:$AF118,Totaux_annuels!$B$4) -> 3
A15: =Planning!A15 -> Agent 10 | B15: =COUNTIFS(Planning!$B$4:$AF$4,Totaux_annuels!B$5,Planning!$B15:$AF15,Totaux_annuels!$B$4) +COUNTIFS(Planning!$B$30:$AF$30,Totaux_annuels!B$5,Planning!$B41:$AF41,Totaux_annuels!$B$4) +COUNTIFS(Planning!$B$56:$AF$56,Totaux_annuels!B$5,Planning!$B67:$AF67,Totaux_annuels!$B$4) +COUNTIFS(Planning!$B$82:$AF$82,Totaux_annuels!B$5,Planning!$B93:$AF93,Totaux_annuels!$B$4) +COUNTIFS(Planning!$B$108:$AF$108,Totaux_annuels!B$5,Planning!$B119:$AF119,Totaux_annuels!$B$4) -> 1 | C15: =COUNTIFS(Planning!$B$4:$AF$4,Totaux_annuels!C$5,Planning!$B15:$AF15,Totaux_annuels!$B$4) +COUNTIFS(Planning!$B$30:$AF$30,Totaux_annuels!C$5,Planning!$B41:$AF41,Totaux_annuels!$B$4) +COUNTIFS(Planning!$B$56:$AF$56,Totaux_annuels!C$5,Planning!$B67:$AF67,Totaux_annuels!$B$4) +COUNTIFS(Planning!$B$82:$AF$82,Totaux_annuels!C$5,Planning!$B93:$AF93,Totaux_annuels!$B$4) +COUNTIFS(Planning!$B$108:$AF$108,Totaux_annuels!C$5,Planning!$B119:$AF119,Totaux_annuels!$B$4) -> 1 | D15: =COUNTIFS(Planning!$B$4:$AF$4,Totaux_annuels!D$5,Planning!$B15:$AF15,Totaux_annuels!$B$4) +COUNTIFS(Planning!$B$30:$AF$30,Totaux_annuels!D$5,Planning!$B41:$AF41,Totaux_annuels!$B$4) +COUNTIFS(Planning!$B$56:$AF$56,Totaux_annuels!D$5,Planning!$B67:$AF67,Totaux_annuels!$B$4) +COUNTIFS(Planning!$B$82:$AF$82,Totaux_annuels!D$5,Planning!$B93:$AF93,Totaux_annuels!$B$4) +COUNTIFS(Planning!$B$108:$AF$108,Totaux_annuels!D$5,Planning!$B119:$AF119,Totaux_annuels!$B$4) -> 0 | E15: =COUNTIFS(Planning!$B$4:$AF$4,Totaux_annuels!E$5,Planning!$B15:$AF15,Totaux_annuels!$B$4) +COUNTIFS(Planning!$B$30:$AF$30,Totaux_annuels!E$5,Planning!$B41:$AF41,Totaux_annuels!$B$4) +COUNTIFS(Planning!$B$56:$AF$56,Totaux_annuels!E$5,Planning!$B67:$AF67,Totaux_annuels!$B$4) +COUNTIFS(Planning!$B$82:$AF$82,Totaux_annuels!E$5,Planning!$B93:$AF93,Totaux_annuels!$B$4) +COUNTIFS(Planning!$B$108:$AF$108,Totaux_annuels!E$5,Planning!$B119:$AF119,Totaux_annuels!$B$4) -> 3 | F15: =COUNTIFS(Planning!$B$4:$AF$4,Totaux_annuels!F$5,Planning!$B15:$AF15,Totaux_annuels!$B$4) +COUNTIFS(Planning!$B$30:$AF$30,Totaux_annuels!F$5,Planning!$B41:$AF41,Totaux_annuels!$B$4) +COUNTIFS(Planning!$B$56:$AF$56,Totaux_annuels!F$5,Planning!$B67:$AF67,Totaux_annuels!$B$4) +COUNTIFS(Planning!$B$82:$AF$82,Totaux_annuels!F$5,Planning!$B93:$AF93,Totaux_annuels!$B$4) +COUNTIFS(Planning!$B$108:$AF$108,Totaux_annuels!F$5,Planning!$B119:$AF119,Totaux_annuels!$B$4) -> 0 | G15: =COUNTIFS(Planning!$B$4:$AF$4,Totaux_annuels!G$5,Planning!$B15:$AF15,Totaux_annuels!$B$4) +COUNTIFS(Planning!$B$30:$AF$30,Totaux_annuels!G$5,Planning!$B41:$AF41,Totaux_annuels!$B$4) +COUNTIFS(Planning!$B$56:$AF$56,Totaux_annuels!G$5,Planning!$B67:$AF67,Totaux_annuels!$B$4) +COUNTIFS(Planning!$B$82:$AF$82,Totaux_annuels!G$5,Planning!$B93:$AF93,Totaux_annuels!$B$4) +COUNTIFS(Planning!$B$108:$AF$108,Totaux_annuels!G$5,Planning!$B119:$AF119,Totaux_annuels!$B$4) -> 0 | H15: =COUNTIFS(Planning!$B$4:$AF$4,Totaux_annuels!H$5,Planning!$B15:$AF15,Totaux_annuels!$B$4) +COUNTIFS(Planning!$B$30:$AF$30,Totaux_annuels!H$5,Planning!$B41:$AF41,Totaux_annuels!$B$4) +COUNTIFS(Planning!$B$56:$AF$56,Totaux_annuels!H$5,Planning!$B67:$AF67,Totaux_annuels!$B$4) +COUNTIFS(Planning!$B$82:$AF$82,Totaux_annuels!H$5,Planning!$B93:$AF93,Totaux_annuels!$B$4) +COUNTIFS(Planning!$B$108:$AF$108,Totaux_annuels!H$5,Planning!$B119:$AF119,Totaux_annuels!$B$4) -> 0
A16: =Planning!A16 -> Agent 11 | B16: =COUNTIFS(Planning!$B$4:$AF$4,Totaux_annuels!B$5,Planning!$B16:$AF16,Totaux_annuels!$B$4) +COUNTIFS(Planning!$B$30:$AF$30,Totaux_annuels!B$5,Planning!$B42:$AF42,Totaux_annuels!$B$4) +COUNTIFS(Planning!$B$56:$AF$56,Totaux_annuels!B$5,Planning!$B68:$AF68,Totaux_annuels!$B$4) +COUNTIFS(Planning!$B$82:$AF$82,Totaux_annuels!B$5,Planning!$B94:$AF94,Totaux_annuels!$B$4) +COUNTIFS(Planning!$B$108:$AF$108,Totaux_annuels!B$5,Planning!$B120:$AF120,Totaux_annuels!$B$4) -> 0 | C16: =COUNTIFS(Planning!$B$4:$AF$4,Totaux_annuels!C$5,Planning!$B16:$AF16,Totaux_annuels!$B$4) +COUNTIFS(Planning!$B$30:$AF$30,Totaux_annuels!C$5,Planning!$B42:$AF42,Totaux_annuels!$B$4) +COUNTIFS(Planning!$B$56:$AF$56,Totaux_annuels!C$5,Planning!$B68:$AF68,Totaux_annuels!$B$4) +COUNTIFS(Planning!$B$82:$AF$82,Totaux_annuels!C$5,Planning!$B94:$AF94,Totaux_annuels!$B$4) +COUNTIFS(Planning!$B$108:$AF$108,Totaux_annuels!C$5,Planning!$B120:$AF120,Totaux_annuels!$B$4) -> 0 | D16: =COUNTIFS(Planning!$B$4:$AF$4,Totaux_annuels!D$5,Planning!$B16:$AF16,Totaux_annuels!$B$4) +COUNTIFS(Planning!$B$30:$AF$30,Totaux_annuels!D$5,Planning!$B42:$AF42,Totaux_annuels!$B$4) +COUNTIFS(Planning!$B$56:$AF$56,Totaux_annuels!D$5,Planning!$B68:$AF68,Totaux_annuels!$B$4) +COUNTIFS(Planning!$B$82:$AF$82,Totaux_annuels!D$5,Planning!$B94:$AF94,Totaux_annuels!$B$4) +COUNTIFS(Planning!$B$108:$AF$108,Totaux_annuels!D$5,Planning!$B120:$AF120,Totaux_annuels!$B$4) -> 0 | E16: =COUNTIFS(Planning!$B$4:$AF$4,Totaux_annuels!E$5,Planning!$B16:$AF16,Totaux_annuels!$B$4) +COUNTIFS(Planning!$B$30:$AF$30,Totaux_annuels!E$5,Planning!$B42:$AF42,Totaux_annuels!$B$4) +COUNTIFS(Planning!$B$56:$AF$56,Totaux_annuels!E$5,Planning!$B68:$AF68,Totaux_annuels!$B$4) +COUNTIFS(Planning!$B$82:$AF$82,Totaux_annuels!E$5,Planning!$B94:$AF94,Totaux_annuels!$B$4) +COUNTIFS(Planning!$B$108:$AF$108,Totaux_annuels!E$5,Planning!$B120:$AF120,Totaux_annuels!$B$4) -> 0 | F16: =COUNTIFS(Planning!$B$4:$AF$4,Totaux_annuels!F$5,Planning!$B16:$AF16,Totaux_annuels!$B$4) +COUNTIFS(Planning!$B$30:$AF$30,Totaux_annuels!F$5,Planning!$B42:$AF42,Totaux_annuels!$B$4) +COUNTIFS(Planning!$B$56:$AF$56,Totaux_annuels!F$5,Planning!$B68:$AF68,Totaux_annuels!$B$4) +COUNTIFS(Planning!$B$82:$AF$82,Totaux_annuels!F$5,Planning!$B94:$AF94,Totaux_annuels!$B$4) +COUNTIFS(Planning!$B$108:$AF$108,Totaux_annuels!F$5,Planning!$B120:$AF120,Totaux_annuels!$B$4) -> 0 | G16: =COUNTIFS(Planning!$B$4:$AF$4,Totaux_annuels!G$5,Planning!$B16:$AF16,Totaux_annuels!$B$4) +COUNTIFS(Planning!$B$30:$AF$30,Totaux_annuels!G$5,Planning!$B42:$AF42,Totaux_annuels!$B$4) +COUNTIFS(Planning!$B$56:$AF$56,Totaux_annuels!G$5,Planning!$B68:$AF68,Totaux_annuels!$B$4) +COUNTIFS(Planning!$B$82:$AF$82,Totaux_annuels!G$5,Planning!$B94:$AF94,Totaux_annuels!$B$4) +COUNTIFS(Planning!$B$108:$AF$108,Totaux_annuels!G$5,Planning!$B120:$AF120,Totaux_annuels!$B$4) -> 0 | H16: =COUNTIFS(Planning!$B$4:$AF$4,Totaux_annuels!H$5,Planning!$B16:$AF16,Totaux_annuels!$B$4) +COUNTIFS(Planning!$B$30:$AF$30,Totaux_annuels!H$5,Planning!$B42:$AF42,Totaux_annuels!$B$4) +COUNTIFS(Planning!$B$56:$AF$56,Totaux_annuels!H$5,Planning!$B68:$AF68,Totaux_annuels!$B$4) +COUNTIFS(Planning!$B$82:$AF$82,Totaux_annuels!H$5,Planning!$B94:$AF94,Totaux_annuels!$B$4) +COUNTIFS(Planning!$B$108:$AF$108,Totaux_annuels!H$5,Planning!$B120:$AF120,Totaux_annuels!$B$4) -> 0
