Workbook
Name An: Planning2!$A$1
Name An: Planning!$A$1
Name L_Agents: T_Agents[Agents]
Name L_Agents: T_Agents[Agents]
Name L_Agents: T_Agents[Agents]
Name L_Codes: T_Codes[Codes]
Name L_Codes: T_Codes[Codes]
Name L_Codes: T_Codes[Codes]

Sheet Planning
A1: 2026
B3: =UPPER(TEXT(DATE(An,1,1),"mmmm-aa")) -> JANVIER-26
B4: =PROPER(TEXT(DATE(An,MONTH($B$3),B5),"jjjj")) -> Jeudi | C4: =PROPER(TEXT(DATE(An,MONTH($B$3),C5),"jjjj")) -> Vendredi | D4: =PROPER(TEXT(DATE(An,MONTH($B$3),D5),"jjjj")) -> Samedi | E4: =PROPER(TEXT(DATE(An,MONTH($B$3),E5),"jjjj")) -> Dimanche | F4: =PROPER(TEXT(DATE(An,MONTH($B$3),F5),"jjjj")) -> Lundi | G4: =PROPER(TEXT(DATE(An,MONTH($B$3),G5),"jjjj")) -> Mardi | H4: =PROPER(TEXT(DATE(An,MONTH($B$3),H5),"jjjj")) -> Mercredi | I4: =PROPER(TEXT(DATE(An,MONTH($B$3),I5),"jjjj")) -> Jeudi | ... AF4: =PROPER(TEXT(DATE(An,MONTH($B$3),AF5),"jjjj")) -> Samedi
B5: 1 | C5: 2 | D5: 3 | E5: 4 | F5: 5 | G5: 6 | H5: 7 | I5: 8 | J5: 9 | K5: 10 | L5: 11 | M5: 12 | N5: 13 | O5: 14 | P5: 15 | Q5: 16 | R5: 17 | S5: 18 | T5: 19 | U5: 20 | V5: 21 | W5: 22 | X5: 23 | Y5: 24 | Z5: 25 | AA5: 26 | AB5: 27 | AC5: 28 | AD5: 29 | AE5: 30 | AF5: 31
A6: Agent 1 | B6: AB1 | E6: ARH | F6: B1 | G6: B1 | I6: B3 | K6: AB3 | N6: AB1 | O6: CA | P6: RTT | S6: ARH | T6: B1 | U6: B1 | X6: RTT | Y6: B1 | AA6: B1
A7: Agent 2 | F7: B1 | M7: B1
A8: Agent 3
A9: Agent 4
A10: Agent 5
A11: Agent 6
A12: Agent 7 | K12: B1 | R12: B1 | Y12: B1
A13: Agent 8
A14: Agent 9 | B14: B1 | M14: B1
A15: Agent 10 | M15: B1
A16: Agent 11
A17: Agent 12
A18: Agent 13
A19: Agent 14
A20: Agent 15
A21: Agent 16
A22: Agent 17
A23: Agent 18
A24: Agent 19
A25: Agent 20 | E25: FC | F25: FC | G25: RTT | I25: CA | M25: B1 | S25: CA | T25: CA | U25: RTT | AA25: B1
A26: TOTAL ETP | B26: =COUNTA(B6:B25) -> 2 | C26: =COUNTA(C6:C25) -> 0 | D26: =COUNTA(D6:D25) -> 0 | E26: =COUNTA(E6:E25) -> 2 | F26: =COUNTA(F6:F25) -> 3 | G26: =COUNTA(G6:G25) -> 2 | H26: =COUNTA(H6:H25) -> 0 | I26: =COUNTA(I6:I25) -> 2 | ... AF26: =COUNTA(AF6:AF25) -> 0
B29: =UPPER(TEXT(DATE(An,2,1),"mmmm-aa")) -> FÉVRIER-26
B30: =PROPER(TEXT(DATE(An,MONTH($B$29),B31),"jjjj")) -> Dimanche | C30: =PROPER(TEXT(DATE(An,MONTH($B$29),C31),"jjjj")) -> Lundi | D30: =PROPER(TEXT(DATE(An,MONTH($B$29),D31),"jjjj")) -> Mardi | E30: =PROPER(TEXT(DATE(An,MONTH($B$29),E31),"jjjj")) -> Mercredi | F30: =PROPER(TEXT(DATE(An,MONTH($B$29),F31),"jjjj")) -> Jeudi | G30: =PROPER(TEXT(DATE(An,MONTH($B$29),G31),"jjjj")) -> Vendredi | H30: =PROPER(TEXT(DATE(An,MONTH($B$29),H31),"jjjj")) -> Samedi | I30: =PROPER(TEXT(DATE(An,MONTH($B$29),I31),"jjjj")) -> Dimanche | ... AC30: =PROPER(TEXT(DATE(An,MONTH($B$29),AC31),"jjjj")) -> Samedi | AD30: =IFERROR(PROPER(TEXT(DATE(An,MONTH($B$29),AD31),"jjjj")),"")
B31: 1 | C31: 2 | D31: 3 | E31: 4 | F31: 5 | G31: 6 | H31: 7 | I31: 8 | J31: 9 | K31: 10 | L31: 11 | M31: 12 | N31: 13 | O31: 14 | P31: 15 | Q31: 16 | R31: 17 | S31: 18 | T31: 19 | U31: 20 | V31: 21 | W31: 22 | X31: 23 | Y31: 24 | Z31: 25 | AA31: 26 | AB31: 27 | AC31: 28 | AD31: =IF(DAY(DATE(An,3,))+1<>29,AC31+1,"")
A32: =A6 -> Agent 1 | B32: AB1 | E32: ARH | F32: B1 | G32: B1 | I32: B3 | K32: AB3 | N32: AB1 | O32: CA | P32: RTT | S32: ARH | T32: B1 | U32: B1 | X32: RTT | Y32: B1 | AA32: B1
A33: =A7 -> Agent 2 | F33: B1 | M33: B1
A34: =A8 -> Agent 3
A35: =A9 -> Agent 4
A36: =A10 -> Agent 5
A37: =A11 -> Agent 6
A38: =A12 -> Agent 7 | K38: B1 | R38: B1 | Y38: B1
A39: =A13 -> Agent 8
A40: =A14 -> Agent 9 | B40: B1 | M40: B1
A41: =A15 -> Agent 10 | M41: B1
A42: =A16 -> Agent 11 | I42: ARH | N42: ARH
A43: =A17 -> Agent 12
A44: =A18 -> Agent 13
A45: =A19 -> Agent 14
A46: =A20 -> Agent 15
A47: =A21 -> Agent 16
A48: =A22 -> Agent 17
A49: =A23 -> Agent 18
A50: =A24 -> Agent 19
A51: =A25 -> Agent 20
A52: TOTAL ETP | B52: =COUNTA(B32:B51) -> 2 | C52: =COUNTA(C32:C51) -> 0 | D52: =COUNTA(D32:D51) -> 0 | E52: =COUNTA(E32:E51) -> 1 | F52: =COUNTA(F32:F51) -> 2 | G52: =COUNTA(G32:G51) -> 1 | H52: =COUNTA(H32:H51) -> 0 | I52: =COUNTA(I32:I51) -> 2 | ... AD52: =COUNTA(AD32:AD51) -> 0
B55: =UPPER(TEXT(DATE(An,3,1),"mmmm-aa")) -> MARS-26
B56: =PROPER(TEXT(DATE(An,MONTH($B$55),B57),"jjjj")) -> Dimanche | C56: =PROPER(TEXT(DATE(An,MONTH($B$55),C57),"jjjj")) -> Lundi | D56: =PROPER(TEXT(DATE(An,MONTH($B$55),D57),"jjjj")) -> Mardi | E56: =PROPER(TEXT(DATE(An,MONTH($B$55),E57),"jjjj")) -> Mercredi | F56: =PROPER(TEXT(DATE(An,MONTH($B$55),F57),"jjjj")) -> Jeudi | G56: =PROPER(TEXT(DATE(An,MONTH($B$55),G57),"jjjj")) -> Vendredi | H56: =PROPER(TEXT(DATE(An,MONTH($B$55),H57),"jjjj")) -> Samedi | I56: =PROPER(TEXT(DATE(An,MONTH($B$55),I57),"jjjj")) -> Dimanche | ... AF56: =PROPER(TEXT(DATE(An,MONTH($B$55),AF57),"jjjj")) -> Mardi
B57: 1 | C57: 2 | D57: 3 | E57: 4 | F57: 5 | G57: 6 | H57: 7 | I57: 8 | J57: 9 | K57: 10 | L57: 11 | M57: 12 | N57: 13 | O57: 14 | P57: 15 | Q57: 16 | R57: 17 | S57: 18 | T57: 19 | U57: 20 | V57: 21 | W57: 22 | X57: 23 | Y57: 24 | Z57: 25 | AA57: 26 | AB57: 27 | AC57: 28 | AD57: 29 | AE57: 30 | AF57: 31
A58: =A6 -> Agent 1 | B58: AB1 | E58: ARH | F58: B1 | G58: B1 | I58: B3 | K58: AB3 | N58: AB1 | O58: CA | P58: RTT | S58: ARH | T58: B1 | U58: B1 | X58: RTT | Y58: B1 | AA58: B1
A59: =A7 -> Agent 2 | F59: B1 | M59: B1
A60: =A8 -> Agent 3
A61: =A9 -> Agent 4
A62: =A10 -> Agent 5
A63: =A11 -> Agent 6 | E63: AB3
A64: =A12 -> Agent 7 | K64: B1 | R64: B1 | Y64: B1
A65: =A13 -> Agent 8
A66: =A14 -> Agent 9 | B66: B1 | M66: B1
A67: =A15 -> Agent 10 | M67: B1
A68: =A16 -> Agent 11
A69: =A17 -> Agent 12
A70: =A18 -> Agent 13
A71: =A19 -> Agent 14
A72: =A20 -> Agent 15
A73: =A21 -> Agent 16
A74: =A22 -> Agent 17
A75: =A23 -> Agent 18
A76: =A24 -> Agent 19
A77: =A25 -> Agent 20 | E77: FC | F77: FC | G77: RTT | I77: CA | M77: B1 | S77: CA | T77: CA | U77: RTT | AA77: B1
A78: TOTAL ETP | B78: =COUNTA(B58:B77) -> 2 | C78: =COUNTA(C58:C77) -> 0 | D78: =COUNTA(D58:D77) -> 0 | E78: =COUNTA(E58:E77) -> 3 | F78: =COUNTA(F58:F77) -> 3 | G78: =COUNTA(G58:G77) -> 2 | H78: =COUNTA(H58:H77) -> 0 | I78: =COUNTA(I58:I77) -> 2 | ... AF78: =COUNTA(AF58:AF77) -> 0
B81: =UPPER(TEXT(DATE(An,4,1),"mmmm-aa")) -> AVRIL-26
B82: =PROPER(TEXT(DATE(An,MONTH($B$55),B83),"jjjj")) -> Dimanche | C82: =PROPER(TEXT(DATE(An,MONTH($B$55),C83),"jjjj")) -> Lundi | D82: =PROPER(TEXT(DATE(An,MONTH($B$55),D83),"jjjj")) -> Mardi | E82: =PROPER(TEXT(DATE(An,MONTH($B$55),E83),"jjjj")) -> Mercredi | F82: =PROPER(TEXT(DATE(An,MONTH($B$55),F83),"jjjj")) -> Jeudi | G82: =PROPER(TEXT(DATE(An,MONTH($B$55),G83),"jjjj")) -> Vendredi | H82: =PROPER(TEXT(DATE(An,MONTH($B$55),H83),"jjjj")) -> Samedi | I82: =PROPER(TEXT(DATE(An,MONTH($B$55),I83),"jjjj")) -> Dimanche | ... AE82: =PROPER(TEXT(DATE(An,MONTH($B$55),AE83),"jjjj")) -> Lundi
B83: 1 | C83: 2 | D83: 3 | E83: 4 | F83: 5 | G83: 6 | H83: 7 | I83: 8 | J83: 9 | K83: 10 | L83: 11 | M83: 12 | N83: 13 | O83: 14 | P83: 15 | Q83: 16 | R83: 17 | S83: 18 | T83: 19 | U83: 20 | V83: 21 | W83: 22 | X83: 23 | Y83: 24 | Z83: 25 | AA83: 26 | AB83: 27 | AC83: 28 | AD83: 29 | AE83: 30
A84: =A6 -> Agent 1 | B84: AB1 | E84: ARH | F84: B1 | G84: B1 | I84: B3 | K84: AB3 | M84: ARH | N84: AB1 | O84: CA | P84: RTT | S84: ARH | T84: B1 | U84: B1 | X84: RTT | Y84: B1 | AA84: B1
A85: =A7 -> Agent 2 | F85: B1 | M85: B1
A86: =A8 -> Agent 3
A87: =A9 -> Agent 4
A88: =A10 -> Agent 5
A89: =A11 -> Agent 6 | E89: AB3
A90: =A12 -> Agent 7 | K90: B1 | R90: B1 | Y90: B1
A91: =A13 -> Agent 8
A92: =A14 -> Agent 9 | B92: B1 | M92: B1
A93: =A15 -> Agent 10 | M93: B1
A94: =A16 -> Agent 11
A95: =A17 -> Agent 12
A96: =A18 -> Agent 13
A97: =A19 -> Agent 14
A98: =A20 -> Agent 15
A99: =A21 -> Agent 16
A100: =A22 -> Agent 17
A101: =A23 -> Agent 18
A102: =A24 -> Agent 19
A103: =A25 -> Agent 20 | E103: FC | F103: FC | G103: RTT | I103: CA | M103: B1 | S103: CA | T103: CA | U103: RTT | AA103: B1
A104: TOTAL ETP | B104: =COUNTA(B84:B103) -> 2 | C104: =COUNTA(C84:C103) -> 0 | D104: =COUNTA(D84:D103) -> 0 | E104: =COUNTA(E84:E103) -> 3 | F104: =COUNTA(F84:F103) -> 3 | G104: =COUNTA(G84:G103) -> 2 | H104: =COUNTA(H84:H103) -> 0 | I104: =COUNTA(I84:I103) -> 2 | ... AE104: =COUNTA(AE84:AE103) -> 0
B107: =UPPER(TEXT(DATE(An,5,1),"mmmm-aa")) -> MAI-26
B108: =PROPER(TEXT(DATE(An,MONTH($B$107),B109),"jjjj")) -> Vendredi | C108: =PROPER(TEXT(DATE(An,MONTH($B$107),C109),"jjjj")) -> Samedi | D108: =PROPER(TEXT(DATE(An,MONTH($B$107),D109),"jjjj")) -> Dimanche | E108: =PROPER(TEXT(DATE(An,MONTH($B$107),E109),"jjjj")) -> Lundi | F108: =PROPER(TEXT(DATE(An,MONTH($B$107),F109),"jjjj")) -> Mardi | G108: =PROPER(TEXT(DATE(An,MONTH($B$107),G109),"jjjj")) -> Mercredi | H108: =PROPER(TEXT(DATE(An,MONTH($B$107),H109),"jjjj")) -> Jeudi | I108: =PROPER(TEXT(DATE(An,MONTH($B$107),I109),"jjjj")) -> Vendredi | ... AF108: =PROPER(TEXT(DATE(An,MONTH($B$107),AF109),"jjjj")) -> Dimanche
B109: 1 | C109: 2 | D109: 3 | E109: 4 | F109: 5 | G109: 6 | H109: 7 | I109: 8 | J109: 9 | K109: 10 | L109: 11 | M109: 12 | N109: 13 | O109: 14 | P109: 15 | Q109: 16 | R109: 17 | S109: 18 | T109: 19 | U109: 20 | V109: 21 | W109: 22 | X109: 23 | Y109: 24 | Z109: 25 | AA109: 26 | AB109: 27 | AC109: 28 | AD109: 29 | AE109: 30 | AF109: 31
...

Sheet Totaux_mois
B3: =UPPER(TEXT(DATE(An,1,1),"mmmm-aa")) -> JANVIER-26
B4: B1 | I4: ="TOTAL " & B4 -> TOTAL B1
B5: Lundi | C5: Mardi | D5: Mercredi | E5: Jeudi | F5: Vendredi | G5: Samedi | H5: Dimanche
A6: =Planning!A6 -> Agent 1 | B6: =COUNTIFS(Planning!$4:$4,B$5, Planning!6:6,$B$4) -> 3 | C6: =COUNTIFS(Planning!$4:$4,C$5, Planning!6:6,$B$4) -> 2 | D6: =COUNTIFS(Planning!$4:$4,D$5, Planning!6:6,$B$4) -> 0 | E6: =COUNTIFS(Planning!$4:$4,E$5, Planning!6:6,$B$4) -> 0 | F6: =COUNTIFS(Planning!$4:$4,F$5, Planning!6:6,$B$4) -> 0 | G6: =COUNTIFS(Planning!$4:$4,G$5, Planning!6:6,$B$4) -> 1 | H6: =COUNTIFS(Planning!$4:$4,H$5, Planning!6:6,$B$4) -> 0 | I6: =SUM(B6:G6) -> 6
A7: =Planning!A7 -> Agent 2 | B7: =COUNTIFS(Planning!$4:$4,B$5, Planning!7:7,$B$4) -> 2 | C7: =COUNTIFS(Planning!$4:$4,C$5, Planning!7:7,$B$4) -> 0 | D7: =COUNTIFS(Planning!$4:$4,D$5, Planning!7:7,$B$4) -> 0 | E7: =COUNTIFS(Planning!$4:$4,E$5, Planning!7:7,$B$4) -> 0 | F7: =COUNTIFS(Planning!$4:$4,F$5, Planning!7:7,$B$4) -> 0 | G7: =COUNTIFS(Planning!$4:$4,G$5, Planning!7:7,$B$4) -> 0 | H7: =COUNTIFS(Planning!$4:$4,H$5, Planning!7:7,$B$4) -> 0 | I7: =SUM(B7:G7) -> 2
A8: =Planning!A8 -> Agent 3 | B8: =COUNTIFS(Planning!$4:$4,B$5, Planning!8:8,$B$4) -> 0 | C8: =COUNTIFS(Planning!$4:$4,C$5, Planning!8:8,$B$4) -> 0 | D8: =COUNTIFS(Planning!$4:$4,D$5, Planning!8:8,$B$4) -> 0 | E8: =COUNTIFS(Planning!$4:$4,E$5, Planning!8:8,$B$4) -> 0 | F8: =COUNTIFS(Planning!$4:$4,F$5, Planning!8:8,$B$4) -> 0 | G8: =COUNTIFS(Planning!$4:$4,G$5, Planning!8:8,$B$4) -> 0 | H8: =COUNTIFS(Planning!$4:$4,H$5, Planning!8:8,$B$4) -> 0 | I8: =SUM(B8:G8) -> 0
A9: =Planning!A9 -> Agent 4 | B9: =COUNTIFS(Planning!$4:$4,B$5, Planning!9:9,$B$4) -> 0 | C9: =COUNTIFS(Planning!$4:$4,C$5, Planning!9:9,$B$4) -> 0 | D9: =COUNTIFS(Planning!$4:$4,D$5, Planning!9:9,$B$4) -> 0 | E9: =COUNTIFS(Planning!$4:$4,E$5, Planning!9:9,$B$4) -> 0 | F9: =COUNTIFS(Planning!$4:$4,F$5, Planning!9:9,$B$4) -> 0 | G9: =COUNTIFS(Planning!$4:$4,G$5, Planning!9:9,$B$4) -> 0 | H9: =COUNTIFS(Planning!$4:$4,H$5, Planning!9:9,$B$4) -> 0 | I9: =SUM(B9:G9) -> 0
A10: =Planning!A10 -> Agent 5 | B10: =COUNTIFS(Planning!$4:$4,B$5, Planning!10:10,$B$4) -> 0 | C10: =COUNTIFS(Planning!$4:$4,C$5, Planning!10:10,$B$4) -> 0 | D10: =COUNTIFS(Planning!$4:$4,D$5, Planning!10:10,$B$4) -> 0 | E10: =COUNTIFS(Planning!$4:$4,E$5, Planning!10:10,$B$4) -> 0 | F10: =COUNTIFS(Planning!$4:$4,F$5, Planning!10:10,$B$4) -> 0 | G10: =COUNTIFS(Planning!$4:$4,G$5, Planning!10:10,$B$4) -> 0 | H10: =COUNTIFS(Planning!$4:$4,H$5, Planning!10:10,$B$4) -> 0 | I10: =SUM(B10:G10) -> 0
A11: =Planning!A11 -> Agent 6 | B11: =COUNTIFS(Planning!$4:$4,B$5, Planning!11:11,$B$4) -> 0 | C11: =COUNTIFS(Planning!$4:$4,C$5, Planning!11:11,$B$4) -> 0 | D11: =COUNTIFS(Planning!$4:$4,D$5, Planning!11:11,$B$4) -> 0 | E11: =COUNTIFS(Planning!$4:$4,E$5, Planning!11:11,$B$4) -> 0 | F11: =COUNTIFS(Planning!$4:$4,F$5, Planning!11:11,$B$4) -> 0 | G11: =COUNTIFS(Planning!$4:$4,G$5, Planning!11:11,$B$4) -> 0 | H11: =COUNTIFS(Planning!$4:$4,H$5, Planning!11:11,$B$4) -> 0 | I11: =SUM(B11:G11) -> 0
A12: =Planning!A12 -> Agent 7 | B12: =COUNTIFS(Planning!$4:$4,B$5, Planning!12:12,$B$4) -> 0 | C12: =COUNTIFS(Planning!$4:$4,C$5, Planning!12:12,$B$4) -> 0 | D12: =COUNTIFS(Planning!$4:$4,D$5, Planning!12:12,$B$4) -> 0 | E12: =COUNTIFS(Planning!$4:$4,E$5, Planning!12:12,$B$4) -> 0 | F12: =COUNTIFS(Planning!$4:$4,F$5, Planning!12:12,$B$4) -> 0 | G12: =COUNTIFS(Planning!$4:$4,G$5, Planning!12:12,$B$4) -> 3 | H12: =COUNTIFS(Planning!$4:$4,H$5, Planning!12:12,$B$4) -> 0 | I12: =SUM(B12:G12) -> 3
A13: =Planning!A13 -> Agent 8 | B13: =COUNTIFS(Planning!$4:$4,B$5, Planning!13:13,$B$4) -> 0 | C13: =COUNTIFS(Planning!$4:$4,C$5, Planning!13:13,$B$4) -> 0 | D13: =COUNTIFS(Planning!$4:$4,D$5, Planning!13:13,$B$4) -> 0 | E13: =COUNTIFS(Planning!$4:$4,E$5, Planning!13:13,$B$4) -> 0 | F13: =COUNTIFS(Planning!$4:$4,F$5, Planning!13:13,$B$4) -> 0 | G13: =COUNTIFS(Planning!$4:$4,G$5, Planning!13:13,$B$4) -> 0 | H13: =COUNTIFS(Planning!$4:$4,H$5, Planning!13:13,$B$4) -> 0 | I13: =SUM(B13:G13) -> 0
A14: =Planning!A14 -> Agent 9 | B14: =COUNTIFS(Planning!$4:$4,B$5, Planning!14:14,$B$4) -> 1 | C14: =COUNTIFS(Planning!$4:$4,C$5, Planning!14:14,$B$4) -> 0 | D14: =COUNTIFS(Planning!$4:$4,D$5, Planning!14:14,$B$4) -> 0 | E14: =COUNTIFS(Planning!$4:$4,E$5, Planning!14:14,$B$4) -> 1 | F14: =COUNTIFS(Planning!$4:$4,F$5, Planning!14:14,$B$4) -> 0 | G14: =COUNTIFS(Planning!$4:$4,G$5, Planning!14:14,$B$4) -> 0 | H14: =COUNTIFS(Planning!$4:$4,H$5, Planning!14:14,$B$4) -> 0 | I14: =SUM(B14:G14) -> 2
A15: =Planning!A15 -> Agent 10 | B15: =COUNTIFS(Planning!$4:$4,B$5, Planning!15:15,$B$4) -> 1 | C15: =COUNTIFS(Planning!$4:$4,C$5, Planning!15:15,$B$4) -> 0 | D15: =COUNTIFS(Planning!$4:$4,D$5, Planning!15:15,$B$4) -> 0 | E15: =COUNTIFS(Planning!$4:$4,E$5, Planning!15:15,$B$4) -> 0 | F15: =COUNTIFS(Planning!$4:$4,F$5, Planning!15:15,$B$4) -> 0 | G15: =COUNTIFS(Planning!$4:$4,G$5, Planning!15:15,$B$4) -> 0 | H15: =COUNTIFS(Planning!$4:$4,H$5, Planning!15:15,$B$4) -> 0 | I15: =SUM(B15:G15) -> 1
A16: =Planning!A16 -> Agent 11 | B16: =COUNTIFS(Planning!$4:$4,B$5, Planning!16:16,$B$4) -> 0 | C16: =COUNTIFS(Planning!$4:$4,C$5, Planning!16:16,$B$4) -> 0 | D16: =COUNTIFS(Planning!$4:$4,D$5, Planning!16:16,$B$4) -> 0 | E16: =COUNTIFS(Planning!$4:$4,E$5, Planning!16:16,$B$4) -> 0 | F16: =COUNTIFS(Planning!$4:$4,F$5, Planning!16:16,$B$4) -> 0 | G16: =COUNTIFS(Planning!$4:$4,G$5, Planning!16:16,$B$4) -> 0 | H16: =COUNTIFS(Planning!$4:$4,H$5, Planning!16:16,$B$4) -> 0 | I16: =SUM(B16:G16) -> 0
A17: =Planning!A17 -> Agent 12 | B17: =COUNTIFS(Planning!$4:$4,B$5, Planning!17:17,$B$4) -> 0 | C17: =COUNTIFS(Planning!$4:$4,C$5, Planning!17:17,$B$4) -> 0 | D17: =COUNTIFS(Planning!$4:$4,D$5, Planning!17:17,$B$4) -> 0 | E17: =COUNTIFS(Planning!$4:$4,E$5, Planning!17:17,$B$4) -> 0 | F17: =COUNTIFS(Planning!$4:$4,F$5, Planning!17:17,$B$4) -> 0 | G17: =COUNTIFS(Planning!$4:$4,G$5, Planning!17:17,$B$4) -> 0 | H17: =COUNTIFS(Planning!$4:$4,H$5, Planning!17:17,$B$4) -> 0 | I17: =SUM(B17:G17) -> 0
A18: =Planning!A18 -> Agent 13 | B18: =COUNTIFS(Planning!$4:$4,B$5, Planning!18:18,$B$4) -> 0 | C18: =COUNTIFS(Planning!$4:$4,C$5, Planning!18:18,$B$4) -> 0 | D18: =COUNTIFS(Planning!$4:$4,D$5, Planning!18:18,$B$4) -> 0 | E18: =COUNTIFS(Planning!$4:$4,E$5, Planning!18:18,$B$4) -> 0 | F18: =COUNTIFS(Planning!$4:$4,F$5, Planning!18:18,$B$4) -> 0 | G18: =COUNTIFS(Planning!$4:$4,G$5, Planning!18:18,$B$4) -> 0 | H18: =COUNTIFS(Planning!$4:$4,H$5, Planning!18:18,$B$4) -> 0 | I18: =SUM(B18:G18) -> 0
A19: =Planning!A19 -> Agent 14 | B19: =COUNTIFS(Planning!$4:$4,B$5, Planning!19:19,$B$4) -> 0 | C19: =COUNTIFS(Planning!$4:$4,C$5, Planning!19:19,$B$4) -> 0 | D19: =COUNTIFS(Planning!$4:$4,D$5, Planning!19:19,$B$4) -> 0 | E19: =COUNTIFS(Planning!$4:$4,E$5, Planning!19:19,$B$4) -> 0 | F19: =COUNTIFS(Planning!$4:$4,F$5, Planning!19:19,$B$4) -> 0 | G19: =COUNTIFS(Planning!$4:$4,G$5, Planning!19:19,$B$4) -> 0 | H19: =COUNTIFS(Planning!$4:$4,H$5, Planning!19:19,$B$4) -> 0 | I19: =SUM(B19:G19) -> 0
A20: =Planning!A20 -> Agent 15 | B20: =COUNTIFS(Planning!$4:$4,B$5, Planning!20:20,$B$4) -> 0 | C20: =COUNTIFS(Planning!$4:$4,C$5, Planning!20:20,$B$4) -> 0 | D20: =COUNTIFS(Planning!$4:$4,D$5, Planning!20:20,$B$4) -> 0 | E20: =COUNTIFS(Planning!$4:$4,E$5, Planning!20:20,$B$4) -> 0 | F20: =COUNTIFS(Planning!$4:$4,F$5, Planning!20:20,$B$4) -> 0 | G20: =COUNTIFS(Planning!$4:$4,G$5, Planning!20:20,$B$4) -> 0 | H20: =COUNTIFS(Planning!$4:$4,H$5, Planning!20:20,$B$4) -> 0 | I20: =SUM(B20:G20) -> 0
A21: =Planning!A21 -> Agent 16 | B21: =COUNTIFS(Planning!$4:$4,B$5, Planning!21:21,$B$4) -> 0 | C21: =COUNTIFS(Planning!$4:$4,C$5, Planning!21:21,$B$4) -> 0 | D21: =COUNTIFS(Planning!$4:$4,D$5, Planning!21:21,$B$4) -> 0 | E21: =COUNTIFS(Planning!$4:$4,E$5, Planning!21:21,$B$4) -> 0 | F21: =COUNTIFS(Planning!$4:$4,F$5, Planning!21:21,$B$4) -> 0 | G21: =COUNTIFS(Planning!$4:$4,G$5, Planning!21:21,$B$4) -> 0 | H21: =COUNTIFS(Planning!$4:$4,H$5, Planning!21:21,$B$4) -> 0 | I21: =SUM(B21:G21) -> 0
A22: =Planning!A22 -> Agent 17 | B22: =COUNTIFS(Planning!$4:$4,B$5, Planning!22:22,$B$4) -> 0 | C22: =COUNTIFS(Planning!$4:$4,C$5, Planning!22:22,$B$4) -> 0 | D22: =COUNTIFS(Planning!$4:$4,D$5, Planning!22:22,$B$4) -> 0 | E22: =COUNTIFS(Planning!$4:$4,E$5, Planning!22:22,$B$4) -> 0 | F22: =COUNTIFS(Planning!$4:$4,F$5, Planning!22:22,$B$4) -> 0 | G22: =COUNTIFS(Planning!$4:$4,G$5, Planning!22:22,$B$4) -> 0 | H22: =COUNTIFS(Planning!$4:$4,H$5, Planning!22:22,$B$4) -> 0 | I22: =SUM(B22:G22) -> 0
A23: =Planning!A23 -> Agent 18 | B23: =COUNTIFS(Planning!$4:$4,B$5, Planning!23:23,$B$4) -> 0 | C23: =COUNTIFS(Planning!$4:$4,C$5, Planning!23:23,$B$4) -> 0 | D23: =COUNTIFS(Planning!$4:$4,D$5, Planning!23:23,$B$4) -> 0 | E23: =COUNTIFS(Planning!$4:$4,E$5, Planning!23:23,$B$4) -> 0 | F23: =COUNTIFS(Planning!$4:$4,F$5, Planning!23:23,$B$4) -> 0 | G23: =COUNTIFS(Planning!$4:$4,G$5, Planning!23:23,$B$4) -> 0 | H23: =COUNTIFS(Planning!$4:$4,H$5, Planning!23:23,$B$4) -> 0 | I23: =SUM(B23:G23) -> 0
A24: =Planning!A24 -> Agent 19 | B24: =COUNTIFS(Planning!$4:$4,B$5, Planning!24:24,$B$4) -> 0 | C24: =COUNTIFS(Planning!$4:$4,C$5, Planning!24:24,$B$4) -> 0 | D24: =COUNTIFS(Planning!$4:$4,D$5, Planning!24:24,$B$4) -> 0 | E24: =COUNTIFS(Planning!$4:$4,E$5, Planning!24:24,$B$4) -> 0 | F24: =COUNTIFS(Planning!$4:$4,F$5, Planning!24:24,$B$4) -> 0 | G24: =COUNTIFS(Planning!$4:$4,G$5, Planning!24:24,$B$4) -> 0 | H24: =COUNTIFS(Planning!$4:$4,H$5, Planning!24:24,$B$4) -> 0 | I24: =SUM(B24:G24) -> 0
A25: =Planning!A25 -> Agent 20 | B25: =COUNTIFS(Planning!$4:$4,B$5, Planning!25:25,$B$4) -> 2 | C25: =COUNTIFS(Planning!$4:$4,C$5, Planning!25:25,$B$4) -> 0 | D25: =COUNTIFS(Planning!$4:$4,D$5, Planning!25:25,$B$4) -> 0 | E25: =COUNTIFS(Planning!$4:$4,E$5, Planning!25:25,$B$4) -> 0 | F25: =COUNTIFS(Planning!$4:$4,F$5, Planning!25:25,$B$4) -> 0 | G25: =COUNTIFS(Planning!$4:$4,G$5, Planning!25:25,$B$4) -> 0 | H25: =COUNTIFS(Planning!$4:$4,H$5, Planning!25:25,$B$4) -> 0 | I25: =SUM(B25:G25) -> 2
B30: =UPPER(TEXT(DATE(An,2,1),"mmmm-aa")) -> FÉVRIER-26
B31: B1 | I31: ="TOTAL " & B31 -> TOTAL B1
B32: Lundi | C32: Mardi | D32: Mercredi | E32: Jeudi | F32: Vendredi | G32: Samedi | H32: Dimanche
A33: =A6 -> Agent 1 | B33: =COUNTIFS(Planning!$30:$30,B$32, Planning!32:32,$B$31) -> 0 | C33: =COUNTIFS(Planning!$30:$30,C$32, Planning!32:32,$B$31) -> 1 | D33: =COUNTIFS(Planning!$30:$30,D$32, Planning!32:32,$B$31) -> 0 | E33: =COUNTIFS(Planning!$30:$30,E$32, Planning!32:32,$B$31) -> 3 | F33: =COUNTIFS(Planning!$30:$30,F$32, Planning!32:32,$B$31) -> 2 | G33: =COUNTIFS(Planning!$30:$30,G$32, Planning!32:32,$B$31) -> 0 | H33: =COUNTIFS(Planning!$30:$30,H$32, Planning!32:32,$B$31) -> 0 | I33: =SUM(B33:G33) -> 6
A34: =A7 -> Agent 2 | B34: =COUNTIFS(Planning!$30:$30,B$32, Planning!33:33,$B$31) -> 0 | C34: =COUNTIFS(Planning!$30:$30,C$32, Planning!33:33,$B$31) -> 0 | D34: =COUNTIFS(Planning!$30:$30,D$32, Planning!33:33,$B$31) -> 0 | E34: =COUNTIFS(Planning!$30:$30,E$32, Planning!33:33,$B$31) -> 2 | F34: =COUNTIFS(Planning!$30:$30,F$32, Planning!33:33,$B$31) -> 0 | G34: =COUNTIFS(Planning!$30:$30,G$32, Planning!33:33,$B$31) -> 0 | H34: =COUNTIFS(Planning!$30:$30,H$32, Planning!33:33,$B$31) -> 0 | I34: =SUM(B34:G34) -> 2
A35: =A8 -> Agent 3 | B35: =COUNTIFS(Planning!$30:$30,B$32, Planning!34:34,$B$31) -> 0 | C35: =COUNTIFS(Planning!$30:$30,C$32, Planning!34:34,$B$31) -> 0 | D35: =COUNTIFS(Planning!$30:$30,D$32, Planning!34:34,$B$31) -> 0 | E35: =COUNTIFS(Planning!$30:$30,E$32, Planning!34:34,$B$31) -> 0 | F35: =COUNTIFS(Planning!$30:$30,F$32, Planning!34:34,$B$31) -> 0 | G35: =COUNTIFS(Planning!$30:$30,G$32, Planning!34:34,$B$31) -> 0 | H35: =COUNTIFS(Planning!$30:$30,H$32, Planning!34:34,$B$31) -> 0 | I35: =SUM(B35:G35) -> 0
A36: =A9 -> Agent 4 | B36: =COUNTIFS(Planning!$30:$30,B$32, Planning!35:35,$B$31) -> 0 | C36: =COUNTIFS(Planning!$30:$30,C$32, Planning!35:35,$B$31) -> 0 | D36: =COUNTIFS(Planning!$30:$30,D$32, Planning!35:35,$B$31) -> 0 | E36: =COUNTIFS(Planning!$30:$30,E$32, Planning!35:35,$B$31) -> 0 | F36: =COUNTIFS(Planning!$30:$30,F$32, Planning!35:35,$B$31) -> 0 | G36: =COUNTIFS(Planning!$30:$30,G$32, Planning!35:35,$B$31) -> 0 | H36: =COUNTIFS(Planning!$30:$30,H$32, Planning!35:35,$B$31) -> 0 | I36: =SUM(B36:G36) -> 0
A37: =A10 -> Agent 5 | B37: =COUNTIFS(Planning!$30:$30,B$32, Planning!36:36,$B$31) -> 0 | C37: =COUNTIFS(Planning!$30:$30,C$32, Planning!36:36,$B$31) -> 0 | D37: =COUNTIFS(Planning!$30:$30,D$32, Planning!36:36,$B$31) -> 0 | E37: =COUNTIFS(Planning!$30:$30,E$32, Planning!36:36,$B$31) -> 0 | F37: =COUNTIFS(Planning!$30:$30,F$32, Planning!36:36,$B$31) -> 0 | G37: =COUNTIFS(Planning!$30:$30,G$32, Planning!36:36,$B$31) -> 0 | H37: =COUNTIFS(Planning!$30:$30,H$32, Planning!36:36,$B$31) -> 0 | I37: =SUM(B37:G37) -> 0
A38: =A11 -> Agent 6 | B38: =COUNTIFS(Planning!$30:$30,B$32, Planning!37:37,$B$31) -> 0 | C38: =COUNTIFS(Planning!$30:$30,C$32, Planning!37:37,$B$31) -> 0 | D38: =COUNTIFS(Planning!$30:$30,D$32, Planning!37:37,$B$31) -> 0 | E38: =COUNTIFS(Planning!$30:$30,E$32, Planning!37:37,$B$31) -> 0 | F38: =COUNTIFS(Planning!$30:$30,F$32, Planning!37:37,$B$31) -> 0 | G38: =COUNTIFS(Planning!$30:$30,G$32, Planning!37:37,$B$31) -> 0 | H38: =COUNTIFS(Planning!$30:$30,H$32, Planning!37:37,$B$31) -> 0 | I38: =SUM(B38:G38) -> 0
A39: =A12 -> Agent 7 | B39: =COUNTIFS(Planning!$30:$30,B$32, Planning!38:38,$B$31) -> 0 | C39: =COUNTIFS(Planning!$30:$30,C$32, Planning!38:38,$B$31) -> 3 | D39: =COUNTIFS(Planning!$30:$30,D$32, Planning!38:38,$B$31) -> 0 | E39: =COUNTIFS(Planning!$30:$30,E$32, Planning!38:38,$B$31) -> 0 | F39: =COUNTIFS(Planning!$30:$30,F$32, Planning!38:38,$B$31) -> 0 | G39: =COUNTIFS(Planning!$30:$30,G$32, Planning!38:38,$B$31) -> 0 | H39: =COUNTIFS(Planning!$30:$30,H$32, Planning!38:38,$B$31) -> 0 | I39: =SUM(B39:G39) -> 3
A40: =A13 -> Agent 8 | B40: =COUNTIFS(Planning!$30:$30,B$32, Planning!39:39,$B$31) -> 0 | C40: =COUNTIFS(Planning!$30:$30,C$32, Planning!39:39,$B$31) -> 0 | D40: =COUNTIFS(Planning!$30:$30,D$32, Planning!39:39,$B$31) -> 0 | E40: =COUNTIFS(Planning!$30:$30,E$32, Planning!39:39,$B$31) -> 0 | F40: =COUNTIFS(Planning!$30:$30,F$32, Planning!39:39,$B$31) -> 0 | G40: =COUNTIFS(Planning!$30:$30,G$32, Planning!39:39,$B$31) -> 0 | H40: =COUNTIFS(Planning!$30:$30,H$32, Planning!39:39,$B$31) -> 0 | I40: =SUM(B40:G40) -> 0
A41: =A14 -> Agent 9 | B41: =COUNTIFS(Planning!$30:$30,B$32, Planning!40:40,$B$31) -> 0 | C41: =COUNTIFS(Planning!$30:$30,C$32, Planning!40:40,$B$31) -> 0 | D41: =COUNTIFS(Planning!$30:$30,D$32, Planning!40:40,$B$31) -> 0 | E41: =COUNTIFS(Planning!$30:$30,E$32, Planning!40:40,$B$31) -> 1 | F41: =COUNTIFS(Planning!$30:$30,F$32, Planning!40:40,$B$31) -> 0 | G41: =COUNTIFS(Planning!$30:$30,G$32, Planning!40:40,$B$31) -> 0 | H41: =COUNTIFS(Planning!$30:$30,H$32, Planning!40:40,$B$31) -> 1 | I41: =SUM(B41:G41) -> 1
A42: =A15 -> Agent 10 | B42: =COUNTIFS(Planning!$30:$30,B$32, Planning!41:41,$B$31) -> 0 | C42: =COUNTIFS(Planning!$30:$30,C$32, Planning!41:41,$B$31) -> 0 | D42: =COUNTIFS(Planning!$30:$30,D$32, Planning!41:41,$B$31) -> 0 | E42: =COUNTIFS(Planning!$30:$30,E$32, Planning!41:41,$B$31) -> 1 | F42: =COUNTIFS(Planning!$30:$30,F$32, Planning!41:41,$B$31) -> 0 | G42: =COUNTIFS(Planning!$30:$30,G$32, Planning!41:41,$B$31) -> 0 | H42: =COUNTIFS(Planning!$30:$30,H$32, Planning!41:41,$B$31) -> 0 | I42: =SUM(B42:G42) -> 1
A43: =A16 -> Agent 11 | B43: =COUNTIFS(Planning!$30:$30,B$32, Planning!42:42,$B$31) -> 0 | C43: =COUNTIFS(Planning!$30:$30,C$32, Planning!42:42,$B$31) -> 0 | D43: =COUNTIFS(Planning!$30:$30,D$32, Planning!42:42,$B$31) -> 0 | E43: =COUNTIFS(Planning!$30:$30,E$32, Planning!42:42,$B$31) -> 0 | F43: =COUNTIFS(Planning!$30:$30,F$32, Planning!42:42,$B$31) -> 0 | G43: =COUNTIFS(Planning!$30:$30,G$32, Planning!42:42,$B$31) -> 0 | H43: =COUNTIFS(Planning!$30:$30,H$32, Planning!42:42,$B$31) -> 0 | I43: =SUM(B43:G43) -> 0
A44: =A17 -> Agent 12 | B44: =COUNTIFS(Planning!$30:$30,B$32, Planning!43:43,$B$31) -> 0 | C44: =COUNTIFS(Planning!$30:$30,C$32, Planning!43:43,$B$31) -> 0 | D44: =COUNTIFS(Planning!$30:$30,D$32, Planning!43:43,$B$31) -> 0 | E44: =COUNTIFS(Planning!$30:$30,E$32, Planning!43:43,$B$31) -> 0 | F44: =COUNTIFS(Planning!$30:$30,F$32, Planning!43:43,$B$31) -> 0 | G44: =COUNTIFS(Planning!$30:$30,G$32, Planning!43:43,$B$31) -> 0 | H44: =COUNTIFS(Planning!$30:$30,H$32, Planning!43:43,$B$31) -> 0 | I44: =SUM(B44:G44) -> 0
A45: =A18 -> Agent 13 | B45: =COUNTIFS(Planning!$30:$30,B$32, Planning!44:44,$B$31) -> 0 | C45: =COUNTIFS(Planning!$30:$30,C$32, Planning!44:44,$B$31) -> 0 | D45: =COUNTIFS(Planning!$30:$30,D$32, Planning!44:44,$B$31) -> 0 | E45: =COUNTIFS(Planning!$30:$30,E$32, Planning!44:44,$B$31) -> 0 | F45: =COUNTIFS(Planning!$30:$30,F$32, Planning!44:44,$B$31) -> 0 | G45: =COUNTIFS(Planning!$30:$30,G$32, Planning!44:44,$B$31) -> 0 | H45: =COUNTIFS(Planning!$30:$30,H$32, Planning!44:44,$B$31) -> 0 | I45: =SUM(B45:G45) -> 0
A46: =A19 -> Agent 14 | B46: =COUNTIFS(Planning!$30:$30,B$32, Planning!45:45,$B$31) -> 0 | C46: =COUNTIFS(Planning!$30:$30,C$32, Planning!45:45,$B$31) -> 0 | D46: =COUNTIFS(Planning!$30:$30,D$32, Planning!45:45,$B$31) -> 0 | E46: =COUNTIFS(Planning!$30:$30,E$32, Planning!45:45,$B$31) -> 0 | F46: =COUNTIFS(Planning!$30:$30,F$32, Planning!45:45,$B$31) -> 0 | G46: =COUNTIFS(Planning!$30:$30,G$32, Planning!45:45,$B$31) -> 0 | H46: =COUNTIFS(Planning!$30:$30,H$32, Planning!45:45,$B$31) -> 0 | I46: =SUM(B46:G46) -> 0
A47: =A20 -> Agent 15 | B47: =COUNTIFS(Planning!$30:$30,B$32, Planning!46:46,$B$31) -> 0 | C47: =COUNTIFS(Planning!$30:$30,C$32, Planning!46:46,$B$31) -> 0 | D47: =COUNTIFS(Planning!$30:$30,D$32, Planning!46:46,$B$31) -> 0 | E47: =COUNTIFS(Planning!$30:$30,E$32, Planning!46:46,$B$31) -> 0 | F47: =COUNTIFS(Planning!$30:$30,F$32, Planning!46:46,$B$31) -> 0 | G47: =COUNTIFS(Planning!$30:$30,G$32, Planning!46:46,$B$31) -> 0 | H47: =COUNTIFS(Planning!$30:$30,H$32, Planning!46:46,$B$31) -> 0 | I47: =SUM(B47:G47) -> 0
A48: =A21 -> Agent 16 | B48: =COUNTIFS(Planning!$30:$30,B$32, Planning!47:47,$B$31) -> 0 | C48: =COUNTIFS(Planning!$30:$30,C$32, Planning!47:47,$B$31) -> 0 | D48: =COUNTIFS(Planning!$30:$30,D$32, Planning!47:47,$B$31) -> 0 | E48: =COUNTIFS(Planning!$30:$30,E$32, Planning!47:47,$B$31) -> 0 | F48: =COUNTIFS(Planning!$30:$30,F$32, Planning!47:47,$B$31) -> 0 | G48: =COUNTIFS(Planning!$30:$30,G$32, Planning!47:47,$B$31) -> 0 | H48: =COUNTIFS(Planning!$30:$30,H$32, Planning!47:47,$B$31) -> 0 | I48: =SUM(B48:G48) -> 0
A49: =A22 -> Agent 17 | B49: =COUNTIFS(Planning!$30:$30,B$32, Planning!48:48,$B$31) -> 0 | C49: =COUNTIFS(Planning!$30:$30,C$32, Planning!48:48,$B$31) -> 0 | D49: =COUNTIFS(Planning!$30:$30,D$32, Planning!48:48,$B$31) -> 0 | E49: =COUNTIFS(Planning!$30:$30,E$32, Planning!48:48,$B$31) -> 0 | F49: =COUNTIFS(Planning!$30:$30,F$32, Planning!48:48,$B$31) -> 0 | G49: =COUNTIFS(Planning!$30:$30,G$32, Planning!48:48,$B$31) -> 0 | H49: =COUNTIFS(Planning!$30:$30,H$32, Planning!48:48,$B$31) -> 0 | I49: =SUM(B49:G49) -> 0
A50: =A23 -> Agent 18 | B50: =COUNTIFS(Planning!$30:$30,B$32, Planning!49:49,$B$31) -> 0 | C50: =COUNTIFS(Planning!$30:$30,C$32, Planning!49:49,$B$31) -> 0 | D50: =COUNTIFS(Planning!$30:$30,D$32, Planning!49:49,$B$31) -> 0 | E50: =COUNTIFS(Planning!$30:$30,E$32, Planning!49:49,$B$31) -> 0 | F50: =COUNTIFS(Planning!$30:$30,F$32, Planning!49:49,$B$31) -> 0 | G50: =COUNTIFS(Planning!$30:$30,G$32, Planning!49:49,$B$31) -> 0 | H50: =COUNTIFS(Planning!$30:$30,H$32, Planning!49:49,$B$31) -> 0 | I50: =SUM(B50:G50) -> 0
A51: =A24 -> Agent 19 | B51: =COUNTIFS(Planning!$30:$30,B$32, Planning!50:50,$B$31) -> 0 | C51: =COUNTIFS(Planning!$30:$30,C$32, Planning!50:50,$B$31) -> 0 | D51: =COUNTIFS(Planning!$30:$30,D$32, Planning!50:50,$B$31) -> 0 | E51: =COUNTIFS(Planning!$30:$30,E$32, Planning!50:50,$B$31) -> 0 | F51: =COUNTIFS(Planning!$30:$30,F$32, Planning!50:50,$B$31) -> 0 | G51: =COUNTIFS(Planning!$30:$30,G$32, Planning!50:50,$B$31) -> 0 | H51: =COUNTIFS(Planning!$30:$30,H$32, Planning!50:50,$B$31) -> 0 | I51: =SUM(B51:G51) -> 0
A52: =A25 -> Agent 20 | B52: =COUNTIFS(Planning!$30:$30,B$32, Planning!51:51,$B$31) -> 0 | C52: =COUNTIFS(Planning!$30:$30,C$32, Planning!51:51,$B$31) -> 0 | D52: =COUNTIFS(Planning!$30:$30,D$32, Planning!51:51,$B$31) -> 0 | E52: =COUNTIFS(Planning!$30:$30,E$32, Planning!51:51,$B$31) -> 0 | F52: =COUNTIFS(Planning!$30:$30,F$32, Planning!51:51,$B$31) -> 0 | G52: =COUNTIFS(Planning!$30:$30,G$32, Planning!51:51,$B$31) -> 0 | H52: =COUNTIFS(Planning!$30:$30,H$32, Planning!51:51,$B$31) -> 0 | I52: =SUM(B52:G52) -> 0
B57: =UPPER(TEXT(DATE(An,3,1),"mmmm-aa")) -> MARS-26
B58: B1 | I58: ="TOTAL " & B58 -> TOTAL B1
B59: Lundi | C59: Mardi | D59: Mercredi | E59: Jeudi | F59: Vendredi | G59: Samedi | H59: Dimanche
A60: =A6 -> Agent 1 | B60: =COUNTIFS(Planning!$56:$56,B$59, Planning!58:58,$B$58) -> 0 | C60: =COUNTIFS(Planning!$56:$56,C$59, Planning!58:58,$B$58) -> 1 | D60: =COUNTIFS(Planning!$56:$56,D$59, Planning!58:58,$B$58) -> 0 | E60: =COUNTIFS(Planning!$56:$56,E$59, Planning!58:58,$B$58) -> 3 | F60: =COUNTIFS(Planning!$56:$56,F$59, Planning!58:58,$B$58) -> 2 | G60: =COUNTIFS(Planning!$56:$56,G$59, Planning!58:58,$B$58) -> 0 | H60: =COUNTIFS(Planning!$56:$56,H$59, Planning!58:58,$B$58) -> 0 | I60: =SUM(B60:G60) -> 6
A61: =A7 -> Agent 2 | B61: =COUNTIFS(Planning!$56:$56,B$59, Planning!59:59,$B$58) -> 0 | C61: =COUNTIFS(Planning!$56:$56,C$59, Planning!59:59,$B$58) -> 0 | D61: =COUNTIFS(Planning!$56:$56,D$59, Planning!59:59,$B$58) -> 0 | E61: =COUNTIFS(Planning!$56:$56,E$59, Planning!59:59,$B$58) -> 2 | F61: =COUNTIFS(Planning!$56:$56,F$59, Planning!59:59,$B$58) -> 0 | G61: =COUNTIFS(Planning!$56:$56,G$59, Planning!59:59,$B$58) -> 0 | H61: =COUNTIFS(Planning!$56:$56,H$59, Planning!59:59,$B$58) -> 0 | I61: =SUM(B61:G61) -> 2
A62: =A8 -> Agent 3 | B62: =COUNTIFS(Planning!$56:$56,B$59, Planning!60:60,$B$58) -> 0 | C62: =COUNTIFS(Planning!$56:$56,C$59, Planning!60:60,$B$58) -> 0 | D62: =COUNTIFS(Planning!$56:$56,D$59, Planning!60:60,$B$58) -> 0 | E62: =COUNTIFS(Planning!$56:$56,E$59, Planning!60:60,$B$58) -> 0 | F62: =COUNTIFS(Planning!$56:$56,F$59, Planning!60:60,$B$58) -> 0 | G62: =COUNTIFS(Planning!$56:$56,G$59, Planning!60:60,$B$58) -> 0 | H62: =COUNTIFS(Planning!$56:$56,H$59, Planning!60:60,$B$58) -> 0 | I62: =SUM(B62:G62) -> 0
A63: =A9 -> Agent 4 | B63: =COUNTIFS(Planning!$56:$56,B$59, Planning!61:61,$B$58) -> 0 | C63: =COUNTIFS(Planning!$56:$56,C$59, Planning!61:61,$B$58) -> 0 | D63: =COUNTIFS(Planning!$56:$56,D$59, Planning!61:61,$B$58) -> 0 | E63: =COUNTIFS(Planning!$56:$56,E$59, Planning!61:61,$B$58) -> 0 | F63: =COUNTIFS(Planning!$56:$56,F$59, Planning!61:61,$B$58) -> 0 | G63: =COUNTIFS(Planning!$56:$56,G$59, Planning!61:61,$B$58) -> 0 | H63: =COUNTIFS(Planning!$56:$56,H$59, Planning!61:61,$B$58) -> 0 | I63: =SUM(B63:G63) -> 0
A64: =A10 -> Agent 5 | B64: =COUNTIFS(Planning!$56:$56,B$59, Planning!62:62,$B$58) -> 0 | C64: =COUNTIFS(Planning!$56:$56,C$59, Planning!62:62,$B$58) -> 0 | D64: =COUNTIFS(Planning!$56:$56,D$59, Planning!62:62,$B$58) -> 0 | E64: =COUNTIFS(Planning!$56:$56,E$59, Planning!62:62,$B$58) -> 0 | F64: =COUNTIFS(Planning!$56:$56,F$59, Planning!62:62,$B$58) -> 0 | G64: =COUNTIFS(Planning!$56:$56,G$59, Planning!62:62,$B$58) -> 0 | H64: =COUNTIFS(Planning!$56:$56,H$59, Planning!62:62,$B$58) -> 0 | I64: =SUM(B64:G64) -> 0
A65: =A11 -> Agent 6 | B65: =COUNTIFS(Planning!$56:$56,B$59, Planning!63:63,$B$58) -> 0 | C65: =COUNTIFS(Planning!$56:$56,C$59, Planning!63:63,$B$58) -> 0 | D65: =COUNTIFS(Planning!$56:$56,D$59, Planning!63:63,$B$58) -> 0 | E65: =COUNTIFS(Planning!$56:$56,E$59, Planning!63:63,$B$58) -> 0 | F65: =COUNTIFS(Planning!$56:$56,F$59, Planning!63:63,$B$58) -> 0 | G65: =COUNTIFS(Planning!$56:$56,G$59, Planning!63:63,$B$58) -> 0 | H65: =COUNTIFS(Planning!$56:$56,H$59, Planning!63:63,$B$58) -> 0 | I65: =SUM(B65:G65) -> 0
A66: =A12 -> Agent 7 | B66: =COUNTIFS(Planning!$56:$56,B$59, Planning!64:64,$B$58) -> 0 | C66: =COUNTIFS(Planning!$56:$56,C$59, Planning!64:64,$B$58) -> 3 | D66: =COUNTIFS(Planning!$56:$56,D$59, Planning!64:64,$B$58) -> 0 | E66: =COUNTIFS(Planning!$56:$56,E$59, Planning!64:64,$B$58) -> 0 | F66: =COUNTIFS(Planning!$56:$56,F$59, Planning!64:64,$B$58) -> 0 | G66: =COUNTIFS(Planning!$56:$56,G$59, Planning!64:64,$B$58) -> 0 | H66: =COUNTIFS(Planning!$56:$56,H$59, Planning!64:64,$B$58) -> 0 | I66: =SUM(B66:G66) -> 3
A67: =A13 -> Agent 8 | B67: =COUNTIFS(Planning!$56:$56,B$59, Planning!65:65,$B$58) -> 0 | C67: =COUNTIFS(Planning!$56:$56,C$59, Planning!65:65,$B$58) -> 0 | D67: =COUNTIFS(Planning!$56:$56,D$59, Planning!65:65,$B$58) -> 0 | E67: =COUNTIFS(Planning!$56:$56,E$59, Planning!65:65,$B$58) -> 0 | F67: =COUNTIFS(Planning!$56:$56,F$59, Planning!65:65,$B$58) -> 0 | G67: =COUNTIFS(Planning!$56:$56,G$59, Planning!65:65,$B$58) -> 0 | H67: =COUNTIFS(Planning!$56:$56,H$59, Planning!65:65,$B$58) -> 0 | I67: =SUM(B67:G67) -> 0
A68: =A14 -> Agent 9 | B68: =COUNTIFS(Planning!$56:$56,B$59, Planning!66:66,$B$58) -> 0 | C68: =COUNTIFS(Planning!$56:$56,C$59, Planning!66:66,$B$58) -> 0 | D68: =COUNTIFS(Planning!$56:$56,D$59, Planning!66:66,$B$58) -> 0 | E68: =COUNTIFS(Planning!$56:$56,E$59, Planning!66:66,$B$58) -> 1 | F68: =COUNTIFS(Planning!$56:$56,F$59, Planning!66:66,$B$58) -> 0 | G68: =COUNTIFS(Planning!$56:$56,G$59, Planning!66:66,$B$58) -> 0 | H68: =COUNTIFS(Planning!$56:$56,H$59, Planning!66:66,$B$58) -> 1 | I68: =SUM(B68:G68) -> 1
A69: =A15 -> Agent 10 | B69: =COUNTIFS(Planning!$56:$56,B$59, Planning!67:67,$B$58) -> 0 | C69: =COUNTIFS(Planning!$56:$56,C$59, Planning!67:67,$B$58) -> 0 | D69: =COUNTIFS(Planning!$56:$56,D$59, Planning!67:67,$B$58) -> 0 | E69: =COUNTIFS(Planning!$56:$56,E$59, Planning!67:67,$B$58) -> 1 | F69: =COUNTIFS(Planning!$56:$56,F$59, Planning!67:67,$B$58) -> 0 | G69: =COUNTIFS(Planning!$56:$56,G$59, Planning!67:67,$B$58) -> 0 | H69: =COUNTIFS(Planning!$56:$56,H$59, Planning!67:67,$B$58) -> 0 | I69: =SUM(B69:G69) -> 1
A70: =A16 -> Agent 11 | B70: =COUNTIFS(Planning!$56:$56,B$59, Planning!68:68,$B$58) -> 0 | C70: =COUNTIFS(Planning!$56:$56,C$59, Planning!68:68,$B$58) -> 0 | D70: =COUNTIFS(Planning!$56:$56,D$59, Planning!68:68,$B$58) -> 0 | E70: =COUNTIFS(Planning!$56:$56,E$59, Planning!68:68,$B$58) -> 0 | F70: =COUNTIFS(Planning!$56:$56,F$59, Planning!68:68,$B$58) -> 0 | G70: =COUNTIFS(Planning!$56:$56,G$59, Planning!68:68,$B$58) -> 0 | H70: =COUNTIFS(Planning!$56:$56,H$59, Planning!68:68,$B$58) -> 0 | I70: =SUM(B70:G70) -> 0
A71: =A17 -> Agent 12 | B71: =COUNTIFS(Planning!$56:$56,B$59, Planning!69:69,$B$58) -> 0 | C71: =COUNTIFS(Planning!$56:$56,C$59, Planning!69:69,$B$58) -> 0 | D71: =COUNTIFS(Planning!$56:$56,D$59, Planning!69:69,$B$58) -> 0 | E71: =COUNTIFS(Planning!$56:$56,E$59, Planning!69:69,$B$58) -> 0 | F71: =COUNTIFS(Planning!$56:$56,F$59, Planning!69:69,$B$58) -> 0 | G71: =COUNTIFS(Planning!$56:$56,G$59, Planning!69:69,$B$58) -> 0 | H71: =COUNTIFS(Planning!$56:$56,H$59, Planning!69:69,$B$58) -> 0 | I71: =SUM(B71:G71) -> 0
A72: =A18 -> Agent 13 | B72: =COUNTIFS(Planning!$56:$56,B$59, Planning!70:70,$B$58) -> 0 | C72: =COUNTIFS(Planning!$56:$56,C$59, Planning!70:70,$B$58) -> 0 | D72: =COUNTIFS(Planning!$56:$56,D$59, Planning!70:70,$B$58) -> 0 | E72: =COUNTIFS(Planning!$56:$56,E$59, Planning!70:70,$B$58) -> 0 | F72: =COUNTIFS(Planning!$56:$56,F$59, Planning!70:70,$B$58) -> 0 | G72: =COUNTIFS(Planning!$56:$56,G$59, Planning!70:70,$B$58) -> 0 | H72: =COUNTIFS(Planning!$56:$56,H$59, Planning!70:70,$B$58) -> 0 | I72: =SUM(B72:G72) -> 0
A73: =A19 -> Agent 14 | B73: =COUNTIFS(Planning!$56:$56,B$59, Planning!71:71,$B$58) -> 0 | C73: =COUNTIFS(Planning!$56:$56,C$59, Planning!71:71,$B$58) -> 0 | D73: =COUNTIFS(Planning!$56:$56,D$59, Planning!71:71,$B$58) -> 0 | E73: =COUNTIFS(Planning!$56:$56,E$59, Planning!71:71,$B$58) -> 0 | F73: =COUNTIFS(Planning!$56:$56,F$59, Planning!71:71,$B$58) -> 0 | G73: =COUNTIFS(Planning!$56:$56,G$59, Planning!71:71,$B$58) -> 0 | H73: =COUNTIFS(Planning!$56:$56,H$59, Planning!71:71,$B$58) -> 0 | I73: =SUM(B73:G73) -> 0
A74: =A20 -> Agent 15 | B74: =COUNTIFS(Planning!$56:$56,B$59, Planning!72:72,$B$58) -> 0 | C74: =COUNTIFS(Planning!$56:$56,C$59, Planning!72:72,$B$58) -> 0 | D74: =COUNTIFS(Planning!$56:$56,D$59, Planning!72:72,$B$58) -> 0 | E74: =COUNTIFS(Planning!$56:$56,E$59, Planning!72:72,$B$58) -> 0 | F74: =COUNTIFS(Planning!$56:$56,F$59, Planning!72:72,$B$58) -> 0 | G74: =COUNTIFS(Planning!$56:$56,G$59, Planning!72:72,$B$58) -> 0 | H74: =COUNTIFS(Planning!$56:$56,H$59, Planning!72:72,$B$58) -> 0 | I74: =SUM(B74:G74) -> 0
A75: =A21 -> Agent 16 | B75: =COUNTIFS(Planning!$56:$56,B$59, Planning!73:73,$B$58) -> 0 | C75: =COUNTIFS(Planning!$56:$56,C$59, Planning!73:73,$B$58) -> 0 | D75: =COUNTIFS(Planning!$56:$56,D$59, Planning!73:73,$B$58) -> 0 | E75: =COUNTIFS(Planning!$56:$56,E$59, Planning!73:73,$B$58) -> 0 | F75: =COUNTIFS(Planning!$56:$56,F$59, Planning!73:73,$B$58) -> 0 | G75: =COUNTIFS(Planning!$56:$56,G$59, Planning!73:73,$B$58) -> 0 | H75: =COUNTIFS(Planning!$56:$56,H$59, Planning!73:73,$B$58) -> 0 | I75: =SUM(B75:G75) -> 0
A76: =A22 -> Agent 17 | B76: =COUNTIFS(Planning!$56:$56,B$59, Planning!74:74,$B$58) -> 0 | C76: =COUNTIFS(Planning!$56:$56,C$59, Planning!74:74,$B$58) -> 0 | D76: =COUNTIFS(Planning!$56:$56,D$59, Planning!74:74,$B$58) -> 0 | E76: =COUNTIFS(Planning!$56:$56,E$59, Planning!74:74,$B$58) -> 0 | F76: =COUNTIFS(Planning!$56:$56,F$59, Planning!74:74,$B$58) -> 0 | G76: =COUNTIFS(Planning!$56:$56,G$59, Planning!74:74,$B$58) -> 0 | H76: =COUNTIFS(Planning!$56:$56,H$59, Planning!74:74,$B$58) -> 0 | I76: =SUM(B76:G76) -> 0
A77: =A23 -> Agent 18 | B77: =COUNTIFS(Planning!$56:$56,B$59, Planning!75:75,$B$58) -> 0 | C77: =COUNTIFS(Planning!$56:$56,C$59, Planning!75:75,$B$58) -> 0 | D77: =COUNTIFS(Planning!$56:$56,D$59, Planning!75:75,$B$58) -> 0 | E77: =COUNTIFS(Planning!$56:$56,E$59, Planning!75:75,$B$58) -> 0 | F77: =COUNTIFS(Planning!$56:$56,F$59, Planning!75:75,$B$58) -> 0 | G77: =COUNTIFS(Planning!$56:$56,G$59, Planning!75:75,$B$58) -> 0 | H77: =COUNTIFS(Planning!$56:$56,H$59, Planning!75:75,$B$58) -> 0 | I77: =SUM(B77:G77) -> 0
A78: =A24 -> Agent 19 | B78: =COUNTIFS(Planning!$56:$56,B$59, Planning!76:76,$B$58) -> 0 | C78: =COUNTIFS(Planning!$56:$56,C$59, Planning!76:76,$B$58) -> 0 | D78: =COUNTIFS(Planning!$56:$56,D$59, Planning!76:76,$B$58) -> 0 | E78: =COUNTIFS(Planning!$56:$56,E$59, Planning!76:76,$B$58) -> 0 | F78: =COUNTIFS(Planning!$56:$56,F$59, Planning!76:76,$B$58) -> 0 | G78: =COUNTIFS(Planning!$56:$56,G$59, Planning!76:76,$B$58) -> 0 | H78: =COUNTIFS(Planning!$56:$56,H$59, Planning!76:76,$B$58) -> 0 | I78: =SUM(B78:G78) -> 0
A79: =A25 -> Agent 20 | B79: =COUNTIFS(Planning!$56:$56,B$59, Planning!77:77,$B$58) -> 0 | C79: =COUNTIFS(Planning!$56:$56,C$59, Planning!77:77,$B$58) -> 0 | D79: =COUNTIFS(Planning!$56:$56,D$59, Planning!77:77,$B$58) -> 0 | E79: =COUNTIFS(Planning!$56:$56,E$59, Planning!77:77,$B$58) -> 2 | F79: =COUNTIFS(Planning!$56:$56,F$59, Planning!77:77,$B$58) -> 0 | G79: =COUNTIFS(Planning!$56:$56,G$59, Planning!77:77,$B$58) -> 0 | H79: =COUNTIFS(Planning!$56:$56,H$59, Planning!77:77,$B$58) -> 0 | I79: =SUM(B79:G79) -> 2
B84: =UPPER(TEXT(DATE(An,4,1),"mmmm-aa")) -> AVRIL-26
B85: B1 | I85: ="TOTAL " & B85 -> TOTAL B1
B86: Lundi | C86: Mardi | D86: Mercredi | E86: Jeudi | F86: Vendredi | G86: Samedi | H86: Dimanche
A87: =A6 -> Agent 1 | B87: =COUNTIFS(Planning!$82:$82,B$86,Planning!84:84,$B$85) -> 0 | C87: =COUNTIFS(Planning!$82:$82,C$86,Planning!84:84,$B$85) -> 1 | D87: =COUNTIFS(Planning!$82:$82,D$86,Planning!84:84,$B$85) -> 0 | E87: =COUNTIFS(Planning!$82:$82,E$86,Planning!84:84,$B$85) -> 3 | F87: =COUNTIFS(Planning!$82:$82,F$86,Planning!84:84,$B$85) -> 2 | G87: =COUNTIFS(Planning!$82:$82,G$86,Planning!84:84,$B$85) -> 0 | H87: =COUNTIFS(Planning!$82:$82,H$86,Planning!84:84,$B$85) -> 0 | I87: =SUM(B87:G87) -> 6
A88: =A7 -> Agent 2 | B88: =COUNTIFS(Planning!$82:$82,B$86,Planning!85:85,$B$85) -> 0 | C88: =COUNTIFS(Planning!$82:$82,C$86,Planning!85:85,$B$85) -> 0 | D88: =COUNTIFS(Planning!$82:$82,D$86,Planning!85:85,$B$85) -> 0 | E88: =COUNTIFS(Planning!$82:$82,E$86,Planning!85:85,$B$85) -> 2 | F88: =COUNTIFS(Planning!$82:$82,F$86,Planning!85:85,$B$85) -> 0 | G88: =COUNTIFS(Planning!$82:$82,G$86,Planning!85:85,$B$85) -> 0 | H88: =COUNTIFS(Planning!$82:$82,H$86,Planning!85:85,$B$85) -> 0 | I88: =SUM(B88:G88) -> 2
A89: =A8 -> Agent 3 | B89: =COUNTIFS(Planning!$82:$82,B$86,Planning!86:86,$B$85) -> 0 | C89: =COUNTIFS(Planning!$82:$82,C$86,Planning!86:86,$B$85) -> 0 | D89: =COUNTIFS(Planning!$82:$82,D$86,Planning!86:86,$B$85) -> 0 | E89: =COUNTIFS(Planning!$82:$82,E$86,Planning!86:86,$B$85) -> 0 | F89: =COUNTIFS(Planning!$82:$82,F$86,Planning!86:86,$B$85) -> 0 | G89: =COUNTIFS(Planning!$82:$82,G$86,Planning!86:86,$B$85) -> 0 | H89: =COUNTIFS(Planning!$82:$82,H$86,Planning!86:86,$B$85) -> 0 | I89: =SUM(B89:G89) -> 0
A90: =A9 -> Agent 4 | B90: =COUNTIFS(Planning!$82:$82,B$86,Planning!87:87,$B$85) -> 0 | C90: =COUNTIFS(Planning!$82:$82,C$86,Planning!87:87,$B$85) -> 0 | D90: =COUNTIFS(Planning!$82:$82,D$86,Planning!87:87,$B$85) -> 0 | E90: =COUNTIFS(Planning!$82:$82,E$86,Planning!87:87,$B$85) -> 0 | F90: =COUNTIFS(Planning!$82:$82,F$86,Planning!87:87,$B$85) -> 0 | G90: =COUNTIFS(Planning!$82:$82,G$86,Planning!87:87,$B$85) -> 0 | H90: =COUNTIFS(Planning!$82:$82,H$86,Planning!87:87,$B$85) -> 0 | I90: =SUM(B90:G90) -> 0
A91: =A10 -> Agent 5 | B91: =COUNTIFS(Planning!$82:$82,B$86,Planning!88:88,$B$85) -> 0 | C91: =COUNTIFS(Planning!$82:$82,C$86,Planning!88:88,$B$85) -> 0 | D91: =COUNTIFS(Planning!$82:$82,D$86,Planning!88:88,$B$85) -> 0 | E91: =COUNTIFS(Planning!$82:$82,E$86,Planning!88:88,$B$85) -> 0 | F91: =COUNTIFS(Planning!$82:$82,F$86,Planning!88:88,$B$85) -> 0 | G91: =COUNTIFS(Planning!$82:$82,G$86,Planning!88:88,$B$85) -> 0 | H91: =COUNTIFS(Planning!$82:$82,H$86,Planning!88:88,$B$85) -> 0 | I91: =SUM(B91:G91) -> 0
A92: =A11 -> Agent 6 | B92: =COUNTIFS(Planning!$82:$82,B$86,Planning!89:89,$B$85) -> 0 | C92: =COUNTIFS(Planning!$82:$82,C$86,Planning!89:89,$B$85) -> 0 | D92: =COUNTIFS(Planning!$82:$82,D$86,Planning!89:89,$B$85) -> 0 | E92: =COUNTIFS(Planning!$82:$82,E$86,Planning!89:89,$B$85) -> 0 | F92: =COUNTIFS(Planning!$82:$82,F$86,Planning!89:89,$B$85) -> 0 | G92: =COUNTIFS(Planning!$82:$82,G$86,Planning!89:89,$B$85) -> 0 | H92: =COUNTIFS(Planning!$82:$82,H$86,Planning!89:89,$B$85) -> 0 | I92: =SUM(B92:G92) -> 0
A93: =A12 -> Agent 7 | B93: =COUNTIFS(Planning!$82:$82,B$86,Planning!90:90,$B$85) -> 0 | C93: =COUNTIFS(Planning!$82:$82,C$86,Planning!90:90,$B$85) -> 3 | D93: =COUNTIFS(Planning!$82:$82,D$86,Planning!90:90,$B$85) -> 0 | E93: =COUNTIFS(Planning!$82:$82,E$86,Planning!90:90,$B$85) -> 0 | F93: =COUNTIFS(Planning!$82:$82,F$86,Planning!90:90,$B$85) -> 0 | G93: =COUNTIFS(Planning!$82:$82,G$86,Planning!90:90,$B$85) -> 0 | H93: =COUNTIFS(Planning!$82:$82,H$86,Planning!90:90,$B$85) -> 0 | I93: =SUM(B93:G93) -> 3
A94: =A13 -> Agent 8 | B94: =COUNTIFS(Planning!$82:$82,B$86,Planning!91:91,$B$85) -> 0 | C94: =COUNTIFS(Planning!$82:$82,C$86,Planning!91:91,$B$85) -> 0 | D94: =COUNTIFS(Planning!$82:$82,D$86,Planning!91:91,$B$85) -> 0 | E94: =COUNTIFS(Planning!$82:$82,E$86,Planning!91:91,$B$85) -> 0 | F94: =COUNTIFS(Planning!$82:$82,F$86,Planning!91:91,$B$85) -> 0 | G94: =COUNTIFS(Planning!$82:$82,G$86,Planning!91:91,$B$85) -> 0 | H94: =COUNTIFS(Planning!$82:$82,H$86,Planning!91:91,$B$85) -> 0 | I94: =SUM(B94:G94) -> 0
A95: =A14 -> Agent 9 | B95: =COUNTIFS(Planning!$82:$82,B$86,Planning!92:92,$B$85) -> 0 | C95: =COUNTIFS(Planning!$82:$82,C$86,Planning!92:92,$B$85) -> 0 | D95: =COUNTIFS(Planning!$82:$82,D$86,Planning!92:92,$B$85) -> 0 | E95: =COUNTIFS(Planning!$82:$82,E$86,Planning!92:92,$B$85) -> 1 | F95: =COUNTIFS(Planning!$82:$82,F$86,Planning!92:92,$B$85) -> 0 | G95: =COUNTIFS(Planning!$82:$82,G$86,Planning!92:92,$B$85) -> 0 | H95: =COUNTIFS(Planning!$82:$82,H$86,Planning!92:92,$B$85) -> 1 | I95: =SUM(B95:G95) -> 1
A96: =A15 -> Agent 10 | B96: =COUNTIFS(Planning!$82:$82,B$86,Planning!93:93,$B$85) -> 0 | C96: =COUNTIFS(Planning!$82:$82,C$86,Planning!93:93,$B$85) -> 0 | D96: =COUNTIFS(Planning!$82:$82,D$86,Planning!93:93,$B$85) -> 0 | E96: =COUNTIFS(Planning!$82:$82,E$86,Planning!93:93,$B$85) -> 1 | F96: =COUNTIFS(Planning!$82:$82,F$86,Planning!93:93,$B$85) -> 0 | G96: =COUNTIFS(Planning!$82:$82,G$86,Planning!93:93,$B$85) -> 0 | H96: =COUNTIFS(Planning!$82:$82,H$86,Planning!93:93,$B$85) -> 0 | I96: =SUM(B96:G96) -> 1
A97: =A16 -> Agent 11 | B97: =COUNTIFS(Planning!$82:$82,B$86,Planning!94:94,$B$85) -> 0 | C97: =COUNTIFS(Planning!$82:$82,C$86,Planning!94:94,$B$85) -> 0 | D97: =COUNTIFS(Planning!$82:$82,D$86,Planning!94:94,$B$85) -> 0 | E97: =COUNTIFS(Planning!$82:$82,E$86,Planning!94:94,$B$85) -> 0 | F97: =COUNTIFS(Planning!$82:$82,F$86,Planning!94:94,$B$85) -> 0 | G97: =COUNTIFS(Planning!$82:$82,G$86,Planning!94:94,$B$85) -> 0 | H97: =COUNTIFS(Planning!$82:$82,H$86,Planning!94:94,$B$85) -> 0 | I97: =SUM(B97:G97) -> 0
A98: =A17 -> Agent 12 | B98: =COUNTIFS(Planning!$82:$82,B$86,Planning!95:95,$B$85) -> 0 | C98: =COUNTIFS(Planning!$82:$82,C$86,Planning!95:95,$B$85) -> 0 | D98: =COUNTIFS(Planning!$82:$82,D$86,Planning!95:95,$B$85) -> 0 | E98: =COUNTIFS(Planning!$82:$82,E$86,Planning!95:95,$B$85) -> 0 | F98: =COUNTIFS(Planning!$82:$82,F$86,Planning!95:95,$B$85) -> 0 | G98: =COUNTIFS(Planning!$82:$82,G$86,Planning!95:95,$B$85) -> 0 | H98: =COUNTIFS(Planning!$82:$82,H$86,Planning!95:95,$B$85) -> 0 | I98: =SUM(B98:G98) -> 0
A99: =A18 -> Agent 13 | B99: =COUNTIFS(Planning!$82:$82,B$86,Planning!96:96,$B$85) -> 0 | C99: =COUNTIFS(Planning!$82:$82,C$86,Planning!96:96,$B$85) -> 0 | D99: =COUNTIFS(Planning!$82:$82,D$86,Planning!96:96,$B$85) -> 0 | E99: =COUNTIFS(Planning!$82:$82,E$86,Planning!96:96,$B$85) -> 0 | F99: =COUNTIFS(Planning!$82:$82,F$86,Planning!96:96,$B$85) -> 0 | G99: =COUNTIFS(Planning!$82:$82,G$86,Planning!96:96,$B$85) -> 0 | H99: =COUNTIFS(Planning!$82:$82,H$86,Planning!96:96,$B$85) -> 0 | I99: =SUM(B99:G99) -> 0
A100: =A19 -> Agent 14 | B100: =COUNTIFS(Planning!$82:$82,B$86,Planning!97:97,$B$85) -> 0 | C100: =COUNTIFS(Planning!$82:$82,C$86,Planning!97:97,$B$85) -> 0 | D100: =COUNTIFS(Planning!$82:$82,D$86,Planning!97:97,$B$85) -> 0 | E100: =COUNTIFS(Planning!$82:$82,E$86,Planning!97:97,$B$85) -> 0 | F100: =COUNTIFS(Planning!$82:$82,F$86,Planning!97:97,$B$85) -> 0 | G100: =COUNTIFS(Planning!$82:$82,G$86,Planning!97:97,$B$85) -> 0 | H100: =COUNTIFS(Planning!$82:$82,H$86,Planning!97:97,$B$85) -> 0 | I100: =SUM(B100:G100) -> 0
A101: =A20 -> Agent 15 | B101: =COUNTIFS(Planning!$82:$82,B$86,Planning!98:98,$B$85) -> 0 | C101: =COUNTIFS(Planning!$82:$82,C$86,Planning!98:98,$B$85) -> 0 | D101: =COUNTIFS(Planning!$82:$82,D$86,Planning!98:98,$B$85) -> 0 | E101: =COUNTIFS(Planning!$82:$82,E$86,Planning!98:98,$B$85) -> 0 | F101: =COUNTIFS(Planning!$82:$82,F$86,Planning!98:98,$B$85) -> 0 | G101: =COUNTIFS(Planning!$82:$82,G$86,Planning!98:98,$B$85) -> 0 | H101: =COUNTIFS(Planning!$82:$82,H$86,Planning!98:98,$B$85) -> 0 | I101: =SUM(B101:G101) -> 0
A102: =A21 -> Agent 16 | B102: =COUNTIFS(Planning!$82:$82,B$86,Planning!99:99,$B$85) -> 0 | C102: =COUNTIFS(Planning!$82:$82,C$86,Planning!99:99,$B$85) -> 0 | D102: =COUNTIFS(Planning!$82:$82,D$86,Planning!99:99,$B$85) -> 0 | E102: =COUNTIFS(Planning!$82:$82,E$86,Planning!99:99,$B$85) -> 0 | F102: =COUNTIFS(Planning!$82:$82,F$86,Planning!99:99,$B$85) -> 0 | G102: =COUNTIFS(Planning!$82:$82,G$86,Planning!99:99,$B$85) -> 0 | H102: =COUNTIFS(Planning!$82:$82,H$86,Planning!99:99,$B$85) -> 0 | I102: =SUM(B102:G102) -> 0
A103: =A22 -> Agent 17 | B103: =COUNTIFS(Planning!$82:$82,B$86,Planning!100:100,$B$85) -> 0 | C103: =COUNTIFS(Planning!$82:$82,C$86,Planning!100:100,$B$85) -> 0 | D103: =COUNTIFS(Planning!$82:$82,D$86,Planning!100:100,$B$85) -> 0 | E103: =COUNTIFS(Planning!$82:$82,E$86,Planning!100:100,$B$85) -> 0 | F103: =COUNTIFS(Planning!$82:$82,F$86,Planning!100:100,$B$85) -> 0 | G103: =COUNTIFS(Planning!$82:$82,G$86,Planning!100:100,$B$85) -> 0 | H103: =COUNTIFS(Planning!$82:$82,H$86,Planning!100:100,$B$85) -> 0 | I103: =SUM(B103:G103) -> 0
A104: =A23 -> Agent 18 | B104: =COUNTIFS(Planning!$82:$82,B$86,Planning!101:101,$B$85) -> 0 | C104: =COUNTIFS(Planning!$82:$82,C$86,Planning!101:101,$B$85) -> 0 | D104: =COUNTIFS(Planning!$82:$82,D$86,Planning!101:101,$B$85) -> 0 | E104: =COUNTIFS(Planning!$82:$82,E$86,Planning!101:101,$B$85) -> 0 | F104: =COUNTIFS(Planning!$82:$82,F$86,Planning!101:101,$B$85) -> 0 | G104: =COUNTIFS(Planning!$82:$82,G$86,Planning!101:101,$B$85) -> 0 | H104: =COUNTIFS(Planning!$82:$82,H$86,Planning!101:101,$B$85) -> 0 | I104: =SUM(B104:G104) -> 0
A105: =A24 -> Agent 19 | B105: =COUNTIFS(Planning!$82:$82,B$86,Planning!102:102,$B$85) -> 0 | C105: =COUNTIFS(Planning!$82:$82,C$86,Planning!102:102,$B$85) -> 0 | D105: =COUNTIFS(Planning!$82:$82,D$86,Planning!102:102,$B$85) -> 0 | E105: =COUNTIFS(Planning!$82:$82,E$86,Planning!102:102,$B$85) -> 0 | F105: =COUNTIFS(Planning!$82:$82,F$86,Planning!102:102,$B$85) -> 0 | G105: =COUNTIFS(Planning!$82:$82,G$86,Planning!102:102,$B$85) -> 0 | H105: =COUNTIFS(Planning!$82:$82,H$86,Planning!102:102,$B$85) -> 0 | I105: =SUM(B105:G105) -> 0
A106: =A25 -> Agent 20 | B106: =COUNTIFS(Planning!$82:$82,B$86,Planning!103:103,$B$85) -> 0 | C106: =COUNTIFS(Planning!$82:$82,C$86,Planning!103:103,$B$85) -> 0 | D106: =COUNTIFS(Planning!$82:$82,D$86,Planning!103:103,$B$85) -> 0 | E106: =COUNTIFS(Planning!$82:$82,E$86,Planning!103:103,$B$85) -> 2 | F106: =COUNTIFS(Planning!$82:$82,F$86,Planning!103:103,$B$85) -> 0 | G106: =COUNTIFS(Planning!$82:$82,G$86,Planning!103:103,$B$85) -> 0 | H106: =COUNTIFS(Planning!$82:$82,H$86,Planning!103:103,$B$85) -> 0 | I106: =SUM(B106:G106) -> 2
B111: =UPPER(TEXT(DATE(An,5,1),"mmmm-aa")) -> MAI-26
B112: B1 | I112: ="TOTAL " & B112 -> TOTAL B1
B113: Lundi | C113: Mardi | D113: Mercredi | E113: Jeudi | F113: Vendredi | G113: Samedi | H113: Dimanche
A114: =A6 -> Agent 1 | B114: =COUNTIFS(Planning!$108:$108,B$113,Planning!110:110,$B$112) -> 0 | C114: =COUNTIFS(Planning!$108:$108,C$113,Planning!110:110,$B$112) -> 3 | D114: =COUNTIFS(Planning!$108:$108,D$113,Planning!110:110,$B$112) -> 2 | E114: =COUNTIFS(Planning!$108:$108,E$113,Planning!110:110,$B$112) -> 0 | F114: =COUNTIFS(Planning!$108:$108,F$113,Planning!110:110,$B$112) -> 0 | G114: =COUNTIFS(Planning!$108:$108,G$113,Planning!110:110,$B$112) -> 0 | H114: =COUNTIFS(Planning!$108:$108,H$113,Planning!110:110,$B$112) -> 1 | I114: =SUM(B114:G114) -> 5
A115: =A7 -> Agent 2 | B115: =COUNTIFS(Planning!$108:$108,B$113,Planning!111:111,$B$112) -> 0 | C115: =COUNTIFS(Planning!$108:$108,C$113,Planning!111:111,$B$112) -> 2 | D115: =COUNTIFS(Planning!$108:$108,D$113,Planning!111:111,$B$112) -> 0 | E115: =COUNTIFS(Planning!$108:$108,E$113,Planning!111:111,$B$112) -> 0 | F115: =COUNTIFS(Planning!$108:$108,F$113,Planning!111:111,$B$112) -> 0 | G115: =COUNTIFS(Planning!$108:$108,G$113,Planning!111:111,$B$112) -> 0 | H115: =COUNTIFS(Planning!$108:$108,H$113,Planning!111:111,$B$112) -> 0 | I115: =SUM(B115:G115) -> 2
A116: =A8 -> Agent 3 | B116: =COUNTIFS(Planning!$108:$108,B$113,Planning!112:112,$B$112) -> 0 | C116: =COUNTIFS(Planning!$108:$108,C$113,Planning!112:112,$B$112) -> 0 | D116: =COUNTIFS(Planning!$108:$108,D$113,Planning!112:112,$B$112) -> 0 | E116: =COUNTIFS(Planning!$108:$108,E$113,Planning!112:112,$B$112) -> 0 | F116: =COUNTIFS(Planning!$108:$108,F$113,Planning!112:112,$B$112) -> 0 | G116: =COUNTIFS(Planning!$108:$108,G$113,Planning!112:112,$B$112) -> 0 | H116: =COUNTIFS(Planning!$108:$108,H$113,Planning!112:112,$B$112) -> 0 | I116: =SUM(B116:G116) -> 0
A117: =A9 -> Agent 4 | B117: =COUNTIFS(Planning!$108:$108,B$113,Planning!113:113,$B$112) -> 0 | C117: =COUNTIFS(Planning!$108:$108,C$113,Planning!113:113,$B$112) -> 0 | D117: =COUNTIFS(Planning!$108:$108,D$113,Planning!113:113,$B$112) -> 0 | E117: =COUNTIFS(Planning!$108:$108,E$113,Planning!113:113,$B$112) -> 0 | F117: =COUNTIFS(Planning!$108:$108,F$113,Planning!113:113,$B$112) -> 0 | G117: =COUNTIFS(Planning!$108:$108,G$113,Planning!113:113,$B$112) -> 0 | H117: =COUNTIFS(Planning!$108:$108,H$113,Planning!113:113,$B$112) -> 0 | I117: =SUM(B117:G117) -> 0
A118: =A10 -> Agent 5 | B118: =COUNTIFS(Planning!$108:$108,B$113,Planning!114:114,$B$112) -> 0 | C118: =COUNTIFS(Planning!$108:$108,C$113,Planning!114:114,$B$112) -> 0 | D118: =COUNTIFS(Planning!$108:$108,D$113,Planning!114:114,$B$112) -> 0 | E118: =COUNTIFS(Planning!$108:$108,E$113,Planning!114:114,$B$112) -> 0 | F118: =COUNTIFS(Planning!$108:$108,F$113,Planning!114:114,$B$112) -> 0 | G118: =COUNTIFS(Planning!$108:$108,G$113,Planning!114:114,$B$112) -> 0 | H118: =COUNTIFS(Planning!$108:$108,H$113,Planning!114:114,$B$112) -> 0 | I118: =SUM(B118:G118) -> 0
...

Sheet Totaux_annuels
B4: B1
B5: Lundi | C5: Mardi | D5: Mercredi | E5: Jeudi | F5: Vendredi | G5: Samedi | H5: Dimanche
A6: =Planning!A6 -> Agent 1 | B6: =COUNTIFS(Planning!$B$4:$AF$4,Totaux_annuels!B$5,Planning!$B6:$AF6,Totaux_annuels!$B$4) +COUNTIFS(Planning!$B$30:$AF$30,Totaux_annuels!B$5,Planning!$B32:$AF32,Totaux_annuels!$B$4) +COUNTIFS(Planning!$B$56:$AF$56,Totaux_annuels!B$5,Planning!$B58:$AF58,Totaux_annuels!$B$4) +COUNTIFS(Planning!$B$82:$AF$82,Totaux_annuels!B$5,Planning!$B84:$AF84,Totaux_annuels!$B$4) +COUNTIFS(Planning!$B$108:$AF$108,Totaux_annuels!B$5,Planning!$B110:$AF110,Totaux_annuels!$B$4) -> 3 | C6: =COUNTIFS(Planning!$B$4:$AF$4,Totaux_annuels!C$5,Planning!$B6:$AF6,Totaux_annuels!$B$4) +COUNTIFS(Planning!$B$30:$AF$30,Totaux_annuels!C$5,Planning!$B32:$AF32,Totaux_annuels!$B$4) +COUNTIFS(Planning!$B$56:$AF$56,Totaux_annuels!C$5,Planning!$B58:$AF58,Totaux_annuels!$B$4) +COUNTIFS(Planning!$B$82:$AF$82,Totaux_annuels!C$5,Planning!$B84:$AF84,Totaux_annuels!$B$4) +COUNTIFS(Planning!$B$108:$AF$108,Totaux_annuels!C$5,Planning!$B110:$AF110,Totaux_annuels!$B$4) -> 8 | D6: =COUNTIFS(Planning!$B$4:$AF$4,Totaux_annuels!D$5,Planning!$B6:$AF6,Totaux_annuels!$B$4) +COUNTIFS(Planning!$B$30:$AF$30,Totaux_annuels!D$5,Planning!$B32:$AF32,Totaux_annuels!$B$4) +COUNTIFS(Planning!$B$56:$AF$56,Totaux_annuels!D$5,Planning!$B58:$AF58,Totaux_annuels!$B$4) +COUNTIFS(Planning!$B$82:$AF$82,Totaux_annuels!D$5,Planning!$B84:$AF84,Totaux_annuels!$B$4) +COUNTIFS(Planning!$B$108:$AF$108,Totaux_annuels!D$5,Planning!$B110:$AF110,Totaux_annuels!$B$4) -> 2 | E6: =COUNTIFS(Planning!$B$4:$AF$4,Totaux_annuels!E$5,Planning!$B6:$AF6,Totaux_annuels!$B$4) +COUNTIFS(Planning!$B$30:$AF$30,Totaux_annuels!E$5,Planning!$B32:$AF32,Totaux_annuels!$B$4) +COUNTIFS(Planning!$B$56:$AF$56,Totaux_annuels!E$5,Planning!$B58:$AF58,Totaux_annuels!$B$4) +COUNTIFS(Planning!$B$82:$AF$82,Totaux_annuels!E$5,Planning!$B84:$AF84,Totaux_annuels!$B$4) +COUNTIFS(Planning!$B$108:$AF$108,Totaux_annuels!E$5,Planning!$B110:$AF110,Totaux_annuels!$B$4) -> 9 | F6: =COUNTIFS(Planning!$B$4:$AF$4,Totaux_annuels!F$5,Planning!$B6:$AF6,Totaux_annuels!$B$4) +COUNTIFS(Planning!$B$30:$AF$30,Totaux_annuels!F$5,Planning!$B32:$AF32,Totaux_annuels!$B$4) +COUNTIFS(Planning!$B$56:$AF$56,Totaux_annuels!F$5,Planning!$B58:$AF58,Totaux_annuels!$B$4) +COUNTIFS(Planning!$B$82:$AF$82,Totaux_annuels!F$5,Planning!$B84:$AF84,Totaux_annuels!$B$4) +COUNTIFS(Planning!$B$108:$AF$108,Totaux_annuels!F$5,Planning!$B110:$AF110,Totaux_annuels!$B$4) -> 6 | G6: =COUNTIFS(Planning!$B$4:$AF$4,Totaux_annuels!G$5,Planning!$B6:$AF6,Totaux_annuels!$B$4) +COUNTIFS(Planning!$B$30:$AF$30,Totaux_annuels!G$5,Planning!$B32:$AF32,Totaux_annuels!$B$4) +COUNTIFS(Planning!$B$56:$AF$56,Totaux_annuels!G$5,Planning!$B58:$AF58,Totaux_annuels!$B$4) +COUNTIFS(Planning!$B$82:$AF$82,Totaux_annuels!G$5,Planning!$B84:$AF84,Totaux_annuels!$B$4) +COUNTIFS(Planning!$B$108:$AF$108,Totaux_annuels!G$5,Planning!$B110:$AF110,Totaux_annuels!$B$4) -> 1 | H6: =COUNTIFS(Planning!$B$4:$AF$4,Totaux_annuels!H$5,Planning!$B6:$AF6,Totaux_annuels!$B$4) +COUNTIFS(Planning!$B$30:$AF$30,Totaux_annuels!H$5,Planning!$B32:$AF32,Totaux_annuels!$B$4) +COUNTIFS(Planning!$B$56:$AF$56,Totaux_annuels!H$5,Planning!$B58:$AF58,Totaux_annuels!$B$4) +COUNTIFS(Planning!$B$82:$AF$82,Totaux_annuels!H$5,Planning!$B84:$AF84,Totaux_annuels!$B$4) +COUNTIFS(Planning!$B$108:$AF$108,Totaux_annuels!H$5,Planning!$B110:$AF110,Totaux_annuels!$B$4) -> 1
A7: =Planning!A7 -> Agent 2 | B7: =COUNTIFS(Planning!$B$4:$AF$4,Totaux_annuels!B$5,Planning!$B7:$AF7,Totaux_annuels!$B$4) +COUNTIFS(Planning!$B$30:$AF$30,Totaux_annuels!B$5,Planning!$B33:$AF33,Totaux_annuels!$B$4) +COUNTIFS(Planning!$B$56:$AF$56,Totaux_annuels!B$5,Planning!$B59:$AF59,Totaux_annuels!$B$4) +COUNTIFS(Planning!$B$82:$AF$82,Totaux_annuels!B$5,Planning!$B85:$AF85,Totaux_annuels!$B$4) +COUNTIFS(Planning!$B$108:$AF$108,Totaux_annuels!B$5,Planning!$B111:$AF111,Totaux_annuels!$B$4) -> 2 | C7: =COUNTIFS(Planning!$B$4:$AF$4,Totaux_annuels!C$5,Planning!$B7:$AF7,Totaux_annuels!$B$4) +COUNTIFS(Planning!$B$30:$AF$30,Totaux_annuels!C$5,Planning!$B33:$AF33,Totaux_annuels!$B$4) +COUNTIFS(Planning!$B$56:$AF$56,Totaux_annuels!C$5,Planning!$B59:$AF59,Totaux_annuels!$B$4) +COUNTIFS(Planning!$B$82:$AF$82,Totaux_annuels!C$5,Planning!$B85:$AF85,Totaux_annuels!$B$4) +COUNTIFS(Planning!$B$108:$AF$108,Totaux_annuels!C$5,Planning!$B111:$AF111,Totaux_annuels!$B$4) -> 2 | D7: =COUNTIFS(Planning!$B$4:$AF$4,Totaux_annuels!D$5,Planning!$B7:$AF7,Totaux_annuels!$B$4) +COUNTIFS(Planning!$B$30:$AF$30,Totaux_annuels!D$5,Planning!$B33:$AF33,Totaux_annuels!$B$4) +COUNTIFS(Planning!$B$56:$AF$56,Totaux_annuels!D$5,Planning!$B59:$AF59,Totaux_annuels!$B$4) +COUNTIFS(Planning!$B$82:$AF$82,Totaux_annuels!D$5,Planning!$B85:$AF85,Totaux_annuels!$B$4) +COUNTIFS(Planning!$B$108:$AF$108,Totaux_annuels!D$5,Planning!$B111:$AF111,Totaux_annuels!$B$4) -> 0 | E7: =COUNTIFS(Planning!$B$4:$AF$4,Totaux_annuels!E$5,Planning!$B7:$AF7,Totaux_annuels!$B$4) +COUNTIFS(Planning!$B$30:$AF$30,Totaux_annuels!E$5,Planning!$B33:$AF33,Totaux_annuels!$B$4) +COUNTIFS(Planning!$B$56:$AF$56,Totaux_annuels!E$5,Planning!$B59:$AF59,Totaux_annuels!$B$4) +COUNTIFS(Planning!$B$82:$AF$82,Totaux_annuels!E$5,Planning!$B85:$AF85,Totaux_annuels!$B$4) +COUNTIFS(Planning!$B$108:$AF$108,Totaux_annuels!E$5,Planning!$B111:$AF111,Totaux_annuels!$B$4) -> 6 | F7: =COUNTIFS(Planning!$B$4:$AF$4,Totaux_annuels!F$5,Planning!$B7:$AF7,Totaux_annuels!$B$4) +COUNTIFS(Planning!$B$30:$AF$30,Totaux_annuels!F$5,Planning!$B33:$AF33,Totaux_annuels!$B$4) +COUNTIFS(Planning!$B$56:$AF$56,Totaux_annuels!F$5,Planning!$B59:$AF59,Totaux_annuels!$B$4) +COUNTIFS(Planning!$B$82:$AF$82,Totaux_annuels!F$5,Planning!$B85:$AF85,Totaux_annuels!$B$4) +COUNTIFS(Planning!$B$108:$AF$108,Totaux_annuels!F$5,Planning!$B111:$AF111,Totaux_annuels!$B$4) -> 0 | G7: =COUNTIFS(Planning!$B$4:$AF$4,Totaux_annuels!G$5,Planning!$B7:$AF7,Totaux_annuels!$B$4) +COUNTIFS(Planning!$B$30:$AF$30,Totaux_annuels!G$5,Planning!$B33:$AF33,Totaux_annuels!$B$4) +COUNTIFS(Planning!$B$56:$AF$56,Totaux_annuels!G$5,Planning!$B59:$AF59,Totaux_annuels!$B$4) +COUNTIFS(Planning!$B$82:$AF$82,Totaux_annuels!G$5,Planning!$B85:$AF85,Totaux_annuels!$B$4) +COUNTIFS(Planning!$B$108:$AF$108,Totaux_annuels!G$5,Planning!$B111:$AF111,Totaux_annuels!$B$4) -> 0 | H7: =COUNTIFS(Planning!$B$4:$AF$4,Totaux_annuels!H$5,Planning!$B7:$AF7,Totaux_annuels!$B$4) +COUNTIFS(Planning!$B$30:$AF$30,Totaux_annuels!H$5,Planning!$B33:$AF33,Totaux_annuels!$B$4) +COUNTIFS(Planning!$B$56:$AF$56,Totaux_annuels!H$5,Planning!$B59:$AF59,Totaux_annuels!$B$4) +COUNTIFS(Planning!$B$82:$AF$82,Totaux_annuels!H$5,Planning!$B85:$AF85,Totaux_annuels!$B$4) +COUNTIFS(Planning!$B$108:$AF$108,Totaux_annuels!H$5,Planning!$B111:$AF111,Totaux_annuels!$B$4) -> 0
A8: =Planning!A8 -> Agent 3 | B8: =COUNTIFS(Planning!$B$4:$AF$4,Totaux_annuels!B$5,Planning!$B8:$AF8,Totaux_annuels!$B$4) +COUNTIFS(Planning!$B$30:$AF$30,Totaux_annuels!B$5,Planning!$B34:$AF34,Totaux_annuels!$B$4) +COUNTIFS(Planning!$B$56:$AF$56,Totaux_annuels!B$5,Planning!$B60:$AF60,Totaux_annuels!$B$4) +COUNTIFS(Planning!$B$82:$AF$82,Totaux_annuels!B$5,Planning!$B86:$AF86,Totaux_annuels!$B$4) +COUNTIFS(Planning!$B$108:$AF$108,Totaux_annuels!B$5,Planning!$B112:$AF112,Totaux_annuels!$B$4) -> 0 | C8: =COUNTIFS(Planning!$B$4:$AF$4,Totaux_annuels!C$5,Planning!$B8:$AF8,Totaux_annuels!$B$4) +COUNTIFS(Planning!$B$30:$AF$30,Totaux_annuels!C$5,Planning!$B34:$AF34,Totaux_annuels!$B$4) +COUNTIFS(Planning!$B$56:$AF$56,Totaux_annuels!C$5,Planning!$B60:$AF60,Totaux_annuels!$B$4) +COUNTIFS(Planning!$B$82:$AF$82,Totaux_annuels!C$5,Planning!$B86:$AF86,Totaux_annuels!$B$4) +COUNTIFS(Planning!$B$108:$AF$108,Totaux_annuels!C$5,Planning!$B112:$AF112,Totaux_annuels!$B$4) -> 0 | D8: =COUNTIFS(Planning!$B$4:$AF$4,Totaux_annuels!D$5,Planning!$B8:$AF8,Totaux_annuels!$B$4) +COUNTIFS(Planning!$B$30:$AF$30,Totaux_annuels!D$5,Planning!$B34:$AF34,Totaux_annuels!$B$4) +COUNTIFS(Planning!$B$56:$AF$56,Totaux_annuels!D$5,Planning!$B60:$AF60,Totaux_annuels!$B$4) +COUNTIFS(Planning!$B$82:$AF$82,Totaux_annuels!D$5,Planning!$B86:$AF86,Totaux_annuels!$B$4) +COUNTIFS(Planning!$B$108:$AF$108,Totaux_annuels!D$5,Planning!$B112:$AF112,Totaux_annuels!$B$4) -> 0 | E8: =COUNTIFS(Planning!$B$4:$AF$4,Totaux_annuels!E$5,Planning!$B8:$AF8,Totaux_annuels!$B$4) +COUNTIFS(Planning!$B$30:$AF$30,Totaux_annuels!E$5,Planning!$B34:$AF34,Totaux_annuels!$B$4) +COUNTIFS(Planning!$B$56:$AF$56,Totaux_annuels!E$5,Planning!$B60:$AF60,Totaux_annuels!$B$4) +COUNTIFS(Planning!$B$82:$AF$82,Totaux_annuels!E$5,Planning!$B86:$AF86,Totaux_annuels!$B$4) +COUNTIFS(Planning!$B$108:$AF$108,Totaux_annuels!E$5,Planning!$B112:$AF112,Totaux_annuels!$B$4) -> 0 | F8: =COUNTIFS(Planning!$B$4:$AF$4,Totaux_annuels!F$5,Planning!$B8:$AF8,Totaux_annuels!$B$4) +COUNTIFS(Planning!$B$30:$AF$30,Totaux_annuels!F$5,Planning!$B34:$AF34,Totaux_annuels!$B$4) +COUNTIFS(Planning!$B$56:$AF$56,Totaux_annuels!F$5,Planning!$B60:$AF60,Totaux_annuels!$B$4) +COUNTIFS(Planning!$B$82:$AF$82,Totaux_annuels!F$5,Planning!$B86:$AF86,Totaux_annuels!$B$4) +COUNTIFS(Planning!$B$108:$AF$108,Totaux_annuels!F$5,Planning!$B112:$AF112,Totaux_annuels!$B$4) -> 0 | G8: =COUNTIFS(Planning!$B$4:$AF$4,Totaux_annuels!G$5,Planning!$B8:$AF8,Totaux_annuels!$B$4) +COUNTIFS(Planning!$B$30:$AF$30,Totaux_annuels!G$5,Planning!$B34:$AF34,Totaux_annuels!$B$4) +COUNTIFS(Planning!$B$56:$AF$56,Totaux_annuels!G$5,Planning!$B60:$AF60,Totaux_annuels!$B$4) +COUNTIFS(Planning!$B$82:$AF$82,Totaux_annuels!G$5,Planning!$B86:$AF86,Totaux_annuels!$B$4) +COUNTIFS(Planning!$B$108:$AF$108,Totaux_annuels!G$5,Planning!$B112:$AF112,Totaux_annuels!$B$4) -> 0 | H8: =COUNTIFS(Planning!$B$4:$AF$4,Totaux_annuels!H$5,Planning!$B8:$AF8,Totaux_annuels!$B$4) +COUNTIFS(Planning!$B$30:$AF$30,Totaux_annuels!H$5,Planning!$B34:$AF34,Totaux_annuels!$B$4) +COUNTIFS(Planning!$B$56:$AF$56,Totaux_annuels!H$5,Planning!$B60:$AF60,Totaux_annuels!$B$4) +COUNTIFS(Planning!$B$82:$AF$82,Totaux_annuels!H$5,Planning!$B86:$AF86,Totaux_annuels!$B$4) +COUNTIFS(Planning!$B$108:$AF$108,Totaux_annuels!H$5,Planning!$B112:$AF112,Totaux_annuels!$B$4) -> 0
A9: =Planning!A9 -> Agent 4 | B9: =COUNTIFS(Planning!$B$4:$AF$4,Totaux_annuels!B$5,Planning!$B9:$AF9,Totaux_annuels!$B$4) +COUNTIFS(Planning!$B$30:$AF$30,Totaux_annuels!B$5,Planning!$B35:$AF35,Totaux_annuels!$B$4) +COUNTIFS(Planning!$B$56:$AF$56,Totaux_annuels!B$5,Planning!$B61:$AF61,Totaux_annuels!$B$4) +COUNTIFS(Planning!$B$82:$AF$82,Totaux_annuels!B$5,Planning!$B87:$AF87,Totaux_annuels!$B$4) +COUNTIFS(Planning!$B$108:$AF$108,Totaux_annuels!B$5,Planning!$B113:$AF113,Totaux_annuels!$B$4) -> 0 | C9: =COUNTIFS(Planning!$B$4:$AF$4,Totaux_annuels!C$5,Planning!$B9:$AF9,Totaux_annuels!$B$4) +COUNTIFS(Planning!$B$30:$AF$30,Totaux_annuels!C$5,Planning!$B35:$AF35,Totaux_annuels!$B$4) +COUNTIFS(Planning!$B$56:$AF$56,Totaux_annuels!C$5,Planning!$B61:$AF61,Totaux_annuels!$B$4) +COUNTIFS(Planning!$B$82:$AF$82,Totaux_annuels!C$5,Planning!$B87:$AF87,Totaux_annuels!$B$4) +COUNTIFS(Planning!$B$108:$AF$108,Totaux_annuels!C$5,Planning!$B113:$AF113,Totaux_annuels!$B$4) -> 0 | D9: =COUNTIFS(Planning!$B$4:$AF$4,Totaux_annuels!D$5,Planning!$B9:$AF9,Totaux_annuels!$B$4) +COUNTIFS(Planning!$B$30:$AF$30,Totaux_annuels!D$5,Planning!$B35:$AF35,Totaux_annuels!$B$4) +COUNTIFS(Planning!$B$56:$AF$56,Totaux_annuels!D$5,Planning!$B61:$AF61,Totaux_annuels!$B$4) +COUNTIFS(Planning!$B$82:$AF$82,Totaux_annuels!D$5,Planning!$B87:$AF87,Totaux_annuels!$B$4) +COUNTIFS(Planning!$B$108:$AF$108,Totaux_annuels!D$5,Planning!$B113:$AF113,Totaux_annuels!$B$4) -> 0 | E9: =COUNTIFS(Planning!$B$4:$AF$4,Totaux_annuels!E$5,Planning!$B9:$AF9,Totaux_annuels!$B$4) +COUNTIFS(Planning!$B$30:$AF$30,Totaux_annuels!E$5,Planning!$B35:$AF35,Totaux_annuels!$B$4) +COUNTIFS(Planning!$B$56:$AF$56,Totaux_annuels!E$5,Planning!$B61:$AF61,Totaux_annuels!$B$4) +COUNTIFS(Planning!$B$82:$AF$82,Totaux_annuels!E$5,Planning!$B87:$AF87,Totaux_annuels!$B$4) +COUNTIFS(Planning!$B$108:$AF$108,Totaux_annuels!E$5,Planning!$B113:$AF113,Totaux_annuels!$B$4) -> 0 | F9: =COUNTIFS(Planning!$B$4:$AF$4,Totaux_annuels!F$5,Planning!$B9:$AF9,Totaux_annuels!$B$4) +COUNTIFS(Planning!$B$30:$AF$30,Totaux_annuels!F$5,Planning!$B35:$AF35,Totaux_annuels!$B$4) +COUNTIFS(Planning!$B$56:$AF$56,Totaux_annuels!F$5,Planning!$B61:$AF61,Totaux_annuels!$B$4) +COUNTIFS(Planning!$B$82:$AF$82,Totaux_annuels!F$5,Planning!$B87:$AF87,Totaux_annuels!$B$4) +COUNTIFS(Planning!$B$108:$AF$108,Totaux_annuels!F$5,Planning!$B113:$AF113,Totaux_annuels!$B$4) -> 0 | G9: =COUNTIFS(Planning!$B$4:$AF$4,Totaux_annuels!G$5,Planning!$B9:$AF9,Totaux_annuels!$B$4) +COUNTIFS(Planning!$B$30:$AF$30,Totaux_annuels!G$5,Planning!$B35:$AF35,Totaux_annuels!$B$4) +COUNTIFS(Planning!$B$56:$AF$56,Totaux_annuels!G$5,Planning!$B61:$AF61,Totaux_annuels!$B$4) +COUNTIFS(Planning!$B$82:$AF$82,Totaux_annuels!G$5,Planning!$B87:$AF87,Totaux_annuels!$B$4) +COUNTIFS(Planning!$B$108:$AF$108,Totaux_annuels!G$5,Planning!$B113:$AF113,Totaux_annuels!$B$4) -> 0 | H9: =COUNTIFS(Planning!$B$4:$AF$4,Totaux_annuels!H$5,Planning!$B9:$AF9,Totaux_annuels!$B$4) +COUNTIFS(Planning!$B$30:$AF$30,Totaux_annuels!H$5,Planning!$B35:$AF35,Totaux_annuels!$B$4) +COUNTIFS(Planning!$B$56:$AF$56,Totaux_annuels!H$5,Planning!$B61:$AF61,Totaux_annuels!$B$4) +COUNTIFS(Planning!$B$82:$AF$82,Totaux_annuels!H$5,Planning!$B87:$AF87,Totaux_annuels!$B$4) +COUNTIFS(Planning!$B$108:$AF$108,Totaux_annuels!H$5,Planning!$B113:$AF113,Totaux_annuels!$B$4) -> 0
A10: =Planning!A10 -> Agent 5 | B10: =COUNTIFS(Planning!$B$4:$AF$4,Totaux_annuels!B$5,Planning!$B10:$AF10,Totaux_annuels!$B$4) +COUNTIFS(Planning!$B$30:$AF$30,Totaux_annuels!B$5,Planning!$B36:$AF36,Totaux_annuels!$B$4) +COUNTIFS(Planning!$B$56:$AF$56,Totaux_annuels!B$5,Planning!$B62:$AF62,Totaux_annuels!$B$4) +COUNTIFS(Planning!$B$82:$AF$82,Totaux_annuels!B$5,Planning!$B88:$AF88,Totaux_annuels!$B$4) +COUNTIFS(Planning!$B$108:$AF$108,Totaux_annuels!B$5,Planning!$B114:$AF114,Totaux_annuels!$B$4) -> 0 | C10: =COUNTIFS(Planning!$B$4:$AF$4,Totaux_annuels!C$5,Planning!$B10:$AF10,Totaux_annuels!$B$4) +COUNTIFS(Planning!$B$30:$AF$30,Totaux_annuels!C$5,Planning!$B36:$AF36,Totaux_annuels!$B$4) +COUNTIFS(Planning!$B$56:$AF$56,Totaux_annuels!C$5,Planning!$B62:$AF62,Totaux_annuels!$B$4) +COUNTIFS(Planning!$B$82:$AF$82,Totaux_annuels!C$5,Planning!$B88:$AF88,Totaux_annuels!$B$4) +COUNTIFS(Planning!$B$108:$AF$108,Totaux_annuels!C$5,Planning!$B114:$AF114,Totaux_annuels!$B$4) -> 0 | D10: =COUNTIFS(Planning!$B$4:$AF$4,Totaux_annuels!D$5,Planning!$B10:$AF10,Totaux_annuels!$B$4) +COUNTIFS(Planning!$B$30:$AF$30,Totaux_annuels!D$5,Planning!$B36:$AF36,Totaux_annuels!$B$4) +COUNTIFS(Planning!$B$56:$AF$56,Totaux_annuels!D$5,Planning!$B62:$AF62,Totaux_annuels!$B$4) +COUNTIFS(Planning!$B$82:$AF$82,Totaux_annuels!D$5,Planning!$B88:$AF88,Totaux_annuels!$B$4) +COUNTIFS(Planning!$B$108:$AF$108,Totaux_annuels!D$5,Planning!$B114:$AF114,Totaux_annuels!$B$4) -> 0 | E10: =COUNTIFS(Planning!$B$4:$AF$4,Totaux_annuels!E$5,Planning!$B10:$AF10,Totaux_annuels!$B$4) +COUNTIFS(Planning!$B$30:$AF$30,Totaux_annuels!E$5,Planning!$B36:$AF36,Totaux_annuels!$B$4) +COUNTIFS(Planning!$B$56:$AF$56,Totaux_annuels!E$5,Planning!$B62:$AF62,Totaux_annuels!$B$4) +COUNTIFS(Planning!$B$82:$AF$82,Totaux_annuels!E$5,Planning!$B88:$AF88,Totaux_annuels!$B$4) +COUNTIFS(Planning!$B$108:$AF$108,Totaux_annuels!E$5,Planning!$B114:$AF114,Totaux_annuels!$B$4) -> 0 | F10: =COUNTIFS(Planning!$B$4:$AF$4,Totaux_annuels!F$5,Planning!$B10:$AF10,Totaux_annuels!$B$4) +COUNTIFS(Planning!$B$30:$AF$30,Totaux_annuels!F$5,Planning!$B36:$AF36,Totaux_annuels!$B$4) +COUNTIFS(Planning!$B$56:$AF$56,Totaux_annuels!F$5,Planning!$B62:$AF62,Totaux_annuels!$B$4) +COUNTIFS(Planning!$B$82:$AF$82,Totaux_annuels!F$5,Planning!$B88:$AF88,Totaux_annuels!$B$4) +COUNTIFS(Planning!$B$108:$AF$108,Totaux_annuels!F$5,Planning!$B114:$AF114,Totaux_annuels!$B$4) -> 0 | G10: =COUNTIFS(Planning!$B$4:$AF$4,Totaux_annuels!G$5,Planning!$B10:$AF10,Totaux_annuels!$B$4) +COUNTIFS(Planning!$B$30:$AF$30,Totaux_annuels!G$5,Planning!$B36:$AF36,Totaux_annuels!$B$4) +COUNTIFS(Planning!$B$56:$AF$56,Totaux_annuels!G$5,Planning!$B62:$AF62,Totaux_annuels!$B$4) +COUNTIFS(Planning!$B$82:$AF$82,Totaux_annuels!G$5,Planning!$B88:$AF88,Totaux_annuels!$B$4) +COUNTIFS(Planning!$B$108:$AF$108,Totaux_annuels!G$5,Planning!$B114:$AF114,Totaux_annuels!$B$4) -> 0 | H10: =COUNTIFS(Planning!$B$4:$AF$4,Totaux_annuels!H$5,Planning!$B10:$AF10,Totaux_annuels!$B$4) +COUNTIFS(Planning!$B$30:$AF$30,Totaux_annuels!H$5,Planning!$B36:$AF36,Totaux_annuels!$B$4) +COUNTIFS(Planning!$B$56:$AF$56,Totaux_annuels!H$5,Planning!$B62:$AF62,Totaux_annuels!$B$4) +COUNTIFS(Planning!$B$82:$AF$82,Totaux_annuels!H$5,Planning!$B88:$AF88,Totaux_annuels!$B$4) +COUNTIFS(Planning!$B$108:$AF$108,Totaux_annuels!H$5,Planning!$B114:$AF114,Totaux_annuels!$B$4) -> 0
A11: =Planning!A11 -> Agent 6 | B11: =COUNTIFS(Planning!$B$4:$AF$4,Totaux_annuels!B$5,Planning!$B11:$AF11,Totaux_annuels!$B$4) +COUNTIFS(Planning!$B$30:$AF$30,Totaux_annuels!B$5,Planning!$B37:$AF37,Totaux_annuels!$B$4) +COUNTIFS(Planning!$B$56:$AF$56,Totaux_annuels!B$5,Planning!$B63:$AF63,Totaux_annuels!$B$4) +COUNTIFS(Planning!$B$82:$AF$82,Totaux_annuels!B$5,Planning!$B89:$AF89,Totaux_annuels!$B$4) +COUNTIFS(Planning!$B$108:$AF$108,Totaux_annuels!B$5,Planning!$B115:$AF115,Totaux_annuels!$B$4) -> 0 | C11: =COUNTIFS(Planning!$B$4:$AF$4,Totaux_annuels!C$5,Planning!$B11:$AF11,Totaux_annuels!$B$4) +COUNTIFS(Planning!$B$30:$AF$30,Totaux_annuels!C$5,Planning!$B37:$AF37,Totaux_annuels!$B$4) +COUNTIFS(Planning!$B$56:$AF$56,Totaux_annuels!C$5,Planning!$B63:$AF63,Totaux_annuels!$B$4) +COUNTIFS(Planning!$B$82:$AF$82,Totaux_annuels!C$5,Planning!$B89:$AF89,Totaux_annuels!$B$4) +COUNTIFS(Planning!$B$108:$AF$108,Totaux_annuels!C$5,Planning!$B115:$AF115,Totaux_annuels!$B$4) -> 0 | D11: =COUNTIFS(Planning!$B$4:$AF$4,Totaux_annuels!D$5,Planning!$B11:$AF11,Totaux_annuels!$B$4) +COUNTIFS(Planning!$B$30:$AF$30,Totaux_annuels!D$5,Planning!$B37:$AF37,Totaux_annuels!$B$4) +COUNTIFS(Planning!$B$56:$AF$56,Totaux_annuels!D$5,Planning!$B63:$AF63,Totaux_annuels!$B$4) +COUNTIFS(Planning!$B$82:$AF$82,Totaux_annuels!D$5,Planning!$B89:$AF89,Totaux_annuels!$B$4) +COUNTIFS(Planning!$B$108:$AF$108,Totaux_annuels!D$5,Planning!$B115:$AF115,Totaux_annuels!$B$4) -> 0 | E11: =COUNTIFS(Planning!$B$4:$AF$4,Totaux_annuels!E$5,Planning!$B11:$AF11,Totaux_annuels!$B$4) +COUNTIFS(Planning!$B$30:$AF$30,Totaux_annuels!E$5,Planning!$B37:$AF37,Totaux_annuels!$B$4) +COUNTIFS(Planning!$B$56:$AF$56,Totaux_annuels!E$5,Planning!$B63:$AF63,Totaux_annuels!$B$4) +COUNTIFS(Planning!$B$82:$AF$82,Totaux_annuels!E$5,Planning!$B89:$AF89,Totaux_annuels!$B$4) +COUNTIFS(Planning!$B$108:$AF$108,Totaux_annuels!E$5,Planning!$B115:$AF115,Totaux_annuels!$B$4) -> 0 | F11: =COUNTIFS(Planning!$B$4:$AF$4,Totaux_annuels!F$5,Planning!$B11:$AF11,Totaux_annuels!$B$4) +COUNTIFS(Planning!$B$30:$AF$30,Totaux_annuels!F$5,Planning!$B37:$AF37,Totaux_annuels!$B$4) +COUNTIFS(Planning!$B$56:$AF$56,Totaux_annuels!F$5,Planning!$B63:$AF63,Totaux_annuels!$B$4) +COUNTIFS(Planning!$B$82:$AF$82,Totaux_annuels!F$5,Planning!$B89:$AF89,Totaux_annuels!$B$4) +COUNTIFS(Planning!$B$108:$AF$108,Totaux_annuels!F$5,Planning!$B115:$AF115,Totaux_annuels!$B$4) -> 0 | G11: =COUNTIFS(Planning!$B$4:$AF$4,Totaux_annuels!G$5,Planning!$B11:$AF11,Totaux_annuels!$B$4) +COUNTIFS(Planning!$B$30:$AF$30,Totaux_annuels!G$5,Planning!$B37:$AF37,Totaux_annuels!$B$4) +COUNTIFS(Planning!$B$56:$AF$56,Totaux_annuels!G$5,Planning!$B63:$AF63,Totaux_annuels!$B$4) +COUNTIFS(Planning!$B$82:$AF$82,Totaux_annuels!G$5,Planning!$B89:$AF89,Totaux_annuels!$B$4) +COUNTIFS(Planning!$B$108:$AF$108,Totaux_annuels!G$5,Planning!$B115:$AF115,Totaux_annuels!$B$4) -> 0 | H11: =COUNTIFS(Planning!$B$4:$AF$4,Totaux_annuels!H$5,Planning!$B11:$AF11,Totaux_annuels!$B$4) +COUNTIFS(Planning!$B$30:$AF$30,Totaux_annuels!H$5,Planning!$B37:$AF37,Totaux_annuels!$B$4) +COUNTIFS(Planning!$B$56:$AF$56,Totaux_annuels!H$5,Planning!$B63:$AF63,Totaux_annuels!$B$4) +COUNTIFS(Planning!$B$82:$AF$82,Totaux_annuels!H$5,Planning!$B89:$AF89,Totaux_annuels!$B$4) +COUNTIFS(Planning!$B$108:$AF$108,Totaux_annuels!H$5,Planning!$B115:$AF115,Totaux_annuels!$B$4) -> 0
A12: =Planning!A12 -> Agent 7 | B12: =COUNTIFS(Planning!$B$4:$AF$4,Totaux_annuels!B$5,Planning!$B12:$AF12,Totaux_annuels!$B$4) +COUNTIFS(Planning!$B$30:$AF$30,Totaux_annuels!B$5,Planning!$B38:$AF38,Totaux_annuels!$B$4) +COUNTIFS(Planning!$B$56:$AF$56,Totaux_annuels!B$5,Planning!$B64:$AF64,Totaux_annuels!$B$4) +COUNTIFS(Planning!$B$82:$AF$82,Totaux_annuels!B$5,Planning!$B90:$AF90,Totaux_annuels!$B$4) +COUNTIFS(Planning!$B$108:$AF$108,Totaux_annuels!B$5,Planning!$B116:$AF116,Totaux_annuels!$B$4) -> 0 | C12: =COUNTIFS(Planning!$B$4:$AF$4,Totaux_annuels!C$5,Planning!$B12:$AF12,Totaux_annuels!$B$4) +COUNTIFS(Planning!$B$30:$AF$30,Totaux_annuels!C$5,Planning!$B38:$AF38,Totaux_annuels!$B$4) +COUNTIFS(Planning!$B$56:$AF$56,Totaux_annuels!C$5,Planning!$B64:$AF64,Totaux_annuels!$B$4) +COUNTIFS(Planning!$B$82:$AF$82,Totaux_annuels!C$5,Planning!$B90:$AF90,Totaux_annuels!$B$4) +COUNTIFS(Planning!$B$108:$AF$108,Totaux_annuels!C$5,Planning!$B116:$AF116,Totaux_annuels!$B$4) -> 9 | D12: =COUNTIFS(Planning!$B$4:$AF$4,Totaux_annuels!D$5,Planning!$B12:$AF12,Totaux_annuels!$B$4) +COUNTIFS(Planning!$B$30:$AF$30,Totaux_annuels!D$5,Planning!$B38:$AF38,Totaux_annuels!$B$4) +COUNTIFS(Planning!$B$56:$AF$56,Totaux_annuels!D$5,Planning!$B64:$AF64,Totaux_annuels!$B$4) +COUNTIFS(Planning!$B$82:$AF$82,Totaux_annuels!D$5,Planning!$B90:$AF90,Totaux_annuels!$B$4) +COUNTIFS(Planning!$B$108:$AF$108,Totaux_annuels!D$5,Planning!$B116:$AF116,Totaux_annuels!$B$4) -> 0 | E12: =COUNTIFS(Planning!$B$4:$AF$4,Totaux_annuels!E$5,Planning!$B12:$AF12,Totaux_annuels!$B$4) +COUNTIFS(Planning!$B$30:$AF$30,Totaux_annuels!E$5,Planning!$B38:$AF38,Totaux_annuels!$B$4) +COUNTIFS(Planning!$B$56:$AF$56,Totaux_annuels!E$5,Planning!$B64:$AF64,Totaux_annuels!$B$4) +COUNTIFS(Planning!$B$82:$AF$82,Totaux_annuels!E$5,Planning!$B90:$AF90,Totaux_annuels!$B$4) +COUNTIFS(Planning!$B$108:$AF$108,Totaux_annuels!E$5,Planning!$B116:$AF116,Totaux_annuels!$B$4) -> 0 | F12: =COUNTIFS(Planning!$B$4:$AF$4,Totaux_annuels!F$5,Planning!$B12:$AF12,Totaux_annuels!$B$4) +COUNTIFS(Planning!$B$30:$AF$30,Totaux_annuels!F$5,Planning!$B38:$AF38,Totaux_annuels!$B$4) +COUNTIFS(Planning!$B$56:$AF$56,Totaux_annuels!F$5,Planning!$B64:$AF64,Totaux_annuels!$B$4) +COUNTIFS(Planning!$B$82:$AF$82,Totaux_annuels!F$5,Planning!$B90:$AF90,Totaux_annuels!$B$4) +COUNTIFS(Planning!$B$108:$AF$108,Totaux_annuels!F$5,Planning!$B116:$AF116,Totaux_annuels!$B$4) -> 0 | G12: =COUNTIFS(Planning!$B$4:$AF$4,Totaux_annuels!G$5,Planning!$B12:$AF12,Totaux_annuels!$B$4) +COUNTIFS(Planning!$B$30:$AF$30,Totaux_annuels!G$5,Planning!$B38:$AF38,Totaux_annuels!$B$4) +COUNTIFS(Planning!$B$56:$AF$56,Totaux_annuels!G$5,Planning!$B64:$AF64,Totaux_annuels!$B$4) +COUNTIFS(Planning!$B$82:$AF$82,Totaux_annuels!G$5,Planning!$B90:$AF90,Totaux_annuels!$B$4) +COUNTIFS(Planning!$B$108:$AF$108,Totaux_annuels!G$5,Planning!$B116:$AF116,Totaux_annuels!$B$4) -> 3 | H12: =COUNTIFS(Planning!$B$4:$AF$4,Totaux_annuels!H$5,Planning!$B12:$AF12,Totaux_annuels!$B$4) +COUNTIFS(Planning!$B$30:$AF$30,Totaux_annuels!H$5,Planning!$B38:$AF38,Totaux_annuels!$B$4) +COUNTIFS(Planning!$B$56:$AF$56,Totaux_annuels!H$5,Planning!$B64:$AF64,Totaux_annuels!$B$4) +COUNTIFS(Planning!$B$82:$AF$82,Totaux_annuels!H$5,Planning!$B90:$AF90,Totaux_annuels!$B$4) +COUNTIFS(Planning!$B$108:$AF$108,Totaux_annuels!H$5,Planning!$B116:$AF116,Totaux_annuels!$B$4) -> 3
A13: =Planning!A13 -> Agent 8 | B13: =COUNTIFS(Planning!$B$4:$AF$4,Totaux_annuels!B$5,Planning!$B13:$AF13,Totaux_annuels!$B$4) +COUNTIFS(Planning!$B$30:$AF$30,Totaux_annuels!B$5,Planning!$B39:$AF39,Totaux_annuels!$B$4) +COUNTIFS(Planning!$B$56:$AF$56,Totaux_annuels!B$5,Planning!$B65:$AF65,Totaux_annuels!$B$4) +COUNTIFS(Planning!$B$82:$AF$82,Totaux_annuels!B$5,Planning!$B91:$AF91,Totaux_annuels!$B$4) +COUNTIFS(Planning!$B$108:$AF$108,Totaux_annuels!B$5,Planning!$B117:$AF117,Totaux_annuels!$B$4) -> 0 | C13: =COUNTIFS(Planning!$B$4:$AF$4,Totaux_annuels!C$5,Planning!$B13:$AF13,Totaux_annuels!$B$4) +COUNTIFS(Planning!$B$30:$AF$30,Totaux_annuels!C$5,Planning!$B39:$AF39,Totaux_annuels!$B$4) +COUNTIFS(Planning!$B$56:$AF$56,Totaux_annuels!C$5,Planning!$B65:$AF65,Totaux_annuels!$B$4) +COUNTIFS(Planning!$B$82:$AF$82,Totaux_annuels!C$5,Planning!$B91:$AF91,Totaux_annuels!$B$4) +COUNTIFS(Planning!$B$108:$AF$108,Totaux_annuels!C$5,Planning!$B117:$AF117,Totaux_annuels!$B$4) -> 0 | D13: =COUNTIFS(Planning!$B$4:$AF$4,Totaux_annuels!D$5,Planning!$B13:$AF13,Totaux_annuels!$B$4) +COUNTIFS(Planning!$B$30:$AF$30,Totaux_annuels!D$5,Planning!$B39:$AF39,Totaux_annuels!$B$4) +COUNTIFS(Planning!$B$56:$AF$56,Totaux_annuels!D$5,Planning!$B65:$AF65,Totaux_annuels!$B$4) +COUNTIFS(Planning!$B$82:$AF$82,Totaux_annuels!D$5,Planning!$B91:$AF91,Totaux_annuels!$B$4) +COUNTIFS(Planning!$B$108:$AF$108,Totaux_annuels!D$5,Planning!$B117:$AF117,Totaux_annuels!$B$4) -> 0 | E13: =COUNTIFS(Planning!$B$4:$AF$4,Totaux_annuels!E$5,Planning!$B13:$AF13,Totaux_annuels!$B$4) +COUNTIFS(Planning!$B$30:$AF$30,Totaux_annuels!E$5,Planning!$B39:$AF39,Totaux_annuels!$B$4) +COUNTIFS(Planning!$B$56:$AF$56,Totaux_annuels!E$5,Planning!$B65:$AF65,Totaux_annuels!$B$4) +COUNTIFS(Planning!$B$82:$AF$82,Totaux_annuels!E$5,Planning!$B91:$AF91,Totaux_annuels!$B$4) +COUNTIFS(Planning!$B$108:$AF$108,Totaux_annuels!E$5,Planning!$B117:$AF117,Totaux_annuels!$B$4) -> 0 | F13: =COUNTIFS(Planning!$B$4:$AF$4,Totaux_annuels!F$5,Planning!$B13:$AF13,Totaux_annuels!$B$4) +COUNTIFS(Planning!$B$30:$AF$30,Totaux_annuels!F$5,Planning!$B39:$AF39,Totaux_annuels!$B$4) +COUNTIFS(Planning!$B$56:$AF$56,Totaux_annuels!F$5,Planning!$B65:$AF65,Totaux_annuels!$B$4) +COUNTIFS(Planning!$B$82:$AF$82,Totaux_annuels!F$5,Planning!$B91:$AF91,Totaux_annuels!$B$4) +COUNTIFS(Planning!$B$108:$AF$108,Totaux_annuels!F$5,Planning!$B117:$AF117,Totaux_annuels!$B$4) -> 0 | G13: =COUNTIFS(Planning!$B$4:$AF$4,Totaux_annuels!G$5,Planning!$B13:$AF13,Totaux_annuels!$B$4) +COUNTIFS(Planning!$B$30:$AF$30,Totaux_annuels!G$5,Planning!$B39:$AF39,Totaux_annuels!$B$4) +COUNTIFS(Planning!$B$56:$AF$56,Totaux_annuels!G$5,Planning!$B65:$AF65,Totaux_annuels!$B$4) +COUNTIFS(Planning!$B$82:$AF$82,Totaux_annuels!G$5,Planning!$B91:$AF91,Totaux_annuels!$B$4) +COUNTIFS(Planning!$B$108:$AF$108,Totaux_annuels!G$5,Planning!$B117:$AF117,Totaux_annuels!$B$4) -> 0 | H13: =COUNTIFS(Planning!$B$4:$AF$4,Totaux_annuels!H$5,Planning!$B13:$AF13,Totaux_annuels!$B$4) +COUNTIFS(Planning!$B$30:$AF$30,Totaux_annuels!H$5,Planning!$B39:$AF39,Totaux_annuels!$B$4) +COUNTIFS(Planning!$B$56:$AF$56,Totaux_annuels!H$5,Planning!$B65:$AF65,Totaux_annuels!$B$4) +COUNTIFS(Planning!$B$82:$AF$82,Totaux_annuels!H$5,Planning!$B91:$AF91,Totaux_annuels!$B$4) +COUNTIFS(Planning!$B$108:$AF$108,Totaux_annuels!H$5,Planning!$B117:$AF117,Totaux_annuels!$B$4) -> 0
A14: =Planning!A14 -> Agent 9 | B14: =COUNTIFS(Planning!$B$4:$AF$4,Totaux_annuels!B$5,Planning!$B14:$AF14,Totaux_annuels!$B$4) +COUNTIFS(Planning!$B$30:$AF$30,Totaux_annuels!B$5,Planning!$B40:$AF40,Totaux_annuels!$B$4) +COUNTIFS(Planning!$B$56:$AF$56,Totaux_annuels!B$5,Planning!$B66:$AF66,Totaux_annuels!$B$4) +COUNTIFS(Planning!$B$82:$AF$82,Totaux_annuels!B$5,Planning!$B92:$AF92,Totaux_annuels!$B$4) +COUNTIFS(Planning!$B$108:$AF$108,Totaux_annuels!B$5,Planning!$B118:$AF118,Totaux_annuels!$B$4) -> 1 | C14: =COUNTIFS(Planning!$B$4:$AF$4,Totaux_annuels!C$5,Planning!$B14:$AF14,Totaux_annuels!$B$4) +COUNTIFS(Planning!$B$30:$AF$30,Totaux_annuels!C$5,Planning!$B40:$AF40,Totaux_annuels!$B$4) +COUNTIFS(Planning!$B$56:$AF$56,Totaux_annuels!C$5,Planning!$B66:$AF66,Totaux_annuels!$B$4) +COUNTIFS(Planning!$B$82:$AF$82,Totaux_annuels!C$5,Planning!$B92:$AF92,Totaux_annuels!$B$4) +COUNTIFS(Planning!$B$108:$AF$108,Totaux_annuels!C$5,Planning!$B118:$AF118,Totaux_annuels!$B$4) -> 1 | D14: =COUNTIFS(Planning!$B$4:$AF$4,Totaux_annuels!D$5,Planning!$B14:$AF14,Totaux_annuels!$B$4) +COUNTIFS(Planning!$B$30:$AF$30,Totaux_annuels!D$5,Planning!$B40:$AF40,Totaux_annuels!$B$4) +COUNTIFS(Planning!$B$56:$AF$56,Totaux_annuels!D$5,Planning!$B66:$AF66,Totaux_annuels!$B$4) +COUNTIFS(Planning!$B$82:$AF$82,Totaux_annuels!D$5,Planning!$B92:$AF92,Totaux_annuels!$B$4) +COUNTIFS(Planning!$B$108:$AF$108,Totaux_annuels!D$5,Planning!$B118:$AF118,Totaux_annuels!$B$4) -> 0 | E14: =COUNTIFS(Planning!$B$4:$AF$4,Totaux_annuels!E$5,Planning!$B14:$AF14,Totaux_annuels!$B$4) +COUNTIFS(Planning!$B$30:$AF$30,Totaux_annuels!E$5,Planning!$B40:$AF40,Totaux_annuels!$B$4) +COUNTIFS(Planning!$B$56:$AF$56,Totaux_annuels!E$5,Planning!$B66:$AF66,Totaux_annuels!$B$4) +COUNTIFS(Planning!$B$82:$AF$82,Totaux_annuels!E$5,Planning!$B92:$AF92,Totaux_annuels!$B$4) +COUNTIFS(Planning!$B$108:$AF$108,Totaux_annuels!E$5,Planning!$B118:$AF118,Totaux_annuels!$B$4) -> 4 | F14: =COUNTIFS(Planning!$B$4:$AF$4,Totaux_annuels!F$5,Planning!$B14:$AF14,Totaux_annuels!$B$4) +COUNTIFS(Planning!$B$30:$AF$30,Totaux_annuels!F$5,Planning!$B40:$AF40,Totaux_annuels!$B$4) +COUNTIFS(Planning!$B$56:$AF$56,Totaux_annuels!F$5,Planning!$B66:$AF66,Totaux_annuels!$B$4) +COUNTIFS(Planning!$B$82:$AF$82,Totaux_annuels!F$5,Planning!$B92:$AF92,Totaux_annuels!$B$4) +COUNTIFS(Planning!$B$108:$AF$108,Totaux_annuels!F$5,Planning!$B118:$AF118,Totaux_annuels!$B$4) -> 1 | G14: =COUNTIFS(Planning!$B$4:$AF$4,Totaux_annuels!G$5,Planning!$B14:$AF14,Totaux_annuels!$B$4) +COUNTIFS(Planning!$B$30:$AF$30,Totaux_annuels!G$5,Planning!$B40:$AF40,Totaux_annuels!$B$4) +COUNTIFS(Planning!$B$56:$AF$56,Totaux_annuels!G$5,Planning!$B66:$AF66,Totaux_annuels!$B$4) +COUNTIFS(Planning!$B$82:$AF$82,Totaux_annuels!G$5,Planning!$B92:$AF92,Totaux_annuels!$B$4) +COUNTIFS(Planning!$B$108:$AF$108,Totaux_annuels!G$5,Planning!$B118:$AF118,Totaux_annuels!$B$4) -> 0 | H14: =COUNTIFS(Planning!$B$4:$AF$4,Totaux_annuels!H$5,Planning!$B14:$AF14,Totaux_annuels!$B$4) +COUNTIFS(Planning!$B$30:$AF$30,Totaux_annuels!H$5,Planning!$B40:$AF40,Totaux_annuels!$B$4) +COUNTIFS(Planning!$B$56:$AF$56,Totaux_annuels!H$5,Planning!$B66:$AF66,Totaux_annuels!$B$4) +COUNTIFS(Planning!$B$82:$AF$82,Totaux_annuels!H$5,Planning!$B92:$AF92,Totaux_annuels!$B$4) +COUNTIFS(Planning!$B$108:$AF$108,Totaux_annuels!H$5,Planning!$B118:$AF118,Totaux_annuels!$B$4) -> 3
A15: =Planning!A15 -> Agent 10 | B15: =COUNTIFS(Planning!$B$4:$AF$4,Totaux_annuels!B$5,Planning!$B15:$AF15,Totaux_annuels!$B$4) +COUNTIFS(Planning!$B$30:$AF$30,Totaux_annuels!B$5,Planning!$B41:$AF41,Totaux_annuels!$B$4) +COUNTIFS(Planning!$B$56:$AF$56,Totaux_annuels!B$5,Planning!$B67:$AF67,Totaux_annuels!$B$4) +COUNTIFS(Planning!$B$82:$AF$82,Totaux_annuels!B$5,Planning!$B93:$AF93,Totaux_annuels!$B$4) +COUNTIFS(Planning!$B$108:$AF$108,Totaux_annuels!B$5,Planning!$B119:$AF119,Totaux_annuels!$B$4) -> 1 | C15: =COUNTIFS(Planning!$B$4:$AF$4,Totaux_annuels!C$5,Planning!$B15:$AF15,Totaux_annuels!$B$4) +COUNTIFS(Planning!$B$30:$AF$30,Totaux_annuels!C$5,Planning!$B41:$AF41,Totaux_annuels!$B$4) +COUNTIFS(Planning!$B$56:$AF$56,Totaux_annuels!C$5,Planning!$B67:$AF67,Totaux_annuels!$B$4) +COUNTIFS(Planning!$B$82:$AF$82,Totaux_annuels!C$5,Planning!$B93:$AF93,Totaux_annuels!$B$4) +COUNTIFS(Planning!$B$108:$AF$108,Totaux_annuels!C$5,Planning!$B119:$AF119,Totaux_annuels!$B$4) -> 1 | D15: =COUNTIFS(Planning!$B$4:$AF$4,Totaux_annuels!D$5,Planning!$B15:$AF15,Totaux_annuels!$B$4) +COUNTIFS(Planning!$B$30:$AF$30,Totaux_annuels!D$5,Planning!$B41:$AF41,Totaux_annuels!$B$4) +COUNTIFS(Planning!$B$56:$AF$56,Totaux_annuels!D$5,Planning!$B67:$AF67,Totaux_annuels!$B$4) +COUNTIFS(Planning!$B$82:$AF$82,Totaux_annuels!D$5,Planning!$B93:$AF93,Totaux_annuels!$B$4) +COUNTIFS(Planning!$B$108:$AF$108,Totaux_annuels!D$5,Planning!$B119:$AF119,Totaux_annuels!$B$4) -> 0 | E15: =COUNTIFS(Planning!$B$4:$AF$4,Totaux_annuels!E$5,Planning!$B15:$AF15,Totaux_annuels!$B$4) +COUNTIFS(Planning!$B$30:$AF$30,Totaux_annuels!E$5,Planning!$B41:$AF41,Totaux_annuels!$B$4) +COUNTIFS(Planning!$B$56:$AF$56,Totaux_annuels!E$5,Planning!$B67:$AF67,Totaux_annuels!$B$4) +COUNTIFS(Planning!$B$82:$AF$82,Totaux_annuels!E$5,Planning!$B93:$AF93,Totaux_annuels!$B$4) +COUNTIFS(Planning!$B$108:$AF$108,Totaux_annuels!E$5,Planning!$B119:$AF119,Totaux_annuels!$B$4) -> 3 | F15: =COUNTIFS(Planning!$B$4:$AF$4,Totaux_annuels!F$5,Planning!$B15:$AF15,Totaux_annuels!$B$4) +COUNTIFS(Planning!$B$30:$AF$30,Totaux_annuels!F$5,Planning!$B41:$AF41,Totaux_annuels!$B$4) +COUNTIFS(Planning!$B$56:$AF$56,Totaux_annuels!F$5,Planning!$B67:$AF67,Totaux_annuels!$B$4) +COUNTIFS(Planning!$B$82:$AF$82,Totaux_annuels!F$5,Planning!$B93:$AF93,Totaux_annuels!$B$4) +COUNTIFS(Planning!$B$108:$AF$108,Totaux_annuels!F$5,Planning!$B119:$AF119,Totaux_annuels!$B$4) -> 0 | G15: =COUNTIFS(Planning!$B$4:$AF$4,Totaux_annuels!G$5,Planning!$B15:$AF15,Totaux_annuels!$B$4) +COUNTIFS(Planning!$B$30:$AF$30,Totaux_annuels!G$5,Planning!$B41:$AF41,Totaux_annuels!$B$4) +COUNTIFS(Planning!$B$56:$AF$56,Totaux_annuels!G$5,Planning!$B67:$AF67,Totaux_annuels!$B$4) +COUNTIFS(Planning!$B$82:$AF$82,Totaux_annuels!G$5,Planning!$B93:$AF93,Totaux_annuels!$B$4) +COUNTIFS(Planning!$B$108:$AF$108,Totaux_annuels!G$5,Planning!$B119:$AF119,Totaux_annuels!$B$4) -> 0 | H15: =COUNTIFS(Planning!$B$4:$AF$4,Totaux_annuels!H$5,Planning!$B15:$AF15,Totaux_annuels!$B$4) +COUNTIFS(Planning!$B$30:$AF$30,Totaux_annuels!H$5,Planning!$B41:$AF41,Totaux_annuels!$B$4) +COUNTIFS(Planning!$B$56:$AF$56,Totaux_annuels!H$5,Planning!$B67:$AF67,Totaux_annuels!$B$4) +COUNTIFS(Planning!$B$82:$AF$82,Totaux_annuels!H$5,Planning!$B93:$AF93,Totaux_annuels!$B$4) +COUNTIFS(Planning!$B$108:$AF$108,Totaux_annuels!H$5,Planning!$B119:$AF119,Totaux_annuels!$B$4) -> 0
A16: =Planning!A16 -> Agent 11 | B16: =COUNTIFS(Planning!$B$4:$AF$4,Totaux_annuels!B$5,Planning!$B16:$AF16,Totaux_annuels!$B$4) +COUNTIFS(Planning!$B$30:$AF$30,Totaux_annuels!B$5,Planning!$B42:$AF42,Totaux_annuels!$B$4) +COUNTIFS(Planning!$B$56:$AF$56,Totaux_annuels!B$5,Planning!$B68:$AF68,Totaux_annuels!$B$4) +COUNTIFS(Planning!$B$82:$AF$82,Totaux_annuels!B$5,Planning!$B94:$AF94,Totaux_annuels!$B$4) +COUNTIFS(Planning!$B$108:$AF$108,Totaux_annuels!B$5,Planning!$B120:$AF120,Totaux_annuels!$B$4) -> 0 | C16: =COUNTIFS(Planning!$B$4:$AF$4,Totaux_annuels!C$5,Planning!$B16:$AF16,Totaux_annuels!$B$4) +COUNTIFS(Planning!$B$30:$AF$30,Totaux_annuels!C$5,Planning!$B42:$AF42,Totaux_annuels!$B$4) +COUNTIFS(Planning!$B$56:$AF$56,Totaux_annuels!C$5,Planning!$B68:$AF68,Totaux_annuels!$B$4) +COUNTIFS(Planning!$B$82:$AF$82,Totaux_annuels!C$5,Planning!$B94:$AF94,Totaux_annuels!$B$4) +COUNTIFS(Planning!$B$108:$AF$108,Totaux_annuels!C$5,Planning!$B120:$AF120,Totaux_annuels!$B$4) -> 0 | D16: =COUNTIFS(Planning!$B$4:$AF$4,Totaux_annuels!D$5,Planning!$B16:$AF16,Totaux_annuels!$B$4) +COUNTIFS(Planning!$B$30:$AF$30,Totaux_annuels!D$5,Planning!$B42:$AF42,Totaux_annuels!$B$4) +COUNTIFS(Planning!$B$56:$AF$56,Totaux_annuels!D$5,Planning!$B68:$AF68,Totaux_annuels!$B$4) +COUNTIFS(Planning!$B$82:$AF$82,Totaux_annuels!D$5,Planning!$B94:$AF94,Totaux_annuels!$B$4) +COUNTIFS(Planning!$B$108:$AF$108,Totaux_annuels!D$5,Planning!$B120:$AF120,Totaux_annuels!$B$4) -> 0 | E16: =COUNTIFS(Planning!$B$4:$AF$4,Totaux_annuels!E$5,Planning!$B16:$AF16,Totaux_annuels!$B$4) +COUNTIFS(Planning!$B$30:$AF$30,Totaux_annuels!E$5,Planning!$B42:$AF42,Totaux_annuels!$B$4) +COUNTIFS(Planning!$B$56:$AF$56,Totaux_annuels!E$5,Planning!$B68:$AF68,Totaux_annuels!$B$4) +COUNTIFS(Planning!$B$82:$AF$82,Totaux_annuels!E$5,Planning!$B94:$AF94,Totaux_annuels!$B$4) +COUNTIFS(Planning!$B$108:$AF$108,Totaux_annuels!E$5,Planning!$B120:$AF120,Totaux_annuels!$B$4) -> 0 | F16: =COUNTIFS(Planning!$B$4:$AF$4,Totaux_annuels!F$5,Planning!$B16:$AF16,Totaux_annuels!$B$4) +COUNTIFS(Planning!$B$30:$AF$30,Totaux_annuels!F$5,Planning!$B42:$AF42,Totaux_annuels!$B$4) +COUNTIFS(Planning!$B$56:$AF$56,Totaux_annuels!F$5,Planning!$B68:$AF68,Totaux_annuels!$B$4) +COUNTIFS(Planning!$B$82:$AF$82,Totaux_annuels!F$5,Planning!$B94:$AF94,Totaux_annuels!$B$4) +COUNTIFS(Planning!$B$108:$AF$108,Totaux_annuels!F$5,Planning!$B120:$AF120,Totaux_annuels!$B$4) -> 0 | G16: =COUNTIFS(Planning!$B$4:$AF$4,Totaux_annuels!G$5,Planning!$B16:$AF16,Totaux_annuels!$B$4) +COUNTIFS(Planning!$B$30:$AF$30,Totaux_annuels!G$5,Planning!$B42:$AF42,Totaux_annuels!$B$4) +COUNTIFS(Planning!$B$56:$AF$56,Totaux_annuels!G$5,Planning!$B68:$AF68,Totaux_annuels!$B$4) +COUNTIFS(Planning!$B$82:$AF$82,Totaux_annuels!G$5,Planning!$B94:$AF94,Totaux_annuels!$B$4) +COUNTIFS(Planning!$B$108:$AF$108,Totaux_annuels!G$5,Planning!$B120:$AF120,Totaux_annuels!$B$4) -> 0 | H16: =COUNTIFS(Planning!$B$4:$AF$4,Totaux_annuels!H$5,Planning!$B16:$AF16,Totaux_annuels!$B$4) +COUNTIFS(Planning!$B$30:$AF$30,Totaux_annuels!H$5,Planning!$B42:$AF42,Totaux_annuels!$B$4) +COUNTIFS(Planning!$B$56:$AF$56,Totaux_annuels!H$5,Planning!$B68:$AF68,Totaux_annuels!$B$4) +COUNTIFS(Planning!$B$82:$AF$82,Totaux_annuels!H$5,Planning!$B94:$AF94,Totaux_annuels!$B$4) +COUNTIFS(Planning!$B$108:$AF$108,Totaux_annuels!H$5,Planning!$B120:$AF120,Totaux_annuels!$B$4) -> 0
A17: =Planning!A17 -> Agent 12 | B17: =COUNTIFS(Planning!$B$4:$AF$4,Totaux_annuels!B$5,Planning!$B17:$AF17,Totaux_annuels!$B$4) +COUNTIFS(Planning!$B$30:$AF$30,Totaux_annuels!B$5,Planning!$B43:$AF43,Totaux_annuels!$B$4) +COUNTIFS(Planning!$B$56:$AF$56,Totaux_annuels!B$5,Planning!$B69:$AF69,Totaux_annuels!$B$4) +COUNTIFS(Planning!$B$82:$AF$82,Totaux_annuels!B$5,Planning!$B95:$AF95,Totaux_annuels!$B$4) +COUNTIFS(Planning!$B$108:$AF$108,Totaux_annuels!B$5,Planning!$B121:$AF121,Totaux_annuels!$B$4) -> 0 | C17: =COUNTIFS(Planning!$B$4:$AF$4,Totaux_annuels!C$5,Planning!$B17:$AF17,Totaux_annuels!$B$4) +COUNTIFS(Planning!$B$30:$AF$30,Totaux_annuels!C$5,Planning!$B43:$AF43,Totaux_annuels!$B$4) +COUNTIFS(Planning!$B$56:$AF$56,Totaux_annuels!C$5,Planning!$B69:$AF69,Totaux_annuels!$B$4) +COUNTIFS(Planning!$B$82:$AF$82,Totaux_annuels!C$5,Planning!$B95:$AF95,Totaux_annuels!$B$4) +COUNTIFS(Planning!$B$108:$AF$108,Totaux_annuels!C$5,Planning!$B121:$AF121,Totaux_annuels!$B$4) -> 0 | D17: =COUNTIFS(Planning!$B$4:$AF$4,Totaux_annuels!D$5,Planning!$B17:$AF17,Totaux_annuels!$B$4) +COUNTIFS(Planning!$B$30:$AF$30,Totaux_annuels!D$5,Planning!$B43:$AF43,Totaux_annuels!$B$4) +COUNTIFS(Planning!$B$56:$AF$56,Totaux_annuels!D$5,Planning!$B69:$AF69,Totaux_annuels!$B$4) +COUNTIFS(Planning!$B$82:$AF$82,Totaux_annuels!D$5,Planning!$B95:$AF95,Totaux_annuels!$B$4) +COUNTIFS(Planning!$B$108:$AF$108,Totaux_annuels!D$5,Planning!$B121:$AF121,Totaux_annuels!$B$4) -> 0 | E17: =COUNTIFS(Planning!$B$4:$AF$4,Totaux_annuels!E$5,Planning!$B17:$AF17,Totaux_annuels!$B$4) +COUNTIFS(Planning!$B$30:$AF$30,Totaux_annuels!E$5,Planning!$B43:$AF43,Totaux_annuels!$B$4) +COUNTIFS(Planning!$B$56:$AF$56,Totaux_annuels!E$5,Planning!$B69:$AF69,Totaux_annuels!$B$4) +COUNTIFS(Planning!$B$82:$AF$82,Totaux_annuels!E$5,Planning!$B95:$AF95,Totaux_annuels!$B$4) +COUNTIFS(Planning!$B$108:$AF$108,Totaux_annuels!E$5,Planning!$B121:$AF121,Totaux_annuels!$B$4) -> 0 | F17: =COUNTIFS(Planning!$B$4:$AF$4,Totaux_annuels!F$5,Planning!$B17:$AF17,Totaux_annuels!$B$4) +COUNTIFS(Planning!$B$30:$AF$30,Totaux_annuels!F$5,Planning!$B43:$AF43,Totaux_annuels!$B$4) +COUNTIFS(Planning!$B$56:$AF$56,Totaux_annuels!F$5,Planning!$B69:$AF69,Totaux_annuels!$B$4) +COUNTIFS(Planning!$B$82:$AF$82,Totaux_annuels!F$5,Planning!$B95:$AF95,Totaux_annuels!$B$4) +COUNTIFS(Planning!$B$108:$AF$108,Totaux_annuels!F$5,Planning!$B121:$AF121,Totaux_annuels!$B$4) -> 0 | G17: =COUNTIFS(Planning!$B$4:$AF$4,Totaux_annuels!G$5,Planning!$B17:$AF17,Totaux_annuels!$B$4) +COUNTIFS(Planning!$B$30:$AF$30,Totaux_annuels!G$5,Planning!$B43:$AF43,Totaux_annuels!$B$4) +COUNTIFS(Planning!$B$56:$AF$56,Totaux_annuels!G$5,Planning!$B69:$AF69,Totaux_annuels!$B$4) +COUNTIFS(Planning!$B$82:$AF$82,Totaux_annuels!G$5,Planning!$B95:$AF95,Totaux_annuels!$B$4) +COUNTIFS(Planning!$B$108:$AF$108,Totaux_annuels!G$5,Planning!$B121:$AF121,Totaux_annuels!$B$4) -> 0 | H17: =COUNTIFS(Planning!$B$4:$AF$4,Totaux_annuels!H$5,Planning!$B17:$AF17,Totaux_annuels!$B$4) +COUNTIFS(Planning!$B$30:$AF$30,Totaux_annuels!H$5,Planning!$B43:$AF43,Totaux_annuels!$B$4) +COUNTIFS(Planning!$B$56:$AF$56,Totaux_annuels!H$5,Planning!$B69:$AF69,Totaux_annuels!$B$4) +COUNTIFS(Planning!$B$82:$AF$82,Totaux_annuels!H$5,Planning!$B95:$AF95,Totaux_annuels!$B$4) +COUNTIFS(Planning!$B$108:$AF$108,Totaux_annuels!H$5,Planning!$B121:$AF121,Totaux_annuels!$B$4) -> 0
... A25: =Planning!A25 -> Agent 20 | B25: =COUNTIFS(Planning!$B$4:$AF$4,Totaux_annuels!B$5,Planning!$B25:$AF25,Totaux_annuels!$B$4) +COUNTIFS(Planning!$B$30:$AF$30,Totaux_annuels!B$5,Planning!$B51:$AF51,Totaux_annuels!$B$4) +COUNTIFS(Planning!$B$56:$AF$56,Totaux_annuels!B$5,Planning!$B77:$AF77,Totaux_annuels!$B$4) +COUNTIFS(Planning!$B$82:$AF$82,Totaux_annuels!B$5,Planning!$B103:$AF103,Totaux_annuels!$B$4) +COUNTIFS(Planning!$B$108:$AF$108,Totaux_annuels!B$5,Planning!$B129:$AF129,Totaux_annuels!$B$4) -> 2 | C25: =COUNTIFS(Planning!$B$4:$AF$4,Totaux_annuels!C$5,Planning!$B25:$AF25,Totaux_annuels!$B$4) +COUNTIFS(Planning!$B$30:$AF$30,Totaux_annuels!C$5,Planning!$B51:$AF51,Totaux_annuels!$B$4) +COUNTIFS(Planning!$B$56:$AF$56,Totaux_annuels!C$5,Planning!$B77:$AF77,Totaux_annuels!$B$4) +COUNTIFS(Planning!$B$82:$AF$82,Totaux_annuels!C$5,Planning!$B103:$AF103,Totaux_annuels!$B$4) +COUNTIFS(Planning!$B$108:$AF$108,Totaux_annuels!C$5,Planning!$B129:$AF129,Totaux_annuels!$B$4) -> 2 | D25: =COUNTIFS(Planning!$B$4:$AF$4,Totaux_annuels!D$5,Planning!$B25:$AF25,Totaux_annuels!$B$4) +COUNTIFS(Planning!$B$30:$AF$30,Totaux_annuels!D$5,Planning!$B51:$AF51,Totaux_annuels!$B$4) +COUNTIFS(Planning!$B$56:$AF$56,Totaux_annuels!D$5,Planning!$B77:$AF77,Totaux_annuels!$B$4) +COUNTIFS(Planning!$B$82:$AF$82,Totaux_annuels!D$5,Planning!$B103:$AF103,Totaux_annuels!$B$4) +COUNTIFS(Planning!$B$108:$AF$108,Totaux_annuels!D$5,Planning!$B129:$AF129,Totaux_annuels!$B$4) -> 0 | E25: =COUNTIFS(Planning!$B$4:$AF$4,Totaux_annuels!E$5,Planning!$B25:$AF25,Totaux_annuels!$B$4) +COUNTIFS(Planning!$B$30:$AF$30,Totaux_annuels!E$5,Planning!$B51:$AF51,Totaux_annuels!$B$4) +COUNTIFS(Planning!$B$56:$AF$56,Totaux_annuels!E$5,Planning!$B77:$AF77,Totaux_annuels!$B$4) +COUNTIFS(Planning!$B$82:$AF$82,Totaux_annuels!E$5,Planning!$B103:$AF103,Totaux_annuels!$B$4) +COUNTIFS(Planning!$B$108:$AF$108,Totaux_annuels!E$5,Planning!$B129:$AF129,Totaux_annuels!$B$4) -> 4 | F25: =COUNTIFS(Planning!$B$4:$AF$4,Totaux_annuels!F$5,Planning!$B25:$AF25,Totaux_annuels!$B$4) +COUNTIFS(Planning!$B$30:$AF$30,Totaux_annuels!F$5,Planning!$B51:$AF51,Totaux_annuels!$B$4) +COUNTIFS(Planning!$B$56:$AF$56,Totaux_annuels!F$5,Planning!$B77:$AF77,Totaux_annuels!$B$4) +COUNTIFS(Planning!$B$82:$AF$82,Totaux_annuels!F$5,Planning!$B103:$AF103,Totaux_annuels!$B$4) +COUNTIFS(Planning!$B$108:$AF$108,Totaux_annuels!F$5,Planning!$B129:$AF129,Totaux_annuels!$B$4) -> 0 | G25: =COUNTIFS(Planning!$B$4:$AF$4,Totaux_annuels!G$5,Planning!$B25:$AF25,Totaux_annuels!$B$4) +COUNTIFS(Planning!$B$30:$AF$30,Totaux_annuels!G$5,Planning!$B51:$AF51,Totaux_annuels!$B$4) +COUNTIFS(Planning!$B$56:$AF$56,Totaux_annuels!G$5,Planning!$B77:$AF77,Totaux_annuels!$B$4) +COUNTIFS(Planning!$B$82:$AF$82,Totaux_annuels!G$5,Planning!$B103:$AF103,Totaux_annuels!$B$4) +COUNTIFS(Planning!$B$108:$AF$108,Totaux_annuels!G$5,Planning!$B129:$AF129,Totaux_annuels!$B$4) -> 0 | H25: =COUNTIFS(Planning!$B$4:$AF$4,Totaux_annuels!H$5,Planning!$B25:$AF25,Totaux_annuels!$B$4) +COUNTIFS(Planning!$B$30:$AF$30,Totaux_annuels!H$5,Planning!$B51:$AF51,Totaux_annuels!$B$4) +COUNTIFS(Planning!$B$56:$AF$56,Totaux_annuels!H$5,Planning!$B77:$AF77,Totaux_annuels!$B$4) +COUNTIFS(Planning!$B$82:$AF$82,Totaux_annuels!H$5,Planning!$B103:$AF103,Totaux_annuels!$B$4) +COUNTIFS(Planning!$B$108:$AF$108,Totaux_annuels!H$5,Planning!$B129:$AF129,Totaux_annuels!$B$4) -> 0

Sheet References
A1: Codes | C1: Agents
A2: AB1 | C2: Agent 1
A3: AB2 | C3: Agent 2
A4: AB3 | C4: Agent 3
A5: AJF | C5: Agent 4
A6: ARH | C6: Agent 5
A7: B1 | C7: Agent 6
A8: B2 | C8: Agent 7
A9: CA | C9: Agent 8
A10: FC | C10: Agent 9
A11: RH | C11: Agent 10
A12: RTT | C12: Agent 11
C13: Agent 12
C14: Agent 13
C15: Agent 14
C16: Agent 15
C17: Agent 16
C18: Agent 17
C19: Agent 18
C20: Agent 19
C21: Agent 20

Sheet Planning2
A1: 2026
B3: =UPPER(TEXT(DATE(An,1,1),"mmmm-aa")) -> JANVIER-26 | AH3: =B3 -> JANVIER-26
B4: =PROPER(TEXT(DATE(An,MONTH($B$3),B5),"jjjj")) -> Jeudi | C4: =PROPER(TEXT(DATE(An,MONTH($B$3),C5),"jjjj")) -> Vendredi | D4: =PROPER(TEXT(DATE(An,MONTH($B$3),D5),"jjjj")) -> Samedi | E4: =PROPER(TEXT(DATE(An,MONTH($B$3),E5),"jjjj")) -> Dimanche | F4: =PROPER(TEXT(DATE(An,MONTH($B$3),F5),"jjjj")) -> Lundi | G4: =PROPER(TEXT(DATE(An,MONTH($B$3),G5),"jjjj")) -> Mardi | H4: =PROPER(TEXT(DATE(An,MONTH($B$3),H5),"jjjj")) -> Mercredi | I4: =PROPER(TEXT(DATE(An,MONTH($B$3),I5),"jjjj")) -> Jeudi | ... AF4: =PROPER(TEXT(DATE(An,MONTH($B$3),AF5),"jjjj")) -> Samedi | AH4: B1 | AO4: ="TOTAL " & AH4 -> TOTAL B1
B5: 1 | C5: 2 | D5: 3 | E5: 4 | F5: 5 | G5: 6 | H5: 7 | I5: 8 | J5: 9 | K5: 10 | L5: 11 | M5: 12 | N5: 13 | O5: 14 | P5: 15 | Q5: 16 | R5: 17 | S5: 18 | T5: 19 | U5: 20 | V5: 21 | W5: 22 | X5: 23 | Y5: 24 | Z5: 25 | AA5: 26 | AB5: 27 | AC5: 28 | AD5: 29 | AE5: 30 | AF5: 31 | AH5: Lundi | AI5: Mardi | AJ5: Mercredi | AK5: Jeudi | AL5: Vendredi | AM5: Samedi | AN5: Dimanche
A6: Agent 1 | B6: AB1 | E6: ARH | F6: B1 | G6: B1 | I6: B3 | K6: AB3 | N6: AB1 | O6: CA | P6: RTT | S6: ARH | T6: B1 | U6: B1 | X6: RTT | Y6: B1 | AA6: B1 | AH6: =COUNTIFS($B$4:$AF$4,AH$5, $B6:$AF6,$AH$4) -> 3 | AI6: =COUNTIFS($B$4:$AF$4,AI$5, $B6:$AF6,$AH$4) -> 2 | AJ6: =COUNTIFS($B$4:$AF$4,AJ$5, $B6:$AF6,$AH$4) -> 0 | AK6: =COUNTIFS($B$4:$AF$4,AK$5, $B6:$AF6,$AH$4) -> 0 | AL6: =COUNTIFS($B$4:$AF$4,AL$5, $B6:$AF6,$AH$4) -> 0 | AM6: =COUNTIFS($B$4:$AF$4,AM$5, $B6:$AF6,$AH$4) -> 1 | AN6: =COUNTIFS($B$4:$AF$4,AN$5, $B6:$AF6,$AH$4) -> 0 | AO6: =SUM(AH6:AN6) -> 6
A7: Agent 2 | F7: B1 | M7: B1 | AH7: =COUNTIFS($B$4:$AF$4,AH$5, $B7:$AF7,$AH$4) -> 2 | AI7: =COUNTIFS($B$4:$AF$4,AI$5, $B7:$AF7,$AH$4) -> 0 | AJ7: =COUNTIFS($B$4:$AF$4,AJ$5, $B7:$AF7,$AH$4) -> 0 | AK7: =COUNTIFS($B$4:$AF$4,AK$5, $B7:$AF7,$AH$4) -> 0 | AL7: =COUNTIFS($B$4:$AF$4,AL$5, $B7:$AF7,$AH$4) -> 0 | AM7: =COUNTIFS($B$4:$AF$4,AM$5, $B7:$AF7,$AH$4) -> 0 | AN7: =COUNTIFS($B$4:$AF$4,AN$5, $B7:$AF7,$AH$4) -> 0 | AO7: =SUM(AH7:AN7) -> 2
A8: Agent 3 | AH8: =COUNTIFS($B$4:$AF$4,AH$5, $B8:$AF8,$AH$4) -> 0 | AI8: =COUNTIFS($B$4:$AF$4,AI$5, $B8:$AF8,$AH$4) -> 0 | AJ8: =COUNTIFS($B$4:$AF$4,AJ$5, $B8:$AF8,$AH$4) -> 0 | AK8: =COUNTIFS($B$4:$AF$4,AK$5, $B8:$AF8,$AH$4) -> 0 | AL8: =COUNTIFS($B$4:$AF$4,AL$5, $B8:$AF8,$AH$4) -> 0 | AM8: =COUNTIFS($B$4:$AF$4,AM$5, $B8:$AF8,$AH$4) -> 0 | AN8: =COUNTIFS($B$4:$AF$4,AN$5, $B8:$AF8,$AH$4) -> 0 | AO8: =SUM(AH8:AN8) -> 0
A9: Agent 4 | AH9: =COUNTIFS($B$4:$AF$4,AH$5, $B9:$AF9,$AH$4) -> 0 | AI9: =COUNTIFS($B$4:$AF$4,AI$5, $B9:$AF9,$AH$4) -> 0 | AJ9: =COUNTIFS($B$4:$AF$4,AJ$5, $B9:$AF9,$AH$4) -> 0 | AK9: =COUNTIFS($B$4:$AF$4,AK$5, $B9:$AF9,$AH$4) -> 0 | AL9: =COUNTIFS($B$4:$AF$4,AL$5, $B9:$AF9,$AH$4) -> 0 | AM9: =COUNTIFS($B$4:$AF$4,AM$5, $B9:$AF9,$AH$4) -> 0 | AN9: =COUNTIFS($B$4:$AF$4,AN$5, $B9:$AF9,$AH$4) -> 0 | AO9: =SUM(AH9:AN9) -> 0
A10: Agent 5 | AH10: =COUNTIFS($B$4:$AF$4,AH$5, $B10:$AF10,$AH$4) -> 0 | AI10: =COUNTIFS($B$4:$AF$4,AI$5, $B10:$AF10,$AH$4) -> 0 | AJ10: =COUNTIFS($B$4:$AF$4,AJ$5, $B10:$AF10,$AH$4) -> 0 | AK10: =COUNTIFS($B$4:$AF$4,AK$5, $B10:$AF10,$AH$4) -> 0 | AL10: =COUNTIFS($B$4:$AF$4,AL$5, $B10:$AF10,$AH$4) -> 0 | AM10: =COUNTIFS($B$4:$AF$4,AM$5, $B10:$AF10,$AH$4) -> 0 | AN10: =COUNTIFS($B$4:$AF$4,AN$5, $B10:$AF10,$AH$4) -> 0 | AO10: =SUM(AH10:AN10) -> 0
A11: Agent 6 | AH11: =COUNTIFS($B$4:$AF$4,AH$5, $B11:$AF11,$AH$4) -> 0 | AI11: =COUNTIFS($B$4:$AF$4,AI$5, $B11:$AF11,$AH$4) -> 0 | AJ11: =COUNTIFS($B$4:$AF$4,AJ$5, $B11:$AF11,$AH$4) -> 0 | AK11: =COUNTIFS($B$4:$AF$4,AK$5, $B11:$AF11,$AH$4) -> 0 | AL11: =COUNTIFS($B$4:$AF$4,AL$5, $B11:$AF11,$AH$4) -> 0 | AM11: =COUNTIFS($B$4:$AF$4,AM$5, $B11:$AF11,$AH$4) -> 0 | AN11: =COUNTIFS($B$4:$AF$4,AN$5, $B11:$AF11,$AH$4) -> 0 | AO11: =SUM(AH11:AN11) -> 0
A12: Agent 7 | K12: B1 | R12: B1 | Y12: B1 | AH12: =COUNTIFS($B$4:$AF$4,AH$5, $B12:$AF12,$AH$4) -> 0 | AI12: =COUNTIFS($B$4:$AF$4,AI$5, $B12:$AF12,$AH$4) -> 0 | AJ12: =COUNTIFS($B$4:$AF$4,AJ$5, $B12:$AF12,$AH$4) -> 0 | AK12: =COUNTIFS($B$4:$AF$4,AK$5, $B12:$AF12,$AH$4) -> 0 | AL12: =COUNTIFS($B$4:$AF$4,AL$5, $B12:$AF12,$AH$4) -> 0 | AM12: =COUNTIFS($B$4:$AF$4,AM$5, $B12:$AF12,$AH$4) -> 3 | AN12: =COUNTIFS($B$4:$AF$4,AN$5, $B12:$AF12,$AH$4) -> 0 | AO12: =SUM(AH12:AN12) -> 3
A13: Agent 8 | AH13: =COUNTIFS($B$4:$AF$4,AH$5, $B13:$AF13,$AH$4) -> 0 | AI13: =COUNTIFS($B$4:$AF$4,AI$5, $B13:$AF13,$AH$4) -> 0 | AJ13: =COUNTIFS($B$4:$AF$4,AJ$5, $B13:$AF13,$AH$4) -> 0 | AK13: =COUNTIFS($B$4:$AF$4,AK$5, $B13:$AF13,$AH$4) -> 0 | AL13: =COUNTIFS($B$4:$AF$4,AL$5, $B13:$AF13,$AH$4) -> 0 | AM13: =COUNTIFS($B$4:$AF$4,AM$5, $B13:$AF13,$AH$4) -> 0 | AN13: =COUNTIFS($B$4:$AF$4,AN$5, $B13:$AF13,$AH$4) -> 0 | AO13: =SUM(AH13:AN13) -> 0
A14: Agent 9 | B14: B1 | M14: B1 | AH14: =COUNTIFS($B$4:$AF$4,AH$5, $B14:$AF14,$AH$4) -> 1 | AI14: =COUNTIFS($B$4:$AF$4,AI$5, $B14:$AF14,$AH$4) -> 0 | AJ14: =COUNTIFS($B$4:$AF$4,AJ$5, $B14:$AF14,$AH$4) -> 0 | AK14: =COUNTIFS($B$4:$AF$4,AK$5, $B14:$AF14,$AH$4) -> 1 | AL14: =COUNTIFS($B$4:$AF$4,AL$5, $B14:$AF14,$AH$4) -> 0 | AM14: =COUNTIFS($B$4:$AF$4,AM$5, $B14:$AF14,$AH$4) -> 0 | AN14: =COUNTIFS($B$4:$AF$4,AN$5, $B14:$AF14,$AH$4) -> 0 | AO14: =SUM(AH14:AN14) -> 2
A15: Agent 10 | M15: B1 | AH15: =COUNTIFS($B$4:$AF$4,AH$5, $B15:$AF15,$AH$4) -> 1 | AI15: =COUNTIFS($B$4:$AF$4,AI$5, $B15:$AF15,$AH$4) -> 0 | AJ15: =COUNTIFS($B$4:$AF$4,AJ$5, $B15:$AF15,$AH$4) -> 0 | AK15: =COUNTIFS($B$4:$AF$4,AK$5, $B15:$AF15,$AH$4) -> 0 | AL15: =COUNTIFS($B$4:$AF$4,AL$5, $B15:$AF15,$AH$4) -> 0 | AM15: =COUNTIFS($B$4:$AF$4,AM$5, $B15:$AF15,$AH$4) -> 0 | AN15: =COUNTIFS($B$4:$AF$4,AN$5, $B15:$AF15,$AH$4) -> 0 | AO15: =SUM(AH15:AN15) -> 1
A16: Agent 11 | AH16: =COUNTIFS($B$4:$AF$4,AH$5, $B16:$AF16,$AH$4) -> 0 | AI16: =COUNTIFS($B$4:$AF$4,AI$5, $B16:$AF16,$AH$4) -> 0 | AJ16: =COUNTIFS($B$4:$AF$4,AJ$5, $B16:$AF16,$AH$4) -> 0 | AK16: =COUNTIFS($B$4:$AF$4,AK$5, $B16:$AF16,$AH$4) -> 0 | AL16: =COUNTIFS($B$4:$AF$4,AL$5, $B16:$AF16,$AH$4) -> 0 | AM16: =COUNTIFS($B$4:$AF$4,AM$5, $B16:$AF16,$AH$4) -> 0 | AN16: =COUNTIFS($B$4:$AF$4,AN$5, $B16:$AF16,$AH$4) -> 0 | AO16: =SUM(AH16:AN16) -> 0
A17: Agent 12 | AH17: =COUNTIFS($B$4:$AF$4,AH$5, $B17:$AF17,$AH$4) -> 0 | AI17: =COUNTIFS($B$4:$AF$4,AI$5, $B17:$AF17,$AH$4) -> 0 | AJ17: =COUNTIFS($B$4:$AF$4,AJ$5, $B17:$AF17,$AH$4) -> 0 | AK17: =COUNTIFS($B$4:$AF$4,AK$5, $B17:$AF17,$AH$4) -> 0 | AL17: =COUNTIFS($B$4:$AF$4,AL$5, $B17:$AF17,$AH$4) -> 0 | AM17: =COUNTIFS($B$4:$AF$4,AM$5, $B17:$AF17,$AH$4) -> 0 | AN17: =COUNTIFS($B$4:$AF$4,AN$5, $B17:$AF17,$AH$4) -> 0 | AO17: =SUM(AH17:AN17) -> 0
A18: Agent 13 | AH18: =COUNTIFS($B$4:$AF$4,AH$5, $B18:$AF18,$AH$4) -> 0 | AI18: =COUNTIFS($B$4:$AF$4,AI$5, $B18:$AF18,$AH$4) -> 0 | AJ18: =COUNTIFS($B$4:$AF$4,AJ$5, $B18:$AF18,$AH$4) -> 0 | AK18: =COUNTIFS($B$4:$AF$4,AK$5, $B18:$AF18,$AH$4) -> 0 | AL18: =COUNTIFS($B$4:$AF$4,AL$5, $B18:$AF18,$AH$4) -> 0 | AM18: =COUNTIFS($B$4:$AF$4,AM$5, $B18:$AF18,$AH$4) -> 0 | AN18: =COUNTIFS($B$4:$AF$4,AN$5, $B18:$AF18,$AH$4) -> 0 | AO18: =SUM(AH18:AN18) -> 0
A19: Agent 14 | AH19: =COUNTIFS($B$4:$AF$4,AH$5, $B19:$AF19,$AH$4) -> 0 | AI19: =COUNTIFS($B$4:$AF$4,AI$5, $B19:$AF19,$AH$4) -> 0 | AJ19: =COUNTIFS($B$4:$AF$4,AJ$5, $B19:$AF19,$AH$4) -> 0 | AK19: =COUNTIFS($B$4:$AF$4,AK$5, $B19:$AF19,$AH$4) -> 0 | AL19: =COUNTIFS($B$4:$AF$4,AL$5, $B19:$AF19,$AH$4) -> 0 | AM19: =COUNTIFS($B$4:$AF$4,AM$5, $B19:$AF19,$AH$4) -> 0 | AN19: =COUNTIFS($B$4:$AF$4,AN$5, $B19:$AF19,$AH$4) -> 0 | AO19: =SUM(AH19:AN19) -> 0
A20: Agent 15 | AH20: =COUNTIFS($B$4:$AF$4,AH$5, $B20:$AF20,$AH$4) -> 0 | AI20: =COUNTIFS($B$4:$AF$4,AI$5, $B20:$AF20,$AH$4) -> 0 | AJ20: =COUNTIFS($B$4:$AF$4,AJ$5, $B20:$AF20,$AH$4) -> 0 | AK20: =COUNTIFS($B$4:$AF$4,AK$5, $B20:$AF20,$AH$4) -> 0 | AL20: =COUNTIFS($B$4:$AF$4,AL$5, $B20:$AF20,$AH$4) -> 0 | AM20: =COUNTIFS($B$4:$AF$4,AM$5, $B20:$AF20,$AH$4) -> 0 | AN20: =COUNTIFS($B$4:$AF$4,AN$5, $B20:$AF20,$AH$4) -> 0 | AO20: =SUM(AH20:AN20) -> 0
A21: Agent 16 | AH21: =COUNTIFS($B$4:$AF$4,AH$5, $B21:$AF21,$AH$4) -> 0 | AI21: =COUNTIFS($B$4:$AF$4,AI$5, $B21:$AF21,$AH$4) -> 0 | AJ21: =COUNTIFS($B$4:$AF$4,AJ$5, $B21:$AF21,$AH$4) -> 0 | AK21: =COUNTIFS($B$4:$AF$4,AK$5, $B21:$AF21,$AH$4) -> 0 | AL21: =COUNTIFS($B$4:$AF$4,AL$5, $B21:$AF21,$AH$4) -> 0 | AM21: =COUNTIFS($B$4:$AF$4,AM$5, $B21:$AF21,$AH$4) -> 0 | AN21: =COUNTIFS($B$4:$AF$4,AN$5, $B21:$AF21,$AH$4) -> 0 | AO21: =SUM(AH21:AN21) -> 0
A22: Agent 17 | AH22: =COUNTIFS($B$4:$AF$4,AH$5, $B22:$AF22,$AH$4) -> 0 | AI22: =COUNTIFS($B$4:$AF$4,AI$5, $B22:$AF22,$AH$4) -> 0 | AJ22: =COUNTIFS($B$4:$AF$4,AJ$5, $B22:$AF22,$AH$4) -> 0 | AK22: =COUNTIFS($B$4:$AF$4,AK$5, $B22:$AF22,$AH$4) -> 0 | AL22: =COUNTIFS($B$4:$AF$4,AL$5, $B22:$AF22,$AH$4) -> 0 | AM22: =COUNTIFS($B$4:$AF$4,AM$5, $B22:$AF22,$AH$4) -> 0 | AN22: =COUNTIFS($B$4:$AF$4,AN$5, $B22:$AF22,$AH$4) -> 0 | AO22: =SUM(AH22:AN22) -> 0
A23: Agent 18 | AH23: =COUNTIFS($B$4:$AF$4,AH$5, $B23:$AF23,$AH$4) -> 0 | AI23: =COUNTIFS($B$4:$AF$4,AI$5, $B23:$AF23,$AH$4) -> 0 | AJ23: =COUNTIFS($B$4:$AF$4,AJ$5, $B23:$AF23,$AH$4) -> 0 | AK23: =COUNTIFS($B$4:$AF$4,AK$5, $B23:$AF23,$AH$4) -> 0 | AL23: =COUNTIFS($B$4:$AF$4,AL$5, $B23:$AF23,$AH$4) -> 0 | AM23: =COUNTIFS($B$4:$AF$4,AM$5, $B23:$AF23,$AH$4) -> 0 | AN23: =COUNTIFS($B$4:$AF$4,AN$5, $B23:$AF23,$AH$4) -> 0 | AO23: =SUM(AH23:AN23) -> 0
A24: Agent 19 | AH24: =COUNTIFS($B$4:$AF$4,AH$5, $B24:$AF24,$AH$4) -> 0 | AI24: =COUNTIFS($B$4:$AF$4,AI$5, $B24:$AF24,$AH$4) -> 0 | AJ24: =COUNTIFS($B$4:$AF$4,AJ$5, $B24:$AF24,$AH$4) -> 0 | AK24: =COUNTIFS($B$4:$AF$4,AK$5, $B24:$AF24,$AH$4) -> 0 | AL24: =COUNTIFS($B$4:$AF$4,AL$5, $B24:$AF24,$AH$4) -> 0 | AM24: =COUNTIFS($B$4:$AF$4,AM$5, $B24:$AF24,$AH$4) -> 0 | AN24: =COUNTIFS($B$4:$AF$4,AN$5, $B24:$AF24,$AH$4) -> 0 | AO24: =SUM(AH24:AN24) -> 0
A25: Agent 20 | E25: FC | F25: FC | G25: RTT | I25: CA | M25: B1 | S25: CA | T25: CA | U25: RTT | AA25: B1 | AH25: =COUNTIFS($B$4:$AF$4,AH$5, $B25:$AF25,$AH$4) -> 2 | AI25: =COUNTIFS($B$4:$AF$4,AI$5, $B25:$AF25,$AH$4) -> 0 | AJ25: =COUNTIFS($B$4:$AF$4,AJ$5, $B25:$AF25,$AH$4) -> 0 | AK25: =COUNTIFS($B$4:$AF$4,AK$5, $B25:$AF25,$AH$4) -> 0 | AL25: =COUNTIFS($B$4:$AF$4,AL$5, $B25:$AF25,$AH$4) -> 0 | AM25: =COUNTIFS($B$4:$AF$4,AM$5, $B25:$AF25,$AH$4) -> 0 | AN25: =COUNTIFS($B$4:$AF$4,AN$5, $B25:$AF25,$AH$4) -> 0 | AO25: =SUM(AH25:AN25) -> 2
A26: TOTAL ETP | B26: =COUNTA(B6:B25) -> 2 | C26: =COUNTA(C6:C25) -> 0 | D26: =COUNTA(D6:D25) -> 0 | E26: =COUNTA(E6:E25) -> 2 | F26: =COUNTA(F6:F25) -> 3 | G26: =COUNTA(G6:G25) -> 2 | H26: =COUNTA(H6:H25) -> 0 | I26: =COUNTA(I6:I25) -> 2 | ... AF26: =COUNTA(AF6:AF25) -> 0
B29: =UPPER(TEXT(DATE(An,2,1),"mmmm-aa")) -> FÉVRIER-26 | AH29: =B29 -> FÉVRIER-26
B30: =PROPER(TEXT(DATE(An,MONTH($B$29),B31),"jjjj")) -> Dimanche | C30: =PROPER(TEXT(DATE(An,MONTH($B$29),C31),"jjjj")) -> Lundi | D30: =PROPER(TEXT(DATE(An,MONTH($B$29),D31),"jjjj")) -> Mardi | E30: =PROPER(TEXT(DATE(An,MONTH($B$29),E31),"jjjj")) -> Mercredi | F30: =PROPER(TEXT(DATE(An,MONTH($B$29),F31),"jjjj")) -> Jeudi | G30: =PROPER(TEXT(DATE(An,MONTH($B$29),G31),"jjjj")) -> Vendredi | H30: =PROPER(TEXT(DATE(An,MONTH($B$29),H31),"jjjj")) -> Samedi | I30: =PROPER(TEXT(DATE(An,MONTH($B$29),I31),"jjjj")) -> Dimanche | ... AC30: =PROPER(TEXT(DATE(An,MONTH($B$29),AC31),"jjjj")) -> Samedi | AD30: =IFERROR(PROPER(TEXT(DATE(An,MONTH($B$29),AD31),"jjjj")),"") | AH30: B1 | AO30: ="TOTAL " & AH30 -> TOTAL B1
B31: 1 | C31: 2 | D31: 3 | E31: 4 | F31: 5 | G31: 6 | H31: 7 | I31: 8 | J31: 9 | K31: 10 | L31: 11 | M31: 12 | N31: 13 | O31: 14 | P31: 15 | Q31: 16 | R31: 17 | S31: 18 | T31: 19 | U31: 20 | V31: 21 | W31: 22 | X31: 23 | Y31: 24 | Z31: 25 | AA31: 26 | AB31: 27 | AC31: 28 | AD31: =IF(DAY(DATE(An,3,))+1<>29,AC31+1,"") | AH31: Lundi | AI31: Mardi | AJ31: Mercredi | AK31: Jeudi | AL31: Vendredi | AM31: Samedi | AN31: Dimanche
A32: =A6 -> Agent 1 | B32: AB1 | E32: ARH | F32: B1 | G32: B1 | I32: B3 | K32: AB3 | N32: AB1 | O32: CA | P32: RTT | S32: ARH | T32: B1 | U32: B1 | X32: RTT | Y32: B1 | AA32: B1 | AH32: =COUNTIFS($B$30:$AD$30,AH$31, $B32:$AD32,$AH$30) -> 0 | AI32: =COUNTIFS($B$30:$AD$30,AI$31, $B32:$AD32,$AH$30) -> 1 | AJ32: =COUNTIFS($B$30:$AD$30,AJ$31, $B32:$AD32,$AH$30) -> 0 | AK32: =COUNTIFS($B$30:$AD$30,AK$31, $B32:$AD32,$AH$30) -> 3 | AL32: =COUNTIFS($B$30:$AD$30,AL$31, $B32:$AD32,$AH$30) -> 2 | AM32: =COUNTIFS($B$30:$AD$30,AM$31, $B32:$AD32,$AH$30) -> 0 | AN32: =COUNTIFS($B$30:$AD$30,AN$31, $B32:$AD32,$AH$30) -> 0 | AO32: =SUM(AH32:AN32) -> 6
A33: =A7 -> Agent 2 | F33: B1 | M33: B1 | AH33: =COUNTIFS($B$30:$AD$30,AH$31, $B33:$AD33,$AH$30) -> 0 | AI33: =COUNTIFS($B$30:$AD$30,AI$31, $B33:$AD33,$AH$30) -> 0 | AJ33: =COUNTIFS($B$30:$AD$30,AJ$31, $B33:$AD33,$AH$30) -> 0 | AK33: =COUNTIFS($B$30:$AD$30,AK$31, $B33:$AD33,$AH$30) -> 2 | AL33: =COUNTIFS($B$30:$AD$30,AL$31, $B33:$AD33,$AH$30) -> 0 | AM33: =COUNTIFS($B$30:$AD$30,AM$31, $B33:$AD33,$AH$30) -> 0 | AN33: =COUNTIFS($B$30:$AD$30,AN$31, $B33:$AD33,$AH$30) -> 0 | AO33: =SUM(AH33:AN33) -> 2
A34: =A8 -> Agent 3 | AH34: =COUNTIFS($B$30:$AD$30,AH$31, $B34:$AD34,$AH$30) -> 0 | AI34: =COUNTIFS($B$30:$AD$30,AI$31, $B34:$AD34,$AH$30) -> 0 | AJ34: =COUNTIFS($B$30:$AD$30,AJ$31, $B34:$AD34,$AH$30) -> 0 | AK34: =COUNTIFS($B$30:$AD$30,AK$31, $B34:$AD34,$AH$30) -> 0 | AL34: =COUNTIFS($B$30:$AD$30,AL$31, $B34:$AD34,$AH$30) -> 0 | AM34: =COUNTIFS($B$30:$AD$30,AM$31, $B34:$AD34,$AH$30) -> 0 | AN34: =COUNTIFS($B$30:$AD$30,AN$31, $B34:$AD34,$AH$30) -> 0 | AO34: =SUM(AH34:AN34) -> 0
A35: =A9 -> Agent 4 | AH35: =COUNTIFS($B$30:$AD$30,AH$31, $B35:$AD35,$AH$30) -> 0 | AI35: =COUNTIFS($B$30:$AD$30,AI$31, $B35:$AD35,$AH$30) -> 0 | AJ35: =COUNTIFS($B$30:$AD$30,AJ$31, $B35:$AD35,$AH$30) -> 0 | AK35: =COUNTIFS($B$30:$AD$30,AK$31, $B35:$AD35,$AH$30) -> 0 | AL35: =COUNTIFS($B$30:$AD$30,AL$31, $B35:$AD35,$AH$30) -> 0 | AM35: =COUNTIFS($B$30:$AD$30,AM$31, $B35:$AD35,$AH$30) -> 0 | AN35: =COUNTIFS($B$30:$AD$30,AN$31, $B35:$AD35,$AH$30) -> 0 | AO35: =SUM(AH35:AN35) -> 0
A36: =A10 -> Agent 5 | AH36: =COUNTIFS($B$30:$AD$30,AH$31, $B36:$AD36,$AH$30) -> 0 | AI36: =COUNTIFS($B$30:$AD$30,AI$31, $B36:$AD36,$AH$30) -> 0 | AJ36: =COUNTIFS($B$30:$AD$30,AJ$31, $B36:$AD36,$AH$30) -> 0 | AK36: =COUNTIFS($B$30:$AD$30,AK$31, $B36:$AD36,$AH$30) -> 0 | AL36: =COUNTIFS($B$30:$AD$30,AL$31, $B36:$AD36,$AH$30) -> 0 | AM36: =COUNTIFS($B$30:$AD$30,AM$31, $B36:$AD36,$AH$30) -> 0 | AN36: =COUNTIFS($B$30:$AD$30,AN$31, $B36:$AD36,$AH$30) -> 0 | AO36: =SUM(AH36:AN36) -> 0
A37: =A11 -> Agent 6 | AH37: =COUNTIFS($B$30:$AD$30,AH$31, $B37:$AD37,$AH$30) -> 0 | AI37: =COUNTIFS($B$30:$AD$30,AI$31, $B37:$AD37,$AH$30) -> 0 | AJ37: =COUNTIFS($B$30:$AD$30,AJ$31, $B37:$AD37,$AH$30) -> 0 | AK37: =COUNTIFS($B$30:$AD$30,AK$31, $B37:$AD37,$AH$30) -> 0 | AL37: =COUNTIFS($B$30:$AD$30,AL$31, $B37:$AD37,$AH$30) -> 0 | AM37: =COUNTIFS($B$30:$AD$30,AM$31, $B37:$AD37,$AH$30) -> 0 | AN37: =COUNTIFS($B$30:$AD$30,AN$31, $B37:$AD37,$AH$30) -> 0 | AO37: =SUM(AH37:AN37) -> 0
A38: =A12 -> Agent 7 | K38: B1 | R38: B1 | Y38: B1 | AH38: =COUNTIFS($B$30:$AD$30,AH$31, $B38:$AD38,$AH$30) -> 0 | AI38: =COUNTIFS($B$30:$AD$30,AI$31, $B38:$AD38,$AH$30) -> 3 | AJ38: =COUNTIFS($B$30:$AD$30,AJ$31, $B38:$AD38,$AH$30) -> 0 | AK38: =COUNTIFS($B$30:$AD$30,AK$31, $B38:$AD38,$AH$30) -> 0 | AL38: =COUNTIFS($B$30:$AD$30,AL$31, $B38:$AD38,$AH$30) -> 0 | AM38: =COUNTIFS($B$30:$AD$30,AM$31, $B38:$AD38,$AH$30) -> 0 | AN38: =COUNTIFS($B$30:$AD$30,AN$31, $B38:$AD38,$AH$30) -> 0 | AO38: =SUM(AH38:AN38) -> 3
A39: =A13 -> Agent 8 | AH39: =COUNTIFS($B$30:$AD$30,AH$31, $B39:$AD39,$AH$30) -> 0 | AI39: =COUNTIFS($B$30:$AD$30,AI$31, $B39:$AD39,$AH$30) -> 0 | AJ39: =COUNTIFS($B$30:$AD$30,AJ$31, $B39:$AD39,$AH$30) -> 0 | AK39: =COUNTIFS($B$30:$AD$30,AK$31, $B39:$AD39,$AH$30) -> 0 | AL39: =COUNTIFS($B$30:$AD$30,AL$31, $B39:$AD39,$AH$30) -> 0 | AM39: =COUNTIFS($B$30:$AD$30,AM$31, $B39:$AD39,$AH$30) -> 0 | AN39: =COUNTIFS($B$30:$AD$30,AN$31, $B39:$AD39,$AH$30) -> 0 | AO39: =SUM(AH39:AN39) -> 0
A40: =A14 -> Agent 9 | B40: B1 | M40: B1 | AH40: =COUNTIFS($B$30:$AD$30,AH$31, $B40:$AD40,$AH$30) -> 0 | AI40: =COUNTIFS($B$30:$AD$30,AI$31, $B40:$AD40,$AH$30) -> 0 | AJ40: =COUNTIFS($B$30:$AD$30,AJ$31, $B40:$AD40,$AH$30) -> 0 | AK40: =COUNTIFS($B$30:$AD$30,AK$31, $B40:$AD40,$AH$30) -> 1 | AL40: =COUNTIFS($B$30:$AD$30,AL$31, $B40:$AD40,$AH$30) -> 0 | AM40: =COUNTIFS($B$30:$AD$30,AM$31, $B40:$AD40,$AH$30) -> 0 | AN40: =COUNTIFS($B$30:$AD$30,AN$31, $B40:$AD40,$AH$30) -> 1 | AO40: =SUM(AH40:AN40) -> 2
A41: =A15 -> Agent 10 | M41: B1 | AH41: =COUNTIFS($B$30:$AD$30,AH$31, $B41:$AD41,$AH$30) -> 0 | AI41: =COUNTIFS($B$30:$AD$30,AI$31, $B41:$AD41,$AH$30) -> 0 | AJ41: =COUNTIFS($B$30:$AD$30,AJ$31, $B41:$AD41,$AH$30) -> 0 | AK41: =COUNTIFS($B$30:$AD$30,AK$31, $B41:$AD41,$AH$30) -> 1 | AL41: =COUNTIFS($B$30:$AD$30,AL$31, $B41:$AD41,$AH$30) -> 0 | AM41: =COUNTIFS($B$30:$AD$30,AM$31, $B41:$AD41,$AH$30) -> 0 | AN41: =COUNTIFS($B$30:$AD$30,AN$31, $B41:$AD41,$AH$30) -> 0 | AO41: =SUM(AH41:AN41) -> 1
A42: =A16 -> Agent 11 | I42: ARH | N42: ARH | AH42: =COUNTIFS($B$30:$AD$30,AH$31, $B42:$AD42,$AH$30) -> 0 | AI42: =COUNTIFS($B$30:$AD$30,AI$31, $B42:$AD42,$AH$30) -> 0 | AJ42: =COUNTIFS($B$30:$AD$30,AJ$31, $B42:$AD42,$AH$30) -> 0 | AK42: =COUNTIFS($B$30:$AD$30,AK$31, $B42:$AD42,$AH$30) -> 0 | AL42: =COUNTIFS($B$30:$AD$30,AL$31, $B42:$AD42,$AH$30) -> 0 | AM42: =COUNTIFS($B$30:$AD$30,AM$31, $B42:$AD42,$AH$30) -> 0 | AN42: =COUNTIFS($B$30:$AD$30,AN$31, $B42:$AD42,$AH$30) -> 0 | AO42: =SUM(AH42:AN42) -> 0
A43: =A17 -> Agent 12 | AH43: =COUNTIFS($B$30:$AD$30,AH$31, $B43:$AD43,$AH$30) -> 0 | AI43: =COUNTIFS($B$30:$AD$30,AI$31, $B43:$AD43,$AH$30) -> 0 | AJ43: =COUNTIFS($B$30:$AD$30,AJ$31, $B43:$AD43,$AH$30) -> 0 | AK43: =COUNTIFS($B$30:$AD$30,AK$31, $B43:$AD43,$AH$30) -> 0 | AL43: =COUNTIFS($B$30:$AD$30,AL$31, $B43:$AD43,$AH$30) -> 0 | AM43: =COUNTIFS($B$30:$AD$30,AM$31, $B43:$AD43,$AH$30) -> 0 | AN43: =COUNTIFS($B$30:$AD$30,AN$31, $B43:$AD43,$AH$30) -> 0 | AO43: =SUM(AH43:AN43) -> 0
A44: =A18 -> Agent 13 | AH44: =COUNTIFS($B$30:$AD$30,AH$31, $B44:$AD44,$AH$30) -> 0 | AI44: =COUNTIFS($B$30:$AD$30,AI$31, $B44:$AD44,$AH$30) -> 0 | AJ44: =COUNTIFS($B$30:$AD$30,AJ$31, $B44:$AD44,$AH$30) -> 0 | AK44: =COUNTIFS($B$30:$AD$30,AK$31, $B44:$AD44,$AH$30) -> 0 | AL44: =COUNTIFS($B$30:$AD$30,AL$31, $B44:$AD44,$AH$30) -> 0 | AM44: =COUNTIFS($B$30:$AD$30,AM$31, $B44:$AD44,$AH$30) -> 0 | AN44: =COUNTIFS($B$30:$AD$30,AN$31, $B44:$AD44,$AH$30) -> 0 | AO44: =SUM(AH44:AN44) -> 0
A45: =A19 -> Agent 14 | AH45: =COUNTIFS($B$30:$AD$30,AH$31, $B45:$AD45,$AH$30) -> 0 | AI45: =COUNTIFS($B$30:$AD$30,AI$31, $B45:$AD45,$AH$30) -> 0 | AJ45: =COUNTIFS($B$30:$AD$30,AJ$31, $B45:$AD45,$AH$30) -> 0 | AK45: =COUNTIFS($B$30:$AD$30,AK$31, $B45:$AD45,$AH$30) -> 0 | AL45: =COUNTIFS($B$30:$AD$30,AL$31, $B45:$AD45,$AH$30) -> 0 | AM45: =COUNTIFS($B$30:$AD$30,AM$31, $B45:$AD45,$AH$30) -> 0 | AN45: =COUNTIFS($B$30:$AD$30,AN$31, $B45:$AD45,$AH$30) -> 0 | AO45: =SUM(AH45:AN45) -> 0
A46: =A20 -> Agent 15 | AH46: =COUNTIFS($B$30:$AD$30,AH$31, $B46:$AD46,$AH$30) -> 0 | AI46: =COUNTIFS($B$30:$AD$30,AI$31, $B46:$AD46,$AH$30) -> 0 | AJ46: =COUNTIFS($B$30:$AD$30,AJ$31, $B46:$AD46,$AH$30) -> 0 | AK46: =COUNTIFS($B$30:$AD$30,AK$31, $B46:$AD46,$AH$30) -> 0 | AL46: =COUNTIFS($B$30:$AD$30,AL$31, $B46:$AD46,$AH$30) -> 0 | AM46: =COUNTIFS($B$30:$AD$30,AM$31, $B46:$AD46,$AH$30) -> 0 | AN46: =COUNTIFS($B$30:$AD$30,AN$31, $B46:$AD46,$AH$30) -> 0 | AO46: =SUM(AH46:AN46) -> 0
A47: =A21 -> Agent 16 | AH47: =COUNTIFS($B$30:$AD$30,AH$31, $B47:$AD47,$AH$30) -> 0 | AI47: =COUNTIFS($B$30:$AD$30,AI$31, $B47:$AD47,$AH$30) -> 0 | AJ47: =COUNTIFS($B$30:$AD$30,AJ$31, $B47:$AD47,$AH$30) -> 0 | AK47: =COUNTIFS($B$30:$AD$30,AK$31, $B47:$AD47,$AH$30) -> 0 | AL47: =COUNTIFS($B$30:$AD$30,AL$31, $B47:$AD47,$AH$30) -> 0 | AM47: =COUNTIFS($B$30:$AD$30,AM$31, $B47:$AD47,$AH$30) -> 0 | AN47: =COUNTIFS($B$30:$AD$30,AN$31, $B47:$AD47,$AH$30) -> 0 | AO47: =SUM(AH47:AN47) -> 0
A48: =A22 -> Agent 17 | AH48: =COUNTIFS($B$30:$AD$30,AH$31, $B48:$AD48,$AH$30) -> 0 | AI48: =COUNTIFS($B$30:$AD$30,AI$31, $B48:$AD48,$AH$30) -> 0 | AJ48: =COUNTIFS($B$30:$AD$30,AJ$31, $B48:$AD48,$AH$30) -> 0 | AK48: =COUNTIFS($B$30:$AD$30,AK$31, $B48:$AD48,$AH$30) -> 0 | AL48: =COUNTIFS($B$30:$AD$30,AL$31, $B48:$AD48,$AH$30) -> 0 | AM48: =COUNTIFS($B$30:$AD$30,AM$31, $B48:$AD48,$AH$30) -> 0 | AN48: =COUNTIFS($B$30:$AD$30,AN$31, $B48:$AD48,$AH$30) -> 0 | AO48: =SUM(AH48:AN48) -> 0
A49: =A23 -> Agent 18 | AH49: =COUNTIFS($B$30:$AD$30,AH$31, $B49:$AD49,$AH$30) -> 0 | AI49: =COUNTIFS($B$30:$AD$30,AI$31, $B49:$AD49,$AH$30) -> 0 | AJ49: =COUNTIFS($B$30:$AD$30,AJ$31, $B49:$AD49,$AH$30) -> 0 | AK49: =COUNTIFS($B$30:$AD$30,AK$31, $B49:$AD49,$AH$30) -> 0 | AL49: =COUNTIFS($B$30:$AD$30,AL$31, $B49:$AD49,$AH$30) -> 0 | AM49: =COUNTIFS($B$30:$AD$30,AM$31, $B49:$AD49,$AH$30) -> 0 | AN49: =COUNTIFS($B$30:$AD$30,AN$31, $B49:$AD49,$AH$30) -> 0 | AO49: =SUM(AH49:AN49) -> 0
A50: =A24 -> Agent 19 | AH50: =COUNTIFS($B$30:$AD$30,AH$31, $B50:$AD50,$AH$30) -> 0 | AI50: =COUNTIFS($B$30:$AD$30,AI$31, $B50:$AD50,$AH$30) -> 0 | AJ50: =COUNTIFS($B$30:$AD$30,AJ$31, $B50:$AD50,$AH$30) -> 0 | AK50: =COUNTIFS($B$30:$AD$30,AK$31, $B50:$AD50,$AH$30) -> 0 | AL50: =COUNTIFS($B$30:$AD$30,AL$31, $B50:$AD50,$AH$30) -> 0 | AM50: =COUNTIFS($B$30:$AD$30,AM$31, $B50:$AD50,$AH$30) -> 0 | AN50: =COUNTIFS($B$30:$AD$30,AN$31, $B50:$AD50,$AH$30) -> 0 | AO50: =SUM(AH50:AN50) -> 0
A51: =A25 -> Agent 20 | E51: FC | F51: FC | G51: RTT | I51: CA | M51: B1 | S51: CA | T51: CA | U51: RTT | AA51: B1 | AH51: =COUNTIFS($B$30:$AD$30,AH$31, $B51:$AD51,$AH$30) -> 0 | AI51: =COUNTIFS($B$30:$AD$30,AI$31, $B51:$AD51,$AH$30) -> 0 | AJ51: =COUNTIFS($B$30:$AD$30,AJ$31, $B51:$AD51,$AH$30) -> 0 | AK51: =COUNTIFS($B$30:$AD$30,AK$31, $B51:$AD51,$AH$30) -> 2 | AL51: =COUNTIFS($B$30:$AD$30,AL$31, $B51:$AD51,$AH$30) -> 0 | AM51: =COUNTIFS($B$30:$AD$30,AM$31, $B51:$AD51,$AH$30) -> 0 | AN51: =COUNTIFS($B$30:$AD$30,AN$31, $B51:$AD51,$AH$30) -> 0 | AO51: =SUM(AH51:AN51) -> 2
A52: TOTAL ETP | B52: =COUNTA(B32:B51) -> 2 | C52: =COUNTA(C32:C51) -> 0 | D52: =COUNTA(D32:D51) -> 0 | E52: =COUNTA(E32:E51) -> 2 | F52: =COUNTA(F32:F51) -> 3 | G52: =COUNTA(G32:G51) -> 2 | H52: =COUNTA(H32:H51) -> 0 | I52: =COUNTA(I32:I51) -> 3 | ... AD52: =COUNTA(AD32:AD51) -> 0
B55: =UPPER(TEXT(DATE(An,3,1),"mmmm-aa")) -> MARS-26 | AH55: =B55 -> MARS-26
B56: =PROPER(TEXT(DATE(An,MONTH($B$55),B57),"jjjj")) -> Dimanche | C56: =PROPER(TEXT(DATE(An,MONTH($B$55),C57),"jjjj")) -> Lundi | D56: =PROPER(TEXT(DATE(An,MONTH($B$55),D57),"jjjj")) -> Mardi | E56: =PROPER(TEXT(DATE(An,MONTH($B$55),E57),"jjjj")) -> Mercredi | F56: =PROPER(TEXT(DATE(An,MONTH($B$55),F57),"jjjj")) -> Jeudi | G56: =PROPER(TEXT(DATE(An,MONTH($B$55),G57),"jjjj")) -> Vendredi | H56: =PROPER(TEXT(DATE(An,MONTH($B$55),H57),"jjjj")) -> Samedi | I56: =PROPER(TEXT(DATE(An,MONTH($B$55),I57),"jjjj")) -> Dimanche | ... AF56: =PROPER(TEXT(DATE(An,MONTH($B$55),AF57),"jjjj")) -> Mardi | AH56: B1 | AO56: ="TOTAL " & AH56 -> TOTAL B1
B57: 1 | C57: 2 | D57: 3 | E57: 4 | F57: 5 | G57: 6 | H57: 7 | I57: 8 | J57: 9 | K57: 10 | L57: 11 | M57: 12 | N57: 13 | O57: 14 | P57: 15 | Q57: 16 | R57: 17 | S57: 18 | T57: 19 | U57: 20 | V57: 21 | W57: 22 | X57: 23 | Y57: 24 | Z57: 25 | AA57: 26 | AB57: 27 | AC57: 28 | AD57: 29 | AE57: 30 | AF57: 31 | AH57: Lundi | AI57: Mardi | AJ57: Mercredi | AK57: Jeudi | AL57: Vendredi | AM57: Samedi | AN57: Dimanche
A58: =A6 -> Agent 1 | B58: AB1 | E58: ARH | F58: B1 | G58: B1 | I58: B3 | K58: AB3 | N58: AB1 | O58: CA | P58: RTT | S58: ARH | T58: B1 | U58: B1 | X58: RTT | Y58: B1 | AA58: B1 | AH58: =COUNTIFS($B$56:$AF$56,AH$57, $B58:$AF58,$AH$56) -> 0 | AI58: =COUNTIFS($B$56:$AF$56,AI$57, $B58:$AF58,$AH$56) -> 1 | AJ58: =COUNTIFS($B$56:$AF$56,AJ$57, $B58:$AF58,$AH$56) -> 0 | AK58: =COUNTIFS($B$56:$AF$56,AK$57, $B58:$AF58,$AH$56) -> 3 | AL58: =COUNTIFS($B$56:$AF$56,AL$57, $B58:$AF58,$AH$56) -> 2 | AM58: =COUNTIFS($B$56:$AF$56,AM$57, $B58:$AF58,$AH$56) -> 0 | AN58: =COUNTIFS($B$56:$AF$56,AN$57, $B58:$AF58,$AH$56) -> 0 | AO58: =SUM(AH58:AN58) -> 6
A59: =A7 -> Agent 2 | F59: B1 | M59: B1 | AH59: =COUNTIFS($B$56:$AF$56,AH$57, $B59:$AF59,$AH$56) -> 0 | AI59: =COUNTIFS($B$56:$AF$56,AI$57, $B59:$AF59,$AH$56) -> 0 | AJ59: =COUNTIFS($B$56:$AF$56,AJ$57, $B59:$AF59,$AH$56) -> 0 | AK59: =COUNTIFS($B$56:$AF$56,AK$57, $B59:$AF59,$AH$56) -> 2 | AL59: =COUNTIFS($B$56:$AF$56,AL$57, $B59:$AF59,$AH$56) -> 0 | AM59: =COUNTIFS($B$56:$AF$56,AM$57, $B59:$AF59,$AH$56) -> 0 | AN59: =COUNTIFS($B$56:$AF$56,AN$57, $B59:$AF59,$AH$56) -> 0 | AO59: =SUM(AH59:AN59) -> 2
A60: =A8 -> Agent 3 | AH60: =COUNTIFS($B$56:$AF$56,AH$57, $B60:$AF60,$AH$56) -> 0 | AI60: =COUNTIFS($B$56:$AF$56,AI$57, $B60:$AF60,$AH$56) -> 0 | AJ60: =COUNTIFS($B$56:$AF$56,AJ$57, $B60:$AF60,$AH$56) -> 0 | AK60: =COUNTIFS($B$56:$AF$56,AK$57, $B60:$AF60,$AH$56) -> 0 | AL60: =COUNTIFS($B$56:$AF$56,AL$57, $B60:$AF60,$AH$56) -> 0 | AM60: =COUNTIFS($B$56:$AF$56,AM$57, $B60:$AF60,$AH$56) -> 0 | AN60: =COUNTIFS($B$56:$AF$56,AN$57, $B60:$AF60,$AH$56) -> 0 | AO60: =SUM(AH60:AN60) -> 0
A61: =A9 -> Agent 4 | AH61: =COUNTIFS($B$56:$AF$56,AH$57, $B61:$AF61,$AH$56) -> 0 | AI61: =COUNTIFS($B$56:$AF$56,AI$57, $B61:$AF61,$AH$56) -> 0 | AJ61: =COUNTIFS($B$56:$AF$56,AJ$57, $B61:$AF61,$AH$56) -> 0 | AK61: =COUNTIFS($B$56:$AF$56,AK$57, $B61:$AF61,$AH$56) -> 0 | AL61: =COUNTIFS($B$56:$AF$56,AL$57, $B61:$AF61,$AH$56) -> 0 | AM61: =COUNTIFS($B$56:$AF$56,AM$57, $B61:$AF61,$AH$56) -> 0 | AN61: =COUNTIFS($B$56:$AF$56,AN$57, $B61:$AF61,$AH$56) -> 0 | AO61: =SUM(AH61:AN61) -> 0
A62: =A10 -> Agent 5 | AH62: =COUNTIFS($B$56:$AF$56,AH$57, $B62:$AF62,$AH$56) -> 0 | AI62: =COUNTIFS($B$56:$AF$56,AI$57, $B62:$AF62,$AH$56) -> 0 | AJ62: =COUNTIFS($B$56:$AF$56,AJ$57, $B62:$AF62,$AH$56) -> 0 | AK62: =COUNTIFS($B$56:$AF$56,AK$57, $B62:$AF62,$AH$56) -> 0 | AL62: =COUNTIFS($B$56:$AF$56,AL$57, $B62:$AF62,$AH$56) -> 0 | AM62: =COUNTIFS($B$56:$AF$56,AM$57, $B62:$AF62,$AH$56) -> 0 | AN62: =COUNTIFS($B$56:$AF$56,AN$57, $B62:$AF62,$AH$56) -> 0 | AO62: =SUM(AH62:AN62) -> 0
A63: =A11 -> Agent 6 | E63: AB3 | AH63: =COUNTIFS($B$56:$AF$56,AH$57, $B63:$AF63,$AH$56) -> 0 | AI63: =COUNTIFS($B$56:$AF$56,AI$57, $B63:$AF63,$AH$56) -> 0 | AJ63: =COUNTIFS($B$56:$AF$56,AJ$57, $B63:$AF63,$AH$56) -> 0 | AK63: =COUNTIFS($B$56:$AF$56,AK$57, $B63:$AF63,$AH$56) -> 0 | AL63: =COUNTIFS($B$56:$AF$56,AL$57, $B63:$AF63,$AH$56) -> 0 | AM63: =COUNTIFS($B$56:$AF$56,AM$57, $B63:$AF63,$AH$56) -> 0 | AN63: =COUNTIFS($B$56:$AF$56,AN$57, $B63:$AF63,$AH$56) -> 0 | AO63: =SUM(AH63:AN63) -> 0
A64: =A12 -> Agent 7 | K64: B1 | R64: B1 | Y64: B1 | AH64: =COUNTIFS($B$56:$AF$56,AH$57, $B64:$AF64,$AH$56) -> 0 | AI64: =COUNTIFS($B$56:$AF$56,AI$57, $B64:$AF64,$AH$56) -> 3 | AJ64: =COUNTIFS($B$56:$AF$56,AJ$57, $B64:$AF64,$AH$56) -> 0 | AK64: =COUNTIFS($B$56:$AF$56,AK$57, $B64:$AF64,$AH$56) -> 0 | AL64: =COUNTIFS($B$56:$AF$56,AL$57, $B64:$AF64,$AH$56) -> 0 | AM64: =COUNTIFS($B$56:$AF$56,AM$57, $B64:$AF64,$AH$56) -> 0 | AN64: =COUNTIFS($B$56:$AF$56,AN$57, $B64:$AF64,$AH$56) -> 0 | AO64: =SUM(AH64:AN64) -> 3
A65: =A13 -> Agent 8 | AH65: =COUNTIFS($B$56:$AF$56,AH$57, $B65:$AF65,$AH$56) -> 0 | AI65: =COUNTIFS($B$56:$AF$56,AI$57, $B65:$AF65,$AH$56) -> 0 | AJ65: =COUNTIFS($B$56:$AF$56,AJ$57, $B65:$AF65,$AH$56) -> 0 | AK65: =COUNTIFS($B$56:$AF$56,AK$57, $B65:$AF65,$AH$56) -> 0 | AL65: =COUNTIFS($B$56:$AF$56,AL$57, $B65:$AF65,$AH$56) -> 0 | AM65: =COUNTIFS($B$56:$AF$56,AM$57, $B65:$AF65,$AH$56) -> 0 | AN65: =COUNTIFS($B$56:$AF$56,AN$57, $B65:$AF65,$AH$56) -> 0 | AO65: =SUM(AH65:AN65) -> 0
A66: =A14 -> Agent 9 | B66: B1 | M66: B1 | AH66: =COUNTIFS($B$56:$AF$56,AH$57, $B66:$AF66,$AH$56) -> 0 | AI66: =COUNTIFS($B$56:$AF$56,AI$57, $B66:$AF66,$AH$56) -> 0 | AJ66: =COUNTIFS($B$56:$AF$56,AJ$57, $B66:$AF66,$AH$56) -> 0 | AK66: =COUNTIFS($B$56:$AF$56,AK$57, $B66:$AF66,$AH$56) -> 1 | AL66: =COUNTIFS($B$56:$AF$56,AL$57, $B66:$AF66,$AH$56) -> 0 | AM66: =COUNTIFS($B$56:$AF$56,AM$57, $B66:$AF66,$AH$56) -> 0 | AN66: =COUNTIFS($B$56:$AF$56,AN$57, $B66:$AF66,$AH$56) -> 1 | AO66: =SUM(AH66:AN66) -> 2
A67: =A15 -> Agent 10 | M67: B1 | AH67: =COUNTIFS($B$56:$AF$56,AH$57, $B67:$AF67,$AH$56) -> 0 | AI67: =COUNTIFS($B$56:$AF$56,AI$57, $B67:$AF67,$AH$56) -> 0 | AJ67: =COUNTIFS($B$56:$AF$56,AJ$57, $B67:$AF67,$AH$56) -> 0 | AK67: =COUNTIFS($B$56:$AF$56,AK$57, $B67:$AF67,$AH$56) -> 1 | AL67: =COUNTIFS($B$56:$AF$56,AL$57, $B67:$AF67,$AH$56) -> 0 | AM67: =COUNTIFS($B$56:$AF$56,AM$57, $B67:$AF67,$AH$56) -> 0 | AN67: =COUNTIFS($B$56:$AF$56,AN$57, $B67:$AF67,$AH$56) -> 0 | AO67: =SUM(AH67:AN67) -> 1
A68: =A16 -> Agent 11 | AH68: =COUNTIFS($B$56:$AF$56,AH$57, $B68:$AF68,$AH$56) -> 0 | AI68: =COUNTIFS($B$56:$AF$56,AI$57, $B68:$AF68,$AH$56) -> 0 | AJ68: =COUNTIFS($B$56:$AF$56,AJ$57, $B68:$AF68,$AH$56) -> 0 | AK68: =COUNTIFS($B$56:$AF$56,AK$57, $B68:$AF68,$AH$56) -> 0 | AL68: =COUNTIFS($B$56:$AF$56,AL$57, $B68:$AF68,$AH$56) -> 0 | AM68: =COUNTIFS($B$56:$AF$56,AM$57, $B68:$AF68,$AH$56) -> 0 | AN68: =COUNTIFS($B$56:$AF$56,AN$57, $B68:$AF68,$AH$56) -> 0 | AO68: =SUM(AH68:AN68) -> 0
A69: =A17 -> Agent 12 | AH69: =COUNTIFS($B$56:$AF$56,AH$57, $B69:$AF69,$AH$56) -> 0 | AI69: =COUNTIFS($B$56:$AF$56,AI$57, $B69:$AF69,$AH$56) -> 0 | AJ69: =COUNTIFS($B$56:$AF$56,AJ$57, $B69:$AF69,$AH$56) -> 0 | AK69: =COUNTIFS($B$56:$AF$56,AK$57, $B69:$AF69,$AH$56) -> 0 | AL69: =COUNTIFS($B$56:$AF$56,AL$57, $B69:$AF69,$AH$56) -> 0 | AM69: =COUNTIFS($B$56:$AF$56,AM$57, $B69:$AF69,$AH$56) -> 0 | AN69: =COUNTIFS($B$56:$AF$56,AN$57, $B69:$AF69,$AH$56) -> 0 | AO69: =SUM(AH69:AN69) -> 0
A70: =A18 -> Agent 13 | AH70: =COUNTIFS($B$56:$AF$56,AH$57, $B70:$AF70,$AH$56) -> 0 | AI70: =COUNTIFS($B$56:$AF$56,AI$57, $B70:$AF70,$AH$56) -> 0 | AJ70: =COUNTIFS($B$56:$AF$56,AJ$57, $B70:$AF70,$AH$56) -> 0 | AK70: =COUNTIFS($B$56:$AF$56,AK$57, $B70:$AF70,$AH$56) -> 0 | AL70: =COUNTIFS($B$56:$AF$56,AL$57, $B70:$AF70,$AH$56) -> 0 | AM70: =COUNTIFS($B$56:$AF$56,AM$57, $B70:$AF70,$AH$56) -> 0 | AN70: =COUNTIFS($B$56:$AF$56,AN$57, $B70:$AF70,$AH$56) -> 0 | AO70: =SUM(AH70:AN70) -> 0
A71: =A19 -> Agent 14 | AH71: =COUNTIFS($B$56:$AF$56,AH$57, $B71:$AF71,$AH$56) -> 0 | AI71: =COUNTIFS($B$56:$AF$56,AI$57, $B71:$AF71,$AH$56) -> 0 | AJ71: =COUNTIFS($B$56:$AF$56,AJ$57, $B71:$AF71,$AH$56) -> 0 | AK71: =COUNTIFS($B$56:$AF$56,AK$57, $B71:$AF71,$AH$56) -> 0 | AL71: =COUNTIFS($B$56:$AF$56,AL$57, $B71:$AF71,$AH$56) -> 0 | AM71: =COUNTIFS($B$56:$AF$56,AM$57, $B71:$AF71,$AH$56) -> 0 | AN71: =COUNTIFS($B$56:$AF$56,AN$57, $B71:$AF71,$AH$56) -> 0 | AO71: =SUM(AH71:AN71) -> 0
A72: =A20 -> Agent 15 | AH72: =COUNTIFS($B$56:$AF$56,AH$57, $B72:$AF72,$AH$56) -> 0 | AI72: =COUNTIFS($B$56:$AF$56,AI$57, $B72:$AF72,$AH$56) -> 0 | AJ72: =COUNTIFS($B$56:$AF$56,AJ$57, $B72:$AF72,$AH$56) -> 0 | AK72: =COUNTIFS($B$56:$AF$56,AK$57, $B72:$AF72,$AH$56) -> 0 | AL72: =COUNTIFS($B$56:$AF$56,AL$57, $B72:$AF72,$AH$56) -> 0 | AM72: =COUNTIFS($B$56:$AF$56,AM$57, $B72:$AF72,$AH$56) -> 0 | AN72: =COUNTIFS($B$56:$AF$56,AN$57, $B72:$AF72,$AH$56) -> 0 | AO72: =SUM(AH72:AN72) -> 0
A73: =A21 -> Agent 16 | AH73: =COUNTIFS($B$56:$AF$56,AH$57, $B73:$AF73,$AH$56) -> 0 | AI73: =COUNTIFS($B$56:$AF$56,AI$57, $B73:$AF73,$AH$56) -> 0 | AJ73: =COUNTIFS($B$56:$AF$56,AJ$57, $B73:$AF73,$AH$56) -> 0 | AK73: =COUNTIFS($B$56:$AF$56,AK$57, $B73:$AF73,$AH$56) -> 0 | AL73: =COUNTIFS($B$56:$AF$56,AL$57, $B73:$AF73,$AH$56) -> 0 | AM73: =COUNTIFS($B$56:$AF$56,AM$57, $B73:$AF73,$AH$56) -> 0 | AN73: =COUNTIFS($B$56:$AF$56,AN$57, $B73:$AF73,$AH$56) -> 0 | AO73: =SUM(AH73:AN73) -> 0
A74: =A22 -> Agent 17 | AH74: =COUNTIFS($B$56:$AF$56,AH$57, $B74:$AF74,$AH$56) -> 0 | AI74: =COUNTIFS($B$56:$AF$56,AI$57, $B74:$AF74,$AH$56) -> 0 | AJ74: =COUNTIFS($B$56:$AF$56,AJ$57, $B74:$AF74,$AH$56) -> 0 | AK74: =COUNTIFS($B$56:$AF$56,AK$57, $B74:$AF74,$AH$56) -> 0 | AL74: =COUNTIFS($B$56:$AF$56,AL$57, $B74:$AF74,$AH$56) -> 0 | AM74: =COUNTIFS($B$56:$AF$56,AM$57, $B74:$AF74,$AH$56) -> 0 | AN74: =COUNTIFS($B$56:$AF$56,AN$57, $B74:$AF74,$AH$56) -> 0 | AO74: =SUM(AH74:AN74) -> 0
A75: =A23 -> Agent 18 | AH75: =COUNTIFS($B$56:$AF$56,AH$57, $B75:$AF75,$AH$56) -> 0 | AI75: =COUNTIFS($B$56:$AF$56,AI$57, $B75:$AF75,$AH$56) -> 0 | AJ75: =COUNTIFS($B$56:$AF$56,AJ$57, $B75:$AF75,$AH$56) -> 0 | AK75: =COUNTIFS($B$56:$AF$56,AK$57, $B75:$AF75,$AH$56) -> 0 | AL75: =COUNTIFS($B$56:$AF$56,AL$57, $B75:$AF75,$AH$56) -> 0 | AM75: =COUNTIFS($B$56:$AF$56,AM$57, $B75:$AF75,$AH$56) -> 0 | AN75: =COUNTIFS($B$56:$AF$56,AN$57, $B75:$AF75,$AH$56) -> 0 | AO75: =SUM(AH75:AN75) -> 0
A76: =A24 -> Agent 19 | AH76: =COUNTIFS($B$56:$AF$56,AH$57, $B76:$AF76,$AH$56) -> 0 | AI76: =COUNTIFS($B$56:$AF$56,AI$57, $B76:$AF76,$AH$56) -> 0 | AJ76: =COUNTIFS($B$56:$AF$56,AJ$57, $B76:$AF76,$AH$56) -> 0 | AK76: =COUNTIFS($B$56:$AF$56,AK$57, $B76:$AF76,$AH$56) -> 0 | AL76: =COUNTIFS($B$56:$AF$56,AL$57, $B76:$AF76,$AH$56) -> 0 | AM76: =COUNTIFS($B$56:$AF$56,AM$57, $B76:$AF76,$AH$56) -> 0 | AN76: =COUNTIFS($B$56:$AF$56,AN$57, $B76:$AF76,$AH$56) -> 0 | AO76: =SUM(AH76:AN76) -> 0
A77: =A25 -> Agent 20 | E77: FC | F77: FC | G77: RTT | I77: CA | M77: B1 | S77: CA | T77: CA | U77: RTT | AA77: B1 | AH77: =COUNTIFS($B$56:$AF$56,AH$57, $B77:$AF77,$AH$56) -> 0 | AI77: =COUNTIFS($B$56:$AF$56,AI$57, $B77:$AF77,$AH$56) -> 0 | AJ77: =COUNTIFS($B$56:$AF$56,AJ$57, $B77:$AF77,$AH$56) -> 0 | AK77: =COUNTIFS($B$56:$AF$56,AK$57, $B77:$AF77,$AH$56) -> 2 | AL77: =COUNTIFS($B$56:$AF$56,AL$57, $B77:$AF77,$AH$56) -> 0 | AM77: =COUNTIFS($B$56:$AF$56,AM$57, $B77:$AF77,$AH$56) -> 0 | AN77: =COUNTIFS($B$56:$AF$56,AN$57, $B77:$AF77,$AH$56) -> 0 | AO77: =SUM(AH77:AN77) -> 2
A78: TOTAL ETP | B78: =COUNTA(B58:B77) -> 2 | C78: =COUNTA(C58:C77) -> 0 | D78: =COUNTA(D58:D77) -> 0 | E78: =COUNTA(E58:E77) -> 3 | F78: =COUNTA(F58:F77) -> 3 | G78: =COUNTA(G58:G77) -> 2 | H78: =COUNTA(H58:H77) -> 0 | I78: =COUNTA(I58:I77) -> 2 | ... AF78: =COUNTA(AF58:AF77) -> 0
B81: =UPPER(TEXT(DATE(An,4,1),"mmmm-aa")) -> AVRIL-26 | AH81: =B81 -> AVRIL-26
B82: =PROPER(TEXT(DATE(An,MONTH($B$55),B83),"jjjj")) -> Dimanche | C82: =PROPER(TEXT(DATE(An,MONTH($B$55),C83),"jjjj")) -> Lundi | D82: =PROPER(TEXT(DATE(An,MONTH($B$55),D83),"jjjj")) -> Mardi | E82: =PROPER(TEXT(DATE(An,MONTH($B$55),E83),"jjjj")) -> Mercredi | F82: =PROPER(TEXT(DATE(An,MONTH($B$55),F83),"jjjj")) -> Jeudi | G82: =PROPER(TEXT(DATE(An,MONTH($B$55),G83),"jjjj")) -> Vendredi | H82: =PROPER(TEXT(DATE(An,MONTH($B$55),H83),"jjjj")) -> Samedi | I82: =PROPER(TEXT(DATE(An,MONTH($B$55),I83),"jjjj")) -> Dimanche | ... AE82: =PROPER(TEXT(DATE(An,MONTH($B$55),AE83),"jjjj")) -> Lundi | AH82: B1 | AO82: ="TOTAL " & AH82 -> TOTAL B1
B83: 1 | C83: 2 | D83: 3 | E83: 4 | F83: 5 | G83: 6 | H83: 7 | I83: 8 | J83: 9 | K83: 10 | L83: 11 | M83: 12 | N83: 13 | O83: 14 | P83: 15 | Q83: 16 | R83: 17 | S83: 18 | T83: 19 | U83: 20 | V83: 21 | W83: 22 | X83: 23 | Y83: 24 | Z83: 25 | AA83: 26 | AB83: 27 | AC83: 28 | AD83: 29 | AE83: 30 | AH83: Lundi | AI83: Mardi | AJ83: Mercredi | AK83: Jeudi | AL83: Vendredi | AM83: Samedi | AN83: Dimanche
A84: =A6 -> Agent 1 | B84: AB1 | E84: ARH | F84: B1 | G84: B1 | I84: B3 | K84: AB3 | M84: ARH | N84: AB1 | O84: CA | P84: RTT | S84: ARH | T84: B1 | U84: B1 | X84: RTT | Y84: B1 | AA84: B1 | AH84: =COUNTIFS($B$82:$AF$82,AH$83, $B84:$AF84,$AH$82) -> 0 | AI84: =COUNTIFS($B$82:$AF$82,AI$83, $B84:$AF84,$AH$82) -> 1 | AJ84: =COUNTIFS($B$82:$AF$82,AJ$83, $B84:$AF84,$AH$82) -> 0 | AK84: =COUNTIFS($B$82:$AF$82,AK$83, $B84:$AF84,$AH$82) -> 3 | AL84: =COUNTIFS($B$82:$AF$82,AL$83, $B84:$AF84,$AH$82) -> 2 | AM84: =COUNTIFS($B$82:$AF$82,AM$83, $B84:$AF84,$AH$82) -> 0 | AN84: =COUNTIFS($B$82:$AF$82,AN$83, $B84:$AF84,$AH$82) -> 0 | AO84: =SUM(AH84:AN84) -> 6
A85: =A7 -> Agent 2 | F85: B1 | M85: B1 | AH85: =COUNTIFS($B$82:$AF$82,AH$83, $B85:$AF85,$AH$82) -> 0 | AI85: =COUNTIFS($B$82:$AF$82,AI$83, $B85:$AF85,$AH$82) -> 0 | AJ85: =COUNTIFS($B$82:$AF$82,AJ$83, $B85:$AF85,$AH$82) -> 0 | AK85: =COUNTIFS($B$82:$AF$82,AK$83, $B85:$AF85,$AH$82) -> 2 | AL85: =COUNTIFS($B$82:$AF$82,AL$83, $B85:$AF85,$AH$82) -> 0 | AM85: =COUNTIFS($B$82:$AF$82,AM$83, $B85:$AF85,$AH$82) -> 0 | AN85: =COUNTIFS($B$82:$AF$82,AN$83, $B85:$AF85,$AH$82) -> 0 | AO85: =SUM(AH85:AN85) -> 2
A86: =A8 -> Agent 3 | AH86: =COUNTIFS($B$82:$AF$82,AH$83, $B86:$AF86,$AH$82) -> 0 | AI86: =COUNTIFS($B$82:$AF$82,AI$83, $B86:$AF86,$AH$82) -> 0 | AJ86: =COUNTIFS($B$82:$AF$82,AJ$83, $B86:$AF86,$AH$82) -> 0 | AK86: =COUNTIFS($B$82:$AF$82,AK$83, $B86:$AF86,$AH$82) -> 0 | AL86: =COUNTIFS($B$82:$AF$82,AL$83, $B86:$AF86,$AH$82) -> 0 | AM86: =COUNTIFS($B$82:$AF$82,AM$83, $B86:$AF86,$AH$82) -> 0 | AN86: =COUNTIFS($B$82:$AF$82,AN$83, $B86:$AF86,$AH$82) -> 0 | AO86: =SUM(AH86:AN86) -> 0
A87: =A9 -> Agent 4 | AH87: =COUNTIFS($B$82:$AF$82,AH$83, $B87:$AF87,$AH$82) -> 0 | AI87: =COUNTIFS($B$82:$AF$82,AI$83, $B87:$AF87,$AH$82) -> 0 | AJ87: =COUNTIFS($B$82:$AF$82,AJ$83, $B87:$AF87,$AH$82) -> 0 | AK87: =COUNTIFS($B$82:$AF$82,AK$83, $B87:$AF87,$AH$82) -> 0 | AL87: =COUNTIFS($B$82:$AF$82,AL$83, $B87:$AF87,$AH$82) -> 0 | AM87: =COUNTIFS($B$82:$AF$82,AM$83, $B87:$AF87,$AH$82) -> 0 | AN87: =COUNTIFS($B$82:$AF$82,AN$83, $B87:$AF87,$AH$82) -> 0 | AO87: =SUM(AH87:AN87) -> 0
A88: =A10 -> Agent 5 | AH88: =COUNTIFS($B$82:$AF$82,AH$83, $B88:$AF88,$AH$82) -> 0 | AI88: =COUNTIFS($B$82:$AF$82,AI$83, $B88:$AF88,$AH$82) -> 0 | AJ88: =COUNTIFS($B$82:$AF$82,AJ$83, $B88:$AF88,$AH$82) -> 0 | AK88: =COUNTIFS($B$82:$AF$82,AK$83, $B88:$AF88,$AH$82) -> 0 | AL88: =COUNTIFS($B$82:$AF$82,AL$83, $B88:$AF88,$AH$82) -> 0 | AM88: =COUNTIFS($B$82:$AF$82,AM$83, $B88:$AF88,$AH$82) -> 0 | AN88: =COUNTIFS($B$82:$AF$82,AN$83, $B88:$AF88,$AH$82) -> 0 | AO88: =SUM(AH88:AN88) -> 0
A89: =A11 -> Agent 6 | E89: AB3 | AH89: =COUNTIFS($B$82:$AF$82,AH$83, $B89:$AF89,$AH$82) -> 0 | AI89: =COUNTIFS($B$82:$AF$82,AI$83, $B89:$AF89,$AH$82) -> 0 | AJ89: =COUNTIFS($B$82:$AF$82,AJ$83, $B89:$AF89,$AH$82) -> 0 | AK89: =COUNTIFS($B$82:$AF$82,AK$83, $B89:$AF89,$AH$82) -> 0 | AL89: =COUNTIFS($B$82:$AF$82,AL$83, $B89:$AF89,$AH$82) -> 0 | AM89: =COUNTIFS($B$82:$AF$82,AM$83, $B89:$AF89,$AH$82) -> 0 | AN89: =COUNTIFS($B$82:$AF$82,AN$83, $B89:$AF89,$AH$82) -> 0 | AO89: =SUM(AH89:AN89) -> 0
A90: =A12 -> Agent 7 | K90: B1 | R90: B1 | Y90: B1 | AH90: =COUNTIFS($B$82:$AF$82,AH$83, $B90:$AF90,$AH$82) -> 0 | AI90: =COUNTIFS($B$82:$AF$82,AI$83, $B90:$AF90,$AH$82) -> 3 | AJ90: =COUNTIFS($B$82:$AF$82,AJ$83, $B90:$AF90,$AH$82) -> 0 | AK90: =COUNTIFS($B$82:$AF$82,AK$83, $B90:$AF90,$AH$82) -> 0 | AL90: =COUNTIFS($B$82:$AF$82,AL$83, $B90:$AF90,$AH$82) -> 0 | AM90: =COUNTIFS($B$82:$AF$82,AM$83, $B90:$AF90,$AH$82) -> 0 | AN90: =COUNTIFS($B$82:$AF$82,AN$83, $B90:$AF90,$AH$82) -> 0 | AO90: =SUM(AH90:AN90) -> 3
A91: =A13 -> Agent 8 | AH91: =COUNTIFS($B$82:$AF$82,AH$83, $B91:$AF91,$AH$82) -> 0 | AI91: =COUNTIFS($B$82:$AF$82,AI$83, $B91:$AF91,$AH$82) -> 0 | AJ91: =COUNTIFS($B$82:$AF$82,AJ$83, $B91:$AF91,$AH$82) -> 0 | AK91: =COUNTIFS($B$82:$AF$82,AK$83, $B91:$AF91,$AH$82) -> 0 | AL91: =COUNTIFS($B$82:$AF$82,AL$83, $B91:$AF91,$AH$82) -> 0 | AM91: =COUNTIFS($B$82:$AF$82,AM$83, $B91:$AF91,$AH$82) -> 0 | AN91: =COUNTIFS($B$82:$AF$82,AN$83, $B91:$AF91,$AH$82) -> 0 | AO91: =SUM(AH91:AN91) -> 0
A92: =A14 -> Agent 9 | B92: B1 | M92: B1 | AH92: =COUNTIFS($B$82:$AF$82,AH$83, $B92:$AF92,$AH$82) -> 0 | AI92: =COUNTIFS($B$82:$AF$82,AI$83, $B92:$AF92,$AH$82) -> 0 | AJ92: =COUNTIFS($B$82:$AF$82,AJ$83, $B92:$AF92,$AH$82) -> 0 | AK92: =COUNTIFS($B$82:$AF$82,AK$83, $B92:$AF92,$AH$82) -> 1 | AL92: =COUNTIFS($B$82:$AF$82,AL$83, $B92:$AF92,$AH$82) -> 0 | AM92: =COUNTIFS($B$82:$AF$82,AM$83, $B92:$AF92,$AH$82) -> 0 | AN92: =COUNTIFS($B$82:$AF$82,AN$83, $B92:$AF92,$AH$82) -> 1 | AO92: =SUM(AH92:AN92) -> 2
A93: =A15 -> Agent 10 | M93: B1 | AH93: =COUNTIFS($B$82:$AF$82,AH$83, $B93:$AF93,$AH$82) -> 0 | AI93: =COUNTIFS($B$82:$AF$82,AI$83, $B93:$AF93,$AH$82) -> 0 | AJ93: =COUNTIFS($B$82:$AF$82,AJ$83, $B93:$AF93,$AH$82) -> 0 | AK93: =COUNTIFS($B$82:$AF$82,AK$83, $B93:$AF93,$AH$82) -> 1 | AL93: =COUNTIFS($B$82:$AF$82,AL$83, $B93:$AF93,$AH$82) -> 0 | AM93: =COUNTIFS($B$82:$AF$82,AM$83, $B93:$AF93,$AH$82) -> 0 | AN93: =COUNTIFS($B$82:$AF$82,AN$83, $B93:$AF93,$AH$82) -> 0 | AO93: =SUM(AH93:AN93) -> 1
A94: =A16 -> Agent 11 | AH94: =COUNTIFS($B$82:$AF$82,AH$83, $B94:$AF94,$AH$82) -> 0 | AI94: =COUNTIFS($B$82:$AF$82,AI$83, $B94:$AF94,$AH$82) -> 0 | AJ94: =COUNTIFS($B$82:$AF$82,AJ$83, $B94:$AF94,$AH$82) -> 0 | AK94: =COUNTIFS($B$82:$AF$82,AK$83, $B94:$AF94,$AH$82) -> 0 | AL94: =COUNTIFS($B$82:$AF$82,AL$83, $B94:$AF94,$AH$82) -> 0 | AM94: =COUNTIFS($B$82:$AF$82,AM$83, $B94:$AF94,$AH$82) -> 0 | AN94: =COUNTIFS($B$82:$AF$82,AN$83, $B94:$AF94,$AH$82) -> 0 | AO94: =SUM(AH94:AN94) -> 0
A95: =A17 -> Agent 12 | AH95: =COUNTIFS($B$82:$AF$82,AH$83, $B95:$AF95,$AH$82) -> 0 | AI95: =COUNTIFS($B$82:$AF$82,AI$83, $B95:$AF95,$AH$82) -> 0 | AJ95: =COUNTIFS($B$82:$AF$82,AJ$83, $B95:$AF95,$AH$82) -> 0 | AK95: =COUNTIFS($B$82:$AF$82,AK$83, $B95:$AF95,$AH$82) -> 0 | AL95: =COUNTIFS($B$82:$AF$82,AL$83, $B95:$AF95,$AH$82) -> 0 | AM95: =COUNTIFS($B$82:$AF$82,AM$83, $B95:$AF95,$AH$82) -> 0 | AN95: =COUNTIFS($B$82:$AF$82,AN$83, $B95:$AF95,$AH$82) -> 0 | AO95: =SUM(AH95:AN95) -> 0
A96: =A18 -> Agent 13 | AH96: =COUNTIFS($B$82:$AF$82,AH$83, $B96:$AF96,$AH$82) -> 0 | AI96: =COUNTIFS($B$82:$AF$82,AI$83, $B96:$AF96,$AH$82) -> 0 | AJ96: =COUNTIFS($B$82:$AF$82,AJ$83, $B96:$AF96,$AH$82) -> 0 | AK96: =COUNTIFS($B$82:$AF$82,AK$83, $B96:$AF96,$AH$82) -> 0 | AL96: =COUNTIFS($B$82:$AF$82,AL$83, $B96:$AF96,$AH$82) -> 0 | AM96: =COUNTIFS($B$82:$AF$82,AM$83, $B96:$AF96,$AH$82) -> 0 | AN96: =COUNTIFS($B$82:$AF$82,AN$83, $B96:$AF96,$AH$82) -> 0 | AO96: =SUM(AH96:AN96) -> 0
A97: =A19 -> Agent 14 | AH97: =COUNTIFS($B$82:$AF$82,AH$83, $B97:$AF97,$AH$82) -> 0 | AI97: =COUNTIFS($B$82:$AF$82,AI$83, $B97:$AF97,$AH$82) -> 0 | AJ97: =COUNTIFS($B$82:$AF$82,AJ$83, $B97:$AF97,$AH$82) -> 0 | AK97: =COUNTIFS($B$82:$AF$82,AK$83, $B97:$AF97,$AH$82) -> 0 | AL97: =COUNTIFS($B$82:$AF$82,AL$83, $B97:$AF97,$AH$82) -> 0 | AM97: =COUNTIFS($B$82:$AF$82,AM$83, $B97:$AF97,$AH$82) -> 0 | AN97: =COUNTIFS($B$82:$AF$82,AN$83, $B97:$AF97,$AH$82) -> 0 | AO97: =SUM(AH97:AN97) -> 0
A98: =A20 -> Agent 15 | AH98: =COUNTIFS($B$82:$AF$82,AH$83, $B98:$AF98,$AH$82) -> 0 | AI98: =COUNTIFS($B$82:$AF$82,AI$83, $B98:$AF98,$AH$82) -> 0 | AJ98: =COUNTIFS($B$82:$AF$82,AJ$83, $B98:$AF98,$AH$82) -> 0 | AK98: =COUNTIFS($B$82:$AF$82,AK$83, $B98:$AF98,$AH$82) -> 0 | AL98: =COUNTIFS($B$82:$AF$82,AL$83, $B98:$AF98,$AH$82) -> 0 | AM98: =COUNTIFS($B$82:$AF$82,AM$83, $B98:$AF98,$AH$82) -> 0 | AN98: =COUNTIFS($B$82:$AF$82,AN$83, $B98:$AF98,$AH$82) -> 0 | AO98: =SUM(AH98:AN98) -> 0
A99: =A21 -> Agent 16 | AH99: =COUNTIFS($B$82:$AF$82,AH$83, $B99:$AF99,$AH$82) -> 0 | AI99: =COUNTIFS($B$82:$AF$82,AI$83, $B99:$AF99,$AH$82) -> 0 | AJ99: =COUNTIFS($B$82:$AF$82,AJ$83, $B99:$AF99,$AH$82) -> 0 | AK99: =COUNTIFS($B$82:$AF$82,AK$83, $B99:$AF99,$AH$82) -> 0 | AL99: =COUNTIFS($B$82:$AF$82,AL$83, $B99:$AF99,$AH$82) -> 0 | AM99: =COUNTIFS($B$82:$AF$82,AM$83, $B99:$AF99,$AH$82) -> 0 | AN99: =COUNTIFS($B$82:$AF$82,AN$83, $B99:$AF99,$AH$82) -> 0 | AO99: =SUM(AH99:AN99) -> 0
A100: =A22 -> Agent 17 | AH100: =COUNTIFS($B$82:$AF$82,AH$83, $B100:$AF100,$AH$82) -> 0 | AI100: =COUNTIFS($B$82:$AF$82,AI$83, $B100:$AF100,$AH$82) -> 0 | AJ100: =COUNTIFS($B$82:$AF$82,AJ$83, $B100:$AF100,$AH$82) -> 0 | AK100: =COUNTIFS($B$82:$AF$82,AK$83, $B100:$AF100,$AH$82) -> 0 | AL100: =COUNTIFS($B$82:$AF$82,AL$83, $B100:$AF100,$AH$82) -> 0 | AM100: =COUNTIFS($B$82:$AF$82,AM$83, $B100:$AF100,$AH$82) -> 0 | AN100: =COUNTIFS($B$82:$AF$82,AN$83, $B100:$AF100,$AH$82) -> 0 | AO100: =SUM(AH100:AN100) -> 0
A101: =A23 -> Agent 18 | AH101: =COUNTIFS($B$82:$AF$82,AH$83, $B101:$AF101,$AH$82) -> 0 | AI101: =COUNTIFS($B$82:$AF$82,AI$83, $B101:$AF101,$AH$82) -> 0 | AJ101: =COUNTIFS($B$82:$AF$82,AJ$83, $B101:$AF101,$AH$82) -> 0 | AK101: =COUNTIFS($B$82:$AF$82,AK$83, $B101:$AF101,$AH$82) -> 0 | AL101: =COUNTIFS($B$82:$AF$82,AL$83, $B101:$AF101,$AH$82) -> 0 | AM101: =COUNTIFS($B$82:$AF$82,AM$83, $B101:$AF101,$AH$82) -> 0 | AN101: =COUNTIFS($B$82:$AF$82,AN$83, $B101:$AF101,$AH$82) -> 0 | AO101: =SUM(AH101:AN101) -> 0
A102: =A24 -> Agent 19 | AH102: =COUNTIFS($B$82:$AF$82,AH$83, $B102:$AF102,$AH$82) -> 0 | AI102: =COUNTIFS($B$82:$AF$82,AI$83, $B102:$AF102,$AH$82) -> 0 | AJ102: =COUNTIFS($B$82:$AF$82,AJ$83, $B102:$AF102,$AH$82) -> 0 | AK102: =COUNTIFS($B$82:$AF$82,AK$83, $B102:$AF102,$AH$82) -> 0 | AL102: =COUNTIFS($B$82:$AF$82,AL$83, $B102:$AF102,$AH$82) -> 0 | AM102: =COUNTIFS($B$82:$AF$82,AM$83, $B102:$AF102,$AH$82) -> 0 | AN102: =COUNTIFS($B$82:$AF$82,AN$83, $B102:$AF102,$AH$82) -> 0 | AO102: =SUM(AH102:AN102) -> 0
A103: =A25 -> Agent 20 | E103: FC | F103: FC | G103: RTT | I103: CA | M103: B1 | S103: CA | T103: CA | U103: RTT | AA103: B1 | AH103: =COUNTIFS($B$82:$AF$82,AH$83, $B103:$AF103,$AH$82) -> 0 | AI103: =COUNTIFS($B$82:$AF$82,AI$83, $B103:$AF103,$AH$82) -> 0 | AJ103: =COUNTIFS($B$82:$AF$82,AJ$83, $B103:$AF103,$AH$82) -> 0 | AK103: =COUNTIFS($B$82:$AF$82,AK$83, $B103:$AF103,$AH$82) -> 2 | AL103: =COUNTIFS($B$82:$AF$82,AL$83, $B103:$AF103,$AH$82) -> 0 | AM103: =COUNTIFS($B$82:$AF$82,AM$83, $B103:$AF103,$AH$82) -> 0 | AN103: =COUNTIFS($B$82:$AF$82,AN$83, $B103:$AF103,$AH$82) -> 0 | AO103: =SUM(AH103:AN103) -> 2
A104: TOTAL ETP | B104: =COUNTA(B84:B103) -> 2 | C104: =COUNTA(C84:C103) -> 0 | D104: =COUNTA(D84:D103) -> 0 | E104: =COUNTA(E84:E103) -> 3 | F104: =COUNTA(F84:F103) -> 3 | G104: =COUNTA(G84:G103) -> 2 | H104: =COUNTA(H84:H103) -> 0 | I104: =COUNTA(I84:I103) -> 2 | ... AE104: =COUNTA(AE84:AE103) -> 0
B107: =UPPER(TEXT(DATE(An,5,1),"mmmm-aa")) -> MAI-26 | AH107: =B107 -> MAI-26
B108: =PROPER(TEXT(DATE(An,MONTH($B$107),B109),"jjjj")) -> Vendredi | C108: =PROPER(TEXT(DATE(An,MONTH($B$107),C109),"jjjj")) -> Samedi | D108: =PROPER(TEXT(DATE(An,MONTH($B$107),D109),"jjjj")) -> Dimanche | E108: =PROPER(TEXT(DATE(An,MONTH($B$107),E109),"jjjj")) -> Lundi | F108: =PROPER(TEXT(DATE(An,MONTH($B$107),F109),"jjjj")) -> Mardi | G108: =PROPER(TEXT(DATE(An,MONTH($B$107),G109),"jjjj")) -> Mercredi | H108: =PROPER(TEXT(DATE(An,MONTH($B$107),H109),"jjjj")) -> Jeudi | I108: =PROPER(TEXT(DATE(An,MONTH($B$107),I109),"jjjj")) -> Vendredi | ... AF108: =PROPER(TEXT(DATE(An,MONTH($B$107),AF109),"jjjj")) -> Dimanche | AH108: B1 | AO108: ="TOTAL " & AH108 -> TOTAL B1
B109: 1 | C109: 2 | D109: 3 | E109: 4 | F109: 5 | G109: 6 | H109: 7 | I109: 8 | J109: 9 | K109: 10 | L109: 11 | M109: 12 | N109: 13 | O109: 14 | P109: 15 | Q109: 16 | R109: 17 | S109: 18 | T109: 19 | U109: 20 | V109: 21 | W109: 22 | X109: 23 | Y109: 24 | Z109: 25 | AA109: 26 | AB109: 27 | AC109: 28 | AD109: 29 | AE109: 30 | AF109: 31 | AH109: Lundi | AI109: Mardi | AJ109: Mercredi | AK109: Jeudi | AL109: Vendredi | AM109: Samedi | AN109: Dimanche
...

Sheet Totaux_annuels2
B4: B1
B5: Lundi | C5: Mardi | D5: Mercredi | E5: Jeudi | F5: Vendredi | G5: Samedi | H5: Dimanche
A6: =Planning2!A6 -> Agent 1 | B6: =COUNTIFS(Planning2!$B$4:$AF$4,B$5,Planning2!$B6:$AF6,$B$4) +COUNTIFS(Planning!$B$30:$AF$30,Totaux_annuels2!B$5,Planning!$B32:$AF32,Totaux_annuels2!$B$4) +COUNTIFS(Planning!$B$56:$AF$56,Totaux_annuels2!B$5,Planning!$B58:$AF58,Totaux_annuels2!$B$4) +COUNTIFS(Planning!$B$82:$AF$82,Totaux_annuels2!B$5,Planning!$B84:$AF84,Totaux_annuels2!$B$4) +COUNTIFS(Planning!$B$108:$AF$108,Totaux_annuels2!B$5,Planning!$B110:$AF110,Totaux_annuels2!$B$4) -> 3 | C6: =COUNTIFS(Planning2!$B$4:$AF$4,C$5,Planning2!$B6:$AF6,$B$4) +COUNTIFS(Planning!$B$30:$AF$30,Totaux_annuels2!C$5,Planning!$B32:$AF32,Totaux_annuels2!$B$4) +COUNTIFS(Planning!$B$56:$AF$56,Totaux_annuels2!C$5,Planning!$B58:$AF58,Totaux_annuels2!$B$4) +COUNTIFS(Planning!$B$82:$AF$82,Totaux_annuels2!C$5,Planning!$B84:$AF84,Totaux_annuels2!$B$4) +COUNTIFS(Planning!$B$108:$AF$108,Totaux_annuels2!C$5,Planning!$B110:$AF110,Totaux_annuels2!$B$4) -> 8 | D6: =COUNTIFS(Planning2!$B$4:$AF$4,D$5,Planning2!$B6:$AF6,$B$4) +COUNTIFS(Planning!$B$30:$AF$30,Totaux_annuels2!D$5,Planning!$B32:$AF32,Totaux_annuels2!$B$4) +COUNTIFS(Planning!$B$56:$AF$56,Totaux_annuels2!D$5,Planning!$B58:$AF58,Totaux_annuels2!$B$4) +COUNTIFS(Planning!$B$82:$AF$82,Totaux_annuels2!D$5,Planning!$B84:$AF84,Totaux_annuels2!$B$4) +COUNTIFS(Planning!$B$108:$AF$108,Totaux_annuels2!D$5,Planning!$B110:$AF110,Totaux_annuels2!$B$4) -> 2 | E6: =COUNTIFS(Planning2!$B$4:$AF$4,E$5,Planning2!$B6:$AF6,$B$4) +COUNTIFS(Planning!$B$30:$AF$30,Totaux_annuels2!E$5,Planning!$B32:$AF32,Totaux_annuels2!$B$4) +COUNTIFS(Planning!$B$56:$AF$56,Totaux_annuels2!E$5,Planning!$B58:$AF58,Totaux_annuels2!$B$4) +COUNTIFS(Planning!$B$82:$AF$82,Totaux_annuels2!E$5,Planning!$B84:$AF84,Totaux_annuels2!$B$4) +COUNTIFS(Planning!$B$108:$AF$108,Totaux_annuels2!E$5,Planning!$B110:$AF110,Totaux_annuels2!$B$4) -> 9 | F6: =COUNTIFS(Planning2!$B$4:$AF$4,F$5,Planning2!$B6:$AF6,$B$4) +COUNTIFS(Planning!$B$30:$AF$30,Totaux_annuels2!F$5,Planning!$B32:$AF32,Totaux_annuels2!$B$4) +COUNTIFS(Planning!$B$56:$AF$56,Totaux_annuels2!F$5,Planning!$B58:$AF58,Totaux_annuels2!$B$4) +COUNTIFS(Planning!$B$82:$AF$82,Totaux_annuels2!F$5,Planning!$B84:$AF84,Totaux_annuels2!$B$4) +COUNTIFS(Planning!$B$108:$AF$108,Totaux_annuels2!F$5,Planning!$B110:$AF110,Totaux_annuels2!$B$4) -> 6 | G6: =COUNTIFS(Planning2!$B$4:$AF$4,G$5,Planning2!$B6:$AF6,$B$4) +COUNTIFS(Planning!$B$30:$AF$30,Totaux_annuels2!G$5,Planning!$B32:$AF32,Totaux_annuels2!$B$4) +COUNTIFS(Planning!$B$56:$AF$56,Totaux_annuels2!G$5,Planning!$B58:$AF58,Totaux_annuels2!$B$4) +COUNTIFS(Planning!$B$82:$AF$82,Totaux_annuels2!G$5,Planning!$B84:$AF84,Totaux_annuels2!$B$4) +COUNTIFS(Planning!$B$108:$AF$108,Totaux_annuels2!G$5,Planning!$B110:$AF110,Totaux_annuels2!$B$4) -> 1 | H6: =COUNTIFS(Planning2!$B$4:$AF$4,H$5,Planning2!$B6:$AF6,$B$4) +COUNTIFS(Planning!$B$30:$AF$30,Totaux_annuels2!H$5,Planning!$B32:$AF32,Totaux_annuels2!$B$4) +COUNTIFS(Planning!$B$56:$AF$56,Totaux_annuels2!H$5,Planning!$B58:$AF58,Totaux_annuels2!$B$4) +COUNTIFS(Planning!$B$82:$AF$82,Totaux_annuels2!H$5,Planning!$B84:$AF84,Totaux_annuels2!$B$4) +COUNTIFS(Planning!$B$108:$AF$108,Totaux_annuels2!H$5,Planning!$B110:$AF110,Totaux_annuels2!$B$4) -> 1
A7: =Planning2!A7 -> Agent 2 | B7: =COUNTIFS(Planning2!$B$4:$AF$4,B$5,Planning2!$B7:$AF7,$B$4) +COUNTIFS(Planning!$B$30:$AF$30,Totaux_annuels2!B$5,Planning!$B33:$AF33,Totaux_annuels2!$B$4) +COUNTIFS(Planning!$B$56:$AF$56,Totaux_annuels2!B$5,Planning!$B59:$AF59,Totaux_annuels2!$B$4) +COUNTIFS(Planning!$B$82:$AF$82,Totaux_annuels2!B$5,Planning!$B85:$AF85,Totaux_annuels2!$B$4) +COUNTIFS(Planning!$B$108:$AF$108,Totaux_annuels2!B$5,Planning!$B111:$AF111,Totaux_annuels2!$B$4) -> 2 | C7: =COUNTIFS(Planning2!$B$4:$AF$4,C$5,Planning2!$B7:$AF7,$B$4) +COUNTIFS(Planning!$B$30:$AF$30,Totaux_annuels2!C$5,Planning!$B33:$AF33,Totaux_annuels2!$B$4) +COUNTIFS(Planning!$B$56:$AF$56,Totaux_annuels2!C$5,Planning!$B59:$AF59,Totaux_annuels2!$B$4) +COUNTIFS(Planning!$B$82:$AF$82,Totaux_annuels2!C$5,Planning!$B85:$AF85,Totaux_annuels2!$B$4) +COUNTIFS(Planning!$B$108:$AF$108,Totaux_annuels2!C$5,Planning!$B111:$AF111,Totaux_annuels2!$B$4) -> 2 | D7: =COUNTIFS(Planning2!$B$4:$AF$4,D$5,Planning2!$B7:$AF7,$B$4) +COUNTIFS(Planning!$B$30:$AF$30,Totaux_annuels2!D$5,Planning!$B33:$AF33,Totaux_annuels2!$B$4) +COUNTIFS(Planning!$B$56:$AF$56,Totaux_annuels2!D$5,Planning!$B59:$AF59,Totaux_annuels2!$B$4) +COUNTIFS(Planning!$B$82:$AF$82,Totaux_annuels2!D$5,Planning!$B85:$AF85,Totaux_annuels2!$B$4) +COUNTIFS(Planning!$B$108:$AF$108,Totaux_annuels2!D$5,Planning!$B111:$AF111,Totaux_annuels2!$B$4) -> 0 | E7: =COUNTIFS(Planning2!$B$4:$AF$4,E$5,Planning2!$B7:$AF7,$B$4) +COUNTIFS(Planning!$B$30:$AF$30,Totaux_annuels2!E$5,Planning!$B33:$AF33,Totaux_annuels2!$B$4) +COUNTIFS(Planning!$B$56:$AF$56,Totaux_annuels2!E$5,Planning!$B59:$AF59,Totaux_annuels2!$B$4) +COUNTIFS(Planning!$B$82:$AF$82,Totaux_annuels2!E$5,Planning!$B85:$AF85,Totaux_annuels2!$B$4) +COUNTIFS(Planning!$B$108:$AF$108,Totaux_annuels2!E$5,Planning!$B111:$AF111,Totaux_annuels2!$B$4) -> 6 | F7: =COUNTIFS(Planning2!$B$4:$AF$4,F$5,Planning2!$B7:$AF7,$B$4) +COUNTIFS(Planning!$B$30:$AF$30,Totaux_annuels2!F$5,Planning!$B33:$AF33,Totaux_annuels2!$B$4) +COUNTIFS(Planning!$B$56:$AF$56,Totaux_annuels2!F$5,Planning!$B59:$AF59,Totaux_annuels2!$B$4) +COUNTIFS(Planning!$B$82:$AF$82,Totaux_annuels2!F$5,Planning!$B85:$AF85,Totaux_annuels2!$B$4) +COUNTIFS(Planning!$B$108:$AF$108,Totaux_annuels2!F$5,Planning!$B111:$AF111,Totaux_annuels2!$B$4) -> 0 | G7: =COUNTIFS(Planning2!$B$4:$AF$4,G$5,Planning2!$B7:$AF7,$B$4) +COUNTIFS(Planning!$B$30:$AF$30,Totaux_annuels2!G$5,Planning!$B33:$AF33,Totaux_annuels2!$B$4) +COUNTIFS(Planning!$B$56:$AF$56,Totaux_annuels2!G$5,Planning!$B59:$AF59,Totaux_annuels2!$B$4) +COUNTIFS(Planning!$B$82:$AF$82,Totaux_annuels2!G$5,Planning!$B85:$AF85,Totaux_annuels2!$B$4) +COUNTIFS(Planning!$B$108:$AF$108,Totaux_annuels2!G$5,Planning!$B111:$AF111,Totaux_annuels2!$B$4) -> 0 | H7: =COUNTIFS(Planning2!$B$4:$AF$4,H$5,Planning2!$B7:$AF7,$B$4) +COUNTIFS(Planning!$B$30:$AF$30,Totaux_annuels2!H$5,Planning!$B33:$AF33,Totaux_annuels2!$B$4) +COUNTIFS(Planning!$B$56:$AF$56,Totaux_annuels2!H$5,Planning!$B59:$AF59,Totaux_annuels2!$B$4) +COUNTIFS(Planning!$B$82:$AF$82,Totaux_annuels2!H$5,Planning!$B85:$AF85,Totaux_annuels2!$B$4) +COUNTIFS(Planning!$B$108:$AF$108,Totaux_annuels2!H$5,Planning!$B111:$AF111,Totaux_annuels2!$B$4) -> 0
A8: =Planning2!A8 -> Agent 3 | B8: =COUNTIFS(Planning2!$B$4:$AF$4,B$5,Planning2!$B8:$AF8,$B$4) +COUNTIFS(Planning!$B$30:$AF$30,Totaux_annuels2!B$5,Planning!$B34:$AF34,Totaux_annuels2!$B$4) +COUNTIFS(Planning!$B$56:$AF$56,Totaux_annuels2!B$5,Planning!$B60:$AF60,Totaux_annuels2!$B$4) +COUNTIFS(Planning!$B$82:$AF$82,Totaux_annuels2!B$5,Planning!$B86:$AF86,Totaux_annuels2!$B$4) +COUNTIFS(Planning!$B$108:$AF$108,Totaux_annuels2!B$5,Planning!$B112:$AF112,Totaux_annuels2!$B$4) -> 0 | C8: =COUNTIFS(Planning2!$B$4:$AF$4,C$5,Planning2!$B8:$AF8,$B$4) +COUNTIFS(Planning!$B$30:$AF$30,Totaux_annuels2!C$5,Planning!$B34:$AF34,Totaux_annuels2!$B$4) +COUNTIFS(Planning!$B$56:$AF$56,Totaux_annuels2!C$5,Planning!$B60:$AF60,Totaux_annuels2!$B$4) +COUNTIFS(Planning!$B$82:$AF$82,Totaux_annuels2!C$5,Planning!$B86:$AF86,Totaux_annuels2!$B$4) +COUNTIFS(Planning!$B$108:$AF$108,Totaux_annuels2!C$5,Planning!$B112:$AF112,Totaux_annuels2!$B$4) -> 0 | D8: =COUNTIFS(Planning2!$B$4:$AF$4,D$5,Planning2!$B8:$AF8,$B$4) +COUNTIFS(Planning!$B$30:$AF$30,Totaux_annuels2!D$5,Planning!$B34:$AF34,Totaux_annuels2!$B$4) +COUNTIFS(Planning!$B$56:$AF$56,Totaux_annuels2!D$5,Planning!$B60:$AF60,Totaux_annuels2!$B$4) +COUNTIFS(Planning!$B$82:$AF$82,Totaux_annuels2!D$5,Planning!$B86:$AF86,Totaux_annuels2!$B$4) +COUNTIFS(Planning!$B$108:$AF$108,Totaux_annuels2!D$5,Planning!$B112:$AF112,Totaux_annuels2!$B$4) -> 0 | E8: =COUNTIFS(Planning2!$B$4:$AF$4,E$5,Planning2!$B8:$AF8,$B$4) +COUNTIFS(Planning!$B$30:$AF$30,Totaux_annuels2!E$5,Planning!$B34:$AF34,Totaux_annuels2!$B$4) +COUNTIFS(Planning!$B$56:$AF$56,Totaux_annuels2!E$5,Planning!$B60:$AF60,Totaux_annuels2!$B$4) +COUNTIFS(Planning!$B$82:$AF$82,Totaux_annuels2!E$5,Planning!$B86:$AF86,Totaux_annuels2!$B$4) +COUNTIFS(Planning!$B$108:$AF$108,Totaux_annuels2!E$5,Planning!$B112:$AF112,Totaux_annuels2!$B$4) -> 0 | F8: =COUNTIFS(Planning2!$B$4:$AF$4,F$5,Planning2!$B8:$AF8,$B$4) +COUNTIFS(Planning!$B$30:$AF$30,Totaux_annuels2!F$5,Planning!$B34:$AF34,Totaux_annuels2!$B$4) +COUNTIFS(Planning!$B$56:$AF$56,Totaux_annuels2!F$5,Planning!$B60:$AF60,Totaux_annuels2!$B$4) +COUNTIFS(Planning!$B$82:$AF$82,Totaux_annuels2!F$5,Planning!$B86:$AF86,Totaux_annuels2!$B$4) +COUNTIFS(Planning!$B$108:$AF$108,Totaux_annuels2!F$5,Planning!$B112:$AF112,Totaux_annuels2!$B$4) -> 0 | G8: =COUNTIFS(Planning2!$B$4:$AF$4,G$5,Planning2!$B8:$AF8,$B$4) +COUNTIFS(Planning!$B$30:$AF$30,Totaux_annuels2!G$5,Planning!$B34:$AF34,Totaux_annuels2!$B$4) +COUNTIFS(Planning!$B$56:$AF$56,Totaux_annuels2!G$5,Planning!$B60:$AF60,Totaux_annuels2!$B$4) +COUNTIFS(Planning!$B$82:$AF$82,Totaux_annuels2!G$5,Planning!$B86:$AF86,Totaux_annuels2!$B$4) +COUNTIFS(Planning!$B$108:$AF$108,Totaux_annuels2!G$5,Planning!$B112:$AF112,Totaux_annuels2!$B$4) -> 0 | H8: =COUNTIFS(Planning2!$B$4:$AF$4,H$5,Planning2!$B8:$AF8,$B$4) +COUNTIFS(Planning!$B$30:$AF$30,Totaux_annuels2!H$5,Planning!$B34:$AF34,Totaux_annuels2!$B$4) +COUNTIFS(Planning!$B$56:$AF$56,Totaux_annuels2!H$5,Planning!$B60:$AF60,Totaux_annuels2!$B$4) +COUNTIFS(Planning!$B$82:$AF$82,Totaux_annuels2!H$5,Planning!$B86:$AF86,Totaux_annuels2!$B$4) +COUNTIFS(Planning!$B$108:$AF$108,Totaux_annuels2!H$5,Planning!$B112:$AF112,Totaux_annuels2!$B$4) -> 0
A9: =Planning2!A9 -> Agent 4 | B9: =COUNTIFS(Planning2!$B$4:$AF$4,B$5,Planning2!$B9:$AF9,$B$4) +COUNTIFS(Planning!$B$30:$AF$30,Totaux_annuels2!B$5,Planning!$B35:$AF35,Totaux_annuels2!$B$4) +COUNTIFS(Planning!$B$56:$AF$56,Totaux_annuels2!B$5,Planning!$B61:$AF61,Totaux_annuels2!$B$4) +COUNTIFS(Planning!$B$82:$AF$82,Totaux_annuels2!B$5,Planning!$B87:$AF87,Totaux_annuels2!$B$4) +COUNTIFS(Planning!$B$108:$AF$108,Totaux_annuels2!B$5,Planning!$B113:$AF113,Totaux_annuels2!$B$4) -> 0 | C9: =COUNTIFS(Planning2!$B$4:$AF$4,C$5,Planning2!$B9:$AF9,$B$4) +COUNTIFS(Planning!$B$30:$AF$30,Totaux_annuels2!C$5,Planning!$B35:$AF35,Totaux_annuels2!$B$4) +COUNTIFS(Planning!$B$56:$AF$56,Totaux_annuels2!C$5,Planning!$B61:$AF61,Totaux_annuels2!$B$4) +COUNTIFS(Planning!$B$82:$AF$82,Totaux_annuels2!C$5,Planning!$B87:$AF87,Totaux_annuels2!$B$4) +COUNTIFS(Planning!$B$108:$AF$108,Totaux_annuels2!C$5,Planning!$B113:$AF113,Totaux_annuels2!$B$4) -> 0 | D9: =COUNTIFS(Planning2!$B$4:$AF$4,D$5,Planning2!$B9:$AF9,$B$4) +COUNTIFS(Planning!$B$30:$AF$30,Totaux_annuels2!D$5,Planning!$B35:$AF35,Totaux_annuels2!$B$4) +COUNTIFS(Planning!$B$56:$AF$56,Totaux_annuels2!D$5,Planning!$B61:$AF61,Totaux_annuels2!$B$4) +COUNTIFS(Planning!$B$82:$AF$82,Totaux_annuels2!D$5,Planning!$B87:$AF87,Totaux_annuels2!$B$4) +COUNTIFS(Planning!$B$108:$AF$108,Totaux_annuels2!D$5,Planning!$B113:$AF113,Totaux_annuels2!$B$4) -> 0 | E9: =COUNTIFS(Planning2!$B$4:$AF$4,E$5,Planning2!$B9:$AF9,$B$4) +COUNTIFS(Planning!$B$30:$AF$30,Totaux_annuels2!E$5,Planning!$B35:$AF35,Totaux_annuels2!$B$4) +COUNTIFS(Planning!$B$56:$AF$56,Totaux_annuels2!E$5,Planning!$B61:$AF61,Totaux_annuels2!$B$4) +COUNTIFS(Planning!$B$82:$AF$82,Totaux_annuels2!E$5,Planning!$B87:$AF87,Totaux_annuels2!$B$4) +COUNTIFS(Planning!$B$108:$AF$108,Totaux_annuels2!E$5,Planning!$B113:$AF113,Totaux_annuels2!$B$4) -> 0 | F9: =COUNTIFS(Planning2!$B$4:$AF$4,F$5,Planning2!$B9:$AF9,$B$4) +COUNTIFS(Planning!$B$30:$AF$30,Totaux_annuels2!F$5,Planning!$B35:$AF35,Totaux_annuels2!$B$4) +COUNTIFS(Planning!$B$56:$AF$56,Totaux_annuels2!F$5,Planning!$B61:$AF61,Totaux_annuels2!$B$4) +COUNTIFS(Planning!$B$82:$AF$82,Totaux_annuels2!F$5,Planning!$B87:$AF87,Totaux_annuels2!$B$4) +COUNTIFS(Planning!$B$108:$AF$108,Totaux_annuels2!F$5,Planning!$B113:$AF113,Totaux_annuels2!$B$4) -> 0 | G9: =COUNTIFS(Planning2!$B$4:$AF$4,G$5,Planning2!$B9:$AF9,$B$4) +COUNTIFS(Planning!$B$30:$AF$30,Totaux_annuels2!G$5,Planning!$B35:$AF35,Totaux_annuels2!$B$4) +COUNTIFS(Planning!$B$56:$AF$56,Totaux_annuels2!G$5,Planning!$B61:$AF61,Totaux_annuels2!$B$4) +COUNTIFS(Planning!$B$82:$AF$82,Totaux_annuels2!G$5,Planning!$B87:$AF87,Totaux_annuels2!$B$4) +COUNTIFS(Planning!$B$108:$AF$108,Totaux_annuels2!G$5,Planning!$B113:$AF113,Totaux_annuels2!$B$4) -> 0 | H9: =COUNTIFS(Planning2!$B$4:$AF$4,H$5,Planning2!$B9:$AF9,$B$4) +COUNTIFS(Planning!$B$30:$AF$30,Totaux_annuels2!H$5,Planning!$B35:$AF35,Totaux_annuels2!$B$4) +COUNTIFS(Planning!$B$56:$AF$56,Totaux_annuels2!H$5,Planning!$B61:$AF61,Totaux_annuels2!$B$4) +COUNTIFS(Planning!$B$82:$AF$82,Totaux_annuels2!H$5,Planning!$B87:$AF87,Totaux_annuels2!$B$4) +COUNTIFS(Planning!$B$108:$AF$108,Totaux_annuels2!H$5,Planning!$B113:$AF113,Totaux_annuels2!$B$4) -> 0
A10: =Planning2!A10 -> Agent 5 | B10: =COUNTIFS(Planning2!$B$4:$AF$4,B$5,Planning2!$B10:$AF10,$B$4) +COUNTIFS(Planning!$B$30:$AF$30,Totaux_annuels2!B$5,Planning!$B36:$AF36,Totaux_annuels2!$B$4) +COUNTIFS(Planning!$B$56:$AF$56,Totaux_annuels2!B$5,Planning!$B62:$AF62,Totaux_annuels2!$B$4) +COUNTIFS(Planning!$B$82:$AF$82,Totaux_annuels2!B$5,Planning!$B88:$AF88,Totaux_annuels2!$B$4) +COUNTIFS(Planning!$B$108:$AF$108,Totaux_annuels2!B$5,Planning!$B114:$AF114,Totaux_annuels2!$B$4) -> 0 | C10: =COUNTIFS(Planning2!$B$4:$AF$4,C$5,Planning2!$B10:$AF10,$B$4) +COUNTIFS(Planning!$B$30:$AF$30,Totaux_annuels2!C$5,Planning!$B36:$AF36,Totaux_annuels2!$B$4) +COUNTIFS(Planning!$B$56:$AF$56,Totaux_annuels2!C$5,Planning!$B62:$AF62,Totaux_annuels2!$B$4) +COUNTIFS(Planning!$B$82:$AF$82,Totaux_annuels2!C$5,Planning!$B88:$AF88,Totaux_annuels2!$B$4) +COUNTIFS(Planning!$B$108:$AF$108,Totaux_annuels2!C$5,Planning!$B114:$AF114,Totaux_annuels2!$B$4) -> 0 | D10: =COUNTIFS(Planning2!$B$4:$AF$4,D$5,Planning2!$B10:$AF10,$B$4) +COUNTIFS(Planning!$B$30:$AF$30,Totaux_annuels2!D$5,Planning!$B36:$AF36,Totaux_annuels2!$B$4) +COUNTIFS(Planning!$B$56:$AF$56,Totaux_annuels2!D$5,Planning!$B62:$AF62,Totaux_annuels2!$B$4) +COUNTIFS(Planning!$B$82:$AF$82,Totaux_annuels2!D$5,Planning!$B88:$AF88,Totaux_annuels2!$B$4) +COUNTIFS(Planning!$B$108:$AF$108,Totaux_annuels2!D$5,Planning!$B114:$AF114,Totaux_annuels2!$B$4) -> 0 | E10: =COUNTIFS(Planning2!$B$4:$AF$4,E$5,Planning2!$B10:$AF10,$B$4) +COUNTIFS(Planning!$B$30:$AF$30,Totaux_annuels2!E$5,Planning!$B36:$AF36,Totaux_annuels2!$B$4) +COUNTIFS(Planning!$B$56:$AF$56,Totaux_annuels2!E$5,Planning!$B62:$AF62,Totaux_annuels2!$B$4) +COUNTIFS(Planning!$B$82:$AF$82,Totaux_annuels2!E$5,Planning!$B88:$AF88,Totaux_annuels2!$B$4) +COUNTIFS(Planning!$B$108:$AF$108,Totaux_annuels2!E$5,Planning!$B114:$AF114,Totaux_annuels2!$B$4) -> 0 | F10: =COUNTIFS(Planning2!$B$4:$AF$4,F$5,Planning2!$B10:$AF10,$B$4) +COUNTIFS(Planning!$B$30:$AF$30,Totaux_annuels2!F$5,Planning!$B36:$AF36,Totaux_annuels2!$B$4) +COUNTIFS(Planning!$B$56:$AF$56,Totaux_annuels2!F$5,Planning!$B62:$AF62,Totaux_annuels2!$B$4) +COUNTIFS(Planning!$B$82:$AF$82,Totaux_annuels2!F$5,Planning!$B88:$AF88,Totaux_annuels2!$B$4) +COUNTIFS(Planning!$B$108:$AF$108,Totaux_annuels2!F$5,Planning!$B114:$AF114,Totaux_annuels2!$B$4) -> 0 | G10: =COUNTIFS(Planning2!$B$4:$AF$4,G$5,Planning2!$B10:$AF10,$B$4) +COUNTIFS(Planning!$B$30:$AF$30,Totaux_annuels2!G$5,Planning!$B36:$AF36,Totaux_annuels2!$B$4) +COUNTIFS(Planning!$B$56:$AF$56,Totaux_annuels2!G$5,Planning!$B62:$AF62,Totaux_annuels2!$B$4) +COUNTIFS(Planning!$B$82:$AF$82,Totaux_annuels2!G$5,Planning!$B88:$AF88,Totaux_annuels2!$B$4) +COUNTIFS(Planning!$B$108:$AF$108,Totaux_annuels2!G$5,Planning!$B114:$AF114,Totaux_annuels2!$B$4) -> 0 | H10: =COUNTIFS(Planning2!$B$4:$AF$4,H$5,Planning2!$B10:$AF10,$B$4) +COUNTIFS(Planning!$B$30:$AF$30,Totaux_annuels2!H$5,Planning!$B36:$AF36,Totaux_annuels2!$B$4) +COUNTIFS(Planning!$B$56:$AF$56,Totaux_annuels2!H$5,Planning!$B62:$AF62,Totaux_annuels2!$B$4) +COUNTIFS(Planning!$B$82:$AF$82,Totaux_annuels2!H$5,Planning!$B88:$AF88,Totaux_annuels2!$B$4) +COUNTIFS(Planning!$B$108:$AF$108,Totaux_annuels2!H$5,Planning!$B114:$AF114,Totaux_annuels2!$B$4) -> 0
A11: =Planning2!A11 -> Agent 6 | B11: =COUNTIFS(Planning2!$B$4:$AF$4,B$5,Planning2!$B11:$AF11,$B$4) +COUNTIFS(Planning!$B$30:$AF$30,Totaux_annuels2!B$5,Planning!$B37:$AF37,Totaux_annuels2!$B$4) +COUNTIFS(Planning!$B$56:$AF$56,Totaux_annuels2!B$5,Planning!$B63:$AF63,Totaux_annuels2!$B$4) +COUNTIFS(Planning!$B$82:$AF$82,Totaux_annuels2!B$5,Planning!$B89:$AF89,Totaux_annuels2!$B$4) +COUNTIFS(Planning!$B$108:$AF$108,Totaux_annuels2!B$5,Planning!$B115:$AF115,Totaux_annuels2!$B$4) -> 0 | C11: =COUNTIFS(Planning2!$B$4:$AF$4,C$5,Planning2!$B11:$AF11,$B$4) +COUNTIFS(Planning!$B$30:$AF$30,Totaux_annuels2!C$5,Planning!$B37:$AF37,Totaux_annuels2!$B$4) +COUNTIFS(Planning!$B$56:$AF$56,Totaux_annuels2!C$5,Planning!$B63:$AF63,Totaux_annuels2!$B$4) +COUNTIFS(Planning!$B$82:$AF$82,Totaux_annuels2!C$5,Planning!$B89:$AF89,Totaux_annuels2!$B$4) +COUNTIFS(Planning!$B$108:$AF$108,Totaux_annuels2!C$5,Planning!$B115:$AF115,Totaux_annuels2!$B$4) -> 0 | D11: =COUNTIFS(Planning2!$B$4:$AF$4,D$5,Planning2!$B11:$AF11,$B$4) +COUNTIFS(Planning!$B$30:$AF$30,Totaux_annuels2!D$5,Planning!$B37:$AF37,Totaux_annuels2!$B$4) +COUNTIFS(Planning!$B$56:$AF$56,Totaux_annuels2!D$5,Planning!$B63:$AF63,Totaux_annuels2!$B$4) +COUNTIFS(Planning!$B$82:$AF$82,Totaux_annuels2!D$5,Planning!$B89:$AF89,Totaux_annuels2!$B$4) +COUNTIFS(Planning!$B$108:$AF$108,Totaux_annuels2!D$5,Planning!$B115:$AF115,Totaux_annuels2!$B$4) -> 0 | E11: =COUNTIFS(Planning2!$B$4:$AF$4,E$5,Planning2!$B11:$AF11,$B$4) +COUNTIFS(Planning!$B$30:$AF$30,Totaux_annuels2!E$5,Planning!$B37:$AF37,Totaux_annuels2!$B$4) +COUNTIFS(Planning!$B$56:$AF$56,Totaux_annuels2!E$5,Planning!$B63:$AF63,Totaux_annuels2!$B$4) +COUNTIFS(Planning!$B$82:$AF$82,Totaux_annuels2!E$5,Planning!$B89:$AF89,Totaux_annuels2!$B$4) +COUNTIFS(Planning!$B$108:$AF$108,Totaux_annuels2!E$5,Planning!$B115:$AF115,Totaux_annuels2!$B$4) -> 0 | F11: =COUNTIFS(Planning2!$B$4:$AF$4,F$5,Planning2!$B11:$AF11,$B$4) +COUNTIFS(Planning!$B$30:$AF$30,Totaux_annuels2!F$5,Planning!$B37:$AF37,Totaux_annuels2!$B$4) +COUNTIFS(Planning!$B$56:$AF$56,Totaux_annuels2!F$5,Planning!$B63:$AF63,Totaux_annuels2!$B$4) +COUNTIFS(Planning!$B$82:$AF$82,Totaux_annuels2!F$5,Planning!$B89:$AF89,Totaux_annuels2!$B$4) +COUNTIFS(Planning!$B$108:$AF$108,Totaux_annuels2!F$5,Planning!$B115:$AF115,Totaux_annuels2!$B$4) -> 0 | G11: =COUNTIFS(Planning2!$B$4:$AF$4,G$5,Planning2!$B11:$AF11,$B$4) +COUNTIFS(Planning!$B$30:$AF$30,Totaux_annuels2!G$5,Planning!$B37:$AF37,Totaux_annuels2!$B$4) +COUNTIFS(Planning!$B$56:$AF$56,Totaux_annuels2!G$5,Planning!$B63:$AF63,Totaux_annuels2!$B$4) +COUNTIFS(Planning!$B$82:$AF$82,Totaux_annuels2!G$5,Planning!$B89:$AF89,Totaux_annuels2!$B$4) +COUNTIFS(Planning!$B$108:$AF$108,Totaux_annuels2!G$5,Planning!$B115:$AF115,Totaux_annuels2!$B$4) -> 0 | H11: =COUNTIFS(Planning2!$B$4:$AF$4,H$5,Planning2!$B11:$AF11,$B$4) +COUNTIFS(Planning!$B$30:$AF$30,Totaux_annuels2!H$5,Planning!$B37:$AF37,Totaux_annuels2!$B$4) +COUNTIFS(Planning!$B$56:$AF$56,Totaux_annuels2!H$5,Planning!$B63:$AF63,Totaux_annuels2!$B$4) +COUNTIFS(Planning!$B$82:$AF$82,Totaux_annuels2!H$5,Planning!$B89:$AF89,Totaux_annuels2!$B$4) +COUNTIFS(Planning!$B$108:$AF$108,Totaux_annuels2!H$5,Planning!$B115:$AF115,Totaux_annuels2!$B$4) -> 0
A12: =Planning2!A12 -> Agent 7 | B12: =COUNTIFS(Planning2!$B$4:$AF$4,B$5,Planning2!$B12:$AF12,$B$4) +COUNTIFS(Planning!$B$30:$AF$30,Totaux_annuels2!B$5,Planning!$B38:$AF38,Totaux_annuels2!$B$4) +COUNTIFS(Planning!$B$56:$AF$56,Totaux_annuels2!B$5,Planning!$B64:$AF64,Totaux_annuels2!$B$4) +COUNTIFS(Planning!$B$82:$AF$82,Totaux_annuels2!B$5,Planning!$B90:$AF90,Totaux_annuels2!$B$4) +COUNTIFS(Planning!$B$108:$AF$108,Totaux_annuels2!B$5,Planning!$B116:$AF116,Totaux_annuels2!$B$4) -> 0 | C12: =COUNTIFS(Planning2!$B$4:$AF$4,C$5,Planning2!$B12:$AF12,$B$4) +COUNTIFS(Planning!$B$30:$AF$30,Totaux_annuels2!C$5,Planning!$B38:$AF38,Totaux_annuels2!$B$4) +COUNTIFS(Planning!$B$56:$AF$56,Totaux_annuels2!C$5,Planning!$B64:$AF64,Totaux_annuels2!$B$4) +COUNTIFS(Planning!$B$82:$AF$82,Totaux_annuels2!C$5,Planning!$B90:$AF90,Totaux_annuels2!$B$4) +COUNTIFS(Planning!$B$108:$AF$108,Totaux_annuels2!C$5,Planning!$B116:$AF116,Totaux_annuels2!$B$4) -> 9 | D12: =COUNTIFS(Planning2!$B$4:$AF$4,D$5,Planning2!$B12:$AF12,$B$4) +COUNTIFS(Planning!$B$30:$AF$30,Totaux_annuels2!D$5,Planning!$B38:$AF38,Totaux_annuels2!$B$4) +COUNTIFS(Planning!$B$56:$AF$56,Totaux_annuels2!D$5,Planning!$B64:$AF64,Totaux_annuels2!$B$4) +COUNTIFS(Planning!$B$82:$AF$82,Totaux_annuels2!D$5,Planning!$B90:$AF90,Totaux_annuels2!$B$4) +COUNTIFS(Planning!$B$108:$AF$108,Totaux_annuels2!D$5,Planning!$B116:$AF116,Totaux_annuels2!$B$4) -> 0 | E12: =COUNTIFS(Planning2!$B$4:$AF$4,E$5,Planning2!$B12:$AF12,$B$4) +COUNTIFS(Planning!$B$30:$AF$30,Totaux_annuels2!E$5,Planning!$B38:$AF38,Totaux_annuels2!$B$4) +COUNTIFS(Planning!$B$56:$AF$56,Totaux_annuels2!E$5,Planning!$B64:$AF64,Totaux_annuels2!$B$4) +COUNTIFS(Planning!$B$82:$AF$82,Totaux_annuels2!E$5,Planning!$B90:$AF90,Totaux_annuels2!$B$4) +COUNTIFS(Planning!$B$108:$AF$108,Totaux_annuels2!E$5,Planning!$B116:$AF116,Totaux_annuels2!$B$4) -> 0 | F12: =COUNTIFS(Planning2!$B$4:$AF$4,F$5,Planning2!$B12:$AF12,$B$4) +COUNTIFS(Planning!$B$30:$AF$30,Totaux_annuels2!F$5,Planning!$B38:$AF38,Totaux_annuels2!$B$4) +COUNTIFS(Planning!$B$56:$AF$56,Totaux_annuels2!F$5,Planning!$B64:$AF64,Totaux_annuels2!$B$4) +COUNTIFS(Planning!$B$82:$AF$82,Totaux_annuels2!F$5,Planning!$B90:$AF90,Totaux_annuels2!$B$4) +COUNTIFS(Planning!$B$108:$AF$108,Totaux_annuels2!F$5,Planning!$B116:$AF116,Totaux_annuels2!$B$4) -> 0 | G12: =COUNTIFS(Planning2!$B$4:$AF$4,G$5,Planning2!$B12:$AF12,$B$4) +COUNTIFS(Planning!$B$30:$AF$30,Totaux_annuels2!G$5,Planning!$B38:$AF38,Totaux_annuels2!$B$4) +COUNTIFS(Planning!$B$56:$AF$56,Totaux_annuels2!G$5,Planning!$B64:$AF64,Totaux_annuels2!$B$4) +COUNTIFS(Planning!$B$82:$AF$82,Totaux_annuels2!G$5,Planning!$B90:$AF90,Totaux_annuels2!$B$4) +COUNTIFS(Planning!$B$108:$AF$108,Totaux_annuels2!G$5,Planning!$B116:$AF116,Totaux_annuels2!$B$4) -> 3 | H12: =COUNTIFS(Planning2!$B$4:$AF$4,H$5,Planning2!$B12:$AF12,$B$4) +COUNTIFS(Planning!$B$30:$AF$30,Totaux_annuels2!H$5,Planning!$B38:$AF38,Totaux_annuels2!$B$4) +COUNTIFS(Planning!$B$56:$AF$56,Totaux_annuels2!H$5,Planning!$B64:$AF64,Totaux_annuels2!$B$4) +COUNTIFS(Planning!$B$82:$AF$82,Totaux_annuels2!H$5,Planning!$B90:$AF90,Totaux_annuels2!$B$4) +COUNTIFS(Planning!$B$108:$AF$108,Totaux_annuels2!H$5,Planning!$B116:$AF116,Totaux_annuels2!$B$4) -> 3
A13: =Planning2!A13 -> Agent 8 | B13: =COUNTIFS(Planning2!$B$4:$AF$4,B$5,Planning2!$B13:$AF13,$B$4) +COUNTIFS(Planning!$B$30:$AF$30,Totaux_annuels2!B$5,Planning!$B39:$AF39,Totaux_annuels2!$B$4) +COUNTIFS(Planning!$B$56:$AF$56,Totaux_annuels2!B$5,Planning!$B65:$AF65,Totaux_annuels2!$B$4) +COUNTIFS(Planning!$B$82:$AF$82,Totaux_annuels2!B$5,Planning!$B91:$AF91,Totaux_annuels2!$B$4) +COUNTIFS(Planning!$B$108:$AF$108,Totaux_annuels2!B$5,Planning!$B117:$AF117,Totaux_annuels2!$B$4) -> 0 | C13: =COUNTIFS(Planning2!$B$4:$AF$4,C$5,Planning2!$B13:$AF13,$B$4) +COUNTIFS(Planning!$B$30:$AF$30,Totaux_annuels2!C$5,Planning!$B39:$AF39,Totaux_annuels2!$B$4) +COUNTIFS(Planning!$B$56:$AF$56,Totaux_annuels2!C$5,Planning!$B65:$AF65,Totaux_annuels2!$B$4) +COUNTIFS(Planning!$B$82:$AF$82,Totaux_annuels2!C$5,Planning!$B91:$AF91,Totaux_annuels2!$B$4) +COUNTIFS(Planning!$B$108:$AF$108,Totaux_annuels2!C$5,Planning!$B117:$AF117,Totaux_annuels2!$B$4) -> 0 | D13: =COUNTIFS(Planning2!$B$4:$AF$4,D$5,Planning2!$B13:$AF13,$B$4) +COUNTIFS(Planning!$B$30:$AF$30,Totaux_annuels2!D$5,Planning!$B39:$AF39,Totaux_annuels2!$B$4) +COUNTIFS(Planning!$B$56:$AF$56,Totaux_annuels2!D$5,Planning!$B65:$AF65,Totaux_annuels2!$B$4) +COUNTIFS(Planning!$B$82:$AF$82,Totaux_annuels2!D$5,Planning!$B91:$AF91,Totaux_annuels2!$B$4) +COUNTIFS(Planning!$B$108:$AF$108,Totaux_annuels2!D$5,Planning!$B117:$AF117,Totaux_annuels2!$B$4) -> 0 | E13: =COUNTIFS(Planning2!$B$4:$AF$4,E$5,Planning2!$B13:$AF13,$B$4) +COUNTIFS(Planning!$B$30:$AF$30,Totaux_annuels2!E$5,Planning!$B39:$AF39,Totaux_annuels2!$B$4) +COUNTIFS(Planning!$B$56:$AF$56,Totaux_annuels2!E$5,Planning!$B65:$AF65,Totaux_annuels2!$B$4) +COUNTIFS(Planning!$B$82:$AF$82,Totaux_annuels2!E$5,Planning!$B91:$AF91,Totaux_annuels2!$B$4) +COUNTIFS(Planning!$B$108:$AF$108,Totaux_annuels2!E$5,Planning!$B117:$AF117,Totaux_annuels2!$B$4) -> 0 | F13: =COUNTIFS(Planning2!$B$4:$AF$4,F$5,Planning2!$B13:$AF13,$B$4) +COUNTIFS(Planning!$B$30:$AF$30,Totaux_annuels2!F$5,Planning!$B39:$AF39,Totaux_annuels2!$B$4) +COUNTIFS(Planning!$B$56:$AF$56,Totaux_annuels2!F$5,Planning!$B65:$AF65,Totaux_annuels2!$B$4) +COUNTIFS(Planning!$B$82:$AF$82,Totaux_annuels2!F$5,Planning!$B91:$AF91,Totaux_annuels2!$B$4) +COUNTIFS(Planning!$B$108:$AF$108,Totaux_annuels2!F$5,Planning!$B117:$AF117,Totaux_annuels2!$B$4) -> 0 | G13: =COUNTIFS(Planning2!$B$4:$AF$4,G$5,Planning2!$B13:$AF13,$B$4) +COUNTIFS(Planning!$B$30:$AF$30,Totaux_annuels2!G$5,Planning!$B39:$AF39,Totaux_annuels2!$B$4) +COUNTIFS(Planning!$B$56:$AF$56,Totaux_annuels2!G$5,Planning!$B65:$AF65,Totaux_annuels2!$B$4) +COUNTIFS(Planning!$B$82:$AF$82,Totaux_annuels2!G$5,Planning!$B91:$AF91,Totaux_annuels2!$B$4) +COUNTIFS(Planning!$B$108:$AF$108,Totaux_annuels2!G$5,Planning!$B117:$AF117,Totaux_annuels2!$B$4) -> 0 | H13: =COUNTIFS(Planning2!$B$4:$AF$4,H$5,Planning2!$B13:$AF13,$B$4) +COUNTIFS(Planning!$B$30:$AF$30,Totaux_annuels2!H$5,Planning!$B39:$AF39,Totaux_annuels2!$B$4) +COUNTIFS(Planning!$B$56:$AF$56,Totaux_annuels2!H$5,Planning!$B65:$AF65,Totaux_annuels2!$B$4) +COUNTIFS(Planning!$B$82:$AF$82,Totaux_annuels2!H$5,Planning!$B91:$AF91,Totaux_annuels2!$B$4) +COUNTIFS(Planning!$B$108:$AF$108,Totaux_annuels2!H$5,Planning!$B117:$AF117,Totaux_annuels2!$B$4) -> 0
A14: =Planning2!A14 -> Agent 9 | B14: =COUNTIFS(Planning2!$B$4:$AF$4,B$5,Planning2!$B14:$AF14,$B$4) +COUNTIFS(Planning!$B$30:$AF$30,Totaux_annuels2!B$5,Planning!$B40:$AF40,Totaux_annuels2!$B$4) +COUNTIFS(Planning!$B$56:$AF$56,Totaux_annuels2!B$5,Planning!$B66:$AF66,Totaux_annuels2!$B$4) +COUNTIFS(Planning!$B$82:$AF$82,Totaux_annuels2!B$5,Planning!$B92:$AF92,Totaux_annuels2!$B$4) +COUNTIFS(Planning!$B$108:$AF$108,Totaux_annuels2!B$5,Planning!$B118:$AF118,Totaux_annuels2!$B$4) -> 1 | C14: =COUNTIFS(Planning2!$B$4:$AF$4,C$5,Planning2!$B14:$AF14,$B$4) +COUNTIFS(Planning!$B$30:$AF$30,Totaux_annuels2!C$5,Planning!$B40:$AF40,Totaux_annuels2!$B$4) +COUNTIFS(Planning!$B$56:$AF$56,Totaux_annuels2!C$5,Planning!$B66:$AF66,Totaux_annuels2!$B$4) +COUNTIFS(Planning!$B$82:$AF$82,Totaux_annuels2!C$5,Planning!$B92:$AF92,Totaux_annuels2!$B$4) +COUNTIFS(Planning!$B$108:$AF$108,Totaux_annuels2!C$5,Planning!$B118:$AF118,Totaux_annuels2!$B$4) -> 1 | D14: =COUNTIFS(Planning2!$B$4:$AF$4,D$5,Planning2!$B14:$AF14,$B$4) +COUNTIFS(Planning!$B$30:$AF$30,Totaux_annuels2!D$5,Planning!$B40:$AF40,Totaux_annuels2!$B$4) +COUNTIFS(Planning!$B$56:$AF$56,Totaux_annuels2!D$5,Planning!$B66:$AF66,Totaux_annuels2!$B$4) +COUNTIFS(Planning!$B$82:$AF$82,Totaux_annuels2!D$5,Planning!$B92:$AF92,Totaux_annuels2!$B$4) +COUNTIFS(Planning!$B$108:$AF$108,Totaux_annuels2!D$5,Planning!$B118:$AF118,Totaux_annuels2!$B$4) -> 0 | E14: =COUNTIFS(Planning2!$B$4:$AF$4,E$5,Planning2!$B14:$AF14,$B$4) +COUNTIFS(Planning!$B$30:$AF$30,Totaux_annuels2!E$5,Planning!$B40:$AF40,Totaux_annuels2!$B$4) +COUNTIFS(Planning!$B$56:$AF$56,Totaux_annuels2!E$5,Planning!$B66:$AF66,Totaux_annuels2!$B$4) +COUNTIFS(Planning!$B$82:$AF$82,Totaux_annuels2!E$5,Planning!$B92:$AF92,Totaux_annuels2!$B$4) +COUNTIFS(Planning!$B$108:$AF$108,Totaux_annuels2!E$5,Planning!$B118:$AF118,Totaux_annuels2!$B$4) -> 4 | F14: =COUNTIFS(Planning2!$B$4:$AF$4,F$5,Planning2!$B14:$AF14,$B$4) +COUNTIFS(Planning!$B$30:$AF$30,Totaux_annuels2!F$5,Planning!$B40:$AF40,Totaux_annuels2!$B$4) +COUNTIFS(Planning!$B$56:$AF$56,Totaux_annuels2!F$5,Planning!$B66:$AF66,Totaux_annuels2!$B$4) +COUNTIFS(Planning!$B$82:$AF$82,Totaux_annuels2!F$5,Planning!$B92:$AF92,Totaux_annuels2!$B$4) +COUNTIFS(Planning!$B$108:$AF$108,Totaux_annuels2!F$5,Planning!$B118:$AF118,Totaux_annuels2!$B$4) -> 1 | G14: =COUNTIFS(Planning2!$B$4:$AF$4,G$5,Planning2!$B14:$AF14,$B$4) +COUNTIFS(Planning!$B$30:$AF$30,Totaux_annuels2!G$5,Planning!$B40:$AF40,Totaux_annuels2!$B$4) +COUNTIFS(Planning!$B$56:$AF$56,Totaux_annuels2!G$5,Planning!$B66:$AF66,Totaux_annuels2!$B$4) +COUNTIFS(Planning!$B$82:$AF$82,Totaux_annuels2!G$5,Planning!$B92:$AF92,Totaux_annuels2!$B$4) +COUNTIFS(Planning!$B$108:$AF$108,Totaux_annuels2!G$5,Planning!$B118:$AF118,Totaux_annuels2!$B$4) -> 0 | H14: =COUNTIFS(Planning2!$B$4:$AF$4,H$5,Planning2!$B14:$AF14,$B$4) +COUNTIFS(Planning!$B$30:$AF$30,Totaux_annuels2!H$5,Planning!$B40:$AF40,Totaux_annuels2!$B$4) +COUNTIFS(Planning!$B$56:$AF$56,Totaux_annuels2!H$5,Planning!$B66:$AF66,Totaux_annuels2!$B$4) +COUNTIFS(Planning!$B$82:$AF$82,Totaux_annuels2!H$5,Planning!$B92:$AF92,Totaux_annuels2!$B$4) +COUNTIFS(Planning!$B$108:$AF$108,Totaux_annuels2!H$5,Planning!$B118:$AF118,Totaux_annuels2!$B$4) -> 3
A15: =Planning2!A15 -> Agent 10 | B15: =COUNTIFS(Planning2!$B$4:$AF$4,B$5,Planning2!$B15:$AF15,$B$4) +COUNTIFS(Planning!$B$30:$AF$30,Totaux_annuels2!B$5,Planning!$B41:$AF41,Totaux_annuels2!$B$4) +COUNTIFS(Planning!$B$56:$AF$56,Totaux_annuels2!B$5,Planning!$B67:$AF67,Totaux_annuels2!$B$4) +COUNTIFS(Planning!$B$82:$AF$82,Totaux_annuels2!B$5,Planning!$B93:$AF93,Totaux_annuels2!$B$4) +COUNTIFS(Planning!$B$108:$AF$108,Totaux_annuels2!B$5,Planning!$B119:$AF119,Totaux_annuels2!$B$4) -> 1 | C15: =COUNTIFS(Planning2!$B$4:$AF$4,C$5,Planning2!$B15:$AF15,$B$4) +COUNTIFS(Planning!$B$30:$AF$30,Totaux_annuels2!C$5,Planning!$B41:$AF41,Totaux_annuels2!$B$4) +COUNTIFS(Planning!$B$56:$AF$56,Totaux_annuels2!C$5,Planning!$B67:$AF67,Totaux_annuels2!$B$4) +COUNTIFS(Planning!$B$82:$AF$82,Totaux_annuels2!C$5,Planning!$B93:$AF93,Totaux_annuels2!$B$4) +COUNTIFS(Planning!$B$108:$AF$108,Totaux_annuels2!C$5,Planning!$B119:$AF119,Totaux_annuels2!$B$4) -> 1 | D15: =COUNTIFS(Planning2!$B$4:$AF$4,D$5,Planning2!$B15:$AF15,$B$4) +COUNTIFS(Planning!$B$30:$AF$30,Totaux_annuels2!D$5,Planning!$B41:$AF41,Totaux_annuels2!$B$4) +COUNTIFS(Planning!$B$56:$AF$56,Totaux_annuels2!D$5,Planning!$B67:$AF67,Totaux_annuels2!$B$4) +COUNTIFS(Planning!$B$82:$AF$82,Totaux_annuels2!D$5,Planning!$B93:$AF93,Totaux_annuels2!$B$4) +COUNTIFS(Planning!$B$108:$AF$108,Totaux_annuels2!D$5,Planning!$B119:$AF119,Totaux_annuels2!$B$4) -> 0 | E15: =COUNTIFS(Planning2!$B$4:$AF$4,E$5,Planning2!$B15:$AF15,$B$4) +COUNTIFS(Planning!$B$30:$AF$30,Totaux_annuels2!E$5,Planning!$B41:$AF41,Totaux_annuels2!$B$4) +COUNTIFS(Planning!$B$56:$AF$56,Totaux_annuels2!E$5,Planning!$B67:$AF67,Totaux_annuels2!$B$4) +COUNTIFS(Planning!$B$82:$AF$82,Totaux_annuels2!E$5,Planning!$B93:$AF93,Totaux_annuels2!$B$4) +COUNTIFS(Planning!$B$108:$AF$108,Totaux_annuels2!E$5,Planning!$B119:$AF119,Totaux_annuels2!$B$4) -> 3 | F15: =COUNTIFS(Planning2!$B$4:$AF$4,F$5,Planning2!$B15:$AF15,$B$4) +COUNTIFS(Planning!$B$30:$AF$30,Totaux_annuels2!F$5,Planning!$B41:$AF41,Totaux_annuels2!$B$4) +COUNTIFS(Planning!$B$56:$AF$56,Totaux_annuels2!F$5,Planning!$B67:$AF67,Totaux_annuels2!$B$4) +COUNTIFS(Planning!$B$82:$AF$82,Totaux_annuels2!F$5,Planning!$B93:$AF93,Totaux_annuels2!$B$4) +COUNTIFS(Planning!$B$108:$AF$108,Totaux_annuels2!F$5,Planning!$B119:$AF119,Totaux_annuels2!$B$4) -> 0 | G15: =COUNTIFS(Planning2!$B$4:$AF$4,G$5,Planning2!$B15:$AF15,$B$4) +COUNTIFS(Planning!$B$30:$AF$30,Totaux_annuels2!G$5,Planning!$B41:$AF41,Totaux_annuels2!$B$4) +COUNTIFS(Planning!$B$56:$AF$56,Totaux_annuels2!G$5,Planning!$B67:$AF67,Totaux_annuels2!$B$4) +COUNTIFS(Planning!$B$82:$AF$82,Totaux_annuels2!G$5,Planning!$B93:$AF93,Totaux_annuels2!$B$4) +COUNTIFS(Planning!$B$108:$AF$108,Totaux_annuels2!G$5,Planning!$B119:$AF119,Totaux_annuels2!$B$4) -> 0 | H15: =COUNTIFS(Planning2!$B$4:$AF$4,H$5,Planning2!$B15:$AF15,$B$4) +COUNTIFS(Planning!$B$30:$AF$30,Totaux_annuels2!H$5,Planning!$B41:$AF41,Totaux_annuels2!$B$4) +COUNTIFS(Planning!$B$56:$AF$56,Totaux_annuels2!H$5,Planning!$B67:$AF67,Totaux_annuels2!$B$4) +COUNTIFS(Planning!$B$82:$AF$82,Totaux_annuels2!H$5,Planning!$B93:$AF93,Totaux_annuels2!$B$4) +COUNTIFS(Planning!$B$108:$AF$108,Totaux_annuels2!H$5,Planning!$B119:$AF119,Totaux_annuels2!$B$4) -> 0
A16: =Planning2!A16 -> Agent 11 | B16: =COUNTIFS(Planning2!$B$4:$AF$4,B$5,Planning2!$B16:$AF16,$B$4) +COUNTIFS(Planning!$B$30:$AF$30,Totaux_annuels2!B$5,Planning!$B42:$AF42,Totaux_annuels2!$B$4) +COUNTIFS(Planning!$B$56:$AF$56,Totaux_annuels2!B$5,Planning!$B68:$AF68,Totaux_annuels2!$B$4) +COUNTIFS(Planning!$B$82:$AF$82,Totaux_annuels2!B$5,Planning!$B94:$AF94,Totaux_annuels2!$B$4) +COUNTIFS(Planning!$B$108:$AF$108,Totaux_annuels2!B$5,Planning!$B120:$AF120,Totaux_annuels2!$B$4) -> 0 | C16: =COUNTIFS(Planning2!$B$4:$AF$4,C$5,Planning2!$B16:$AF16,$B$4) +COUNTIFS(Planning!$B$30:$AF$30,Totaux_annuels2!C$5,Planning!$B42:$AF42,Totaux_annuels2!$B$4) +COUNTIFS(Planning!$B$56:$AF$56,Totaux_annuels2!C$5,Planning!$B68:$AF68,Totaux_annuels2!$B$4) +COUNTIFS(Planning!$B$82:$AF$82,Totaux_annuels2!C$5,Planning!$B94:$AF94,Totaux_annuels2!$B$4) +COUNTIFS(Planning!$B$108:$AF$108,Totaux_annuels2!C$5,Planning!$B120:$AF120,Totaux_annuels2!$B$4) -> 0 | D16: =COUNTIFS(Planning2!$B$4:$AF$4,D$5,Planning2!$B16:$AF16,$B$4) +COUNTIFS(Planning!$B$30:$AF$30,Totaux_annuels2!D$5,Planning!$B42:$AF42,Totaux_annuels2!$B$4) +COUNTIFS(Planning!$B$56:$AF$56,Totaux_annuels2!D$5,Planning!$B68:$AF68,Totaux_annuels2!$B$4) +COUNTIFS(Planning!$B$82:$AF$82,Totaux_annuels2!D$5,Planning!$B94:$AF94,Totaux_annuels2!$B$4) +COUNTIFS(Planning!$B$108:$AF$108,Totaux_annuels2!D$5,Planning!$B120:$AF120,Totaux_annuels2!$B$4) -> 0 | E16: =COUNTIFS(Planning2!$B$4:$AF$4,E$5,Planning2!$B16:$AF16,$B$4) +COUNTIFS(Planning!$B$30:$AF$30,Totaux_annuels2!E$5,Planning!$B42:$AF42,Totaux_annuels2!$B$4) +COUNTIFS(Planning!$B$56:$AF$56,Totaux_annuels2!E$5,Planning!$B68:$AF68,Totaux_annuels2!$B$4) +COUNTIFS(Planning!$B$82:$AF$82,Totaux_annuels2!E$5,Planning!$B94:$AF94,Totaux_annuels2!$B$4) +COUNTIFS(Planning!$B$108:$AF$108,Totaux_annuels2!E$5,Planning!$B120:$AF120,Totaux_annuels2!$B$4) -> 0 | F16: =COUNTIFS(Planning2!$B$4:$AF$4,F$5,Planning2!$B16:$AF16,$B$4) +COUNTIFS(Planning!$B$30:$AF$30,Totaux_annuels2!F$5,Planning!$B42:$AF42,Totaux_annuels2!$B$4) +COUNTIFS(Planning!$B$56:$AF$56,Totaux_annuels2!F$5,Planning!$B68:$AF68,Totaux_annuels2!$B$4) +COUNTIFS(Planning!$B$82:$AF$82,Totaux_annuels2!F$5,Planning!$B94:$AF94,Totaux_annuels2!$B$4) +COUNTIFS(Planning!$B$108:$AF$108,Totaux_annuels2!F$5,Planning!$B120:$AF120,Totaux_annuels2!$B$4) -> 0 | G16: =COUNTIFS(Planning2!$B$4:$AF$4,G$5,Planning2!$B16:$AF16,$B$4) +COUNTIFS(Planning!$B$30:$AF$30,Totaux_annuels2!G$5,Planning!$B42:$AF42,Totaux_annuels2!$B$4) +COUNTIFS(Planning!$B$56:$AF$56,Totaux_annuels2!G$5,Planning!$B68:$AF68,Totaux_annuels2!$B$4) +COUNTIFS(Planning!$B$82:$AF$82,Totaux_annuels2!G$5,Planning!$B94:$AF94,Totaux_annuels2!$B$4) +COUNTIFS(Planning!$B$108:$AF$108,Totaux_annuels2!G$5,Planning!$B120:$AF120,Totaux_annuels2!$B$4) -> 0 | H16: =COUNTIFS(Planning2!$B$4:$AF$4,H$5,Planning2!$B16:$AF16,$B$4) +COUNTIFS(Planning!$B$30:$AF$30,Totaux_annuels2!H$5,Planning!$B42:$AF42,Totaux_annuels2!$B$4) +COUNTIFS(Planning!$B$56:$AF$56,Totaux_annuels2!H$5,Planning!$B68:$AF68,Totaux_annuels2!$B$4) +COUNTIFS(Planning!$B$82:$AF$82,Totaux_annuels2!H$5,Planning!$B94:$AF94,Totaux_annuels2!$B$4) +COUNTIFS(Planning!$B$108:$AF$108,Totaux_annuels2!H$5,Planning!$B120:$AF120,Totaux_annuels2!$B$4) -> 0
A17: =Planning2!A17 -> Agent 12 | B17: =COUNTIFS(Planning2!$B$4:$AF$4,B$5,Planning2!$B17:$AF17,$B$4) +COUNTIFS(Planning!$B$30:$AF$30,Totaux_annuels2!B$5,Planning!$B43:$AF43,Totaux_annuels2!$B$4) +COUNTIFS(Planning!$B$56:$AF$56,Totaux_annuels2!B$5,Planning!$B69:$AF69,Totaux_annuels2!$B$4) +COUNTIFS(Planning!$B$82:$AF$82,Totaux_annuels2!B$5,Planning!$B95:$AF95,Totaux_annuels2!$B$4) +COUNTIFS(Planning!$B$108:$AF$108,Totaux_annuels2!B$5,Planning!$B121:$AF121,Totaux_annuels2!$B$4) -> 0 | C17: =COUNTIFS(Planning2!$B$4:$AF$4,C$5,Planning2!$B17:$AF17,$B$4) +COUNTIFS(Planning!$B$30:$AF$30,Totaux_annuels2!C$5,Planning!$B43:$AF43,Totaux_annuels2!$B$4) +COUNTIFS(Planning!$B$56:$AF$56,Totaux_annuels2!C$5,Planning!$B69:$AF69,Totaux_annuels2!$B$4) +COUNTIFS(Planning!$B$82:$AF$82,Totaux_annuels2!C$5,Planning!$B95:$AF95,Totaux_annuels2!$B$4) +COUNTIFS(Planning!$B$108:$AF$108,Totaux_annuels2!C$5,Planning!$B121:$AF121,Totaux_annuels2!$B$4) -> 0 | D17: =COUNTIFS(Planning2!$B$4:$AF$4,D$5,Planning2!$B17:$AF17,$B$4) +COUNTIFS(Planning!$B$30:$AF$30,Totaux_annuels2!D$5,Planning!$B43:$AF43,Totaux_annuels2!$B$4) +COUNTIFS(Planning!$B$56:$AF$56,Totaux_annuels2!D$5,Planning!$B69:$AF69,Totaux_annuels2!$B$4) +COUNTIFS(Planning!$B$82:$AF$82,Totaux_annuels2!D$5,Planning!$B95:$AF95,Totaux_annuels2!$B$4) +COUNTIFS(Planning!$B$108:$AF$108,Totaux_annuels2!D$5,Planning!$B121:$AF121,Totaux_annuels2!$B$4) -> 0 | E17: =COUNTIFS(Planning2!$B$4:$AF$4,E$5,Planning2!$B17:$AF17,$B$4) +COUNTIFS(Planning!$B$30:$AF$30,Totaux_annuels2!E$5,Planning!$B43:$AF43,Totaux_annuels2!$B$4) +COUNTIFS(Planning!$B$56:$AF$56,Totaux_annuels2!E$5,Planning!$B69:$AF69,Totaux_annuels2!$B$4) +COUNTIFS(Planning!$B$82:$AF$82,Totaux_annuels2!E$5,Planning!$B95:$AF95,Totaux_annuels2!$B$4) +COUNTIFS(Planning!$B$108:$AF$108,Totaux_annuels2!E$5,Planning!$B121:$AF121,Totaux_annuels2!$B$4) -> 0 | F17: =COUNTIFS(Planning2!$B$4:$AF$4,F$5,Planning2!$B17:$AF17,$B$4) +COUNTIFS(Planning!$B$30:$AF$30,Totaux_annuels2!F$5,Planning!$B43:$AF43,Totaux_annuels2!$B$4) +COUNTIFS(Planning!$B$56:$AF$56,Totaux_annuels2!F$5,Planning!$B69:$AF69,Totaux_annuels2!$B$4) +COUNTIFS(Planning!$B$82:$AF$82,Totaux_annuels2!F$5,Planning!$B95:$AF95,Totaux_annuels2!$B$4) +COUNTIFS(Planning!$B$108:$AF$108,Totaux_annuels2!F$5,Planning!$B121:$AF121,Totaux_annuels2!$B$4) -> 0 | G17: =COUNTIFS(Planning2!$B$4:$AF$4,G$5,Planning2!$B17:$AF17,$B$4) +COUNTIFS(Planning!$B$30:$AF$30,Totaux_annuels2!G$5,Planning!$B43:$AF43,Totaux_annuels2!$B$4) +COUNTIFS(Planning!$B$56:$AF$56,Totaux_annuels2!G$5,Planning!$B69:$AF69,Totaux_annuels2!$B$4) +COUNTIFS(Planning!$B$82:$AF$82,Totaux_annuels2!G$5,Planning!$B95:$AF95,Totaux_annuels2!$B$4) +COUNTIFS(Planning!$B$108:$AF$108,Totaux_annuels2!G$5,Planning!$B121:$AF121,Totaux_annuels2!$B$4) -> 0 | H17: =COUNTIFS(Planning2!$B$4:$AF$4,H$5,Planning2!$B17:$AF17,$B$4) +COUNTIFS(Planning!$B$30:$AF$30,Totaux_annuels2!H$5,Planning!$B43:$AF43,Totaux_annuels2!$B$4) +COUNTIFS(Planning!$B$56:$AF$56,Totaux_annuels2!H$5,Planning!$B69:$AF69,Totaux_annuels2!$B$4) +COUNTIFS(Planning!$B$82:$AF$82,Totaux_annuels2!H$5,Planning!$B95:$AF95,Totaux_annuels2!$B$4) +COUNTIFS(Planning!$B$108:$AF$108,Totaux_annuels2!H$5,Planning!$B121:$AF121,Totaux_annuels2!$B$4) -> 0
... A25: =Planning2!A25 -> Agent 20 | B25: =COUNTIFS(Planning2!$B$4:$AF$4,B$5,Planning2!$B25:$AF25,$B$4) +COUNTIFS(Planning!$B$30:$AF$30,Totaux_annuels2!B$5,Planning!$B51:$AF51,Totaux_annuels2!$B$4) +COUNTIFS(Planning!$B$56:$AF$56,Totaux_annuels2!B$5,Planning!$B77:$AF77,Totaux_annuels2!$B$4) +COUNTIFS(Planning!$B$82:$AF$82,Totaux_annuels2!B$5,Planning!$B103:$AF103,Totaux_annuels2!$B$4) +COUNTIFS(Planning!$B$108:$AF$108,Totaux_annuels2!B$5,Planning!$B129:$AF129,Totaux_annuels2!$B$4) -> 2 | C25: =COUNTIFS(Planning2!$B$4:$AF$4,C$5,Planning2!$B25:$AF25,$B$4) +COUNTIFS(Planning!$B$30:$AF$30,Totaux_annuels2!C$5,Planning!$B51:$AF51,Totaux_annuels2!$B$4) +COUNTIFS(Planning!$B$56:$AF$56,Totaux_annuels2!C$5,Planning!$B77:$AF77,Totaux_annuels2!$B$4) +COUNTIFS(Planning!$B$82:$AF$82,Totaux_annuels2!C$5,Planning!$B103:$AF103,Totaux_annuels2!$B$4) +COUNTIFS(Planning!$B$108:$AF$108,Totaux_annuels2!C$5,Planning!$B129:$AF129,Totaux_annuels2!$B$4) -> 2 | D25: =COUNTIFS(Planning2!$B$4:$AF$4,D$5,Planning2!$B25:$AF25,$B$4) +COUNTIFS(Planning!$B$30:$AF$30,Totaux_annuels2!D$5,Planning!$B51:$AF51,Totaux_annuels2!$B$4) +COUNTIFS(Planning!$B$56:$AF$56,Totaux_annuels2!D$5,Planning!$B77:$AF77,Totaux_annuels2!$B$4) +COUNTIFS(Planning!$B$82:$AF$82,Totaux_annuels2!D$5,Planning!$B103:$AF103,Totaux_annuels2!$B$4) +COUNTIFS(Planning!$B$108:$AF$108,Totaux_annuels2!D$5,Planning!$B129:$AF129,Totaux_annuels2!$B$4) -> 0 | E25: =COUNTIFS(Planning2!$B$4:$AF$4,E$5,Planning2!$B25:$AF25,$B$4) +COUNTIFS(Planning!$B$30:$AF$30,Totaux_annuels2!E$5,Planning!$B51:$AF51,Totaux_annuels2!$B$4) +COUNTIFS(Planning!$B$56:$AF$56,Totaux_annuels2!E$5,Planning!$B77:$AF77,Totaux_annuels2!$B$4) +COUNTIFS(Planning!$B$82:$AF$82,Totaux_annuels2!E$5,Planning!$B103:$AF103,Totaux_annuels2!$B$4) +COUNTIFS(Planning!$B$108:$AF$108,Totaux_annuels2!E$5,Planning!$B129:$AF129,Totaux_annuels2!$B$4) -> 4 | F25: =COUNTIFS(Planning2!$B$4:$AF$4,F$5,Planning2!$B25:$AF25,$B$4) +COUNTIFS(Planning!$B$30:$AF$30,Totaux_annuels2!F$5,Planning!$B51:$AF51,Totaux_annuels2!$B$4) +COUNTIFS(Planning!$B$56:$AF$56,Totaux_annuels2!F$5,Planning!$B77:$AF77,Totaux_annuels2!$B$4) +COUNTIFS(Planning!$B$82:$AF$82,Totaux_annuels2!F$5,Planning!$B103:$AF103,Totaux_annuels2!$B$4) +COUNTIFS(Planning!$B$108:$AF$108,Totaux_annuels2!F$5,Planning!$B129:$AF129,Totaux_annuels2!$B$4) -> 0 | G25: =COUNTIFS(Planning2!$B$4:$AF$4,G$5,Planning2!$B25:$AF25,$B$4) +COUNTIFS(Planning!$B$30:$AF$30,Totaux_annuels2!G$5,Planning!$B51:$AF51,Totaux_annuels2!$B$4) +COUNTIFS(Planning!$B$56:$AF$56,Totaux_annuels2!G$5,Planning!$B77:$AF77,Totaux_annuels2!$B$4) +COUNTIFS(Planning!$B$82:$AF$82,Totaux_annuels2!G$5,Planning!$B103:$AF103,Totaux_annuels2!$B$4) +COUNTIFS(Planning!$B$108:$AF$108,Totaux_annuels2!G$5,Planning!$B129:$AF129,Totaux_annuels2!$B$4) -> 0 | H25: =COUNTIFS(Planning2!$B$4:$AF$4,H$5,Planning2!$B25:$AF25,$B$4) +COUNTIFS(Planning!$B$30:$AF$30,Totaux_annuels2!H$5,Planning!$B51:$AF51,Totaux_annuels2!$B$4) +COUNTIFS(Planning!$B$56:$AF$56,Totaux_annuels2!H$5,Planning!$B77:$AF77,Totaux_annuels2!$B$4) +COUNTIFS(Planning!$B$82:$AF$82,Totaux_annuels2!H$5,Planning!$B103:$AF103,Totaux_annuels2!$B$4) +COUNTIFS(Planning!$B$108:$AF$108,Totaux_annuels2!H$5,Planning!$B129:$AF129,Totaux_annuels2!$B$4) -> 0
