Workbook
Name An: Planning!$A$1
Name L_Agents: T_Agents[Agents]
Name L_Codes: T_Codes[Codes]

Sheet Planning
A1: 2026
B3: =UPPER(TEXT(DATE(An,1,1),"mmmm-aa")) -> JANVIER-26
B4: =PROPER(TEXT(DATE(An,MONTH($B$3),B5),"jjjj")) -> Jeudi | C4: =PROPER(TEXT(DATE(An,MONTH($B$3),C5),"jjjj")) -> Vendredi | D4: =PROPER(TEXT(DATE(An,MONTH($B$3),D5),"jjjj")) -> Samedi | E4: =PROPER(TEXT(DATE(An,MONTH($B$3),E5),"jjjj")) -> Dimanche | F4: =PROPER(TEXT(DATE(An,MONTH($B$3),F5),"jjjj")) -> Lundi | G4: =PROPER(TEXT(DATE(An,MONTH($B$3),G5),"jjjj")) -> Mardi | H4: =PROPER(TEXT(DATE(An,MONTH($B$3),H5),"jjjj")) -> Mercredi | I4: =PROPER(TEXT(DATE(An,MONTH($B$3),I5),"jjjj")) -> Jeudi | ... AF4: =PROPER(TEXT(DATE(An,MONTH($B$3),AF5),"jjjj")) -> Samedi
B5: 1 | C5: 2 | D5: 3 | E5: 4 | F5: 5 | G5: 6 | H5: 7 | I5: 8 | J5: 9 | K5: 10 | L5: 11 | M5: 12 | N5: 13 | O5: 14 | P5: 15 | Q5: 16 | R5: 17 | S5: 18 | T5: 19 | U5: 20 | V5: 21 | W5: 22 | X5: 23 | Y5: 24 | Z5: 25 | AA5: 26 | AB5: 27 | AC5: 28 | AD5: 29 | AE5: 30 | AF5: 31
A6: Agent 1 | B6: AB1 | E6: ARH | F6: B1 | G6: B1 | I6: B3 | K6: AB3 | N6: AB1 | O6: CA | P6: RTT | S6: ARH | T6: B1 | U6: B1 | X6: RTT | Y6: B1 | AA6: B1
A7: Agent 2 | F7: B1 | M7: B1
A8: Agent 3
A9: Agent 4
A10: Agent 5
A11: Agent 6
A12: Agent 7 | K12: B1 | R12: B1 | Y12: B1
A13: Agent 8
A14: Agent 9 | B14: B1 | M14: B1
A15: Agent 10 | M15: B1
A16: Agent 11
A17: Agent 12
A18: Agent 13
A19: Agent 14
A20: Agent 15
A21: Agent 16
A22: Agent 17
A23: Agent 18
A24: Agent 19
A25: Agent 20 | E25: FC | F25: FC | G25: RTT | I25: CA | M25: B1 | S25: CA | T25: CA | U25: RTT | AA25: B1
A26: TOTAL ETP | B26: =COUNTA(B6:B25) -> 2 | C26: =COUNTA(C6:C25) -> 0 | D26: =COUNTA(D6:D25) -> 0 | E26: =COUNTA(E6:E25) -> 2 | F26: =COUNTA(F6:F25) -> 3 | G26: =COUNTA(G6:G25) -> 2 | H26: =COUNTA(H6:H25) -> 0 | I26: =COUNTA(I6:I25) -> 2 | ... AF26: =COUNTA(AF6:AF25) -> 0
B29: =UPPER(TEXT(DATE(An,2,1),"mmmm-aa")) -> FÉVRIER-26
B30: =PROPER(TEXT(DATE(An,MONTH($B$29),B31),"jjjj")) -> Dimanche | C30: =PROPER(TEXT(DATE(An,MONTH($B$29),C31),"jjjj")) -> Lundi | D30: =PROPER(TEXT(DATE(An,MONTH($B$29),D31),"jjjj")) -> Mardi | E30: =PROPER(TEXT(DATE(An,MONTH($B$29),E31),"jjjj")) -> Mercredi | F30: =PROPER(TEXT(DATE(An,MONTH($B$29),F31),"jjjj")) -> Jeudi | G30: =PROPER(TEXT(DATE(An,MONTH($B$29),G31),"jjjj")) -> Vendredi | H30: =PROPER(TEXT(DATE(An,MONTH($B$29),H31),"jjjj")) -> Samedi | I30: =PROPER(TEXT(DATE(An,MONTH($B$29),I31),"jjjj")) -> Dimanche | ... AC30: =PROPER(TEXT(DATE(An,MONTH($B$29),AC31),"jjjj")) -> Samedi | AD30: =IFERROR(PROPER(TEXT(DATE(An,MONTH($B$29),AD31),"jjjj")),"")
B31: 1 | C31: 2 | D31: 3 | E31: 4 | F31: 5 | G31: 6 | H31: 7 | I31: 8 | J31: 9 | K31: 10 | L31: 11 | M31: 12 | N31: 13 | O31: 14 | P31: 15 | Q31: 16 | R31: 17 | S31: 18 | T31: 19 | U31: 20 | V31: 21 | W31: 22 | X31: 23 | Y31: 24 | Z31: 25 | AA31: 26 | AB31: 27 | AC31: 28 | AD31: =IF(DAY(DATE(An,3,))+1<>29,AC31+1,"")
A32: =A6 -> Agent 1 | B32: AB1 | E32: ARH | F32: B1 | G32: B1 | I32: B3 | K32: AB3 | N32: AB1 | O32: CA | P32: RTT | S32: ARH | T32: B1 | U32: B1 | X32: RTT | Y32: B1 | AA32: B1
A33: =A7 -> Agent 2 | F33: B1 | M33: B1
A34: =A8 -> Agent 3
A35: =A9 -> Agent 4
A36: =A10 -> Agent 5
A37: =A11 -> Agent 6
A38: =A12 -> Agent 7 | K38: B1 | R38: B1 | Y38: B1
A39: =A13 -> Agent 8
A40: =A14 -> Agent 9 | B40: B1 | M40: B1
A41: =A15 -> Agent 10 | M41: B1
A42: =A16 -> Agent 11 | I42: ARH | N42: ARH
A43: =A17 -> Agent 12
A44: =A18 -> Agent 13
A45: =A19 -> Agent 14
A46: =A20 -> Agent 15
A47: =A21 -> Agent 16
A48: =A22 -> Agent 17
A49: =A23 -> Agent 18
A50: =A24 -> Agent 19
A51: =A25 -> Agent 20
A52: TOTAL ETP | B52: =COUNTA(B32:B51) -> 2 | C52: =COUNTA(C32:C51) -> 0 | D52: =COUNTA(D32:D51) -> 0 | E52: =COUNTA(E32:E51) -> 1 | F52: =COUNTA(F32:F51) -> 2 | G52: =COUNTA(G32:G51) -> 1 | H52: =COUNTA(H32:H51) -> 0 | I52: =COUNTA(I32:I51) -> 2 | ... AD52: =COUNTA(AD32:AD51) -> 0
B55: =UPPER(TEXT(DATE(An,3,1),"mmmm-aa")) -> MARS-26
B56: =PROPER(TEXT(DATE(An,MONTH($B$55),B57),"jjjj")) -> Dimanche | C56: =PROPER(TEXT(DATE(An,MONTH($B$55),C57),"jjjj")) -> Lundi | D56: =PROPER(TEXT(DATE(An,MONTH($B$55),D57),"jjjj")) -> Mardi | E56: =PROPER(TEXT(DATE(An,MONTH($B$55),E57),"jjjj")) -> Mercredi | F56: =PROPER(TEXT(DATE(An,MONTH($B$55),F57),"jjjj")) -> Jeudi | G56: =PROPER(TEXT(DATE(An,MONTH($B$55),G57),"jjjj")) -> Vendredi | H56: =PROPER(TEXT(DATE(An,MONTH($B$55),H57),"jjjj")) -> Samedi | I56: =PROPER(TEXT(DATE(An,MONTH($B$55),I57),"jjjj")) -> Dimanche | ... AF56: =PROPER(TEXT(DATE(An,MONTH($B$55),AF57),"jjjj")) -> Mardi
B57: 1 | C57: 2 | D57: 3 | E57: 4 | F57: 5 | G57: 6 | H57: 7 | I57: 8 | J57: 9 | K57: 10 | L57: 11 | M57: 12 | N57: 13 | O57: 14 | P57: 15 | Q57: 16 | R57: 17 | S57: 18 | T57: 19 | U57: 20 | V57: 21 | W57: 22 | X57: 23 | Y57: 24 | Z57: 25 | AA57: 26 | AB57: 27 | AC57: 28 | AD57: 29 | AE57: 30 | AF57: 31
A58: =A6 -> Agent 1 | B58: AB1 | E58: ARH | F58: B1 | G58: B1 | I58: B3 | K58: AB3 | N58: AB1 | O58: CA | P58: RTT | S58: ARH | T58: B1 | U58: B1 | X58: RTT | Y58: B1 | AA58: B1
A59: =A7 -> Agent 2 | F59: B1 | M59: B1
A60: =A8 -> Agent 3
A61: =A9 -> Agent 4
A62: =A10 -> Agent 5
A63: =A11 -> Agent 6 | E63: AB3
A64: =A12 -> Agent 7 | K64: B1 | R64: B1 | Y64: B1
A65: =A13 -> Agent 8
A66: =A14 -> Agent 9 | B66: B1 | M66: B1
A67: =A15 -> Agent 10 | M67: B1
A68: =A16 -> Agent 11
A69: =A17 -> Agent 12
A70: =A18 -> Agent 13
A71: =A19 -> Agent 14
A72: =A20 -> Agent 15
A73: =A21 -> Agent 16
A74: =A22 -> Agent 17
A75: =A23 -> Agent 18
A76: =A24 -> Agent 19
A77: =A25 -> Agent 20 | E77: FC | F77: FC | G77: RTT | I77: CA | M77: B1 | S77: CA | T77: CA | U77: RTT | AA77: B1
A78: TOTAL ETP | B78: =COUNTA(B58:B77) -> 2 | C78: =COUNTA(C58:C77) -> 0 | D78: =COUNTA(D58:D77) -> 0 | E78: =COUNTA(E58:E77) -> 3 | F78: =COUNTA(F58:F77) -> 3 | G78: =COUNTA(G58:G77) -> 2 | H78: =COUNTA(H58:H77) -> 0 | I78: =COUNTA(I58:I77) -> 2 | ... AF78: =COUNTA(AF58:AF77) -> 0
B81: =UPPER(TEXT(DATE(An,4,1),"mmmm-aa")) -> AVRIL-26
B82: =PROPER(TEXT(DATE(An,MONTH($B$55),B83),"jjjj")) -> Dimanche | C82: =PROPER(TEXT(DATE(An,MONTH($B$55),C83),"jjjj")) -> Lundi | D82: =PROPER(TEXT(DATE(An,MONTH($B$55),D83),"jjjj")) -> Mardi | E82: =PROPER(TEXT(DATE(An,MONTH($B$55),E83),"jjjj")) -> Mercredi | F82: =PROPER(TEXT(DATE(An,MONTH($B$55),F83),"jjjj")) -> Jeudi | G82: =PROPER(TEXT(DATE(An,MONTH($B$55),G83),"jjjj")) -> Vendredi | H82: =PROPER(TEXT(DATE(An,MONTH($B$55),H83),"jjjj")) -> Samedi | I82: =PROPER(TEXT(DATE(An,MONTH($B$55),I83),"jjjj")) -> Dimanche | ... AE82: =PROPER(TEXT(DATE(An,MONTH($B$55),AE83),"jjjj")) -> Lundi
B83: 1 | C83: 2 | D83: 3 | E83: 4 | F83: 5 | G83: 6 | H83: 7 | I83: 8 | J83: 9 | K83: 10 | L83: 11 | M83: 12 | N83: 13 | O83: 14 | P83: 15 | Q83: 16 | R83: 17 | S83: 18 | T83: 19 | U83: 20 | V83: 21 | W83: 22 | X83: 23 | Y83: 24 | Z83: 25 | AA83: 26 | AB83: 27 | AC83: 28 | AD83: 29 | AE83: 30
A84: =A6 -> Agent 1 | B84: AB1 | E84: ARH | F84: B1 | G84: B1 | I84: B3 | K84: AB3 | M84: ARH | N84: AB1 | O84: CA | P84: RTT | S84: ARH | T84: B1 | U84: B1 | X84: RTT | Y84: B1 | AA84: B1
A85: =A7 -> Agent 2 | F85: B1 | M85: B1
A86: =A8 -> Agent 3
A87: =A9 -> Agent 4
A88: =A10 -> Agent 5
A89: =A11 -> Agent 6 | E89: AB3
A90: =A12 -> Agent 7 | K90: B1 | R90: B1 | Y90: B1
A91: =A13 -> Agent 8
A92: =A14 -> Agent 9 | B92: B1 | M92: B1
A93: =A15 -> Agent 10 | M93: B1
A94: =A16 -> Agent 11
A95: =A17 -> Agent 12
A96: =A18 -> Agent 13
A97: =A19 -> Agent 14
A98: =A20 -> Agent 15
A99: =A21 -> Agent 16
A100: =A22 -> Agent 17
A101: =A23 -> Agent 18
A102: =A24 -> Agent 19
A103: =A25 -> Agent 20 | E103: FC | F103: FC | G103: RTT | I103: CA | M103: B1 | S103: CA | T103: CA | U103: RTT | AA103: B1
A104: TOTAL ETP | B104: =COUNTA(B84:B103) -> 2 | C104: =COUNTA(C84:C103) -> 0 | D104: =COUNTA(D84:D103) -> 0 | E104: =COUNTA(E84:E103) -> 3 | F104: =COUNTA(F84:F103) -> 3 | G104: =COUNTA(G84:G103) -> 2 | H104: =COUNTA(H84:H103) -> 0 | I104: =COUNTA(I84:I103) -> 2 | ... AE104: =COUNTA(AE84:AE103) -> 0

Sheet totaux_mois
B3: =UPPER(TEXT(DATE(An,1,1),"mmmm-aa")) -> JANVIER-26
B4: B2 | I4: ="TOTAL " & B4 -> TOTAL B2 | M4: ARH | N4: AB1 | U4: TOTAL AB1 | V4: AB3 | AB4: TOTAL AB3 | AC4: AJF | AJ4: TOTAL AJF | AK4: B2 | AR4: TOTAL B2 | AS4: RTT | AZ4: TOTAL RTT | BA4: CA | BF4: TOTAL CA | BG4: FC | BN4: TOTAL FC
B5: Lundi | C5: Mardi | D5: Mercredi | E5: Jeudi | F5: Vendredi | G5: Samedi | H5: Dimanche | M5: Dimanche | N5: Lundi | O5: Mardi | P5: Mercredi | Q5: Jeudi | R5: Vendredi | S5: Samedi | T5: Dimanche | V5: Lundi | W5: Mardi | X5: Mercredi | Y5: Jeudi | Z5: Vendredi | AA5: Samedi | AC5: Lundi | AD5: Mardi | AE5: Mercredi | AF5: Jeudi | AG5: Vendredi | AH5: Samedi | AI5: Dimanche | AK5: Lundi | AL5: Mardi | AM5: Mercredi | AN5: Jeudi | AO5: Vendredi | AP5: Samedi | AQ5: Dimanche | AS5: Lundi | AT5: Mardi | AU5: Mercredi | AV5: Jeudi | AW5: Vendredi | AX5: Samedi | AY5: Dimanche | BA5: Lundi | BB5: Mardi | BC5: Mercredi | BD5: Jeudi | BE5: Vendredi | BG5: Lundi | BH5: Mardi | BI5: Mercredi | BJ5: Jeudi | BK5: Vendredi | BL5: Samedi | BM5: Dimanche
A6: =Planning!A6 -> Agent 1 | B6: =COUNTIFS(Planning!$4:$4,B$5, Planning!6:6,$B$4) -> 0 | C6: =COUNTIFS(Planning!$4:$4,C$5, Planning!6:6,$B$4) -> 0 | D6: =COUNTIFS(Planning!$4:$4,D$5, Planning!6:6,$B$4) -> 0 | E6: =COUNTIFS(Planning!$4:$4,E$5, Planning!6:6,$B$4) -> 0 | F6: =COUNTIFS(Planning!$4:$4,F$5, Planning!6:6,$B$4) -> 0 | G6: =COUNTIFS(Planning!$4:$4,G$5, Planning!6:6,$B$4) -> 0 | H6: =COUNTIFS(Planning!$4:$4,H$5, Planning!6:6,$B$4) -> 0 | I6: =SUM(B6:G6) -> 0 | M6: =COUNTIFS(Planning!$4:$4, "Dimanche", Planning!6:6, "ARH") -> 2 | N6: =COUNTIFS(Planning!$4:$4, "Lundi", Planning!6:6, "AB1") -> 0 | O6: =COUNTIFS(Planning!$4:$4, "Mardi", Planning!6:6, "AB1") -> 1 | P6: =COUNTIFS(Planning!$4:$4, "Mercredi", Planning!6:6, "AB1") -> 0 | Q6: =COUNTIFS(Planning!$4:$4, "Jeudi", Planning!6:6, "AB1") -> 1 | R6: =COUNTIFS(Planning!$4:$4, "Vendredi", Planning!6:6, "AB1") -> 0 | S6: =COUNTIFS(Planning!$4:$4, "Samedi", Planning!6:6, "AB1") -> 0 | T6: =COUNTIFS(Planning!$4:$4, "Dimanche", Planning!6:6, "AB1") -> 0 | U6: =SUM(N6:T6) -> 2 | V6: =COUNTIFS(Planning!$4:$4, "Lundi", Planning!6:6, "AB3") -> 0 | W6: =COUNTIFS(Planning!$4:$4, "Mardi", Planning!6:6, "AB3") -> 0 | X6: =COUNTIFS(Planning!$4:$4, "Mercredi", Planning!6:6, "AB3") -> 0 | Y6: =COUNTIFS(Planning!$4:$4, "Jeudi", Planning!6:6, "AB3") -> 0 | Z6: =COUNTIFS(Planning!$4:$4, "Vendredi", Planning!6:6, "AB3") -> 0 | AA6: =COUNTIFS(Planning!$4:$4, "Samedi", Planning!6:6, "AB3") -> 1 | AB6: =SUM(V6:AA6) -> 1 | AC6: =COUNTIFS(Planning!$4:$4, "Lundi", Planning!6:6, "AJF") -> 0 | AD6: =COUNTIFS(Planning!$4:$4, "Mardi", Planning!6:6, "AJF") -> 0 | AE6: =COUNTIFS(Planning!$4:$4, "Mercredi", Planning!6:6, "AJF") -> 0 | AF6: =COUNTIFS(Planning!$4:$4, "Jeudi", Planning!6:6, "AJF") -> 0 | AG6: =COUNTIFS(Planning!$4:$4, "Vendredi", Planning!6:6, "AJF") -> 0 | AH6: =COUNTIFS(Planning!$4:$4, "Samedi", Planning!6:6, "AJF") -> 0 | AI6: =COUNTIFS(Planning!$4:$4, "Dimanche", Planning!6:6, "AJF") -> 0 | AJ6: =SUM(AC6:AI6) -> 0 | AK6: =COUNTIFS(Planning!$4:$4, "Lundi", Planning!6:6, "B2") -> 0 | AL6: =COUNTIFS(Planning!$4:$4, "Mardi", Planning!6:6, "B2") -> 0 | AM6: =COUNTIFS(Planning!$4:$4, "Mercredi", Planning!6:6, "B2") -> 0 | AN6: =COUNTIFS(Planning!$4:$4, "Jeudi", Planning!6:6, "B2") -> 0 | AO6: =COUNTIFS(Planning!$4:$4, "Vendredi", Planning!6:6, "B2") -> 0 | AP6: =COUNTIFS(Planning!$4:$4, "Samedi", Planning!6:6, "B2") -> 0 | AQ6: =COUNTIFS(Planning!$4:$4, "Dimanche", Planning!6:6, "B2") -> 0 | AR6: =SUM(AK6:AQ6) -> 0 | AS6: =COUNTIFS(Planning!$4:$4, "Lundi", Planning!6:6, "RTT") -> 0 | AT6: =COUNTIFS(Planning!$4:$4, "Mardi", Planning!6:6, "RTT") -> 0 | AU6: =COUNTIFS(Planning!$4:$4, "Mercredi", Planning!6:6, "RTT") -> 0 | AV6: =COUNTIFS(Planning!$4:$4, "Jeudi", Planning!6:6, "RTT") -> 1 | AW6: =COUNTIFS(Planning!$4:$4, "Vendredi", Planning!6:6, "RTT") -> 1 | AX6: =COUNTIFS(Planning!$4:$4, "Samedi", Planning!6:6, "RTT") -> 0 | AY6: =COUNTIFS(Planning!$4:$4, "Dimanche", Planning!6:6, "RTT") -> 0 | AZ6: =SUM(AS6:AY6) -> 2 | BA6: =COUNTIFS(Planning!$4:$4, "Lundi", Planning!6:6, "CA") -> 0 | BB6: =COUNTIFS(Planning!$4:$4, "Mardi", Planning!6:6, "CA") -> 0 | BC6: =COUNTIFS(Planning!$4:$4, "Mercredi", Planning!6:6, "CA") -> 1 | BD6: =COUNTIFS(Planning!$4:$4, "Jeudi", Planning!6:6, "CA") -> 0 | BE6: =COUNTIFS(Planning!$4:$4, "Vendredi", Planning!6:6, "CA") -> 0 | BF6: =SUM(BA6:BE6) -> 1 | BG6: =COUNTIFS(Planning!$4:$4, "Lundi", Planning!6:6, "FC") -> 0 | BH6: =COUNTIFS(Planning!$4:$4, "Mardi", Planning!6:6, "FC") -> 0 | BI6: =COUNTIFS(Planning!$4:$4, "Mercredi", Planning!6:6, "FC") -> 0 | BJ6: =COUNTIFS(Planning!$4:$4, "Jeudi", Planning!6:6, "FC") -> 0 | BK6: =COUNTIFS(Planning!$4:$4, "Vendredi", Planning!6:6, "FC") -> 0 | BL6: =COUNTIFS(Planning!$4:$4, "Samedi", Planning!6:6, "FC") -> 0 | BM6: =COUNTIFS(Planning!$4:$4, "Dimanche", Planning!6:6, "FC") -> 0 | BN6: =SUM(BG6:BM6) -> 0
A7: =Planning!A7 -> Agent 2 | B7: =COUNTIFS(Planning!$4:$4,B$5, Planning!7:7,$B$4) -> 0 | C7: =COUNTIFS(Planning!$4:$4,C$5, Planning!7:7,$B$4) -> 0 | D7: =COUNTIFS(Planning!$4:$4,D$5, Planning!7:7,$B$4) -> 0 | E7: =COUNTIFS(Planning!$4:$4,E$5, Planning!7:7,$B$4) -> 0 | F7: =COUNTIFS(Planning!$4:$4,F$5, Planning!7:7,$B$4) -> 0 | G7: =COUNTIFS(Planning!$4:$4,G$5, Planning!7:7,$B$4) -> 0 | H7: =COUNTIFS(Planning!$4:$4,H$5, Planning!7:7,$B$4) -> 0 | I7: =SUM(B7:G7) -> 0 | M7: =COUNTIFS(Planning!$4:$4, "Dimanche", Planning!7:7, "ARH") -> 0 | N7: =COUNTIFS(Planning!$4:$4, "Lundi", Planning!7:7, "AB1") -> 0 | O7: =COUNTIFS(Planning!$4:$4, "Mardi", Planning!7:7, "AB1") -> 0 | P7: =COUNTIFS(Planning!$4:$4, "Mercredi", Planning!7:7, "AB1") -> 0 | Q7: =COUNTIFS(Planning!$4:$4, "Jeudi", Planning!7:7, "AB1") -> 0 | R7: =COUNTIFS(Planning!$4:$4, "Vendredi", Planning!7:7, "AB1") -> 0 | S7: =COUNTIFS(Planning!$4:$4, "Samedi", Planning!7:7, "AB1") -> 0 | T7: =COUNTIFS(Planning!$4:$4, "Dimanche", Planning!7:7, "AB1") -> 0 | U7: =SUM(N7:T7) -> 0 | V7: =COUNTIFS(Planning!$4:$4, "Lundi", Planning!7:7, "AB3") -> 0 | W7: =COUNTIFS(Planning!$4:$4, "Mardi", Planning!7:7, "AB3") -> 0 | X7: =COUNTIFS(Planning!$4:$4, "Mercredi", Planning!7:7, "AB3") -> 0 | Y7: =COUNTIFS(Planning!$4:$4, "Jeudi", Planning!7:7, "AB3") -> 0 | Z7: =COUNTIFS(Planning!$4:$4, "Vendredi", Planning!7:7, "AB3") -> 0 | AA7: =COUNTIFS(Planning!$4:$4, "Samedi", Planning!7:7, "AB3") -> 0 | AB7: =SUM(V7:AA7) -> 0 | AC7: =COUNTIFS(Planning!$4:$4, "Lundi", Planning!7:7, "AJF") -> 0 | AD7: =COUNTIFS(Planning!$4:$4, "Mardi", Planning!7:7, "AJF") -> 0 | AE7: =COUNTIFS(Planning!$4:$4, "Mercredi", Planning!7:7, "AJF") -> 0 | AF7: =COUNTIFS(Planning!$4:$4, "Jeudi", Planning!7:7, "AJF") -> 0 | AG7: =COUNTIFS(Planning!$4:$4, "Vendredi", Planning!7:7, "AJF") -> 0 | AH7: =COUNTIFS(Planning!$4:$4, "Samedi", Planning!7:7, "AJF") -> 0 | AI7: =COUNTIFS(Planning!$4:$4, "Dimanche", Planning!7:7, "AJF") -> 0 | AJ7: =SUM(AC7:AI7) -> 0 | AK7: =COUNTIFS(Planning!$4:$4, "Lundi", Planning!7:7, "B2") -> 0 | AL7: =COUNTIFS(Planning!$4:$4, "Mardi", Planning!7:7, "B2") -> 0 | AM7: =COUNTIFS(Planning!$4:$4, "Mercredi", Planning!7:7, "B2") -> 0 | AN7: =COUNTIFS(Planning!$4:$4, "Jeudi", Planning!7:7, "B2") -> 0 | AO7: =COUNTIFS(Planning!$4:$4, "Vendredi", Planning!7:7, "B2") -> 0 | AP7: =COUNTIFS(Planning!$4:$4, "Samedi", Planning!7:7, "B2") -> 0 | AQ7: =COUNTIFS(Planning!$4:$4, "Dimanche", Planning!7:7, "B2") -> 0 | AR7: =SUM(AK7:AQ7) -> 0 | AS7: =COUNTIFS(Planning!$4:$4, "Lundi", Planning!7:7, "RTT") -> 0 | AT7: =COUNTIFS(Planning!$4:$4, "Mardi", Planning!7:7, "RTT") -> 0 | AU7: =COUNTIFS(Planning!$4:$4, "Mercredi", Planning!7:7, "RTT") -> 0 | AV7: =COUNTIFS(Planning!$4:$4, "Jeudi", Planning!7:7, "RTT") -> 0 | AW7: =COUNTIFS(Planning!$4:$4, "Vendredi", Planning!7:7, "RTT") -> 0 | AX7: =COUNTIFS(Planning!$4:$4, "Samedi", Planning!7:7, "RTT") -> 0 | AY7: =COUNTIFS(Planning!$4:$4, "Dimanche", Planning!7:7, "RTT") -> 0 | AZ7: =SUM(AS7:AY7) -> 0 | BA7: =COUNTIFS(Planning!$4:$4, "Lundi", Planning!7:7, "CA") -> 0 | BB7: =COUNTIFS(Planning!$4:$4, "Mardi", Planning!7:7, "CA") -> 0 | BC7: =COUNTIFS(Planning!$4:$4, "Mercredi", Planning!7:7, "CA") -> 0 | BD7: =COUNTIFS(Planning!$4:$4, "Jeudi", Planning!7:7, "CA") -> 0 | BE7: =COUNTIFS(Planning!$4:$4, "Vendredi", Planning!7:7, "CA") -> 0 | BF7: =SUM(BA7:BE7) -> 0 | BG7: =COUNTIFS(Planning!$4:$4, "Lundi", Planning!7:7, "FC") -> 0 | BH7: =COUNTIFS(Planning!$4:$4, "Mardi", Planning!7:7, "FC") -> 0 | BI7: =COUNTIFS(Planning!$4:$4, "Mercredi", Planning!7:7, "FC") -> 0 | BJ7: =COUNTIFS(Planning!$4:$4, "Jeudi", Planning!7:7, "FC") -> 0 | BK7: =COUNTIFS(Planning!$4:$4, "Vendredi", Planning!7:7, "FC") -> 0 | BL7: =COUNTIFS(Planning!$4:$4, "Samedi", Planning!7:7, "FC") -> 0 | BM7: =COUNTIFS(Planning!$4:$4, "Dimanche", Planning!7:7, "FC") -> 0 | BN7: =SUM(BG7:BM7) -> 0
A8: =Planning!A8 -> Agent 3 | B8: =COUNTIFS(Planning!$4:$4,B$5, Planning!8:8,$B$4) -> 0 | C8: =COUNTIFS(Planning!$4:$4,C$5, Planning!8:8,$B$4) -> 0 | D8: =COUNTIFS(Planning!$4:$4,D$5, Planning!8:8,$B$4) -> 0 | E8: =COUNTIFS(Planning!$4:$4,E$5, Planning!8:8,$B$4) -> 0 | F8: =COUNTIFS(Planning!$4:$4,F$5, Planning!8:8,$B$4) -> 0 | G8: =COUNTIFS(Planning!$4:$4,G$5, Planning!8:8,$B$4) -> 0 | H8: =COUNTIFS(Planning!$4:$4,H$5, Planning!8:8,$B$4) -> 0 | I8: =SUM(B8:G8) -> 0 | M8: =COUNTIFS(Planning!$4:$4, "Dimanche", Planning!8:8, "ARH") -> 0 | N8: =COUNTIFS(Planning!$4:$4, "Lundi", Planning!8:8, "AB1") -> 0 | O8: =COUNTIFS(Planning!$4:$4, "Mardi", Planning!8:8, "AB1") -> 0 | P8: =COUNTIFS(Planning!$4:$4, "Mercredi", Planning!8:8, "AB1") -> 0 | Q8: =COUNTIFS(Planning!$4:$4, "Jeudi", Planning!8:8, "AB1") -> 0 | R8: =COUNTIFS(Planning!$4:$4, "Vendredi", Planning!8:8, "AB1") -> 0 | S8: =COUNTIFS(Planning!$4:$4, "Samedi", Planning!8:8, "AB1") -> 0 | T8: =COUNTIFS(Planning!$4:$4, "Dimanche", Planning!8:8, "AB1") -> 0 | U8: =SUM(N8:T8) -> 0 | V8: =COUNTIFS(Planning!$4:$4, "Lundi", Planning!8:8, "AB3") -> 0 | W8: =COUNTIFS(Planning!$4:$4, "Mardi", Planning!8:8, "AB3") -> 0 | X8: =COUNTIFS(Planning!$4:$4, "Mercredi", Planning!8:8, "AB3") -> 0 | Y8: =COUNTIFS(Planning!$4:$4, "Jeudi", Planning!8:8, "AB3") -> 0 | Z8: =COUNTIFS(Planning!$4:$4, "Vendredi", Planning!8:8, "AB3") -> 0 | AA8: =COUNTIFS(Planning!$4:$4, "Samedi", Planning!8:8, "AB3") -> 0 | AB8: =SUM(V8:AA8) -> 0 | AC8: =COUNTIFS(Planning!$4:$4, "Lundi", Planning!8:8, "AJF") -> 0 | AD8: =COUNTIFS(Planning!$4:$4, "Mardi", Planning!8:8, "AJF") -> 0 | AE8: =COUNTIFS(Planning!$4:$4, "Mercredi", Planning!8:8, "AJF") -> 0 | AF8: =COUNTIFS(Planning!$4:$4, "Jeudi", Planning!8:8, "AJF") -> 0 | AG8: =COUNTIFS(Planning!$4:$4, "Vendredi", Planning!8:8, "AJF") -> 0 | AH8: =COUNTIFS(Planning!$4:$4, "Samedi", Planning!8:8, "AJF") -> 0 | AI8: =COUNTIFS(Planning!$4:$4, "Dimanche", Planning!8:8, "AJF") -> 0 | AJ8: =SUM(AC8:AI8) -> 0 | AK8: =COUNTIFS(Planning!$4:$4, "Lundi", Planning!8:8, "B2") -> 0 | AL8: =COUNTIFS(Planning!$4:$4, "Mardi", Planning!8:8, "B2") -> 0 | AM8: =COUNTIFS(Planning!$4:$4, "Mercredi", Planning!8:8, "B2") -> 0 | AN8: =COUNTIFS(Planning!$4:$4, "Jeudi", Planning!8:8, "B2") -> 0 | AO8: =COUNTIFS(Planning!$4:$4, "Vendredi", Planning!8:8, "B2") -> 0 | AP8: =COUNTIFS(Planning!$4:$4, "Samedi", Planning!8:8, "B2") -> 0 | AQ8: =COUNTIFS(Planning!$4:$4, "Dimanche", Planning!8:8, "B2") -> 0 | AR8: =SUM(AK8:AQ8) -> 0 | AS8: =COUNTIFS(Planning!$4:$4, "Lundi", Planning!8:8, "RTT") -> 0 | AT8: =COUNTIFS(Planning!$4:$4, "Mardi", Planning!8:8, "RTT") -> 0 | AU8: =COUNTIFS(Planning!$4:$4, "Mercredi", Planning!8:8, "RTT") -> 0 | AV8: =COUNTIFS(Planning!$4:$4, "Jeudi", Planning!8:8, "RTT") -> 0 | AW8: =COUNTIFS(Planning!$4:$4, "Vendredi", Planning!8:8, "RTT") -> 0 | AX8: =COUNTIFS(Planning!$4:$4, "Samedi", Planning!8:8, "RTT") -> 0 | AY8: =COUNTIFS(Planning!$4:$4, "Dimanche", Planning!8:8, "RTT") -> 0 | AZ8: =SUM(AS8:AY8) -> 0 | BA8: =COUNTIFS(Planning!$4:$4, "Lundi", Planning!8:8, "CA") -> 0 | BB8: =COUNTIFS(Planning!$4:$4, "Mardi", Planning!8:8, "CA") -> 0 | BC8: =COUNTIFS(Planning!$4:$4, "Mercredi", Planning!8:8, "CA") -> 0 | BD8: =COUNTIFS(Planning!$4:$4, "Jeudi", Planning!8:8, "CA") -> 0 | BE8: =COUNTIFS(Planning!$4:$4, "Vendredi", Planning!8:8, "CA") -> 0 | BF8: =SUM(BA8:BE8) -> 0 | BG8: =COUNTIFS(Planning!$4:$4, "Lundi", Planning!8:8, "FC") -> 0 | BH8: =COUNTIFS(Planning!$4:$4, "Mardi", Planning!8:8, "FC") -> 0 | BI8: =COUNTIFS(Planning!$4:$4, "Mercredi", Planning!8:8, "FC") -> 0 | BJ8: =COUNTIFS(Planning!$4:$4, "Jeudi", Planning!8:8, "FC") -> 0 | BK8: =COUNTIFS(Planning!$4:$4, "Vendredi", Planning!8:8, "FC") -> 0 | BL8: =COUNTIFS(Planning!$4:$4, "Samedi", Planning!8:8, "FC") -> 0 | BM8: =COUNTIFS(Planning!$4:$4, "Dimanche", Planning!8:8, "FC") -> 0 | BN8: =SUM(BG8:BM8) -> 0
A9: =Planning!A9 -> Agent 4 | B9: =COUNTIFS(Planning!$4:$4,B$5, Planning!9:9,$B$4) -> 0 | C9: =COUNTIFS(Planning!$4:$4,C$5, Planning!9:9,$B$4) -> 0 | D9: =COUNTIFS(Planning!$4:$4,D$5, Planning!9:9,$B$4) -> 0 | E9: =COUNTIFS(Planning!$4:$4,E$5, Planning!9:9,$B$4) -> 0 | F9: =COUNTIFS(Planning!$4:$4,F$5, Planning!9:9,$B$4) -> 0 | G9: =COUNTIFS(Planning!$4:$4,G$5, Planning!9:9,$B$4) -> 0 | H9: =COUNTIFS(Planning!$4:$4,H$5, Planning!9:9,$B$4) -> 0 | I9: =SUM(B9:G9) -> 0 | M9: =COUNTIFS(Planning!$4:$4, "Dimanche", Planning!9:9, "ARH") -> 0 | N9: =COUNTIFS(Planning!$4:$4, "Lundi", Planning!9:9, "AB1") -> 0 | O9: =COUNTIFS(Planning!$4:$4, "Mardi", Planning!9:9, "AB1") -> 0 | P9: =COUNTIFS(Planning!$4:$4, "Mercredi", Planning!9:9, "AB1") -> 0 | Q9: =COUNTIFS(Planning!$4:$4, "Jeudi", Planning!9:9, "AB1") -> 0 | R9: =COUNTIFS(Planning!$4:$4, "Vendredi", Planning!9:9, "AB1") -> 0 | S9: =COUNTIFS(Planning!$4:$4, "Samedi", Planning!9:9, "AB1") -> 0 | T9: =COUNTIFS(Planning!$4:$4, "Dimanche", Planning!9:9, "AB1") -> 0 | U9: =SUM(N9:T9) -> 0 | V9: =COUNTIFS(Planning!$4:$4, "Lundi", Planning!9:9, "AB3") -> 0 | W9: =COUNTIFS(Planning!$4:$4, "Mardi", Planning!9:9, "AB3") -> 0 | X9: =COUNTIFS(Planning!$4:$4, "Mercredi", Planning!9:9, "AB3") -> 0 | Y9: =COUNTIFS(Planning!$4:$4, "Jeudi", Planning!9:9, "AB3") -> 0 | Z9: =COUNTIFS(Planning!$4:$4, "Vendredi", Planning!9:9, "AB3") -> 0 | AA9: =COUNTIFS(Planning!$4:$4, "Samedi", Planning!9:9, "AB3") -> 0 | AB9: =SUM(V9:AA9) -> 0 | AC9: =COUNTIFS(Planning!$4:$4, "Lundi", Planning!9:9, "AJF") -> 0 | AD9: =COUNTIFS(Planning!$4:$4, "Mardi", Planning!9:9, "AJF") -> 0 | AE9: =COUNTIFS(Planning!$4:$4, "Mercredi", Planning!9:9, "AJF") -> 0 | AF9: =COUNTIFS(Planning!$4:$4, "Jeudi", Planning!9:9, "AJF") -> 0 | AG9: =COUNTIFS(Planning!$4:$4, "Vendredi", Planning!9:9, "AJF") -> 0 | AH9: =COUNTIFS(Planning!$4:$4, "Samedi", Planning!9:9, "AJF") -> 0 | AI9: =COUNTIFS(Planning!$4:$4, "Dimanche", Planning!9:9, "AJF") -> 0 | AJ9: =SUM(AC9:AI9) -> 0 | AK9: =COUNTIFS(Planning!$4:$4, "Lundi", Planning!9:9, "B2") -> 0 | AL9: =COUNTIFS(Planning!$4:$4, "Mardi", Planning!9:9, "B2") -> 0 | AM9: =COUNTIFS(Planning!$4:$4, "Mercredi", Planning!9:9, "B2") -> 0 | AN9: =COUNTIFS(Planning!$4:$4, "Jeudi", Planning!9:9, "B2") -> 0 | AO9: =COUNTIFS(Planning!$4:$4, "Vendredi", Planning!9:9, "B2") -> 0 | AP9: =COUNTIFS(Planning!$4:$4, "Samedi", Planning!9:9, "B2") -> 0 | AQ9: =COUNTIFS(Planning!$4:$4, "Dimanche", Planning!9:9, "B2") -> 0 | AR9: =SUM(AK9:AQ9) -> 0 | AS9: =COUNTIFS(Planning!$4:$4, "Lundi", Planning!9:9, "RTT") -> 0 | AT9: =COUNTIFS(Planning!$4:$4, "Mardi", Planning!9:9, "RTT") -> 0 | AU9: =COUNTIFS(Planning!$4:$4, "Mercredi", Planning!9:9, "RTT") -> 0 | AV9: =COUNTIFS(Planning!$4:$4, "Jeudi", Planning!9:9, "RTT") -> 0 | AW9: =COUNTIFS(Planning!$4:$4, "Vendredi", Planning!9:9, "RTT") -> 0 | AX9: =COUNTIFS(Planning!$4:$4, "Samedi", Planning!9:9, "RTT") -> 0 | AY9: =COUNTIFS(Planning!$4:$4, "Dimanche", Planning!9:9, "RTT") -> 0 | AZ9: =SUM(AS9:AY9) -> 0 | BA9: =COUNTIFS(Planning!$4:$4, "Lundi", Planning!9:9, "CA") -> 0 | BB9: =COUNTIFS(Planning!$4:$4, "Mardi", Planning!9:9, "CA") -> 0 | BC9: =COUNTIFS(Planning!$4:$4, "Mercredi", Planning!9:9, "CA") -> 0 | BD9: =COUNTIFS(Planning!$4:$4, "Jeudi", Planning!9:9, "CA") -> 0 | BE9: =COUNTIFS(Planning!$4:$4, "Vendredi", Planning!9:9, "CA") -> 0 | BF9: =SUM(BA9:BE9) -> 0 | BG9: =COUNTIFS(Planning!$4:$4, "Lundi", Planning!9:9, "FC") -> 0 | BH9: =COUNTIFS(Planning!$4:$4, "Mardi", Planning!9:9, "FC") -> 0 | BI9: =COUNTIFS(Planning!$4:$4, "Mercredi", Planning!9:9, "FC") -> 0 | BJ9: =COUNTIFS(Planning!$4:$4, "Jeudi", Planning!9:9, "FC") -> 0 | BK9: =COUNTIFS(Planning!$4:$4, "Vendredi", Planning!9:9, "FC") -> 0 | BL9: =COUNTIFS(Planning!$4:$4, "Samedi", Planning!9:9, "FC") -> 0 | BM9: =COUNTIFS(Planning!$4:$4, "Dimanche", Planning!9:9, "FC") -> 0 | BN9: =SUM(BG9:BM9) -> 0
A10: =Planning!A10 -> Agent 5 | B10: =COUNTIFS(Planning!$4:$4,B$5, Planning!10:10,$B$4) -> 0 | C10: =COUNTIFS(Planning!$4:$4,C$5, Planning!10:10,$B$4) -> 0 | D10: =COUNTIFS(Planning!$4:$4,D$5, Planning!10:10,$B$4) -> 0 | E10: =COUNTIFS(Planning!$4:$4,E$5, Planning!10:10,$B$4) -> 0 | F10: =COUNTIFS(Planning!$4:$4,F$5, Planning!10:10,$B$4) -> 0 | G10: =COUNTIFS(Planning!$4:$4,G$5, Planning!10:10,$B$4) -> 0 | H10: =COUNTIFS(Planning!$4:$4,H$5, Planning!10:10,$B$4) -> 0 | I10: =SUM(B10:G10) -> 0 | M10: =COUNTIFS(Planning!$4:$4, "Dimanche", Planning!10:10, "ARH") -> 0 | N10: =COUNTIFS(Planning!$4:$4, "Lundi", Planning!10:10, "AB1") -> 0 | O10: =COUNTIFS(Planning!$4:$4, "Mardi", Planning!10:10, "AB1") -> 0 | P10: =COUNTIFS(Planning!$4:$4, "Mercredi", Planning!10:10, "AB1") -> 0 | Q10: =COUNTIFS(Planning!$4:$4, "Jeudi", Planning!10:10, "AB1") -> 0 | R10: =COUNTIFS(Planning!$4:$4, "Vendredi", Planning!10:10, "AB1") -> 0 | S10: =COUNTIFS(Planning!$4:$4, "Samedi", Planning!10:10, "AB1") -> 0 | T10: =COUNTIFS(Planning!$4:$4, "Dimanche", Planning!10:10, "AB1") -> 0 | U10: =SUM(N10:T10) -> 0 | V10: =COUNTIFS(Planning!$4:$4, "Lundi", Planning!10:10, "AB3") -> 0 | W10: =COUNTIFS(Planning!$4:$4, "Mardi", Planning!10:10, "AB3") -> 0 | X10: =COUNTIFS(Planning!$4:$4, "Mercredi", Planning!10:10, "AB3") -> 0 | Y10: =COUNTIFS(Planning!$4:$4, "Jeudi", Planning!10:10, "AB3") -> 0 | Z10: =COUNTIFS(Planning!$4:$4, "Vendredi", Planning!10:10, "AB3") -> 0 | AA10: =COUNTIFS(Planning!$4:$4, "Samedi", Planning!10:10, "AB3") -> 0 | AB10: =SUM(V10:AA10) -> 0 | AC10: =COUNTIFS(Planning!$4:$4, "Lundi", Planning!10:10, "AJF") -> 0 | AD10: =COUNTIFS(Planning!$4:$4, "Mardi", Planning!10:10, "AJF") -> 0 | AE10: =COUNTIFS(Planning!$4:$4, "Mercredi", Planning!10:10, "AJF") -> 0 | AF10: =COUNTIFS(Planning!$4:$4, "Jeudi", Planning!10:10, "AJF") -> 0 | AG10: =COUNTIFS(Planning!$4:$4, "Vendredi", Planning!10:10, "AJF") -> 0 | AH10: =COUNTIFS(Planning!$4:$4, "Samedi", Planning!10:10, "AJF") -> 0 | AI10: =COUNTIFS(Planning!$4:$4, "Dimanche", Planning!10:10, "AJF") -> 0 | AJ10: =SUM(AC10:AI10) -> 0 | AK10: =COUNTIFS(Planning!$4:$4, "Lundi", Planning!10:10, "B2") -> 0 | AL10: =COUNTIFS(Planning!$4:$4, "Mardi", Planning!10:10, "B2") -> 0 | AM10: =COUNTIFS(Planning!$4:$4, "Mercredi", Planning!10:10, "B2") -> 0 | AN10: =COUNTIFS(Planning!$4:$4, "Jeudi", Planning!10:10, "B2") -> 0 | AO10: =COUNTIFS(Planning!$4:$4, "Vendredi", Planning!10:10, "B2") -> 0 | AP10: =COUNTIFS(Planning!$4:$4, "Samedi", Planning!10:10, "B2") -> 0 | AQ10: =COUNTIFS(Planning!$4:$4, "Dimanche", Planning!10:10, "B2") -> 0 | AR10: =SUM(AK10:AQ10) -> 0 | AS10: =COUNTIFS(Planning!$4:$4, "Lundi", Planning!10:10, "RTT") -> 0 | AT10: =COUNTIFS(Planning!$4:$4, "Mardi", Planning!10:10, "RTT") -> 0 | AU10: =COUNTIFS(Planning!$4:$4, "Mercredi", Planning!10:10, "RTT") -> 0 | AV10: =COUNTIFS(Planning!$4:$4, "Jeudi", Planning!10:10, "RTT") -> 0 | AW10: =COUNTIFS(Planning!$4:$4, "Vendredi", Planning!10:10, "RTT") -> 0 | AX10: =COUNTIFS(Planning!$4:$4, "Samedi", Planning!10:10, "RTT") -> 0 | AY10: =COUNTIFS(Planning!$4:$4, "Dimanche", Planning!10:10, "RTT") -> 0 | AZ10: =SUM(AS10:AY10) -> 0 | BA10: =COUNTIFS(Planning!$4:$4, "Lundi", Planning!10:10, "CA") -> 0 | BB10: =COUNTIFS(Planning!$4:$4, "Mardi", Planning!10:10, "CA") -> 0 | BC10: =COUNTIFS(Planning!$4:$4, "Mercredi", Planning!10:10, "CA") -> 0 | BD10: =COUNTIFS(Planning!$4:$4, "Jeudi", Planning!10:10, "CA") -> 0 | BE10: =COUNTIFS(Planning!$4:$4, "Vendredi", Planning!10:10, "CA") -> 0 | BF10: =SUM(BA10:BE10) -> 0 | BG10: =COUNTIFS(Planning!$4:$4, "Lundi", Planning!10:10, "FC") -> 0 | BH10: =COUNTIFS(Planning!$4:$4, "Mardi", Planning!10:10, "FC") -> 0 | BI10: =COUNTIFS(Planning!$4:$4, "Mercredi", Planning!10:10, "FC") -> 0 | BJ10: =COUNTIFS(Planning!$4:$4, "Jeudi", Planning!10:10, "FC") -> 0 | BK10: =COUNTIFS(Planning!$4:$4, "Vendredi", Planning!10:10, "FC") -> 0 | BL10: =COUNTIFS(Planning!$4:$4, "Samedi", Planning!10:10, "FC") -> 0 | BM10: =COUNTIFS(Planning!$4:$4, "Dimanche", Planning!10:10, "FC") -> 0 | BN10: =SUM(BG10:BM10) -> 0
A11: =Planning!A11 -> Agent 6 | B11: =COUNTIFS(Planning!$4:$4,B$5, Planning!11:11,$B$4) -> 0 | C11: =COUNTIFS(Planning!$4:$4,C$5, Planning!11:11,$B$4) -> 0 | D11: =COUNTIFS(Planning!$4:$4,D$5, Planning!11:11,$B$4) -> 0 | E11: =COUNTIFS(Planning!$4:$4,E$5, Planning!11:11,$B$4) -> 0 | F11: =COUNTIFS(Planning!$4:$4,F$5, Planning!11:11,$B$4) -> 0 | G11: =COUNTIFS(Planning!$4:$4,G$5, Planning!11:11,$B$4) -> 0 | H11: =COUNTIFS(Planning!$4:$4,H$5, Planning!11:11,$B$4) -> 0 | I11: =SUM(B11:G11) -> 0 | M11: =COUNTIFS(Planning!$4:$4, "Dimanche", Planning!11:11, "ARH") -> 0 | N11: =COUNTIFS(Planning!$4:$4, "Lundi", Planning!11:11, "AB1") -> 0 | O11: =COUNTIFS(Planning!$4:$4, "Mardi", Planning!11:11, "AB1") -> 0 | P11: =COUNTIFS(Planning!$4:$4, "Mercredi", Planning!11:11, "AB1") -> 0 | Q11: =COUNTIFS(Planning!$4:$4, "Jeudi", Planning!11:11, "AB1") -> 0 | R11: =COUNTIFS(Planning!$4:$4, "Vendredi", Planning!11:11, "AB1") -> 0 | S11: =COUNTIFS(Planning!$4:$4, "Samedi", Planning!11:11, "AB1") -> 0 | T11: =COUNTIFS(Planning!$4:$4, "Dimanche", Planning!11:11, "AB1") -> 0 | U11: =SUM(N11:T11) -> 0 | V11: =COUNTIFS(Planning!$4:$4, "Lundi", Planning!11:11, "AB3") -> 0 | W11: =COUNTIFS(Planning!$4:$4, "Mardi", Planning!11:11, "AB3") -> 0 | X11: =COUNTIFS(Planning!$4:$4, "Mercredi", Planning!11:11, "AB3") -> 0 | Y11: =COUNTIFS(Planning!$4:$4, "Jeudi", Planning!11:11, "AB3") -> 0 | Z11: =COUNTIFS(Planning!$4:$4, "Vendredi", Planning!11:11, "AB3") -> 0 | AA11: =COUNTIFS(Planning!$4:$4, "Samedi", Planning!11:11, "AB3") -> 0 | AB11: =SUM(V11:AA11) -> 0 | AC11: =COUNTIFS(Planning!$4:$4, "Lundi", Planning!11:11, "AJF") -> 0 | AD11: =COUNTIFS(Planning!$4:$4, "Mardi", Planning!11:11, "AJF") -> 0 | AE11: =COUNTIFS(Planning!$4:$4, "Mercredi", Planning!11:11, "AJF") -> 0 | AF11: =COUNTIFS(Planning!$4:$4, "Jeudi", Planning!11:11, "AJF") -> 0 | AG11: =COUNTIFS(Planning!$4:$4, "Vendredi", Planning!11:11, "AJF") -> 0 | AH11: =COUNTIFS(Planning!$4:$4, "Samedi", Planning!11:11, "AJF") -> 0 | AI11: =COUNTIFS(Planning!$4:$4, "Dimanche", Planning!11:11, "AJF") -> 0 | AJ11: =SUM(AC11:AI11) -> 0 | AK11: =COUNTIFS(Planning!$4:$4, "Lundi", Planning!11:11, "B2") -> 0 | AL11: =COUNTIFS(Planning!$4:$4, "Mardi", Planning!11:11, "B2") -> 0 | AM11: =COUNTIFS(Planning!$4:$4, "Mercredi", Planning!11:11, "B2") -> 0 | AN11: =COUNTIFS(Planning!$4:$4, "Jeudi", Planning!11:11, "B2") -> 0 | AO11: =COUNTIFS(Planning!$4:$4, "Vendredi", Planning!11:11, "B2") -> 0 | AP11: =COUNTIFS(Planning!$4:$4, "Samedi", Planning!11:11, "B2") -> 0 | AQ11: =COUNTIFS(Planning!$4:$4, "Dimanche", Planning!11:11, "B2") -> 0 | AR11: =SUM(AK11:AQ11) -> 0 | AS11: =COUNTIFS(Planning!$4:$4, "Lundi", Planning!11:11, "RTT") -> 0 | AT11: =COUNTIFS(Planning!$4:$4, "Mardi", Planning!11:11, "RTT") -> 0 | AU11: =COUNTIFS(Planning!$4:$4, "Mercredi", Planning!11:11, "RTT") -> 0 | AV11: =COUNTIFS(Planning!$4:$4, "Jeudi", Planning!11:11, "RTT") -> 0 | AW11: =COUNTIFS(Planning!$4:$4, "Vendredi", Planning!11:11, "RTT") -> 0 | AX11: =COUNTIFS(Planning!$4:$4, "Samedi", Planning!11:11, "RTT") -> 0 | AY11: =COUNTIFS(Planning!$4:$4, "Dimanche", Planning!11:11, "RTT") -> 0 | AZ11: =SUM(AS11:AY11) -> 0 | BA11: =COUNTIFS(Planning!$4:$4, "Lundi", Planning!11:11, "CA") -> 0 | BB11: =COUNTIFS(Planning!$4:$4, "Mardi", Planning!11:11, "CA") -> 0 | BC11: =COUNTIFS(Planning!$4:$4, "Mercredi", Planning!11:11, "CA") -> 0 | BD11: =COUNTIFS(Planning!$4:$4, "Jeudi", Planning!11:11, "CA") -> 0 | BE11: =COUNTIFS(Planning!$4:$4, "Vendredi", Planning!11:11, "CA") -> 0 | BF11: =SUM(BA11:BE11) -> 0 | BG11: =COUNTIFS(Planning!$4:$4, "Lundi", Planning!11:11, "FC") -> 0 | BH11: =COUNTIFS(Planning!$4:$4, "Mardi", Planning!11:11, "FC") -> 0 | BI11: =COUNTIFS(Planning!$4:$4, "Mercredi", Planning!11:11, "FC") -> 0 | BJ11: =COUNTIFS(Planning!$4:$4, "Jeudi", Planning!11:11, "FC") -> 0 | BK11: =COUNTIFS(Planning!$4:$4, "Vendredi", Planning!11:11, "FC") -> 0 | BL11: =COUNTIFS(Planning!$4:$4, "Samedi", Planning!11:11, "FC") -> 0 | BM11: =COUNTIFS(Planning!$4:$4, "Dimanche", Planning!11:11, "FC") -> 0 | BN11: =SUM(BG11:BM11) -> 0
A12: =Planning!A12 -> Agent 7 | B12: =COUNTIFS(Planning!$4:$4,B$5, Planning!12:12,$B$4) -> 0 | C12: =COUNTIFS(Planning!$4:$4,C$5, Planning!12:12,$B$4) -> 0 | D12: =COUNTIFS(Planning!$4:$4,D$5, Planning!12:12,$B$4) -> 0 | E12: =COUNTIFS(Planning!$4:$4,E$5, Planning!12:12,$B$4) -> 0 | F12: =COUNTIFS(Planning!$4:$4,F$5, Planning!12:12,$B$4) -> 0 | G12: =COUNTIFS(Planning!$4:$4,G$5, Planning!12:12,$B$4) -> 0 | H12: =COUNTIFS(Planning!$4:$4,H$5, Planning!12:12,$B$4) -> 0 | I12: =SUM(B12:G12) -> 0 | M12: =COUNTIFS(Planning!$4:$4, "Dimanche", Planning!12:12, "ARH") -> 0 | N12: =COUNTIFS(Planning!$4:$4, "Lundi", Planning!12:12, "AB1") -> 0 | O12: =COUNTIFS(Planning!$4:$4, "Mardi", Planning!12:12, "AB1") -> 0 | P12: =COUNTIFS(Planning!$4:$4, "Mercredi", Planning!12:12, "AB1") -> 0 | Q12: =COUNTIFS(Planning!$4:$4, "Jeudi", Planning!12:12, "AB1") -> 0 | R12: =COUNTIFS(Planning!$4:$4, "Vendredi", Planning!12:12, "AB1") -> 0 | S12: =COUNTIFS(Planning!$4:$4, "Samedi", Planning!12:12, "AB1") -> 0 | T12: =COUNTIFS(Planning!$4:$4, "Dimanche", Planning!12:12, "AB1") -> 0 | U12: =SUM(N12:T12) -> 0 | V12: =COUNTIFS(Planning!$4:$4, "Lundi", Planning!12:12, "AB3") -> 0 | W12: =COUNTIFS(Planning!$4:$4, "Mardi", Planning!12:12, "AB3") -> 0 | X12: =COUNTIFS(Planning!$4:$4, "Mercredi", Planning!12:12, "AB3") -> 0 | Y12: =COUNTIFS(Planning!$4:$4, "Jeudi", Planning!12:12, "AB3") -> 0 | Z12: =COUNTIFS(Planning!$4:$4, "Vendredi", Planning!12:12, "AB3") -> 0 | AA12: =COUNTIFS(Planning!$4:$4, "Samedi", Planning!12:12, "AB3") -> 0 | AB12: =SUM(V12:AA12) -> 0 | AC12: =COUNTIFS(Planning!$4:$4, "Lundi", Planning!12:12, "AJF") -> 0 | AD12: =COUNTIFS(Planning!$4:$4, "Mardi", Planning!12:12, "AJF") -> 0 | AE12: =COUNTIFS(Planning!$4:$4, "Mercredi", Planning!12:12, "AJF") -> 0 | AF12: =COUNTIFS(Planning!$4:$4, "Jeudi", Planning!12:12, "AJF") -> 0 | AG12: =COUNTIFS(Planning!$4:$4, "Vendredi", Planning!12:12, "AJF") -> 0 | AH12: =COUNTIFS(Planning!$4:$4, "Samedi", Planning!12:12, "AJF") -> 0 | AI12: =COUNTIFS(Planning!$4:$4, "Dimanche", Planning!12:12, "AJF") -> 0 | AJ12: =SUM(AC12:AI12) -> 0 | AK12: =COUNTIFS(Planning!$4:$4, "Lundi", Planning!12:12, "B2") -> 0 | AL12: =COUNTIFS(Planning!$4:$4, "Mardi", Planning!12:12, "B2") -> 0 | AM12: =COUNTIFS(Planning!$4:$4, "Mercredi", Planning!12:12, "B2") -> 0 | AN12: =COUNTIFS(Planning!$4:$4, "Jeudi", Planning!12:12, "B2") -> 0 | AO12: =COUNTIFS(Planning!$4:$4, "Vendredi", Planning!12:12, "B2") -> 0 | AP12: =COUNTIFS(Planning!$4:$4, "Samedi", Planning!12:12, "B2") -> 0 | AQ12: =COUNTIFS(Planning!$4:$4, "Dimanche", Planning!12:12, "B2") -> 0 | AR12: =SUM(AK12:AQ12) -> 0 | AS12: =COUNTIFS(Planning!$4:$4, "Lundi", Planning!12:12, "RTT") -> 0 | AT12: =COUNTIFS(Planning!$4:$4, "Mardi", Planning!12:12, "RTT") -> 0 | AU12: =COUNTIFS(Planning!$4:$4, "Mercredi", Planning!12:12, "RTT") -> 0 | AV12: =COUNTIFS(Planning!$4:$4, "Jeudi", Planning!12:12, "RTT") -> 0 | AW12: =COUNTIFS(Planning!$4:$4, "Vendredi", Planning!12:12, "RTT") -> 0 | AX12: =COUNTIFS(Planning!$4:$4, "Samedi", Planning!12:12, "RTT") -> 0 | AY12: =COUNTIFS(Planning!$4:$4, "Dimanche", Planning!12:12, "RTT") -> 0 | AZ12: =SUM(AS12:AY12) -> 0 | BA12: =COUNTIFS(Planning!$4:$4, "Lundi", Planning!12:12, "CA") -> 0 | BB12: =COUNTIFS(Planning!$4:$4, "Mardi", Planning!12:12, "CA") -> 0 | BC12: =COUNTIFS(Planning!$4:$4, "Mercredi", Planning!12:12, "CA") -> 0 | BD12: =COUNTIFS(Planning!$4:$4, "Jeudi", Planning!12:12, "CA") -> 0 | BE12: =COUNTIFS(Planning!$4:$4, "Vendredi", Planning!12:12, "CA") -> 0 | BF12: =SUM(BA12:BE12) -> 0 | BG12: =COUNTIFS(Planning!$4:$4, "Lundi", Planning!12:12, "FC") -> 0 | BH12: =COUNTIFS(Planning!$4:$4, "Mardi", Planning!12:12, "FC") -> 0 | BI12: =COUNTIFS(Planning!$4:$4, "Mercredi", Planning!12:12, "FC") -> 0 | BJ12: =COUNTIFS(Planning!$4:$4, "Jeudi", Planning!12:12, "FC") -> 0 | BK12: =COUNTIFS(Planning!$4:$4, "Vendredi", Planning!12:12, "FC") -> 0 | BL12: =COUNTIFS(Planning!$4:$4, "Samedi", Planning!12:12, "FC") -> 0 | BM12: =COUNTIFS(Planning!$4:$4, "Dimanche", Planning!12:12, "FC") -> 0 | BN12: =SUM(BG12:BM12) -> 0
A13: =Planning!A13 -> Agent 8 | B13: =COUNTIFS(Planning!$4:$4,B$5, Planning!13:13,$B$4) -> 0 | C13: =COUNTIFS(Planning!$4:$4,C$5, Planning!13:13,$B$4) -> 0 | D13: =COUNTIFS(Planning!$4:$4,D$5, Planning!13:13,$B$4) -> 0 | E13: =COUNTIFS(Planning!$4:$4,E$5, Planning!13:13,$B$4) -> 0 | F13: =COUNTIFS(Planning!$4:$4,F$5, Planning!13:13,$B$4) -> 0 | G13: =COUNTIFS(Planning!$4:$4,G$5, Planning!13:13,$B$4) -> 0 | H13: =COUNTIFS(Planning!$4:$4,H$5, Planning!13:13,$B$4) -> 0 | I13: =SUM(B13:G13) -> 0 | M13: =COUNTIFS(Planning!$4:$4, "Dimanche", Planning!13:13, "ARH") -> 0 | N13: =COUNTIFS(Planning!$4:$4, "Lundi", Planning!13:13, "AB1") -> 0 | O13: =COUNTIFS(Planning!$4:$4, "Mardi", Planning!13:13, "AB1") -> 0 | P13: =COUNTIFS(Planning!$4:$4, "Mercredi", Planning!13:13, "AB1") -> 0 | Q13: =COUNTIFS(Planning!$4:$4, "Jeudi", Planning!13:13, "AB1") -> 0 | R13: =COUNTIFS(Planning!$4:$4, "Vendredi", Planning!13:13, "AB1") -> 0 | S13: =COUNTIFS(Planning!$4:$4, "Samedi", Planning!13:13, "AB1") -> 0 | T13: =COUNTIFS(Planning!$4:$4, "Dimanche", Planning!13:13, "AB1") -> 0 | U13: =SUM(N13:T13) -> 0 | V13: =COUNTIFS(Planning!$4:$4, "Lundi", Planning!13:13, "AB3") -> 0 | W13: =COUNTIFS(Planning!$4:$4, "Mardi", Planning!13:13, "AB3") -> 0 | X13: =COUNTIFS(Planning!$4:$4, "Mercredi", Planning!13:13, "AB3") -> 0 | Y13: =COUNTIFS(Planning!$4:$4, "Jeudi", Planning!13:13, "AB3") -> 0 | Z13: =COUNTIFS(Planning!$4:$4, "Vendredi", Planning!13:13, "AB3") -> 0 | AA13: =COUNTIFS(Planning!$4:$4, "Samedi", Planning!13:13, "AB3") -> 0 | AB13: =SUM(V13:AA13) -> 0 | AC13: =COUNTIFS(Planning!$4:$4, "Lundi", Planning!13:13, "AJF") -> 0 | AD13: =COUNTIFS(Planning!$4:$4, "Mardi", Planning!13:13, "AJF") -> 0 | AE13: =COUNTIFS(Planning!$4:$4, "Mercredi", Planning!13:13, "AJF") -> 0 | AF13: =COUNTIFS(Planning!$4:$4, "Jeudi", Planning!13:13, "AJF") -> 0 | AG13: =COUNTIFS(Planning!$4:$4, "Vendredi", Planning!13:13, "AJF") -> 0 | AH13: =COUNTIFS(Planning!$4:$4, "Samedi", Planning!13:13, "AJF") -> 0 | AI13: =COUNTIFS(Planning!$4:$4, "Dimanche", Planning!13:13, "AJF") -> 0 | AJ13: =SUM(AC13:AI13) -> 0 | AK13: =COUNTIFS(Planning!$4:$4, "Lundi", Planning!13:13, "B2") -> 0 | AL13: =COUNTIFS(Planning!$4:$4, "Mardi", Planning!13:13, "B2") -> 0 | AM13: =COUNTIFS(Planning!$4:$4, "Mercredi", Planning!13:13, "B2") -> 0 | AN13: =COUNTIFS(Planning!$4:$4, "Jeudi", Planning!13:13, "B2") -> 0 | AO13: =COUNTIFS(Planning!$4:$4, "Vendredi", Planning!13:13, "B2") -> 0 | AP13: =COUNTIFS(Planning!$4:$4, "Samedi", Planning!13:13, "B2") -> 0 | AQ13: =COUNTIFS(Planning!$4:$4, "Dimanche", Planning!13:13, "B2") -> 0 | AR13: =SUM(AK13:AQ13) -> 0 | AS13: =COUNTIFS(Planning!$4:$4, "Lundi", Planning!13:13, "RTT") -> 0 | AT13: =COUNTIFS(Planning!$4:$4, "Mardi", Planning!13:13, "RTT") -> 0 | AU13: =COUNTIFS(Planning!$4:$4, "Mercredi", Planning!13:13, "RTT") -> 0 | AV13: =COUNTIFS(Planning!$4:$4, "Jeudi", Planning!13:13, "RTT") -> 0 | AW13: =COUNTIFS(Planning!$4:$4, "Vendredi", Planning!13:13, "RTT") -> 0 | AX13: =COUNTIFS(Planning!$4:$4, "Samedi", Planning!13:13, "RTT") -> 0 | AY13: =COUNTIFS(Planning!$4:$4, "Dimanche", Planning!13:13, "RTT") -> 0 | AZ13: =SUM(AS13:AY13) -> 0 | BA13: =COUNTIFS(Planning!$4:$4, "Lundi", Planning!13:13, "CA") -> 0 | BB13: =COUNTIFS(Planning!$4:$4, "Mardi", Planning!13:13, "CA") -> 0 | BC13: =COUNTIFS(Planning!$4:$4, "Mercredi", Planning!13:13, "CA") -> 0 | BD13: =COUNTIFS(Planning!$4:$4, "Jeudi", Planning!13:13, "CA") -> 0 | BE13: =COUNTIFS(Planning!$4:$4, "Vendredi", Planning!13:13, "CA") -> 0 | BF13: =SUM(BA13:BE13) -> 0 | BG13: =COUNTIFS(Planning!$4:$4, "Lundi", Planning!13:13, "FC") -> 0 | BH13: =COUNTIFS(Planning!$4:$4, "Mardi", Planning!13:13, "FC") -> 0 | BI13: =COUNTIFS(Planning!$4:$4, "Mercredi", Planning!13:13, "FC") -> 0 | BJ13: =COUNTIFS(Planning!$4:$4, "Jeudi", Planning!13:13, "FC") -> 0 | BK13: =COUNTIFS(Planning!$4:$4, "Vendredi", Planning!13:13, "FC") -> 0 | BL13: =COUNTIFS(Planning!$4:$4, "Samedi", Planning!13:13, "FC") -> 0 | BM13: =COUNTIFS(Planning!$4:$4, "Dimanche", Planning!13:13, "FC") -> 0 | BN13: =SUM(BG13:BM13) -> 0
A14: =Planning!A14 -> Agent 9 | B14: =COUNTIFS(Planning!$4:$4,B$5, Planning!14:14,$B$4) -> 0 | C14: =COUNTIFS(Planning!$4:$4,C$5, Planning!14:14,$B$4) -> 0 | D14: =COUNTIFS(Planning!$4:$4,D$5, Planning!14:14,$B$4) -> 0 | E14: =COUNTIFS(Planning!$4:$4,E$5, Planning!14:14,$B$4) -> 0 | F14: =COUNTIFS(Planning!$4:$4,F$5, Planning!14:14,$B$4) -> 0 | G14: =COUNTIFS(Planning!$4:$4,G$5, Planning!14:14,$B$4) -> 0 | H14: =COUNTIFS(Planning!$4:$4,H$5, Planning!14:14,$B$4) -> 0 | I14: =SUM(B14:G14) -> 0 | M14: =COUNTIFS(Planning!$4:$4, "Dimanche", Planning!14:14, "ARH") -> 0 | N14: =COUNTIFS(Planning!$4:$4, "Lundi", Planning!14:14, "AB1") -> 0 | O14: =COUNTIFS(Planning!$4:$4, "Mardi", Planning!14:14, "AB1") -> 0 | P14: =COUNTIFS(Planning!$4:$4, "Mercredi", Planning!14:14, "AB1") -> 0 | Q14: =COUNTIFS(Planning!$4:$4, "Jeudi", Planning!14:14, "AB1") -> 0 | R14: =COUNTIFS(Planning!$4:$4, "Vendredi", Planning!14:14, "AB1") -> 0 | S14: =COUNTIFS(Planning!$4:$4, "Samedi", Planning!14:14, "AB1") -> 0 | T14: =COUNTIFS(Planning!$4:$4, "Dimanche", Planning!14:14, "AB1") -> 0 | U14: =SUM(N14:T14) -> 0 | V14: =COUNTIFS(Planning!$4:$4, "Lundi", Planning!14:14, "AB3") -> 0 | W14: =COUNTIFS(Planning!$4:$4, "Mardi", Planning!14:14, "AB3") -> 0 | X14: =COUNTIFS(Planning!$4:$4, "Mercredi", Planning!14:14, "AB3") -> 0 | Y14: =COUNTIFS(Planning!$4:$4, "Jeudi", Planning!14:14, "AB3") -> 0 | Z14: =COUNTIFS(Planning!$4:$4, "Vendredi", Planning!14:14, "AB3") -> 0 | AA14: =COUNTIFS(Planning!$4:$4, "Samedi", Planning!14:14, "AB3") -> 0 | AB14: =SUM(V14:AA14) -> 0 | AC14: =COUNTIFS(Planning!$4:$4, "Lundi", Planning!14:14, "AJF") -> 0 | AD14: =COUNTIFS(Planning!$4:$4, "Mardi", Planning!14:14, "AJF") -> 0 | AE14: =COUNTIFS(Planning!$4:$4, "Mercredi", Planning!14:14, "AJF") -> 0 | AF14: =COUNTIFS(Planning!$4:$4, "Jeudi", Planning!14:14, "AJF") -> 0 | AG14: =COUNTIFS(Planning!$4:$4, "Vendredi", Planning!14:14, "AJF") -> 0 | AH14: =COUNTIFS(Planning!$4:$4, "Samedi", Planning!14:14, "AJF") -> 0 | AI14: =COUNTIFS(Planning!$4:$4, "Dimanche", Planning!14:14, "AJF") -> 0 | AJ14: =SUM(AC14:AI14) -> 0 | AK14: =COUNTIFS(Planning!$4:$4, "Lundi", Planning!14:14, "B2") -> 0 | AL14: =COUNTIFS(Planning!$4:$4, "Mardi", Planning!14:14, "B2") -> 0 | AM14: =COUNTIFS(Planning!$4:$4, "Mercredi", Planning!14:14, "B2") -> 0 | AN14: =COUNTIFS(Planning!$4:$4, "Jeudi", Planning!14:14, "B2") -> 0 | AO14: =COUNTIFS(Planning!$4:$4, "Vendredi", Planning!14:14, "B2") -> 0 | AP14: =COUNTIFS(Planning!$4:$4, "Samedi", Planning!14:14, "B2") -> 0 | AQ14: =COUNTIFS(Planning!$4:$4, "Dimanche", Planning!14:14, "B2") -> 0 | AR14: =SUM(AK14:AQ14) -> 0 | AS14: =COUNTIFS(Planning!$4:$4, "Lundi", Planning!14:14, "RTT") -> 0 | AT14: =COUNTIFS(Planning!$4:$4, "Mardi", Planning!14:14, "RTT") -> 0 | AU14: =COUNTIFS(Planning!$4:$4, "Mercredi", Planning!14:14, "RTT") -> 0 | AV14: =COUNTIFS(Planning!$4:$4, "Jeudi", Planning!14:14, "RTT") -> 0 | AW14: =COUNTIFS(Planning!$4:$4, "Vendredi", Planning!14:14, "RTT") -> 0 | AX14: =COUNTIFS(Planning!$4:$4, "Samedi", Planning!14:14, "RTT") -> 0 | AY14: =COUNTIFS(Planning!$4:$4, "Dimanche", Planning!14:14, "RTT") -> 0 | AZ14: =SUM(AS14:AY14) -> 0 | BA14: =COUNTIFS(Planning!$4:$4, "Lundi", Planning!14:14, "CA") -> 0 | BB14: =COUNTIFS(Planning!$4:$4, "Mardi", Planning!14:14, "CA") -> 0 | BC14: =COUNTIFS(Planning!$4:$4, "Mercredi", Planning!14:14, "CA") -> 0 | BD14: =COUNTIFS(Planning!$4:$4, "Jeudi", Planning!14:14, "CA") -> 0 | BE14: =COUNTIFS(Planning!$4:$4, "Vendredi", Planning!14:14, "CA") -> 0 | BF14: =SUM(BA14:BE14) -> 0 | BG14: =COUNTIFS(Planning!$4:$4, "Lundi", Planning!14:14, "FC") -> 0 | BH14: =COUNTIFS(Planning!$4:$4, "Mardi", Planning!14:14, "FC") -> 0 | BI14: =COUNTIFS(Planning!$4:$4, "Mercredi", Planning!14:14, "FC") -> 0 | BJ14: =COUNTIFS(Planning!$4:$4, "Jeudi", Planning!14:14, "FC") -> 0 | BK14: =COUNTIFS(Planning!$4:$4, "Vendredi", Planning!14:14, "FC") -> 0 | BL14: =COUNTIFS(Planning!$4:$4, "Samedi", Planning!14:14, "FC") -> 0 | BM14: =COUNTIFS(Planning!$4:$4, "Dimanche", Planning!14:14, "FC") -> 0 | BN14: =SUM(BG14:BM14) -> 0
A15: =Planning!A15 -> Agent 10 | B15: =COUNTIFS(Planning!$4:$4,B$5, Planning!15:15,$B$4) -> 0 | C15: =COUNTIFS(Planning!$4:$4,C$5, Planning!15:15,$B$4) -> 0 | D15: =COUNTIFS(Planning!$4:$4,D$5, Planning!15:15,$B$4) -> 0 | E15: =COUNTIFS(Planning!$4:$4,E$5, Planning!15:15,$B$4) -> 0 | F15: =COUNTIFS(Planning!$4:$4,F$5, Planning!15:15,$B$4) -> 0 | G15: =COUNTIFS(Planning!$4:$4,G$5, Planning!15:15,$B$4) -> 0 | H15: =COUNTIFS(Planning!$4:$4,H$5, Planning!15:15,$B$4) -> 0 | I15: =SUM(B15:G15) -> 0 | M15: =COUNTIFS(Planning!$4:$4, "Dimanche", Planning!15:15, "ARH") -> 0 | N15: =COUNTIFS(Planning!$4:$4, "Lundi", Planning!15:15, "AB1") -> 0 | O15: =COUNTIFS(Planning!$4:$4, "Mardi", Planning!15:15, "AB1") -> 0 | P15: =COUNTIFS(Planning!$4:$4, "Mercredi", Planning!15:15, "AB1") -> 0 | Q15: =COUNTIFS(Planning!$4:$4, "Jeudi", Planning!15:15, "AB1") -> 0 | R15: =COUNTIFS(Planning!$4:$4, "Vendredi", Planning!15:15, "AB1") -> 0 | S15: =COUNTIFS(Planning!$4:$4, "Samedi", Planning!15:15, "AB1") -> 0 | T15: =COUNTIFS(Planning!$4:$4, "Dimanche", Planning!15:15, "AB1") -> 0 | U15: =SUM(N15:T15) -> 0 | V15: =COUNTIFS(Planning!$4:$4, "Lundi", Planning!15:15, "AB3") -> 0 | W15: =COUNTIFS(Planning!$4:$4, "Mardi", Planning!15:15, "AB3") -> 0 | X15: =COUNTIFS(Planning!$4:$4, "Mercredi", Planning!15:15, "AB3") -> 0 | Y15: =COUNTIFS(Planning!$4:$4, "Jeudi", Planning!15:15, "AB3") -> 0 | Z15: =COUNTIFS(Planning!$4:$4, "Vendredi", Planning!15:15, "AB3") -> 0 | AA15: =COUNTIFS(Planning!$4:$4, "Samedi", Planning!15:15, "AB3") -> 0 | AB15: =SUM(V15:AA15) -> 0 | AC15: =COUNTIFS(Planning!$4:$4, "Lundi", Planning!15:15, "AJF") -> 0 | AD15: =COUNTIFS(Planning!$4:$4, "Mardi", Planning!15:15, "AJF") -> 0 | AE15: =COUNTIFS(Planning!$4:$4, "Mercredi", Planning!15:15, "AJF") -> 0 | AF15: =COUNTIFS(Planning!$4:$4, "Jeudi", Planning!15:15, "AJF") -> 0 | AG15: =COUNTIFS(Planning!$4:$4, "Vendredi", Planning!15:15, "AJF") -> 0 | AH15: =COUNTIFS(Planning!$4:$4, "Samedi", Planning!15:15, "AJF") -> 0 | AI15: =COUNTIFS(Planning!$4:$4, "Dimanche", Planning!15:15, "AJF") -> 0 | AJ15: =SUM(AC15:AI15) -> 0 | AK15: =COUNTIFS(Planning!$4:$4, "Lundi", Planning!15:15, "B2") -> 0 | AL15: =COUNTIFS(Planning!$4:$4, "Mardi", Planning!15:15, "B2") -> 0 | AM15: =COUNTIFS(Planning!$4:$4, "Mercredi", Planning!15:15, "B2") -> 0 | AN15: =COUNTIFS(Planning!$4:$4, "Jeudi", Planning!15:15, "B2") -> 0 | AO15: =COUNTIFS(Planning!$4:$4, "Vendredi", Planning!15:15, "B2") -> 0 | AP15: =COUNTIFS(Planning!$4:$4, "Samedi", Planning!15:15, "B2") -> 0 | AQ15: =COUNTIFS(Planning!$4:$4, "Dimanche", Planning!15:15, "B2") -> 0 | AR15: =SUM(AK15:AQ15) -> 0 | AS15: =COUNTIFS(Planning!$4:$4, "Lundi", Planning!15:15, "RTT") -> 0 | AT15: =COUNTIFS(Planning!$4:$4, "Mardi", Planning!15:15, "RTT") -> 0 | AU15: =COUNTIFS(Planning!$4:$4, "Mercredi", Planning!15:15, "RTT") -> 0 | AV15: =COUNTIFS(Planning!$4:$4, "Jeudi", Planning!15:15, "RTT") -> 0 | AW15: =COUNTIFS(Planning!$4:$4, "Vendredi", Planning!15:15, "RTT") -> 0 | AX15: =COUNTIFS(Planning!$4:$4, "Samedi", Planning!15:15, "RTT") -> 0 | AY15: =COUNTIFS(Planning!$4:$4, "Dimanche", Planning!15:15, "RTT") -> 0 | AZ15: =SUM(AS15:AY15) -> 0 | BA15: =COUNTIFS(Planning!$4:$4, "Lundi", Planning!15:15, "CA") -> 0 | BB15: =COUNTIFS(Planning!$4:$4, "Mardi", Planning!15:15, "CA") -> 0 | BC15: =COUNTIFS(Planning!$4:$4, "Mercredi", Planning!15:15, "CA") -> 0 | BD15: =COUNTIFS(Planning!$4:$4, "Jeudi", Planning!15:15, "CA") -> 0 | BE15: =COUNTIFS(Planning!$4:$4, "Vendredi", Planning!15:15, "CA") -> 0 | BF15: =SUM(BA15:BE15) -> 0 | BG15: =COUNTIFS(Planning!$4:$4, "Lundi", Planning!15:15, "FC") -> 0 | BH15: =COUNTIFS(Planning!$4:$4, "Mardi", Planning!15:15, "FC") -> 0 | BI15: =COUNTIFS(Planning!$4:$4, "Mercredi", Planning!15:15, "FC") -> 0 | BJ15: =COUNTIFS(Planning!$4:$4, "Jeudi", Planning!15:15, "FC") -> 0 | BK15: =COUNTIFS(Planning!$4:$4, "Vendredi", Planning!15:15, "FC") -> 0 | BL15: =COUNTIFS(Planning!$4:$4, "Samedi", Planning!15:15, "FC") -> 0 | BM15: =COUNTIFS(Planning!$4:$4, "Dimanche", Planning!15:15, "FC") -> 0 | BN15: =SUM(BG15:BM15) -> 0
A16: =Planning!A16 -> Agent 11 | B16: =COUNTIFS(Planning!$4:$4,B$5, Planning!16:16,$B$4) -> 0 | C16: =COUNTIFS(Planning!$4:$4,C$5, Planning!16:16,$B$4) -> 0 | D16: =COUNTIFS(Planning!$4:$4,D$5, Planning!16:16,$B$4) -> 0 | E16: =COUNTIFS(Planning!$4:$4,E$5, Planning!16:16,$B$4) -> 0 | F16: =COUNTIFS(Planning!$4:$4,F$5, Planning!16:16,$B$4) -> 0 | G16: =COUNTIFS(Planning!$4:$4,G$5, Planning!16:16,$B$4) -> 0 | H16: =COUNTIFS(Planning!$4:$4,H$5, Planning!16:16,$B$4) -> 0 | I16: =SUM(B16:G16) -> 0 | M16: =COUNTIFS(Planning!$4:$4, "Dimanche", Planning!16:16, "ARH") -> 0 | N16: =COUNTIFS(Planning!$4:$4, "Lundi", Planning!16:16, "AB1") -> 0 | O16: =COUNTIFS(Planning!$4:$4, "Mardi", Planning!16:16, "AB1") -> 0 | P16: =COUNTIFS(Planning!$4:$4, "Mercredi", Planning!16:16, "AB1") -> 0 | Q16: =COUNTIFS(Planning!$4:$4, "Jeudi", Planning!16:16, "AB1") -> 0 | R16: =COUNTIFS(Planning!$4:$4, "Vendredi", Planning!16:16, "AB1") -> 0 | S16: =COUNTIFS(Planning!$4:$4, "Samedi", Planning!16:16, "AB1") -> 0 | T16: =COUNTIFS(Planning!$4:$4, "Dimanche", Planning!16:16, "AB1") -> 0 | U16: =SUM(N16:T16) -> 0 | V16: =COUNTIFS(Planning!$4:$4, "Lundi", Planning!16:16, "AB3") -> 0 | W16: =COUNTIFS(Planning!$4:$4, "Mardi", Planning!16:16, "AB3") -> 0 | X16: =COUNTIFS(Planning!$4:$4, "Mercredi", Planning!16:16, "AB3") -> 0 | Y16: =COUNTIFS(Planning!$4:$4, "Jeudi", Planning!16:16, "AB3") -> 0 | Z16: =COUNTIFS(Planning!$4:$4, "Vendredi", Planning!16:16, "AB3") -> 0 | AA16: =COUNTIFS(Planning!$4:$4, "Samedi", Planning!16:16, "AB3") -> 0 | AB16: =SUM(V16:AA16) -> 0 | AC16: =COUNTIFS(Planning!$4:$4, "Lundi", Planning!16:16, "AJF") -> 0 | AD16: =COUNTIFS(Planning!$4:$4, "Mardi", Planning!16:16, "AJF") -> 0 | AE16: =COUNTIFS(Planning!$4:$4, "Mercredi", Planning!16:16, "AJF") -> 0 | AF16: =COUNTIFS(Planning!$4:$4, "Jeudi", Planning!16:16, "AJF") -> 0 | AG16: =COUNTIFS(Planning!$4:$4, "Vendredi", Planning!16:16, "AJF") -> 0 | AH16: =COUNTIFS(Planning!$4:$4, "Samedi", Planning!16:16, "AJF") -> 0 | AI16: =COUNTIFS(Planning!$4:$4, "Dimanche", Planning!16:16, "AJF") -> 0 | AJ16: =SUM(AC16:AI16) -> 0 | AK16: =COUNTIFS(Planning!$4:$4, "Lundi", Planning!16:16, "B2") -> 0 | AL16: =COUNTIFS(Planning!$4:$4, "Mardi", Planning!16:16, "B2") -> 0 | AM16: =COUNTIFS(Planning!$4:$4, "Mercredi", Planning!16:16, "B2") -> 0 | AN16: =COUNTIFS(Planning!$4:$4, "Jeudi", Planning!16:16, "B2") -> 0 | AO16: =COUNTIFS(Planning!$4:$4, "Vendredi", Planning!16:16, "B2") -> 0 | AP16: =COUNTIFS(Planning!$4:$4, "Samedi", Planning!16:16, "B2") -> 0 | AQ16: =COUNTIFS(Planning!$4:$4, "Dimanche", Planning!16:16, "B2") -> 0 | AR16: =SUM(AK16:AQ16) -> 0 | AS16: =COUNTIFS(Planning!$4:$4, "Lundi", Planning!16:16, "RTT") -> 0 | AT16: =COUNTIFS(Planning!$4:$4, "Mardi", Planning!16:16, "RTT") -> 0 | AU16: =COUNTIFS(Planning!$4:$4, "Mercredi", Planning!16:16, "RTT") -> 0 | AV16: =COUNTIFS(Planning!$4:$4, "Jeudi", Planning!16:16, "RTT") -> 0 | AW16: =COUNTIFS(Planning!$4:$4, "Vendredi", Planning!16:16, "RTT") -> 0 | AX16: =COUNTIFS(Planning!$4:$4, "Samedi", Planning!16:16, "RTT") -> 0 | AY16: =COUNTIFS(Planning!$4:$4, "Dimanche", Planning!16:16, "RTT") -> 0 | AZ16: =SUM(AS16:AY16) -> 0 | BA16: =COUNTIFS(Planning!$4:$4, "Lundi", Planning!16:16, "CA") -> 0 | BB16: =COUNTIFS(Planning!$4:$4, "Mardi", Planning!16:16, "CA") -> 0 | BC16: =COUNTIFS(Planning!$4:$4, "Mercredi", Planning!16:16, "CA") -> 0 | BD16: =COUNTIFS(Planning!$4:$4, "Jeudi", Planning!16:16, "CA") -> 0 | BE16: =COUNTIFS(Planning!$4:$4, "Vendredi", Planning!16:16, "CA") -> 0 | BF16: =SUM(BA16:BE16) -> 0 | BG16: =COUNTIFS(Planning!$4:$4, "Lundi", Planning!16:16, "FC") -> 0 | BH16: =COUNTIFS(Planning!$4:$4, "Mardi", Planning!16:16, "FC") -> 0 | BI16: =COUNTIFS(Planning!$4:$4, "Mercredi", Planning!16:16, "FC") -> 0 | BJ16: =COUNTIFS(Planning!$4:$4, "Jeudi", Planning!16:16, "FC") -> 0 | BK16: =COUNTIFS(Planning!$4:$4, "Vendredi", Planning!16:16, "FC") -> 0 | BL16: =COUNTIFS(Planning!$4:$4, "Samedi", Planning!16:16, "FC") -> 0 | BM16: =COUNTIFS(Planning!$4:$4, "Dimanche", Planning!16:16, "FC") -> 0 | BN16: =SUM(BG16:BM16) -> 0
A17: =Planning!A17 -> Agent 12 | B17: =COUNTIFS(Planning!$4:$4,B$5, Planning!17:17,$B$4) -> 0 | C17: =COUNTIFS(Planning!$4:$4,C$5, Planning!17:17,$B$4) -> 0 | D17: =COUNTIFS(Planning!$4:$4,D$5, Planning!17:17,$B$4) -> 0 | E17: =COUNTIFS(Planning!$4:$4,E$5, Planning!17:17,$B$4) -> 0 | F17: =COUNTIFS(Planning!$4:$4,F$5, Planning!17:17,$B$4) -> 0 | G17: =COUNTIFS(Planning!$4:$4,G$5, Planning!17:17,$B$4) -> 0 | H17: =COUNTIFS(Planning!$4:$4,H$5, Planning!17:17,$B$4) -> 0 | I17: =SUM(B17:G17) -> 0 | M17: =COUNTIFS(Planning!$4:$4, "Dimanche", Planning!17:17, "ARH") -> 0 | N17: =COUNTIFS(Planning!$4:$4, "Lundi", Planning!17:17, "AB1") -> 0 | O17: =COUNTIFS(Planning!$4:$4, "Mardi", Planning!17:17, "AB1") -> 0 | P17: =COUNTIFS(Planning!$4:$4, "Mercredi", Planning!17:17, "AB1") -> 0 | Q17: =COUNTIFS(Planning!$4:$4, "Jeudi", Planning!17:17, "AB1") -> 0 | R17: =COUNTIFS(Planning!$4:$4, "Vendredi", Planning!17:17, "AB1") -> 0 | S17: =COUNTIFS(Planning!$4:$4, "Samedi", Planning!17:17, "AB1") -> 0 | T17: =COUNTIFS(Planning!$4:$4, "Dimanche", Planning!17:17, "AB1") -> 0 | U17: =SUM(N17:T17) -> 0 | V17: =COUNTIFS(Planning!$4:$4, "Lundi", Planning!17:17, "AB3") -> 0 | W17: =COUNTIFS(Planning!$4:$4, "Mardi", Planning!17:17, "AB3") -> 0 | X17: =COUNTIFS(Planning!$4:$4, "Mercredi", Planning!17:17, "AB3") -> 0 | Y17: =COUNTIFS(Planning!$4:$4, "Jeudi", Planning!17:17, "AB3") -> 0 | Z17: =COUNTIFS(Planning!$4:$4, "Vendredi", Planning!17:17, "AB3") -> 0 | AA17: =COUNTIFS(Planning!$4:$4, "Samedi", Planning!17:17, "AB3") -> 0 | AB17: =SUM(V17:AA17) -> 0 | AC17: =COUNTIFS(Planning!$4:$4, "Lundi", Planning!17:17, "AJF") -> 0 | AD17: =COUNTIFS(Planning!$4:$4, "Mardi", Planning!17:17, "AJF") -> 0 | AE17: =COUNTIFS(Planning!$4:$4, "Mercredi", Planning!17:17, "AJF") -> 0 | AF17: =COUNTIFS(Planning!$4:$4, "Jeudi", Planning!17:17, "AJF") -> 0 | AG17: =COUNTIFS(Planning!$4:$4, "Vendredi", Planning!17:17, "AJF") -> 0 | AH17: =COUNTIFS(Planning!$4:$4, "Samedi", Planning!17:17, "AJF") -> 0 | AI17: =COUNTIFS(Planning!$4:$4, "Dimanche", Planning!17:17, "AJF") -> 0 | AJ17: =SUM(AC17:AI17) -> 0 | AK17: =COUNTIFS(Planning!$4:$4, "Lundi", Planning!17:17, "B2") -> 0 | AL17: =COUNTIFS(Planning!$4:$4, "Mardi", Planning!17:17, "B2") -> 0 | AM17: =COUNTIFS(Planning!$4:$4, "Mercredi", Planning!17:17, "B2") -> 0 | AN17: =COUNTIFS(Planning!$4:$4, "Jeudi", Planning!17:17, "B2") -> 0 | AO17: =COUNTIFS(Planning!$4:$4, "Vendredi", Planning!17:17, "B2") -> 0 | AP17: =COUNTIFS(Planning!$4:$4, "Samedi", Planning!17:17, "B2") -> 0 | AQ17: =COUNTIFS(Planning!$4:$4, "Dimanche", Planning!17:17, "B2") -> 0 | AR17: =SUM(AK17:AQ17) -> 0 | AS17: =COUNTIFS(Planning!$4:$4, "Lundi", Planning!17:17, "RTT") -> 0 | AT17: =COUNTIFS(Planning!$4:$4, "Mardi", Planning!17:17, "RTT") -> 0 | AU17: =COUNTIFS(Planning!$4:$4, "Mercredi", Planning!17:17, "RTT") -> 0 | AV17: =COUNTIFS(Planning!$4:$4, "Jeudi", Planning!17:17, "RTT") -> 0 | AW17: =COUNTIFS(Planning!$4:$4, "Vendredi", Planning!17:17, "RTT") -> 0 | AX17: =COUNTIFS(Planning!$4:$4, "Samedi", Planning!17:17, "RTT") -> 0 | AY17: =COUNTIFS(Planning!$4:$4, "Dimanche", Planning!17:17, "RTT") -> 0 | AZ17: =SUM(AS17:AY17) -> 0 | BA17: =COUNTIFS(Planning!$4:$4, "Lundi", Planning!17:17, "CA") -> 0 | BB17: =COUNTIFS(Planning!$4:$4, "Mardi", Planning!17:17, "CA") -> 0 | BC17: =COUNTIFS(Planning!$4:$4, "Mercredi", Planning!17:17, "CA") -> 0 | BD17: =COUNTIFS(Planning!$4:$4, "Jeudi", Planning!17:17, "CA") -> 0 | BE17: =COUNTIFS(Planning!$4:$4, "Vendredi", Planning!17:17, "CA") -> 0 | BF17: =SUM(BA17:BE17) -> 0 | BG17: =COUNTIFS(Planning!$4:$4, "Lundi", Planning!17:17, "FC") -> 0 | BH17: =COUNTIFS(Planning!$4:$4, "Mardi", Planning!17:17, "FC") -> 0 | BI17: =COUNTIFS(Planning!$4:$4, "Mercredi", Planning!17:17, "FC") -> 0 | BJ17: =COUNTIFS(Planning!$4:$4, "Jeudi", Planning!17:17, "FC") -> 0 | BK17: =COUNTIFS(Planning!$4:$4, "Vendredi", Planning!17:17, "FC") -> 0 | BL17: =COUNTIFS(Planning!$4:$4, "Samedi", Planning!17:17, "FC") -> 0 | BM17: =COUNTIFS(Planning!$4:$4, "Dimanche", Planning!17:17, "FC") -> 0 | BN17: =SUM(BG17:BM17) -> 0
A18: =Planning!A18 -> Agent 13 | B18: =COUNTIFS(Planning!$4:$4,B$5, Planning!18:18,$B$4) -> 0 | C18: =COUNTIFS(Planning!$4:$4,C$5, Planning!18:18,$B$4) -> 0 | D18: =COUNTIFS(Planning!$4:$4,D$5, Planning!18:18,$B$4) -> 0 | E18: =COUNTIFS(Planning!$4:$4,E$5, Planning!18:18,$B$4) -> 0 | F18: =COUNTIFS(Planning!$4:$4,F$5, Planning!18:18,$B$4) -> 0 | G18: =COUNTIFS(Planning!$4:$4,G$5, Planning!18:18,$B$4) -> 0 | H18: =COUNTIFS(Planning!$4:$4,H$5, Planning!18:18,$B$4) -> 0 | I18: =SUM(B18:G18) -> 0 | M18: =COUNTIFS(Planning!$4:$4, "Dimanche", Planning!18:18, "ARH") -> 0 | N18: =COUNTIFS(Planning!$4:$4, "Lundi", Planning!18:18, "AB1") -> 0 | O18: =COUNTIFS(Planning!$4:$4, "Mardi", Planning!18:18, "AB1") -> 0 | P18: =COUNTIFS(Planning!$4:$4, "Mercredi", Planning!18:18, "AB1") -> 0 | Q18: =COUNTIFS(Planning!$4:$4, "Jeudi", Planning!18:18, "AB1") -> 0 | R18: =COUNTIFS(Planning!$4:$4, "Vendredi", Planning!18:18, "AB1") -> 0 | S18: =COUNTIFS(Planning!$4:$4, "Samedi", Planning!18:18, "AB1") -> 0 | T18: =COUNTIFS(Planning!$4:$4, "Dimanche", Planning!18:18, "AB1") -> 0 | U18: =SUM(N18:T18) -> 0 | V18: =COUNTIFS(Planning!$4:$4, "Lundi", Planning!18:18, "AB3") -> 0 | W18: =COUNTIFS(Planning!$4:$4, "Mardi", Planning!18:18, "AB3") -> 0 | X18: =COUNTIFS(Planning!$4:$4, "Mercredi", Planning!18:18, "AB3") -> 0 | Y18: =COUNTIFS(Planning!$4:$4, "Jeudi", Planning!18:18, "AB3") -> 0 | Z18: =COUNTIFS(Planning!$4:$4, "Vendredi", Planning!18:18, "AB3") -> 0 | AA18: =COUNTIFS(Planning!$4:$4, "Samedi", Planning!18:18, "AB3") -> 0 | AB18: =SUM(V18:AA18) -> 0 | AC18: =COUNTIFS(Planning!$4:$4, "Lundi", Planning!18:18, "AJF") -> 0 | AD18: =COUNTIFS(Planning!$4:$4, "Mardi", Planning!18:18, "AJF") -> 0 | AE18: =COUNTIFS(Planning!$4:$4, "Mercredi", Planning!18:18, "AJF") -> 0 | AF18: =COUNTIFS(Planning!$4:$4, "Jeudi", Planning!18:18, "AJF") -> 0 | AG18: =COUNTIFS(Planning!$4:$4, "Vendredi", Planning!18:18, "AJF") -> 0 | AH18: =COUNTIFS(Planning!$4:$4, "Samedi", Planning!18:18, "AJF") -> 0 | AI18: =COUNTIFS(Planning!$4:$4, "Dimanche", Planning!18:18, "AJF") -> 0 | AJ18: =SUM(AC18:AI18) -> 0 | AK18: =COUNTIFS(Planning!$4:$4, "Lundi", Planning!18:18, "B2") -> 0 | AL18: =COUNTIFS(Planning!$4:$4, "Mardi", Planning!18:18, "B2") -> 0 | AM18: =COUNTIFS(Planning!$4:$4, "Mercredi", Planning!18:18, "B2") -> 0 | AN18: =COUNTIFS(Planning!$4:$4, "Jeudi", Planning!18:18, "B2") -> 0 | AO18: =COUNTIFS(Planning!$4:$4, "Vendredi", Planning!18:18, "B2") -> 0 | AP18: =COUNTIFS(Planning!$4:$4, "Samedi", Planning!18:18, "B2") -> 0 | AQ18: =COUNTIFS(Planning!$4:$4, "Dimanche", Planning!18:18, "B2") -> 0 | AR18: =SUM(AK18:AQ18) -> 0 | AS18: =COUNTIFS(Planning!$4:$4, "Lundi", Planning!18:18, "RTT") -> 0 | AT18: =COUNTIFS(Planning!$4:$4, "Mardi", Planning!18:18, "RTT") -> 0 | AU18: =COUNTIFS(Planning!$4:$4, "Mercredi", Planning!18:18, "RTT") -> 0 | AV18: =COUNTIFS(Planning!$4:$4, "Jeudi", Planning!18:18, "RTT") -> 0 | AW18: =COUNTIFS(Planning!$4:$4, "Vendredi", Planning!18:18, "RTT") -> 0 | AX18: =COUNTIFS(Planning!$4:$4, "Samedi", Planning!18:18, "RTT") -> 0 | AY18: =COUNTIFS(Planning!$4:$4, "Dimanche", Planning!18:18, "RTT") -> 0 | AZ18: =SUM(AS18:AY18) -> 0 | BA18: =COUNTIFS(Planning!$4:$4, "Lundi", Planning!18:18, "CA") -> 0 | BB18: =COUNTIFS(Planning!$4:$4, "Mardi", Planning!18:18, "CA") -> 0 | BC18: =COUNTIFS(Planning!$4:$4, "Mercredi", Planning!18:18, "CA") -> 0 | BD18: =COUNTIFS(Planning!$4:$4, "Jeudi", Planning!18:18, "CA") -> 0 | BE18: =COUNTIFS(Planning!$4:$4, "Vendredi", Planning!18:18, "CA") -> 0 | BF18: =SUM(BA18:BE18) -> 0 | BG18: =COUNTIFS(Planning!$4:$4, "Lundi", Planning!18:18, "FC") -> 0 | BH18: =COUNTIFS(Planning!$4:$4, "Mardi", Planning!18:18, "FC") -> 0 | BI18: =COUNTIFS(Planning!$4:$4, "Mercredi", Planning!18:18, "FC") -> 0 | BJ18: =COUNTIFS(Planning!$4:$4, "Jeudi", Planning!18:18, "FC") -> 0 | BK18: =COUNTIFS(Planning!$4:$4, "Vendredi", Planning!18:18, "FC") -> 0 | BL18: =COUNTIFS(Planning!$4:$4, "Samedi", Planning!18:18, "FC") -> 0 | BM18: =COUNTIFS(Planning!$4:$4, "Dimanche", Planning!18:18, "FC") -> 0 | BN18: =SUM(BG18:BM18) -> 0
A19: =Planning!A19 -> Agent 14 | B19: =COUNTIFS(Planning!$4:$4,B$5, Planning!19:19,$B$4) -> 0 | C19: =COUNTIFS(Planning!$4:$4,C$5, Planning!19:19,$B$4) -> 0 | D19: =COUNTIFS(Planning!$4:$4,D$5, Planning!19:19,$B$4) -> 0 | E19: =COUNTIFS(Planning!$4:$4,E$5, Planning!19:19,$B$4) -> 0 | F19: =COUNTIFS(Planning!$4:$4,F$5, Planning!19:19,$B$4) -> 0 | G19: =COUNTIFS(Planning!$4:$4,G$5, Planning!19:19,$B$4) -> 0 | H19: =COUNTIFS(Planning!$4:$4,H$5, Planning!19:19,$B$4) -> 0 | I19: =SUM(B19:G19) -> 0 | M19: =COUNTIFS(Planning!$4:$4, "Dimanche", Planning!19:19, "ARH") -> 0 | N19: =COUNTIFS(Planning!$4:$4, "Lundi", Planning!19:19, "AB1") -> 0 | O19: =COUNTIFS(Planning!$4:$4, "Mardi", Planning!19:19, "AB1") -> 0 | P19: =COUNTIFS(Planning!$4:$4, "Mercredi", Planning!19:19, "AB1") -> 0 | Q19: =COUNTIFS(Planning!$4:$4, "Jeudi", Planning!19:19, "AB1") -> 0 | R19: =COUNTIFS(Planning!$4:$4, "Vendredi", Planning!19:19, "AB1") -> 0 | S19: =COUNTIFS(Planning!$4:$4, "Samedi", Planning!19:19, "AB1") -> 0 | T19: =COUNTIFS(Planning!$4:$4, "Dimanche", Planning!19:19, "AB1") -> 0 | U19: =SUM(N19:T19) -> 0 | V19: =COUNTIFS(Planning!$4:$4, "Lundi", Planning!19:19, "AB3") -> 0 | W19: =COUNTIFS(Planning!$4:$4, "Mardi", Planning!19:19, "AB3") -> 0 | X19: =COUNTIFS(Planning!$4:$4, "Mercredi", Planning!19:19, "AB3") -> 0 | Y19: =COUNTIFS(Planning!$4:$4, "Jeudi", Planning!19:19, "AB3") -> 0 | Z19: =COUNTIFS(Planning!$4:$4, "Vendredi", Planning!19:19, "AB3") -> 0 | AA19: =COUNTIFS(Planning!$4:$4, "Samedi", Planning!19:19, "AB3") -> 0 | AB19: =SUM(V19:AA19) -> 0 | AC19: =COUNTIFS(Planning!$4:$4, "Lundi", Planning!19:19, "AJF") -> 0 | AD19: =COUNTIFS(Planning!$4:$4, "Mardi", Planning!19:19, "AJF") -> 0 | AE19: =COUNTIFS(Planning!$4:$4, "Mercredi", Planning!19:19, "AJF") -> 0 | AF19: =COUNTIFS(Planning!$4:$4, "Jeudi", Planning!19:19, "AJF") -> 0 | AG19: =COUNTIFS(Planning!$4:$4, "Vendredi", Planning!19:19, "AJF") -> 0 | AH19: =COUNTIFS(Planning!$4:$4, "Samedi", Planning!19:19, "AJF") -> 0 | AI19: =COUNTIFS(Planning!$4:$4, "Dimanche", Planning!19:19, "AJF") -> 0 | AJ19: =SUM(AC19:AI19) -> 0 | AK19: =COUNTIFS(Planning!$4:$4, "Lundi", Planning!19:19, "B2") -> 0 | AL19: =COUNTIFS(Planning!$4:$4, "Mardi", Planning!19:19, "B2") -> 0 | AM19: =COUNTIFS(Planning!$4:$4, "Mercredi", Planning!19:19, "B2") -> 0 | AN19: =COUNTIFS(Planning!$4:$4, "Jeudi", Planning!19:19, "B2") -> 0 | AO19: =COUNTIFS(Planning!$4:$4, "Vendredi", Planning!19:19, "B2") -> 0 | AP19: =COUNTIFS(Planning!$4:$4, "Samedi", Planning!19:19, "B2") -> 0 | AQ19: =COUNTIFS(Planning!$4:$4, "Dimanche", Planning!19:19, "B2") -> 0 | AR19: =SUM(AK19:AQ19) -> 0 | AS19: =COUNTIFS(Planning!$4:$4, "Lundi", Planning!19:19, "RTT") -> 0 | AT19: =COUNTIFS(Planning!$4:$4, "Mardi", Planning!19:19, "RTT") -> 0 | AU19: =COUNTIFS(Planning!$4:$4, "Mercredi", Planning!19:19, "RTT") -> 0 | AV19: =COUNTIFS(Planning!$4:$4, "Jeudi", Planning!19:19, "RTT") -> 0 | AW19: =COUNTIFS(Planning!$4:$4, "Vendredi", Planning!19:19, "RTT") -> 0 | AX19: =COUNTIFS(Planning!$4:$4, "Samedi", Planning!19:19, "RTT") -> 0 | AY19: =COUNTIFS(Planning!$4:$4, "Dimanche", Planning!19:19, "RTT") -> 0 | AZ19: =SUM(AS19:AY19) -> 0 | BA19: =COUNTIFS(Planning!$4:$4, "Lundi", Planning!19:19, "CA") -> 0 | BB19: =COUNTIFS(Planning!$4:$4, "Mardi", Planning!19:19, "CA") -> 0 | BC19: =COUNTIFS(Planning!$4:$4, "Mercredi", Planning!19:19, "CA") -> 0 | BD19: =COUNTIFS(Planning!$4:$4, "Jeudi", Planning!19:19, "CA") -> 0 | BE19: =COUNTIFS(Planning!$4:$4, "Vendredi", Planning!19:19, "CA") -> 0 | BF19: =SUM(BA19:BE19) -> 0 | BG19: =COUNTIFS(Planning!$4:$4, "Lundi", Planning!19:19, "FC") -> 0 | BH19: =COUNTIFS(Planning!$4:$4, "Mardi", Planning!19:19, "FC") -> 0 | BI19: =COUNTIFS(Planning!$4:$4, "Mercredi", Planning!19:19, "FC") -> 0 | BJ19: =COUNTIFS(Planning!$4:$4, "Jeudi", Planning!19:19, "FC") -> 0 | BK19: =COUNTIFS(Planning!$4:$4, "Vendredi", Planning!19:19, "FC") -> 0 | BL19: =COUNTIFS(Planning!$4:$4, "Samedi", Planning!19:19, "FC") -> 0 | BM19: =COUNTIFS(Planning!$4:$4, "Dimanche", Planning!19:19, "FC") -> 0 | BN19: =SUM(BG19:BM19) -> 0
A20: =Planning!A20 -> Agent 15 | B20: =COUNTIFS(Planning!$4:$4,B$5, Planning!20:20,$B$4) -> 0 | C20: =COUNTIFS(Planning!$4:$4,C$5, Planning!20:20,$B$4) -> 0 | D20: =COUNTIFS(Planning!$4:$4,D$5, Planning!20:20,$B$4) -> 0 | E20: =COUNTIFS(Planning!$4:$4,E$5, Planning!20:20,$B$4) -> 0 | F20: =COUNTIFS(Planning!$4:$4,F$5, Planning!20:20,$B$4) -> 0 | G20: =COUNTIFS(Planning!$4:$4,G$5, Planning!20:20,$B$4) -> 0 | H20: =COUNTIFS(Planning!$4:$4,H$5, Planning!20:20,$B$4) -> 0 | I20: =SUM(B20:G20) -> 0 | M20: =COUNTIFS(Planning!$4:$4, "Dimanche", Planning!20:20, "ARH") -> 0 | N20: =COUNTIFS(Planning!$4:$4, "Lundi", Planning!20:20, "AB1") -> 0 | O20: =COUNTIFS(Planning!$4:$4, "Mardi", Planning!20:20, "AB1") -> 0 | P20: =COUNTIFS(Planning!$4:$4, "Mercredi", Planning!20:20, "AB1") -> 0 | Q20: =COUNTIFS(Planning!$4:$4, "Jeudi", Planning!20:20, "AB1") -> 0 | R20: =COUNTIFS(Planning!$4:$4, "Vendredi", Planning!20:20, "AB1") -> 0 | S20: =COUNTIFS(Planning!$4:$4, "Samedi", Planning!20:20, "AB1") -> 0 | T20: =COUNTIFS(Planning!$4:$4, "Dimanche", Planning!20:20, "AB1") -> 0 | U20: =SUM(N20:T20) -> 0 | V20: =COUNTIFS(Planning!$4:$4, "Lundi", Planning!20:20, "AB3") -> 0 | W20: =COUNTIFS(Planning!$4:$4, "Mardi", Planning!20:20, "AB3") -> 0 | X20: =COUNTIFS(Planning!$4:$4, "Mercredi", Planning!20:20, "AB3") -> 0 | Y20: =COUNTIFS(Planning!$4:$4, "Jeudi", Planning!20:20, "AB3") -> 0 | Z20: =COUNTIFS(Planning!$4:$4, "Vendredi", Planning!20:20, "AB3") -> 0 | AA20: =COUNTIFS(Planning!$4:$4, "Samedi", Planning!20:20, "AB3") -> 0 | AB20: =SUM(V20:AA20) -> 0 | AC20: =COUNTIFS(Planning!$4:$4, "Lundi", Planning!20:20, "AJF") -> 0 | AD20: =COUNTIFS(Planning!$4:$4, "Mardi", Planning!20:20, "AJF") -> 0 | AE20: =COUNTIFS(Planning!$4:$4, "Mercredi", Planning!20:20, "AJF") -> 0 | AF20: =COUNTIFS(Planning!$4:$4, "Jeudi", Planning!20:20, "AJF") -> 0 | AG20: =COUNTIFS(Planning!$4:$4, "Vendredi", Planning!20:20, "AJF") -> 0 | AH20: =COUNTIFS(Planning!$4:$4, "Samedi", Planning!20:20, "AJF") -> 0 | AI20: =COUNTIFS(Planning!$4:$4, "Dimanche", Planning!20:20, "AJF") -> 0 | AJ20: =SUM(AC20:AI20) -> 0 | AK20: =COUNTIFS(Planning!$4:$4, "Lundi", Planning!20:20, "B2") -> 0 | AL20: =COUNTIFS(Planning!$4:$4, "Mardi", Planning!20:20, "B2") -> 0 | AM20: =COUNTIFS(Planning!$4:$4, "Mercredi", Planning!20:20, "B2") -> 0 | AN20: =COUNTIFS(Planning!$4:$4, "Jeudi", Planning!20:20, "B2") -> 0 | AO20: =COUNTIFS(Planning!$4:$4, "Vendredi", Planning!20:20, "B2") -> 0 | AP20: =COUNTIFS(Planning!$4:$4, "Samedi", Planning!20:20, "B2") -> 0 | AQ20: =COUNTIFS(Planning!$4:$4, "Dimanche", Planning!20:20, "B2") -> 0 | AR20: =SUM(AK20:AQ20) -> 0 | AS20: =COUNTIFS(Planning!$4:$4, "Lundi", Planning!20:20, "RTT") -> 0 | AT20: =COUNTIFS(Planning!$4:$4, "Mardi", Planning!20:20, "RTT") -> 0 | AU20: =COUNTIFS(Planning!$4:$4, "Mercredi", Planning!20:20, "RTT") -> 0 | AV20: =COUNTIFS(Planning!$4:$4, "Jeudi", Planning!20:20, "RTT") -> 0 | AW20: =COUNTIFS(Planning!$4:$4, "Vendredi", Planning!20:20, "RTT") -> 0 | AX20: =COUNTIFS(Planning!$4:$4, "Samedi", Planning!20:20, "RTT") -> 0 | AY20: =COUNTIFS(Planning!$4:$4, "Dimanche", Planning!20:20, "RTT") -> 0 | AZ20: =SUM(AS20:AY20) -> 0 | BA20: =COUNTIFS(Planning!$4:$4, "Lundi", Planning!20:20, "CA") -> 0 | BB20: =COUNTIFS(Planning!$4:$4, "Mardi", Planning!20:20, "CA") -> 0 | BC20: =COUNTIFS(Planning!$4:$4, "Mercredi", Planning!20:20, "CA") -> 0 | BD20: =COUNTIFS(Planning!$4:$4, "Jeudi", Planning!20:20, "CA") -> 0 | BE20: =COUNTIFS(Planning!$4:$4, "Vendredi", Planning!20:20, "CA") -> 0 | BF20: =SUM(BA20:BE20) -> 0 | BG20: =COUNTIFS(Planning!$4:$4, "Lundi", Planning!20:20, "FC") -> 0 | BH20: =COUNTIFS(Planning!$4:$4, "Mardi", Planning!20:20, "FC") -> 0 | BI20: =COUNTIFS(Planning!$4:$4, "Mercredi", Planning!20:20, "FC") -> 0 | BJ20: =COUNTIFS(Planning!$4:$4, "Jeudi", Planning!20:20, "FC") -> 0 | BK20: =COUNTIFS(Planning!$4:$4, "Vendredi", Planning!20:20, "FC") -> 0 | BL20: =COUNTIFS(Planning!$4:$4, "Samedi", Planning!20:20, "FC") -> 0 | BM20: =COUNTIFS(Planning!$4:$4, "Dimanche", Planning!20:20, "FC") -> 0 | BN20: =SUM(BG20:BM20) -> 0
A21: =Planning!A21 -> Agent 16 | B21: =COUNTIFS(Planning!$4:$4,B$5, Planning!21:21,$B$4) -> 0 | C21: =COUNTIFS(Planning!$4:$4,C$5, Planning!21:21,$B$4) -> 0 | D21: =COUNTIFS(Planning!$4:$4,D$5, Planning!21:21,$B$4) -> 0 | E21: =COUNTIFS(Planning!$4:$4,E$5, Planning!21:21,$B$4) -> 0 | F21: =COUNTIFS(Planning!$4:$4,F$5, Planning!21:21,$B$4) -> 0 | G21: =COUNTIFS(Planning!$4:$4,G$5, Planning!21:21,$B$4) -> 0 | H21: =COUNTIFS(Planning!$4:$4,H$5, Planning!21:21,$B$4) -> 0 | I21: =SUM(B21:G21) -> 0 | M21: =COUNTIFS(Planning!$4:$4, "Dimanche", Planning!21:21, "ARH") -> 0 | N21: =COUNTIFS(Planning!$4:$4, "Lundi", Planning!21:21, "AB1") -> 0 | O21: =COUNTIFS(Planning!$4:$4, "Mardi", Planning!21:21, "AB1") -> 0 | P21: =COUNTIFS(Planning!$4:$4, "Mercredi", Planning!21:21, "AB1") -> 0 | Q21: =COUNTIFS(Planning!$4:$4, "Jeudi", Planning!21:21, "AB1") -> 0 | R21: =COUNTIFS(Planning!$4:$4, "Vendredi", Planning!21:21, "AB1") -> 0 | S21: =COUNTIFS(Planning!$4:$4, "Samedi", Planning!21:21, "AB1") -> 0 | T21: =COUNTIFS(Planning!$4:$4, "Dimanche", Planning!21:21, "AB1") -> 0 | U21: =SUM(N21:T21) -> 0 | V21: =COUNTIFS(Planning!$4:$4, "Lundi", Planning!21:21, "AB3") -> 0 | W21: =COUNTIFS(Planning!$4:$4, "Mardi", Planning!21:21, "AB3") -> 0 | X21: =COUNTIFS(Planning!$4:$4, "Mercredi", Planning!21:21, "AB3") -> 0 | Y21: =COUNTIFS(Planning!$4:$4, "Jeudi", Planning!21:21, "AB3") -> 0 | Z21: =COUNTIFS(Planning!$4:$4, "Vendredi", Planning!21:21, "AB3") -> 0 | AA21: =COUNTIFS(Planning!$4:$4, "Samedi", Planning!21:21, "AB3") -> 0 | AB21: =SUM(V21:AA21) -> 0 | AC21: =COUNTIFS(Planning!$4:$4, "Lundi", Planning!21:21, "AJF") -> 0 | AD21: =COUNTIFS(Planning!$4:$4, "Mardi", Planning!21:21, "AJF") -> 0 | AE21: =COUNTIFS(Planning!$4:$4, "Mercredi", Planning!21:21, "AJF") -> 0 | AF21: =COUNTIFS(Planning!$4:$4, "Jeudi", Planning!21:21, "AJF") -> 0 | AG21: =COUNTIFS(Planning!$4:$4, "Vendredi", Planning!21:21, "AJF") -> 0 | AH21: =COUNTIFS(Planning!$4:$4, "Samedi", Planning!21:21, "AJF") -> 0 | AI21: =COUNTIFS(Planning!$4:$4, "Dimanche", Planning!21:21, "AJF") -> 0 | AJ21: =SUM(AC21:AI21) -> 0 | AK21: =COUNTIFS(Planning!$4:$4, "Lundi", Planning!21:21, "B2") -> 0 | AL21: =COUNTIFS(Planning!$4:$4, "Mardi", Planning!21:21, "B2") -> 0 | AM21: =COUNTIFS(Planning!$4:$4, "Mercredi", Planning!21:21, "B2") -> 0 | AN21: =COUNTIFS(Planning!$4:$4, "Jeudi", Planning!21:21, "B2") -> 0 | AO21: =COUNTIFS(Planning!$4:$4, "Vendredi", Planning!21:21, "B2") -> 0 | AP21: =COUNTIFS(Planning!$4:$4, "Samedi", Planning!21:21, "B2") -> 0 | AQ21: =COUNTIFS(Planning!$4:$4, "Dimanche", Planning!21:21, "B2") -> 0 | AR21: =SUM(AK21:AQ21) -> 0 | AS21: =COUNTIFS(Planning!$4:$4, "Lundi", Planning!21:21, "RTT") -> 0 | AT21: =COUNTIFS(Planning!$4:$4, "Mardi", Planning!21:21, "RTT") -> 0 | AU21: =COUNTIFS(Planning!$4:$4, "Mercredi", Planning!21:21, "RTT") -> 0 | AV21: =COUNTIFS(Planning!$4:$4, "Jeudi", Planning!21:21, "RTT") -> 0 | AW21: =COUNTIFS(Planning!$4:$4, "Vendredi", Planning!21:21, "RTT") -> 0 | AX21: =COUNTIFS(Planning!$4:$4, "Samedi", Planning!21:21, "RTT") -> 0 | AY21: =COUNTIFS(Planning!$4:$4, "Dimanche", Planning!21:21, "RTT") -> 0 | AZ21: =SUM(AS21:AY21) -> 0 | BA21: =COUNTIFS(Planning!$4:$4, "Lundi", Planning!21:21, "CA") -> 0 | BB21: =COUNTIFS(Planning!$4:$4, "Mardi", Planning!21:21, "CA") -> 0 | BC21: =COUNTIFS(Planning!$4:$4, "Mercredi", Planning!21:21, "CA") -> 0 | BD21: =COUNTIFS(Planning!$4:$4, "Jeudi", Planning!21:21, "CA") -> 0 | BE21: =COUNTIFS(Planning!$4:$4, "Vendredi", Planning!21:21, "CA") -> 0 | BF21: =SUM(BA21:BE21) -> 0 | BG21: =COUNTIFS(Planning!$4:$4, "Lundi", Planning!21:21, "FC") -> 0 | BH21: =COUNTIFS(Planning!$4:$4, "Mardi", Planning!21:21, "FC") -> 0 | BI21: =COUNTIFS(Planning!$4:$4, "Mercredi", Planning!21:21, "FC") -> 0 | BJ21: =COUNTIFS(Planning!$4:$4, "Jeudi", Planning!21:21, "FC") -> 0 | BK21: =COUNTIFS(Planning!$4:$4, "Vendredi", Planning!21:21, "FC") -> 0 | BL21: =COUNTIFS(Planning!$4:$4, "Samedi", Planning!21:21, "FC") -> 0 | BM21: =COUNTIFS(Planning!$4:$4, "Dimanche", Planning!21:21, "FC") -> 0 | BN21: =SUM(BG21:BM21) -> 0
A22: =Planning!A22 -> Agent 17 | B22: =COUNTIFS(Planning!$4:$4,B$5, Planning!22:22,$B$4) -> 0 | C22: =COUNTIFS(Planning!$4:$4,C$5, Planning!22:22,$B$4) -> 0 | D22: =COUNTIFS(Planning!$4:$4,D$5, Planning!22:22,$B$4) -> 0 | E22: =COUNTIFS(Planning!$4:$4,E$5, Planning!22:22,$B$4) -> 0 | F22: =COUNTIFS(Planning!$4:$4,F$5, Planning!22:22,$B$4) -> 0 | G22: =COUNTIFS(Planning!$4:$4,G$5, Planning!22:22,$B$4) -> 0 | H22: =COUNTIFS(Planning!$4:$4,H$5, Planning!22:22,$B$4) -> 0 | I22: =SUM(B22:G22) -> 0 | M22: =COUNTIFS(Planning!$4:$4, "Dimanche", Planning!22:22, "ARH") -> 0 | N22: =COUNTIFS(Planning!$4:$4, "Lundi", Planning!22:22, "AB1") -> 0 | O22: =COUNTIFS(Planning!$4:$4, "Mardi", Planning!22:22, "AB1") -> 0 | P22: =COUNTIFS(Planning!$4:$4, "Mercredi", Planning!22:22, "AB1") -> 0 | Q22: =COUNTIFS(Planning!$4:$4, "Jeudi", Planning!22:22, "AB1") -> 0 | R22: =COUNTIFS(Planning!$4:$4, "Vendredi", Planning!22:22, "AB1") -> 0 | S22: =COUNTIFS(Planning!$4:$4, "Samedi", Planning!22:22, "AB1") -> 0 | T22: =COUNTIFS(Planning!$4:$4, "Dimanche", Planning!22:22, "AB1") -> 0 | U22: =SUM(N22:T22) -> 0 | V22: =COUNTIFS(Planning!$4:$4, "Lundi", Planning!22:22, "AB3") -> 0 | W22: =COUNTIFS(Planning!$4:$4, "Mardi", Planning!22:22, "AB3") -> 0 | X22: =COUNTIFS(Planning!$4:$4, "Mercredi", Planning!22:22, "AB3") -> 0 | Y22: =COUNTIFS(Planning!$4:$4, "Jeudi", Planning!22:22, "AB3") -> 0 | Z22: =COUNTIFS(Planning!$4:$4, "Vendredi", Planning!22:22, "AB3") -> 0 | AA22: =COUNTIFS(Planning!$4:$4, "Samedi", Planning!22:22, "AB3") -> 0 | AB22: =SUM(V22:AA22) -> 0 | AC22: =COUNTIFS(Planning!$4:$4, "Lundi", Planning!22:22, "AJF") -> 0 | AD22: =COUNTIFS(Planning!$4:$4, "Mardi", Planning!22:22, "AJF") -> 0 | AE22: =COUNTIFS(Planning!$4:$4, "Mercredi", Planning!22:22, "AJF") -> 0 | AF22: =COUNTIFS(Planning!$4:$4, "Jeudi", Planning!22:22, "AJF") -> 0 | AG22: =COUNTIFS(Planning!$4:$4, "Vendredi", Planning!22:22, "AJF") -> 0 | AH22: =COUNTIFS(Planning!$4:$4, "Samedi", Planning!22:22, "AJF") -> 0 | AI22: =COUNTIFS(Planning!$4:$4, "Dimanche", Planning!22:22, "AJF") -> 0 | AJ22: =SUM(AC22:AI22) -> 0 | AK22: =COUNTIFS(Planning!$4:$4, "Lundi", Planning!22:22, "B2") -> 0 | AL22: =COUNTIFS(Planning!$4:$4, "Mardi", Planning!22:22, "B2") -> 0 | AM22: =COUNTIFS(Planning!$4:$4, "Mercredi", Planning!22:22, "B2") -> 0 | AN22: =COUNTIFS(Planning!$4:$4, "Jeudi", Planning!22:22, "B2") -> 0 | AO22: =COUNTIFS(Planning!$4:$4, "Vendredi", Planning!22:22, "B2") -> 0 | AP22: =COUNTIFS(Planning!$4:$4, "Samedi", Planning!22:22, "B2") -> 0 | AQ22: =COUNTIFS(Planning!$4:$4, "Dimanche", Planning!22:22, "B2") -> 0 | AR22: =SUM(AK22:AQ22) -> 0 | AS22: =COUNTIFS(Planning!$4:$4, "Lundi", Planning!22:22, "RTT") -> 0 | AT22: =COUNTIFS(Planning!$4:$4, "Mardi", Planning!22:22, "RTT") -> 0 | AU22: =COUNTIFS(Planning!$4:$4, "Mercredi", Planning!22:22, "RTT") -> 0 | AV22: =COUNTIFS(Planning!$4:$4, "Jeudi", Planning!22:22, "RTT") -> 0 | AW22: =COUNTIFS(Planning!$4:$4, "Vendredi", Planning!22:22, "RTT") -> 0 | AX22: =COUNTIFS(Planning!$4:$4, "Samedi", Planning!22:22, "RTT") -> 0 | AY22: =COUNTIFS(Planning!$4:$4, "Dimanche", Planning!22:22, "RTT") -> 0 | AZ22: =SUM(AS22:AY22) -> 0 | BA22: =COUNTIFS(Planning!$4:$4, "Lundi", Planning!22:22, "CA") -> 0 | BB22: =COUNTIFS(Planning!$4:$4, "Mardi", Planning!22:22, "CA") -> 0 | BC22: =COUNTIFS(Planning!$4:$4, "Mercredi", Planning!22:22, "CA") -> 0 | BD22: =COUNTIFS(Planning!$4:$4, "Jeudi", Planning!22:22, "CA") -> 0 | BE22: =COUNTIFS(Planning!$4:$4, "Vendredi", Planning!22:22, "CA") -> 0 | BF22: =SUM(BA22:BE22) -> 0 | BG22: =COUNTIFS(Planning!$4:$4, "Lundi", Planning!22:22, "FC") -> 0 | BH22: =COUNTIFS(Planning!$4:$4, "Mardi", Planning!22:22, "FC") -> 0 | BI22: =COUNTIFS(Planning!$4:$4, "Mercredi", Planning!22:22, "FC") -> 0 | BJ22: =COUNTIFS(Planning!$4:$4, "Jeudi", Planning!22:22, "FC") -> 0 | BK22: =COUNTIFS(Planning!$4:$4, "Vendredi", Planning!22:22, "FC") -> 0 | BL22: =COUNTIFS(Planning!$4:$4, "Samedi", Planning!22:22, "FC") -> 0 | BM22: =COUNTIFS(Planning!$4:$4, "Dimanche", Planning!22:22, "FC") -> 0 | BN22: =SUM(BG22:BM22) -> 0
A23: =Planning!A23 -> Agent 18 | B23: =COUNTIFS(Planning!$4:$4,B$5, Planning!23:23,$B$4) -> 0 | C23: =COUNTIFS(Planning!$4:$4,C$5, Planning!23:23,$B$4) -> 0 | D23: =COUNTIFS(Planning!$4:$4,D$5, Planning!23:23,$B$4) -> 0 | E23: =COUNTIFS(Planning!$4:$4,E$5, Planning!23:23,$B$4) -> 0 | F23: =COUNTIFS(Planning!$4:$4,F$5, Planning!23:23,$B$4) -> 0 | G23: =COUNTIFS(Planning!$4:$4,G$5, Planning!23:23,$B$4) -> 0 | H23: =COUNTIFS(Planning!$4:$4,H$5, Planning!23:23,$B$4) -> 0 | I23: =SUM(B23:G23) -> 0 | M23: =COUNTIFS(Planning!$4:$4, "Dimanche", Planning!23:23, "ARH") -> 0 | N23: =COUNTIFS(Planning!$4:$4, "Lundi", Planning!23:23, "AB1") -> 0 | O23: =COUNTIFS(Planning!$4:$4, "Mardi", Planning!23:23, "AB1") -> 0 | P23: =COUNTIFS(Planning!$4:$4, "Mercredi", Planning!23:23, "AB1") -> 0 | Q23: =COUNTIFS(Planning!$4:$4, "Jeudi", Planning!23:23, "AB1") -> 0 | R23: =COUNTIFS(Planning!$4:$4, "Vendredi", Planning!23:23, "AB1") -> 0 | S23: =COUNTIFS(Planning!$4:$4, "Samedi", Planning!23:23, "AB1") -> 0 | T23: =COUNTIFS(Planning!$4:$4, "Dimanche", Planning!23:23, "AB1") -> 0 | U23: =SUM(N23:T23) -> 0 | V23: =COUNTIFS(Planning!$4:$4, "Lundi", Planning!23:23, "AB3") -> 0 | W23: =COUNTIFS(Planning!$4:$4, "Mardi", Planning!23:23, "AB3") -> 0 | X23: =COUNTIFS(Planning!$4:$4, "Mercredi", Planning!23:23, "AB3") -> 0 | Y23: =COUNTIFS(Planning!$4:$4, "Jeudi", Planning!23:23, "AB3") -> 0 | Z23: =COUNTIFS(Planning!$4:$4, "Vendredi", Planning!23:23, "AB3") -> 0 | AA23: =COUNTIFS(Planning!$4:$4, "Samedi", Planning!23:23, "AB3") -> 0 | AB23: =SUM(V23:AA23) -> 0 | AC23: =COUNTIFS(Planning!$4:$4, "Lundi", Planning!23:23, "AJF") -> 0 | AD23: =COUNTIFS(Planning!$4:$4, "Mardi", Planning!23:23, "AJF") -> 0 | AE23: =COUNTIFS(Planning!$4:$4, "Mercredi", Planning!23:23, "AJF") -> 0 | AF23: =COUNTIFS(Planning!$4:$4, "Jeudi", Planning!23:23, "AJF") -> 0 | AG23: =COUNTIFS(Planning!$4:$4, "Vendredi", Planning!23:23, "AJF") -> 0 | AH23: =COUNTIFS(Planning!$4:$4, "Samedi", Planning!23:23, "AJF") -> 0 | AI23: =COUNTIFS(Planning!$4:$4, "Dimanche", Planning!23:23, "AJF") -> 0 | AJ23: =SUM(AC23:AI23) -> 0 | AK23: =COUNTIFS(Planning!$4:$4, "Lundi", Planning!23:23, "B2") -> 0 | AL23: =COUNTIFS(Planning!$4:$4, "Mardi", Planning!23:23, "B2") -> 0 | AM23: =COUNTIFS(Planning!$4:$4, "Mercredi", Planning!23:23, "B2") -> 0 | AN23: =COUNTIFS(Planning!$4:$4, "Jeudi", Planning!23:23, "B2") -> 0 | AO23: =COUNTIFS(Planning!$4:$4, "Vendredi", Planning!23:23, "B2") -> 0 | AP23: =COUNTIFS(Planning!$4:$4, "Samedi", Planning!23:23, "B2") -> 0 | AQ23: =COUNTIFS(Planning!$4:$4, "Dimanche", Planning!23:23, "B2") -> 0 | AR23: =SUM(AK23:AQ23) -> 0 | AS23: =COUNTIFS(Planning!$4:$4, "Lundi", Planning!23:23, "RTT") -> 0 | AT23: =COUNTIFS(Planning!$4:$4, "Mardi", Planning!23:23, "RTT") -> 0 | AU23: =COUNTIFS(Planning!$4:$4, "Mercredi", Planning!23:23, "RTT") -> 0 | AV23: =COUNTIFS(Planning!$4:$4, "Jeudi", Planning!23:23, "RTT") -> 0 | AW23: =COUNTIFS(Planning!$4:$4, "Vendredi", Planning!23:23, "RTT") -> 0 | AX23: =COUNTIFS(Planning!$4:$4, "Samedi", Planning!23:23, "RTT") -> 0 | AY23: =COUNTIFS(Planning!$4:$4, "Dimanche", Planning!23:23, "RTT") -> 0 | AZ23: =SUM(AS23:AY23) -> 0 | BA23: =COUNTIFS(Planning!$4:$4, "Lundi", Planning!23:23, "CA") -> 0 | BB23: =COUNTIFS(Planning!$4:$4, "Mardi", Planning!23:23, "CA") -> 0 | BC23: =COUNTIFS(Planning!$4:$4, "Mercredi", Planning!23:23, "CA") -> 0 | BD23: =COUNTIFS(Planning!$4:$4, "Jeudi", Planning!23:23, "CA") -> 0 | BE23: =COUNTIFS(Planning!$4:$4, "Vendredi", Planning!23:23, "CA") -> 0 | BF23: =SUM(BA23:BE23) -> 0 | BG23: =COUNTIFS(Planning!$4:$4, "Lundi", Planning!23:23, "FC") -> 0 | BH23: =COUNTIFS(Planning!$4:$4, "Mardi", Planning!23:23, "FC") -> 0 | BI23: =COUNTIFS(Planning!$4:$4, "Mercredi", Planning!23:23, "FC") -> 0 | BJ23: =COUNTIFS(Planning!$4:$4, "Jeudi", Planning!23:23, "FC") -> 0 | BK23: =COUNTIFS(Planning!$4:$4, "Vendredi", Planning!23:23, "FC") -> 0 | BL23: =COUNTIFS(Planning!$4:$4, "Samedi", Planning!23:23, "FC") -> 0 | BM23: =COUNTIFS(Planning!$4:$4, "Dimanche", Planning!23:23, "FC") -> 0 | BN23: =SUM(BG23:BM23) -> 0
A24: =Planning!A24 -> Agent 19 | B24: =COUNTIFS(Planning!$4:$4,B$5, Planning!24:24,$B$4) -> 0 | C24: =COUNTIFS(Planning!$4:$4,C$5, Planning!24:24,$B$4) -> 0 | D24: =COUNTIFS(Planning!$4:$4,D$5, Planning!24:24,$B$4) -> 0 | E24: =COUNTIFS(Planning!$4:$4,E$5, Planning!24:24,$B$4) -> 0 | F24: =COUNTIFS(Planning!$4:$4,F$5, Planning!24:24,$B$4) -> 0 | G24: =COUNTIFS(Planning!$4:$4,G$5, Planning!24:24,$B$4) -> 0 | H24: =COUNTIFS(Planning!$4:$4,H$5, Planning!24:24,$B$4) -> 0 | I24: =SUM(B24:G24) -> 0 | M24: =COUNTIFS(Planning!$4:$4, "Dimanche", Planning!24:24, "ARH") -> 0 | N24: =COUNTIFS(Planning!$4:$4, "Lundi", Planning!24:24, "AB1") -> 0 | O24: =COUNTIFS(Planning!$4:$4, "Mardi", Planning!24:24, "AB1") -> 0 | P24: =COUNTIFS(Planning!$4:$4, "Mercredi", Planning!24:24, "AB1") -> 0 | Q24: =COUNTIFS(Planning!$4:$4, "Jeudi", Planning!24:24, "AB1") -> 0 | R24: =COUNTIFS(Planning!$4:$4, "Vendredi", Planning!24:24, "AB1") -> 0 | S24: =COUNTIFS(Planning!$4:$4, "Samedi", Planning!24:24, "AB1") -> 0 | T24: =COUNTIFS(Planning!$4:$4, "Dimanche", Planning!24:24, "AB1") -> 0 | U24: =SUM(N24:T24) -> 0 | V24: =COUNTIFS(Planning!$4:$4, "Lundi", Planning!24:24, "AB3") -> 0 | W24: =COUNTIFS(Planning!$4:$4, "Mardi", Planning!24:24, "AB3") -> 0 | X24: =COUNTIFS(Planning!$4:$4, "Mercredi", Planning!24:24, "AB3") -> 0 | Y24: =COUNTIFS(Planning!$4:$4, "Jeudi", Planning!24:24, "AB3") -> 0 | Z24: =COUNTIFS(Planning!$4:$4, "Vendredi", Planning!24:24, "AB3") -> 0 | AA24: =COUNTIFS(Planning!$4:$4, "Samedi", Planning!24:24, "AB3") -> 0 | AB24: =SUM(V24:AA24) -> 0 | AC24: =COUNTIFS(Planning!$4:$4, "Lundi", Planning!24:24, "AJF") -> 0 | AD24: =COUNTIFS(Planning!$4:$4, "Mardi", Planning!24:24, "AJF") -> 0 | AE24: =COUNTIFS(Planning!$4:$4, "Mercredi", Planning!24:24, "AJF") -> 0 | AF24: =COUNTIFS(Planning!$4:$4, "Jeudi", Planning!24:24, "AJF") -> 0 | AG24: =COUNTIFS(Planning!$4:$4, "Vendredi", Planning!24:24, "AJF") -> 0 | AH24: =COUNTIFS(Planning!$4:$4, "Samedi", Planning!24:24, "AJF") -> 0 | AI24: =COUNTIFS(Planning!$4:$4, "Dimanche", Planning!24:24, "AJF") -> 0 | AJ24: =SUM(AC24:AI24) -> 0 | AK24: =COUNTIFS(Planning!$4:$4, "Lundi", Planning!24:24, "B2") -> 0 | AL24: =COUNTIFS(Planning!$4:$4, "Mardi", Planning!24:24, "B2") -> 0 | AM24: =COUNTIFS(Planning!$4:$4, "Mercredi", Planning!24:24, "B2") -> 0 | AN24: =COUNTIFS(Planning!$4:$4, "Jeudi", Planning!24:24, "B2") -> 0 | AO24: =COUNTIFS(Planning!$4:$4, "Vendredi", Planning!24:24, "B2") -> 0 | AP24: =COUNTIFS(Planning!$4:$4, "Samedi", Planning!24:24, "B2") -> 0 | AQ24: =COUNTIFS(Planning!$4:$4, "Dimanche", Planning!24:24, "B2") -> 0 | AR24: =SUM(AK24:AQ24) -> 0 | AS24: =COUNTIFS(Planning!$4:$4, "Lundi", Planning!24:24, "RTT") -> 0 | AT24: =COUNTIFS(Planning!$4:$4, "Mardi", Planning!24:24, "RTT") -> 0 | AU24: =COUNTIFS(Planning!$4:$4, "Mercredi", Planning!24:24, "RTT") -> 0 | AV24: =COUNTIFS(Planning!$4:$4, "Jeudi", Planning!24:24, "RTT") -> 0 | AW24: =COUNTIFS(Planning!$4:$4, "Vendredi", Planning!24:24, "RTT") -> 0 | AX24: =COUNTIFS(Planning!$4:$4, "Samedi", Planning!24:24, "RTT") -> 0 | AY24: =COUNTIFS(Planning!$4:$4, "Dimanche", Planning!24:24, "RTT") -> 0 | AZ24: =SUM(AS24:AY24) -> 0 | BA24: =COUNTIFS(Planning!$4:$4, "Lundi", Planning!24:24, "CA") -> 0 | BB24: =COUNTIFS(Planning!$4:$4, "Mardi", Planning!24:24, "CA") -> 0 | BC24: =COUNTIFS(Planning!$4:$4, "Mercredi", Planning!24:24, "CA") -> 0 | BD24: =COUNTIFS(Planning!$4:$4, "Jeudi", Planning!24:24, "CA") -> 0 | BE24: =COUNTIFS(Planning!$4:$4, "Vendredi", Planning!24:24, "CA") -> 0 | BF24: =SUM(BA24:BE24) -> 0 | BG24: =COUNTIFS(Planning!$4:$4, "Lundi", Planning!24:24, "FC") -> 0 | BH24: =COUNTIFS(Planning!$4:$4, "Mardi", Planning!24:24, "FC") -> 0 | BI24: =COUNTIFS(Planning!$4:$4, "Mercredi", Planning!24:24, "FC") -> 0 | BJ24: =COUNTIFS(Planning!$4:$4, "Jeudi", Planning!24:24, "FC") -> 0 | BK24: =COUNTIFS(Planning!$4:$4, "Vendredi", Planning!24:24, "FC") -> 0 | BL24: =COUNTIFS(Planning!$4:$4, "Samedi", Planning!24:24, "FC") -> 0 | BM24: =COUNTIFS(Planning!$4:$4, "Dimanche", Planning!24:24, "FC") -> 0 | BN24: =SUM(BG24:BM24) -> 0
A25: =Planning!A25 -> Agent 20 | B25: =COUNTIFS(Planning!$4:$4,B$5, Planning!25:25,$B$4) -> 0 | C25: =COUNTIFS(Planning!$4:$4,C$5, Planning!25:25,$B$4) -> 0 | D25: =COUNTIFS(Planning!$4:$4,D$5, Planning!25:25,$B$4) -> 0 | E25: =COUNTIFS(Planning!$4:$4,E$5, Planning!25:25,$B$4) -> 0 | F25: =COUNTIFS(Planning!$4:$4,F$5, Planning!25:25,$B$4) -> 0 | G25: =COUNTIFS(Planning!$4:$4,G$5, Planning!25:25,$B$4) -> 0 | H25: =COUNTIFS(Planning!$4:$4,H$5, Planning!25:25,$B$4) -> 0 | I25: =SUM(B25:G25) -> 0 | M25: =COUNTIFS(Planning!$4:$4, "Dimanche", Planning!25:25, "ARH") -> 0 | N25: =COUNTIFS(Planning!$4:$4, "Lundi", Planning!25:25, "AB1") -> 0 | O25: =COUNTIFS(Planning!$4:$4, "Mardi", Planning!25:25, "AB1") -> 0 | P25: =COUNTIFS(Planning!$4:$4, "Mercredi", Planning!25:25, "AB1") -> 0 | Q25: =COUNTIFS(Planning!$4:$4, "Jeudi", Planning!25:25, "AB1") -> 0 | R25: =COUNTIFS(Planning!$4:$4, "Vendredi", Planning!25:25, "AB1") -> 0 | S25: =COUNTIFS(Planning!$4:$4, "Samedi", Planning!25:25, "AB1") -> 0 | T25: =COUNTIFS(Planning!$4:$4, "Dimanche", Planning!25:25, "AB1") -> 0 | U25: =SUM(N25:T25) -> 0 | V25: =COUNTIFS(Planning!$4:$4, "Lundi", Planning!25:25, "AB3") -> 0 | W25: =COUNTIFS(Planning!$4:$4, "Mardi", Planning!25:25, "AB3") -> 0 | X25: =COUNTIFS(Planning!$4:$4, "Mercredi", Planning!25:25, "AB3") -> 0 | Y25: =COUNTIFS(Planning!$4:$4, "Jeudi", Planning!25:25, "AB3") -> 0 | Z25: =COUNTIFS(Planning!$4:$4, "Vendredi", Planning!25:25, "AB3") -> 0 | AA25: =COUNTIFS(Planning!$4:$4, "Samedi", Planning!25:25, "AB3") -> 0 | AB25: =SUM(V25:AA25) -> 0 | AC25: =COUNTIFS(Planning!$4:$4, "Lundi", Planning!25:25, "AJF") -> 0 | AD25: =COUNTIFS(Planning!$4:$4, "Mardi", Planning!25:25, "AJF") -> 0 | AE25: =COUNTIFS(Planning!$4:$4, "Mercredi", Planning!25:25, "AJF") -> 0 | AF25: =COUNTIFS(Planning!$4:$4, "Jeudi", Planning!25:25, "AJF") -> 0 | AG25: =COUNTIFS(Planning!$4:$4, "Vendredi", Planning!25:25, "AJF") -> 0 | AH25: =COUNTIFS(Planning!$4:$4, "Samedi", Planning!25:25, "AJF") -> 0 | AI25: =COUNTIFS(Planning!$4:$4, "Dimanche", Planning!25:25, "AJF") -> 0 | AJ25: =SUM(AC25:AI25) -> 0 | AK25: =COUNTIFS(Planning!$4:$4, "Lundi", Planning!25:25, "B2") -> 0 | AL25: =COUNTIFS(Planning!$4:$4, "Mardi", Planning!25:25, "B2") -> 0 | AM25: =COUNTIFS(Planning!$4:$4, "Mercredi", Planning!25:25, "B2") -> 0 | AN25: =COUNTIFS(Planning!$4:$4, "Jeudi", Planning!25:25, "B2") -> 0 | AO25: =COUNTIFS(Planning!$4:$4, "Vendredi", Planning!25:25, "B2") -> 0 | AP25: =COUNTIFS(Planning!$4:$4, "Samedi", Planning!25:25, "B2") -> 0 | AQ25: =COUNTIFS(Planning!$4:$4, "Dimanche", Planning!25:25, "B2") -> 0 | AR25: =SUM(AK25:AQ25) -> 0 | AS25: =COUNTIFS(Planning!$4:$4, "Lundi", Planning!25:25, "RTT") -> 0 | AT25: =COUNTIFS(Planning!$4:$4, "Mardi", Planning!25:25, "RTT") -> 2 | AU25: =COUNTIFS(Planning!$4:$4, "Mercredi", Planning!25:25, "RTT") -> 0 | AV25: =COUNTIFS(Planning!$4:$4, "Jeudi", Planning!25:25, "RTT") -> 0 | AW25: =COUNTIFS(Planning!$4:$4, "Vendredi", Planning!25:25, "RTT") -> 0 | AX25: =COUNTIFS(Planning!$4:$4, "Samedi", Planning!25:25, "RTT") -> 0 | AY25: =COUNTIFS(Planning!$4:$4, "Dimanche", Planning!25:25, "RTT") -> 0 | AZ25: =SUM(AS25:AY25) -> 2 | BA25: =COUNTIFS(Planning!$4:$4, "Lundi", Planning!25:25, "CA") -> 1 | BB25: =COUNTIFS(Planning!$4:$4, "Mardi", Planning!25:25, "CA") -> 0 | BC25: =COUNTIFS(Planning!$4:$4, "Mercredi", Planning!25:25, "CA") -> 0 | BD25: =COUNTIFS(Planning!$4:$4, "Jeudi", Planning!25:25, "CA") -> 1 | BE25: =COUNTIFS(Planning!$4:$4, "Vendredi", Planning!25:25, "CA") -> 0 | BF25: =SUM(BA25:BE25) -> 2 | BG25: =COUNTIFS(Planning!$4:$4, "Lundi", Planning!25:25, "FC") -> 1 | BH25: =COUNTIFS(Planning!$4:$4, "Mardi", Planning!25:25, "FC") -> 0 | BI25: =COUNTIFS(Planning!$4:$4, "Mercredi", Planning!25:25, "FC") -> 0 | BJ25: =COUNTIFS(Planning!$4:$4, "Jeudi", Planning!25:25, "FC") -> 0 | BK25: =COUNTIFS(Planning!$4:$4, "Vendredi", Planning!25:25, "FC") -> 0 | BL25: =COUNTIFS(Planning!$4:$4, "Samedi", Planning!25:25, "FC") -> 0 | BM25: =COUNTIFS(Planning!$4:$4, "Dimanche", Planning!25:25, "FC") -> 1 | BN25: =SUM(BG25:BM25) -> 2
B31: =UPPER(TEXT(DATE(An,2,1),"mmmm-aa")) -> FÉVRIER-26
B32: B1 | I32: ="TOTAL " & B32 -> TOTAL B1 | M32: ARH | N32: AB1 | U32: TOTAL AB1 | V32: AB3 | AB32: TOTAL AB3 | AC32: AJF | AJ32: TOTAL AJF | AK32: B2 | AR32: TOTAL B2 | AS32: RTT | AZ32: TOTAL RTT | BA32: CA | BF32: TOTAL CA | BG32: FC | BN32: TOTAL FC
B33: Lundi | C33: Mardi | D33: Mercredi | E33: Jeudi | F33: Vendredi | G33: Samedi | H33: Dimanche | M33: Dimanche | N33: Lundi | O33: Mardi | P33: Mercredi | Q33: Jeudi | R33: Vendredi | S33: Samedi | T33: Dimanche | V33: Lundi | W33: Mardi | X33: Mercredi | Y33: Jeudi | Z33: Vendredi | AA33: Samedi | AC33: Lundi | AD33: Mardi | AE33: Mercredi | AF33: Jeudi | AG33: Vendredi | AH33: Samedi | AI33: Dimanche | AK33: Lundi | AL33: Mardi | AM33: Mercredi | AN33: Jeudi | AO33: Vendredi | AP33: Samedi | AQ33: Dimanche | AS33: Lundi | AT33: Mardi | AU33: Mercredi | AV33: Jeudi | AW33: Vendredi | AX33: Samedi | AY33: Dimanche | BA33: Lundi | BB33: Mardi | BC33: Mercredi | BD33: Jeudi | BE33: Vendredi | BG33: Lundi | BH33: Mardi | BI33: Mercredi | BJ33: Jeudi | BK33: Vendredi | BL33: Samedi | BM33: Dimanche
A34: =A6 -> Agent 1 | B34: =COUNTIFS(Planning!$30:$30,B$33, Planning!32:32,$B$32) -> 0 | C34: =COUNTIFS(Planning!$30:$30,C$33, Planning!32:32,$B$32) -> 1 | D34: =COUNTIFS(Planning!$30:$30,D$33, Planning!32:32,$B$32) -> 0 | E34: =COUNTIFS(Planning!$30:$30,E$33, Planning!32:32,$B$32) -> 3 | F34: =COUNTIFS(Planning!$30:$30,F$33, Planning!32:32,$B$32) -> 2 | G34: =COUNTIFS(Planning!$30:$30,G$33, Planning!32:32,$B$32) -> 0 | H34: =COUNTIFS(Planning!$30:$30,H$33, Planning!32:32,$B$32) -> 0 | I34: =SUM(B34:G34) -> 6 | M34: =COUNTIFS(Planning!$30:$30, "Dimanche", Planning!32:32, "ARH") -> 0 | N34: =COUNTIFS(Planning!$30:$30, "Lundi", Planning!32:32, "AB1") -> 0 | O34: =COUNTIFS(Planning!$30:$30, "Mardi", Planning!32:32, "B1") -> 1 | P34: =COUNTIFS(Planning!$30:$30, "Mercredi", Planning!32:32, "B1") -> 0 | Q34: =COUNTIFS(Planning!$30:$30, "Jeudi", Planning!32:32, "B1") -> 3 | R34: =COUNTIFS(Planning!$30:$30, "Vendredi", Planning!32:32, "B1") -> 2 | S34: =COUNTIFS(Planning!$30:$30, "Samedi", Planning!32:32, "AB1") -> 0 | T34: =COUNTIFS(Planning!$30:$30, "Dimanche", Planning!32:32, "AB1") -> 1 | U34: =SUM(N34:T34) -> 7 | V34: =COUNTIFS(Planning!$30:$30, "Lundi", Planning!32:32, "AB3") -> 0 | W34: =COUNTIFS(Planning!$30:$30, "Mardi", Planning!32:32, "AB3") -> 1 | X34: =COUNTIFS(Planning!$30:$30, "Mercredi", Planning!32:32, "AB3") -> 0 | Y34: =COUNTIFS(Planning!$30:$30, "Jeudi", Planning!32:32, "AB3") -> 0 | Z34: =COUNTIFS(Planning!$30:$30, "Vendredi", Planning!32:32, "AB3") -> 0 | AA34: =COUNTIFS(Planning!$30:$30, "Samedi", Planning!32:32, "AB3") -> 0 | AB34: =SUM(V34:AA34) -> 1 | AC34: =COUNTIFS(Planning!$30:$30, "Lundi", Planning!32:32, "AJF") -> 0 | AD34: =COUNTIFS(Planning!$30:$30, "Mardi", Planning!32:32, "AJF") -> 0 | AE34: =COUNTIFS(Planning!$30:$30, "Mercredi", Planning!32:32, "AJF") -> 0 | AF34: =COUNTIFS(Planning!$30:$30, "Jeudi", Planning!32:32, "AJF") -> 0 | AG34: =COUNTIFS(Planning!$30:$30, "Vendredi", Planning!32:32, "AJF") -> 0 | AH34: =COUNTIFS(Planning!$30:$30, "Samedi", Planning!32:32, "AJF") -> 0 | AI34: =COUNTIFS(Planning!$30:$30, "Dimanche", Planning!32:32, "AJF") -> 0 | AJ34: =SUM(AC34:AI34) -> 0 | AK34: =COUNTIFS(Planning!$30:$30, "Lundi", Planning!32:32, "B2") -> 0 | AL34: =COUNTIFS(Planning!$30:$30, "Mardi", Planning!32:32, "B2") -> 0 | AM34: =COUNTIFS(Planning!$30:$30, "Mercredi", Planning!32:32, "B2") -> 0 | AN34: =COUNTIFS(Planning!$30:$30, "Jeudi", Planning!32:32, "B2") -> 0 | AO34: =COUNTIFS(Planning!$30:$30, "Vendredi", Planning!32:32, "B2") -> 0 | AP34: =COUNTIFS(Planning!$30:$30, "Samedi", Planning!32:32, "B2") -> 0 | AQ34: =COUNTIFS(Planning!$30:$30, "Dimanche", Planning!32:32, "B2") -> 0 | AR34: =SUM(AK34:AQ34) -> 0 | AS34: =COUNTIFS(Planning!$30:$30, "Lundi", Planning!32:32, "RTT") -> 1 | AT34: =COUNTIFS(Planning!$30:$30, "Mardi", Planning!32:32, "RTT") -> 0 | AU34: =COUNTIFS(Planning!$30:$30, "Mercredi", Planning!32:32, "RTT") -> 0 | AV34: =COUNTIFS(Planning!$30:$30, "Jeudi", Planning!32:32, "RTT") -> 0 | AW34: =COUNTIFS(Planning!$30:$30, "Vendredi", Planning!32:32, "RTT") -> 0 | AX34: =COUNTIFS(Planning!$30:$30, "Samedi", Planning!32:32, "RTT") -> 0 | AY34: =COUNTIFS(Planning!$30:$30, "Dimanche", Planning!32:32, "RTT") -> 1 | AZ34: =SUM(AS34:AY34) -> 2 | BA34: =COUNTIFS(Planning!$4:$4, "Lundi", Planning!32:32, "CA") -> 0 | BB34: =COUNTIFS(Planning!$4:$4, "Mardi", Planning!32:32, "CA") -> 0 | BC34: =COUNTIFS(Planning!$4:$4, "Mercredi", Planning!32:32, "CA") -> 1 | BD34: =COUNTIFS(Planning!$4:$4, "Jeudi", Planning!32:32, "CA") -> 0 | BE34: =COUNTIFS(Planning!$4:$4, "Vendredi", Planning!32:32, "CA") -> 0 | BF34: =SUM(BA34:BE34) -> 1 | BG34: =COUNTIFS(Planning!$4:$4, "Lundi", Planning!32:32, "FC") -> 0 | BH34: =COUNTIFS(Planning!$4:$4, "Mardi", Planning!32:32, "FC") -> 0 | BI34: =COUNTIFS(Planning!$4:$4, "Mercredi", Planning!32:32, "FC") -> 0 | BJ34: =COUNTIFS(Planning!$4:$4, "Jeudi", Planning!32:32, "FC") -> 0 | BK34: =COUNTIFS(Planning!$4:$4, "Vendredi", Planning!32:32, "FC") -> 0 | BL34: =COUNTIFS(Planning!$4:$4, "Samedi", Planning!32:32, "FC") -> 0 | BM34: =COUNTIFS(Planning!$4:$4, "Dimanche", Planning!32:32, "FC") -> 0 | BN34: =SUM(BG34:BM34) -> 0
A35: =A7 -> Agent 2 | B35: =COUNTIFS(Planning!$30:$30,B$33, Planning!33:33,$B$32) -> 0 | C35: =COUNTIFS(Planning!$30:$30,C$33, Planning!33:33,$B$32) -> 0 | D35: =COUNTIFS(Planning!$30:$30,D$33, Planning!33:33,$B$32) -> 0 | E35: =COUNTIFS(Planning!$30:$30,E$33, Planning!33:33,$B$32) -> 2 | F35: =COUNTIFS(Planning!$30:$30,F$33, Planning!33:33,$B$32) -> 0 | G35: =COUNTIFS(Planning!$30:$30,G$33, Planning!33:33,$B$32) -> 0 | H35: =COUNTIFS(Planning!$30:$30,H$33, Planning!33:33,$B$32) -> 0 | I35: =SUM(B35:G35) -> 2 | M35: =COUNTIFS(Planning!$30:$30, "Dimanche", Planning!33:33, "ARH") -> 0 | N35: =COUNTIFS(Planning!$30:$30, "Lundi", Planning!33:33, "AB1") -> 0 | O35: =COUNTIFS(Planning!$30:$30, "Mardi", Planning!33:33, "B1") -> 0 | P35: =COUNTIFS(Planning!$30:$30, "Mercredi", Planning!33:33, "B1") -> 0 | Q35: =COUNTIFS(Planning!$30:$30, "Jeudi", Planning!33:33, "B1") -> 2 | R35: =COUNTIFS(Planning!$30:$30, "Vendredi", Planning!33:33, "B1") -> 0 | S35: =COUNTIFS(Planning!$30:$30, "Samedi", Planning!33:33, "AB1") -> 0 | T35: =COUNTIFS(Planning!$30:$30, "Dimanche", Planning!33:33, "AB1") -> 0 | U35: =SUM(N35:T35) -> 2 | V35: =COUNTIFS(Planning!$30:$30, "Lundi", Planning!33:33, "AB3") -> 0 | W35: =COUNTIFS(Planning!$30:$30, "Mardi", Planning!33:33, "AB3") -> 0 | X35: =COUNTIFS(Planning!$30:$30, "Mercredi", Planning!33:33, "AB3") -> 0 | Y35: =COUNTIFS(Planning!$30:$30, "Jeudi", Planning!33:33, "AB3") -> 0 | Z35: =COUNTIFS(Planning!$30:$30, "Vendredi", Planning!33:33, "AB3") -> 0 | AA35: =COUNTIFS(Planning!$30:$30, "Samedi", Planning!33:33, "AB3") -> 0 | AB35: =SUM(V35:AA35) -> 0 | AC35: =COUNTIFS(Planning!$30:$30, "Lundi", Planning!33:33, "AJF") -> 0 | AD35: =COUNTIFS(Planning!$30:$30, "Mardi", Planning!33:33, "AJF") -> 0 | AE35: =COUNTIFS(Planning!$30:$30, "Mercredi", Planning!33:33, "AJF") -> 0 | AF35: =COUNTIFS(Planning!$30:$30, "Jeudi", Planning!33:33, "AJF") -> 0 | AG35: =COUNTIFS(Planning!$30:$30, "Vendredi", Planning!33:33, "AJF") -> 0 | AH35: =COUNTIFS(Planning!$30:$30, "Samedi", Planning!33:33, "AJF") -> 0 | AI35: =COUNTIFS(Planning!$30:$30, "Dimanche", Planning!33:33, "AJF") -> 0 | AJ35: =SUM(AC35:AI35) -> 0 | AK35: =COUNTIFS(Planning!$30:$30, "Lundi", Planning!33:33, "B2") -> 0 | AL35: =COUNTIFS(Planning!$30:$30, "Mardi", Planning!33:33, "B2") -> 0 | AM35: =COUNTIFS(Planning!$30:$30, "Mercredi", Planning!33:33, "B2") -> 0 | AN35: =COUNTIFS(Planning!$30:$30, "Jeudi", Planning!33:33, "B2") -> 0 | AO35: =COUNTIFS(Planning!$30:$30, "Vendredi", Planning!33:33, "B2") -> 0 | AP35: =COUNTIFS(Planning!$30:$30, "Samedi", Planning!33:33, "B2") -> 0 | AQ35: =COUNTIFS(Planning!$30:$30, "Dimanche", Planning!33:33, "B2") -> 0 | AR35: =SUM(AK35:AQ35) -> 0 | AS35: =COUNTIFS(Planning!$30:$30, "Lundi", Planning!33:33, "RTT") -> 0 | AT35: =COUNTIFS(Planning!$30:$30, "Mardi", Planning!33:33, "RTT") -> 0 | AU35: =COUNTIFS(Planning!$30:$30, "Mercredi", Planning!33:33, "RTT") -> 0 | AV35: =COUNTIFS(Planning!$30:$30, "Jeudi", Planning!33:33, "RTT") -> 0 | AW35: =COUNTIFS(Planning!$30:$30, "Vendredi", Planning!33:33, "RTT") -> 0 | AX35: =COUNTIFS(Planning!$30:$30, "Samedi", Planning!33:33, "RTT") -> 0 | AY35: =COUNTIFS(Planning!$30:$30, "Dimanche", Planning!33:33, "RTT") -> 0 | AZ35: =SUM(AS35:AY35) -> 0 | BA35: =COUNTIFS(Planning!$4:$4, "Lundi", Planning!33:33, "CA") -> 0 | BB35: =COUNTIFS(Planning!$4:$4, "Mardi", Planning!33:33, "CA") -> 0 | BC35: =COUNTIFS(Planning!$4:$4, "Mercredi", Planning!33:33, "CA") -> 0 | BD35: =COUNTIFS(Planning!$4:$4, "Jeudi", Planning!33:33, "CA") -> 0 | BE35: =COUNTIFS(Planning!$4:$4, "Vendredi", Planning!33:33, "CA") -> 0 | BF35: =SUM(BA35:BE35) -> 0 | BG35: =COUNTIFS(Planning!$4:$4, "Lundi", Planning!33:33, "FC") -> 0 | BH35: =COUNTIFS(Planning!$4:$4, "Mardi", Planning!33:33, "FC") -> 0 | BI35: =COUNTIFS(Planning!$4:$4, "Mercredi", Planning!33:33, "FC") -> 0 | BJ35: =COUNTIFS(Planning!$4:$4, "Jeudi", Planning!33:33, "FC") -> 0 | BK35: =COUNTIFS(Planning!$4:$4, "Vendredi", Planning!33:33, "FC") -> 0 | BL35: =COUNTIFS(Planning!$4:$4, "Samedi", Planning!33:33, "FC") -> 0 | BM35: =COUNTIFS(Planning!$4:$4, "Dimanche", Planning!33:33, "FC") -> 0 | BN35: =SUM(BG35:BM35) -> 0
A36: =A8 -> Agent 3 | B36: =COUNTIFS(Planning!$30:$30,B$33, Planning!34:34,$B$32) -> 0 | C36: =COUNTIFS(Planning!$30:$30,C$33, Planning!34:34,$B$32) -> 0 | D36: =COUNTIFS(Planning!$30:$30,D$33, Planning!34:34,$B$32) -> 0 | E36: =COUNTIFS(Planning!$30:$30,E$33, Planning!34:34,$B$32) -> 0 | F36: =COUNTIFS(Planning!$30:$30,F$33, Planning!34:34,$B$32) -> 0 | G36: =COUNTIFS(Planning!$30:$30,G$33, Planning!34:34,$B$32) -> 0 | H36: =COUNTIFS(Planning!$30:$30,H$33, Planning!34:34,$B$32) -> 0 | I36: =SUM(B36:G36) -> 0 | M36: =COUNTIFS(Planning!$30:$30, "Dimanche", Planning!34:34, "ARH") -> 0 | N36: =COUNTIFS(Planning!$30:$30, "Lundi", Planning!34:34, "AB1") -> 0 | O36: =COUNTIFS(Planning!$30:$30, "Mardi", Planning!34:34, "B1") -> 0 | P36: =COUNTIFS(Planning!$30:$30, "Mercredi", Planning!34:34, "B1") -> 0 | Q36: =COUNTIFS(Planning!$30:$30, "Jeudi", Planning!34:34, "B1") -> 0 | R36: =COUNTIFS(Planning!$30:$30, "Vendredi", Planning!34:34, "B1") -> 0 | S36: =COUNTIFS(Planning!$30:$30, "Samedi", Planning!34:34, "AB1") -> 0 | T36: =COUNTIFS(Planning!$30:$30, "Dimanche", Planning!34:34, "AB1") -> 0 | U36: =SUM(N36:T36) -> 0 | V36: =COUNTIFS(Planning!$30:$30, "Lundi", Planning!34:34, "AB3") -> 0 | W36: =COUNTIFS(Planning!$30:$30, "Mardi", Planning!34:34, "AB3") -> 0 | X36: =COUNTIFS(Planning!$30:$30, "Mercredi", Planning!34:34, "AB3") -> 0 | Y36: =COUNTIFS(Planning!$30:$30, "Jeudi", Planning!34:34, "AB3") -> 0 | Z36: =COUNTIFS(Planning!$30:$30, "Vendredi", Planning!34:34, "AB3") -> 0 | AA36: =COUNTIFS(Planning!$30:$30, "Samedi", Planning!34:34, "AB3") -> 0 | AB36: =SUM(V36:AA36) -> 0 | AC36: =COUNTIFS(Planning!$30:$30, "Lundi", Planning!34:34, "AJF") -> 0 | AD36: =COUNTIFS(Planning!$30:$30, "Mardi", Planning!34:34, "AJF") -> 0 | AE36: =COUNTIFS(Planning!$30:$30, "Mercredi", Planning!34:34, "AJF") -> 0 | AF36: =COUNTIFS(Planning!$30:$30, "Jeudi", Planning!34:34, "AJF") -> 0 | AG36: =COUNTIFS(Planning!$30:$30, "Vendredi", Planning!34:34, "AJF") -> 0 | AH36: =COUNTIFS(Planning!$30:$30, "Samedi", Planning!34:34, "AJF") -> 0 | AI36: =COUNTIFS(Planning!$30:$30, "Dimanche", Planning!34:34, "AJF") -> 0 | AJ36: =SUM(AC36:AI36) -> 0 | AK36: =COUNTIFS(Planning!$30:$30, "Lundi", Planning!34:34, "B2") -> 0 | AL36: =COUNTIFS(Planning!$30:$30, "Mardi", Planning!34:34, "B2") -> 0 | AM36: =COUNTIFS(Planning!$30:$30, "Mercredi", Planning!34:34, "B2") -> 0 | AN36: =COUNTIFS(Planning!$30:$30, "Jeudi", Planning!34:34, "B2") -> 0 | AO36: =COUNTIFS(Planning!$30:$30, "Vendredi", Planning!34:34, "B2") -> 0 | AP36: =COUNTIFS(Planning!$30:$30, "Samedi", Planning!34:34, "B2") -> 0 | AQ36: =COUNTIFS(Planning!$30:$30, "Dimanche", Planning!34:34, "B2") -> 0 | AR36: =SUM(AK36:AQ36) -> 0 | AS36: =COUNTIFS(Planning!$30:$30, "Lundi", Planning!34:34, "RTT") -> 0 | AT36: =COUNTIFS(Planning!$30:$30, "Mardi", Planning!34:34, "RTT") -> 0 | AU36: =COUNTIFS(Planning!$30:$30, "Mercredi", Planning!34:34, "RTT") -> 0 | AV36: =COUNTIFS(Planning!$30:$30, "Jeudi", Planning!34:34, "RTT") -> 0 | AW36: =COUNTIFS(Planning!$30:$30, "Vendredi", Planning!34:34, "RTT") -> 0 | AX36: =COUNTIFS(Planning!$30:$30, "Samedi", Planning!34:34, "RTT") -> 0 | AY36: =COUNTIFS(Planning!$30:$30, "Dimanche", Planning!34:34, "RTT") -> 0 | AZ36: =SUM(AS36:AY36) -> 0 | BA36: =COUNTIFS(Planning!$4:$4, "Lundi", Planning!34:34, "CA") -> 0 | BB36: =COUNTIFS(Planning!$4:$4, "Mardi", Planning!34:34, "CA") -> 0 | BC36: =COUNTIFS(Planning!$4:$4, "Mercredi", Planning!34:34, "CA") -> 0 | BD36: =COUNTIFS(Planning!$4:$4, "Jeudi", Planning!34:34, "CA") -> 0 | BE36: =COUNTIFS(Planning!$4:$4, "Vendredi", Planning!34:34, "CA") -> 0 | BF36: =SUM(BA36:BE36) -> 0 | BG36: =COUNTIFS(Planning!$4:$4, "Lundi", Planning!34:34, "FC") -> 0 | BH36: =COUNTIFS(Planning!$4:$4, "Mardi", Planning!34:34, "FC") -> 0 | BI36: =COUNTIFS(Planning!$4:$4, "Mercredi", Planning!34:34, "FC") -> 0 | BJ36: =COUNTIFS(Planning!$4:$4, "Jeudi", Planning!34:34, "FC") -> 0 | BK36: =COUNTIFS(Planning!$4:$4, "Vendredi", Planning!34:34, "FC") -> 0 | BL36: =COUNTIFS(Planning!$4:$4, "Samedi", Planning!34:34, "FC") -> 0 | BM36: =COUNTIFS(Planning!$4:$4, "Dimanche", Planning!34:34, "FC") -> 0 | BN36: =SUM(BG36:BM36) -> 0
A37: =A9 -> Agent 4 | B37: =COUNTIFS(Planning!$30:$30,B$33, Planning!35:35,$B$32) -> 0 | C37: =COUNTIFS(Planning!$30:$30,C$33, Planning!35:35,$B$32) -> 0 | D37: =COUNTIFS(Planning!$30:$30,D$33, Planning!35:35,$B$32) -> 0 | E37: =COUNTIFS(Planning!$30:$30,E$33, Planning!35:35,$B$32) -> 0 | F37: =COUNTIFS(Planning!$30:$30,F$33, Planning!35:35,$B$32) -> 0 | G37: =COUNTIFS(Planning!$30:$30,G$33, Planning!35:35,$B$32) -> 0 | H37: =COUNTIFS(Planning!$30:$30,H$33, Planning!35:35,$B$32) -> 0 | I37: =SUM(B37:G37) -> 0 | M37: =COUNTIFS(Planning!$30:$30, "Dimanche", Planning!35:35, "ARH") -> 0 | N37: =COUNTIFS(Planning!$30:$30, "Lundi", Planning!35:35, "AB1") -> 0 | O37: =COUNTIFS(Planning!$30:$30, "Mardi", Planning!35:35, "B1") -> 0 | P37: =COUNTIFS(Planning!$30:$30, "Mercredi", Planning!35:35, "B1") -> 0 | Q37: =COUNTIFS(Planning!$30:$30, "Jeudi", Planning!35:35, "B1") -> 0 | R37: =COUNTIFS(Planning!$30:$30, "Vendredi", Planning!35:35, "B1") -> 0 | S37: =COUNTIFS(Planning!$30:$30, "Samedi", Planning!35:35, "AB1") -> 0 | T37: =COUNTIFS(Planning!$30:$30, "Dimanche", Planning!35:35, "AB1") -> 0 | U37: =SUM(N37:T37) -> 0 | V37: =COUNTIFS(Planning!$30:$30, "Lundi", Planning!35:35, "AB3") -> 0 | W37: =COUNTIFS(Planning!$30:$30, "Mardi", Planning!35:35, "AB3") -> 0 | X37: =COUNTIFS(Planning!$30:$30, "Mercredi", Planning!35:35, "AB3") -> 0 | Y37: =COUNTIFS(Planning!$30:$30, "Jeudi", Planning!35:35, "AB3") -> 0 | Z37: =COUNTIFS(Planning!$30:$30, "Vendredi", Planning!35:35, "AB3") -> 0 | AA37: =COUNTIFS(Planning!$30:$30, "Samedi", Planning!35:35, "AB3") -> 0 | AB37: =SUM(V37:AA37) -> 0 | AC37: =COUNTIFS(Planning!$30:$30, "Lundi", Planning!35:35, "AJF") -> 0 | AD37: =COUNTIFS(Planning!$30:$30, "Mardi", Planning!35:35, "AJF") -> 0 | AE37: =COUNTIFS(Planning!$30:$30, "Mercredi", Planning!35:35, "AJF") -> 0 | AF37: =COUNTIFS(Planning!$30:$30, "Jeudi", Planning!35:35, "AJF") -> 0 | AG37: =COUNTIFS(Planning!$30:$30, "Vendredi", Planning!35:35, "AJF") -> 0 | AH37: =COUNTIFS(Planning!$30:$30, "Samedi", Planning!35:35, "AJF") -> 0 | AI37: =COUNTIFS(Planning!$30:$30, "Dimanche", Planning!35:35, "AJF") -> 0 | AJ37: =SUM(AC37:AI37) -> 0 | AK37: =COUNTIFS(Planning!$30:$30, "Lundi", Planning!35:35, "B2") -> 0 | AL37: =COUNTIFS(Planning!$30:$30, "Mardi", Planning!35:35, "B2") -> 0 | AM37: =COUNTIFS(Planning!$30:$30, "Mercredi", Planning!35:35, "B2") -> 0 | AN37: =COUNTIFS(Planning!$30:$30, "Jeudi", Planning!35:35, "B2") -> 0 | AO37: =COUNTIFS(Planning!$30:$30, "Vendredi", Planning!35:35, "B2") -> 0 | AP37: =COUNTIFS(Planning!$30:$30, "Samedi", Planning!35:35, "B2") -> 0 | AQ37: =COUNTIFS(Planning!$30:$30, "Dimanche", Planning!35:35, "B2") -> 0 | AR37: =SUM(AK37:AQ37) -> 0 | AS37: =COUNTIFS(Planning!$30:$30, "Lundi", Planning!35:35, "RTT") -> 0 | AT37: =COUNTIFS(Planning!$30:$30, "Mardi", Planning!35:35, "RTT") -> 0 | AU37: =COUNTIFS(Planning!$30:$30, "Mercredi", Planning!35:35, "RTT") -> 0 | AV37: =COUNTIFS(Planning!$30:$30, "Jeudi", Planning!35:35, "RTT") -> 0 | AW37: =COUNTIFS(Planning!$30:$30, "Vendredi", Planning!35:35, "RTT") -> 0 | AX37: =COUNTIFS(Planning!$30:$30, "Samedi", Planning!35:35, "RTT") -> 0 | AY37: =COUNTIFS(Planning!$30:$30, "Dimanche", Planning!35:35, "RTT") -> 0 | AZ37: =SUM(AS37:AY37) -> 0 | BA37: =COUNTIFS(Planning!$4:$4, "Lundi", Planning!35:35, "CA") -> 0 | BB37: =COUNTIFS(Planning!$4:$4, "Mardi", Planning!35:35, "CA") -> 0 | BC37: =COUNTIFS(Planning!$4:$4, "Mercredi", Planning!35:35, "CA") -> 0 | BD37: =COUNTIFS(Planning!$4:$4, "Jeudi", Planning!35:35, "CA") -> 0 | BE37: =COUNTIFS(Planning!$4:$4, "Vendredi", Planning!35:35, "CA") -> 0 | BF37: =SUM(BA37:BE37) -> 0 | BG37: =COUNTIFS(Planning!$4:$4, "Lundi", Planning!35:35, "FC") -> 0 | BH37: =COUNTIFS(Planning!$4:$4, "Mardi", Planning!35:35, "FC") -> 0 | BI37: =COUNTIFS(Planning!$4:$4, "Mercredi", Planning!35:35, "FC") -> 0 | BJ37: =COUNTIFS(Planning!$4:$4, "Jeudi", Planning!35:35, "FC") -> 0 | BK37: =COUNTIFS(Planning!$4:$4, "Vendredi", Planning!35:35, "FC") -> 0 | BL37: =COUNTIFS(Planning!$4:$4, "Samedi", Planning!35:35, "FC") -> 0 | BM37: =COUNTIFS(Planning!$4:$4, "Dimanche", Planning!35:35, "FC") -> 0 | BN37: =SUM(BG37:BM37) -> 0
A38: =A10 -> Agent 5 | B38: =COUNTIFS(Planning!$30:$30,B$33, Planning!36:36,$B$32) -> 0 | C38: =COUNTIFS(Planning!$30:$30,C$33, Planning!36:36,$B$32) -> 0 | D38: =COUNTIFS(Planning!$30:$30,D$33, Planning!36:36,$B$32) -> 0 | E38: =COUNTIFS(Planning!$30:$30,E$33, Planning!36:36,$B$32) -> 0 | F38: =COUNTIFS(Planning!$30:$30,F$33, Planning!36:36,$B$32) -> 0 | G38: =COUNTIFS(Planning!$30:$30,G$33, Planning!36:36,$B$32) -> 0 | H38: =COUNTIFS(Planning!$30:$30,H$33, Planning!36:36,$B$32) -> 0 | I38: =SUM(B38:G38) -> 0 | M38: =COUNTIFS(Planning!$30:$30, "Dimanche", Planning!36:36, "ARH") -> 0 | N38: =COUNTIFS(Planning!$30:$30, "Lundi", Planning!36:36, "AB1") -> 0 | O38: =COUNTIFS(Planning!$30:$30, "Mardi", Planning!36:36, "B1") -> 0 | P38: =COUNTIFS(Planning!$30:$30, "Mercredi", Planning!36:36, "B1") -> 0 | Q38: =COUNTIFS(Planning!$30:$30, "Jeudi", Planning!36:36, "B1") -> 0 | R38: =COUNTIFS(Planning!$30:$30, "Vendredi", Planning!36:36, "B1") -> 0 | S38: =COUNTIFS(Planning!$30:$30, "Samedi", Planning!36:36, "AB1") -> 0 | T38: =COUNTIFS(Planning!$30:$30, "Dimanche", Planning!36:36, "AB1") -> 0 | U38: =SUM(N38:T38) -> 0 | V38: =COUNTIFS(Planning!$30:$30, "Lundi", Planning!36:36, "AB3") -> 0 | W38: =COUNTIFS(Planning!$30:$30, "Mardi", Planning!36:36, "AB3") -> 0 | X38: =COUNTIFS(Planning!$30:$30, "Mercredi", Planning!36:36, "AB3") -> 0 | Y38: =COUNTIFS(Planning!$30:$30, "Jeudi", Planning!36:36, "AB3") -> 0 | Z38: =COUNTIFS(Planning!$30:$30, "Vendredi", Planning!36:36, "AB3") -> 0 | AA38: =COUNTIFS(Planning!$30:$30, "Samedi", Planning!36:36, "AB3") -> 0 | AB38: =SUM(V38:AA38) -> 0 | AC38: =COUNTIFS(Planning!$30:$30, "Lundi", Planning!36:36, "AJF") -> 0 | AD38: =COUNTIFS(Planning!$30:$30, "Mardi", Planning!36:36, "AJF") -> 0 | AE38: =COUNTIFS(Planning!$30:$30, "Mercredi", Planning!36:36, "AJF") -> 0 | AF38: =COUNTIFS(Planning!$30:$30, "Jeudi", Planning!36:36, "AJF") -> 0 | AG38: =COUNTIFS(Planning!$30:$30, "Vendredi", Planning!36:36, "AJF") -> 0 | AH38: =COUNTIFS(Planning!$30:$30, "Samedi", Planning!36:36, "AJF") -> 0 | AI38: =COUNTIFS(Planning!$30:$30, "Dimanche", Planning!36:36, "AJF") -> 0 | AJ38: =SUM(AC38:AI38) -> 0 | AK38: =COUNTIFS(Planning!$30:$30, "Lundi", Planning!36:36, "B2") -> 0 | AL38: =COUNTIFS(Planning!$30:$30, "Mardi", Planning!36:36, "B2") -> 0 | AM38: =COUNTIFS(Planning!$30:$30, "Mercredi", Planning!36:36, "B2") -> 0 | AN38: =COUNTIFS(Planning!$30:$30, "Jeudi", Planning!36:36, "B2") -> 0 | AO38: =COUNTIFS(Planning!$30:$30, "Vendredi", Planning!36:36, "B2") -> 0 | AP38: =COUNTIFS(Planning!$30:$30, "Samedi", Planning!36:36, "B2") -> 0 | AQ38: =COUNTIFS(Planning!$30:$30, "Dimanche", Planning!36:36, "B2") -> 0 | AR38: =SUM(AK38:AQ38) -> 0 | AS38: =COUNTIFS(Planning!$30:$30, "Lundi", Planning!36:36, "RTT") -> 0 | AT38: =COUNTIFS(Planning!$30:$30, "Mardi", Planning!36:36, "RTT") -> 0 | AU38: =COUNTIFS(Planning!$30:$30, "Mercredi", Planning!36:36, "RTT") -> 0 | AV38: =COUNTIFS(Planning!$30:$30, "Jeudi", Planning!36:36, "RTT") -> 0 | AW38: =COUNTIFS(Planning!$30:$30, "Vendredi", Planning!36:36, "RTT") -> 0 | AX38: =COUNTIFS(Planning!$30:$30, "Samedi", Planning!36:36, "RTT") -> 0 | AY38: =COUNTIFS(Planning!$30:$30, "Dimanche", Planning!36:36, "RTT") -> 0 | AZ38: =SUM(AS38:AY38) -> 0 | BA38: =COUNTIFS(Planning!$4:$4, "Lundi", Planning!36:36, "CA") -> 0 | BB38: =COUNTIFS(Planning!$4:$4, "Mardi", Planning!36:36, "CA") -> 0 | BC38: =COUNTIFS(Planning!$4:$4, "Mercredi", Planning!36:36, "CA") -> 0 | BD38: =COUNTIFS(Planning!$4:$4, "Jeudi", Planning!36:36, "CA") -> 0 | BE38: =COUNTIFS(Planning!$4:$4, "Vendredi", Planning!36:36, "CA") -> 0 | BF38: =SUM(BA38:BE38) -> 0 | BG38: =COUNTIFS(Planning!$4:$4, "Lundi", Planning!36:36, "FC") -> 0 | BH38: =COUNTIFS(Planning!$4:$4, "Mardi", Planning!36:36, "FC") -> 0 | BI38: =COUNTIFS(Planning!$4:$4, "Mercredi", Planning!36:36, "FC") -> 0 | BJ38: =COUNTIFS(Planning!$4:$4, "Jeudi", Planning!36:36, "FC") -> 0 | BK38: =COUNTIFS(Planning!$4:$4, "Vendredi", Planning!36:36, "FC") -> 0 | BL38: =COUNTIFS(Planning!$4:$4, "Samedi", Planning!36:36, "FC") -> 0 | BM38: =COUNTIFS(Planning!$4:$4, "Dimanche", Planning!36:36, "FC") -> 0 | BN38: =SUM(BG38:BM38) -> 0
A39: =A11 -> Agent 6 | B39: =COUNTIFS(Planning!$30:$30,B$33, Planning!37:37,$B$32) -> 0 | C39: =COUNTIFS(Planning!$30:$30,C$33, Planning!37:37,$B$32) -> 0 | D39: =COUNTIFS(Planning!$30:$30,D$33, Planning!37:37,$B$32) -> 0 | E39: =COUNTIFS(Planning!$30:$30,E$33, Planning!37:37,$B$32) -> 0 | F39: =COUNTIFS(Planning!$30:$30,F$33, Planning!37:37,$B$32) -> 0 | G39: =COUNTIFS(Planning!$30:$30,G$33, Planning!37:37,$B$32) -> 0 | H39: =COUNTIFS(Planning!$30:$30,H$33, Planning!37:37,$B$32) -> 0 | I39: =SUM(B39:G39) -> 0 | M39: =COUNTIFS(Planning!$30:$30, "Dimanche", Planning!37:37, "ARH") -> 0 | N39: =COUNTIFS(Planning!$30:$30, "Lundi", Planning!37:37, "AB1") -> 0 | O39: =COUNTIFS(Planning!$30:$30, "Mardi", Planning!37:37, "B1") -> 0 | P39: =COUNTIFS(Planning!$30:$30, "Mercredi", Planning!37:37, "B1") -> 0 | Q39: =COUNTIFS(Planning!$30:$30, "Jeudi", Planning!37:37, "B1") -> 0 | R39: =COUNTIFS(Planning!$30:$30, "Vendredi", Planning!37:37, "B1") -> 0 | S39: =COUNTIFS(Planning!$30:$30, "Samedi", Planning!37:37, "AB1") -> 0 | T39: =COUNTIFS(Planning!$30:$30, "Dimanche", Planning!37:37, "AB1") -> 0 | U39: =SUM(N39:T39) -> 0 | V39: =COUNTIFS(Planning!$30:$30, "Lundi", Planning!37:37, "AB3") -> 0 | W39: =COUNTIFS(Planning!$30:$30, "Mardi", Planning!37:37, "AB3") -> 0 | X39: =COUNTIFS(Planning!$30:$30, "Mercredi", Planning!37:37, "AB3") -> 0 | Y39: =COUNTIFS(Planning!$30:$30, "Jeudi", Planning!37:37, "AB3") -> 0 | Z39: =COUNTIFS(Planning!$30:$30, "Vendredi", Planning!37:37, "AB3") -> 0 | AA39: =COUNTIFS(Planning!$30:$30, "Samedi", Planning!37:37, "AB3") -> 0 | AB39: =SUM(V39:AA39) -> 0 | AC39: =COUNTIFS(Planning!$30:$30, "Lundi", Planning!37:37, "AJF") -> 0 | AD39: =COUNTIFS(Planning!$30:$30, "Mardi", Planning!37:37, "AJF") -> 0 | AE39: =COUNTIFS(Planning!$30:$30, "Mercredi", Planning!37:37, "AJF") -> 0 | AF39: =COUNTIFS(Planning!$30:$30, "Jeudi", Planning!37:37, "AJF") -> 0 | AG39: =COUNTIFS(Planning!$30:$30, "Vendredi", Planning!37:37, "AJF") -> 0 | AH39: =COUNTIFS(Planning!$30:$30, "Samedi", Planning!37:37, "AJF") -> 0 | AI39: =COUNTIFS(Planning!$30:$30, "Dimanche", Planning!37:37, "AJF") -> 0 | AJ39: =SUM(AC39:AI39) -> 0 | AK39: =COUNTIFS(Planning!$30:$30, "Lundi", Planning!37:37, "B2") -> 0 | AL39: =COUNTIFS(Planning!$30:$30, "Mardi", Planning!37:37, "B2") -> 0 | AM39: =COUNTIFS(Planning!$30:$30, "Mercredi", Planning!37:37, "B2") -> 0 | AN39: =COUNTIFS(Planning!$30:$30, "Jeudi", Planning!37:37, "B2") -> 0 | AO39: =COUNTIFS(Planning!$30:$30, "Vendredi", Planning!37:37, "B2") -> 0 | AP39: =COUNTIFS(Planning!$30:$30, "Samedi", Planning!37:37, "B2") -> 0 | AQ39: =COUNTIFS(Planning!$30:$30, "Dimanche", Planning!37:37, "B2") -> 0 | AR39: =SUM(AK39:AQ39) -> 0 | AS39: =COUNTIFS(Planning!$30:$30, "Lundi", Planning!37:37, "RTT") -> 0 | AT39: =COUNTIFS(Planning!$30:$30, "Mardi", Planning!37:37, "RTT") -> 0 | AU39: =COUNTIFS(Planning!$30:$30, "Mercredi", Planning!37:37, "RTT") -> 0 | AV39: =COUNTIFS(Planning!$30:$30, "Jeudi", Planning!37:37, "RTT") -> 0 | AW39: =COUNTIFS(Planning!$30:$30, "Vendredi", Planning!37:37, "RTT") -> 0 | AX39: =COUNTIFS(Planning!$30:$30, "Samedi", Planning!37:37, "RTT") -> 0 | AY39: =COUNTIFS(Planning!$30:$30, "Dimanche", Planning!37:37, "RTT") -> 0 | AZ39: =SUM(AS39:AY39) -> 0 | BA39: =COUNTIFS(Planning!$4:$4, "Lundi", Planning!37:37, "CA") -> 0 | BB39: =COUNTIFS(Planning!$4:$4, "Mardi", Planning!37:37, "CA") -> 0 | BC39: =COUNTIFS(Planning!$4:$4, "Mercredi", Planning!37:37, "CA") -> 0 | BD39: =COUNTIFS(Planning!$4:$4, "Jeudi", Planning!37:37, "CA") -> 0 | BE39: =COUNTIFS(Planning!$4:$4, "Vendredi", Planning!37:37, "CA") -> 0 | BF39: =SUM(BA39:BE39) -> 0 | BG39: =COUNTIFS(Planning!$4:$4, "Lundi", Planning!37:37, "FC") -> 0 | BH39: =COUNTIFS(Planning!$4:$4, "Mardi", Planning!37:37, "FC") -> 0 | BI39: =COUNTIFS(Planning!$4:$4, "Mercredi", Planning!37:37, "FC") -> 0 | BJ39: =COUNTIFS(Planning!$4:$4, "Jeudi", Planning!37:37, "FC") -> 0 | BK39: =COUNTIFS(Planning!$4:$4, "Vendredi", Planning!37:37, "FC") -> 0 | BL39: =COUNTIFS(Planning!$4:$4, "Samedi", Planning!37:37, "FC") -> 0 | BM39: =COUNTIFS(Planning!$4:$4, "Dimanche", Planning!37:37, "FC") -> 0 | BN39: =SUM(BG39:BM39) -> 0
A40: =A12 -> Agent 7 | B40: =COUNTIFS(Planning!$30:$30,B$33, Planning!38:38,$B$32) -> 0 | C40: =COUNTIFS(Planning!$30:$30,C$33, Planning!38:38,$B$32) -> 3 | D40: =COUNTIFS(Planning!$30:$30,D$33, Planning!38:38,$B$32) -> 0 | E40: =COUNTIFS(Planning!$30:$30,E$33, Planning!38:38,$B$32) -> 0 | F40: =COUNTIFS(Planning!$30:$30,F$33, Planning!38:38,$B$32) -> 0 | G40: =COUNTIFS(Planning!$30:$30,G$33, Planning!38:38,$B$32) -> 0 | H40: =COUNTIFS(Planning!$30:$30,H$33, Planning!38:38,$B$32) -> 0 | I40: =SUM(B40:G40) -> 3 | M40: =COUNTIFS(Planning!$30:$30, "Dimanche", Planning!38:38, "ARH") -> 0 | N40: =COUNTIFS(Planning!$30:$30, "Lundi", Planning!38:38, "AB1") -> 0 | O40: =COUNTIFS(Planning!$30:$30, "Mardi", Planning!38:38, "B1") -> 3 | P40: =COUNTIFS(Planning!$30:$30, "Mercredi", Planning!38:38, "B1") -> 0 | Q40: =COUNTIFS(Planning!$30:$30, "Jeudi", Planning!38:38, "B1") -> 0 | R40: =COUNTIFS(Planning!$30:$30, "Vendredi", Planning!38:38, "B1") -> 0 | S40: =COUNTIFS(Planning!$30:$30, "Samedi", Planning!38:38, "AB1") -> 0 | T40: =COUNTIFS(Planning!$30:$30, "Dimanche", Planning!38:38, "AB1") -> 0 | U40: =SUM(N40:T40) -> 3 | V40: =COUNTIFS(Planning!$30:$30, "Lundi", Planning!38:38, "AB3") -> 0 | W40: =COUNTIFS(Planning!$30:$30, "Mardi", Planning!38:38, "AB3") -> 0 | X40: =COUNTIFS(Planning!$30:$30, "Mercredi", Planning!38:38, "AB3") -> 0 | Y40: =COUNTIFS(Planning!$30:$30, "Jeudi", Planning!38:38, "AB3") -> 0 | Z40: =COUNTIFS(Planning!$30:$30, "Vendredi", Planning!38:38, "AB3") -> 0 | AA40: =COUNTIFS(Planning!$30:$30, "Samedi", Planning!38:38, "AB3") -> 0 | AB40: =SUM(V40:AA40) -> 0 | AC40: =COUNTIFS(Planning!$30:$30, "Lundi", Planning!38:38, "AJF") -> 0 | AD40: =COUNTIFS(Planning!$30:$30, "Mardi", Planning!38:38, "AJF") -> 0 | AE40: =COUNTIFS(Planning!$30:$30, "Mercredi", Planning!38:38, "AJF") -> 0 | AF40: =COUNTIFS(Planning!$30:$30, "Jeudi", Planning!38:38, "AJF") -> 0 | AG40: =COUNTIFS(Planning!$30:$30, "Vendredi", Planning!38:38, "AJF") -> 0 | AH40: =COUNTIFS(Planning!$30:$30, "Samedi", Planning!38:38, "AJF") -> 0 | AI40: =COUNTIFS(Planning!$30:$30, "Dimanche", Planning!38:38, "AJF") -> 0 | AJ40: =SUM(AC40:AI40) -> 0 | AK40: =COUNTIFS(Planning!$30:$30, "Lundi", Planning!38:38, "B2") -> 0 | AL40: =COUNTIFS(Planning!$30:$30, "Mardi", Planning!38:38, "B2") -> 0 | AM40: =COUNTIFS(Planning!$30:$30, "Mercredi", Planning!38:38, "B2") -> 0 | AN40: =COUNTIFS(Planning!$30:$30, "Jeudi", Planning!38:38, "B2") -> 0 | AO40: =COUNTIFS(Planning!$30:$30, "Vendredi", Planning!38:38, "B2") -> 0 | AP40: =COUNTIFS(Planning!$30:$30, "Samedi", Planning!38:38, "B2") -> 0 | AQ40: =COUNTIFS(Planning!$30:$30, "Dimanche", Planning!38:38, "B2") -> 0 | AR40: =SUM(AK40:AQ40) -> 0 | AS40: =COUNTIFS(Planning!$30:$30, "Lundi", Planning!38:38, "RTT") -> 0 | AT40: =COUNTIFS(Planning!$30:$30, "Mardi", Planning!38:38, "RTT") -> 0 | AU40: =COUNTIFS(Planning!$30:$30, "Mercredi", Planning!38:38, "RTT") -> 0 | AV40: =COUNTIFS(Planning!$30:$30, "Jeudi", Planning!38:38, "RTT") -> 0 | AW40: =COUNTIFS(Planning!$30:$30, "Vendredi", Planning!38:38, "RTT") -> 0 | AX40: =COUNTIFS(Planning!$30:$30, "Samedi", Planning!38:38, "RTT") -> 0 | AY40: =COUNTIFS(Planning!$30:$30, "Dimanche", Planning!38:38, "RTT") -> 0 | AZ40: =SUM(AS40:AY40) -> 0 | BA40: =COUNTIFS(Planning!$4:$4, "Lundi", Planning!38:38, "CA") -> 0 | BB40: =COUNTIFS(Planning!$4:$4, "Mardi", Planning!38:38, "CA") -> 0 | BC40: =COUNTIFS(Planning!$4:$4, "Mercredi", Planning!38:38, "CA") -> 0 | BD40: =COUNTIFS(Planning!$4:$4, "Jeudi", Planning!38:38, "CA") -> 0 | BE40: =COUNTIFS(Planning!$4:$4, "Vendredi", Planning!38:38, "CA") -> 0 | BF40: =SUM(BA40:BE40) -> 0 | BG40: =COUNTIFS(Planning!$4:$4, "Lundi", Planning!38:38, "FC") -> 0 | BH40: =COUNTIFS(Planning!$4:$4, "Mardi", Planning!38:38, "FC") -> 0 | BI40: =COUNTIFS(Planning!$4:$4, "Mercredi", Planning!38:38, "FC") -> 0 | BJ40: =COUNTIFS(Planning!$4:$4, "Jeudi", Planning!38:38, "FC") -> 0 | BK40: =COUNTIFS(Planning!$4:$4, "Vendredi", Planning!38:38, "FC") -> 0 | BL40: =COUNTIFS(Planning!$4:$4, "Samedi", Planning!38:38, "FC") -> 0 | BM40: =COUNTIFS(Planning!$4:$4, "Dimanche", Planning!38:38, "FC") -> 0 | BN40: =SUM(BG40:BM40) -> 0
A41: =A13 -> Agent 8 | B41: =COUNTIFS(Planning!$30:$30,B$33, Planning!39:39,$B$32) -> 0 | C41: =COUNTIFS(Planning!$30:$30,C$33, Planning!39:39,$B$32) -> 0 | D41: =COUNTIFS(Planning!$30:$30,D$33, Planning!39:39,$B$32) -> 0 | E41: =COUNTIFS(Planning!$30:$30,E$33, Planning!39:39,$B$32) -> 0 | F41: =COUNTIFS(Planning!$30:$30,F$33, Planning!39:39,$B$32) -> 0 | G41: =COUNTIFS(Planning!$30:$30,G$33, Planning!39:39,$B$32) -> 0 | H41: =COUNTIFS(Planning!$30:$30,H$33, Planning!39:39,$B$32) -> 0 | I41: =SUM(B41:G41) -> 0 | M41: =COUNTIFS(Planning!$30:$30, "Dimanche", Planning!39:39, "ARH") -> 0 | N41: =COUNTIFS(Planning!$30:$30, "Lundi", Planning!39:39, "AB1") -> 0 | O41: =COUNTIFS(Planning!$30:$30, "Mardi", Planning!39:39, "B1") -> 0 | P41: =COUNTIFS(Planning!$30:$30, "Mercredi", Planning!39:39, "B1") -> 0 | Q41: =COUNTIFS(Planning!$30:$30, "Jeudi", Planning!39:39, "B1") -> 0 | R41: =COUNTIFS(Planning!$30:$30, "Vendredi", Planning!39:39, "B1") -> 0 | S41: =COUNTIFS(Planning!$30:$30, "Samedi", Planning!39:39, "AB1") -> 0 | T41: =COUNTIFS(Planning!$30:$30, "Dimanche", Planning!39:39, "AB1") -> 0 | U41: =SUM(N41:T41) -> 0 | V41: =COUNTIFS(Planning!$30:$30, "Lundi", Planning!39:39, "AB3") -> 0 | W41: =COUNTIFS(Planning!$30:$30, "Mardi", Planning!39:39, "AB3") -> 0 | X41: =COUNTIFS(Planning!$30:$30, "Mercredi", Planning!39:39, "AB3") -> 0 | Y41: =COUNTIFS(Planning!$30:$30, "Jeudi", Planning!39:39, "AB3") -> 0 | Z41: =COUNTIFS(Planning!$30:$30, "Vendredi", Planning!39:39, "AB3") -> 0 | AA41: =COUNTIFS(Planning!$30:$30, "Samedi", Planning!39:39, "AB3") -> 0 | AB41: =SUM(V41:AA41) -> 0 | AC41: =COUNTIFS(Planning!$30:$30, "Lundi", Planning!39:39, "AJF") -> 0 | AD41: =COUNTIFS(Planning!$30:$30, "Mardi", Planning!39:39, "AJF") -> 0 | AE41: =COUNTIFS(Planning!$30:$30, "Mercredi", Planning!39:39, "AJF") -> 0 | AF41: =COUNTIFS(Planning!$30:$30, "Jeudi", Planning!39:39, "AJF") -> 0 | AG41: =COUNTIFS(Planning!$30:$30, "Vendredi", Planning!39:39, "AJF") -> 0 | AH41: =COUNTIFS(Planning!$30:$30, "Samedi", Planning!39:39, "AJF") -> 0 | AI41: =COUNTIFS(Planning!$30:$30, "Dimanche", Planning!39:39, "AJF") -> 0 | AJ41: =SUM(AC41:AI41) -> 0 | AK41: =COUNTIFS(Planning!$30:$30, "Lundi", Planning!39:39, "B2") -> 0 | AL41: =COUNTIFS(Planning!$30:$30, "Mardi", Planning!39:39, "B2") -> 0 | AM41: =COUNTIFS(Planning!$30:$30, "Mercredi", Planning!39:39, "B2") -> 0 | AN41: =COUNTIFS(Planning!$30:$30, "Jeudi", Planning!39:39, "B2") -> 0 | AO41: =COUNTIFS(Planning!$30:$30, "Vendredi", Planning!39:39, "B2") -> 0 | AP41: =COUNTIFS(Planning!$30:$30, "Samedi", Planning!39:39, "B2") -> 0 | AQ41: =COUNTIFS(Planning!$30:$30, "Dimanche", Planning!39:39, "B2") -> 0 | AR41: =SUM(AK41:AQ41) -> 0 | AS41: =COUNTIFS(Planning!$30:$30, "Lundi", Planning!39:39, "RTT") -> 0 | AT41: =COUNTIFS(Planning!$30:$30, "Mardi", Planning!39:39, "RTT") -> 0 | AU41: =COUNTIFS(Planning!$30:$30, "Mercredi", Planning!39:39, "RTT") -> 0 | AV41: =COUNTIFS(Planning!$30:$30, "Jeudi", Planning!39:39, "RTT") -> 0 | AW41: =COUNTIFS(Planning!$30:$30, "Vendredi", Planning!39:39, "RTT") -> 0 | AX41: =COUNTIFS(Planning!$30:$30, "Samedi", Planning!39:39, "RTT") -> 0 | AY41: =COUNTIFS(Planning!$30:$30, "Dimanche", Planning!39:39, "RTT") -> 0 | AZ41: =SUM(AS41:AY41) -> 0 | BA41: =COUNTIFS(Planning!$4:$4, "Lundi", Planning!39:39, "CA") -> 0 | BB41: =COUNTIFS(Planning!$4:$4, "Mardi", Planning!39:39, "CA") -> 0 | BC41: =COUNTIFS(Planning!$4:$4, "Mercredi", Planning!39:39, "CA") -> 0 | BD41: =COUNTIFS(Planning!$4:$4, "Jeudi", Planning!39:39, "CA") -> 0 | BE41: =COUNTIFS(Planning!$4:$4, "Vendredi", Planning!39:39, "CA") -> 0 | BF41: =SUM(BA41:BE41) -> 0 | BG41: =COUNTIFS(Planning!$4:$4, "Lundi", Planning!39:39, "FC") -> 0 | BH41: =COUNTIFS(Planning!$4:$4, "Mardi", Planning!39:39, "FC") -> 0 | BI41: =COUNTIFS(Planning!$4:$4, "Mercredi", Planning!39:39, "FC") -> 0 | BJ41: =COUNTIFS(Planning!$4:$4, "Jeudi", Planning!39:39, "FC") -> 0 | BK41: =COUNTIFS(Planning!$4:$4, "Vendredi", Planning!39:39, "FC") -> 0 | BL41: =COUNTIFS(Planning!$4:$4, "Samedi", Planning!39:39, "FC") -> 0 | BM41: =COUNTIFS(Planning!$4:$4, "Dimanche", Planning!39:39, "FC") -> 0 | BN41: =SUM(BG41:BM41) -> 0
A42: =A14 -> Agent 9 | B42: =COUNTIFS(Planning!$30:$30,B$33, Planning!40:40,$B$32) -> 0 | C42: =COUNTIFS(Planning!$30:$30,C$33, Planning!40:40,$B$32) -> 0 | D42: =COUNTIFS(Planning!$30:$30,D$33, Planning!40:40,$B$32) -> 0 | E42: =COUNTIFS(Planning!$30:$30,E$33, Planning!40:40,$B$32) -> 1 | F42: =COUNTIFS(Planning!$30:$30,F$33, Planning!40:40,$B$32) -> 0 | G42: =COUNTIFS(Planning!$30:$30,G$33, Planning!40:40,$B$32) -> 0 | H42: =COUNTIFS(Planning!$30:$30,H$33, Planning!40:40,$B$32) -> 1 | I42: =SUM(B42:G42) -> 1 | M42: =COUNTIFS(Planning!$30:$30, "Dimanche", Planning!40:40, "ARH") -> 0 | N42: =COUNTIFS(Planning!$30:$30, "Lundi", Planning!40:40, "AB1") -> 0 | O42: =COUNTIFS(Planning!$30:$30, "Mardi", Planning!40:40, "B1") -> 0 | P42: =COUNTIFS(Planning!$30:$30, "Mercredi", Planning!40:40, "B1") -> 0 | Q42: =COUNTIFS(Planning!$30:$30, "Jeudi", Planning!40:40, "B1") -> 1 | R42: =COUNTIFS(Planning!$30:$30, "Vendredi", Planning!40:40, "B1") -> 0 | S42: =COUNTIFS(Planning!$30:$30, "Samedi", Planning!40:40, "AB1") -> 0 | T42: =COUNTIFS(Planning!$30:$30, "Dimanche", Planning!40:40, "AB1") -> 0 | U42: =SUM(N42:T42) -> 1 | V42: =COUNTIFS(Planning!$30:$30, "Lundi", Planning!40:40, "AB3") -> 0 | W42: =COUNTIFS(Planning!$30:$30, "Mardi", Planning!40:40, "AB3") -> 0 | X42: =COUNTIFS(Planning!$30:$30, "Mercredi", Planning!40:40, "AB3") -> 0 | Y42: =COUNTIFS(Planning!$30:$30, "Jeudi", Planning!40:40, "AB3") -> 0 | Z42: =COUNTIFS(Planning!$30:$30, "Vendredi", Planning!40:40, "AB3") -> 0 | AA42: =COUNTIFS(Planning!$30:$30, "Samedi", Planning!40:40, "AB3") -> 0 | AB42: =SUM(V42:AA42) -> 0 | AC42: =COUNTIFS(Planning!$30:$30, "Lundi", Planning!40:40, "AJF") -> 0 | AD42: =COUNTIFS(Planning!$30:$30, "Mardi", Planning!40:40, "AJF") -> 0 | AE42: =COUNTIFS(Planning!$30:$30, "Mercredi", Planning!40:40, "AJF") -> 0 | AF42: =COUNTIFS(Planning!$30:$30, "Jeudi", Planning!40:40, "AJF") -> 0 | AG42: =COUNTIFS(Planning!$30:$30, "Vendredi", Planning!40:40, "AJF") -> 0 | AH42: =COUNTIFS(Planning!$30:$30, "Samedi", Planning!40:40, "AJF") -> 0 | AI42: =COUNTIFS(Planning!$30:$30, "Dimanche", Planning!40:40, "AJF") -> 0 | AJ42: =SUM(AC42:AI42) -> 0 | AK42: =COUNTIFS(Planning!$30:$30, "Lundi", Planning!40:40, "B2") -> 0 | AL42: =COUNTIFS(Planning!$30:$30, "Mardi", Planning!40:40, "B2") -> 0 | AM42: =COUNTIFS(Planning!$30:$30, "Mercredi", Planning!40:40, "B2") -> 0 | AN42: =COUNTIFS(Planning!$30:$30, "Jeudi", Planning!40:40, "B2") -> 0 | AO42: =COUNTIFS(Planning!$30:$30, "Vendredi", Planning!40:40, "B2") -> 0 | AP42: =COUNTIFS(Planning!$30:$30, "Samedi", Planning!40:40, "B2") -> 0 | AQ42: =COUNTIFS(Planning!$30:$30, "Dimanche", Planning!40:40, "B2") -> 0 | AR42: =SUM(AK42:AQ42) -> 0 | AS42: =COUNTIFS(Planning!$30:$30, "Lundi", Planning!40:40, "RTT") -> 0 | AT42: =COUNTIFS(Planning!$30:$30, "Mardi", Planning!40:40, "RTT") -> 0 | AU42: =COUNTIFS(Planning!$30:$30, "Mercredi", Planning!40:40, "RTT") -> 0 | AV42: =COUNTIFS(Planning!$30:$30, "Jeudi", Planning!40:40, "RTT") -> 0 | AW42: =COUNTIFS(Planning!$30:$30, "Vendredi", Planning!40:40, "RTT") -> 0 | AX42: =COUNTIFS(Planning!$30:$30, "Samedi", Planning!40:40, "RTT") -> 0 | AY42: =COUNTIFS(Planning!$30:$30, "Dimanche", Planning!40:40, "RTT") -> 0 | AZ42: =SUM(AS42:AY42) -> 0 | BA42: =COUNTIFS(Planning!$4:$4, "Lundi", Planning!40:40, "CA") -> 0 | BB42: =COUNTIFS(Planning!$4:$4, "Mardi", Planning!40:40, "CA") -> 0 | BC42: =COUNTIFS(Planning!$4:$4, "Mercredi", Planning!40:40, "CA") -> 0 | BD42: =COUNTIFS(Planning!$4:$4, "Jeudi", Planning!40:40, "CA") -> 0 | BE42: =COUNTIFS(Planning!$4:$4, "Vendredi", Planning!40:40, "CA") -> 0 | BF42: =SUM(BA42:BE42) -> 0 | BG42: =COUNTIFS(Planning!$4:$4, "Lundi", Planning!40:40, "FC") -> 0 | BH42: =COUNTIFS(Planning!$4:$4, "Mardi", Planning!40:40, "FC") -> 0 | BI42: =COUNTIFS(Planning!$4:$4, "Mercredi", Planning!40:40, "FC") -> 0 | BJ42: =COUNTIFS(Planning!$4:$4, "Jeudi", Planning!40:40, "FC") -> 0 | BK42: =COUNTIFS(Planning!$4:$4, "Vendredi", Planning!40:40, "FC") -> 0 | BL42: =COUNTIFS(Planning!$4:$4, "Samedi", Planning!40:40, "FC") -> 0 | BM42: =COUNTIFS(Planning!$4:$4, "Dimanche", Planning!40:40, "FC") -> 0 | BN42: =SUM(BG42:BM42) -> 0
A43: =A15 -> Agent 10 | B43: =COUNTIFS(Planning!$30:$30,B$33, Planning!41:41,$B$32) -> 0 | C43: =COUNTIFS(Planning!$30:$30,C$33, Planning!41:41,$B$32) -> 0 | D43: =COUNTIFS(Planning!$30:$30,D$33, Planning!41:41,$B$32) -> 0 | E43: =COUNTIFS(Planning!$30:$30,E$33, Planning!41:41,$B$32) -> 1 | F43: =COUNTIFS(Planning!$30:$30,F$33, Planning!41:41,$B$32) -> 0 | G43: =COUNTIFS(Planning!$30:$30,G$33, Planning!41:41,$B$32) -> 0 | H43: =COUNTIFS(Planning!$30:$30,H$33, Planning!41:41,$B$32) -> 0 | I43: =SUM(B43:G43) -> 1 | M43: =COUNTIFS(Planning!$30:$30, "Dimanche", Planning!41:41, "ARH") -> 0 | N43: =COUNTIFS(Planning!$30:$30, "Lundi", Planning!41:41, "AB1") -> 0 | O43: =COUNTIFS(Planning!$30:$30, "Mardi", Planning!41:41, "B1") -> 0 | P43: =COUNTIFS(Planning!$30:$30, "Mercredi", Planning!41:41, "B1") -> 0 | Q43: =COUNTIFS(Planning!$30:$30, "Jeudi", Planning!41:41, "B1") -> 1 | R43: =COUNTIFS(Planning!$30:$30, "Vendredi", Planning!41:41, "B1") -> 0 | S43: =COUNTIFS(Planning!$30:$30, "Samedi", Planning!41:41, "AB1") -> 0 | T43: =COUNTIFS(Planning!$30:$30, "Dimanche", Planning!41:41, "AB1") -> 0 | U43: =SUM(N43:T43) -> 1 | V43: =COUNTIFS(Planning!$30:$30, "Lundi", Planning!41:41, "AB3") -> 0 | W43: =COUNTIFS(Planning!$30:$30, "Mardi", Planning!41:41, "AB3") -> 0 | X43: =COUNTIFS(Planning!$30:$30, "Mercredi", Planning!41:41, "AB3") -> 0 | Y43: =COUNTIFS(Planning!$30:$30, "Jeudi", Planning!41:41, "AB3") -> 0 | Z43: =COUNTIFS(Planning!$30:$30, "Vendredi", Planning!41:41, "AB3") -> 0 | AA43: =COUNTIFS(Planning!$30:$30, "Samedi", Planning!41:41, "AB3") -> 0 | AB43: =SUM(V43:AA43) -> 0 | AC43: =COUNTIFS(Planning!$30:$30, "Lundi", Planning!41:41, "AJF") -> 0 | AD43: =COUNTIFS(Planning!$30:$30, "Mardi", Planning!41:41, "AJF") -> 0 | AE43: =COUNTIFS(Planning!$30:$30, "Mercredi", Planning!41:41, "AJF") -> 0 | AF43: =COUNTIFS(Planning!$30:$30, "Jeudi", Planning!41:41, "AJF") -> 0 | AG43: =COUNTIFS(Planning!$30:$30, "Vendredi", Planning!41:41, "AJF") -> 0 | AH43: =COUNTIFS(Planning!$30:$30, "Samedi", Planning!41:41, "AJF") -> 0 | AI43: =COUNTIFS(Planning!$30:$30, "Dimanche", Planning!41:41, "AJF") -> 0 | AJ43: =SUM(AC43:AI43) -> 0 | AK43: =COUNTIFS(Planning!$30:$30, "Lundi", Planning!41:41, "B2") -> 0 | AL43: =COUNTIFS(Planning!$30:$30, "Mardi", Planning!41:41, "B2") -> 0 | AM43: =COUNTIFS(Planning!$30:$30, "Mercredi", Planning!41:41, "B2") -> 0 | AN43: =COUNTIFS(Planning!$30:$30, "Jeudi", Planning!41:41, "B2") -> 0 | AO43: =COUNTIFS(Planning!$30:$30, "Vendredi", Planning!41:41, "B2") -> 0 | AP43: =COUNTIFS(Planning!$30:$30, "Samedi", Planning!41:41, "B2") -> 0 | AQ43: =COUNTIFS(Planning!$30:$30, "Dimanche", Planning!41:41, "B2") -> 0 | AR43: =SUM(AK43:AQ43) -> 0 | AS43: =COUNTIFS(Planning!$30:$30, "Lundi", Planning!41:41, "RTT") -> 0 | AT43: =COUNTIFS(Planning!$30:$30, "Mardi", Planning!41:41, "RTT") -> 0 | AU43: =COUNTIFS(Planning!$30:$30, "Mercredi", Planning!41:41, "RTT") -> 0 | AV43: =COUNTIFS(Planning!$30:$30, "Jeudi", Planning!41:41, "RTT") -> 0 | AW43: =COUNTIFS(Planning!$30:$30, "Vendredi", Planning!41:41, "RTT") -> 0 | AX43: =COUNTIFS(Planning!$30:$30, "Samedi", Planning!41:41, "RTT") -> 0 | AY43: =COUNTIFS(Planning!$30:$30, "Dimanche", Planning!41:41, "RTT") -> 0 | AZ43: =SUM(AS43:AY43) -> 0 | BA43: =COUNTIFS(Planning!$4:$4, "Lundi", Planning!41:41, "CA") -> 0 | BB43: =COUNTIFS(Planning!$4:$4, "Mardi", Planning!41:41, "CA") -> 0 | BC43: =COUNTIFS(Planning!$4:$4, "Mercredi", Planning!41:41, "CA") -> 0 | BD43: =COUNTIFS(Planning!$4:$4, "Jeudi", Planning!41:41, "CA") -> 0 | BE43: =COUNTIFS(Planning!$4:$4, "Vendredi", Planning!41:41, "CA") -> 0 | BF43: =SUM(BA43:BE43) -> 0 | BG43: =COUNTIFS(Planning!$4:$4, "Lundi", Planning!41:41, "FC") -> 0 | BH43: =COUNTIFS(Planning!$4:$4, "Mardi", Planning!41:41, "FC") -> 0 | BI43: =COUNTIFS(Planning!$4:$4, "Mercredi", Planning!41:41, "FC") -> 0 | BJ43: =COUNTIFS(Planning!$4:$4, "Jeudi", Planning!41:41, "FC") -> 0 | BK43: =COUNTIFS(Planning!$4:$4, "Vendredi", Planning!41:41, "FC") -> 0 | BL43: =COUNTIFS(Planning!$4:$4, "Samedi", Planning!41:41, "FC") -> 0 | BM43: =COUNTIFS(Planning!$4:$4, "Dimanche", Planning!41:41, "FC") -> 0 | BN43: =SUM(BG43:BM43) -> 0
A44: =A16 -> Agent 11 | B44: =COUNTIFS(Planning!$30:$30,B$33, Planning!42:42,$B$32) -> 0 | C44: =COUNTIFS(Planning!$30:$30,C$33, Planning!42:42,$B$32) -> 0 | D44: =COUNTIFS(Planning!$30:$30,D$33, Planning!42:42,$B$32) -> 0 | E44: =COUNTIFS(Planning!$30:$30,E$33, Planning!42:42,$B$32) -> 0 | F44: =COUNTIFS(Planning!$30:$30,F$33, Planning!42:42,$B$32) -> 0 | G44: =COUNTIFS(Planning!$30:$30,G$33, Planning!42:42,$B$32) -> 0 | H44: =COUNTIFS(Planning!$30:$30,H$33, Planning!42:42,$B$32) -> 0 | I44: =SUM(B44:G44) -> 0 | M44: =COUNTIFS(Planning!$30:$30, "Dimanche", Planning!42:42, "ARH") -> 1 | N44: =COUNTIFS(Planning!$30:$30, "Lundi", Planning!42:42, "AB1") -> 0 | O44: =COUNTIFS(Planning!$30:$30, "Mardi", Planning!42:42, "B1") -> 0 | P44: =COUNTIFS(Planning!$30:$30, "Mercredi", Planning!42:42, "B1") -> 0 | Q44: =COUNTIFS(Planning!$30:$30, "Jeudi", Planning!42:42, "B1") -> 0 | R44: =COUNTIFS(Planning!$30:$30, "Vendredi", Planning!42:42, "B1") -> 0 | S44: =COUNTIFS(Planning!$30:$30, "Samedi", Planning!42:42, "AB1") -> 0 | T44: =COUNTIFS(Planning!$30:$30, "Dimanche", Planning!42:42, "AB1") -> 0 | U44: =SUM(N44:T44) -> 0 | V44: =COUNTIFS(Planning!$30:$30, "Lundi", Planning!42:42, "AB3") -> 0 | W44: =COUNTIFS(Planning!$30:$30, "Mardi", Planning!42:42, "AB3") -> 0 | X44: =COUNTIFS(Planning!$30:$30, "Mercredi", Planning!42:42, "AB3") -> 0 | Y44: =COUNTIFS(Planning!$30:$30, "Jeudi", Planning!42:42, "AB3") -> 0 | Z44: =COUNTIFS(Planning!$30:$30, "Vendredi", Planning!42:42, "AB3") -> 0 | AA44: =COUNTIFS(Planning!$30:$30, "Samedi", Planning!42:42, "AB3") -> 0 | AB44: =SUM(V44:AA44) -> 0 | AC44: =COUNTIFS(Planning!$30:$30, "Lundi", Planning!42:42, "AJF") -> 0 | AD44: =COUNTIFS(Planning!$30:$30, "Mardi", Planning!42:42, "AJF") -> 0 | AE44: =COUNTIFS(Planning!$30:$30, "Mercredi", Planning!42:42, "AJF") -> 0 | AF44: =COUNTIFS(Planning!$30:$30, "Jeudi", Planning!42:42, "AJF") -> 0 | AG44: =COUNTIFS(Planning!$30:$30, "Vendredi", Planning!42:42, "AJF") -> 0 | AH44: =COUNTIFS(Planning!$30:$30, "Samedi", Planning!42:42, "AJF") -> 0 | AI44: =COUNTIFS(Planning!$30:$30, "Dimanche", Planning!42:42, "AJF") -> 0 | AJ44: =SUM(AC44:AI44) -> 0 | AK44: =COUNTIFS(Planning!$30:$30, "Lundi", Planning!42:42, "B2") -> 0 | AL44: =COUNTIFS(Planning!$30:$30, "Mardi", Planning!42:42, "B2") -> 0 | AM44: =COUNTIFS(Planning!$30:$30, "Mercredi", Planning!42:42, "B2") -> 0 | AN44: =COUNTIFS(Planning!$30:$30, "Jeudi", Planning!42:42, "B2") -> 0 | AO44: =COUNTIFS(Planning!$30:$30, "Vendredi", Planning!42:42, "B2") -> 0 | AP44: =COUNTIFS(Planning!$30:$30, "Samedi", Planning!42:42, "B2") -> 0 | AQ44: =COUNTIFS(Planning!$30:$30, "Dimanche", Planning!42:42, "B2") -> 0 | AR44: =SUM(AK44:AQ44) -> 0 | AS44: =COUNTIFS(Planning!$30:$30, "Lundi", Planning!42:42, "RTT") -> 0 | AT44: =COUNTIFS(Planning!$30:$30, "Mardi", Planning!42:42, "RTT") -> 0 | AU44: =COUNTIFS(Planning!$30:$30, "Mercredi", Planning!42:42, "RTT") -> 0 | AV44: =COUNTIFS(Planning!$30:$30, "Jeudi", Planning!42:42, "RTT") -> 0 | AW44: =COUNTIFS(Planning!$30:$30, "Vendredi", Planning!42:42, "RTT") -> 0 | AX44: =COUNTIFS(Planning!$30:$30, "Samedi", Planning!42:42, "RTT") -> 0 | AY44: =COUNTIFS(Planning!$30:$30, "Dimanche", Planning!42:42, "RTT") -> 0 | AZ44: =SUM(AS44:AY44) -> 0 | BA44: =COUNTIFS(Planning!$4:$4, "Lundi", Planning!42:42, "CA") -> 0 | BB44: =COUNTIFS(Planning!$4:$4, "Mardi", Planning!42:42, "CA") -> 0 | BC44: =COUNTIFS(Planning!$4:$4, "Mercredi", Planning!42:42, "CA") -> 0 | BD44: =COUNTIFS(Planning!$4:$4, "Jeudi", Planning!42:42, "CA") -> 0 | BE44: =COUNTIFS(Planning!$4:$4, "Vendredi", Planning!42:42, "CA") -> 0 | BF44: =SUM(BA44:BE44) -> 0 | BG44: =COUNTIFS(Planning!$4:$4, "Lundi", Planning!42:42, "FC") -> 0 | BH44: =COUNTIFS(Planning!$4:$4, "Mardi", Planning!42:42, "FC") -> 0 | BI44: =COUNTIFS(Planning!$4:$4, "Mercredi", Planning!42:42, "FC") -> 0 | BJ44: =COUNTIFS(Planning!$4:$4, "Jeudi", Planning!42:42, "FC") -> 0 | BK44: =COUNTIFS(Planning!$4:$4, "Vendredi", Planning!42:42, "FC") -> 0 | BL44: =COUNTIFS(Planning!$4:$4, "Samedi", Planning!42:42, "FC") -> 0 | BM44: =COUNTIFS(Planning!$4:$4, "Dimanche", Planning!42:42, "FC") -> 0 | BN44: =SUM(BG44:BM44) -> 0
A45: =A17 -> Agent 12 | B45: =COUNTIFS(Planning!$30:$30,B$33, Planning!43:43,$B$32) -> 0 | C45: =COUNTIFS(Planning!$30:$30,C$33, Planning!43:43,$B$32) -> 0 | D45: =COUNTIFS(Planning!$30:$30,D$33, Planning!43:43,$B$32) -> 0 | E45: =COUNTIFS(Planning!$30:$30,E$33, Planning!43:43,$B$32) -> 0 | F45: =COUNTIFS(Planning!$30:$30,F$33, Planning!43:43,$B$32) -> 0 | G45: =COUNTIFS(Planning!$30:$30,G$33, Planning!43:43,$B$32) -> 0 | H45: =COUNTIFS(Planning!$30:$30,H$33, Planning!43:43,$B$32) -> 0 | I45: =SUM(B45:G45) -> 0 | M45: =COUNTIFS(Planning!$30:$30, "Dimanche", Planning!43:43, "ARH") -> 0 | N45: =COUNTIFS(Planning!$30:$30, "Lundi", Planning!43:43, "AB1") -> 0 | O45: =COUNTIFS(Planning!$30:$30, "Mardi", Planning!43:43, "B1") -> 0 | P45: =COUNTIFS(Planning!$30:$30, "Mercredi", Planning!43:43, "B1") -> 0 | Q45: =COUNTIFS(Planning!$30:$30, "Jeudi", Planning!43:43, "B1") -> 0 | R45: =COUNTIFS(Planning!$30:$30, "Vendredi", Planning!43:43, "B1") -> 0 | S45: =COUNTIFS(Planning!$30:$30, "Samedi", Planning!43:43, "AB1") -> 0 | T45: =COUNTIFS(Planning!$30:$30, "Dimanche", Planning!43:43, "AB1") -> 0 | U45: =SUM(N45:T45) -> 0 | V45: =COUNTIFS(Planning!$30:$30, "Lundi", Planning!43:43, "AB3") -> 0 | W45: =COUNTIFS(Planning!$30:$30, "Mardi", Planning!43:43, "AB3") -> 0 | X45: =COUNTIFS(Planning!$30:$30, "Mercredi", Planning!43:43, "AB3") -> 0 | Y45: =COUNTIFS(Planning!$30:$30, "Jeudi", Planning!43:43, "AB3") -> 0 | Z45: =COUNTIFS(Planning!$30:$30, "Vendredi", Planning!43:43, "AB3") -> 0 | AA45: =COUNTIFS(Planning!$30:$30, "Samedi", Planning!43:43, "AB3") -> 0 | AB45: =SUM(V45:AA45) -> 0 | AC45: =COUNTIFS(Planning!$30:$30, "Lundi", Planning!43:43, "AJF") -> 0 | AD45: =COUNTIFS(Planning!$30:$30, "Mardi", Planning!43:43, "AJF") -> 0 | AE45: =COUNTIFS(Planning!$30:$30, "Mercredi", Planning!43:43, "AJF") -> 0 | AF45: =COUNTIFS(Planning!$30:$30, "Jeudi", Planning!43:43, "AJF") -> 0 | AG45: =COUNTIFS(Planning!$30:$30, "Vendredi", Planning!43:43, "AJF") -> 0 | AH45: =COUNTIFS(Planning!$30:$30, "Samedi", Planning!43:43, "AJF") -> 0 | AI45: =COUNTIFS(Planning!$30:$30, "Dimanche", Planning!43:43, "AJF") -> 0 | AJ45: =SUM(AC45:AI45) -> 0 | AK45: =COUNTIFS(Planning!$30:$30, "Lundi", Planning!43:43, "B2") -> 0 | AL45: =COUNTIFS(Planning!$30:$30, "Mardi", Planning!43:43, "B2") -> 0 | AM45: =COUNTIFS(Planning!$30:$30, "Mercredi", Planning!43:43, "B2") -> 0 | AN45: =COUNTIFS(Planning!$30:$30, "Jeudi", Planning!43:43, "B2") -> 0 | AO45: =COUNTIFS(Planning!$30:$30, "Vendredi", Planning!43:43, "B2") -> 0 | AP45: =COUNTIFS(Planning!$30:$30, "Samedi", Planning!43:43, "B2") -> 0 | AQ45: =COUNTIFS(Planning!$30:$30, "Dimanche", Planning!43:43, "B2") -> 0 | AR45: =SUM(AK45:AQ45) -> 0 | AS45: =COUNTIFS(Planning!$30:$30, "Lundi", Planning!43:43, "RTT") -> 0 | AT45: =COUNTIFS(Planning!$30:$30, "Mardi", Planning!43:43, "RTT") -> 0 | AU45: =COUNTIFS(Planning!$30:$30, "Mercredi", Planning!43:43, "RTT") -> 0 | AV45: =COUNTIFS(Planning!$30:$30, "Jeudi", Planning!43:43, "RTT") -> 0 | AW45: =COUNTIFS(Planning!$30:$30, "Vendredi", Planning!43:43, "RTT") -> 0 | AX45: =COUNTIFS(Planning!$30:$30, "Samedi", Planning!43:43, "RTT") -> 0 | AY45: =COUNTIFS(Planning!$30:$30, "Dimanche", Planning!43:43, "RTT") -> 0 | AZ45: =SUM(AS45:AY45) -> 0 | BA45: =COUNTIFS(Planning!$4:$4, "Lundi", Planning!43:43, "CA") -> 0 | BB45: =COUNTIFS(Planning!$4:$4, "Mardi", Planning!43:43, "CA") -> 0 | BC45: =COUNTIFS(Planning!$4:$4, "Mercredi", Planning!43:43, "CA") -> 0 | BD45: =COUNTIFS(Planning!$4:$4, "Jeudi", Planning!43:43, "CA") -> 0 | BE45: =COUNTIFS(Planning!$4:$4, "Vendredi", Planning!43:43, "CA") -> 0 | BF45: =SUM(BA45:BE45) -> 0 | BG45: =COUNTIFS(Planning!$4:$4, "Lundi", Planning!43:43, "FC") -> 0 | BH45: =COUNTIFS(Planning!$4:$4, "Mardi", Planning!43:43, "FC") -> 0 | BI45: =COUNTIFS(Planning!$4:$4, "Mercredi", Planning!43:43, "FC") -> 0 | BJ45: =COUNTIFS(Planning!$4:$4, "Jeudi", Planning!43:43, "FC") -> 0 | BK45: =COUNTIFS(Planning!$4:$4, "Vendredi", Planning!43:43, "FC") -> 0 | BL45: =COUNTIFS(Planning!$4:$4, "Samedi", Planning!43:43, "FC") -> 0 | BM45: =COUNTIFS(Planning!$4:$4, "Dimanche", Planning!43:43, "FC") -> 0 | BN45: =SUM(BG45:BM45) -> 0
A46: =A18 -> Agent 13 | B46: =COUNTIFS(Planning!$30:$30,B$33, Planning!44:44,$B$32) -> 0 | C46: =COUNTIFS(Planning!$30:$30,C$33, Planning!44:44,$B$32) -> 0 | D46: =COUNTIFS(Planning!$30:$30,D$33, Planning!44:44,$B$32) -> 0 | E46: =COUNTIFS(Planning!$30:$30,E$33, Planning!44:44,$B$32) -> 0 | F46: =COUNTIFS(Planning!$30:$30,F$33, Planning!44:44,$B$32) -> 0 | G46: =COUNTIFS(Planning!$30:$30,G$33, Planning!44:44,$B$32) -> 0 | H46: =COUNTIFS(Planning!$30:$30,H$33, Planning!44:44,$B$32) -> 0 | I46: =SUM(B46:G46) -> 0 | M46: =COUNTIFS(Planning!$30:$30, "Dimanche", Planning!44:44, "ARH") -> 0 | N46: =COUNTIFS(Planning!$30:$30, "Lundi", Planning!44:44, "AB1") -> 0 | O46: =COUNTIFS(Planning!$30:$30, "Mardi", Planning!44:44, "B1") -> 0 | P46: =COUNTIFS(Planning!$30:$30, "Mercredi", Planning!44:44, "B1") -> 0 | Q46: =COUNTIFS(Planning!$30:$30, "Jeudi", Planning!44:44, "B1") -> 0 | R46: =COUNTIFS(Planning!$30:$30, "Vendredi", Planning!44:44, "B1") -> 0 | S46: =COUNTIFS(Planning!$30:$30, "Samedi", Planning!44:44, "AB1") -> 0 | T46: =COUNTIFS(Planning!$30:$30, "Dimanche", Planning!44:44, "AB1") -> 0 | U46: =SUM(N46:T46) -> 0 | V46: =COUNTIFS(Planning!$30:$30, "Lundi", Planning!44:44, "AB3") -> 0 | W46: =COUNTIFS(Planning!$30:$30, "Mardi", Planning!44:44, "AB3") -> 0 | X46: =COUNTIFS(Planning!$30:$30, "Mercredi", Planning!44:44, "AB3") -> 0 | Y46: =COUNTIFS(Planning!$30:$30, "Jeudi", Planning!44:44, "AB3") -> 0 | Z46: =COUNTIFS(Planning!$30:$30, "Vendredi", Planning!44:44, "AB3") -> 0 | AA46: =COUNTIFS(Planning!$30:$30, "Samedi", Planning!44:44, "AB3") -> 0 | AB46: =SUM(V46:AA46) -> 0 | AC46: =COUNTIFS(Planning!$30:$30, "Lundi", Planning!44:44, "AJF") -> 0 | AD46: =COUNTIFS(Planning!$30:$30, "Mardi", Planning!44:44, "AJF") -> 0 | AE46: =COUNTIFS(Planning!$30:$30, "Mercredi", Planning!44:44, "AJF") -> 0 | AF46: =COUNTIFS(Planning!$30:$30, "Jeudi", Planning!44:44, "AJF") -> 0 | AG46: =COUNTIFS(Planning!$30:$30, "Vendredi", Planning!44:44, "AJF") -> 0 | AH46: =COUNTIFS(Planning!$30:$30, "Samedi", Planning!44:44, "AJF") -> 0 | AI46: =COUNTIFS(Planning!$30:$30, "Dimanche", Planning!44:44, "AJF") -> 0 | AJ46: =SUM(AC46:AI46) -> 0 | AK46: =COUNTIFS(Planning!$30:$30, "Lundi", Planning!44:44, "B2") -> 0 | AL46: =COUNTIFS(Planning!$30:$30, "Mardi", Planning!44:44, "B2") -> 0 | AM46: =COUNTIFS(Planning!$30:$30, "Mercredi", Planning!44:44, "B2") -> 0 | AN46: =COUNTIFS(Planning!$30:$30, "Jeudi", Planning!44:44, "B2") -> 0 | AO46: =COUNTIFS(Planning!$30:$30, "Vendredi", Planning!44:44, "B2") -> 0 | AP46: =COUNTIFS(Planning!$30:$30, "Samedi", Planning!44:44, "B2") -> 0 | AQ46: =COUNTIFS(Planning!$30:$30, "Dimanche", Planning!44:44, "B2") -> 0 | AR46: =SUM(AK46:AQ46) -> 0 | AS46: =COUNTIFS(Planning!$30:$30, "Lundi", Planning!44:44, "RTT") -> 0 | AT46: =COUNTIFS(Planning!$30:$30, "Mardi", Planning!44:44, "RTT") -> 0 | AU46: =COUNTIFS(Planning!$30:$30, "Mercredi", Planning!44:44, "RTT") -> 0 | AV46: =COUNTIFS(Planning!$30:$30, "Jeudi", Planning!44:44, "RTT") -> 0 | AW46: =COUNTIFS(Planning!$30:$30, "Vendredi", Planning!44:44, "RTT") -> 0 | AX46: =COUNTIFS(Planning!$30:$30, "Samedi", Planning!44:44, "RTT") -> 0 | AY46: =COUNTIFS(Planning!$30:$30, "Dimanche", Planning!44:44, "RTT") -> 0 | AZ46: =SUM(AS46:AY46) -> 0 | BA46: =COUNTIFS(Planning!$4:$4, "Lundi", Planning!44:44, "CA") -> 0 | BB46: =COUNTIFS(Planning!$4:$4, "Mardi", Planning!44:44, "CA") -> 0 | BC46: =COUNTIFS(Planning!$4:$4, "Mercredi", Planning!44:44, "CA") -> 0 | BD46: =COUNTIFS(Planning!$4:$4, "Jeudi", Planning!44:44, "CA") -> 0 | BE46: =COUNTIFS(Planning!$4:$4, "Vendredi", Planning!44:44, "CA") -> 0 | BF46: =SUM(BA46:BE46) -> 0 | BG46: =COUNTIFS(Planning!$4:$4, "Lundi", Planning!44:44, "FC") -> 0 | BH46: =COUNTIFS(Planning!$4:$4, "Mardi", Planning!44:44, "FC") -> 0 | BI46: =COUNTIFS(Planning!$4:$4, "Mercredi", Planning!44:44, "FC") -> 0 | BJ46: =COUNTIFS(Planning!$4:$4, "Jeudi", Planning!44:44, "FC") -> 0 | BK46: =COUNTIFS(Planning!$4:$4, "Vendredi", Planning!44:44, "FC") -> 0 | BL46: =COUNTIFS(Planning!$4:$4, "Samedi", Planning!44:44, "FC") -> 0 | BM46: =COUNTIFS(Planning!$4:$4, "Dimanche", Planning!44:44, "FC") -> 0 | BN46: =SUM(BG46:BM46) -> 0
A47: =A19 -> Agent 14 | B47: =COUNTIFS(Planning!$30:$30,B$33, Planning!45:45,$B$32) -> 0 | C47: =COUNTIFS(Planning!$30:$30,C$33, Planning!45:45,$B$32) -> 0 | D47: =COUNTIFS(Planning!$30:$30,D$33, Planning!45:45,$B$32) -> 0 | E47: =COUNTIFS(Planning!$30:$30,E$33, Planning!45:45,$B$32) -> 0 | F47: =COUNTIFS(Planning!$30:$30,F$33, Planning!45:45,$B$32) -> 0 | G47: =COUNTIFS(Planning!$30:$30,G$33, Planning!45:45,$B$32) -> 0 | H47: =COUNTIFS(Planning!$30:$30,H$33, Planning!45:45,$B$32) -> 0 | I47: =SUM(B47:G47) -> 0 | M47: =COUNTIFS(Planning!$30:$30, "Dimanche", Planning!45:45, "ARH") -> 0 | N47: =COUNTIFS(Planning!$30:$30, "Lundi", Planning!45:45, "AB1") -> 0 | O47: =COUNTIFS(Planning!$30:$30, "Mardi", Planning!45:45, "B1") -> 0 | P47: =COUNTIFS(Planning!$30:$30, "Mercredi", Planning!45:45, "B1") -> 0 | Q47: =COUNTIFS(Planning!$30:$30, "Jeudi", Planning!45:45, "B1") -> 0 | R47: =COUNTIFS(Planning!$30:$30, "Vendredi", Planning!45:45, "B1") -> 0 | S47: =COUNTIFS(Planning!$30:$30, "Samedi", Planning!45:45, "AB1") -> 0 | T47: =COUNTIFS(Planning!$30:$30, "Dimanche", Planning!45:45, "AB1") -> 0 | U47: =SUM(N47:T47) -> 0 | V47: =COUNTIFS(Planning!$30:$30, "Lundi", Planning!45:45, "AB3") -> 0 | W47: =COUNTIFS(Planning!$30:$30, "Mardi", Planning!45:45, "AB3") -> 0 | X47: =COUNTIFS(Planning!$30:$30, "Mercredi", Planning!45:45, "AB3") -> 0 | Y47: =COUNTIFS(Planning!$30:$30, "Jeudi", Planning!45:45, "AB3") -> 0 | Z47: =COUNTIFS(Planning!$30:$30, "Vendredi", Planning!45:45, "AB3") -> 0 | AA47: =COUNTIFS(Planning!$30:$30, "Samedi", Planning!45:45, "AB3") -> 0 | AB47: =SUM(V47:AA47) -> 0 | AC47: =COUNTIFS(Planning!$30:$30, "Lundi", Planning!45:45, "AJF") -> 0 | AD47: =COUNTIFS(Planning!$30:$30, "Mardi", Planning!45:45, "AJF") -> 0 | AE47: =COUNTIFS(Planning!$30:$30, "Mercredi", Planning!45:45, "AJF") -> 0 | AF47: =COUNTIFS(Planning!$30:$30, "Jeudi", Planning!45:45, "AJF") -> 0 | AG47: =COUNTIFS(Planning!$30:$30, "Vendredi", Planning!45:45, "AJF") -> 0 | AH47: =COUNTIFS(Planning!$30:$30, "Samedi", Planning!45:45, "AJF") -> 0 | AI47: =COUNTIFS(Planning!$30:$30, "Dimanche", Planning!45:45, "AJF") -> 0 | AJ47: =SUM(AC47:AI47) -> 0 | AK47: =COUNTIFS(Planning!$30:$30, "Lundi", Planning!45:45, "B2") -> 0 | AL47: =COUNTIFS(Planning!$30:$30, "Mardi", Planning!45:45, "B2") -> 0 | AM47: =COUNTIFS(Planning!$30:$30, "Mercredi", Planning!45:45, "B2") -> 0 | AN47: =COUNTIFS(Planning!$30:$30, "Jeudi", Planning!45:45, "B2") -> 0 | AO47: =COUNTIFS(Planning!$30:$30, "Vendredi", Planning!45:45, "B2") -> 0 | AP47: =COUNTIFS(Planning!$30:$30, "Samedi", Planning!45:45, "B2") -> 0 | AQ47: =COUNTIFS(Planning!$30:$30, "Dimanche", Planning!45:45, "B2") -> 0 | AR47: =SUM(AK47:AQ47) -> 0 | AS47: =COUNTIFS(Planning!$30:$30, "Lundi", Planning!45:45, "RTT") -> 0 | AT47: =COUNTIFS(Planning!$30:$30, "Mardi", Planning!45:45, "RTT") -> 0 | AU47: =COUNTIFS(Planning!$30:$30, "Mercredi", Planning!45:45, "RTT") -> 0 | AV47: =COUNTIFS(Planning!$30:$30, "Jeudi", Planning!45:45, "RTT") -> 0 | AW47: =COUNTIFS(Planning!$30:$30, "Vendredi", Planning!45:45, "RTT") -> 0 | AX47: =COUNTIFS(Planning!$30:$30, "Samedi", Planning!45:45, "RTT") -> 0 | AY47: =COUNTIFS(Planning!$30:$30, "Dimanche", Planning!45:45, "RTT") -> 0 | AZ47: =SUM(AS47:AY47) -> 0 | BA47: =COUNTIFS(Planning!$4:$4, "Lundi", Planning!45:45, "CA") -> 0 | BB47: =COUNTIFS(Planning!$4:$4, "Mardi", Planning!45:45, "CA") -> 0 | BC47: =COUNTIFS(Planning!$4:$4, "Mercredi", Planning!45:45, "CA") -> 0 | BD47: =COUNTIFS(Planning!$4:$4, "Jeudi", Planning!45:45, "CA") -> 0 | BE47: =COUNTIFS(Planning!$4:$4, "Vendredi", Planning!45:45, "CA") -> 0 | BF47: =SUM(BA47:BE47) -> 0 | BG47: =COUNTIFS(Planning!$4:$4, "Lundi", Planning!45:45, "FC") -> 0 | BH47: =COUNTIFS(Planning!$4:$4, "Mardi", Planning!45:45, "FC") -> 0 | BI47: =COUNTIFS(Planning!$4:$4, "Mercredi", Planning!45:45, "FC") -> 0 | BJ47: =COUNTIFS(Planning!$4:$4, "Jeudi", Planning!45:45, "FC") -> 0 | BK47: =COUNTIFS(Planning!$4:$4, "Vendredi", Planning!45:45, "FC") -> 0 | BL47: =COUNTIFS(Planning!$4:$4, "Samedi", Planning!45:45, "FC") -> 0 | BM47: =COUNTIFS(Planning!$4:$4, "Dimanche", Planning!45:45, "FC") -> 0 | BN47: =SUM(BG47:BM47) -> 0
A48: =A20 -> Agent 15 | B48: =COUNTIFS(Planning!$30:$30,B$33, Planning!46:46,$B$32) -> 0 | C48: =COUNTIFS(Planning!$30:$30,C$33, Planning!46:46,$B$32) -> 0 | D48: =COUNTIFS(Planning!$30:$30,D$33, Planning!46:46,$B$32) -> 0 | E48: =COUNTIFS(Planning!$30:$30,E$33, Planning!46:46,$B$32) -> 0 | F48: =COUNTIFS(Planning!$30:$30,F$33, Planning!46:46,$B$32) -> 0 | G48: =COUNTIFS(Planning!$30:$30,G$33, Planning!46:46,$B$32) -> 0 | H48: =COUNTIFS(Planning!$30:$30,H$33, Planning!46:46,$B$32) -> 0 | I48: =SUM(B48:G48) -> 0 | M48: =COUNTIFS(Planning!$30:$30, "Dimanche", Planning!46:46, "ARH") -> 0 | N48: =COUNTIFS(Planning!$30:$30, "Lundi", Planning!46:46, "AB1") -> 0 | O48: =COUNTIFS(Planning!$30:$30, "Mardi", Planning!46:46, "B1") -> 0 | P48: =COUNTIFS(Planning!$30:$30, "Mercredi", Planning!46:46, "B1") -> 0 | Q48: =COUNTIFS(Planning!$30:$30, "Jeudi", Planning!46:46, "B1") -> 0 | R48: =COUNTIFS(Planning!$30:$30, "Vendredi", Planning!46:46, "B1") -> 0 | S48: =COUNTIFS(Planning!$30:$30, "Samedi", Planning!46:46, "AB1") -> 0 | T48: =COUNTIFS(Planning!$30:$30, "Dimanche", Planning!46:46, "AB1") -> 0 | U48: =SUM(N48:T48) -> 0 | V48: =COUNTIFS(Planning!$30:$30, "Lundi", Planning!46:46, "AB3") -> 0 | W48: =COUNTIFS(Planning!$30:$30, "Mardi", Planning!46:46, "AB3") -> 0 | X48: =COUNTIFS(Planning!$30:$30, "Mercredi", Planning!46:46, "AB3") -> 0 | Y48: =COUNTIFS(Planning!$30:$30, "Jeudi", Planning!46:46, "AB3") -> 0 | Z48: =COUNTIFS(Planning!$30:$30, "Vendredi", Planning!46:46, "AB3") -> 0 | AA48: =COUNTIFS(Planning!$30:$30, "Samedi", Planning!46:46, "AB3") -> 0 | AB48: =SUM(V48:AA48) -> 0 | AC48: =COUNTIFS(Planning!$30:$30, "Lundi", Planning!46:46, "AJF") -> 0 | AD48: =COUNTIFS(Planning!$30:$30, "Mardi", Planning!46:46, "AJF") -> 0 | AE48: =COUNTIFS(Planning!$30:$30, "Mercredi", Planning!46:46, "AJF") -> 0 | AF48: =COUNTIFS(Planning!$30:$30, "Jeudi", Planning!46:46, "AJF") -> 0 | AG48: =COUNTIFS(Planning!$30:$30, "Vendredi", Planning!46:46, "AJF") -> 0 | AH48: =COUNTIFS(Planning!$30:$30, "Samedi", Planning!46:46, "AJF") -> 0 | AI48: =COUNTIFS(Planning!$30:$30, "Dimanche", Planning!46:46, "AJF") -> 0 | AJ48: =SUM(AC48:AI48) -> 0 | AK48: =COUNTIFS(Planning!$30:$30, "Lundi", Planning!46:46, "B2") -> 0 | AL48: =COUNTIFS(Planning!$30:$30, "Mardi", Planning!46:46, "B2") -> 0 | AM48: =COUNTIFS(Planning!$30:$30, "Mercredi", Planning!46:46, "B2") -> 0 | AN48: =COUNTIFS(Planning!$30:$30, "Jeudi", Planning!46:46, "B2") -> 0 | AO48: =COUNTIFS(Planning!$30:$30, "Vendredi", Planning!46:46, "B2") -> 0 | AP48: =COUNTIFS(Planning!$30:$30, "Samedi", Planning!46:46, "B2") -> 0 | AQ48: =COUNTIFS(Planning!$30:$30, "Dimanche", Planning!46:46, "B2") -> 0 | AR48: =SUM(AK48:AQ48) -> 0 | AS48: =COUNTIFS(Planning!$30:$30, "Lundi", Planning!46:46, "RTT") -> 0 | AT48: =COUNTIFS(Planning!$30:$30, "Mardi", Planning!46:46, "RTT") -> 0 | AU48: =COUNTIFS(Planning!$30:$30, "Mercredi", Planning!46:46, "RTT") -> 0 | AV48: =COUNTIFS(Planning!$30:$30, "Jeudi", Planning!46:46, "RTT") -> 0 | AW48: =COUNTIFS(Planning!$30:$30, "Vendredi", Planning!46:46, "RTT") -> 0 | AX48: =COUNTIFS(Planning!$30:$30, "Samedi", Planning!46:46, "RTT") -> 0 | AY48: =COUNTIFS(Planning!$30:$30, "Dimanche", Planning!46:46, "RTT") -> 0 | AZ48: =SUM(AS48:AY48) -> 0 | BA48: =COUNTIFS(Planning!$4:$4, "Lundi", Planning!46:46, "CA") -> 0 | BB48: =COUNTIFS(Planning!$4:$4, "Mardi", Planning!46:46, "CA") -> 0 | BC48: =COUNTIFS(Planning!$4:$4, "Mercredi", Planning!46:46, "CA") -> 0 | BD48: =COUNTIFS(Planning!$4:$4, "Jeudi", Planning!46:46, "CA") -> 0 | BE48: =COUNTIFS(Planning!$4:$4, "Vendredi", Planning!46:46, "CA") -> 0 | BF48: =SUM(BA48:BE48) -> 0 | BG48: =COUNTIFS(Planning!$4:$4, "Lundi", Planning!46:46, "FC") -> 0 | BH48: =COUNTIFS(Planning!$4:$4, "Mardi", Planning!46:46, "FC") -> 0 | BI48: =COUNTIFS(Planning!$4:$4, "Mercredi", Planning!46:46, "FC") -> 0 | BJ48: =COUNTIFS(Planning!$4:$4, "Jeudi", Planning!46:46, "FC") -> 0 | BK48: =COUNTIFS(Planning!$4:$4, "Vendredi", Planning!46:46, "FC") -> 0 | BL48: =COUNTIFS(Planning!$4:$4, "Samedi", Planning!46:46, "FC") -> 0 | BM48: =COUNTIFS(Planning!$4:$4, "Dimanche", Planning!46:46, "FC") -> 0 | BN48: =SUM(BG48:BM48) -> 0
A49: =A21 -> Agent 16 | B49: =COUNTIFS(Planning!$30:$30,B$33, Planning!47:47,$B$32) -> 0 | C49: =COUNTIFS(Planning!$30:$30,C$33, Planning!47:47,$B$32) -> 0 | D49: =COUNTIFS(Planning!$30:$30,D$33, Planning!47:47,$B$32) -> 0 | E49: =COUNTIFS(Planning!$30:$30,E$33, Planning!47:47,$B$32) -> 0 | F49: =COUNTIFS(Planning!$30:$30,F$33, Planning!47:47,$B$32) -> 0 | G49: =COUNTIFS(Planning!$30:$30,G$33, Planning!47:47,$B$32) -> 0 | H49: =COUNTIFS(Planning!$30:$30,H$33, Planning!47:47,$B$32) -> 0 | I49: =SUM(B49:G49) -> 0 | M49: =COUNTIFS(Planning!$30:$30, "Dimanche", Planning!47:47, "ARH") -> 0 | N49: =COUNTIFS(Planning!$30:$30, "Lundi", Planning!47:47, "AB1") -> 0 | O49: =COUNTIFS(Planning!$30:$30, "Mardi", Planning!47:47, "B1") -> 0 | P49: =COUNTIFS(Planning!$30:$30, "Mercredi", Planning!47:47, "B1") -> 0 | Q49: =COUNTIFS(Planning!$30:$30, "Jeudi", Planning!47:47, "B1") -> 0 | R49: =COUNTIFS(Planning!$30:$30, "Vendredi", Planning!47:47, "B1") -> 0 | S49: =COUNTIFS(Planning!$30:$30, "Samedi", Planning!47:47, "AB1") -> 0 | T49: =COUNTIFS(Planning!$30:$30, "Dimanche", Planning!47:47, "AB1") -> 0 | U49: =SUM(N49:T49) -> 0 | V49: =COUNTIFS(Planning!$30:$30, "Lundi", Planning!47:47, "AB3") -> 0 | W49: =COUNTIFS(Planning!$30:$30, "Mardi", Planning!47:47, "AB3") -> 0 | X49: =COUNTIFS(Planning!$30:$30, "Mercredi", Planning!47:47, "AB3") -> 0 | Y49: =COUNTIFS(Planning!$30:$30, "Jeudi", Planning!47:47, "AB3") -> 0 | Z49: =COUNTIFS(Planning!$30:$30, "Vendredi", Planning!47:47, "AB3") -> 0 | AA49: =COUNTIFS(Planning!$30:$30, "Samedi", Planning!47:47, "AB3") -> 0 | AB49: =SUM(V49:AA49) -> 0 | AC49: =COUNTIFS(Planning!$30:$30, "Lundi", Planning!47:47, "AJF") -> 0 | AD49: =COUNTIFS(Planning!$30:$30, "Mardi", Planning!47:47, "AJF") -> 0 | AE49: =COUNTIFS(Planning!$30:$30, "Mercredi", Planning!47:47, "AJF") -> 0 | AF49: =COUNTIFS(Planning!$30:$30, "Jeudi", Planning!47:47, "AJF") -> 0 | AG49: =COUNTIFS(Planning!$30:$30, "Vendredi", Planning!47:47, "AJF") -> 0 | AH49: =COUNTIFS(Planning!$30:$30, "Samedi", Planning!47:47, "AJF") -> 0 | AI49: =COUNTIFS(Planning!$30:$30, "Dimanche", Planning!47:47, "AJF") -> 0 | AJ49: =SUM(AC49:AI49) -> 0 | AK49: =COUNTIFS(Planning!$30:$30, "Lundi", Planning!47:47, "B2") -> 0 | AL49: =COUNTIFS(Planning!$30:$30, "Mardi", Planning!47:47, "B2") -> 0 | AM49: =COUNTIFS(Planning!$30:$30, "Mercredi", Planning!47:47, "B2") -> 0 | AN49: =COUNTIFS(Planning!$30:$30, "Jeudi", Planning!47:47, "B2") -> 0 | AO49: =COUNTIFS(Planning!$30:$30, "Vendredi", Planning!47:47, "B2") -> 0 | AP49: =COUNTIFS(Planning!$30:$30, "Samedi", Planning!47:47, "B2") -> 0 | AQ49: =COUNTIFS(Planning!$30:$30, "Dimanche", Planning!47:47, "B2") -> 0 | AR49: =SUM(AK49:AQ49) -> 0 | AS49: =COUNTIFS(Planning!$30:$30, "Lundi", Planning!47:47, "RTT") -> 0 | AT49: =COUNTIFS(Planning!$30:$30, "Mardi", Planning!47:47, "RTT") -> 0 | AU49: =COUNTIFS(Planning!$30:$30, "Mercredi", Planning!47:47, "RTT") -> 0 | AV49: =COUNTIFS(Planning!$30:$30, "Jeudi", Planning!47:47, "RTT") -> 0 | AW49: =COUNTIFS(Planning!$30:$30, "Vendredi", Planning!47:47, "RTT") -> 0 | AX49: =COUNTIFS(Planning!$30:$30, "Samedi", Planning!47:47, "RTT") -> 0 | AY49: =COUNTIFS(Planning!$30:$30, "Dimanche", Planning!47:47, "RTT") -> 0 | AZ49: =SUM(AS49:AY49) -> 0 | BA49: =COUNTIFS(Planning!$4:$4, "Lundi", Planning!47:47, "CA") -> 0 | BB49: =COUNTIFS(Planning!$4:$4, "Mardi", Planning!47:47, "CA") -> 0 | BC49: =COUNTIFS(Planning!$4:$4, "Mercredi", Planning!47:47, "CA") -> 0 | BD49: =COUNTIFS(Planning!$4:$4, "Jeudi", Planning!47:47, "CA") -> 0 | BE49: =COUNTIFS(Planning!$4:$4, "Vendredi", Planning!47:47, "CA") -> 0 | BF49: =SUM(BA49:BE49) -> 0 | BG49: =COUNTIFS(Planning!$4:$4, "Lundi", Planning!47:47, "FC") -> 0 | BH49: =COUNTIFS(Planning!$4:$4, "Mardi", Planning!47:47, "FC") -> 0 | BI49: =COUNTIFS(Planning!$4:$4, "Mercredi", Planning!47:47, "FC") -> 0 | BJ49: =COUNTIFS(Planning!$4:$4, "Jeudi", Planning!47:47, "FC") -> 0 | BK49: =COUNTIFS(Planning!$4:$4, "Vendredi", Planning!47:47, "FC") -> 0 | BL49: =COUNTIFS(Planning!$4:$4, "Samedi", Planning!47:47, "FC") -> 0 | BM49: =COUNTIFS(Planning!$4:$4, "Dimanche", Planning!47:47, "FC") -> 0 | BN49: =SUM(BG49:BM49) -> 0
A50: =A22 -> Agent 17 | B50: =COUNTIFS(Planning!$30:$30,B$33, Planning!48:48,$B$32) -> 0 | C50: =COUNTIFS(Planning!$30:$30,C$33, Planning!48:48,$B$32) -> 0 | D50: =COUNTIFS(Planning!$30:$30,D$33, Planning!48:48,$B$32) -> 0 | E50: =COUNTIFS(Planning!$30:$30,E$33, Planning!48:48,$B$32) -> 0 | F50: =COUNTIFS(Planning!$30:$30,F$33, Planning!48:48,$B$32) -> 0 | G50: =COUNTIFS(Planning!$30:$30,G$33, Planning!48:48,$B$32) -> 0 | H50: =COUNTIFS(Planning!$30:$30,H$33, Planning!48:48,$B$32) -> 0 | I50: =SUM(B50:G50) -> 0 | M50: =COUNTIFS(Planning!$30:$30, "Dimanche", Planning!48:48, "ARH") -> 0 | N50: =COUNTIFS(Planning!$30:$30, "Lundi", Planning!48:48, "AB1") -> 0 | O50: =COUNTIFS(Planning!$30:$30, "Mardi", Planning!48:48, "B1") -> 0 | P50: =COUNTIFS(Planning!$30:$30, "Mercredi", Planning!48:48, "B1") -> 0 | Q50: =COUNTIFS(Planning!$30:$30, "Jeudi", Planning!48:48, "B1") -> 0 | R50: =COUNTIFS(Planning!$30:$30, "Vendredi", Planning!48:48, "B1") -> 0 | S50: =COUNTIFS(Planning!$30:$30, "Samedi", Planning!48:48, "AB1") -> 0 | T50: =COUNTIFS(Planning!$30:$30, "Dimanche", Planning!48:48, "AB1") -> 0 | U50: =SUM(N50:T50) -> 0 | V50: =COUNTIFS(Planning!$30:$30, "Lundi", Planning!48:48, "AB3") -> 0 | W50: =COUNTIFS(Planning!$30:$30, "Mardi", Planning!48:48, "AB3") -> 0 | X50: =COUNTIFS(Planning!$30:$30, "Mercredi", Planning!48:48, "AB3") -> 0 | Y50: =COUNTIFS(Planning!$30:$30, "Jeudi", Planning!48:48, "AB3") -> 0 | Z50: =COUNTIFS(Planning!$30:$30, "Vendredi", Planning!48:48, "AB3") -> 0 | AA50: =COUNTIFS(Planning!$30:$30, "Samedi", Planning!48:48, "AB3") -> 0 | AB50: =SUM(V50:AA50) -> 0 | AC50: =COUNTIFS(Planning!$30:$30, "Lundi", Planning!48:48, "AJF") -> 0 | AD50: =COUNTIFS(Planning!$30:$30, "Mardi", Planning!48:48, "AJF") -> 0 | AE50: =COUNTIFS(Planning!$30:$30, "Mercredi", Planning!48:48, "AJF") -> 0 | AF50: =COUNTIFS(Planning!$30:$30, "Jeudi", Planning!48:48, "AJF") -> 0 | AG50: =COUNTIFS(Planning!$30:$30, "Vendredi", Planning!48:48, "AJF") -> 0 | AH50: =COUNTIFS(Planning!$30:$30, "Samedi", Planning!48:48, "AJF") -> 0 | AI50: =COUNTIFS(Planning!$30:$30, "Dimanche", Planning!48:48, "AJF") -> 0 | AJ50: =SUM(AC50:AI50) -> 0 | AK50: =COUNTIFS(Planning!$30:$30, "Lundi", Planning!48:48, "B2") -> 0 | AL50: =COUNTIFS(Planning!$30:$30, "Mardi", Planning!48:48, "B2") -> 0 | AM50: =COUNTIFS(Planning!$30:$30, "Mercredi", Planning!48:48, "B2") -> 0 | AN50: =COUNTIFS(Planning!$30:$30, "Jeudi", Planning!48:48, "B2") -> 0 | AO50: =COUNTIFS(Planning!$30:$30, "Vendredi", Planning!48:48, "B2") -> 0 | AP50: =COUNTIFS(Planning!$30:$30, "Samedi", Planning!48:48, "B2") -> 0 | AQ50: =COUNTIFS(Planning!$30:$30, "Dimanche", Planning!48:48, "B2") -> 0 | AR50: =SUM(AK50:AQ50) -> 0 | AS50: =COUNTIFS(Planning!$30:$30, "Lundi", Planning!48:48, "RTT") -> 0 | AT50: =COUNTIFS(Planning!$30:$30, "Mardi", Planning!48:48, "RTT") -> 0 | AU50: =COUNTIFS(Planning!$30:$30, "Mercredi", Planning!48:48, "RTT") -> 0 | AV50: =COUNTIFS(Planning!$30:$30, "Jeudi", Planning!48:48, "RTT") -> 0 | AW50: =COUNTIFS(Planning!$30:$30, "Vendredi", Planning!48:48, "RTT") -> 0 | AX50: =COUNTIFS(Planning!$30:$30, "Samedi", Planning!48:48, "RTT") -> 0 | AY50: =COUNTIFS(Planning!$30:$30, "Dimanche", Planning!48:48, "RTT") -> 0 | AZ50: =SUM(AS50:AY50) -> 0 | BA50: =COUNTIFS(Planning!$4:$4, "Lundi", Planning!48:48, "CA") -> 0 | BB50: =COUNTIFS(Planning!$4:$4, "Mardi", Planning!48:48, "CA") -> 0 | BC50: =COUNTIFS(Planning!$4:$4, "Mercredi", Planning!48:48, "CA") -> 0 | BD50: =COUNTIFS(Planning!$4:$4, "Jeudi", Planning!48:48, "CA") -> 0 | BE50: =COUNTIFS(Planning!$4:$4, "Vendredi", Planning!48:48, "CA") -> 0 | BF50: =SUM(BA50:BE50) -> 0 | BG50: =COUNTIFS(Planning!$4:$4, "Lundi", Planning!48:48, "FC") -> 0 | BH50: =COUNTIFS(Planning!$4:$4, "Mardi", Planning!48:48, "FC") -> 0 | BI50: =COUNTIFS(Planning!$4:$4, "Mercredi", Planning!48:48, "FC") -> 0 | BJ50: =COUNTIFS(Planning!$4:$4, "Jeudi", Planning!48:48, "FC") -> 0 | BK50: =COUNTIFS(Planning!$4:$4, "Vendredi", Planning!48:48, "FC") -> 0 | BL50: =COUNTIFS(Planning!$4:$4, "Samedi", Planning!48:48, "FC") -> 0 | BM50: =COUNTIFS(Planning!$4:$4, "Dimanche", Planning!48:48, "FC") -> 0 | BN50: =SUM(BG50:BM50) -> 0
A51: =A23 -> Agent 18 | B51: =COUNTIFS(Planning!$30:$30,B$33, Planning!49:49,$B$32) -> 0 | C51: =COUNTIFS(Planning!$30:$30,C$33, Planning!49:49,$B$32) -> 0 | D51: =COUNTIFS(Planning!$30:$30,D$33, Planning!49:49,$B$32) -> 0 | E51: =COUNTIFS(Planning!$30:$30,E$33, Planning!49:49,$B$32) -> 0 | F51: =COUNTIFS(Planning!$30:$30,F$33, Planning!49:49,$B$32) -> 0 | G51: =COUNTIFS(Planning!$30:$30,G$33, Planning!49:49,$B$32) -> 0 | H51: =COUNTIFS(Planning!$30:$30,H$33, Planning!49:49,$B$32) -> 0 | I51: =SUM(B51:G51) -> 0 | M51: =COUNTIFS(Planning!$30:$30, "Dimanche", Planning!49:49, "ARH") -> 0 | N51: =COUNTIFS(Planning!$30:$30, "Lundi", Planning!49:49, "AB1") -> 0 | O51: =COUNTIFS(Planning!$30:$30, "Mardi", Planning!49:49, "B1") -> 0 | P51: =COUNTIFS(Planning!$30:$30, "Mercredi", Planning!49:49, "B1") -> 0 | Q51: =COUNTIFS(Planning!$30:$30, "Jeudi", Planning!49:49, "B1") -> 0 | R51: =COUNTIFS(Planning!$30:$30, "Vendredi", Planning!49:49, "B1") -> 0 | S51: =COUNTIFS(Planning!$30:$30, "Samedi", Planning!49:49, "AB1") -> 0 | T51: =COUNTIFS(Planning!$30:$30, "Dimanche", Planning!49:49, "AB1") -> 0 | U51: =SUM(N51:T51) -> 0 | V51: =COUNTIFS(Planning!$30:$30, "Lundi", Planning!49:49, "AB3") -> 0 | W51: =COUNTIFS(Planning!$30:$30, "Mardi", Planning!49:49, "AB3") -> 0 | X51: =COUNTIFS(Planning!$30:$30, "Mercredi", Planning!49:49, "AB3") -> 0 | Y51: =COUNTIFS(Planning!$30:$30, "Jeudi", Planning!49:49, "AB3") -> 0 | Z51: =COUNTIFS(Planning!$30:$30, "Vendredi", Planning!49:49, "AB3") -> 0 | AA51: =COUNTIFS(Planning!$30:$30, "Samedi", Planning!49:49, "AB3") -> 0 | AB51: =SUM(V51:AA51) -> 0 | AC51: =COUNTIFS(Planning!$30:$30, "Lundi", Planning!49:49, "AJF") -> 0 | AD51: =COUNTIFS(Planning!$30:$30, "Mardi", Planning!49:49, "AJF") -> 0 | AE51: =COUNTIFS(Planning!$30:$30, "Mercredi", Planning!49:49, "AJF") -> 0 | AF51: =COUNTIFS(Planning!$30:$30, "Jeudi", Planning!49:49, "AJF") -> 0 | AG51: =COUNTIFS(Planning!$30:$30, "Vendredi", Planning!49:49, "AJF") -> 0 | AH51: =COUNTIFS(Planning!$30:$30, "Samedi", Planning!49:49, "AJF") -> 0 | AI51: =COUNTIFS(Planning!$30:$30, "Dimanche", Planning!49:49, "AJF") -> 0 | AJ51: =SUM(AC51:AI51) -> 0 | AK51: =COUNTIFS(Planning!$30:$30, "Lundi", Planning!49:49, "B2") -> 0 | AL51: =COUNTIFS(Planning!$30:$30, "Mardi", Planning!49:49, "B2") -> 0 | AM51: =COUNTIFS(Planning!$30:$30, "Mercredi", Planning!49:49, "B2") -> 0 | AN51: =COUNTIFS(Planning!$30:$30, "Jeudi", Planning!49:49, "B2") -> 0 | AO51: =COUNTIFS(Planning!$30:$30, "Vendredi", Planning!49:49, "B2") -> 0 | AP51: =COUNTIFS(Planning!$30:$30, "Samedi", Planning!49:49, "B2") -> 0 | AQ51: =COUNTIFS(Planning!$30:$30, "Dimanche", Planning!49:49, "B2") -> 0 | AR51: =SUM(AK51:AQ51) -> 0 | AS51: =COUNTIFS(Planning!$30:$30, "Lundi", Planning!49:49, "RTT") -> 0 | AT51: =COUNTIFS(Planning!$30:$30, "Mardi", Planning!49:49, "RTT") -> 0 | AU51: =COUNTIFS(Planning!$30:$30, "Mercredi", Planning!49:49, "RTT") -> 0 | AV51: =COUNTIFS(Planning!$30:$30, "Jeudi", Planning!49:49, "RTT") -> 0 | AW51: =COUNTIFS(Planning!$30:$30, "Vendredi", Planning!49:49, "RTT") -> 0 | AX51: =COUNTIFS(Planning!$30:$30, "Samedi", Planning!49:49, "RTT") -> 0 | AY51: =COUNTIFS(Planning!$30:$30, "Dimanche", Planning!49:49, "RTT") -> 0 | AZ51: =SUM(AS51:AY51) -> 0 | BA51: =COUNTIFS(Planning!$4:$4, "Lundi", Planning!49:49, "CA") -> 0 | BB51: =COUNTIFS(Planning!$4:$4, "Mardi", Planning!49:49, "CA") -> 0 | BC51: =COUNTIFS(Planning!$4:$4, "Mercredi", Planning!49:49, "CA") -> 0 | BD51: =COUNTIFS(Planning!$4:$4, "Jeudi", Planning!49:49, "CA") -> 0 | BE51: =COUNTIFS(Planning!$4:$4, "Vendredi", Planning!49:49, "CA") -> 0 | BF51: =SUM(BA51:BE51) -> 0 | BG51: =COUNTIFS(Planning!$4:$4, "Lundi", Planning!49:49, "FC") -> 0 | BH51: =COUNTIFS(Planning!$4:$4, "Mardi", Planning!49:49, "FC") -> 0 | BI51: =COUNTIFS(Planning!$4:$4, "Mercredi", Planning!49:49, "FC") -> 0 | BJ51: =COUNTIFS(Planning!$4:$4, "Jeudi", Planning!49:49, "FC") -> 0 | BK51: =COUNTIFS(Planning!$4:$4, "Vendredi", Planning!49:49, "FC") -> 0 | BL51: =COUNTIFS(Planning!$4:$4, "Samedi", Planning!49:49, "FC") -> 0 | BM51: =COUNTIFS(Planning!$4:$4, "Dimanche", Planning!49:49, "FC") -> 0 | BN51: =SUM(BG51:BM51) -> 0
A52: =A24 -> Agent 19 | B52: =COUNTIFS(Planning!$30:$30,B$33, Planning!50:50,$B$32) -> 0 | C52: =COUNTIFS(Planning!$30:$30,C$33, Planning!50:50,$B$32) -> 0 | D52: =COUNTIFS(Planning!$30:$30,D$33, Planning!50:50,$B$32) -> 0 | E52: =COUNTIFS(Planning!$30:$30,E$33, Planning!50:50,$B$32) -> 0 | F52: =COUNTIFS(Planning!$30:$30,F$33, Planning!50:50,$B$32) -> 0 | G52: =COUNTIFS(Planning!$30:$30,G$33, Planning!50:50,$B$32) -> 0 | H52: =COUNTIFS(Planning!$30:$30,H$33, Planning!50:50,$B$32) -> 0 | I52: =SUM(B52:G52) -> 0 | M52: =COUNTIFS(Planning!$30:$30, "Dimanche", Planning!50:50, "ARH") -> 0 | N52: =COUNTIFS(Planning!$30:$30, "Lundi", Planning!50:50, "AB1") -> 0 | O52: =COUNTIFS(Planning!$30:$30, "Mardi", Planning!50:50, "B1") -> 0 | P52: =COUNTIFS(Planning!$30:$30, "Mercredi", Planning!50:50, "B1") -> 0 | Q52: =COUNTIFS(Planning!$30:$30, "Jeudi", Planning!50:50, "B1") -> 0 | R52: =COUNTIFS(Planning!$30:$30, "Vendredi", Planning!50:50, "B1") -> 0 | S52: =COUNTIFS(Planning!$30:$30, "Samedi", Planning!50:50, "AB1") -> 0 | T52: =COUNTIFS(Planning!$30:$30, "Dimanche", Planning!50:50, "AB1") -> 0 | U52: =SUM(N52:T52) -> 0 | V52: =COUNTIFS(Planning!$30:$30, "Lundi", Planning!50:50, "AB3") -> 0 | W52: =COUNTIFS(Planning!$30:$30, "Mardi", Planning!50:50, "AB3") -> 0 | X52: =COUNTIFS(Planning!$30:$30, "Mercredi", Planning!50:50, "AB3") -> 0 | Y52: =COUNTIFS(Planning!$30:$30, "Jeudi", Planning!50:50, "AB3") -> 0 | Z52: =COUNTIFS(Planning!$30:$30, "Vendredi", Planning!50:50, "AB3") -> 0 | AA52: =COUNTIFS(Planning!$30:$30, "Samedi", Planning!50:50, "AB3") -> 0 | AB52: =SUM(V52:AA52) -> 0 | AC52: =COUNTIFS(Planning!$30:$30, "Lundi", Planning!50:50, "AJF") -> 0 | AD52: =COUNTIFS(Planning!$30:$30, "Mardi", Planning!50:50, "AJF") -> 0 | AE52: =COUNTIFS(Planning!$30:$30, "Mercredi", Planning!50:50, "AJF") -> 0 | AF52: =COUNTIFS(Planning!$30:$30, "Jeudi", Planning!50:50, "AJF") -> 0 | AG52: =COUNTIFS(Planning!$30:$30, "Vendredi", Planning!50:50, "AJF") -> 0 | AH52: =COUNTIFS(Planning!$30:$30, "Samedi", Planning!50:50, "AJF") -> 0 | AI52: =COUNTIFS(Planning!$30:$30, "Dimanche", Planning!50:50, "AJF") -> 0 | AJ52: =SUM(AC52:AI52) -> 0 | AK52: =COUNTIFS(Planning!$30:$30, "Lundi", Planning!50:50, "B2") -> 0 | AL52: =COUNTIFS(Planning!$30:$30, "Mardi", Planning!50:50, "B2") -> 0 | AM52: =COUNTIFS(Planning!$30:$30, "Mercredi", Planning!50:50, "B2") -> 0 | AN52: =COUNTIFS(Planning!$30:$30, "Jeudi", Planning!50:50, "B2") -> 0 | AO52: =COUNTIFS(Planning!$30:$30, "Vendredi", Planning!50:50, "B2") -> 0 | AP52: =COUNTIFS(Planning!$30:$30, "Samedi", Planning!50:50, "B2") -> 0 | AQ52: =COUNTIFS(Planning!$30:$30, "Dimanche", Planning!50:50, "B2") -> 0 | AR52: =SUM(AK52:AQ52) -> 0 | AS52: =COUNTIFS(Planning!$30:$30, "Lundi", Planning!50:50, "RTT") -> 0 | AT52: =COUNTIFS(Planning!$30:$30, "Mardi", Planning!50:50, "RTT") -> 0 | AU52: =COUNTIFS(Planning!$30:$30, "Mercredi", Planning!50:50, "RTT") -> 0 | AV52: =COUNTIFS(Planning!$30:$30, "Jeudi", Planning!50:50, "RTT") -> 0 | AW52: =COUNTIFS(Planning!$30:$30, "Vendredi", Planning!50:50, "RTT") -> 0 | AX52: =COUNTIFS(Planning!$30:$30, "Samedi", Planning!50:50, "RTT") -> 0 | AY52: =COUNTIFS(Planning!$30:$30, "Dimanche", Planning!50:50, "RTT") -> 0 | AZ52: =SUM(AS52:AY52) -> 0 | BA52: =COUNTIFS(Planning!$4:$4, "Lundi", Planning!50:50, "CA") -> 0 | BB52: =COUNTIFS(Planning!$4:$4, "Mardi", Planning!50:50, "CA") -> 0 | BC52: =COUNTIFS(Planning!$4:$4, "Mercredi", Planning!50:50, "CA") -> 0 | BD52: =COUNTIFS(Planning!$4:$4, "Jeudi", Planning!50:50, "CA") -> 0 | BE52: =COUNTIFS(Planning!$4:$4, "Vendredi", Planning!50:50, "CA") -> 0 | BF52: =SUM(BA52:BE52) -> 0 | BG52: =COUNTIFS(Planning!$4:$4, "Lundi", Planning!50:50, "FC") -> 0 | BH52: =COUNTIFS(Planning!$4:$4, "Mardi", Planning!50:50, "FC") -> 0 | BI52: =COUNTIFS(Planning!$4:$4, "Mercredi", Planning!50:50, "FC") -> 0 | BJ52: =COUNTIFS(Planning!$4:$4, "Jeudi", Planning!50:50, "FC") -> 0 | BK52: =COUNTIFS(Planning!$4:$4, "Vendredi", Planning!50:50, "FC") -> 0 | BL52: =COUNTIFS(Planning!$4:$4, "Samedi", Planning!50:50, "FC") -> 0 | BM52: =COUNTIFS(Planning!$4:$4, "Dimanche", Planning!50:50, "FC") -> 0 | BN52: =SUM(BG52:BM52) -> 0
A53: =A25 -> Agent 20 | B53: =COUNTIFS(Planning!$30:$30,B$33, Planning!51:51,$B$32) -> 0 | C53: =COUNTIFS(Planning!$30:$30,C$33, Planning!51:51,$B$32) -> 0 | D53: =COUNTIFS(Planning!$30:$30,D$33, Planning!51:51,$B$32) -> 0 | E53: =COUNTIFS(Planning!$30:$30,E$33, Planning!51:51,$B$32) -> 0 | F53: =COUNTIFS(Planning!$30:$30,F$33, Planning!51:51,$B$32) -> 0 | G53: =COUNTIFS(Planning!$30:$30,G$33, Planning!51:51,$B$32) -> 0 | H53: =COUNTIFS(Planning!$30:$30,H$33, Planning!51:51,$B$32) -> 0 | I53: =SUM(B53:G53) -> 0 | M53: =COUNTIFS(Planning!$30:$30, "Dimanche", Planning!51:51, "ARH") -> 0 | N53: =COUNTIFS(Planning!$30:$30, "Lundi", Planning!51:51, "AB1") -> 0 | O53: =COUNTIFS(Planning!$30:$30, "Mardi", Planning!51:51, "B1") -> 0 | P53: =COUNTIFS(Planning!$30:$30, "Mercredi", Planning!51:51, "B1") -> 0 | Q53: =COUNTIFS(Planning!$30:$30, "Jeudi", Planning!51:51, "B1") -> 0 | R53: =COUNTIFS(Planning!$30:$30, "Vendredi", Planning!51:51, "B1") -> 0 | S53: =COUNTIFS(Planning!$30:$30, "Samedi", Planning!51:51, "AB1") -> 0 | T53: =COUNTIFS(Planning!$30:$30, "Dimanche", Planning!51:51, "AB1") -> 0 | U53: =SUM(N53:T53) -> 0 | V53: =COUNTIFS(Planning!$30:$30, "Lundi", Planning!51:51, "AB3") -> 0 | W53: =COUNTIFS(Planning!$30:$30, "Mardi", Planning!51:51, "AB3") -> 0 | X53: =COUNTIFS(Planning!$30:$30, "Mercredi", Planning!51:51, "AB3") -> 0 | Y53: =COUNTIFS(Planning!$30:$30, "Jeudi", Planning!51:51, "AB3") -> 0 | Z53: =COUNTIFS(Planning!$30:$30, "Vendredi", Planning!51:51, "AB3") -> 0 | AA53: =COUNTIFS(Planning!$30:$30, "Samedi", Planning!51:51, "AB3") -> 0 | AB53: =SUM(V53:AA53) -> 0 | AC53: =COUNTIFS(Planning!$30:$30, "Lundi", Planning!51:51, "AJF") -> 0 | AD53: =COUNTIFS(Planning!$30:$30, "Mardi", Planning!51:51, "AJF") -> 0 | AE53: =COUNTIFS(Planning!$30:$30, "Mercredi", Planning!51:51, "AJF") -> 0 | AF53: =COUNTIFS(Planning!$30:$30, "Jeudi", Planning!51:51, "AJF") -> 0 | AG53: =COUNTIFS(Planning!$30:$30, "Vendredi", Planning!51:51, "AJF") -> 0 | AH53: =COUNTIFS(Planning!$30:$30, "Samedi", Planning!51:51, "AJF") -> 0 | AI53: =COUNTIFS(Planning!$30:$30, "Dimanche", Planning!51:51, "AJF") -> 0 | AJ53: =SUM(AC53:AI53) -> 0 | AK53: =COUNTIFS(Planning!$30:$30, "Lundi", Planning!51:51, "B2") -> 0 | AL53: =COUNTIFS(Planning!$30:$30, "Mardi", Planning!51:51, "B2") -> 0 | AM53: =COUNTIFS(Planning!$30:$30, "Mercredi", Planning!51:51, "B2") -> 0 | AN53: =COUNTIFS(Planning!$30:$30, "Jeudi", Planning!51:51, "B2") -> 0 | AO53: =COUNTIFS(Planning!$30:$30, "Vendredi", Planning!51:51, "B2") -> 0 | AP53: =COUNTIFS(Planning!$30:$30, "Samedi", Planning!51:51, "B2") -> 0 | AQ53: =COUNTIFS(Planning!$30:$30, "Dimanche", Planning!51:51, "B2") -> 0 | AR53: =SUM(AK53:AQ53) -> 0 | AS53: =COUNTIFS(Planning!$30:$30, "Lundi", Planning!51:51, "RTT") -> 0 | AT53: =COUNTIFS(Planning!$30:$30, "Mardi", Planning!51:51, "RTT") -> 0 | AU53: =COUNTIFS(Planning!$30:$30, "Mercredi", Planning!51:51, "RTT") -> 0 | AV53: =COUNTIFS(Planning!$30:$30, "Jeudi", Planning!51:51, "RTT") -> 0 | AW53: =COUNTIFS(Planning!$30:$30, "Vendredi", Planning!51:51, "RTT") -> 0 | AX53: =COUNTIFS(Planning!$30:$30, "Samedi", Planning!51:51, "RTT") -> 0 | AY53: =COUNTIFS(Planning!$30:$30, "Dimanche", Planning!51:51, "RTT") -> 0 | AZ53: =SUM(AS53:AY53) -> 0 | BA53: =COUNTIFS(Planning!$4:$4, "Lundi", Planning!51:51, "CA") -> 0 | BB53: =COUNTIFS(Planning!$4:$4, "Mardi", Planning!51:51, "CA") -> 0 | BC53: =COUNTIFS(Planning!$4:$4, "Mercredi", Planning!51:51, "CA") -> 0 | BD53: =COUNTIFS(Planning!$4:$4, "Jeudi", Planning!51:51, "CA") -> 0 | BE53: =COUNTIFS(Planning!$4:$4, "Vendredi", Planning!51:51, "CA") -> 0 | BF53: =SUM(BA53:BE53) -> 0 | BG53: =COUNTIFS(Planning!$4:$4, "Lundi", Planning!51:51, "FC") -> 0 | BH53: =COUNTIFS(Planning!$4:$4, "Mardi", Planning!51:51, "FC") -> 0 | BI53: =COUNTIFS(Planning!$4:$4, "Mercredi", Planning!51:51, "FC") -> 0 | BJ53: =COUNTIFS(Planning!$4:$4, "Jeudi", Planning!51:51, "FC") -> 0 | BK53: =COUNTIFS(Planning!$4:$4, "Vendredi", Planning!51:51, "FC") -> 0 | BL53: =COUNTIFS(Planning!$4:$4, "Samedi", Planning!51:51, "FC") -> 0 | BM53: =COUNTIFS(Planning!$4:$4, "Dimanche", Planning!51:51, "FC") -> 0 | BN53: =SUM(BG53:BM53) -> 0
B58: =UPPER(TEXT(DATE(An,3,1),"mmmm-aa")) -> MARS-26
B59: B1 | I59: ="TOTAL " & B59 -> TOTAL B1 | M59: ARH | N59: AB1 | U59: TOTAL AB1 | V59: AB3 | AB59: TOTAL AB3 | AC59: AJF | AJ59: TOTAL AJF | AK59: B2 | AR59: TOTAL B2 | AS59: RTT | AZ59: TOTAL RTT | BA59: CA | BF59: TOTAL CA | BG59: FC | BN59: TOTAL FC
B60: Lundi | C60: Mardi | D60: Mercredi | E60: Jeudi | F60: Vendredi | G60: Samedi | H60: Dimanche | M60: Dimanche | N60: Lundi | O60: Mardi | P60: Mercredi | Q60: Jeudi | R60: Vendredi | S60: Samedi | T60: Dimanche | V60: Lundi | W60: Mardi | X60: Mercredi | Y60: Jeudi | Z60: Vendredi | AA60: Samedi | AC60: Lundi | AD60: Mardi | AE60: Mercredi | AF60: Jeudi | AG60: Vendredi | AH60: Samedi | AI60: Dimanche | AK60: Lundi | AL60: Mardi | AM60: Mercredi | AN60: Jeudi | AO60: Vendredi | AP60: Samedi | AQ60: Dimanche | AS60: Lundi | AT60: Mardi | AU60: Mercredi | AV60: Jeudi | AW60: Vendredi | AX60: Samedi | AY60: Dimanche | BA60: Lundi | BB60: Mardi | BC60: Mercredi | BD60: Jeudi | BE60: Vendredi | BG60: Lundi | BH60: Mardi | BI60: Mercredi | BJ60: Jeudi | BK60: Vendredi | BL60: Samedi | BM60: Dimanche
A61: =A6 -> Agent 1 | B61: =COUNTIFS(Planning!$56:$56,B$60, Planning!58:58,$B$59) -> 0 | C61: =COUNTIFS(Planning!$56:$56,C$60, Planning!58:58,$B$59) -> 1 | D61: =COUNTIFS(Planning!$56:$56,D$60, Planning!58:58,$B$59) -> 0 | E61: =COUNTIFS(Planning!$56:$56,E$60, Planning!58:58,$B$59) -> 3 | F61: =COUNTIFS(Planning!$56:$56,F$60, Planning!58:58,$B$59) -> 2 | G61: =COUNTIFS(Planning!$56:$56,G$60, Planning!58:58,$B$59) -> 0 | H61: =COUNTIFS(Planning!$56:$56,H$60, Planning!58:58,$B$59) -> 0 | I61: =SUM(B61:G61) -> 6 | M61: =COUNTIFS(Planning!$56:$56, "Dimanche", Planning!58:58, "ARH") -> 0 | N61: =COUNTIFS(Planning!$56:$56, "Lundi", Planning!58:58, "AB1") -> 0 | O61: =COUNTIFS(Planning!$4:$4, "Mardi", Planning!58:58, "AB1") -> 1 | P61: =COUNTIFS(Planning!$4:$4, "Mercredi", Planning!58:58, "AB1") -> 0 | Q61: =COUNTIFS(Planning!$4:$4, "Jeudi", Planning!58:58, "AB1") -> 1 | R61: =COUNTIFS(Planning!$4:$4, "Vendredi", Planning!58:58, "AB1") -> 0 | S61: =COUNTIFS(Planning!$4:$4, "Samedi", Planning!58:58, "AB1") -> 0 | T61: =COUNTIFS(Planning!$56:$56, "Dimanche", Planning!58:58, "AB1") -> 1 | U61: =SUM(N61:T61) -> 3 | V61: =COUNTIFS(Planning!$56:$56, "Lundi", Planning!58:58, "AB3") -> 0 | W61: =COUNTIFS(Planning!$56:$56, "Mardi", Planning!58:58, "AB3") -> 1 | X61: =COUNTIFS(Planning!$56:$56, "Mercredi", Planning!58:58, "AB3") -> 0 | Y61: =COUNTIFS(Planning!$56:$56, "Jeudi", Planning!58:58, "AB3") -> 0 | Z61: =COUNTIFS(Planning!$56:$56, "Vendredi", Planning!58:58, "AB3") -> 0 | AA61: =COUNTIFS(Planning!$56:$56, "Samedi", Planning!58:58, "AB3") -> 0 | AB61: =SUM(V61:AA61) -> 1 | AC61: =COUNTIFS(Planning!$56:$56, "Lundi", Planning!58:58, "AJF") -> 0 | AD61: =COUNTIFS(Planning!$56:$56, "Mardi", Planning!58:58, "AJF") -> 0 | AE61: =COUNTIFS(Planning!$56:$56, "Mercredi", Planning!58:58, "AJF") -> 0 | AF61: =COUNTIFS(Planning!$56:$56, "Jeudi", Planning!58:58, "AJF") -> 0 | AG61: =COUNTIFS(Planning!$56:$56, "Vendredi", Planning!58:58, "AJF") -> 0 | AH61: =COUNTIFS(Planning!$56:$56, "Samedi", Planning!58:58, "AJF") -> 0 | AI61: =COUNTIFS(Planning!$56:$56, "Dimanche", Planning!58:58, "AJF") -> 0 | AJ61: =SUM(AC61:AI61) -> 0 | AK61: =COUNTIFS(Planning!$56:$56, "Lundi", Planning!58:58, "B2") -> 0 | AL61: =COUNTIFS(Planning!$56:$56, "Mardi", Planning!58:58, "B2") -> 0 | AM61: =COUNTIFS(Planning!$56:$56, "Mercredi", Planning!58:58, "B2") -> 0 | AN61: =COUNTIFS(Planning!$56:$56, "Jeudi", Planning!58:58, "B2") -> 0 | AO61: =COUNTIFS(Planning!$56:$56, "Vendredi", Planning!58:58, "B2") -> 0 | AP61: =COUNTIFS(Planning!$56:$56, "Samedi", Planning!58:58, "B2") -> 0 | AQ61: =COUNTIFS(Planning!$56:$56, "Dimanche", Planning!58:58, "B2") -> 0 | AR61: =SUM(AK61:AQ61) -> 0 | AS61: =COUNTIFS(Planning!$56:$56, "Lundi", Planning!58:58, "RTT") -> 1 | AT61: =COUNTIFS(Planning!$56:$56, "Mardi", Planning!58:58, "RTT") -> 0 | AU61: =COUNTIFS(Planning!$56:$56, "Mercredi", Planning!58:58, "RTT") -> 0 | AV61: =COUNTIFS(Planning!$56:$56, "Jeudi", Planning!58:58, "RTT") -> 0 | AW61: =COUNTIFS(Planning!$56:$56, "Vendredi", Planning!58:58, "RTT") -> 0 | AX61: =COUNTIFS(Planning!$56:$56, "Samedi", Planning!58:58, "RTT") -> 0 | AY61: =COUNTIFS(Planning!$56:$56, "Dimanche", Planning!58:58, "RTT") -> 1 | AZ61: =SUM(AS61:AY61) -> 2 | BA61: =COUNTIFS(Planning!$56:$56, "Lundi", Planning!58:58, "CA") -> 0 | BB61: =COUNTIFS(Planning!$56:$56, "Mardi", Planning!58:58, "CA") -> 0 | BC61: =COUNTIFS(Planning!$56:$56, "Mercredi", Planning!58:58, "CA") -> 0 | BD61: =COUNTIFS(Planning!$56:$56, "Jeudi", Planning!58:58, "CA") -> 0 | BE61: =COUNTIFS(Planning!$56:$56, "Vendredi", Planning!58:58, "CA") -> 0 | BF61: =SUM(BA61:BE61) -> 0 | BG61: =COUNTIFS(Planning!$56:$56, "Lundi", Planning!58:58, "FC") -> 0 | BH61: =COUNTIFS(Planning!$56:$56, "Mardi", Planning!58:58, "FC") -> 0 | BI61: =COUNTIFS(Planning!$56:$56, "Mercredi", Planning!58:58, "FC") -> 0 | BJ61: =COUNTIFS(Planning!$56:$56, "Jeudi", Planning!58:58, "FC") -> 0 | BK61: =COUNTIFS(Planning!$56:$56, "Vendredi", Planning!58:58, "FC") -> 0 | BL61: =COUNTIFS(Planning!$56:$56, "Samedi", Planning!58:58, "FC") -> 0 | BM61: =COUNTIFS(Planning!$56:$56, "Dimanche", Planning!58:58, "FC") -> 0 | BN61: =SUM(BG61:BM61) -> 0
A62: =A7 -> Agent 2 | B62: =COUNTIFS(Planning!$56:$56,B$60, Planning!59:59,$B$59) -> 0 | C62: =COUNTIFS(Planning!$56:$56,C$60, Planning!59:59,$B$59) -> 0 | D62: =COUNTIFS(Planning!$56:$56,D$60, Planning!59:59,$B$59) -> 0 | E62: =COUNTIFS(Planning!$56:$56,E$60, Planning!59:59,$B$59) -> 2 | F62: =COUNTIFS(Planning!$56:$56,F$60, Planning!59:59,$B$59) -> 0 | G62: =COUNTIFS(Planning!$56:$56,G$60, Planning!59:59,$B$59) -> 0 | H62: =COUNTIFS(Planning!$56:$56,H$60, Planning!59:59,$B$59) -> 0 | I62: =SUM(B62:G62) -> 2 | M62: =COUNTIFS(Planning!$56:$56, "Dimanche", Planning!59:59, "ARH") -> 0 | N62: =COUNTIFS(Planning!$56:$56, "Lundi", Planning!59:59, "AB1") -> 0 | O62: =COUNTIFS(Planning!$4:$4, "Mardi", Planning!59:59, "AB1") -> 0 | P62: =COUNTIFS(Planning!$4:$4, "Mercredi", Planning!59:59, "AB1") -> 0 | Q62: =COUNTIFS(Planning!$4:$4, "Jeudi", Planning!59:59, "AB1") -> 0 | R62: =COUNTIFS(Planning!$4:$4, "Vendredi", Planning!59:59, "AB1") -> 0 | S62: =COUNTIFS(Planning!$4:$4, "Samedi", Planning!59:59, "AB1") -> 0 | T62: =COUNTIFS(Planning!$56:$56, "Dimanche", Planning!59:59, "AB1") -> 0 | U62: =SUM(N62:T62) -> 0 | V62: =COUNTIFS(Planning!$56:$56, "Lundi", Planning!59:59, "AB3") -> 0 | W62: =COUNTIFS(Planning!$56:$56, "Mardi", Planning!59:59, "AB3") -> 0 | X62: =COUNTIFS(Planning!$56:$56, "Mercredi", Planning!59:59, "AB3") -> 0 | Y62: =COUNTIFS(Planning!$56:$56, "Jeudi", Planning!59:59, "AB3") -> 0 | Z62: =COUNTIFS(Planning!$56:$56, "Vendredi", Planning!59:59, "AB3") -> 0 | AA62: =COUNTIFS(Planning!$56:$56, "Samedi", Planning!59:59, "AB3") -> 0 | AB62: =SUM(V62:AA62) -> 0 | AC62: =COUNTIFS(Planning!$56:$56, "Lundi", Planning!59:59, "AJF") -> 0 | AD62: =COUNTIFS(Planning!$56:$56, "Mardi", Planning!59:59, "AJF") -> 0 | AE62: =COUNTIFS(Planning!$56:$56, "Mercredi", Planning!59:59, "AJF") -> 0 | AF62: =COUNTIFS(Planning!$56:$56, "Jeudi", Planning!59:59, "AJF") -> 0 | AG62: =COUNTIFS(Planning!$56:$56, "Vendredi", Planning!59:59, "AJF") -> 0 | AH62: =COUNTIFS(Planning!$56:$56, "Samedi", Planning!59:59, "AJF") -> 0 | AI62: =COUNTIFS(Planning!$56:$56, "Dimanche", Planning!59:59, "AJF") -> 0 | AJ62: =SUM(AC62:AI62) -> 0 | AK62: =COUNTIFS(Planning!$56:$56, "Lundi", Planning!59:59, "B2") -> 0 | AL62: =COUNTIFS(Planning!$56:$56, "Mardi", Planning!59:59, "B2") -> 0 | AM62: =COUNTIFS(Planning!$56:$56, "Mercredi", Planning!59:59, "B2") -> 0 | AN62: =COUNTIFS(Planning!$56:$56, "Jeudi", Planning!59:59, "B2") -> 0 | AO62: =COUNTIFS(Planning!$56:$56, "Vendredi", Planning!59:59, "B2") -> 0 | AP62: =COUNTIFS(Planning!$56:$56, "Samedi", Planning!59:59, "B2") -> 0 | AQ62: =COUNTIFS(Planning!$56:$56, "Dimanche", Planning!59:59, "B2") -> 0 | AR62: =SUM(AK62:AQ62) -> 0 | AS62: =COUNTIFS(Planning!$56:$56, "Lundi", Planning!59:59, "RTT") -> 0 | AT62: =COUNTIFS(Planning!$56:$56, "Mardi", Planning!59:59, "RTT") -> 0 | AU62: =COUNTIFS(Planning!$56:$56, "Mercredi", Planning!59:59, "RTT") -> 0 | AV62: =COUNTIFS(Planning!$56:$56, "Jeudi", Planning!59:59, "RTT") -> 0 | AW62: =COUNTIFS(Planning!$56:$56, "Vendredi", Planning!59:59, "RTT") -> 0 | AX62: =COUNTIFS(Planning!$56:$56, "Samedi", Planning!59:59, "RTT") -> 0 | AY62: =COUNTIFS(Planning!$56:$56, "Dimanche", Planning!59:59, "RTT") -> 0 | AZ62: =SUM(AS62:AY62) -> 0 | BA62: =COUNTIFS(Planning!$56:$56, "Lundi", Planning!59:59, "CA") -> 0 | BB62: =COUNTIFS(Planning!$56:$56, "Mardi", Planning!59:59, "CA") -> 0 | BC62: =COUNTIFS(Planning!$56:$56, "Mercredi", Planning!59:59, "CA") -> 0 | BD62: =COUNTIFS(Planning!$56:$56, "Jeudi", Planning!59:59, "CA") -> 0 | BE62: =COUNTIFS(Planning!$56:$56, "Vendredi", Planning!59:59, "CA") -> 0 | BF62: =SUM(BA62:BE62) -> 0 | BG62: =COUNTIFS(Planning!$56:$56, "Lundi", Planning!59:59, "FC") -> 0 | BH62: =COUNTIFS(Planning!$56:$56, "Mardi", Planning!59:59, "FC") -> 0 | BI62: =COUNTIFS(Planning!$56:$56, "Mercredi", Planning!59:59, "FC") -> 0 | BJ62: =COUNTIFS(Planning!$56:$56, "Jeudi", Planning!59:59, "FC") -> 0 | BK62: =COUNTIFS(Planning!$56:$56, "Vendredi", Planning!59:59, "FC") -> 0 | BL62: =COUNTIFS(Planning!$56:$56, "Samedi", Planning!59:59, "FC") -> 0 | BM62: =COUNTIFS(Planning!$56:$56, "Dimanche", Planning!59:59, "FC") -> 0 | BN62: =SUM(BG62:BM62) -> 0
A63: =A8 -> Agent 3 | B63: =COUNTIFS(Planning!$56:$56,B$60, Planning!60:60,$B$59) -> 0 | C63: =COUNTIFS(Planning!$56:$56,C$60, Planning!60:60,$B$59) -> 0 | D63: =COUNTIFS(Planning!$56:$56,D$60, Planning!60:60,$B$59) -> 0 | E63: =COUNTIFS(Planning!$56:$56,E$60, Planning!60:60,$B$59) -> 0 | F63: =COUNTIFS(Planning!$56:$56,F$60, Planning!60:60,$B$59) -> 0 | G63: =COUNTIFS(Planning!$56:$56,G$60, Planning!60:60,$B$59) -> 0 | H63: =COUNTIFS(Planning!$56:$56,H$60, Planning!60:60,$B$59) -> 0 | I63: =SUM(B63:G63) -> 0 | M63: =COUNTIFS(Planning!$56:$56, "Dimanche", Planning!60:60, "ARH") -> 0 | N63: =COUNTIFS(Planning!$56:$56, "Lundi", Planning!60:60, "AB1") -> 0 | O63: =COUNTIFS(Planning!$4:$4, "Mardi", Planning!60:60, "AB1") -> 0 | P63: =COUNTIFS(Planning!$4:$4, "Mercredi", Planning!60:60, "AB1") -> 0 | Q63: =COUNTIFS(Planning!$4:$4, "Jeudi", Planning!60:60, "AB1") -> 0 | R63: =COUNTIFS(Planning!$4:$4, "Vendredi", Planning!60:60, "AB1") -> 0 | S63: =COUNTIFS(Planning!$4:$4, "Samedi", Planning!60:60, "AB1") -> 0 | T63: =COUNTIFS(Planning!$56:$56, "Dimanche", Planning!60:60, "AB1") -> 0 | U63: =SUM(N63:T63) -> 0 | V63: =COUNTIFS(Planning!$56:$56, "Lundi", Planning!60:60, "AB3") -> 0 | W63: =COUNTIFS(Planning!$56:$56, "Mardi", Planning!60:60, "AB3") -> 0 | X63: =COUNTIFS(Planning!$56:$56, "Mercredi", Planning!60:60, "AB3") -> 0 | Y63: =COUNTIFS(Planning!$56:$56, "Jeudi", Planning!60:60, "AB3") -> 0 | Z63: =COUNTIFS(Planning!$56:$56, "Vendredi", Planning!60:60, "AB3") -> 0 | AA63: =COUNTIFS(Planning!$56:$56, "Samedi", Planning!60:60, "AB3") -> 0 | AB63: =SUM(V63:AA63) -> 0 | AC63: =COUNTIFS(Planning!$56:$56, "Lundi", Planning!60:60, "AJF") -> 0 | AD63: =COUNTIFS(Planning!$56:$56, "Mardi", Planning!60:60, "AJF") -> 0 | AE63: =COUNTIFS(Planning!$56:$56, "Mercredi", Planning!60:60, "AJF") -> 0 | AF63: =COUNTIFS(Planning!$56:$56, "Jeudi", Planning!60:60, "AJF") -> 0 | AG63: =COUNTIFS(Planning!$56:$56, "Vendredi", Planning!60:60, "AJF") -> 0 | AH63: =COUNTIFS(Planning!$56:$56, "Samedi", Planning!60:60, "AJF") -> 0 | AI63: =COUNTIFS(Planning!$56:$56, "Dimanche", Planning!60:60, "AJF") -> 0 | AJ63: =SUM(AC63:AI63) -> 0 | AK63: =COUNTIFS(Planning!$56:$56, "Lundi", Planning!60:60, "B2") -> 0 | AL63: =COUNTIFS(Planning!$56:$56, "Mardi", Planning!60:60, "B2") -> 0 | AM63: =COUNTIFS(Planning!$56:$56, "Mercredi", Planning!60:60, "B2") -> 0 | AN63: =COUNTIFS(Planning!$56:$56, "Jeudi", Planning!60:60, "B2") -> 0 | AO63: =COUNTIFS(Planning!$56:$56, "Vendredi", Planning!60:60, "B2") -> 0 | AP63: =COUNTIFS(Planning!$56:$56, "Samedi", Planning!60:60, "B2") -> 0 | AQ63: =COUNTIFS(Planning!$56:$56, "Dimanche", Planning!60:60, "B2") -> 0 | AR63: =SUM(AK63:AQ63) -> 0 | AS63: =COUNTIFS(Planning!$56:$56, "Lundi", Planning!60:60, "RTT") -> 0 | AT63: =COUNTIFS(Planning!$56:$56, "Mardi", Planning!60:60, "RTT") -> 0 | AU63: =COUNTIFS(Planning!$56:$56, "Mercredi", Planning!60:60, "RTT") -> 0 | AV63: =COUNTIFS(Planning!$56:$56, "Jeudi", Planning!60:60, "RTT") -> 0 | AW63: =COUNTIFS(Planning!$56:$56, "Vendredi", Planning!60:60, "RTT") -> 0 | AX63: =COUNTIFS(Planning!$56:$56, "Samedi", Planning!60:60, "RTT") -> 0 | AY63: =COUNTIFS(Planning!$56:$56, "Dimanche", Planning!60:60, "RTT") -> 0 | AZ63: =SUM(AS63:AY63) -> 0 | BA63: =COUNTIFS(Planning!$56:$56, "Lundi", Planning!60:60, "CA") -> 0 | BB63: =COUNTIFS(Planning!$56:$56, "Mardi", Planning!60:60, "CA") -> 0 | BC63: =COUNTIFS(Planning!$56:$56, "Mercredi", Planning!60:60, "CA") -> 0 | BD63: =COUNTIFS(Planning!$56:$56, "Jeudi", Planning!60:60, "CA") -> 0 | BE63: =COUNTIFS(Planning!$56:$56, "Vendredi", Planning!60:60, "CA") -> 0 | BF63: =SUM(BA63:BE63) -> 0 | BG63: =COUNTIFS(Planning!$56:$56, "Lundi", Planning!60:60, "FC") -> 0 | BH63: =COUNTIFS(Planning!$56:$56, "Mardi", Planning!60:60, "FC") -> 0 | BI63: =COUNTIFS(Planning!$56:$56, "Mercredi", Planning!60:60, "FC") -> 0 | BJ63: =COUNTIFS(Planning!$56:$56, "Jeudi", Planning!60:60, "FC") -> 0 | BK63: =COUNTIFS(Planning!$56:$56, "Vendredi", Planning!60:60, "FC") -> 0 | BL63: =COUNTIFS(Planning!$56:$56, "Samedi", Planning!60:60, "FC") -> 0 | BM63: =COUNTIFS(Planning!$56:$56, "Dimanche", Planning!60:60, "FC") -> 0 | BN63: =SUM(BG63:BM63) -> 0
A64: =A9 -> Agent 4 | B64: =COUNTIFS(Planning!$56:$56,B$60, Planning!61:61,$B$59) -> 0 | C64: =COUNTIFS(Planning!$56:$56,C$60, Planning!61:61,$B$59) -> 0 | D64: =COUNTIFS(Planning!$56:$56,D$60, Planning!61:61,$B$59) -> 0 | E64: =COUNTIFS(Planning!$56:$56,E$60, Planning!61:61,$B$59) -> 0 | F64: =COUNTIFS(Planning!$56:$56,F$60, Planning!61:61,$B$59) -> 0 | G64: =COUNTIFS(Planning!$56:$56,G$60, Planning!61:61,$B$59) -> 0 | H64: =COUNTIFS(Planning!$56:$56,H$60, Planning!61:61,$B$59) -> 0 | I64: =SUM(B64:G64) -> 0 | M64: =COUNTIFS(Planning!$56:$56, "Dimanche", Planning!61:61, "ARH") -> 0 | N64: =COUNTIFS(Planning!$56:$56, "Lundi", Planning!61:61, "AB1") -> 0 | O64: =COUNTIFS(Planning!$4:$4, "Mardi", Planning!61:61, "AB1") -> 0 | P64: =COUNTIFS(Planning!$4:$4, "Mercredi", Planning!61:61, "AB1") -> 0 | Q64: =COUNTIFS(Planning!$4:$4, "Jeudi", Planning!61:61, "AB1") -> 0 | R64: =COUNTIFS(Planning!$4:$4, "Vendredi", Planning!61:61, "AB1") -> 0 | S64: =COUNTIFS(Planning!$4:$4, "Samedi", Planning!61:61, "AB1") -> 0 | T64: =COUNTIFS(Planning!$56:$56, "Dimanche", Planning!61:61, "AB1") -> 0 | U64: =SUM(N64:T64) -> 0 | V64: =COUNTIFS(Planning!$56:$56, "Lundi", Planning!61:61, "AB3") -> 0 | W64: =COUNTIFS(Planning!$56:$56, "Mardi", Planning!61:61, "AB3") -> 0 | X64: =COUNTIFS(Planning!$56:$56, "Mercredi", Planning!61:61, "AB3") -> 0 | Y64: =COUNTIFS(Planning!$56:$56, "Jeudi", Planning!61:61, "AB3") -> 0 | Z64: =COUNTIFS(Planning!$56:$56, "Vendredi", Planning!61:61, "AB3") -> 0 | AA64: =COUNTIFS(Planning!$56:$56, "Samedi", Planning!61:61, "AB3") -> 0 | AB64: =SUM(V64:AA64) -> 0 | AC64: =COUNTIFS(Planning!$56:$56, "Lundi", Planning!61:61, "AJF") -> 0 | AD64: =COUNTIFS(Planning!$56:$56, "Mardi", Planning!61:61, "AJF") -> 0 | AE64: =COUNTIFS(Planning!$56:$56, "Mercredi", Planning!61:61, "AJF") -> 0 | AF64: =COUNTIFS(Planning!$56:$56, "Jeudi", Planning!61:61, "AJF") -> 0 | AG64: =COUNTIFS(Planning!$56:$56, "Vendredi", Planning!61:61, "AJF") -> 0 | AH64: =COUNTIFS(Planning!$56:$56, "Samedi", Planning!61:61, "AJF") -> 0 | AI64: =COUNTIFS(Planning!$56:$56, "Dimanche", Planning!61:61, "AJF") -> 0 | AJ64: =SUM(AC64:AI64) -> 0 | AK64: =COUNTIFS(Planning!$56:$56, "Lundi", Planning!61:61, "B2") -> 0 | AL64: =COUNTIFS(Planning!$56:$56, "Mardi", Planning!61:61, "B2") -> 0 | AM64: =COUNTIFS(Planning!$56:$56, "Mercredi", Planning!61:61, "B2") -> 0 | AN64: =COUNTIFS(Planning!$56:$56, "Jeudi", Planning!61:61, "B2") -> 0 | AO64: =COUNTIFS(Planning!$56:$56, "Vendredi", Planning!61:61, "B2") -> 0 | AP64: =COUNTIFS(Planning!$56:$56, "Samedi", Planning!61:61, "B2") -> 0 | AQ64: =COUNTIFS(Planning!$56:$56, "Dimanche", Planning!61:61, "B2") -> 0 | AR64: =SUM(AK64:AQ64) -> 0 | AS64: =COUNTIFS(Planning!$56:$56, "Lundi", Planning!61:61, "RTT") -> 0 | AT64: =COUNTIFS(Planning!$56:$56, "Mardi", Planning!61:61, "RTT") -> 0 | AU64: =COUNTIFS(Planning!$56:$56, "Mercredi", Planning!61:61, "RTT") -> 0 | AV64: =COUNTIFS(Planning!$56:$56, "Jeudi", Planning!61:61, "RTT") -> 0 | AW64: =COUNTIFS(Planning!$56:$56, "Vendredi", Planning!61:61, "RTT") -> 0 | AX64: =COUNTIFS(Planning!$56:$56, "Samedi", Planning!61:61, "RTT") -> 0 | AY64: =COUNTIFS(Planning!$56:$56, "Dimanche", Planning!61:61, "RTT") -> 0 | AZ64: =SUM(AS64:AY64) -> 0 | BA64: =COUNTIFS(Planning!$56:$56, "Lundi", Planning!61:61, "CA") -> 0 | BB64: =COUNTIFS(Planning!$56:$56, "Mardi", Planning!61:61, "CA") -> 0 | BC64: =COUNTIFS(Planning!$56:$56, "Mercredi", Planning!61:61, "CA") -> 0 | BD64: =COUNTIFS(Planning!$56:$56, "Jeudi", Planning!61:61, "CA") -> 0 | BE64: =COUNTIFS(Planning!$56:$56, "Vendredi", Planning!61:61, "CA") -> 0 | BF64: =SUM(BA64:BE64) -> 0 | BG64: =COUNTIFS(Planning!$56:$56, "Lundi", Planning!61:61, "FC") -> 0 | BH64: =COUNTIFS(Planning!$56:$56, "Mardi", Planning!61:61, "FC") -> 0 | BI64: =COUNTIFS(Planning!$56:$56, "Mercredi", Planning!61:61, "FC") -> 0 | BJ64: =COUNTIFS(Planning!$56:$56, "Jeudi", Planning!61:61, "FC") -> 0 | BK64: =COUNTIFS(Planning!$56:$56, "Vendredi", Planning!61:61, "FC") -> 0 | BL64: =COUNTIFS(Planning!$56:$56, "Samedi", Planning!61:61, "FC") -> 0 | BM64: =COUNTIFS(Planning!$56:$56, "Dimanche", Planning!61:61, "FC") -> 0 | BN64: =SUM(BG64:BM64) -> 0
A65: =A10 -> Agent 5 | B65: =COUNTIFS(Planning!$56:$56,B$60, Planning!62:62,$B$59) -> 0 | C65: =COUNTIFS(Planning!$56:$56,C$60, Planning!62:62,$B$59) -> 0 | D65: =COUNTIFS(Planning!$56:$56,D$60, Planning!62:62,$B$59) -> 0 | E65: =COUNTIFS(Planning!$56:$56,E$60, Planning!62:62,$B$59) -> 0 | F65: =COUNTIFS(Planning!$56:$56,F$60, Planning!62:62,$B$59) -> 0 | G65: =COUNTIFS(Planning!$56:$56,G$60, Planning!62:62,$B$59) -> 0 | H65: =COUNTIFS(Planning!$56:$56,H$60, Planning!62:62,$B$59) -> 0 | I65: =SUM(B65:G65) -> 0 | M65: =COUNTIFS(Planning!$56:$56, "Dimanche", Planning!62:62, "ARH") -> 0 | N65: =COUNTIFS(Planning!$56:$56, "Lundi", Planning!62:62, "AB1") -> 0 | O65: =COUNTIFS(Planning!$4:$4, "Mardi", Planning!62:62, "AB1") -> 0 | P65: =COUNTIFS(Planning!$4:$4, "Mercredi", Planning!62:62, "AB1") -> 0 | Q65: =COUNTIFS(Planning!$4:$4, "Jeudi", Planning!62:62, "AB1") -> 0 | R65: =COUNTIFS(Planning!$4:$4, "Vendredi", Planning!62:62, "AB1") -> 0 | S65: =COUNTIFS(Planning!$4:$4, "Samedi", Planning!62:62, "AB1") -> 0 | T65: =COUNTIFS(Planning!$56:$56, "Dimanche", Planning!62:62, "AB1") -> 0 | U65: =SUM(N65:T65) -> 0 | V65: =COUNTIFS(Planning!$56:$56, "Lundi", Planning!62:62, "AB3") -> 0 | W65: =COUNTIFS(Planning!$56:$56, "Mardi", Planning!62:62, "AB3") -> 0 | X65: =COUNTIFS(Planning!$56:$56, "Mercredi", Planning!62:62, "AB3") -> 0 | Y65: =COUNTIFS(Planning!$56:$56, "Jeudi", Planning!62:62, "AB3") -> 0 | Z65: =COUNTIFS(Planning!$56:$56, "Vendredi", Planning!62:62, "AB3") -> 0 | AA65: =COUNTIFS(Planning!$56:$56, "Samedi", Planning!62:62, "AB3") -> 0 | AB65: =SUM(V65:AA65) -> 0 | AC65: =COUNTIFS(Planning!$56:$56, "Lundi", Planning!62:62, "AJF") -> 0 | AD65: =COUNTIFS(Planning!$56:$56, "Mardi", Planning!62:62, "AJF") -> 0 | AE65: =COUNTIFS(Planning!$56:$56, "Mercredi", Planning!62:62, "AJF") -> 0 | AF65: =COUNTIFS(Planning!$56:$56, "Jeudi", Planning!62:62, "AJF") -> 0 | AG65: =COUNTIFS(Planning!$56:$56, "Vendredi", Planning!62:62, "AJF") -> 0 | AH65: =COUNTIFS(Planning!$56:$56, "Samedi", Planning!62:62, "AJF") -> 0 | AI65: =COUNTIFS(Planning!$56:$56, "Dimanche", Planning!62:62, "AJF") -> 0 | AJ65: =SUM(AC65:AI65) -> 0 | AK65: =COUNTIFS(Planning!$56:$56, "Lundi", Planning!62:62, "B2") -> 0 | AL65: =COUNTIFS(Planning!$56:$56, "Mardi", Planning!62:62, "B2") -> 0 | AM65: =COUNTIFS(Planning!$56:$56, "Mercredi", Planning!62:62, "B2") -> 0 | AN65: =COUNTIFS(Planning!$56:$56, "Jeudi", Planning!62:62, "B2") -> 0 | AO65: =COUNTIFS(Planning!$56:$56, "Vendredi", Planning!62:62, "B2") -> 0 | AP65: =COUNTIFS(Planning!$56:$56, "Samedi", Planning!62:62, "B2") -> 0 | AQ65: =COUNTIFS(Planning!$56:$56, "Dimanche", Planning!62:62, "B2") -> 0 | AR65: =SUM(AK65:AQ65) -> 0 | AS65: =COUNTIFS(Planning!$56:$56, "Lundi", Planning!62:62, "RTT") -> 0 | AT65: =COUNTIFS(Planning!$56:$56, "Mardi", Planning!62:62, "RTT") -> 0 | AU65: =COUNTIFS(Planning!$56:$56, "Mercredi", Planning!62:62, "RTT") -> 0 | AV65: =COUNTIFS(Planning!$56:$56, "Jeudi", Planning!62:62, "RTT") -> 0 | AW65: =COUNTIFS(Planning!$56:$56, "Vendredi", Planning!62:62, "RTT") -> 0 | AX65: =COUNTIFS(Planning!$56:$56, "Samedi", Planning!62:62, "RTT") -> 0 | AY65: =COUNTIFS(Planning!$56:$56, "Dimanche", Planning!62:62, "RTT") -> 0 | AZ65: =SUM(AS65:AY65) -> 0 | BA65: =COUNTIFS(Planning!$56:$56, "Lundi", Planning!62:62, "CA") -> 0 | BB65: =COUNTIFS(Planning!$56:$56, "Mardi", Planning!62:62, "CA") -> 0 | BC65: =COUNTIFS(Planning!$56:$56, "Mercredi", Planning!62:62, "CA") -> 0 | BD65: =COUNTIFS(Planning!$56:$56, "Jeudi", Planning!62:62, "CA") -> 0 | BE65: =COUNTIFS(Planning!$56:$56, "Vendredi", Planning!62:62, "CA") -> 0 | BF65: =SUM(BA65:BE65) -> 0 | BG65: =COUNTIFS(Planning!$56:$56, "Lundi", Planning!62:62, "FC") -> 0 | BH65: =COUNTIFS(Planning!$56:$56, "Mardi", Planning!62:62, "FC") -> 0 | BI65: =COUNTIFS(Planning!$56:$56, "Mercredi", Planning!62:62, "FC") -> 0 | BJ65: =COUNTIFS(Planning!$56:$56, "Jeudi", Planning!62:62, "FC") -> 0 | BK65: =COUNTIFS(Planning!$56:$56, "Vendredi", Planning!62:62, "FC") -> 0 | BL65: =COUNTIFS(Planning!$56:$56, "Samedi", Planning!62:62, "FC") -> 0 | BM65: =COUNTIFS(Planning!$56:$56, "Dimanche", Planning!62:62, "FC") -> 0 | BN65: =SUM(BG65:BM65) -> 0
A66: =A11 -> Agent 6 | B66: =COUNTIFS(Planning!$56:$56,B$60, Planning!63:63,$B$59) -> 0 | C66: =COUNTIFS(Planning!$56:$56,C$60, Planning!63:63,$B$59) -> 0 | D66: =COUNTIFS(Planning!$56:$56,D$60, Planning!63:63,$B$59) -> 0 | E66: =COUNTIFS(Planning!$56:$56,E$60, Planning!63:63,$B$59) -> 0 | F66: =COUNTIFS(Planning!$56:$56,F$60, Planning!63:63,$B$59) -> 0 | G66: =COUNTIFS(Planning!$56:$56,G$60, Planning!63:63,$B$59) -> 0 | H66: =COUNTIFS(Planning!$56:$56,H$60, Planning!63:63,$B$59) -> 0 | I66: =SUM(B66:G66) -> 0 | M66: =COUNTIFS(Planning!$56:$56, "Dimanche", Planning!63:63, "ARH") -> 0 | N66: =COUNTIFS(Planning!$56:$56, "Lundi", Planning!63:63, "AB1") -> 0 | O66: =COUNTIFS(Planning!$4:$4, "Mardi", Planning!63:63, "AB1") -> 0 | P66: =COUNTIFS(Planning!$4:$4, "Mercredi", Planning!63:63, "AB1") -> 0 | Q66: =COUNTIFS(Planning!$4:$4, "Jeudi", Planning!63:63, "AB1") -> 0 | R66: =COUNTIFS(Planning!$4:$4, "Vendredi", Planning!63:63, "AB1") -> 0 | S66: =COUNTIFS(Planning!$4:$4, "Samedi", Planning!63:63, "AB1") -> 0 | T66: =COUNTIFS(Planning!$56:$56, "Dimanche", Planning!63:63, "AB1") -> 0 | U66: =SUM(N66:T66) -> 0 | V66: =COUNTIFS(Planning!$56:$56, "Lundi", Planning!63:63, "AB3") -> 0 | W66: =COUNTIFS(Planning!$56:$56, "Mardi", Planning!63:63, "AB3") -> 0 | X66: =COUNTIFS(Planning!$56:$56, "Mercredi", Planning!63:63, "AB3") -> 1 | Y66: =COUNTIFS(Planning!$56:$56, "Jeudi", Planning!63:63, "AB3") -> 0 | Z66: =COUNTIFS(Planning!$56:$56, "Vendredi", Planning!63:63, "AB3") -> 0 | AA66: =COUNTIFS(Planning!$56:$56, "Samedi", Planning!63:63, "AB3") -> 0 | AB66: =SUM(V66:AA66) -> 1 | AC66: =COUNTIFS(Planning!$56:$56, "Lundi", Planning!63:63, "AJF") -> 0 | AD66: =COUNTIFS(Planning!$56:$56, "Mardi", Planning!63:63, "AJF") -> 0 | AE66: =COUNTIFS(Planning!$56:$56, "Mercredi", Planning!63:63, "AJF") -> 0 | AF66: =COUNTIFS(Planning!$56:$56, "Jeudi", Planning!63:63, "AJF") -> 0 | AG66: =COUNTIFS(Planning!$56:$56, "Vendredi", Planning!63:63, "AJF") -> 0 | AH66: =COUNTIFS(Planning!$56:$56, "Samedi", Planning!63:63, "AJF") -> 0 | AI66: =COUNTIFS(Planning!$56:$56, "Dimanche", Planning!63:63, "AJF") -> 0 | AJ66: =SUM(AC66:AI66) -> 0 | AK66: =COUNTIFS(Planning!$56:$56, "Lundi", Planning!63:63, "B2") -> 0 | AL66: =COUNTIFS(Planning!$56:$56, "Mardi", Planning!63:63, "B2") -> 0 | AM66: =COUNTIFS(Planning!$56:$56, "Mercredi", Planning!63:63, "B2") -> 0 | AN66: =COUNTIFS(Planning!$56:$56, "Jeudi", Planning!63:63, "B2") -> 0 | AO66: =COUNTIFS(Planning!$56:$56, "Vendredi", Planning!63:63, "B2") -> 0 | AP66: =COUNTIFS(Planning!$56:$56, "Samedi", Planning!63:63, "B2") -> 0 | AQ66: =COUNTIFS(Planning!$56:$56, "Dimanche", Planning!63:63, "B2") -> 0 | AR66: =SUM(AK66:AQ66) -> 0 | AS66: =COUNTIFS(Planning!$56:$56, "Lundi", Planning!63:63, "RTT") -> 0 | AT66: =COUNTIFS(Planning!$56:$56, "Mardi", Planning!63:63, "RTT") -> 0 | AU66: =COUNTIFS(Planning!$56:$56, "Mercredi", Planning!63:63, "RTT") -> 0 | AV66: =COUNTIFS(Planning!$56:$56, "Jeudi", Planning!63:63, "RTT") -> 0 | AW66: =COUNTIFS(Planning!$56:$56, "Vendredi", Planning!63:63, "RTT") -> 0 | AX66: =COUNTIFS(Planning!$56:$56, "Samedi", Planning!63:63, "RTT") -> 0 | AY66: =COUNTIFS(Planning!$56:$56, "Dimanche", Planning!63:63, "RTT") -> 0 | AZ66: =SUM(AS66:AY66) -> 0 | BA66: =COUNTIFS(Planning!$56:$56, "Lundi", Planning!63:63, "CA") -> 0 | BB66: =COUNTIFS(Planning!$56:$56, "Mardi", Planning!63:63, "CA") -> 0 | BC66: =COUNTIFS(Planning!$56:$56, "Mercredi", Planning!63:63, "CA") -> 0 | BD66: =COUNTIFS(Planning!$56:$56, "Jeudi", Planning!63:63, "CA") -> 0 | BE66: =COUNTIFS(Planning!$56:$56, "Vendredi", Planning!63:63, "CA") -> 0 | BF66: =SUM(BA66:BE66) -> 0 | BG66: =COUNTIFS(Planning!$56:$56, "Lundi", Planning!63:63, "FC") -> 0 | BH66: =COUNTIFS(Planning!$56:$56, "Mardi", Planning!63:63, "FC") -> 0 | BI66: =COUNTIFS(Planning!$56:$56, "Mercredi", Planning!63:63, "FC") -> 0 | BJ66: =COUNTIFS(Planning!$56:$56, "Jeudi", Planning!63:63, "FC") -> 0 | BK66: =COUNTIFS(Planning!$56:$56, "Vendredi", Planning!63:63, "FC") -> 0 | BL66: =COUNTIFS(Planning!$56:$56, "Samedi", Planning!63:63, "FC") -> 0 | BM66: =COUNTIFS(Planning!$56:$56, "Dimanche", Planning!63:63, "FC") -> 0 | BN66: =SUM(BG66:BM66) -> 0
