Workbook
Name An: Planning!$A$1
Name L_Agents: T_Agents[Agents]
Name L_Codes: T_Codes[Codes]

Sheet Planning
A1: 2026
B3: =UPPER(TEXT(DATE(An,1,1),"mmmm-aa")) -> JANVIER-26
B4: =PROPER(TEXT(DATE(An,MONTH($B$3),B5),"jjjj")) -> Jeudi | C4: =PROPER(TEXT(DATE(An,MONTH($B$3),C5),"jjjj")) -> Vendredi | D4: =PROPER(TEXT(DATE(An,MONTH($B$3),D5),"jjjj")) -> Samedi | E4: =PROPER(TEXT(DATE(An,MONTH($B$3),E5),"jjjj")) -> Dimanche | F4: =PROPER(TEXT(DATE(An,MONTH($B$3),F5),"jjjj")) -> Lundi | G4: =PROPER(TEXT(DATE(An,MONTH($B$3),G5),"jjjj")) -> Mardi | H4: =PROPER(TEXT(DATE(An,MONTH($B$3),H5),"jjjj")) -> Mercredi | I4: =PROPER(TEXT(DATE(An,MONTH($B$3),I5),"jjjj")) -> Jeudi | ... AF4: =PROPER(TEXT(DATE(An,MONTH($B$3),AF5),"jjjj")) -> Samedi
B5: 1 | C5: 2 | D5: 3 | E5: 4 | F5: 5 | G5: 6 | H5: 7 | I5: 8 | J5: 9 | K5: 10 | L5: 11 | M5: 12 | N5: 13 | O5: 14 | P5: 15 | Q5: 16 | R5: 17 | S5: 18 | T5: 19 | U5: 20 | V5: 21 | W5: 22 | X5: 23 | Y5: 24 | Z5: 25 | AA5: 26 | AB5: 27 | AC5: 28 | AD5: 29 | AE5: 30 | AF5: 31
A6: Agent 1 | B6: AB1 | E6: ARH | F6: B1 | G6: B1 | I6: B3 | K6: AB3 | N6: AB1 | O6: CA | P6: RTT | S6: ARH | T6: B1 | U6: B1 | X6: RTT | Y6: B1 | AA6: B1
A7: Agent 2 | F7: B1 | M7: B1
A8: Agent 3
A9: Agent 4
A10: Agent 5
A11: Agent 6
A12: Agent 7 | K12: B1 | R12: B1 | Y12: B1
A13: Agent 8
A14: Agent 9 | B14: B1 | M14: B1
A15: Agent 10 | M15: B1
A16: Agent 11
A17: Agent 12
A18: Agent 13
A19: Agent 14
A20: Agent 15
A21: Agent 16
A22: Agent 17
A23: Agent 18
A24: Agent 19
A25: Agent 20 | E25: FC | F25: FC | G25: RTT | I25: CA | M25: B1 | S25: CA | T25: CA | U25: RTT | AA25: B1
A26: TOTAL ETP | B26: =COUNTA(B6:B25) -> 2 | C26: =COUNTA(C6:C25) -> 0 | D26: =COUNTA(D6:D25) -> 0 | E26: =COUNTA(E6:E25) -> 2 | F26: =COUNTA(F6:F25) -> 3 | G26: =COUNTA(G6:G25) -> 2 | H26: =COUNTA(H6:H25) -> 0 | I26: =COUNTA(I6:I25) -> 2 | ... AF26: =COUNTA(AF6:AF25) -> 0
B29: =UPPER(TEXT(DATE(An,2,1),"mmmm-aa")) -> FÉVRIER-26
B30: =PROPER(TEXT(DATE(An,MONTH($B$29),B31),"jjjj")) -> Dimanche | C30: =PROPER(TEXT(DATE(An,MONTH($B$29),C31),"jjjj")) -> Lundi | D30: =PROPER(TEXT(DATE(An,MONTH($B$29),D31),"jjjj")) -> Mardi | E30: =PROPER(TEXT(DATE(An,MONTH($B$29),E31),"jjjj")) -> Mercredi | F30: =PROPER(TEXT(DATE(An,MONTH($B$29),F31),"jjjj")) -> Jeudi | G30: =PROPER(TEXT(DATE(An,MONTH($B$29),G31),"jjjj")) -> Vendredi | H30: =PROPER(TEXT(DATE(An,MONTH($B$29),H31),"jjjj")) -> Samedi | I30: =PROPER(TEXT(DATE(An,MONTH($B$29),I31),"jjjj")) -> Dimanche | ... AC30: =PROPER(TEXT(DATE(An,MONTH($B$29),AC31),"jjjj")) -> Samedi | AD30: =IFERROR(PROPER(TEXT(DATE(An,MONTH($B$29),AD31),"jjjj")),"")
B31: 1 | C31: 2 | D31: 3 | E31: 4 | F31: 5 | G31: 6 | H31: 7 | I31: 8 | J31: 9 | K31: 10 | L31: 11 | M31: 12 | N31: 13 | O31: 14 | P31: 15 | Q31: 16 | R31: 17 | S31: 18 | T31: 19 | U31: 20 | V31: 21 | W31: 22 | X31: 23 | Y31: 24 | Z31: 25 | AA31: 26 | AB31: 27 | AC31: 28 | AD31: =IF(DAY(DATE(An,3,))+1<>29,AC31+1,"")
A32: =A6 -> Agent 1 | B32: AB1 | E32: ARH | F32: B1 | G32: B1 | I32: B3 | K32: AB3 | N32: AB1 | O32: CA | P32: RTT | S32: ARH | T32: B1 | U32: B1 | X32: RTT | Y32: B1 | AA32: B1
A33: =A7 -> Agent 2 | F33: B1 | M33: B1
A34: =A8 -> Agent 3
A35: =A9 -> Agent 4
A36: =A10 -> Agent 5
A37: =A11 -> Agent 6
A38: =A12 -> Agent 7 | K38: B1 | R38: B1 | Y38: B1
A39: =A13 -> Agent 8
A40: =A14 -> Agent 9 | B40: B1 | M40: B1
A41: =A15 -> Agent 10 | M41: B1
A42: =A16 -> Agent 11 | I42: ARH | N42: ARH
A43: =A17 -> Agent 12
...

Sheet totaux_mois
B3: =UPPER(TEXT(DATE(An,1,1),"mmmm-aa")) -> JANVIER-26
B4: B2 | I4: ="TOTAL " & B4 -> TOTAL B2 | M4: ARH | N4: AB1 | U4: TOTAL AB1 | V4: AB3 | AB4: TOTAL AB3 | AC4: AJF | AJ4: TOTAL AJF | AK4: B2 | AR4: TOTAL B2 | AS4: RTT | AZ4: TOTAL RTT | BA4: CA | BF4: TOTAL CA | BG4: FC | BN4: TOTAL FC
B5: Lundi | C5: Mardi | D5: Mercredi | E5: Jeudi | F5: Vendredi | G5: Samedi | H5: Dimanche | M5: Dimanche | N5: Lundi | O5: Mardi | P5: Mercredi | Q5: Jeudi | R5: Vendredi | S5: Samedi | T5: Dimanche | V5: Lundi | W5: Mardi | X5: Mercredi | Y5: Jeudi | Z5: Vendredi | AA5: Samedi | AC5: Lundi | AD5: Mardi | AE5: Mercredi | AF5: Jeudi | AG5: Vendredi | AH5: Samedi | AI5: Dimanche | AK5: Lundi | AL5: Mardi | AM5: Mercredi | AN5: Jeudi | AO5: Vendredi | AP5: Samedi | AQ5: Dimanche | AS5: Lundi | AT5: Mardi | AU5: Mercredi | AV5: Jeudi | AW5: Vendredi | AX5: Samedi | AY5: Dimanche | BA5: Lundi | BB5: Mardi | BC5: Mercredi | BD5: Jeudi | BE5: Vendredi | BG5: Lundi | BH5: Mardi | BI5: Mercredi | BJ5: Jeudi | BK5: Vendredi | BL5: Samedi | BM5: Dimanche
A6: =Planning!A6 -> Agent 1 | B6: =COUNTIFS(Planning!$4:$4,B$5, Planning!6:6,$B$4) -> 0 | C6: =COUNTIFS(Planning!$4:$4,C$5, Planning!6:6,$B$4) -> 0 | D6: =COUNTIFS(Planning!$4:$4,D$5, Planning!6:6,$B$4) -> 0 | E6: =COUNTIFS(Planning!$4:$4,E$5, Planning!6:6,$B$4) -> 0 | F6: =COUNTIFS(Planning!$4:$4,F$5, Planning!6:6,$B$4) -> 0 | G6: =COUNTIFS(Planning!$4:$4,G$5, Planning!6:6,$B$4) -> 0 | H6: =COUNTIFS(Planning!$4:$4,H$5, Planning!6:6,$B$4) -> 0 | I6: =SUM(B6:G6) -> 0 | M6: =COUNTIFS(Planning!$4:$4, "Dimanche", Planning!6:6, "ARH") -> 2 | N6: =COUNTIFS(Planning!$4:$4, "Lundi", Planning!6:6, "AB1") -> 0 | O6: =COUNTIFS(Planning!$4:$4, "Mardi", Planning!6:6, "AB1") -> 1 | P6: =COUNTIFS(Planning!$4:$4, "Mercredi", Planning!6:6, "AB1") -> 0 | Q6: =COUNTIFS(Planning!$4:$4, "Jeudi", Planning!6:6, "AB1") -> 1 | R6: =COUNTIFS(Planning!$4:$4, "Vendredi", Planning!6:6, "AB1") -> 0 | S6: =COUNTIFS(Planning!$4:$4, "Samedi", Planning!6:6, "AB1") -> 0 | T6: =COUNTIFS(Planning!$4:$4, "Dimanche", Planning!6:6, "AB1") -> 0 | U6: =SUM(N6:T6) -> 2 | V6: =COUNTIFS(Planning!$4:$4, "Lundi", Planning!6:6, "AB3") -> 0 | W6: =COUNTIFS(Planning!$4:$4, "Mardi", Planning!6:6, "AB3") -> 0 | X6: =COUNTIFS(Planning!$4:$4, "Mercredi", Planning!6:6, "AB3") -> 0 | Y6: =COUNTIFS(Planning!$4:$4, "Jeudi", Planning!6:6, "AB3") -> 0 | Z6: =COUNTIFS(Planning!$4:$4, "Vendredi", Planning!6:6, "AB3") -> 0 | AA6: =COUNTIFS(Planning!$4:$4, "Samedi", Planning!6:6, "AB3") -> 1 | AB6: =SUM(V6:AA6) -> 1 | AC6: =COUNTIFS(Planning!$4:$4, "Lundi", Planning!6:6, "AJF") -> 0 | AD6: =COUNTIFS(Planning!$4:$4, "Mardi", Planning!6:6, "AJF") -> 0 | AE6: =COUNTIFS(Planning!$4:$4, "Mercredi", Planning!6:6, "AJF") -> 0 | AF6: =COUNTIFS(Planning!$4:$4, "Jeudi", Planning!6:6, "AJF") -> 0 | AG6: =COUNTIFS(Planning!$4:$4, "Vendredi", Planning!6:6, "AJF") -> 0 | AH6: =COUNTIFS(Planning!$4:$4, "Samedi", Planning!6:6, "AJF") -> 0 | AI6: =COUNTIFS(Planning!$4:$4, "Dimanche", Planning!6:6, "AJF") -> 0 | AJ6: =SUM(AC6:AI6) -> 0 | AK6: =COUNTIFS(Planning!$4:$4, "Lundi", Planning!6:6, "B2") -> 0 | AL6: =COUNTIFS(Planning!$4:$4, "Mardi", Planning!6:6, "B2") -> 0 | AM6: =COUNTIFS(Planning!$4:$4, "Mercredi", Planning!6:6, "B2") -> 0 | AN6: =COUNTIFS(Planning!$4:$4, "Jeudi", Planning!6:6, "B2") -> 0 | AO6: =COUNTIFS(Planning!$4:$4, "Vendredi", Planning!6:6, "B2") -> 0 | AP6: =COUNTIFS(Planning!$4:$4, "Samedi", Planning!6:6, "B2") -> 0 | AQ6: =COUNTIFS(Planning!$4:$4, "Dimanche", Planning!6:6, "B2") -> 0 | AR6: =SUM(AK6:AQ6) -> 0 | AS6: =COUNTIFS(Planning!$4:$4, "Lundi", Planning!6:6, "RTT") -> 0 | AT6: =COUNTIFS(Planning!$4:$4, "Mardi", Planning!6:6, "RTT") -> 0 | AU6: =COUNTIFS(Planning!$4:$4, "Mercredi", Planning!6:6, "RTT") -> 0 | AV6: =COUNTIFS(Planning!$4:$4, "Jeudi", Planning!6:6, "RTT") -> 1 | AW6: =COUNTIFS(Planning!$4:$4, "Vendredi", Planning!6:6, "RTT") -> 1 | AX6: =COUNTIFS(Planning!$4:$4, "Samedi", Planning!6:6, "RTT") -> 0 | AY6: =COUNTIFS(Planning!$4:$4, "Dimanche", Planning!6:6, "RTT") -> 0 | AZ6: =SUM(AS6:AY6) -> 2 | BA6: =COUNTIFS(Planning!$4:$4, "Lundi", Planning!6:6, "CA") -> 0 | BB6: =COUNTIFS(Planning!$4:$4, "Mardi", Planning!6:6, "CA") -> 0 | BC6: =COUNTIFS(Planning!$4:$4, "Mercredi", Planning!6:6, "CA") -> 1 | BD6: =COUNTIFS(Planning!$4:$4, "Jeudi", Planning!6:6, "CA") -> 0 | BE6: =COUNTIFS(Planning!$4:$4, "Vendredi", Planning!6:6, "CA") -> 0 | BF6: =SUM(BA6:BE6) -> 1 | BG6: =COUNTIFS(Planning!$4:$4, "Lundi", Planning!6:6, "FC") -> 0 | BH6: =COUNTIFS(Planning!$4:$4, "Mardi", Planning!6:6, "FC") -> 0 | BI6: =COUNTIFS(Planning!$4:$4, "Mercredi", Planning!6:6, "FC") -> 0 | BJ6: =COUNTIFS(Planning!$4:$4, "Jeudi", Planning!6:6, "FC") -> 0 | BK6: =COUNTIFS(Planning!$4:$4, "Vendredi", Planning!6:6, "FC") -> 0 | BL6: =COUNTIFS(Planning!$4:$4, "Samedi", Planning!6:6, "FC") -> 0 | BM6: =COUNTIFS(Planning!$4:$4, "Dimanche", Planning!6:6, "FC") -> 0 | BN6: =SUM(BG6:BM6) -> 0
A7: =Planning!A7 -> Agent 2 | B7: =COUNTIFS(Planning!$4:$4,B$5, Planning!7:7,$B$4) -> 0 | C7: =COUNTIFS(Planning!$4:$4,C$5, Planning!7:7,$B$4) -> 0 | D7: =COUNTIFS(Planning!$4:$4,D$5, Planning!7:7,$B$4) -> 0 | E7: =COUNTIFS(Planning!$4:$4,E$5, Planning!7:7,$B$4) -> 0 | F7: =COUNTIFS(Planning!$4:$4,F$5, Planning!7:7,$B$4) -> 0 | G7: =COUNTIFS(Planning!$4:$4,G$5, Planning!7:7,$B$4) -> 0 | H7: =COUNTIFS(Planning!$4:$4,H$5, Planning!7:7,$B$4) -> 0 | I7: =SUM(B7:G7) -> 0 | M7: =COUNTIFS(Planning!$4:$4, "Dimanche", Planning!7:7, "ARH") -> 0 | N7: =COUNTIFS(Planning!$4:$4, "Lundi", Planning!7:7, "AB1") -> 0 | O7: =COUNTIFS(Planning!$4:$4, "Mardi", Planning!7:7, "AB1") -> 0 | P7: =COUNTIFS(Planning!$4:$4, "Mercredi", Planning!7:7, "AB1") -> 0 | Q7: =COUNTIFS(Planning!$4:$4, "Jeudi", Planning!7:7, "AB1") -> 0 | R7: =COUNTIFS(Planning!$4:$4, "Vendredi", Planning!7:7, "AB1") -> 0 | S7: =COUNTIFS(Planning!$4:$4, "Samedi", Planning!7:7, "AB1") -> 0 | T7: =COUNTIFS(Planning!$4:$4, "Dimanche", Planning!7:7, "AB1") -> 0 | U7: =SUM(N7:T7) -> 0 | V7: =COUNTIFS(Planning!$4:$4, "Lundi", Planning!7:7, "AB3") -> 0 | W7: =COUNTIFS(Planning!$4:$4, "Mardi", Planning!7:7, "AB3") -> 0 | X7: =COUNTIFS(Planning!$4:$4, "Mercredi", Planning!7:7, "AB3") -> 0 | Y7: =COUNTIFS(Planning!$4:$4, "Jeudi", Planning!7:7, "AB3") -> 0 | Z7: =COUNTIFS(Planning!$4:$4, "Vendredi", Planning!7:7, "AB3") -> 0 | AA7: =COUNTIFS(Planning!$4:$4, "Samedi", Planning!7:7, "AB3") -> 0 | AB7: =SUM(V7:AA7) -> 0 | AC7: =COUNTIFS(Planning!$4:$4, "Lundi", Planning!7:7, "AJF") -> 0 | AD7: =COUNTIFS(Planning!$4:$4, "Mardi", Planning!7:7, "AJF") -> 0 | AE7: =COUNTIFS(Planning!$4:$4, "Mercredi", Planning!7:7, "AJF") -> 0 | AF7: =COUNTIFS(Planning!$4:$4, "Jeudi", Planning!7:7, "AJF") -> 0 | AG7: =COUNTIFS(Planning!$4:$4, "Vendredi", Planning!7:7, "AJF") -> 0 | AH7: =COUNTIFS(Planning!$4:$4, "Samedi", Planning!7:7, "AJF") -> 0 | AI7: =COUNTIFS(Planning!$4:$4, "Dimanche", Planning!7:7, "AJF") -> 0 | AJ7: =SUM(AC7:AI7) -> 0 | AK7: =COUNTIFS(Planning!$4:$4, "Lundi", Planning!7:7, "B2") -> 0 | AL7: =COUNTIFS(Planning!$4:$4, "Mardi", Planning!7:7, "B2") -> 0 | AM7: =COUNTIFS(Planning!$4:$4, "Mercredi", Planning!7:7, "B2") -> 0 | AN7: =COUNTIFS(Planning!$4:$4, "Jeudi", Planning!7:7, "B2") -> 0 | AO7: =COUNTIFS(Planning!$4:$4, "Vendredi", Planning!7:7, "B2") -> 0 | AP7: =COUNTIFS(Planning!$4:$4, "Samedi", Planning!7:7, "B2") -> 0 | AQ7: =COUNTIFS(Planning!$4:$4, "Dimanche", Planning!7:7, "B2") -> 0 | AR7: =SUM(AK7:AQ7) -> 0 | AS7: =COUNTIFS(Planning!$4:$4, "Lundi", Planning!7:7, "RTT") -> 0 | AT7: =COUNTIFS(Planning!$4:$4, "Mardi", Planning!7:7, "RTT") -> 0 | AU7: =COUNTIFS(Planning!$4:$4, "Mercredi", Planning!7:7, "RTT") -> 0 | AV7: =COUNTIFS(Planning!$4:$4, "Jeudi", Planning!7:7, "RTT") -> 0 | AW7: =COUNTIFS(Planning!$4:$4, "Vendredi", Planning!7:7, "RTT") -> 0 | AX7: =COUNTIFS(Planning!$4:$4, "Samedi", Planning!7:7, "RTT") -> 0 | AY7: =COUNTIFS(Planning!$4:$4, "Dimanche", Planning!7:7, "RTT") -> 0 | AZ7: =SUM(AS7:AY7) -> 0 | BA7: =COUNTIFS(Planning!$4:$4, "Lundi", Planning!7:7, "CA") -> 0 | BB7: =COUNTIFS(Planning!$4:$4, "Mardi", Planning!7:7, "CA") -> 0 | BC7: =COUNTIFS(Planning!$4:$4, "Mercredi", Planning!7:7, "CA") -> 0 | BD7: =COUNTIFS(Planning!$4:$4, "Jeudi", Planning!7:7, "CA") -> 0 | BE7: =COUNTIFS(Planning!$4:$4, "Vendredi", Planning!7:7, "CA") -> 0 | BF7: =SUM(BA7:BE7) -> 0 | BG7: =COUNTIFS(Planning!$4:$4, "Lundi", Planning!7:7, "FC") -> 0 | BH7: =COUNTIFS(Planning!$4:$4, "Mardi", Planning!7:7, "FC") -> 0 | BI7: =COUNTIFS(Planning!$4:$4, "Mercredi", Planning!7:7, "FC") -> 0 | BJ7: =COUNTIFS(Planning!$4:$4, "Jeudi", Planning!7:7, "FC") -> 0 | BK7: =COUNTIFS(Planning!$4:$4, "Vendredi", Planning!7:7, "FC") -> 0 | BL7: =COUNTIFS(Planning!$4:$4, "Samedi", Planning!7:7, "FC") -> 0 | BM7: =COUNTIFS(Planning!$4:$4, "Dimanche", Planning!7:7, "FC") -> 0 | BN7: =SUM(BG7:BM7) -> 0
A8: =Planning!A8 -> Agent 3 | B8: =COUNTIFS(Planning!$4:$4,B$5, Planning!8:8,$B$4) -> 0 | C8: =COUNTIFS(Planning!$4:$4,C$5, Planning!8:8,$B$4) -> 0 | D8: =COUNTIFS(Planning!$4:$4,D$5, Planning!8:8,$B$4) -> 0 | E8: =COUNTIFS(Planning!$4:$4,E$5, Planning!8:8,$B$4) -> 0 | F8: =COUNTIFS(Planning!$4:$4,F$5, Planning!8:8,$B$4) -> 0 | G8: =COUNTIFS(Planning!$4:$4,G$5, Planning!8:8,$B$4) -> 0 | H8: =COUNTIFS(Planning!$4:$4,H$5, Planning!8:8,$B$4) -> 0 | I8: =SUM(B8:G8) -> 0 | M8: =COUNTIFS(Planning!$4:$4, "Dimanche", Planning!8:8, "ARH") -> 0 | N8: =COUNTIFS(Planning!$4:$4, "Lundi", Planning!8:8, "AB1") -> 0 | O8: =COUNTIFS(Planning!$4:$4, "Mardi", Planning!8:8, "AB1") -> 0 | P8: =COUNTIFS(Planning!$4:$4, "Mercredi", Planning!8:8, "AB1") -> 0 | Q8: =COUNTIFS(Planning!$4:$4, "Jeudi", Planning!8:8, "AB1") -> 0 | R8: =COUNTIFS(Planning!$4:$4, "Vendredi", Planning!8:8, "AB1") -> 0 | S8: =COUNTIFS(Planning!$4:$4, "Samedi", Planning!8:8, "AB1") -> 0 | T8: =COUNTIFS(Planning!$4:$4, "Dimanche", Planning!8:8, "AB1") -> 0 | U8: =SUM(N8:T8) -> 0 | V8: =COUNTIFS(Planning!$4:$4, "Lundi", Planning!8:8, "AB3") -> 0 | W8: =COUNTIFS(Planning!$4:$4, "Mardi", Planning!8:8, "AB3") -> 0 | X8: =COUNTIFS(Planning!$4:$4, "Mercredi", Planning!8:8, "AB3") -> 0 | Y8: =COUNTIFS(Planning!$4:$4, "Jeudi", Planning!8:8, "AB3") -> 0 | Z8: =COUNTIFS(Planning!$4:$4, "Vendredi", Planning!8:8, "AB3") -> 0 | AA8: =COUNTIFS(Planning!$4:$4, "Samedi", Planning!8:8, "AB3") -> 0 | AB8: =SUM(V8:AA8) -> 0 | AC8: =COUNTIFS(Planning!$4:$4, "Lundi", Planning!8:8, "AJF") -> 0 | AD8: =COUNTIFS(Planning!$4:$4, "Mardi", Planning!8:8, "AJF") -> 0 | AE8: =COUNTIFS(Planning!$4:$4, "Mercredi", Planning!8:8, "AJF") -> 0 | AF8: =COUNTIFS(Planning!$4:$4, "Jeudi", Planning!8:8, "AJF") -> 0 | AG8: =COUNTIFS(Planning!$4:$4, "Vendredi", Planning!8:8, "AJF") -> 0 | AH8: =COUNTIFS(Planning!$4:$4, "Samedi", Planning!8:8, "AJF") -> 0 | AI8: =COUNTIFS(Planning!$4:$4, "Dimanche", Planning!8:8, "AJF") -> 0 | AJ8: =SUM(AC8:AI8) -> 0 | AK8: =COUNTIFS(Planning!$4:$4, "Lundi", Planning!8:8, "B2") -> 0 | AL8: =COUNTIFS(Planning!$4:$4, "Mardi", Planning!8:8, "B2") -> 0 | AM8: =COUNTIFS(Planning!$4:$4, "Mercredi", Planning!8:8, "B2") -> 0 | AN8: =COUNTIFS(Planning!$4:$4, "Jeudi", Planning!8:8, "B2") -> 0 | AO8: =COUNTIFS(Planning!$4:$4, "Vendredi", Planning!8:8, "B2") -> 0 | AP8: =COUNTIFS(Planning!$4:$4, "Samedi", Planning!8:8, "B2") -> 0 | AQ8: =COUNTIFS(Planning!$4:$4, "Dimanche", Planning!8:8, "B2") -> 0 | AR8: =SUM(AK8:AQ8) -> 0 | AS8: =COUNTIFS(Planning!$4:$4, "Lundi", Planning!8:8, "RTT") -> 0 | AT8: =COUNTIFS(Planning!$4:$4, "Mardi", Planning!8:8, "RTT") -> 0 | AU8: =COUNTIFS(Planning!$4:$4, "Mercredi", Planning!8:8, "RTT") -> 0 | AV8: =COUNTIFS(Planning!$4:$4, "Jeudi", Planning!8:8, "RTT") -> 0 | AW8: =COUNTIFS(Planning!$4:$4, "Vendredi", Planning!8:8, "RTT") -> 0 | AX8: =COUNTIFS(Planning!$4:$4, "Samedi", Planning!8:8, "RTT") -> 0 | AY8: =COUNTIFS(Planning!$4:$4, "Dimanche", Planning!8:8, "RTT") -> 0 | AZ8: =SUM(AS8:AY8) -> 0 | BA8: =COUNTIFS(Planning!$4:$4, "Lundi", Planning!8:8, "CA") -> 0 | BB8: =COUNTIFS(Planning!$4:$4, "Mardi", Planning!8:8, "CA") -> 0 | BC8: =COUNTIFS(Planning!$4:$4, "Mercredi", Planning!8:8, "CA") -> 0 | BD8: =COUNTIFS(Planning!$4:$4, "Jeudi", Planning!8:8, "CA") -> 0 | BE8: =COUNTIFS(Planning!$4:$4, "Vendredi", Planning!8:8, "CA") -> 0 | BF8: =SUM(BA8:BE8) -> 0 | BG8: =COUNTIFS(Planning!$4:$4, "Lundi", Planning!8:8, "FC") -> 0 | BH8: =COUNTIFS(Planning!$4:$4, "Mardi", Planning!8:8, "FC") -> 0 | BI8: =COUNTIFS(Planning!$4:$4, "Mercredi", Planning!8:8, "FC") -> 0 | BJ8: =COUNTIFS(Planning!$4:$4, "Jeudi", Planning!8:8, "FC") -> 0 | BK8: =COUNTIFS(Planning!$4:$4, "Vendredi", Planning!8:8, "FC") -> 0 | BL8: =COUNTIFS(Planning!$4:$4, "Samedi", Planning!8:8, "FC") -> 0 | BM8: =COUNTIFS(Planning!$4:$4, "Dimanche", Planning!8:8, "FC") -> 0 | BN8: =SUM(BG8:BM8) -> 0
A9: =Planning!A9 -> Agent 4 | B9: =COUNTIFS(Planning!$4:$4,B$5, Planning!9:9,$B$4) -> 0 | C9: =COUNTIFS(Planning!$4:$4,C$5, Planning!9:9,$B$4) -> 0 | D9: =COUNTIFS(Planning!$4:$4,D$5, Planning!9:9,$B$4) -> 0 | E9: =COUNTIFS(Planning!$4:$4,E$5, Planning!9:9,$B$4) -> 0 | F9: =COUNTIFS(Planning!$4:$4,F$5, Planning!9:9,$B$4) -> 0 | G9: =COUNTIFS(Planning!$4:$4,G$5, Planning!9:9,$B$4) -> 0 | H9: =COUNTIFS(Planning!$4:$4,H$5, Planning!9:9,$B$4) -> 0 | I9: =SUM(B9:G9) -> 0 | M9: =COUNTIFS(Planning!$4:$4, "Dimanche", Planning!9:9, "ARH") -> 0 | N9: =COUNTIFS(Planning!$4:$4, "Lundi", Planning!9:9, "AB1") -> 0 | O9: =COUNTIFS(Planning!$4:$4, "Mardi", Planning!9:9, "AB1") -> 0 | P9: =COUNTIFS(Planning!$4:$4, "Mercredi", Planning!9:9, "AB1") -> 0 | Q9: =COUNTIFS(Planning!$4:$4, "Jeudi", Planning!9:9, "AB1") -> 0 | R9: =COUNTIFS(Planning!$4:$4, "Vendredi", Planning!9:9, "AB1") -> 0 | S9: =COUNTIFS(Planning!$4:$4, "Samedi", Planning!9:9, "AB1") -> 0 | T9: =COUNTIFS(Planning!$4:$4, "Dimanche", Planning!9:9, "AB1") -> 0 | U9: =SUM(N9:T9) -> 0 | V9: =COUNTIFS(Planning!$4:$4, "Lundi", Planning!9:9, "AB3") -> 0 | W9: =COUNTIFS(Planning!$4:$4, "Mardi", Planning!9:9, "AB3") -> 0 | X9: =COUNTIFS(Planning!$4:$4, "Mercredi", Planning!9:9, "AB3") -> 0 | Y9: =COUNTIFS(Planning!$4:$4, "Jeudi", Planning!9:9, "AB3") -> 0 | Z9: =COUNTIFS(Planning!$4:$4, "Vendredi", Planning!9:9, "AB3") -> 0 | AA9: =COUNTIFS(Planning!$4:$4, "Samedi", Planning!9:9, "AB3") -> 0 | AB9: =SUM(V9:AA9) -> 0 | AC9: =COUNTIFS(Planning!$4:$4, "Lundi", Planning!9:9, "AJF") -> 0 | AD9: =COUNTIFS(Planning!$4:$4, "Mardi", Planning!9:9, "AJF") -> 0 | AE9: =COUNTIFS(Planning!$4:$4, "Mercredi", Planning!9:9, "AJF") -> 0 | AF9: =COUNTIFS(Planning!$4:$4, "Jeudi", Planning!9:9, "AJF") -> 0 | AG9: =COUNTIFS(Planning!$4:$4, "Vendredi", Planning!9:9, "AJF") -> 0 | AH9: =COUNTIFS(Planning!$4:$4, "Samedi", Planning!9:9, "AJF") -> 0 | AI9: =COUNTIFS(Planning!$4:$4, "Dimanche", Planning!9:9, "AJF") -> 0 | AJ9: =SUM(AC9:AI9) -> 0 | AK9: =COUNTIFS(Planning!$4:$4, "Lundi", Planning!9:9, "B2") -> 0 | AL9: =COUNTIFS(Planning!$4:$4, "Mardi", Planning!9:9, "B2") -> 0 | AM9: =COUNTIFS(Planning!$4:$4, "Mercredi", Planning!9:9, "B2") -> 0 | AN9: =COUNTIFS(Planning!$4:$4, "Jeudi", Planning!9:9, "B2") -> 0 | AO9: =COUNTIFS(Planning!$4:$4, "Vendredi", Planning!9:9, "B2") -> 0 | AP9: =COUNTIFS(Planning!$4:$4, "Samedi", Planning!9:9, "B2") -> 0 | AQ9: =COUNTIFS(Planning!$4:$4, "Dimanche", Planning!9:9, "B2") -> 0 | AR9: =SUM(AK9:AQ9) -> 0 | AS9: =COUNTIFS(Planning!$4:$4, "Lundi", Planning!9:9, "RTT") -> 0 | AT9: =COUNTIFS(Planning!$4:$4, "Mardi", Planning!9:9, "RTT") -> 0 | AU9: =COUNTIFS(Planning!$4:$4, "Mercredi", Planning!9:9, "RTT") -> 0 | AV9: =COUNTIFS(Planning!$4:$4, "Jeudi", Planning!9:9, "RTT") -> 0 | AW9: =COUNTIFS(Planning!$4:$4, "Vendredi", Planning!9:9, "RTT") -> 0 | AX9: =COUNTIFS(Planning!$4:$4, "Samedi", Planning!9:9, "RTT") -> 0 | AY9: =COUNTIFS(Planning!$4:$4, "Dimanche", Planning!9:9, "RTT") -> 0 | AZ9: =SUM(AS9:AY9) -> 0 | BA9: =COUNTIFS(Planning!$4:$4, "Lundi", Planning!9:9, "CA") -> 0 | BB9: =COUNTIFS(Planning!$4:$4, "Mardi", Planning!9:9, "CA") -> 0 | BC9: =COUNTIFS(Planning!$4:$4, "Mercredi", Planning!9:9, "CA") -> 0 | BD9: =COUNTIFS(Planning!$4:$4, "Jeudi", Planning!9:9, "CA") -> 0 | BE9: =COUNTIFS(Planning!$4:$4, "Vendredi", Planning!9:9, "CA") -> 0 | BF9: =SUM(BA9:BE9) -> 0 | BG9: =COUNTIFS(Planning!$4:$4, "Lundi", Planning!9:9, "FC") -> 0 | BH9: =COUNTIFS(Planning!$4:$4, "Mardi", Planning!9:9, "FC") -> 0 | BI9: =COUNTIFS(Planning!$4:$4, "Mercredi", Planning!9:9, "FC") -> 0 | BJ9: =COUNTIFS(Planning!$4:$4, "Jeudi", Planning!9:9, "FC") -> 0 | BK9: =COUNTIFS(Planning!$4:$4, "Vendredi", Planning!9:9, "FC") -> 0 | BL9: =COUNTIFS(Planning!$4:$4, "Samedi", Planning!9:9, "FC") -> 0 | BM9: =COUNTIFS(Planning!$4:$4, "Dimanche", Planning!9:9, "FC") -> 0 | BN9: =SUM(BG9:BM9) -> 0
A10: =Planning!A10 -> Agent 5 | B10: =COUNTIFS(Planning!$4:$4,B$5, Planning!10:10,$B$4) -> 0 | C10: =COUNTIFS(Planning!$4:$4,C$5, Planning!10:10,$B$4) -> 0 | D10: =COUNTIFS(Planning!$4:$4,D$5, Planning!10:10,$B$4) -> 0 | E10: =COUNTIFS(Planning!$4:$4,E$5, Planning!10:10,$B$4) -> 0 | F10: =COUNTIFS(Planning!$4:$4,F$5, Planning!10:10,$B$4) -> 0 | G10: =COUNTIFS(Planning!$4:$4,G$5, Planning!10:10,$B$4) -> 0 | H10: =COUNTIFS(Planning!$4:$4,H$5, Planning!10:10,$B$4) -> 0 | I10: =SUM(B10:G10) -> 0 | M10: =COUNTIFS(Planning!$4:$4, "Dimanche", Planning!10:10, "ARH") -> 0 | N10: =COUNTIFS(Planning!$4:$4, "Lundi", Planning!10:10, "AB1") -> 0 | O10: =COUNTIFS(Planning!$4:$4, "Mardi", Planning!10:10, "AB1") -> 0 | P10: =COUNTIFS(Planning!$4:$4, "Mercredi", Planning!10:10, "AB1") -> 0 | Q10: =COUNTIFS(Planning!$4:$4, "Jeudi", Planning!10:10, "AB1") -> 0 | R10: =COUNTIFS(Planning!$4:$4, "Vendredi", Planning!10:10, "AB1") -> 0 | S10: =COUNTIFS(Planning!$4:$4, "Samedi", Planning!10:10, "AB1") -> 0 | T10: =COUNTIFS(Planning!$4:$4, "Dimanche", Planning!10:10, "AB1") -> 0 | U10: =SUM(N10:T10) -> 0 | V10: =COUNTIFS(Planning!$4:$4, "Lundi", Planning!10:10, "AB3") -> 0 | W10: =COUNTIFS(Planning!$4:$4, "Mardi", Planning!10:10, "AB3") -> 0 | X10: =COUNTIFS(Planning!$4:$4, "Mercredi", Planning!10:10, "AB3") -> 0 | Y10: =COUNTIFS(Planning!$4:$4, "Jeudi", Planning!10:10, "AB3") -> 0 | Z10: =COUNTIFS(Planning!$4:$4, "Vendredi", Planning!10:10, "AB3") -> 0 | AA10: =COUNTIFS(Planning!$4:$4, "Samedi", Planning!10:10, "AB3") -> 0 | AB10: =SUM(V10:AA10) -> 0 | AC10: =COUNTIFS(Planning!$4:$4, "Lundi", Planning!10:10, "AJF") -> 0 | AD10: =COUNTIFS(Planning!$4:$4, "Mardi", Planning!10:10, "AJF") -> 0 | AE10: =COUNTIFS(Planning!$4:$4, "Mercredi", Planning!10:10, "AJF") -> 0 | AF10: =COUNTIFS(Planning!$4:$4, "Jeudi", Planning!10:10, "AJF") -> 0 | AG10: =COUNTIFS(Planning!$4:$4, "Vendredi", Planning!10:10, "AJF") -> 0 | AH10: =COUNTIFS(Planning!$4:$4, "Samedi", Planning!10:10, "AJF") -> 0 | AI10: =COUNTIFS(Planning!$4:$4, "Dimanche", Planning!10:10, "AJF") -> 0 | AJ10: =SUM(AC10:AI10) -> 0 | AK10: =COUNTIFS(Planning!$4:$4, "Lundi", Planning!10:10, "B2") -> 0 | AL10: =COUNTIFS(Planning!$4:$4, "Mardi", Planning!10:10, "B2") -> 0 | AM10: =COUNTIFS(Planning!$4:$4, "Mercredi", Planning!10:10, "B2") -> 0 | AN10: =COUNTIFS(Planning!$4:$4, "Jeudi", Planning!10:10, "B2") -> 0 | AO10: =COUNTIFS(Planning!$4:$4, "Vendredi", Planning!10:10, "B2") -> 0 | AP10: =COUNTIFS(Planning!$4:$4, "Samedi", Planning!10:10, "B2") -> 0 | AQ10: =COUNTIFS(Planning!$4:$4, "Dimanche", Planning!10:10, "B2") -> 0 | AR10: =SUM(AK10:AQ10) -> 0 | AS10: =COUNTIFS(Planning!$4:$4, "Lundi", Planning!10:10, "RTT") -> 0 | AT10: =COUNTIFS(Planning!$4:$4, "Mardi", Planning!10:10, "RTT") -> 0 | AU10: =COUNTIFS(Planning!$4:$4, "Mercredi", Planning!10:10, "RTT") -> 0 | AV10: =COUNTIFS(Planning!$4:$4, "Jeudi", Planning!10:10, "RTT") -> 0 | AW10: =COUNTIFS(Planning!$4:$4, "Vendredi", Planning!10:10, "RTT") -> 0 | AX10: =COUNTIFS(Planning!$4:$4, "Samedi", Planning!10:10, "RTT") -> 0 | AY10: =COUNTIFS(Planning!$4:$4, "Dimanche", Planning!10:10, "RTT") -> 0 | AZ10: =SUM(AS10:AY10) -> 0 | BA10: =COUNTIFS(Planning!$4:$4, "Lundi", Planning!10:10, "CA") -> 0 | BB10: =COUNTIFS(Planning!$4:$4, "Mardi", Planning!10:10, "CA") -> 0 | BC10: =COUNTIFS(Planning!$4:$4, "Mercredi", Planning!10:10, "CA") -> 0 | BD10: =COUNTIFS(Planning!$4:$4, "Jeudi", Planning!10:10, "CA") -> 0 | BE10: =COUNTIFS(Planning!$4:$4, "Vendredi", Planning!10:10, "CA") -> 0 | BF10: =SUM(BA10:BE10) -> 0 | BG10: =COUNTIFS(Planning!$4:$4, "Lundi", Planning!10:10, "FC") -> 0 | BH10: =COUNTIFS(Planning!$4:$4, "Mardi", Planning!10:10, "FC") -> 0 | BI10: =COUNTIFS(Planning!$4:$4, "Mercredi", Planning!10:10, "FC") -> 0 | BJ10: =COUNTIFS(Planning!$4:$4, "Jeudi", Planning!10:10, "FC") -> 0 | BK10: =COUNTIFS(Planning!$4:$4, "Vendredi", Planning!10:10, "FC") -> 0 | BL10: =COUNTIFS(Planning!$4:$4, "Samedi", Planning!10:10, "FC") -> 0 | BM10: =COUNTIFS(Planning!$4:$4, "Dimanche", Planning!10:10, "FC") -> 0 | BN10: =SUM(BG10:BM10) -> 0
A11: =Planning!A11 -> Agent 6 | B11: =COUNTIFS(Planning!$4:$4,B$5, Planning!11:11,$B$4) -> 0 | C11: =COUNTIFS(Planning!$4:$4,C$5, Planning!11:11,$B$4) -> 0 | D11: =COUNTIFS(Planning!$4:$4,D$5, Planning!11:11,$B$4) -> 0 | E11: =COUNTIFS(Planning!$4:$4,E$5, Planning!11:11,$B$4) -> 0 | F11: =COUNTIFS(Planning!$4:$4,F$5, Planning!11:11,$B$4) -> 0 | G11: =COUNTIFS(Planning!$4:$4,G$5, Planning!11:11,$B$4) -> 0 | H11: =COUNTIFS(Planning!$4:$4,H$5, Planning!11:11,$B$4) -> 0 | I11: =SUM(B11:G11) -> 0 | M11: =COUNTIFS(Planning!$4:$4, "Dimanche", Planning!11:11, "ARH") -> 0 | N11: =COUNTIFS(Planning!$4:$4, "Lundi", Planning!11:11, "AB1") -> 0 | O11: =COUNTIFS(Planning!$4:$4, "Mardi", Planning!11:11, "AB1") -> 0 | P11: =COUNTIFS(Planning!$4:$4, "Mercredi", Planning!11:11, "AB1") -> 0 | Q11: =COUNTIFS(Planning!$4:$4, "Jeudi", Planning!11:11, "AB1") -> 0 | R11: =COUNTIFS(Planning!$4:$4, "Vendredi", Planning!11:11, "AB1") -> 0 | S11: =COUNTIFS(Planning!$4:$4, "Samedi", Planning!11:11, "AB1") -> 0 | T11: =COUNTIFS(Planning!$4:$4, "Dimanche", Planning!11:11, "AB1") -> 0 | U11: =SUM(N11:T11) -> 0 | V11: =COUNTIFS(Planning!$4:$4, "Lundi", Planning!11:11, "AB3") -> 0 | W11: =COUNTIFS(Planning!$4:$4, "Mardi", Planning!11:11, "AB3") -> 0 | X11: =COUNTIFS(Planning!$4:$4, "Mercredi", Planning!11:11, "AB3") -> 0 | Y11: =COUNTIFS(Planning!$4:$4, "Jeudi", Planning!11:11, "AB3") -> 0 | Z11: =COUNTIFS(Planning!$4:$4, "Vendredi", Planning!11:11, "AB3") -> 0 | AA11: =COUNTIFS(Planning!$4:$4, "Samedi", Planning!11:11, "AB3") -> 0 | AB11: =SUM(V11:AA11) -> 0 | AC11: =COUNTIFS(Planning!$4:$4, "Lundi", Planning!11:11, "AJF") -> 0 | AD11: =COUNTIFS(Planning!$4:$4, "Mardi", Planning!11:11, "AJF") -> 0 | AE11: =COUNTIFS(Planning!$4:$4, "Mercredi", Planning!11:11, "AJF") -> 0 | AF11: =COUNTIFS(Planning!$4:$4, "Jeudi", Planning!11:11, "AJF") -> 0 | AG11: =COUNTIFS(Planning!$4:$4, "Vendredi", Planning!11:11, "AJF") -> 0 | AH11: =COUNTIFS(Planning!$4:$4, "Samedi", Planning!11:11, "AJF") -> 0 | AI11: =COUNTIFS(Planning!$4:$4, "Dimanche", Planning!11:11, "AJF") -> 0 | AJ11: =SUM(AC11:AI11) -> 0 | AK11: =COUNTIFS(Planning!$4:$4, "Lundi", Planning!11:11, "B2") -> 0 | AL11: =COUNTIFS(Planning!$4:$4, "Mardi", Planning!11:11, "B2") -> 0 | AM11: =COUNTIFS(Planning!$4:$4, "Mercredi", Planning!11:11, "B2") -> 0 | AN11: =COUNTIFS(Planning!$4:$4, "Jeudi", Planning!11:11, "B2") -> 0 | AO11: =COUNTIFS(Planning!$4:$4, "Vendredi", Planning!11:11, "B2") -> 0 | AP11: =COUNTIFS(Planning!$4:$4, "Samedi", Planning!11:11, "B2") -> 0 | AQ11: =COUNTIFS(Planning!$4:$4, "Dimanche", Planning!11:11, "B2") -> 0 | AR11: =SUM(AK11:AQ11) -> 0 | AS11: =COUNTIFS(Planning!$4:$4, "Lundi", Planning!11:11, "RTT") -> 0 | AT11: =COUNTIFS(Planning!$4:$4, "Mardi", Planning!11:11, "RTT") -> 0 | AU11: =COUNTIFS(Planning!$4:$4, "Mercredi", Planning!11:11, "RTT") -> 0 | AV11: =COUNTIFS(Planning!$4:$4, "Jeudi", Planning!11:11, "RTT") -> 0 | AW11: =COUNTIFS(Planning!$4:$4, "Vendredi", Planning!11:11, "RTT") -> 0 | AX11: =COUNTIFS(Planning!$4:$4, "Samedi", Planning!11:11, "RTT") -> 0 | AY11: =COUNTIFS(Planning!$4:$4, "Dimanche", Planning!11:11, "RTT") -> 0 | AZ11: =SUM(AS11:AY11) -> 0 | BA11: =COUNTIFS(Planning!$4:$4, "Lundi", Planning!11:11, "CA") -> 0 | BB11: =COUNTIFS(Planning!$4:$4, "Mardi", Planning!11:11, "CA") -> 0 | BC11: =COUNTIFS(Planning!$4:$4, "Mercredi", Planning!11:11, "CA") -> 0 | BD11: =COUNTIFS(Planning!$4:$4, "Jeudi", Planning!11:11, "CA") -> 0 | BE11: =COUNTIFS(Planning!$4:$4, "Vendredi", Planning!11:11, "CA") -> 0 | BF11: =SUM(BA11:BE11) -> 0 | BG11: =COUNTIFS(Planning!$4:$4, "Lundi", Planning!11:11, "FC") -> 0 | BH11: =COUNTIFS(Planning!$4:$4, "Mardi", Planning!11:11, "FC") -> 0 | BI11: =COUNTIFS(Planning!$4:$4, "Mercredi", Planning!11:11, "FC") -> 0 | BJ11: =COUNTIFS(Planning!$4:$4, "Jeudi", Planning!11:11, "FC") -> 0 | BK11: =COUNTIFS(Planning!$4:$4, "Vendredi", Planning!11:11, "FC") -> 0 | BL11: =COUNTIFS(Planning!$4:$4, "Samedi", Planning!11:11, "FC") -> 0 | BM11: =COUNTIFS(Planning!$4:$4, "Dimanche", Planning!11:11, "FC") -> 0 | BN11: =SUM(BG11:BM11) -> 0
A12: =Planning!A12 -> Agent 7 | B12: =COUNTIFS(Planning!$4:$4,B$5, Planning!12:12,$B$4) -> 0 | C12: =COUNTIFS(Planning!$4:$4,C$5, Planning!12:12,$B$4) -> 0 | D12: =COUNTIFS(Planning!$4:$4,D$5, Planning!12:12,$B$4) -> 0 | E12: =COUNTIFS(Planning!$4:$4,E$5, Planning!12:12,$B$4) -> 0 | F12: =COUNTIFS(Planning!$4:$4,F$5, Planning!12:12,$B$4) -> 0 | G12: =COUNTIFS(Planning!$4:$4,G$5, Planning!12:12,$B$4) -> 0 | H12: =COUNTIFS(Planning!$4:$4,H$5, Planning!12:12,$B$4) -> 0 | I12: =SUM(B12:G12) -> 0 | M12: =COUNTIFS(Planning!$4:$4, "Dimanche", Planning!12:12, "ARH") -> 0 | N12: =COUNTIFS(Planning!$4:$4, "Lundi", Planning!12:12, "AB1") -> 0 | O12: =COUNTIFS(Planning!$4:$4, "Mardi", Planning!12:12, "AB1") -> 0 | P12: =COUNTIFS(Planning!$4:$4, "Mercredi", Planning!12:12, "AB1") -> 0 | Q12: =COUNTIFS(Planning!$4:$4, "Jeudi", Planning!12:12, "AB1") -> 0 | R12: =COUNTIFS(Planning!$4:$4, "Vendredi", Planning!12:12, "AB1") -> 0 | S12: =COUNTIFS(Planning!$4:$4, "Samedi", Planning!12:12, "AB1") -> 0 | T12: =COUNTIFS(Planning!$4:$4, "Dimanche", Planning!12:12, "AB1") -> 0 | U12: =SUM(N12:T12) -> 0 | V12: =COUNTIFS(Planning!$4:$4, "Lundi", Planning!12:12, "AB3") -> 0 | W12: =COUNTIFS(Planning!$4:$4, "Mardi", Planning!12:12, "AB3") -> 0 | X12: =COUNTIFS(Planning!$4:$4, "Mercredi", Planning!12:12, "AB3") -> 0 | Y12: =COUNTIFS(Planning!$4:$4, "Jeudi", Planning!12:12, "AB3") -> 0 | Z12: =COUNTIFS(Planning!$4:$4, "Vendredi", Planning!12:12, "AB3") -> 0 | AA12: =COUNTIFS(Planning!$4:$4, "Samedi", Planning!12:12, "AB3") -> 0 | AB12: =SUM(V12:AA12) -> 0 | AC12: =COUNTIFS(Planning!$4:$4, "Lundi", Planning!12:12, "AJF") -> 0 | AD12: =COUNTIFS(Planning!$4:$4, "Mardi", Planning!12:12, "AJF") -> 0 | AE12: =COUNTIFS(Planning!$4:$4, "Mercredi", Planning!12:12, "AJF") -> 0 | AF12: =COUNTIFS(Planning!$4:$4, "Jeudi", Planning!12:12, "AJF") -> 0 | AG12: =COUNTIFS(Planning!$4:$4, "Vendredi", Planning!12:12, "AJF") -> 0 | AH12: =COUNTIFS(Planning!$4:$4, "Samedi", Planning!12:12, "AJF") -> 0 | AI12: =COUNTIFS(Planning!$4:$4, "Dimanche", Planning!12:12, "AJF") -> 0 | AJ12: =SUM(AC12:AI12) -> 0 | AK12: =COUNTIFS(Planning!$4:$4, "Lundi", Planning!12:12, "B2") -> 0 | AL12: =COUNTIFS(Planning!$4:$4, "Mardi", Planning!12:12, "B2") -> 0 | AM12: =COUNTIFS(Planning!$4:$4, "Mercredi", Planning!12:12, "B2") -> 0 | AN12: =COUNTIFS(Planning!$4:$4, "Jeudi", Planning!12:12, "B2") -> 0 | AO12: =COUNTIFS(Planning!$4:$4, "Vendredi", Planning!12:12, "B2") -> 0 | AP12: =COUNTIFS(Planning!$4:$4, "Samedi", Planning!12:12, "B2") -> 0 | AQ12: =COUNTIFS(Planning!$4:$4, "Dimanche", Planning!12:12, "B2") -> 0 | AR12: =SUM(AK12:AQ12) -> 0 | AS12: =COUNTIFS(Planning!$4:$4, "Lundi", Planning!12:12, "RTT") -> 0 | AT12: =COUNTIFS(Planning!$4:$4, "Mardi", Planning!12:12, "RTT") -> 0 | AU12: =COUNTIFS(Planning!$4:$4, "Mercredi", Planning!12:12, "RTT") -> 0 | AV12: =COUNTIFS(Planning!$4:$4, "Jeudi", Planning!12:12, "RTT") -> 0 | AW12: =COUNTIFS(Planning!$4:$4, "Vendredi", Planning!12:12, "RTT") -> 0 | AX12: =COUNTIFS(Planning!$4:$4, "Samedi", Planning!12:12, "RTT") -> 0 | AY12: =COUNTIFS(Planning!$4:$4, "Dimanche", Planning!12:12, "RTT") -> 0 | AZ12: =SUM(AS12:AY12) -> 0 | BA12: =COUNTIFS(Planning!$4:$4, "Lundi", Planning!12:12, "CA") -> 0 | BB12: =COUNTIFS(Planning!$4:$4, "Mardi", Planning!12:12, "CA") -> 0 | BC12: =COUNTIFS(Planning!$4:$4, "Mercredi", Planning!12:12, "CA") -> 0 | BD12: =COUNTIFS(Planning!$4:$4, "Jeudi", Planning!12:12, "CA") -> 0 | BE12: =COUNTIFS(Planning!$4:$4, "Vendredi", Planning!12:12, "CA") -> 0 | BF12: =SUM(BA12:BE12) -> 0 | BG12: =COUNTIFS(Planning!$4:$4, "Lundi", Planning!12:12, "FC") -> 0 | BH12: =COUNTIFS(Planning!$4:$4, "Mardi", Planning!12:12, "FC") -> 0 | BI12: =COUNTIFS(Planning!$4:$4, "Mercredi", Planning!12:12, "FC") -> 0 | BJ12: =COUNTIFS(Planning!$4:$4, "Jeudi", Planning!12:12, "FC") -> 0 | BK12: =COUNTIFS(Planning!$4:$4, "Vendredi", Planning!12:12, "FC") -> 0 | BL12: =COUNTIFS(Planning!$4:$4, "Samedi", Planning!12:12, "FC") -> 0 | BM12: =COUNTIFS(Planning!$4:$4, "Dimanche", Planning!12:12, "FC") -> 0 | BN12: =SUM(BG12:BM12) -> 0
A13: =Planning!A13 -> Agent 8 | B13: =COUNTIFS(Planning!$4:$4,B$5, Planning!13:13,$B$4) -> 0 | C13: =COUNTIFS(Planning!$4:$4,C$5, Planning!13:13,$B$4) -> 0 | D13: =COUNTIFS(Planning!$4:$4,D$5, Planning!13:13,$B$4) -> 0 | E13: =COUNTIFS(Planning!$4:$4,E$5, Planning!13:13,$B$4) -> 0 | F13: =COUNTIFS(Planning!$4:$4,F$5, Planning!13:13,$B$4) -> 0 | G13: =COUNTIFS(Planning!$4:$4,G$5, Planning!13:13,$B$4) -> 0 | H13: =COUNTIFS(Planning!$4:$4,H$5, Planning!13:13,$B$4) -> 0 | I13: =SUM(B13:G13) -> 0 | M13: =COUNTIFS(Planning!$4:$4, "Dimanche", Planning!13:13, "ARH") -> 0 | N13: =COUNTIFS(Planning!$4:$4, "Lundi", Planning!13:13, "AB1") -> 0 | O13: =COUNTIFS(Planning!$4:$4, "Mardi", Planning!13:13, "AB1") -> 0 | P13: =COUNTIFS(Planning!$4:$4, "Mercredi", Planning!13:13, "AB1") -> 0 | Q13: =COUNTIFS(Planning!$4:$4, "Jeudi", Planning!13:13, "AB1") -> 0 | R13: =COUNTIFS(Planning!$4:$4, "Vendredi", Planning!13:13, "AB1") -> 0 | S13: =COUNTIFS(Planning!$4:$4, "Samedi", Planning!13:13, "AB1") -> 0 | T13: =COUNTIFS(Planning!$4:$4, "Dimanche", Planning!13:13, "AB1") -> 0 | U13: =SUM(N13:T13) -> 0 | V13: =COUNTIFS(Planning!$4:$4, "Lundi", Planning!13:13, "AB3") -> 0 | W13: =COUNTIFS(Planning!$4:$4, "Mardi", Planning!13:13, "AB3") -> 0 | X13: =COUNTIFS(Planning!$4:$4, "Mercredi", Planning!13:13, "AB3") -> 0 | Y13: =COUNTIFS(Planning!$4:$4, "Jeudi", Planning!13:13, "AB3") -> 0 | Z13: =COUNTIFS(Planning!$4:$4, "Vendredi", Planning!13:13, "AB3") -> 0 | AA13: =COUNTIFS(Planning!$4:$4, "Samedi", Planning!13:13, "AB3") -> 0 | AB13: =SUM(V13:AA13) -> 0 | AC13: =COUNTIFS(Planning!$4:$4, "Lundi", Planning!13:13, "AJF") -> 0 | AD13: =COUNTIFS(Planning!$4:$4, "Mardi", Planning!13:13, "AJF") -> 0 | AE13: =COUNTIFS(Planning!$4:$4, "Mercredi", Planning!13:13, "AJF") -> 0 | AF13: =COUNTIFS(Planning!$4:$4, "Jeudi", Planning!13:13, "AJF") -> 0 | AG13: =COUNTIFS(Planning!$4:$4, "Vendredi", Planning!13:13, "AJF") -> 0 | AH13: =COUNTIFS(Planning!$4:$4, "Samedi", Planning!13:13, "AJF") -> 0 | AI13: =COUNTIFS(Planning!$4:$4, "Dimanche", Planning!13:13, "AJF") -> 0 | AJ13: =SUM(AC13:AI13) -> 0 | AK13: =COUNTIFS(Planning!$4:$4, "Lundi", Planning!13:13, "B2") -> 0 | AL13: =COUNTIFS(Planning!$4:$4, "Mardi", Planning!13:13, "B2") -> 0 | AM13: =COUNTIFS(Planning!$4:$4, "Mercredi", Planning!13:13, "B2") -> 0 | AN13: =COUNTIFS(Planning!$4:$4, "Jeudi", Planning!13:13, "B2") -> 0 | AO13: =COUNTIFS(Planning!$4:$4, "Vendredi", Planning!13:13, "B2") -> 0 | AP13: =COUNTIFS(Planning!$4:$4, "Samedi", Planning!13:13, "B2") -> 0 | AQ13: =COUNTIFS(Planning!$4:$4, "Dimanche", Planning!13:13, "B2") -> 0 | AR13: =SUM(AK13:AQ13) -> 0 | AS13: =COUNTIFS(Planning!$4:$4, "Lundi", Planning!13:13, "RTT") -> 0 | AT13: =COUNTIFS(Planning!$4:$4, "Mardi", Planning!13:13, "RTT") -> 0 | AU13: =COUNTIFS(Planning!$4:$4, "Mercredi", Planning!13:13, "RTT") -> 0 | AV13: =COUNTIFS(Planning!$4:$4, "Jeudi", Planning!13:13, "RTT") -> 0 | AW13: =COUNTIFS(Planning!$4:$4, "Vendredi", Planning!13:13, "RTT") -> 0 | AX13: =COUNTIFS(Planning!$4:$4, "Samedi", Planning!13:13, "RTT") -> 0 | AY13: =COUNTIFS(Planning!$4:$4, "Dimanche", Planning!13:13, "RTT") -> 0 | AZ13: =SUM(AS13:AY13) -> 0 | BA13: =COUNTIFS(Planning!$4:$4, "Lundi", Planning!13:13, "CA") -> 0 | BB13: =COUNTIFS(Planning!$4:$4, "Mardi", Planning!13:13, "CA") -> 0 | BC13: =COUNTIFS(Planning!$4:$4, "Mercredi", Planning!13:13, "CA") -> 0 | BD13: =COUNTIFS(Planning!$4:$4, "Jeudi", Planning!13:13, "CA") -> 0 | BE13: =COUNTIFS(Planning!$4:$4, "Vendredi", Planning!13:13, "CA") -> 0 | BF13: =SUM(BA13:BE13) -> 0 | BG13: =COUNTIFS(Planning!$4:$4, "Lundi", Planning!13:13, "FC") -> 0 | BH13: =COUNTIFS(Planning!$4:$4, "Mardi", Planning!13:13, "FC") -> 0 | BI13: =COUNTIFS(Planning!$4:$4, "Mercredi", Planning!13:13, "FC") -> 0 | BJ13: =COUNTIFS(Planning!$4:$4, "Jeudi", Planning!13:13, "FC") -> 0 | BK13: =COUNTIFS(Planning!$4:$4, "Vendredi", Planning!13:13, "FC") -> 0 | BL13: =COUNTIFS(Planning!$4:$4, "Samedi", Planning!13:13, "FC") -> 0 | BM13: =COUNTIFS(Planning!$4:$4, "Dimanche", Planning!13:13, "FC") -> 0 | BN13: =SUM(BG13:BM13) -> 0
A14: =Planning!A14 -> Agent 9 | B14: =COUNTIFS(Planning!$4:$4,B$5, Planning!14:14,$B$4) -> 0 | C14: =COUNTIFS(Planning!$4:$4,C$5, Planning!14:14,$B$4) -> 0 | D14: =COUNTIFS(Planning!$4:$4,D$5, Planning!14:14,$B$4) -> 0 | E14: =COUNTIFS(Planning!$4:$4,E$5, Planning!14:14,$B$4) -> 0 | F14: =COUNTIFS(Planning!$4:$4,F$5, Planning!14:14,$B$4) -> 0 | G14: =COUNTIFS(Planning!$4:$4,G$5, Planning!14:14,$B$4) -> 0 | H14: =COUNTIFS(Planning!$4:$4,H$5, Planning!14:14,$B$4) -> 0 | I14: =SUM(B14:G14) -> 0 | M14: =COUNTIFS(Planning!$4:$4, "Dimanche", Planning!14:14, "ARH") -> 0 | N14: =COUNTIFS(Planning!$4:$4, "Lundi", Planning!14:14, "AB1") -> 0 | O14: =COUNTIFS(Planning!$4:$4, "Mardi", Planning!14:14, "AB1") -> 0 | P14: =COUNTIFS(Planning!$4:$4, "Mercredi", Planning!14:14, "AB1") -> 0 | Q14: =COUNTIFS(Planning!$4:$4, "Jeudi", Planning!14:14, "AB1") -> 0 | R14: =COUNTIFS(Planning!$4:$4, "Vendredi", Planning!14:14, "AB1") -> 0 | S14: =COUNTIFS(Planning!$4:$4, "Samedi", Planning!14:14, "AB1") -> 0 | T14: =COUNTIFS(Planning!$4:$4, "Dimanche", Planning!14:14, "AB1") -> 0 | U14: =SUM(N14:T14) -> 0 | V14: =COUNTIFS(Planning!$4:$4, "Lundi", Planning!14:14, "AB3") -> 0 | W14: =COUNTIFS(Planning!$4:$4, "Mardi", Planning!14:14, "AB3") -> 0 | X14: =COUNTIFS(Planning!$4:$4, "Mercredi", Planning!14:14, "AB3") -> 0 | Y14: =COUNTIFS(Planning!$4:$4, "Jeudi", Planning!14:14, "AB3") -> 0 | Z14: =COUNTIFS(Planning!$4:$4, "Vendredi", Planning!14:14, "AB3") -> 0 | AA14: =COUNTIFS(Planning!$4:$4, "Samedi", Planning!14:14, "AB3") -> 0 | AB14: =SUM(V14:AA14) -> 0 | AC14: =COUNTIFS(Planning!$4:$4, "Lundi", Planning!14:14, "AJF") -> 0 | AD14: =COUNTIFS(Planning!$4:$4, "Mardi", Planning!14:14, "AJF") -> 0 | AE14: =COUNTIFS(Planning!$4:$4, "Mercredi", Planning!14:14, "AJF") -> 0 | AF14: =COUNTIFS(Planning!$4:$4, "Jeudi", Planning!14:14, "AJF") -> 0 | AG14: =COUNTIFS(Planning!$4:$4, "Vendredi", Planning!14:14, "AJF") -> 0 | AH14: =COUNTIFS(Planning!$4:$4, "Samedi", Planning!14:14, "AJF") -> 0 | AI14: =COUNTIFS(Planning!$4:$4, "Dimanche", Planning!14:14, "AJF") -> 0 | AJ14: =SUM(AC14:AI14) -> 0 | AK14: =COUNTIFS(Planning!$4:$4, "Lundi", Planning!14:14, "B2") -> 0 | AL14: =COUNTIFS(Planning!$4:$4, "Mardi", Planning!14:14, "B2") -> 0 | AM14: =COUNTIFS(Planning!$4:$4, "Mercredi", Planning!14:14, "B2") -> 0 | AN14: =COUNTIFS(Planning!$4:$4, "Jeudi", Planning!14:14, "B2") -> 0 | AO14: =COUNTIFS(Planning!$4:$4, "Vendredi", Planning!14:14, "B2") -> 0 | AP14: =COUNTIFS(Planning!$4:$4, "Samedi", Planning!14:14, "B2") -> 0 | AQ14: =COUNTIFS(Planning!$4:$4, "Dimanche", Planning!14:14, "B2") -> 0 | AR14: =SUM(AK14:AQ14) -> 0 | AS14: =COUNTIFS(Planning!$4:$4, "Lundi", Planning!14:14, "RTT") -> 0 | AT14: =COUNTIFS(Planning!$4:$4, "Mardi", Planning!14:14, "RTT") -> 0 | AU14: =COUNTIFS(Planning!$4:$4, "Mercredi", Planning!14:14, "RTT") -> 0 | AV14: =COUNTIFS(Planning!$4:$4, "Jeudi", Planning!14:14, "RTT") -> 0 | AW14: =COUNTIFS(Planning!$4:$4, "Vendredi", Planning!14:14, "RTT") -> 0 | AX14: =COUNTIFS(Planning!$4:$4, "Samedi", Planning!14:14, "RTT") -> 0 | AY14: =COUNTIFS(Planning!$4:$4, "Dimanche", Planning!14:14, "RTT") -> 0 | AZ14: =SUM(AS14:AY14) -> 0 | BA14: =COUNTIFS(Planning!$4:$4, "Lundi", Planning!14:14, "CA") -> 0 | BB14: =COUNTIFS(Planning!$4:$4, "Mardi", Planning!14:14, "CA") -> 0 | BC14: =COUNTIFS(Planning!$4:$4, "Mercredi", Planning!14:14, "CA") -> 0 | BD14: =COUNTIFS(Planning!$4:$4, "Jeudi", Planning!14:14, "CA") -> 0 | BE14: =COUNTIFS(Planning!$4:$4, "Vendredi", Planning!14:14, "CA") -> 0 | BF14: =SUM(BA14:BE14) -> 0 | BG14: =COUNTIFS(Planning!$4:$4, "Lundi", Planning!14:14, "FC") -> 0 | BH14: =COUNTIFS(Planning!$4:$4, "Mardi", Planning!14:14, "FC") -> 0 | BI14: =COUNTIFS(Planning!$4:$4, "Mercredi", Planning!14:14, "FC") -> 0 | BJ14: =COUNTIFS(Planning!$4:$4, "Jeudi", Planning!14:14, "FC") -> 0 | BK14: =COUNTIFS(Planning!$4:$4, "Vendredi", Planning!14:14, "FC") -> 0 | BL14: =COUNTIFS(Planning!$4:$4, "Samedi", Planning!14:14, "FC") -> 0 | BM14: =COUNTIFS(Planning!$4:$4, "Dimanche", Planning!14:14, "FC") -> 0 | BN14: =SUM(BG14:BM14) -> 0
A15: =Planning!A15 -> Agent 10 | B15: =COUNTIFS(Planning!$4:$4,B$5, Planning!15:15,$B$4) -> 0 | C15: =COUNTIFS(Planning!$4:$4,C$5, Planning!15:15,$B$4) -> 0 | D15: =COUNTIFS(Planning!$4:$4,D$5, Planning!15:15,$B$4) -> 0 | E15: =COUNTIFS(Planning!$4:$4,E$5, Planning!15:15,$B$4) -> 0 | F15: =COUNTIFS(Planning!$4:$4,F$5, Planning!15:15,$B$4) -> 0 | G15: =COUNTIFS(Planning!$4:$4,G$5, Planning!15:15,$B$4) -> 0 | H15: =COUNTIFS(Planning!$4:$4,H$5, Planning!15:15,$B$4) -> 0 | I15: =SUM(B15:G15) -> 0 | M15: =COUNTIFS(Planning!$4:$4, "Dimanche", Planning!15:15, "ARH") -> 0 | N15: =COUNTIFS(Planning!$4:$4, "Lundi", Planning!15:15, "AB1") -> 0 | O15: =COUNTIFS(Planning!$4:$4, "Mardi", Planning!15:15, "AB1") -> 0 | P15: =COUNTIFS(Planning!$4:$4, "Mercredi", Planning!15:15, "AB1") -> 0 | Q15: =COUNTIFS(Planning!$4:$4, "Jeudi", Planning!15:15, "AB1") -> 0 | R15: =COUNTIFS(Planning!$4:$4, "Vendredi", Planning!15:15, "AB1") -> 0 | S15: =COUNTIFS(Planning!$4:$4, "Samedi", Planning!15:15, "AB1") -> 0 | T15: =COUNTIFS(Planning!$4:$4, "Dimanche", Planning!15:15, "AB1") -> 0 | U15: =SUM(N15:T15) -> 0 | V15: =COUNTIFS(Planning!$4:$4, "Lundi", Planning!15:15, "AB3") -> 0 | W15: =COUNTIFS(Planning!$4:$4, "Mardi", Planning!15:15, "AB3") -> 0 | X15: =COUNTIFS(Planning!$4:$4, "Mercredi", Planning!15:15, "AB3") -> 0 | Y15: =COUNTIFS(Planning!$4:$4, "Jeudi", Planning!15:15, "AB3") -> 0 | Z15: =COUNTIFS(Planning!$4:$4, "Vendredi", Planning!15:15, "AB3") -> 0 | AA15: =COUNTIFS(Planning!$4:$4, "Samedi", Planning!15:15, "AB3") -> 0 | AB15: =SUM(V15:AA15) -> 0 | AC15: =COUNTIFS(Planning!$4:$4, "Lundi", Planning!15:15, "AJF") -> 0 | AD15: =COUNTIFS(Planning!$4:$4, "Mardi", Planning!15:15, "AJF") -> 0 | AE15: =COUNTIFS(Planning!$4:$4, "Mercredi", Planning!15:15, "AJF") -> 0 | AF15: =COUNTIFS(Planning!$4:$4, "Jeudi", Planning!15:15, "AJF") -> 0 | AG15: =COUNTIFS(Planning!$4:$4, "Vendredi", Planning!15:15, "AJF") -> 0 | AH15: =COUNTIFS(Planning!$4:$4, "Samedi", Planning!15:15, "AJF") -> 0 | AI15: =COUNTIFS(Planning!$4:$4, "Dimanche", Planning!15:15, "AJF") -> 0 | AJ15: =SUM(AC15:AI15) -> 0 | AK15: =COUNTIFS(Planning!$4:$4, "Lundi", Planning!15:15, "B2") -> 0 | AL15: =COUNTIFS(Planning!$4:$4, "Mardi", Planning!15:15, "B2") -> 0 | AM15: =COUNTIFS(Planning!$4:$4, "Mercredi", Planning!15:15, "B2") -> 0 | AN15: =COUNTIFS(Planning!$4:$4, "Jeudi", Planning!15:15, "B2") -> 0 | AO15: =COUNTIFS(Planning!$4:$4, "Vendredi", Planning!15:15, "B2") -> 0 | AP15: =COUNTIFS(Planning!$4:$4, "Samedi", Planning!15:15, "B2") -> 0 | AQ15: =COUNTIFS(Planning!$4:$4, "Dimanche", Planning!15:15, "B2") -> 0 | AR15: =SUM(AK15:AQ15) -> 0 | AS15: =COUNTIFS(Planning!$4:$4, "Lundi", Planning!15:15, "RTT") -> 0 | AT15: =COUNTIFS(Planning!$4:$4, "Mardi", Planning!15:15, "RTT") -> 0 | AU15: =COUNTIFS(Planning!$4:$4, "Mercredi", Planning!15:15, "RTT") -> 0 | AV15: =COUNTIFS(Planning!$4:$4, "Jeudi", Planning!15:15, "RTT") -> 0 | AW15: =COUNTIFS(Planning!$4:$4, "Vendredi", Planning!15:15, "RTT") -> 0 | AX15: =COUNTIFS(Planning!$4:$4, "Samedi", Planning!15:15, "RTT") -> 0 | AY15: =COUNTIFS(Planning!$4:$4, "Dimanche", Planning!15:15, "RTT") -> 0 | AZ15: =SUM(AS15:AY15) -> 0 | BA15: =COUNTIFS(Planning!$4:$4, "Lundi", Planning!15:15, "CA") -> 0 | BB15: =COUNTIFS(Planning!$4:$4, "Mardi", Planning!15:15, "CA") -> 0 | BC15: =COUNTIFS(Planning!$4:$4, "Mercredi", Planning!15:15, "CA") -> 0 | BD15: =COUNTIFS(Planning!$4:$4, "Jeudi", Planning!15:15, "CA") -> 0 | BE15: =COUNTIFS(Planning!$4:$4, "Vendredi", Planning!15:15, "CA") -> 0 | BF15: =SUM(BA15:BE15) -> 0 | BG15: =COUNTIFS(Planning!$4:$4, "Lundi", Planning!15:15, "FC") -> 0 | BH15: =COUNTIFS(Planning!$4:$4, "Mardi", Planning!15:15, "FC") -> 0 | BI15: =COUNTIFS(Planning!$4:$4, "Mercredi", Planning!15:15, "FC") -> 0 | BJ15: =COUNTIFS(Planning!$4:$4, "Jeudi", Planning!15:15, "FC") -> 0 | BK15: =COUNTIFS(Planning!$4:$4, "Vendredi", Planning!15:15, "FC") -> 0 | BL15: =COUNTIFS(Planning!$4:$4, "Samedi", Planning!15:15, "FC") -> 0 | BM15: =COUNTIFS(Planning!$4:$4, "Dimanche", Planning!15:15, "FC") -> 0 | BN15: =SUM(BG15:BM15) -> 0
A16: =Planning!A16 -> Agent 11 | B16: =COUNTIFS(Planning!$4:$4,B$5, Planning!16:16,$B$4) -> 0 | C16: =COUNTIFS(Planning!$4:$4,C$5, Planning!16:16,$B$4) -> 0 | D16: =COUNTIFS(Planning!$4:$4,D$5, Planning!16:16,$B$4) -> 0 | E16: =COUNTIFS(Planning!$4:$4,E$5, Planning!16:16,$B$4) -> 0 | F16: =COUNTIFS(Planning!$4:$4,F$5, Planning!16:16,$B$4) -> 0 | G16: =COUNTIFS(Planning!$4:$4,G$5, Planning!16:16,$B$4) -> 0 | H16: =COUNTIFS(Planning!$4:$4,H$5, Planning!16:16,$B$4) -> 0 | I16: =SUM(B16:G16) -> 0 | M16: =COUNTIFS(Planning!$4:$4, "Dimanche", Planning!16:16, "ARH") -> 0 | N16: =COUNTIFS(Planning!$4:$4, "Lundi", Planning!16:16, "AB1") -> 0 | O16: =COUNTIFS(Planning!$4:$4, "Mardi", Planning!16:16, "AB1") -> 0 | P16: =COUNTIFS(Planning!$4:$4, "Mercredi", Planning!16:16, "AB1") -> 0 | Q16: =COUNTIFS(Planning!$4:$4, "Jeudi", Planning!16:16, "AB1") -> 0 | R16: =COUNTIFS(Planning!$4:$4, "Vendredi", Planning!16:16, "AB1") -> 0 | S16: =COUNTIFS(Planning!$4:$4, "Samedi", Planning!16:16, "AB1") -> 0 | T16: =COUNTIFS(Planning!$4:$4, "Dimanche", Planning!16:16, "AB1") -> 0 | U16: =SUM(N16:T16) -> 0 | V16: =COUNTIFS(Planning!$4:$4, "Lundi", Planning!16:16, "AB3") -> 0 | W16: =COUNTIFS(Planning!$4:$4, "Mardi", Planning!16:16, "AB3") -> 0 | X16: =COUNTIFS(Planning!$4:$4, "Mercredi", Planning!16:16, "AB3") -> 0 | Y16: =COUNTIFS(Planning!$4:$4, "Jeudi", Planning!16:16, "AB3") -> 0 | Z16: =COUNTIFS(Planning!$4:$4, "Vendredi", Planning!16:16, "AB3") -> 0 | AA16: =COUNTIFS(Planning!$4:$4, "Samedi", Planning!16:16, "AB3") -> 0 | AB16: =SUM(V16:AA16) -> 0 | AC16: =COUNTIFS(Planning!$4:$4, "Lundi", Planning!16:16, "AJF") -> 0 | AD16: =COUNTIFS(Planning!$4:$4, "Mardi", Planning!16:16, "AJF") -> 0 | AE16: =COUNTIFS(Planning!$4:$4, "Mercredi", Planning!16:16, "AJF") -> 0 | AF16: =COUNTIFS(Planning!$4:$4, "Jeudi", Planning!16:16, "AJF") -> 0 | AG16: =COUNTIFS(Planning!$4:$4, "Vendredi", Planning!16:16, "AJF") -> 0 | AH16: =COUNTIFS(Planning!$4:$4, "Samedi", Planning!16:16, "AJF") -> 0 | AI16: =COUNTIFS(Planning!$4:$4, "Dimanche", Planning!16:16, "AJF") -> 0 | AJ16: =SUM(AC16:AI16) -> 0 | AK16: =COUNTIFS(Planning!$4:$4, "Lundi", Planning!16:16, "B2") -> 0 | AL16: =COUNTIFS(Planning!$4:$4, "Mardi", Planning!16:16, "B2") -> 0 | AM16: =COUNTIFS(Planning!$4:$4, "Mercredi", Planning!16:16, "B2") -> 0 | AN16: =COUNTIFS(Planning!$4:$4, "Jeudi", Planning!16:16, "B2") -> 0 | AO16: =COUNTIFS(Planning!$4:$4, "Vendredi", Planning!16:16, "B2") -> 0 | AP16: =COUNTIFS(Planning!$4:$4, "Samedi", Planning!16:16, "B2") -> 0 | AQ16: =COUNTIFS(Planning!$4:$4, "Dimanche", Planning!16:16, "B2") -> 0 | AR16: =SUM(AK16:AQ16) -> 0 | AS16: =COUNTIFS(Planning!$4:$4, "Lundi", Planning!16:16, "RTT") -> 0 | AT16: =COUNTIFS(Planning!$4:$4, "Mardi", Planning!16:16, "RTT") -> 0 | AU16: =COUNTIFS(Planning!$4:$4, "Mercredi", Planning!16:16, "RTT") -> 0 | AV16: =COUNTIFS(Planning!$4:$4, "Jeudi", Planning!16:16, "RTT") -> 0 | AW16: =COUNTIFS(Planning!$4:$4, "Vendredi", Planning!16:16, "RTT") -> 0 | AX16: =COUNTIFS(Planning!$4:$4, "Samedi", Planning!16:16, "RTT") -> 0 | AY16: =COUNTIFS(Planning!$4:$4, "Dimanche", Planning!16:16, "RTT") -> 0 | AZ16: =SUM(AS16:AY16) -> 0 | BA16: =COUNTIFS(Planning!$4:$4, "Lundi", Planning!16:16, "CA") -> 0 | BB16: =COUNTIFS(Planning!$4:$4, "Mardi", Planning!16:16, "CA") -> 0 | BC16: =COUNTIFS(Planning!$4:$4, "Mercredi", Planning!16:16, "CA") -> 0 | BD16: =COUNTIFS(Planning!$4:$4, "Jeudi", Planning!16:16, "CA") -> 0 | BE16: =COUNTIFS(Planning!$4:$4, "Vendredi", Planning!16:16, "CA") -> 0 | BF16: =SUM(BA16:BE16) -> 0 | BG16: =COUNTIFS(Planning!$4:$4, "Lundi", Planning!16:16, "FC") -> 0 | BH16: =COUNTIFS(Planning!$4:$4, "Mardi", Planning!16:16, "FC") -> 0 | BI16: =COUNTIFS(Planning!$4:$4, "Mercredi", Planning!16:16, "FC") -> 0 | BJ16: =COUNTIFS(Planning!$4:$4, "Jeudi", Planning!16:16, "FC") -> 0 | BK16: =COUNTIFS(Planning!$4:$4, "Vendredi", Planning!16:16, "FC") -> 0 | BL16: =COUNTIFS(Planning!$4:$4, "Samedi", Planning!16:16, "FC") -> 0 | BM16: =COUNTIFS(Planning!$4:$4, "Dimanche", Planning!16:16, "FC") -> 0 | BN16: =SUM(BG16:BM16) -> 0
A17: =Planning!A17 -> Agent 12 | B17: =COUNTIFS(Planning!$4:$4,B$5, Planning!17:17,$B$4) -> 0 | C17: =COUNTIFS(Planning!$4:$4,C$5, Planning!17:17,$B$4) -> 0 | D17: =COUNTIFS(Planning!$4:$4,D$5, Planning!17:17,$B$4) -> 0 | E17: =COUNTIFS(Planning!$4:$4,E$5, Planning!17:17,$B$4) -> 0 | F17: =COUNTIFS(Planning!$4:$4,F$5, Planning!17:17,$B$4) -> 0 | G17: =COUNTIFS(Planning!$4:$4,G$5, Planning!17:17,$B$4) -> 0 | H17: =COUNTIFS(Planning!$4:$4,H$5, Planning!17:17,$B$4) -> 0 | I17: =SUM(B17:G17) -> 0 | M17: =COUNTIFS(Planning!$4:$4, "Dimanche", Planning!17:17, "ARH") -> 0 | N17: =COUNTIFS(Planning!$4:$4, "Lundi", Planning!17:17, "AB1") -> 0 | O17: =COUNTIFS(Planning!$4:$4, "Mardi", Planning!17:17, "AB1") -> 0 | P17: =COUNTIFS(Planning!$4:$4, "Mercredi", Planning!17:17, "AB1") -> 0 | Q17: =COUNTIFS(Planning!$4:$4, "Jeudi", Planning!17:17, "AB1") -> 0 | R17: =COUNTIFS(Planning!$4:$4, "Vendredi", Planning!17:17, "AB1") -> 0 | S17: =COUNTIFS(Planning!$4:$4, "Samedi", Planning!17:17, "AB1") -> 0 | T17: =COUNTIFS(Planning!$4:$4, "Dimanche", Planning!17:17, "AB1") -> 0 | U17: =SUM(N17:T17) -> 0 | V17: =COUNTIFS(Planning!$4:$4, "Lundi", Planning!17:17, "AB3") -> 0 | W17: =COUNTIFS(Planning!$4:$4, "Mardi", Planning!17:17, "AB3") -> 0 | X17: =COUNTIFS(Planning!$4:$4, "Mercredi", Planning!17:17, "AB3") -> 0 | Y17: =COUNTIFS(Planning!$4:$4, "Jeudi", Planning!17:17, "AB3") -> 0 | Z17: =COUNTIFS(Planning!$4:$4, "Vendredi", Planning!17:17, "AB3") -> 0 | AA17: =COUNTIFS(Planning!$4:$4, "Samedi", Planning!17:17, "AB3") -> 0 | AB17: =SUM(V17:AA17) -> 0 | AC17: =COUNTIFS(Planning!$4:$4, "Lundi", Planning!17:17, "AJF") -> 0 | AD17: =COUNTIFS(Planning!$4:$4, "Mardi", Planning!17:17, "AJF") -> 0 | AE17: =COUNTIFS(Planning!$4:$4, "Mercredi", Planning!17:17, "AJF") -> 0 | AF17: =COUNTIFS(Planning!$4:$4, "Jeudi", Planning!17:17, "AJF") -> 0 | AG17: =COUNTIFS(Planning!$4:$4, "Vendredi", Planning!17:17, "AJF") -> 0 | AH17: =COUNTIFS(Planning!$4:$4, "Samedi", Planning!17:17, "AJF") -> 0 | AI17: =COUNTIFS(Planning!$4:$4, "Dimanche", Planning!17:17, "AJF") -> 0 | AJ17: =SUM(AC17:AI17) -> 0 | AK17: =COUNTIFS(Planning!$4:$4, "Lundi", Planning!17:17, "B2") -> 0 | AL17: =COUNTIFS(Planning!$4:$4, "Mardi", Planning!17:17, "B2") -> 0 | AM17: =COUNTIFS(Planning!$4:$4, "Mercredi", Planning!17:17, "B2") -> 0 | AN17: =COUNTIFS(Planning!$4:$4, "Jeudi", Planning!17:17, "B2") -> 0 | AO17: =COUNTIFS(Planning!$4:$4, "Vendredi", Planning!17:17, "B2") -> 0 | AP17: =COUNTIFS(Planning!$4:$4, "Samedi", Planning!17:17, "B2") -> 0 | AQ17: =COUNTIFS(Planning!$4:$4, "Dimanche", Planning!17:17, "B2") -> 0 | AR17: =SUM(AK17:AQ17) -> 0 | AS17: =COUNTIFS(Planning!$4:$4, "Lundi", Planning!17:17, "RTT") -> 0 | AT17: =COUNTIFS(Planning!$4:$4, "Mardi", Planning!17:17, "RTT") -> 0 | AU17: =COUNTIFS(Planning!$4:$4, "Mercredi", Planning!17:17, "RTT") -> 0 | AV17: =COUNTIFS(Planning!$4:$4, "Jeudi", Planning!17:17, "RTT") -> 0 | AW17: =COUNTIFS(Planning!$4:$4, "Vendredi", Planning!17:17, "RTT") -> 0 | AX17: =COUNTIFS(Planning!$4:$4, "Samedi", Planning!17:17, "RTT") -> 0 | AY17: =COUNTIFS(Planning!$4:$4, "Dimanche", Planning!17:17, "RTT") -> 0 | AZ17: =SUM(AS17:AY17) -> 0 | BA17: =COUNTIFS(Planning!$4:$4, "Lundi", Planning!17:17, "CA") -> 0 | BB17: =COUNTIFS(Planning!$4:$4, "Mardi", Planning!17:17, "CA") -> 0 | BC17: =COUNTIFS(Planning!$4:$4, "Mercredi", Planning!17:17, "CA") -> 0 | BD17: =COUNTIFS(Planning!$4:$4, "Jeudi", Planning!17:17, "CA") -> 0 | BE17: =COUNTIFS(Planning!$4:$4, "Vendredi", Planning!17:17, "CA") -> 0 | BF17: =SUM(BA17:BE17) -> 0 | BG17: =COUNTIFS(Planning!$4:$4, "Lundi", Planning!17:17, "FC") -> 0 | BH17: =COUNTIFS(Planning!$4:$4, "Mardi", Planning!17:17, "FC") -> 0 | BI17: =COUNTIFS(Planning!$4:$4, "Mercredi", Planning!17:17, "FC") -> 0 | BJ17: =COUNTIFS(Planning!$4:$4, "Jeudi", Planning!17:17, "FC") -> 0 | BK17: =COUNTIFS(Planning!$4:$4, "Vendredi", Planning!17:17, "FC") -> 0 | BL17: =COUNTIFS(Planning!$4:$4, "Samedi", Planning!17:17, "FC") -> 0 | BM17: =COUNTIFS(Planning!$4:$4, "Dimanche", Planning!17:17, "FC") -> 0 | BN17: =SUM(BG17:BM17) -> 0
A18: =Planning!A18 -> Agent 13 | B18: =COUNTIFS(Planning!$4:$4,B$5, Planning!18:18,$B$4) -> 0 | C18: =COUNTIFS(Planning!$4:$4,C$5, Planning!18:18,$B$4) -> 0 | D18: =COUNTIFS(Planning!$4:$4,D$5, Planning!18:18,$B$4) -> 0 | E18: =COUNTIFS(Planning!$4:$4,E$5, Planning!18:18,$B$4) -> 0 | F18: =COUNTIFS(Planning!$4:$4,F$5, Planning!18:18,$B$4) -> 0 | G18: =COUNTIFS(Planning!$4:$4,G$5, Planning!18:18,$B$4) -> 0 | H18: =COUNTIFS(Planning!$4:$4,H$5, Planning!18:18,$B$4) -> 0 | I18: =SUM(B18:G18) -> 0 | M18: =COUNTIFS(Planning!$4:$4, "Dimanche", Planning!18:18, "ARH") -> 0 | N18: =COUNTIFS(Planning!$4:$4, "Lundi", Planning!18:18, "AB1") -> 0 | O18: =COUNTIFS(Planning!$4:$4, "Mardi", Planning!18:18, "AB1") -> 0 | P18: =COUNTIFS(Planning!$4:$4, "Mercredi", Planning!18:18, "AB1") -> 0 | Q18: =COUNTIFS(Planning!$4:$4, "Jeudi", Planning!18:18, "AB1") -> 0 | R18: =COUNTIFS(Planning!$4:$4, "Vendredi", Planning!18:18, "AB1") -> 0 | S18: =COUNTIFS(Planning!$4:$4, "Samedi", Planning!18:18, "AB1") -> 0 | T18: =COUNTIFS(Planning!$4:$4, "Dimanche", Planning!18:18, "AB1") -> 0 | U18: =SUM(N18:T18) -> 0 | V18: =COUNTIFS(Planning!$4:$4, "Lundi", Planning!18:18, "AB3") -> 0 | W18: =COUNTIFS(Planning!$4:$4, "Mardi", Planning!18:18, "AB3") -> 0 | X18: =COUNTIFS(Planning!$4:$4, "Mercredi", Planning!18:18, "AB3") -> 0 | Y18: =COUNTIFS(Planning!$4:$4, "Jeudi", Planning!18:18, "AB3") -> 0 | Z18: =COUNTIFS(Planning!$4:$4, "Vendredi", Planning!18:18, "AB3") -> 0 | AA18: =COUNTIFS(Planning!$4:$4, "Samedi", Planning!18:18, "AB3") -> 0 | AB18: =SUM(V18:AA18) -> 0 | AC18: =COUNTIFS(Planning!$4:$4, "Lundi", Planning!18:18, "AJF") -> 0 | AD18: =COUNTIFS(Planning!$4:$4, "Mardi", Planning!18:18, "AJF") -> 0 | AE18: =COUNTIFS(Planning!$4:$4, "Mercredi", Planning!18:18, "AJF") -> 0 | AF18: =COUNTIFS(Planning!$4:$4, "Jeudi", Planning!18:18, "AJF") -> 0 | AG18: =COUNTIFS(Planning!$4:$4, "Vendredi", Planning!18:18, "AJF") -> 0 | AH18: =COUNTIFS(Planning!$4:$4, "Samedi", Planning!18:18, "AJF") -> 0 | AI18: =COUNTIFS(Planning!$4:$4, "Dimanche", Planning!18:18, "AJF") -> 0 | AJ18: =SUM(AC18:AI18) -> 0 | AK18: =COUNTIFS(Planning!$4:$4, "Lundi", Planning!18:18, "B2") -> 0 | AL18: =COUNTIFS(Planning!$4:$4, "Mardi", Planning!18:18, "B2") -> 0 | AM18: =COUNTIFS(Planning!$4:$4, "Mercredi", Planning!18:18, "B2") -> 0 | AN18: =COUNTIFS(Planning!$4:$4, "Jeudi", Planning!18:18, "B2") -> 0 | AO18: =COUNTIFS(Planning!$4:$4, "Vendredi", Planning!18:18, "B2") -> 0 | AP18: =COUNTIFS(Planning!$4:$4, "Samedi", Planning!18:18, "B2") -> 0 | AQ18: =COUNTIFS(Planning!$4:$4, "Dimanche", Planning!18:18, "B2") -> 0 | AR18: =SUM(AK18:AQ18) -> 0 | AS18: =COUNTIFS(Planning!$4:$4, "Lundi", Planning!18:18, "RTT") -> 0 | AT18: =COUNTIFS(Planning!$4:$4, "Mardi", Planning!18:18, "RTT") -> 0 | AU18: =COUNTIFS(Planning!$4:$4, "Mercredi", Planning!18:18, "RTT") -> 0 | AV18: =COUNTIFS(Planning!$4:$4, "Jeudi", Planning!18:18, "RTT") -> 0 | AW18: =COUNTIFS(Planning!$4:$4, "Vendredi", Planning!18:18, "RTT") -> 0 | AX18: =COUNTIFS(Planning!$4:$4, "Samedi", Planning!18:18, "RTT") -> 0 | AY18: =COUNTIFS(Planning!$4:$4, "Dimanche", Planning!18:18, "RTT") -> 0 | AZ18: =SUM(AS18:AY18) -> 0 | BA18: =COUNTIFS(Planning!$4:$4, "Lundi", Planning!18:18, "CA") -> 0 | BB18: =COUNTIFS(Planning!$4:$4, "Mardi", Planning!18:18, "CA") -> 0 | BC18: =COUNTIFS(Planning!$4:$4, "Mercredi", Planning!18:18, "CA") -> 0 | BD18: =COUNTIFS(Planning!$4:$4, "Jeudi", Planning!18:18, "CA") -> 0 | BE18: =COUNTIFS(Planning!$4:$4, "Vendredi", Planning!18:18, "CA") -> 0 | BF18: =SUM(BA18:BE18) -> 0 | BG18: =COUNTIFS(Planning!$4:$4, "Lundi", Planning!18:18, "FC") -> 0 | BH18: =COUNTIFS(Planning!$4:$4, "Mardi", Planning!18:18, "FC") -> 0 | BI18: =COUNTIFS(Planning!$4:$4, "Mercredi", Planning!18:18, "FC") -> 0 | BJ18: =COUNTIFS(Planning!$4:$4, "Jeudi", Planning!18:18, "FC") -> 0 | BK18: =COUNTIFS(Planning!$4:$4, "Vendredi", Planning!18:18, "FC") -> 0 | BL18: =COUNTIFS(Planning!$4:$4, "Samedi", Planning!18:18, "FC") -> 0 | BM18: =COUNTIFS(Planning!$4:$4, "Dimanche", Planning!18:18, "FC") -> 0 | BN18: =SUM(BG18:BM18) -> 0
