Workbook

Sheet Feuil2
A1: EXEMPLE | B1: kcal à ne pas dépasser par jour | D1: 1500
B3: Lundi | D3: Mardi | F3: Mercredi | H3: Jeudi | J3: Vendredi | L3: Samedi | N3: Dimanche
B4: nom | C4: kcal | D4: nom | E4: kcal | F4: nom | G4: kcal | H4: nom | I4: kcal | J4: nom | K4: kcal | L4: nom | M4: kcal | N4: nom | O4: kcal
A5: Petits-déjeuners | B5: Café | C5: =IFERROR(VLOOKUP(B5,OFFSET(Feuil1!$A$2,,,COUNTA(Feuil1!$A:$A)-1,2),2,0),"") -> 0 | E5: =IFERROR(VLOOKUP(D5,OFFSET(Feuil1!$A$2,,,COUNTA(Feuil1!$A:$A)-1,2),2,0),"") | G5: =IFERROR(VLOOKUP(F5,OFFSET(Feuil1!$A$2,,,COUNTA(Feuil1!$A:$A)-1,2),2,0),"") | I5: =IFERROR(VLOOKUP(H5,OFFSET(Feuil1!$A$2,,,COUNTA(Feuil1!$A:$A)-1,2),2,0),"") | K5: =IFERROR(VLOOKUP(J5,OFFSET(Feuil1!$A$2,,,COUNTA(Feuil1!$A:$A)-1,2),2,0),"") | M5: =IFERROR(VLOOKUP(L5,OFFSET(Feuil1!$A$2,,,COUNTA(Feuil1!$A:$A)-1,2),2,0),"") | O5: =IFERROR(VLOOKUP(N5,OFFSET(Feuil1!$A$2,,,COUNTA(Feuil1!$A:$A)-1,2),2,0),"")
B6: Crêpes | C6: =IFERROR(VLOOKUP(B6,OFFSET(Feuil1!$A$2,,,COUNTA(Feuil1!$A:$A)-1,2),2,0),"") -> 100 | E6: =IFERROR(VLOOKUP(D6,OFFSET(Feuil1!$A$2,,,COUNTA(Feuil1!$A:$A)-1,2),2,0),"") | G6: =IFERROR(VLOOKUP(F6,OFFSET(Feuil1!$A$2,,,COUNTA(Feuil1!$A:$A)-1,2),2,0),"") | I6: =IFERROR(VLOOKUP(H6,OFFSET(Feuil1!$A$2,,,COUNTA(Feuil1!$A:$A)-1,2),2,0),"") | K6: =IFERROR(VLOOKUP(J6,OFFSET(Feuil1!$A$2,,,COUNTA(Feuil1!$A:$A)-1,2),2,0),"") | M6: =IFERROR(VLOOKUP(L6,OFFSET(Feuil1!$A$2,,,COUNTA(Feuil1!$A:$A)-1,2),2,0),"") | O6: =IFERROR(VLOOKUP(N6,OFFSET(Feuil1!$A$2,,,COUNTA(Feuil1!$A:$A)-1,2),2,0),"")
B7: 1 verre de jus de fruit | C7: =IFERROR(VLOOKUP(B7,OFFSET(Feuil1!$A$2,,,COUNTA(Feuil1!$A:$A)-1,2),2,0),"") -> 70 | E7: =IFERROR(VLOOKUP(D7,OFFSET(Feuil1!$A$2,,,COUNTA(Feuil1!$A:$A)-1,2),2,0),"") | G7: =IFERROR(VLOOKUP(F7,OFFSET(Feuil1!$A$2,,,COUNTA(Feuil1!$A:$A)-1,2),2,0),"") | I7: =IFERROR(VLOOKUP(H7,OFFSET(Feuil1!$A$2,,,COUNTA(Feuil1!$A:$A)-1,2),2,0),"") | K7: =IFERROR(VLOOKUP(J7,OFFSET(Feuil1!$A$2,,,COUNTA(Feuil1!$A:$A)-1,2),2,0),"") | M7: =IFERROR(VLOOKUP(L7,OFFSET(Feuil1!$A$2,,,COUNTA(Feuil1!$A:$A)-1,2),2,0),"") | O7: =IFERROR(VLOOKUP(N7,OFFSET(Feuil1!$A$2,,,COUNTA(Feuil1!$A:$A)-1,2),2,0),"")
C8: =IFERROR(VLOOKUP(B8,OFFSET(Feuil1!$A$2,,,COUNTA(Feuil1!$A:$A)-1,2),2,0),"") | E8: =IFERROR(VLOOKUP(D8,OFFSET(Feuil1!$A$2,,,COUNTA(Feuil1!$A:$A)-1,2),2,0),"") | G8: =IFERROR(VLOOKUP(F8,OFFSET(Feuil1!$A$2,,,COUNTA(Feuil1!$A:$A)-1,2),2,0),"") | I8: =IFERROR(VLOOKUP(H8,OFFSET(Feuil1!$A$2,,,COUNTA(Feuil1!$A:$A)-1,2),2,0),"") | K8: =IFERROR(VLOOKUP(J8,OFFSET(Feuil1!$A$2,,,COUNTA(Feuil1!$A:$A)-1,2),2,0),"") | M8: =IFERROR(VLOOKUP(L8,OFFSET(Feuil1!$A$2,,,COUNTA(Feuil1!$A:$A)-1,2),2,0),"") | O8: =IFERROR(VLOOKUP(N8,OFFSET(Feuil1!$A$2,,,COUNTA(Feuil1!$A:$A)-1,2),2,0),"")
C9: =IFERROR(VLOOKUP(B9,OFFSET(Feuil1!$A$2,,,COUNTA(Feuil1!$A:$A)-1,2),2,0),"") | E9: =IFERROR(VLOOKUP(D9,OFFSET(Feuil1!$A$2,,,COUNTA(Feuil1!$A:$A)-1,2),2,0),"") | G9: =IFERROR(VLOOKUP(F9,OFFSET(Feuil1!$A$2,,,COUNTA(Feuil1!$A:$A)-1,2),2,0),"") | I9: =IFERROR(VLOOKUP(H9,OFFSET(Feuil1!$A$2,,,COUNTA(Feuil1!$A:$A)-1,2),2,0),"") | K9: =IFERROR(VLOOKUP(J9,OFFSET(Feuil1!$A$2,,,COUNTA(Feuil1!$A:$A)-1,2),2,0),"") | M9: =IFERROR(VLOOKUP(L9,OFFSET(Feuil1!$A$2,,,COUNTA(Feuil1!$A:$A)-1,2),2,0),"") | O9: =IFERROR(VLOOKUP(N9,OFFSET(Feuil1!$A$2,,,COUNTA(Feuil1!$A:$A)-1,2),2,0),"")
A10: Déjeuner | B10: Blé au poulet | C10: =IFERROR(VLOOKUP(B10,OFFSET(Feuil1!$C$2,,,COUNTA(Feuil1!$C:$C)-1,2),2,0),"") -> 250 | E10: =IFERROR(VLOOKUP(D10,OFFSET(Feuil1!$C$2,,,COUNTA(Feuil1!$C:$C)-1,2),2,0),"") | G10: =IFERROR(VLOOKUP(F10,OFFSET(Feuil1!$C$2,,,COUNTA(Feuil1!$C:$C)-1,2),2,0),"") | I10: =IFERROR(VLOOKUP(H10,OFFSET(Feuil1!$C$2,,,COUNTA(Feuil1!$C:$C)-1,2),2,0),"") | K10: =IFERROR(VLOOKUP(J10,OFFSET(Feuil1!$C$2,,,COUNTA(Feuil1!$C:$C)-1,2),2,0),"") | M10: =IFERROR(VLOOKUP(L10,OFFSET(Feuil1!$C$2,,,COUNTA(Feuil1!$C:$C)-1,2),2,0),"") | O10: =IFERROR(VLOOKUP(N10,OFFSET(Feuil1!$C$2,,,COUNTA(Feuil1!$C:$C)-1,2),2,0),"")
C11: =IFERROR(VLOOKUP(B11,OFFSET(Feuil1!$C$2,,,COUNTA(Feuil1!$C:$C)-1,2),2,0),"") | E11: =IFERROR(VLOOKUP(D11,OFFSET(Feuil1!$C$2,,,COUNTA(Feuil1!$C:$C)-1,2),2,0),"") | G11: =IFERROR(VLOOKUP(F11,OFFSET(Feuil1!$C$2,,,COUNTA(Feuil1!$C:$C)-1,2),2,0),"") | I11: =IFERROR(VLOOKUP(H11,OFFSET(Feuil1!$C$2,,,COUNTA(Feuil1!$C:$C)-1,2),2,0),"") | K11: =IFERROR(VLOOKUP(J11,OFFSET(Feuil1!$C$2,,,COUNTA(Feuil1!$C:$C)-1,2),2,0),"") | M11: =IFERROR(VLOOKUP(L11,OFFSET(Feuil1!$C$2,,,COUNTA(Feuil1!$C:$C)-1,2),2,0),"") | O11: =IFERROR(VLOOKUP(N11,OFFSET(Feuil1!$C$2,,,COUNTA(Feuil1!$C:$C)-1,2),2,0),"")
C12: =IFERROR(VLOOKUP(B12,OFFSET(Feuil1!$C$2,,,COUNTA(Feuil1!$C:$C)-1,2),2,0),"") | E12: =IFERROR(VLOOKUP(D12,OFFSET(Feuil1!$C$2,,,COUNTA(Feuil1!$C:$C)-1,2),2,0),"") | G12: =IFERROR(VLOOKUP(F12,OFFSET(Feuil1!$C$2,,,COUNTA(Feuil1!$C:$C)-1,2),2,0),"") | I12: =IFERROR(VLOOKUP(H12,OFFSET(Feuil1!$C$2,,,COUNTA(Feuil1!$C:$C)-1,2),2,0),"") | K12: =IFERROR(VLOOKUP(J12,OFFSET(Feuil1!$C$2,,,COUNTA(Feuil1!$C:$C)-1,2),2,0),"") | M12: =IFERROR(VLOOKUP(L12,OFFSET(Feuil1!$C$2,,,COUNTA(Feuil1!$C:$C)-1,2),2,0),"") | O12: =IFERROR(VLOOKUP(N12,OFFSET(Feuil1!$C$2,,,COUNTA(Feuil1!$C:$C)-1,2),2,0),"")
C13: =IFERROR(VLOOKUP(B13,OFFSET(Feuil1!$C$2,,,COUNTA(Feuil1!$C:$C)-1,2),2,0),"") | E13: =IFERROR(VLOOKUP(D13,OFFSET(Feuil1!$C$2,,,COUNTA(Feuil1!$C:$C)-1,2),2,0),"") | G13: =IFERROR(VLOOKUP(F13,OFFSET(Feuil1!$C$2,,,COUNTA(Feuil1!$C:$C)-1,2),2,0),"") | I13: =IFERROR(VLOOKUP(H13,OFFSET(Feuil1!$C$2,,,COUNTA(Feuil1!$C:$C)-1,2),2,0),"") | K13: =IFERROR(VLOOKUP(J13,OFFSET(Feuil1!$C$2,,,COUNTA(Feuil1!$C:$C)-1,2),2,0),"") | M13: =IFERROR(VLOOKUP(L13,OFFSET(Feuil1!$C$2,,,COUNTA(Feuil1!$C:$C)-1,2),2,0),"") | O13: =IFERROR(VLOOKUP(N13,OFFSET(Feuil1!$C$2,,,COUNTA(Feuil1!$C:$C)-1,2),2,0),"")
C14: =IFERROR(VLOOKUP(B14,OFFSET(Feuil1!$C$2,,,COUNTA(Feuil1!$C:$C)-1,2),2,0),"") | E14: =IFERROR(VLOOKUP(D14,OFFSET(Feuil1!$C$2,,,COUNTA(Feuil1!$C:$C)-1,2),2,0),"") | G14: =IFERROR(VLOOKUP(F14,OFFSET(Feuil1!$C$2,,,COUNTA(Feuil1!$C:$C)-1,2),2,0),"") | I14: =IFERROR(VLOOKUP(H14,OFFSET(Feuil1!$C$2,,,COUNTA(Feuil1!$C:$C)-1,2),2,0),"") | K14: =IFERROR(VLOOKUP(J14,OFFSET(Feuil1!$C$2,,,COUNTA(Feuil1!$C:$C)-1,2),2,0),"") | M14: =IFERROR(VLOOKUP(L14,OFFSET(Feuil1!$C$2,,,COUNTA(Feuil1!$C:$C)-1,2),2,0),"") | O14: =IFERROR(VLOOKUP(N14,OFFSET(Feuil1!$C$2,,,COUNTA(Feuil1!$C:$C)-1,2),2,0),"")
A15: Dessert | B15: Pomme | C15: =IFERROR(VLOOKUP(B15,OFFSET(Feuil1!$E$2,,,COUNTA(Feuil1!$E:$E)-1,2),2,0),"") -> 80 | E15: =IFERROR(VLOOKUP(D15,OFFSET(Feuil1!$E$2,,,COUNTA(Feuil1!$E:$E)-1,2),2,0),"") | G15: =IFERROR(VLOOKUP(F15,OFFSET(Feuil1!$E$2,,,COUNTA(Feuil1!$E:$E)-1,2),2,0),"") | I15: =IFERROR(VLOOKUP(H15,OFFSET(Feuil1!$E$2,,,COUNTA(Feuil1!$E:$E)-1,2),2,0),"") | K15: =IFERROR(VLOOKUP(J15,OFFSET(Feuil1!$E$2,,,COUNTA(Feuil1!$E:$E)-1,2),2,0),"") | M15: =IFERROR(VLOOKUP(L15,OFFSET(Feuil1!$E$2,,,COUNTA(Feuil1!$E:$E)-1,2),2,0),"") | O15: =IFERROR(VLOOKUP(N15,OFFSET(Feuil1!$E$2,,,COUNTA(Feuil1!$E:$E)-1,2),2,0),"")
C16: =IFERROR(VLOOKUP(B16,OFFSET(Feuil1!$E$2,,,COUNTA(Feuil1!$E:$E)-1,2),2,0),"") | E16: =IFERROR(VLOOKUP(D16,OFFSET(Feuil1!$E$2,,,COUNTA(Feuil1!$E:$E)-1,2),2,0),"") | G16: =IFERROR(VLOOKUP(F16,OFFSET(Feuil1!$E$2,,,COUNTA(Feuil1!$E:$E)-1,2),2,0),"") | I16: =IFERROR(VLOOKUP(H16,OFFSET(Feuil1!$E$2,,,COUNTA(Feuil1!$E:$E)-1,2),2,0),"") | K16: =IFERROR(VLOOKUP(J16,OFFSET(Feuil1!$E$2,,,COUNTA(Feuil1!$E:$E)-1,2),2,0),"") | M16: =IFERROR(VLOOKUP(L16,OFFSET(Feuil1!$E$2,,,COUNTA(Feuil1!$E:$E)-1,2),2,0),"") | O16: =IFERROR(VLOOKUP(N16,OFFSET(Feuil1!$E$2,,,COUNTA(Feuil1!$E:$E)-1,2),2,0),"")
C17: =IFERROR(VLOOKUP(B17,OFFSET(Feuil1!$E$2,,,COUNTA(Feuil1!$E:$E)-1,2),2,0),"") | E17: =IFERROR(VLOOKUP(D17,OFFSET(Feuil1!$E$2,,,COUNTA(Feuil1!$E:$E)-1,2),2,0),"") | G17: =IFERROR(VLOOKUP(F17,OFFSET(Feuil1!$E$2,,,COUNTA(Feuil1!$E:$E)-1,2),2,0),"") | I17: =IFERROR(VLOOKUP(H17,OFFSET(Feuil1!$E$2,,,COUNTA(Feuil1!$E:$E)-1,2),2,0),"") | K17: =IFERROR(VLOOKUP(J17,OFFSET(Feuil1!$E$2,,,COUNTA(Feuil1!$E:$E)-1,2),2,0),"") | M17: =IFERROR(VLOOKUP(L17,OFFSET(Feuil1!$E$2,,,COUNTA(Feuil1!$E:$E)-1,2),2,0),"") | O17: =IFERROR(VLOOKUP(N17,OFFSET(Feuil1!$E$2,,,COUNTA(Feuil1!$E:$E)-1,2),2,0),"")
C18: =IFERROR(VLOOKUP(B18,OFFSET(Feuil1!$E$2,,,COUNTA(Feuil1!$E:$E)-1,2),2,0),"") | E18: =IFERROR(VLOOKUP(D18,OFFSET(Feuil1!$E$2,,,COUNTA(Feuil1!$E:$E)-1,2),2,0),"") | G18: =IFERROR(VLOOKUP(F18,OFFSET(Feuil1!$E$2,,,COUNTA(Feuil1!$E:$E)-1,2),2,0),"") | I18: =IFERROR(VLOOKUP(H18,OFFSET(Feuil1!$E$2,,,COUNTA(Feuil1!$E:$E)-1,2),2,0),"") | K18: =IFERROR(VLOOKUP(J18,OFFSET(Feuil1!$E$2,,,COUNTA(Feuil1!$E:$E)-1,2),2,0),"") | M18: =IFERROR(VLOOKUP(L18,OFFSET(Feuil1!$E$2,,,COUNTA(Feuil1!$E:$E)-1,2),2,0),"") | O18: =IFERROR(VLOOKUP(N18,OFFSET(Feuil1!$E$2,,,COUNTA(Feuil1!$E:$E)-1,2),2,0),"")
C19: =IFERROR(VLOOKUP(B19,OFFSET(Feuil1!$E$2,,,COUNTA(Feuil1!$E:$E)-1,2),2,0),"") | E19: =IFERROR(VLOOKUP(D19,OFFSET(Feuil1!$E$2,,,COUNTA(Feuil1!$E:$E)-1,2),2,0),"") | G19: =IFERROR(VLOOKUP(F19,OFFSET(Feuil1!$E$2,,,COUNTA(Feuil1!$E:$E)-1,2),2,0),"") | I19: =IFERROR(VLOOKUP(H19,OFFSET(Feuil1!$E$2,,,COUNTA(Feuil1!$E:$E)-1,2),2,0),"") | K19: =IFERROR(VLOOKUP(J19,OFFSET(Feuil1!$E$2,,,COUNTA(Feuil1!$E:$E)-1,2),2,0),"") | M19: =IFERROR(VLOOKUP(L19,OFFSET(Feuil1!$E$2,,,COUNTA(Feuil1!$E:$E)-1,2),2,0),"") | O19: =IFERROR(VLOOKUP(N19,OFFSET(Feuil1!$E$2,,,COUNTA(Feuil1!$E:$E)-1,2),2,0),"")
A20: Collation | B20: Brioche et 10g de beurre | C20: =IFERROR(VLOOKUP(B20,OFFSET(Feuil1!$A$2,,,COUNTA(Feuil1!$A:$A)-1,2),2,0),"") -> 240 | E20: =IFERROR(VLOOKUP(D20,OFFSET(Feuil1!$A$2,,,COUNTA(Feuil1!$A:$A)-1,2),2,0),"") | G20: =IFERROR(VLOOKUP(F20,OFFSET(Feuil1!$A$2,,,COUNTA(Feuil1!$A:$A)-1,2),2,0),"") | I20: =IFERROR(VLOOKUP(H20,OFFSET(Feuil1!$A$2,,,COUNTA(Feuil1!$A:$A)-1,2),2,0),"") | K20: =IFERROR(VLOOKUP(J20,OFFSET(Feuil1!$A$2,,,COUNTA(Feuil1!$A:$A)-1,2),2,0),"") | M20: =IFERROR(VLOOKUP(L20,OFFSET(Feuil1!$A$2,,,COUNTA(Feuil1!$A:$A)-1,2),2,0),"") | O20: =IFERROR(VLOOKUP(N20,OFFSET(Feuil1!$A$2,,,COUNTA(Feuil1!$A:$A)-1,2),2,0),"")
C21: =IFERROR(VLOOKUP(B21,OFFSET(Feuil1!$A$2,,,COUNTA(Feuil1!$A:$A)-1,2),2,0),"") | E21: =IFERROR(VLOOKUP(D21,OFFSET(Feuil1!$A$2,,,COUNTA(Feuil1!$A:$A)-1,2),2,0),"") | G21: =IFERROR(VLOOKUP(F21,OFFSET(Feuil1!$A$2,,,COUNTA(Feuil1!$A:$A)-1,2),2,0),"") | I21: =IFERROR(VLOOKUP(H21,OFFSET(Feuil1!$A$2,,,COUNTA(Feuil1!$A:$A)-1,2),2,0),"") | K21: =IFERROR(VLOOKUP(J21,OFFSET(Feuil1!$A$2,,,COUNTA(Feuil1!$A:$A)-1,2),2,0),"") | M21: =IFERROR(VLOOKUP(L21,OFFSET(Feuil1!$A$2,,,COUNTA(Feuil1!$A:$A)-1,2),2,0),"") | O21: =IFERROR(VLOOKUP(N21,OFFSET(Feuil1!$A$2,,,COUNTA(Feuil1!$A:$A)-1,2),2,0),"")
C22: =IFERROR(VLOOKUP(B22,OFFSET(Feuil1!$A$2,,,COUNTA(Feuil1!$A:$A)-1,2),2,0),"") | E22: =IFERROR(VLOOKUP(D22,OFFSET(Feuil1!$A$2,,,COUNTA(Feuil1!$A:$A)-1,2),2,0),"") | G22: =IFERROR(VLOOKUP(F22,OFFSET(Feuil1!$A$2,,,COUNTA(Feuil1!$A:$A)-1,2),2,0),"") | I22: =IFERROR(VLOOKUP(H22,OFFSET(Feuil1!$A$2,,,COUNTA(Feuil1!$A:$A)-1,2),2,0),"") | K22: =IFERROR(VLOOKUP(J22,OFFSET(Feuil1!$A$2,,,COUNTA(Feuil1!$A:$A)-1,2),2,0),"") | M22: =IFERROR(VLOOKUP(L22,OFFSET(Feuil1!$A$2,,,COUNTA(Feuil1!$A:$A)-1,2),2,0),"") | O22: =IFERROR(VLOOKUP(N22,OFFSET(Feuil1!$A$2,,,COUNTA(Feuil1!$A:$A)-1,2),2,0),"")
C23: =IFERROR(VLOOKUP(B23,OFFSET(Feuil1!$A$2,,,COUNTA(Feuil1!$A:$A)-1,2),2,0),"") | E23: =IFERROR(VLOOKUP(D23,OFFSET(Feuil1!$A$2,,,COUNTA(Feuil1!$A:$A)-1,2),2,0),"") | G23: =IFERROR(VLOOKUP(F23,OFFSET(Feuil1!$A$2,,,COUNTA(Feuil1!$A:$A)-1,2),2,0),"") | I23: =IFERROR(VLOOKUP(H23,OFFSET(Feuil1!$A$2,,,COUNTA(Feuil1!$A:$A)-1,2),2,0),"") | K23: =IFERROR(VLOOKUP(J23,OFFSET(Feuil1!$A$2,,,COUNTA(Feuil1!$A:$A)-1,2),2,0),"") | M23: =IFERROR(VLOOKUP(L23,OFFSET(Feuil1!$A$2,,,COUNTA(Feuil1!$A:$A)-1,2),2,0),"") | O23: =IFERROR(VLOOKUP(N23,OFFSET(Feuil1!$A$2,,,COUNTA(Feuil1!$A:$A)-1,2),2,0),"")
C24: =IFERROR(VLOOKUP(B24,OFFSET(Feuil1!$A$2,,,COUNTA(Feuil1!$A:$A)-1,2),2,0),"") | E24: =IFERROR(VLOOKUP(D24,OFFSET(Feuil1!$A$2,,,COUNTA(Feuil1!$A:$A)-1,2),2,0),"") | G24: =IFERROR(VLOOKUP(F24,OFFSET(Feuil1!$A$2,,,COUNTA(Feuil1!$A:$A)-1,2),2,0),"") | I24: =IFERROR(VLOOKUP(H24,OFFSET(Feuil1!$A$2,,,COUNTA(Feuil1!$A:$A)-1,2),2,0),"") | K24: =IFERROR(VLOOKUP(J24,OFFSET(Feuil1!$A$2,,,COUNTA(Feuil1!$A:$A)-1,2),2,0),"") | M24: =IFERROR(VLOOKUP(L24,OFFSET(Feuil1!$A$2,,,COUNTA(Feuil1!$A:$A)-1,2),2,0),"") | O24: =IFERROR(VLOOKUP(N24,OFFSET(Feuil1!$A$2,,,COUNTA(Feuil1!$A:$A)-1,2),2,0),"")
A25: Diner | B25: Quiche et carotte rapée | C25: =IFERROR(VLOOKUP(B25,OFFSET(Feuil1!$C$2,,,COUNTA(Feuil1!$C:$C)-1,4),2,0),"") -> 300 | E25: =IFERROR(VLOOKUP(D25,OFFSET(Feuil1!$C$2,,,COUNTA(Feuil1!$C:$C)-1,4),2,0),"") | G25: =IFERROR(VLOOKUP(F25,OFFSET(Feuil1!$C$2,,,COUNTA(Feuil1!$C:$C)-1,4),2,0),"") | I25: =IFERROR(VLOOKUP(H25,OFFSET(Feuil1!$C$2,,,COUNTA(Feuil1!$C:$C)-1,4),2,0),"") | K25: =IFERROR(VLOOKUP(J25,OFFSET(Feuil1!$C$2,,,COUNTA(Feuil1!$C:$C)-1,4),2,0),"") | M25: =IFERROR(VLOOKUP(L25,OFFSET(Feuil1!$C$2,,,COUNTA(Feuil1!$C:$C)-1,4),2,0),"") | O25: =IFERROR(VLOOKUP(N25,OFFSET(Feuil1!$C$2,,,COUNTA(Feuil1!$C:$C)-1,4),2,0),"")
C26: =IFERROR(VLOOKUP(B26,OFFSET(Feuil1!$C$2,,,COUNTA(Feuil1!$C:$C)-1,4),2,0),"") | E26: =IFERROR(VLOOKUP(D26,OFFSET(Feuil1!$C$2,,,COUNTA(Feuil1!$C:$C)-1,4),2,0),"") | G26: =IFERROR(VLOOKUP(F26,OFFSET(Feuil1!$C$2,,,COUNTA(Feuil1!$C:$C)-1,4),2,0),"") | I26: =IFERROR(VLOOKUP(H26,OFFSET(Feuil1!$C$2,,,COUNTA(Feuil1!$C:$C)-1,4),2,0),"") | K26: =IFERROR(VLOOKUP(J26,OFFSET(Feuil1!$C$2,,,COUNTA(Feuil1!$C:$C)-1,4),2,0),"") | M26: =IFERROR(VLOOKUP(L26,OFFSET(Feuil1!$C$2,,,COUNTA(Feuil1!$C:$C)-1,4),2,0),"") | O26: =IFERROR(VLOOKUP(N26,OFFSET(Feuil1!$C$2,,,COUNTA(Feuil1!$C:$C)-1,4),2,0),"")
C27: =IFERROR(VLOOKUP(B27,OFFSET(Feuil1!$C$2,,,COUNTA(Feuil1!$C:$C)-1,4),2,0),"") | E27: =IFERROR(VLOOKUP(D27,OFFSET(Feuil1!$C$2,,,COUNTA(Feuil1!$C:$C)-1,4),2,0),"") | G27: =IFERROR(VLOOKUP(F27,OFFSET(Feuil1!$C$2,,,COUNTA(Feuil1!$C:$C)-1,4),2,0),"") | I27: =IFERROR(VLOOKUP(H27,OFFSET(Feuil1!$C$2,,,COUNTA(Feuil1!$C:$C)-1,4),2,0),"") | K27: =IFERROR(VLOOKUP(J27,OFFSET(Feuil1!$C$2,,,COUNTA(Feuil1!$C:$C)-1,4),2,0),"") | M27: =IFERROR(VLOOKUP(L27,OFFSET(Feuil1!$C$2,,,COUNTA(Feuil1!$C:$C)-1,4),2,0),"") | O27: =IFERROR(VLOOKUP(N27,OFFSET(Feuil1!$C$2,,,COUNTA(Feuil1!$C:$C)-1,4),2,0),"")
C28: =IFERROR(VLOOKUP(B28,OFFSET(Feuil1!$C$2,,,COUNTA(Feuil1!$C:$C)-1,4),2,0),"") | E28: =IFERROR(VLOOKUP(D28,OFFSET(Feuil1!$C$2,,,COUNTA(Feuil1!$C:$C)-1,4),2,0),"") | G28: =IFERROR(VLOOKUP(F28,OFFSET(Feuil1!$C$2,,,COUNTA(Feuil1!$C:$C)-1,4),2,0),"") | I28: =IFERROR(VLOOKUP(H28,OFFSET(Feuil1!$C$2,,,COUNTA(Feuil1!$C:$C)-1,4),2,0),"") | K28: =IFERROR(VLOOKUP(J28,OFFSET(Feuil1!$C$2,,,COUNTA(Feuil1!$C:$C)-1,4),2,0),"") | M28: =IFERROR(VLOOKUP(L28,OFFSET(Feuil1!$C$2,,,COUNTA(Feuil1!$C:$C)-1,4),2,0),"") | O28: =IFERROR(VLOOKUP(N28,OFFSET(Feuil1!$C$2,,,COUNTA(Feuil1!$C:$C)-1,4),2,0),"")
C29: =IFERROR(VLOOKUP(B29,OFFSET(Feuil1!$C$2,,,COUNTA(Feuil1!$C:$C)-1,4),2,0),"") | E29: =IFERROR(VLOOKUP(D29,OFFSET(Feuil1!$C$2,,,COUNTA(Feuil1!$C:$C)-1,4),2,0),"") | G29: =IFERROR(VLOOKUP(F29,OFFSET(Feuil1!$C$2,,,COUNTA(Feuil1!$C:$C)-1,4),2,0),"") | I29: =IFERROR(VLOOKUP(H29,OFFSET(Feuil1!$C$2,,,COUNTA(Feuil1!$C:$C)-1,4),2,0),"") | K29: =IFERROR(VLOOKUP(J29,OFFSET(Feuil1!$C$2,,,COUNTA(Feuil1!$C:$C)-1,4),2,0),"") | M29: =IFERROR(VLOOKUP(L29,OFFSET(Feuil1!$C$2,,,COUNTA(Feuil1!$C:$C)-1,4),2,0),"") | O29: =IFERROR(VLOOKUP(N29,OFFSET(Feuil1!$C$2,,,COUNTA(Feuil1!$C:$C)-1,4),2,0),"")
C30: =IFERROR(VLOOKUP(B30,OFFSET(Feuil1!$C$2,,,COUNTA(Feuil1!$C:$C)-1,4),2,0),"") | E30: =IFERROR(VLOOKUP(D30,OFFSET(Feuil1!$C$2,,,COUNTA(Feuil1!$C:$C)-1,4),2,0),"") | G30: =IFERROR(VLOOKUP(F30,OFFSET(Feuil1!$C$2,,,COUNTA(Feuil1!$C:$C)-1,4),2,0),"") | I30: =IFERROR(VLOOKUP(H30,OFFSET(Feuil1!$C$2,,,COUNTA(Feuil1!$C:$C)-1,4),2,0),"") | K30: =IFERROR(VLOOKUP(J30,OFFSET(Feuil1!$C$2,,,COUNTA(Feuil1!$C:$C)-1,4),2,0),"") | M30: =IFERROR(VLOOKUP(L30,OFFSET(Feuil1!$C$2,,,COUNTA(Feuil1!$C:$C)-1,4),2,0),"") | O30: =IFERROR(VLOOKUP(N30,OFFSET(Feuil1!$C$2,,,COUNTA(Feuil1!$C:$C)-1,4),2,0),"")
C31: =IFERROR(VLOOKUP(B31,OFFSET(Feuil1!$C$2,,,COUNTA(Feuil1!$C:$C)-1,4),2,0),"") | E31: =IFERROR(VLOOKUP(D31,OFFSET(Feuil1!$C$2,,,COUNTA(Feuil1!$C:$C)-1,4),2,0),"") | G31: =IFERROR(VLOOKUP(F31,OFFSET(Feuil1!$C$2,,,COUNTA(Feuil1!$C:$C)-1,4),2,0),"") | I31: =IFERROR(VLOOKUP(H31,OFFSET(Feuil1!$C$2,,,COUNTA(Feuil1!$C:$C)-1,4),2,0),"") | K31: =IFERROR(VLOOKUP(J31,OFFSET(Feuil1!$C$2,,,COUNTA(Feuil1!$C:$C)-1,4),2,0),"") | M31: =IFERROR(VLOOKUP(L31,OFFSET(Feuil1!$C$2,,,COUNTA(Feuil1!$C:$C)-1,4),2,0),"") | O31: =IFERROR(VLOOKUP(N31,OFFSET(Feuil1!$C$2,,,COUNTA(Feuil1!$C:$C)-1,4),2,0),"")
C32: =IFERROR(VLOOKUP(B32,OFFSET(Feuil1!$C$2,,,COUNTA(Feuil1!$C:$C)-1,4),2,0),"") | E32: =IFERROR(VLOOKUP(D32,OFFSET(Feuil1!$C$2,,,COUNTA(Feuil1!$C:$C)-1,4),2,0),"") | G32: =IFERROR(VLOOKUP(F32,OFFSET(Feuil1!$C$2,,,COUNTA(Feuil1!$C:$C)-1,4),2,0),"") | I32: =IFERROR(VLOOKUP(H32,OFFSET(Feuil1!$C$2,,,COUNTA(Feuil1!$C:$C)-1,4),2,0),"") | K32: =IFERROR(VLOOKUP(J32,OFFSET(Feuil1!$C$2,,,COUNTA(Feuil1!$C:$C)-1,4),2,0),"") | M32: =IFERROR(VLOOKUP(L32,OFFSET(Feuil1!$C$2,,,COUNTA(Feuil1!$C:$C)-1,4),2,0),"") | O32: =IFERROR(VLOOKUP(N32,OFFSET(Feuil1!$C$2,,,COUNTA(Feuil1!$C:$C)-1,4),2,0),"")
A33: TOTAL KCAL | C33: =SUM(C5:C32) -> 1040 | E33: =SUM(E5:E32) -> 0 | G33: =SUM(G5:G32) -> 0 | I33: =SUM(I5:I32) -> 0 | K33: =SUM(K5:K32) -> 0 | M33: =SUM(M5:M32) -> 0 | O33: =SUM(O5:O32) -> 0

Sheet Feuil1
A1: Petits-déjeuners | B1: kcal | C1: Plats | D1: kcal | E1: Desserts | F1: kcal
A2: Café | B2: 0 | C2: Salade de pâtes | D2: 230 | E2: 1 petit suisse | F2: 50
A3: Thé vert | B3: 0 | C3: Blé au poulet | D3: 250 | E3: 125g de fromage blanc | F3: 170
A4: Infusion | B4: 0 | C4: Salade de pommes de terre | D4: 200 | E4: Tarte pomme | F4: 170
A5: Crêpes | B5: 100 | C5: Steack haricot vert | D5: 210 | E5: Pomme | F5: 80
A6: Flocons d'avoine | B6: 50 | C6: Taboulé | D6: 230 | E6: Kiwi | F6: 60
A7: Brioche et 10g de beurre | B7: 240 | C7: Quiche et carotte rapée | D7: 300
A8: 1 verre de jus de fruit | B8: 70 | C8: Nouilles sautées au poulet | D8: 300
