Workbook
Name Poule_A: OFFSET(Equipes!$A$2,,,COUNTA(Equipes!$A:$A)-1)
Name Poule_B: OFFSET(Equipes!$C$2,,,COUNTA(Equipes!$C:$C)-1)

Sheet Equipes
A1: POULE A | C1: POULE B
A2: Equipe 1A | C2: Equipe 1B
A3: Equipe 2A | C3: Equipe 2B
A4: Equipe 3A | C4: Equipe 3B
A5: Equipe 4A | C5: Equipe 4B
A6: Equipe 5A | C6: Equipe 5B
A7: Equipe 6A | C7: Equipe 6B
A8: Equipe 7A | C8: Equipe 7B
A9: Equipe 8A | C9: Equipe 8B

Sheet Matchs de poule
A1: POULE A | H1: CLASSEMENT POULE A | U1: CLASSEMENT POULE A
A3: Terrain | B3: Heure | C3: EQUIPES | D3: Pts | E3: Pts | F3: EQUIPES | H3: EQUIPES | I3: Place | J3: Pts | K3: J | L3: G | M3: N | N3: P | O3: B + | P3: B - | Q3: Diff. | S3: R | U3: EQUIPES | V3: R | W3: Place | X3: Pts | Y3: J | Z3: G | AA3: N | AB3: P | AC3: B + | AD3: B - | AE3: Diff. | AF3: % | AG3: % | AH3: Pts | AI3: Pts | AJ3: J | AK3: J | AL3: G | AM3: G | AN3: N | AO3: N | AP3: P | AQ3: P | AR3: B + | AS3: B + | AT3: B - | AU3: B - | AV3: EQUIPES | AW3: % | AX3: R | AY3: EQUIPES
C4: =U4 -> Equipe 1A | F4: =U5 -> Equipe 2A | H4: =VLOOKUP(S4,T$4:U$11,2,0) -> Equipe 1A | I4: 1 | J4: =INDEX($U$3:$AE$11,MATCH($H4,$U$3:$U$11,),MATCH(J$3,$U$3:$AE$3,)) -> 0 | K4: =INDEX($U$3:$AE$11,MATCH($H4,$U$3:$U$11,),MATCH(K$3,$U$3:$AE$3,)) -> 0 | L4: =INDEX($U$3:$AE$11,MATCH($H4,$U$3:$U$11,),MATCH(L$3,$U$3:$AE$3,)) -> 0 | M4: =INDEX($U$3:$AE$11,MATCH($H4,$U$3:$U$11,),MATCH(M$3,$U$3:$AE$3,)) -> 0 | N4: =INDEX($U$3:$AE$11,MATCH($H4,$U$3:$U$11,),MATCH(N$3,$U$3:$AE$3,)) -> 0 | O4: =INDEX($U$3:$AE$11,MATCH($H4,$U$3:$U$11,),MATCH(O$3,$U$3:$AE$3,)) -> 0 | P4: =INDEX($U$3:$AE$11,MATCH($H4,$U$3:$U$11,),MATCH(P$3,$U$3:$AE$3,)) -> 0 | Q4: =INDEX($U$3:$AE$11,MATCH($H4,$U$3:$U$11,),MATCH(Q$3,$U$3:$AE$3,)) -> 0 | S4: 1 | T4: =W4 -> 1 | U4: =Equipes!A2 -> Equipe 1A | V4: =RANK(AF4,AF$4:AF$11) -> 1 | W4: =RANK(AG4,AG$4:AG$11) -> 1 | X4: =SUMPRODUCT((C$4:C$31=U4)*(AH$4:AH$31))+SUMPRODUCT((F$4:F$31=U4)*(AI$4:AI$31)) -> 0 | Y4: =SUMPRODUCT((C$4:C$31=U4)*(AJ$4:AJ$31))+SUMPRODUCT((F$4:F$31=U4)*(AK$4:AK$31)) -> 0 | Z4: =SUMPRODUCT((C$4:C$31=U4)*(AL$4:AL$31))+SUMPRODUCT((F$4:F$31=U4)*(AM$4:AM$31)) -> 0 | AA4: =SUMPRODUCT((C$4:C$31=U4)*(AN$4:AN$31))+SUMPRODUCT((F$4:F$31=U4)*(AO$4:AO$31)) -> 0 | AB4: =SUMPRODUCT((C$4:C$31=U4)*(AP$4:AP$31))+SUMPRODUCT((F$4:F$31=U4)*(AQ$4:AQ$31)) -> 0 | AC4: =SUMPRODUCT((C$4:C$31=U4)*(AR$4:AR$31))+SUMPRODUCT((F$4:F$31=U4)*(AS$4:AS$31)) -> 0 | AD4: =SUMPRODUCT((C$4:C$31=U4)*(AT$4:AT$31))+SUMPRODUCT((F$4:F$31=U4)*(AU$4:AU$31)) -> 0 | AE4: =AC4-AD4 -> 0 | AF4: =SUM(X4*1000+(AE4)/10+(AC4)/100) -> 0 | AG4: =AF4+0.0000008 -> 8e-07 | AH4: =IF(D4="",0,IF(D4>E4,3,IF(D4=E4,1,IF(D4<E4,0)))) -> 0 | AI4: =IF(E4="",0,IF(E4>D4,3,IF(E4=D4,1,IF(E4<D4,0)))) -> 0 | AJ4: =IF(D4="",0,1) -> 0 | AK4: =IF(E4="",0,1) -> 0 | AL4: =IF(D4<>"",IF(D4>E4,1)) -> FALSE | AM4: =IF(E4<>"",IF(E4>D4,1)) -> FALSE | AN4: =IF(D4<>"",IF(D4=E4,1)) -> FALSE | AO4: =IF(E4<>"",IF(E4=D4,1)) -> FALSE | AP4: =IF(D4<>"",IF(D4<E4,1)) -> FALSE | AQ4: =IF(E4<>"",IF(E4<D4,1)) -> FALSE | AR4: =D4 -> 0 | AS4: =E4 -> 0 | AT4: =E4 -> 0 | AU4: =D4 -> 0 | AV4: =VLOOKUP(S4,T$4:U$11,2,0) -> Equipe 1A | AW4: =INDEX(U$4:AF$11,MATCH($AV4,$U$4:$U$11,0),12) -> 0 | AX4: =RANK(AW4,AW$4:AW$11) -> 1 | AY4: =U4 -> Equipe 1A
C5: =U6 -> Equipe 3A | F5: =U11 -> Equipe 8A | H5: =VLOOKUP(S5,T$4:U$11,2,0) -> Equipe 2A | I5: =IF(AW5=AW4,AX4,AX5) -> 1 | J5: =INDEX($U$3:$AE$11,MATCH($H5,$U$3:$U$11,),MATCH(J$3,$U$3:$AE$3,)) -> 0 | K5: =INDEX($U$3:$AE$11,MATCH($H5,$U$3:$U$11,),MATCH(K$3,$U$3:$AE$3,)) -> 0 | L5: =INDEX($U$3:$AE$11,MATCH($H5,$U$3:$U$11,),MATCH(L$3,$U$3:$AE$3,)) -> 0 | M5: =INDEX($U$3:$AE$11,MATCH($H5,$U$3:$U$11,),MATCH(M$3,$U$3:$AE$3,)) -> 0 | N5: =INDEX($U$3:$AE$11,MATCH($H5,$U$3:$U$11,),MATCH(N$3,$U$3:$AE$3,)) -> 0 | O5: =INDEX($U$3:$AE$11,MATCH($H5,$U$3:$U$11,),MATCH(O$3,$U$3:$AE$3,)) -> 0 | P5: =INDEX($U$3:$AE$11,MATCH($H5,$U$3:$U$11,),MATCH(P$3,$U$3:$AE$3,)) -> 0 | Q5: =INDEX($U$3:$AE$11,MATCH($H5,$U$3:$U$11,),MATCH(Q$3,$U$3:$AE$3,)) -> 0 | S5: 2 | T5: =W5 -> 2 | U5: =Equipes!A3 -> Equipe 2A | V5: =RANK(AF5,AF$4:AF$11) -> 1 | W5: =RANK(AG5,AG$4:AG$11) -> 2 | X5: =SUMPRODUCT((C$4:C$31=U5)*(AH$4:AH$31))+SUMPRODUCT((F$4:F$31=U5)*(AI$4:AI$31)) -> 0 | Y5: =SUMPRODUCT((C$4:C$31=U5)*(AJ$4:AJ$31))+SUMPRODUCT((F$4:F$31=U5)*(AK$4:AK$31)) -> 0 | Z5: =SUMPRODUCT((C$4:C$31=U5)*(AL$4:AL$31))+SUMPRODUCT((F$4:F$31=U5)*(AM$4:AM$31)) -> 0 | AA5: =SUMPRODUCT((C$4:C$31=U5)*(AN$4:AN$31))+SUMPRODUCT((F$4:F$31=U5)*(AO$4:AO$31)) -> 0 | AB5: =SUMPRODUCT((C$4:C$31=U5)*(AP$4:AP$31))+SUMPRODUCT((F$4:F$31=U5)*(AQ$4:AQ$31)) -> 0 | AC5: =SUMPRODUCT((C$4:C$31=U5)*(AR$4:AR$31))+SUMPRODUCT((F$4:F$31=U5)*(AS$4:AS$31)) -> 0 | AD5: =SUMPRODUCT((C$4:C$31=U5)*(AT$4:AT$31))+SUMPRODUCT((F$4:F$31=U5)*(AU$4:AU$31)) -> 0 | AE5: =AC5-AD5 -> 0 | AF5: =SUM(X5*1000+(AE5)/10+(AC5)/100) -> 0 | AG5: =AF5+0.0000007 -> 7e-07 | AH5: =IF(D5="",0,IF(D5>E5,3,IF(D5=E5,1,IF(D5<E5,0)))) -> 0 | AI5: =IF(E5="",0,IF(E5>D5,3,IF(E5=D5,1,IF(E5<D5,0)))) -> 0 | AJ5: =IF(D5="",0,1) -> 0 | AK5: =IF(E5="",0,1) -> 0 | AL5: =IF(D5<>"",IF(D5>E5,1)) -> FALSE | AM5: =IF(E5<>"",IF(E5>D5,1)) -> FALSE | AN5: =IF(D5<>"",IF(D5=E5,1)) -> FALSE | AO5: =IF(E5<>"",IF(E5=D5,1)) -> FALSE | AP5: =IF(D5<>"",IF(D5<E5,1)) -> FALSE | AQ5: =IF(E5<>"",IF(E5<D5,1)) -> FALSE | AR5: =D5 -> 0 | AS5: =E5 -> 0 | AT5: =E5 -> 0 | AU5: =D5 -> 0 | AV5: =VLOOKUP(S5,T$4:U$11,2,0) -> Equipe 2A | AW5: =INDEX(U$4:AF$11,MATCH($AV5,$U$4:$U$11,0),12) -> 0 | AX5: =RANK(AW5,AW$4:AW$11) -> 1 | AY5: =U5 -> Equipe 2A
C6: =U7 -> Equipe 4A | F6: =U8 -> Equipe 5A | H6: =VLOOKUP(S6,T$4:U$11,2,0) -> Equipe 3A | I6: =IF(AW6=AW5,AX5,AX6) -> 1 | J6: =INDEX($U$3:$AE$11,MATCH($H6,$U$3:$U$11,),MATCH(J$3,$U$3:$AE$3,)) -> 0 | K6: =INDEX($U$3:$AE$11,MATCH($H6,$U$3:$U$11,),MATCH(K$3,$U$3:$AE$3,)) -> 0 | L6: =INDEX($U$3:$AE$11,MATCH($H6,$U$3:$U$11,),MATCH(L$3,$U$3:$AE$3,)) -> 0 | M6: =INDEX($U$3:$AE$11,MATCH($H6,$U$3:$U$11,),MATCH(M$3,$U$3:$AE$3,)) -> 0 | N6: =INDEX($U$3:$AE$11,MATCH($H6,$U$3:$U$11,),MATCH(N$3,$U$3:$AE$3,)) -> 0 | O6: =INDEX($U$3:$AE$11,MATCH($H6,$U$3:$U$11,),MATCH(O$3,$U$3:$AE$3,)) -> 0 | P6: =INDEX($U$3:$AE$11,MATCH($H6,$U$3:$U$11,),MATCH(P$3,$U$3:$AE$3,)) -> 0 | Q6: =INDEX($U$3:$AE$11,MATCH($H6,$U$3:$U$11,),MATCH(Q$3,$U$3:$AE$3,)) -> 0 | S6: 3 | T6: =W6 -> 3 | U6: =Equipes!A4 -> Equipe 3A | V6: =RANK(AF6,AF$4:AF$11) -> 1 | W6: =RANK(AG6,AG$4:AG$11) -> 3 | X6: =SUMPRODUCT((C$4:C$31=U6)*(AH$4:AH$31))+SUMPRODUCT((F$4:F$31=U6)*(AI$4:AI$31)) -> 0 | Y6: =SUMPRODUCT((C$4:C$31=U6)*(AJ$4:AJ$31))+SUMPRODUCT((F$4:F$31=U6)*(AK$4:AK$31)) -> 0 | Z6: =SUMPRODUCT((C$4:C$31=U6)*(AL$4:AL$31))+SUMPRODUCT((F$4:F$31=U6)*(AM$4:AM$31)) -> 0 | AA6: =SUMPRODUCT((C$4:C$31=U6)*(AN$4:AN$31))+SUMPRODUCT((F$4:F$31=U6)*(AO$4:AO$31)) -> 0 | AB6: =SUMPRODUCT((C$4:C$31=U6)*(AP$4:AP$31))+SUMPRODUCT((F$4:F$31=U6)*(AQ$4:AQ$31)) -> 0 | AC6: =SUMPRODUCT((C$4:C$31=U6)*(AR$4:AR$31))+SUMPRODUCT((F$4:F$31=U6)*(AS$4:AS$31)) -> 0 | AD6: =SUMPRODUCT((C$4:C$31=U6)*(AT$4:AT$31))+SUMPRODUCT((F$4:F$31=U6)*(AU$4:AU$31)) -> 0 | AE6: =AC6-AD6 -> 0 | AF6: =SUM(X6*1000+(AE6)/10+(AC6)/100) -> 0 | AG6: =AF6+0.0000006 -> 6e-07 | AH6: =IF(D6="",0,IF(D6>E6,3,IF(D6=E6,1,IF(D6<E6,0)))) -> 0 | AI6: =IF(E6="",0,IF(E6>D6,3,IF(E6=D6,1,IF(E6<D6,0)))) -> 0 | AJ6: =IF(D6="",0,1) -> 0 | AK6: =IF(E6="",0,1) -> 0 | AL6: =IF(D6<>"",IF(D6>E6,1)) -> FALSE | AM6: =IF(E6<>"",IF(E6>D6,1)) -> FALSE | AN6: =IF(D6<>"",IF(D6=E6,1)) -> FALSE | AO6: =IF(E6<>"",IF(E6=D6,1)) -> FALSE | AP6: =IF(D6<>"",IF(D6<E6,1)) -> FALSE | AQ6: =IF(E6<>"",IF(E6<D6,1)) -> FALSE | AR6: =D6 -> 0 | AS6: =E6 -> 0 | AT6: =E6 -> 0 | AU6: =D6 -> 0 | AV6: =VLOOKUP(S6,T$4:U$11,2,0) -> Equipe 3A | AW6: =INDEX(U$4:AF$11,MATCH($AV6,$U$4:$U$11,0),12) -> 0 | AX6: =RANK(AW6,AW$4:AW$11) -> 1 | AY6: =U6 -> Equipe 3A
C7: =U9 -> Equipe 6A | F7: =U10 -> Equipe 7A | H7: =VLOOKUP(S7,T$4:U$11,2,0) -> Equipe 4A | I7: =IF(AW7=AW6,AX6,AX7) -> 1 | J7: =INDEX($U$3:$AE$11,MATCH($H7,$U$3:$U$11,),MATCH(J$3,$U$3:$AE$3,)) -> 0 | K7: =INDEX($U$3:$AE$11,MATCH($H7,$U$3:$U$11,),MATCH(K$3,$U$3:$AE$3,)) -> 0 | L7: =INDEX($U$3:$AE$11,MATCH($H7,$U$3:$U$11,),MATCH(L$3,$U$3:$AE$3,)) -> 0 | M7: =INDEX($U$3:$AE$11,MATCH($H7,$U$3:$U$11,),MATCH(M$3,$U$3:$AE$3,)) -> 0 | N7: =INDEX($U$3:$AE$11,MATCH($H7,$U$3:$U$11,),MATCH(N$3,$U$3:$AE$3,)) -> 0 | O7: =INDEX($U$3:$AE$11,MATCH($H7,$U$3:$U$11,),MATCH(O$3,$U$3:$AE$3,)) -> 0 | P7: =INDEX($U$3:$AE$11,MATCH($H7,$U$3:$U$11,),MATCH(P$3,$U$3:$AE$3,)) -> 0 | Q7: =INDEX($U$3:$AE$11,MATCH($H7,$U$3:$U$11,),MATCH(Q$3,$U$3:$AE$3,)) -> 0 | S7: 4 | T7: =W7 -> 4 | U7: =Equipes!A5 -> Equipe 4A | V7: =RANK(AF7,AF$4:AF$11) -> 1 | W7: =RANK(AG7,AG$4:AG$11) -> 4 | X7: =SUMPRODUCT((C$4:C$31=U7)*(AH$4:AH$31))+SUMPRODUCT((F$4:F$31=U7)*(AI$4:AI$31)) -> 0 | Y7: =SUMPRODUCT((C$4:C$31=U7)*(AJ$4:AJ$31))+SUMPRODUCT((F$4:F$31=U7)*(AK$4:AK$31)) -> 0 | Z7: =SUMPRODUCT((C$4:C$31=U7)*(AL$4:AL$31))+SUMPRODUCT((F$4:F$31=U7)*(AM$4:AM$31)) -> 0 | AA7: =SUMPRODUCT((C$4:C$31=U7)*(AN$4:AN$31))+SUMPRODUCT((F$4:F$31=U7)*(AO$4:AO$31)) -> 0 | AB7: =SUMPRODUCT((C$4:C$31=U7)*(AP$4:AP$31))+SUMPRODUCT((F$4:F$31=U7)*(AQ$4:AQ$31)) -> 0 | AC7: =SUMPRODUCT((C$4:C$31=U7)*(AR$4:AR$31))+SUMPRODUCT((F$4:F$31=U7)*(AS$4:AS$31)) -> 0 | AD7: =SUMPRODUCT((C$4:C$31=U7)*(AT$4:AT$31))+SUMPRODUCT((F$4:F$31=U7)*(AU$4:AU$31)) -> 0 | AE7: =AC7-AD7 -> 0 | AF7: =SUM(X7*1000+(AE7)/10+(AC7)/100) -> 0 | AG7: =AF7+0.0000005 -> 5e-07 | AH7: =IF(D7="",0,IF(D7>E7,3,IF(D7=E7,1,IF(D7<E7,0)))) -> 0 | AI7: =IF(E7="",0,IF(E7>D7,3,IF(E7=D7,1,IF(E7<D7,0)))) -> 0 | AJ7: =IF(D7="",0,1) -> 0 | AK7: =IF(E7="",0,1) -> 0 | AL7: =IF(D7<>"",IF(D7>E7,1)) -> FALSE | AM7: =IF(E7<>"",IF(E7>D7,1)) -> FALSE | AN7: =IF(D7<>"",IF(D7=E7,1)) -> FALSE | AO7: =IF(E7<>"",IF(E7=D7,1)) -> FALSE | AP7: =IF(D7<>"",IF(D7<E7,1)) -> FALSE | AQ7: =IF(E7<>"",IF(E7<D7,1)) -> FALSE | AR7: =D7 -> 0 | AS7: =E7 -> 0 | AT7: =E7 -> 0 | AU7: =D7 -> 0 | AV7: =VLOOKUP(S7,T$4:U$11,2,0) -> Equipe 4A | AW7: =INDEX(U$4:AF$11,MATCH($AV7,$U$4:$U$11,0),12) -> 0 | AX7: =RANK(AW7,AW$4:AW$11) -> 1 | AY7: =U7 -> Equipe 4A
C8: =U4 -> Equipe 1A | F8: =U6 -> Equipe 3A | H8: =VLOOKUP(S8,T$4:U$11,2,0) -> Equipe 5A | I8: =IF(AW8=AW7,AX7,AX8) -> 1 | J8: =INDEX($U$3:$AE$11,MATCH($H8,$U$3:$U$11,),MATCH(J$3,$U$3:$AE$3,)) -> 0 | K8: =INDEX($U$3:$AE$11,MATCH($H8,$U$3:$U$11,),MATCH(K$3,$U$3:$AE$3,)) -> 0 | L8: =INDEX($U$3:$AE$11,MATCH($H8,$U$3:$U$11,),MATCH(L$3,$U$3:$AE$3,)) -> 0 | M8: =INDEX($U$3:$AE$11,MATCH($H8,$U$3:$U$11,),MATCH(M$3,$U$3:$AE$3,)) -> 0 | N8: =INDEX($U$3:$AE$11,MATCH($H8,$U$3:$U$11,),MATCH(N$3,$U$3:$AE$3,)) -> 0 | O8: =INDEX($U$3:$AE$11,MATCH($H8,$U$3:$U$11,),MATCH(O$3,$U$3:$AE$3,)) -> 0 | P8: =INDEX($U$3:$AE$11,MATCH($H8,$U$3:$U$11,),MATCH(P$3,$U$3:$AE$3,)) -> 0 | Q8: =INDEX($U$3:$AE$11,MATCH($H8,$U$3:$U$11,),MATCH(Q$3,$U$3:$AE$3,)) -> 0 | S8: 5 | T8: =W8 -> 5 | U8: =Equipes!A6 -> Equipe 5A | V8: =RANK(AF8,AF$4:AF$11) -> 1 | W8: =RANK(AG8,AG$4:AG$11) -> 5 | X8: =SUMPRODUCT((C$4:C$31=U8)*(AH$4:AH$31))+SUMPRODUCT((F$4:F$31=U8)*(AI$4:AI$31)) -> 0 | Y8: =SUMPRODUCT((C$4:C$31=U8)*(AJ$4:AJ$31))+SUMPRODUCT((F$4:F$31=U8)*(AK$4:AK$31)) -> 0 | Z8: =SUMPRODUCT((C$4:C$31=U8)*(AL$4:AL$31))+SUMPRODUCT((F$4:F$31=U8)*(AM$4:AM$31)) -> 0 | AA8: =SUMPRODUCT((C$4:C$31=U8)*(AN$4:AN$31))+SUMPRODUCT((F$4:F$31=U8)*(AO$4:AO$31)) -> 0 | AB8: =SUMPRODUCT((C$4:C$31=U8)*(AP$4:AP$31))+SUMPRODUCT((F$4:F$31=U8)*(AQ$4:AQ$31)) -> 0 | AC8: =SUMPRODUCT((C$4:C$31=U8)*(AR$4:AR$31))+SUMPRODUCT((F$4:F$31=U8)*(AS$4:AS$31)) -> 0 | AD8: =SUMPRODUCT((C$4:C$31=U8)*(AT$4:AT$31))+SUMPRODUCT((F$4:F$31=U8)*(AU$4:AU$31)) -> 0 | AE8: =AC8-AD8 -> 0 | AF8: =SUM(X8*1000+(AE8)/10+(AC8)/100) -> 0 | AG8: =AF8+0.0000004 -> 4e-07 | AH8: =IF(D8="",0,IF(D8>E8,3,IF(D8=E8,1,IF(D8<E8,0)))) -> 0 | AI8: =IF(E8="",0,IF(E8>D8,3,IF(E8=D8,1,IF(E8<D8,0)))) -> 0 | AJ8: =IF(D8="",0,1) -> 0 | AK8: =IF(E8="",0,1) -> 0 | AL8: =IF(D8<>"",IF(D8>E8,1)) -> FALSE | AM8: =IF(E8<>"",IF(E8>D8,1)) -> FALSE | AN8: =IF(D8<>"",IF(D8=E8,1)) -> FALSE | AO8: =IF(E8<>"",IF(E8=D8,1)) -> FALSE | AP8: =IF(D8<>"",IF(D8<E8,1)) -> FALSE | AQ8: =IF(E8<>"",IF(E8<D8,1)) -> FALSE | AR8: =D8 -> 0 | AS8: =E8 -> 0 | AT8: =E8 -> 0 | AU8: =D8 -> 0 | AV8: =VLOOKUP(S8,T$4:U$11,2,0) -> Equipe 5A | AW8: =INDEX(U$4:AF$11,MATCH($AV8,$U$4:$U$11,0),12) -> 0 | AX8: =RANK(AW8,AW$4:AW$11) -> 1 | AY8: =U8 -> Equipe 5A
C9: =U5 -> Equipe 2A | F9: =U7 -> Equipe 4A | H9: =VLOOKUP(S9,T$4:U$11,2,0) -> Equipe 6A | I9: =IF(AW9=AW8,AX8,AX9) -> 1 | J9: =INDEX($U$3:$AE$11,MATCH($H9,$U$3:$U$11,),MATCH(J$3,$U$3:$AE$3,)) -> 0 | K9: =INDEX($U$3:$AE$11,MATCH($H9,$U$3:$U$11,),MATCH(K$3,$U$3:$AE$3,)) -> 0 | L9: =INDEX($U$3:$AE$11,MATCH($H9,$U$3:$U$11,),MATCH(L$3,$U$3:$AE$3,)) -> 0 | M9: =INDEX($U$3:$AE$11,MATCH($H9,$U$3:$U$11,),MATCH(M$3,$U$3:$AE$3,)) -> 0 | N9: =INDEX($U$3:$AE$11,MATCH($H9,$U$3:$U$11,),MATCH(N$3,$U$3:$AE$3,)) -> 0 | O9: =INDEX($U$3:$AE$11,MATCH($H9,$U$3:$U$11,),MATCH(O$3,$U$3:$AE$3,)) -> 0 | P9: =INDEX($U$3:$AE$11,MATCH($H9,$U$3:$U$11,),MATCH(P$3,$U$3:$AE$3,)) -> 0 | Q9: =INDEX($U$3:$AE$11,MATCH($H9,$U$3:$U$11,),MATCH(Q$3,$U$3:$AE$3,)) -> 0 | S9: 6 | T9: =W9 -> 6 | U9: =Equipes!A7 -> Equipe 6A | V9: =RANK(AF9,AF$4:AF$11) -> 1 | W9: =RANK(AG9,AG$4:AG$11) -> 6 | X9: =SUMPRODUCT((C$4:C$31=U9)*(AH$4:AH$31))+SUMPRODUCT((F$4:F$31=U9)*(AI$4:AI$31)) -> 0 | Y9: =SUMPRODUCT((C$4:C$31=U9)*(AJ$4:AJ$31))+SUMPRODUCT((F$4:F$31=U9)*(AK$4:AK$31)) -> 0 | Z9: =SUMPRODUCT((C$4:C$31=U9)*(AL$4:AL$31))+SUMPRODUCT((F$4:F$31=U9)*(AM$4:AM$31)) -> 0 | AA9: =SUMPRODUCT((C$4:C$31=U9)*(AN$4:AN$31))+SUMPRODUCT((F$4:F$31=U9)*(AO$4:AO$31)) -> 0 | AB9: =SUMPRODUCT((C$4:C$31=U9)*(AP$4:AP$31))+SUMPRODUCT((F$4:F$31=U9)*(AQ$4:AQ$31)) -> 0 | AC9: =SUMPRODUCT((C$4:C$31=U9)*(AR$4:AR$31))+SUMPRODUCT((F$4:F$31=U9)*(AS$4:AS$31)) -> 0 | AD9: =SUMPRODUCT((C$4:C$31=U9)*(AT$4:AT$31))+SUMPRODUCT((F$4:F$31=U9)*(AU$4:AU$31)) -> 0 | AE9: =AC9-AD9 -> 0 | AF9: =SUM(X9*1000+(AE9)/10+(AC9)/100) -> 0 | AG9: =AF9+0.0000003 -> 3e-07 | AH9: =IF(D9="",0,IF(D9>E9,3,IF(D9=E9,1,IF(D9<E9,0)))) -> 0 | AI9: =IF(E9="",0,IF(E9>D9,3,IF(E9=D9,1,IF(E9<D9,0)))) -> 0 | AJ9: =IF(D9="",0,1) -> 0 | AK9: =IF(E9="",0,1) -> 0 | AL9: =IF(D9<>"",IF(D9>E9,1)) -> FALSE | AM9: =IF(E9<>"",IF(E9>D9,1)) -> FALSE | AN9: =IF(D9<>"",IF(D9=E9,1)) -> FALSE | AO9: =IF(E9<>"",IF(E9=D9,1)) -> FALSE | AP9: =IF(D9<>"",IF(D9<E9,1)) -> FALSE | AQ9: =IF(E9<>"",IF(E9<D9,1)) -> FALSE | AR9: =D9 -> 0 | AS9: =E9 -> 0 | AT9: =E9 -> 0 | AU9: =D9 -> 0 | AV9: =VLOOKUP(S9,T$4:U$11,2,0) -> Equipe 6A | AW9: =INDEX(U$4:AF$11,MATCH($AV9,$U$4:$U$11,0),12) -> 0 | AX9: =RANK(AW9,AW$4:AW$11) -> 1 | AY9: =U9 -> Equipe 6A
C10: =U8 -> Equipe 5A | F10: =U10 -> Equipe 7A | H10: =VLOOKUP(S10,T$4:U$11,2,0) -> Equipe 7A | I10: =IF(AW10=AW9,AX9,AX10) -> 1 | J10: =INDEX($U$3:$AE$11,MATCH($H10,$U$3:$U$11,),MATCH(J$3,$U$3:$AE$3,)) -> 0 | K10: =INDEX($U$3:$AE$11,MATCH($H10,$U$3:$U$11,),MATCH(K$3,$U$3:$AE$3,)) -> 0 | L10: =INDEX($U$3:$AE$11,MATCH($H10,$U$3:$U$11,),MATCH(L$3,$U$3:$AE$3,)) -> 0 | M10: =INDEX($U$3:$AE$11,MATCH($H10,$U$3:$U$11,),MATCH(M$3,$U$3:$AE$3,)) -> 0 | N10: =INDEX($U$3:$AE$11,MATCH($H10,$U$3:$U$11,),MATCH(N$3,$U$3:$AE$3,)) -> 0 | O10: =INDEX($U$3:$AE$11,MATCH($H10,$U$3:$U$11,),MATCH(O$3,$U$3:$AE$3,)) -> 0 | P10: =INDEX($U$3:$AE$11,MATCH($H10,$U$3:$U$11,),MATCH(P$3,$U$3:$AE$3,)) -> 0 | Q10: =INDEX($U$3:$AE$11,MATCH($H10,$U$3:$U$11,),MATCH(Q$3,$U$3:$AE$3,)) -> 0 | S10: 7 | T10: =W10 -> 7 | U10: =Equipes!A8 -> Equipe 7A | V10: =RANK(AF10,AF$4:AF$11) -> 1 | W10: =RANK(AG10,AG$4:AG$11) -> 7 | X10: =SUMPRODUCT((C$4:C$31=U10)*(AH$4:AH$31))+SUMPRODUCT((F$4:F$31=U10)*(AI$4:AI$31)) -> 0 | Y10: =SUMPRODUCT((C$4:C$31=U10)*(AJ$4:AJ$31))+SUMPRODUCT((F$4:F$31=U10)*(AK$4:AK$31)) -> 0 | Z10: =SUMPRODUCT((C$4:C$31=U10)*(AL$4:AL$31))+SUMPRODUCT((F$4:F$31=U10)*(AM$4:AM$31)) -> 0 | AA10: =SUMPRODUCT((C$4:C$31=U10)*(AN$4:AN$31))+SUMPRODUCT((F$4:F$31=U10)*(AO$4:AO$31)) -> 0 | AB10: =SUMPRODUCT((C$4:C$31=U10)*(AP$4:AP$31))+SUMPRODUCT((F$4:F$31=U10)*(AQ$4:AQ$31)) -> 0 | AC10: =SUMPRODUCT((C$4:C$31=U10)*(AR$4:AR$31))+SUMPRODUCT((F$4:F$31=U10)*(AS$4:AS$31)) -> 0 | AD10: =SUMPRODUCT((C$4:C$31=U10)*(AT$4:AT$31))+SUMPRODUCT((F$4:F$31=U10)*(AU$4:AU$31)) -> 0 | AE10: =AC10-AD10 -> 0 | AF10: =SUM(X10*1000+(AE10)/10+(AC10)/100) -> 0 | AG10: =AF10+0.0000002 -> 2e-07 | AH10: =IF(D10="",0,IF(D10>E10,3,IF(D10=E10,1,IF(D10<E10,0)))) -> 0 | AI10: =IF(E10="",0,IF(E10>D10,3,IF(E10=D10,1,IF(E10<D10,0)))) -> 0 | AJ10: =IF(D10="",0,1) -> 0 | AK10: =IF(E10="",0,1) -> 0 | AL10: =IF(D10<>"",IF(D10>E10,1)) -> FALSE | AM10: =IF(E10<>"",IF(E10>D10,1)) -> FALSE | AN10: =IF(D10<>"",IF(D10=E10,1)) -> FALSE | AO10: =IF(E10<>"",IF(E10=D10,1)) -> FALSE | AP10: =IF(D10<>"",IF(D10<E10,1)) -> FALSE | AQ10: =IF(E10<>"",IF(E10<D10,1)) -> FALSE | AR10: =D10 -> 0 | AS10: =E10 -> 0 | AT10: =E10 -> 0 | AU10: =D10 -> 0 | AV10: =VLOOKUP(S10,T$4:U$11,2,0) -> Equipe 7A | AW10: =INDEX(U$4:AF$11,MATCH($AV10,$U$4:$U$11,0),12) -> 0 | AX10: =RANK(AW10,AW$4:AW$11) -> 1 | AY10: =U10 -> Equipe 7A
C11: =U9 -> Equipe 6A | F11: =U11 -> Equipe 8A | H11: =VLOOKUP(S11,T$4:U$11,2,0) -> Equipe 8A | I11: =IF(AW11=AW10,AX10,AX11) -> 1 | J11: =INDEX($U$3:$AE$11,MATCH($H11,$U$3:$U$11,),MATCH(J$3,$U$3:$AE$3,)) -> 0 | K11: =INDEX($U$3:$AE$11,MATCH($H11,$U$3:$U$11,),MATCH(K$3,$U$3:$AE$3,)) -> 0 | L11: =INDEX($U$3:$AE$11,MATCH($H11,$U$3:$U$11,),MATCH(L$3,$U$3:$AE$3,)) -> 0 | M11: =INDEX($U$3:$AE$11,MATCH($H11,$U$3:$U$11,),MATCH(M$3,$U$3:$AE$3,)) -> 0 | N11: =INDEX($U$3:$AE$11,MATCH($H11,$U$3:$U$11,),MATCH(N$3,$U$3:$AE$3,)) -> 0 | O11: =INDEX($U$3:$AE$11,MATCH($H11,$U$3:$U$11,),MATCH(O$3,$U$3:$AE$3,)) -> 0 | P11: =INDEX($U$3:$AE$11,MATCH($H11,$U$3:$U$11,),MATCH(P$3,$U$3:$AE$3,)) -> 0 | Q11: =INDEX($U$3:$AE$11,MATCH($H11,$U$3:$U$11,),MATCH(Q$3,$U$3:$AE$3,)) -> 0 | S11: 8 | T11: =W11 -> 8 | U11: =Equipes!A9 -> Equipe 8A | V11: =RANK(AF11,AF$4:AF$11) -> 1 | W11: =RANK(AG11,AG$4:AG$11) -> 8 | X11: =SUMPRODUCT((C$4:C$31=U11)*(AH$4:AH$31))+SUMPRODUCT((F$4:F$31=U11)*(AI$4:AI$31)) -> 0 | Y11: =SUMPRODUCT((C$4:C$31=U11)*(AJ$4:AJ$31))+SUMPRODUCT((F$4:F$31=U11)*(AK$4:AK$31)) -> 0 | Z11: =SUMPRODUCT((C$4:C$31=U11)*(AL$4:AL$31))+SUMPRODUCT((F$4:F$31=U11)*(AM$4:AM$31)) -> 0 | AA11: =SUMPRODUCT((C$4:C$31=U11)*(AN$4:AN$31))+SUMPRODUCT((F$4:F$31=U11)*(AO$4:AO$31)) -> 0 | AB11: =SUMPRODUCT((C$4:C$31=U11)*(AP$4:AP$31))+SUMPRODUCT((F$4:F$31=U11)*(AQ$4:AQ$31)) -> 0 | AC11: =SUMPRODUCT((C$4:C$31=U11)*(AR$4:AR$31))+SUMPRODUCT((F$4:F$31=U11)*(AS$4:AS$31)) -> 0 | AD11: =SUMPRODUCT((C$4:C$31=U11)*(AT$4:AT$31))+SUMPRODUCT((F$4:F$31=U11)*(AU$4:AU$31)) -> 0 | AE11: =AC11-AD11 -> 0 | AF11: =SUM(X11*1000+(AE11)/10+(AC11)/100) -> 0 | AG11: =AF11+0.0000001 -> 1e-07 | AH11: =IF(D11="",0,IF(D11>E11,3,IF(D11=E11,1,IF(D11<E11,0)))) -> 0 | AI11: =IF(E11="",0,IF(E11>D11,3,IF(E11=D11,1,IF(E11<D11,0)))) -> 0 | AJ11: =IF(D11="",0,1) -> 0 | AK11: =IF(E11="",0,1) -> 0 | AL11: =IF(D11<>"",IF(D11>E11,1)) -> FALSE | AM11: =IF(E11<>"",IF(E11>D11,1)) -> FALSE | AN11: =IF(D11<>"",IF(D11=E11,1)) -> FALSE | AO11: =IF(E11<>"",IF(E11=D11,1)) -> FALSE | AP11: =IF(D11<>"",IF(D11<E11,1)) -> FALSE | AQ11: =IF(E11<>"",IF(E11<D11,1)) -> FALSE | AR11: =D11 -> 0 | AS11: =E11 -> 0 | AT11: =E11 -> 0 | AU11: =D11 -> 0 | AV11: =VLOOKUP(S11,T$4:U$11,2,0) -> Equipe 8A | AW11: =INDEX(U$4:AF$11,MATCH($AV11,$U$4:$U$11,0),12) -> 0 | AX11: =RANK(AW11,AW$4:AW$11) -> 1 | AY11: =U11 -> Equipe 8A
C12: =U4 -> Equipe 1A | F12: =U7 -> Equipe 4A | AH12: =IF(D12="",0,IF(D12>E12,3,IF(D12=E12,1,IF(D12<E12,0)))) -> 0 | AI12: =IF(E12="",0,IF(E12>D12,3,IF(E12=D12,1,IF(E12<D12,0)))) -> 0 | AJ12: =IF(D12="",0,1) -> 0 | AK12: =IF(E12="",0,1) -> 0 | AL12: =IF(D12<>"",IF(D12>E12,1)) -> FALSE | AM12: =IF(E12<>"",IF(E12>D12,1)) -> FALSE | AN12: =IF(D12<>"",IF(D12=E12,1)) -> FALSE | AO12: =IF(E12<>"",IF(E12=D12,1)) -> FALSE | AP12: =IF(D12<>"",IF(D12<E12,1)) -> FALSE | AQ12: =IF(E12<>"",IF(E12<D12,1)) -> FALSE | AR12: =D12 -> 0 | AS12: =E12 -> 0 | AT12: =E12 -> 0 | AU12: =D12 -> 0
C13: =U5 -> Equipe 2A | F13: =U8 -> Equipe 5A | AH13: =IF(D13="",0,IF(D13>E13,3,IF(D13=E13,1,IF(D13<E13,0)))) -> 0 | AI13: =IF(E13="",0,IF(E13>D13,3,IF(E13=D13,1,IF(E13<D13,0)))) -> 0 | AJ13: =IF(D13="",0,1) -> 0 | AK13: =IF(E13="",0,1) -> 0 | AL13: =IF(D13<>"",IF(D13>E13,1)) -> FALSE | AM13: =IF(E13<>"",IF(E13>D13,1)) -> FALSE | AN13: =IF(D13<>"",IF(D13=E13,1)) -> FALSE | AO13: =IF(E13<>"",IF(E13=D13,1)) -> FALSE | AP13: =IF(D13<>"",IF(D13<E13,1)) -> FALSE | AQ13: =IF(E13<>"",IF(E13<D13,1)) -> FALSE | AR13: =D13 -> 0 | AS13: =E13 -> 0 | AT13: =E13 -> 0 | AU13: =D13 -> 0
C14: =U6 -> Equipe 3A | F14: =U9 -> Equipe 6A | AH14: =IF(D14="",0,IF(D14>E14,3,IF(D14=E14,1,IF(D14<E14,0)))) -> 0 | AI14: =IF(E14="",0,IF(E14>D14,3,IF(E14=D14,1,IF(E14<D14,0)))) -> 0 | AJ14: =IF(D14="",0,1) -> 0 | AK14: =IF(E14="",0,1) -> 0 | AL14: =IF(D14<>"",IF(D14>E14,1)) -> FALSE | AM14: =IF(E14<>"",IF(E14>D14,1)) -> FALSE | AN14: =IF(D14<>"",IF(D14=E14,1)) -> FALSE | AO14: =IF(E14<>"",IF(E14=D14,1)) -> FALSE | AP14: =IF(D14<>"",IF(D14<E14,1)) -> FALSE | AQ14: =IF(E14<>"",IF(E14<D14,1)) -> FALSE | AR14: =D14 -> 0 | AS14: =E14 -> 0 | AT14: =E14 -> 0 | AU14: =D14 -> 0
C15: =U10 -> Equipe 7A | F15: =U11 -> Equipe 8A | AH15: =IF(D15="",0,IF(D15>E15,3,IF(D15=E15,1,IF(D15<E15,0)))) -> 0 | AI15: =IF(E15="",0,IF(E15>D15,3,IF(E15=D15,1,IF(E15<D15,0)))) -> 0 | AJ15: =IF(D15="",0,1) -> 0 | AK15: =IF(E15="",0,1) -> 0 | AL15: =IF(D15<>"",IF(D15>E15,1)) -> FALSE | AM15: =IF(E15<>"",IF(E15>D15,1)) -> FALSE | AN15: =IF(D15<>"",IF(D15=E15,1)) -> FALSE | AO15: =IF(E15<>"",IF(E15=D15,1)) -> FALSE | AP15: =IF(D15<>"",IF(D15<E15,1)) -> FALSE | AQ15: =IF(E15<>"",IF(E15<D15,1)) -> FALSE | AR15: =D15 -> 0 | AS15: =E15 -> 0 | AT15: =E15 -> 0 | AU15: =D15 -> 0
C16: =U4 -> Equipe 1A | F16: =U8 -> Equipe 5A | AH16: =IF(D16="",0,IF(D16>E16,3,IF(D16=E16,1,IF(D16<E16,0)))) -> 0 | AI16: =IF(E16="",0,IF(E16>D16,3,IF(E16=D16,1,IF(E16<D16,0)))) -> 0 | AJ16: =IF(D16="",0,1) -> 0 | AK16: =IF(E16="",0,1) -> 0 | AL16: =IF(D16<>"",IF(D16>E16,1)) -> FALSE | AM16: =IF(E16<>"",IF(E16>D16,1)) -> FALSE | AN16: =IF(D16<>"",IF(D16=E16,1)) -> FALSE | AO16: =IF(E16<>"",IF(E16=D16,1)) -> FALSE | AP16: =IF(D16<>"",IF(D16<E16,1)) -> FALSE | AQ16: =IF(E16<>"",IF(E16<D16,1)) -> FALSE | AR16: =D16 -> 0 | AS16: =E16 -> 0 | AT16: =E16 -> 0 | AU16: =D16 -> 0
C17: =U5 -> Equipe 2A | F17: =U9 -> Equipe 6A | AH17: =IF(D17="",0,IF(D17>E17,3,IF(D17=E17,1,IF(D17<E17,0)))) -> 0 | AI17: =IF(E17="",0,IF(E17>D17,3,IF(E17=D17,1,IF(E17<D17,0)))) -> 0 | AJ17: =IF(D17="",0,1) -> 0 | AK17: =IF(E17="",0,1) -> 0 | AL17: =IF(D17<>"",IF(D17>E17,1)) -> FALSE | AM17: =IF(E17<>"",IF(E17>D17,1)) -> FALSE | AN17: =IF(D17<>"",IF(D17=E17,1)) -> FALSE | AO17: =IF(E17<>"",IF(E17=D17,1)) -> FALSE | AP17: =IF(D17<>"",IF(D17<E17,1)) -> FALSE | AQ17: =IF(E17<>"",IF(E17<D17,1)) -> FALSE | AR17: =D17 -> 0 | AS17: =E17 -> 0 | AT17: =E17 -> 0 | AU17: =D17 -> 0
C18: =U6 -> Equipe 3A | F18: =U10 -> Equipe 7A | AH18: =IF(D18="",0,IF(D18>E18,3,IF(D18=E18,1,IF(D18<E18,0)))) -> 0 | AI18: =IF(E18="",0,IF(E18>D18,3,IF(E18=D18,1,IF(E18<D18,0)))) -> 0 | AJ18: =IF(D18="",0,1) -> 0 | AK18: =IF(E18="",0,1) -> 0 | AL18: =IF(D18<>"",IF(D18>E18,1)) -> FALSE | AM18: =IF(E18<>"",IF(E18>D18,1)) -> FALSE | AN18: =IF(D18<>"",IF(D18=E18,1)) -> FALSE | AO18: =IF(E18<>"",IF(E18=D18,1)) -> FALSE | AP18: =IF(D18<>"",IF(D18<E18,1)) -> FALSE | AQ18: =IF(E18<>"",IF(E18<D18,1)) -> FALSE | AR18: =D18 -> 0 | AS18: =E18 -> 0 | AT18: =E18 -> 0 | AU18: =D18 -> 0
C19: =U7 -> Equipe 4A | F19: =U11 -> Equipe 8A | AH19: =IF(D19="",0,IF(D19>E19,3,IF(D19=E19,1,IF(D19<E19,0)))) -> 0 | AI19: =IF(E19="",0,IF(E19>D19,3,IF(E19=D19,1,IF(E19<D19,0)))) -> 0 | AJ19: =IF(D19="",0,1) -> 0 | AK19: =IF(E19="",0,1) -> 0 | AL19: =IF(D19<>"",IF(D19>E19,1)) -> FALSE | AM19: =IF(E19<>"",IF(E19>D19,1)) -> FALSE | AN19: =IF(D19<>"",IF(D19=E19,1)) -> FALSE | AO19: =IF(E19<>"",IF(E19=D19,1)) -> FALSE | AP19: =IF(D19<>"",IF(D19<E19,1)) -> FALSE | AQ19: =IF(E19<>"",IF(E19<D19,1)) -> FALSE | AR19: =D19 -> 0 | AS19: =E19 -> 0 | AT19: =E19 -> 0 | AU19: =D19 -> 0
C20: =U4 -> Equipe 1A | F20: =U9 -> Equipe 6A | AH20: =IF(D20="",0,IF(D20>E20,3,IF(D20=E20,1,IF(D20<E20,0)))) -> 0 | AI20: =IF(E20="",0,IF(E20>D20,3,IF(E20=D20,1,IF(E20<D20,0)))) -> 0 | AJ20: =IF(D20="",0,1) -> 0 | AK20: =IF(E20="",0,1) -> 0 | AL20: =IF(D20<>"",IF(D20>E20,1)) -> FALSE | AM20: =IF(E20<>"",IF(E20>D20,1)) -> FALSE | AN20: =IF(D20<>"",IF(D20=E20,1)) -> FALSE | AO20: =IF(E20<>"",IF(E20=D20,1)) -> FALSE | AP20: =IF(D20<>"",IF(D20<E20,1)) -> FALSE | AQ20: =IF(E20<>"",IF(E20<D20,1)) -> FALSE | AR20: =D20 -> 0 | AS20: =E20 -> 0 | AT20: =E20 -> 0 | AU20: =D20 -> 0
C21: =U5 -> Equipe 2A | F21: =U10 -> Equipe 7A | AH21: =IF(D21="",0,IF(D21>E21,3,IF(D21=E21,1,IF(D21<E21,0)))) -> 0 | AI21: =IF(E21="",0,IF(E21>D21,3,IF(E21=D21,1,IF(E21<D21,0)))) -> 0 | AJ21: =IF(D21="",0,1) -> 0 | AK21: =IF(E21="",0,1) -> 0 | AL21: =IF(D21<>"",IF(D21>E21,1)) -> FALSE | AM21: =IF(E21<>"",IF(E21>D21,1)) -> FALSE | AN21: =IF(D21<>"",IF(D21=E21,1)) -> FALSE | AO21: =IF(E21<>"",IF(E21=D21,1)) -> FALSE | AP21: =IF(D21<>"",IF(D21<E21,1)) -> FALSE | AQ21: =IF(E21<>"",IF(E21<D21,1)) -> FALSE | AR21: =D21 -> 0 | AS21: =E21 -> 0 | AT21: =E21 -> 0 | AU21: =D21 -> 0
C22: =U6 -> Equipe 3A | F22: =U7 -> Equipe 4A | AH22: =IF(D22="",0,IF(D22>E22,3,IF(D22=E22,1,IF(D22<E22,0)))) -> 0 | AI22: =IF(E22="",0,IF(E22>D22,3,IF(E22=D22,1,IF(E22<D22,0)))) -> 0 | AJ22: =IF(D22="",0,1) -> 0 | AK22: =IF(E22="",0,1) -> 0 | AL22: =IF(D22<>"",IF(D22>E22,1)) -> FALSE | AM22: =IF(E22<>"",IF(E22>D22,1)) -> FALSE | AN22: =IF(D22<>"",IF(D22=E22,1)) -> FALSE | AO22: =IF(E22<>"",IF(E22=D22,1)) -> FALSE | AP22: =IF(D22<>"",IF(D22<E22,1)) -> FALSE | AQ22: =IF(E22<>"",IF(E22<D22,1)) -> FALSE | AR22: =D22 -> 0 | AS22: =E22 -> 0 | AT22: =E22 -> 0 | AU22: =D22 -> 0
C23: =U8 -> Equipe 5A | F23: =U11 -> Equipe 8A | AH23: =IF(D23="",0,IF(D23>E23,3,IF(D23=E23,1,IF(D23<E23,0)))) -> 0 | AI23: =IF(E23="",0,IF(E23>D23,3,IF(E23=D23,1,IF(E23<D23,0)))) -> 0 | AJ23: =IF(D23="",0,1) -> 0 | AK23: =IF(E23="",0,1) -> 0 | AL23: =IF(D23<>"",IF(D23>E23,1)) -> FALSE | AM23: =IF(E23<>"",IF(E23>D23,1)) -> FALSE | AN23: =IF(D23<>"",IF(D23=E23,1)) -> FALSE | AO23: =IF(E23<>"",IF(E23=D23,1)) -> FALSE | AP23: =IF(D23<>"",IF(D23<E23,1)) -> FALSE | AQ23: =IF(E23<>"",IF(E23<D23,1)) -> FALSE | AR23: =D23 -> 0 | AS23: =E23 -> 0 | AT23: =E23 -> 0 | AU23: =D23 -> 0
C24: =U4 -> Equipe 1A | F24: =U10 -> Equipe 7A | AH24: =IF(D24="",0,IF(D24>E24,3,IF(D24=E24,1,IF(D24<E24,0)))) -> 0 | AI24: =IF(E24="",0,IF(E24>D24,3,IF(E24=D24,1,IF(E24<D24,0)))) -> 0 | AJ24: =IF(D24="",0,1) -> 0 | AK24: =IF(E24="",0,1) -> 0 | AL24: =IF(D24<>"",IF(D24>E24,1)) -> FALSE | AM24: =IF(E24<>"",IF(E24>D24,1)) -> FALSE | AN24: =IF(D24<>"",IF(D24=E24,1)) -> FALSE | AO24: =IF(E24<>"",IF(E24=D24,1)) -> FALSE | AP24: =IF(D24<>"",IF(D24<E24,1)) -> FALSE | AQ24: =IF(E24<>"",IF(E24<D24,1)) -> FALSE | AR24: =D24 -> 0 | AS24: =E24 -> 0 | AT24: =E24 -> 0 | AU24: =D24 -> 0
C25: =U5 -> Equipe 2A | F25: =U11 -> Equipe 8A | AH25: =IF(D25="",0,IF(D25>E25,3,IF(D25=E25,1,IF(D25<E25,0)))) -> 0 | AI25: =IF(E25="",0,IF(E25>D25,3,IF(E25=D25,1,IF(E25<D25,0)))) -> 0 | AJ25: =IF(D25="",0,1) -> 0 | AK25: =IF(E25="",0,1) -> 0 | AL25: =IF(D25<>"",IF(D25>E25,1)) -> FALSE | AM25: =IF(E25<>"",IF(E25>D25,1)) -> FALSE | AN25: =IF(D25<>"",IF(D25=E25,1)) -> FALSE | AO25: =IF(E25<>"",IF(E25=D25,1)) -> FALSE | AP25: =IF(D25<>"",IF(D25<E25,1)) -> FALSE | AQ25: =IF(E25<>"",IF(E25<D25,1)) -> FALSE | AR25: =D25 -> 0 | AS25: =E25 -> 0 | AT25: =E25 -> 0 | AU25: =D25 -> 0
C26: =U6 -> Equipe 3A | F26: =U8 -> Equipe 5A | AH26: =IF(D26="",0,IF(D26>E26,3,IF(D26=E26,1,IF(D26<E26,0)))) -> 0 | AI26: =IF(E26="",0,IF(E26>D26,3,IF(E26=D26,1,IF(E26<D26,0)))) -> 0 | AJ26: =IF(D26="",0,1) -> 0 | AK26: =IF(E26="",0,1) -> 0 | AL26: =IF(D26<>"",IF(D26>E26,1)) -> FALSE | AM26: =IF(E26<>"",IF(E26>D26,1)) -> FALSE | AN26: =IF(D26<>"",IF(D26=E26,1)) -> FALSE | AO26: =IF(E26<>"",IF(E26=D26,1)) -> FALSE | AP26: =IF(D26<>"",IF(D26<E26,1)) -> FALSE | AQ26: =IF(E26<>"",IF(E26<D26,1)) -> FALSE | AR26: =D26 -> 0 | AS26: =E26 -> 0 | AT26: =E26 -> 0 | AU26: =D26 -> 0
C27: =U7 -> Equipe 4A | F27: =U9 -> Equipe 6A | AH27: =IF(D27="",0,IF(D27>E27,3,IF(D27=E27,1,IF(D27<E27,0)))) -> 0 | AI27: =IF(E27="",0,IF(E27>D27,3,IF(E27=D27,1,IF(E27<D27,0)))) -> 0 | AJ27: =IF(D27="",0,1) -> 0 | AK27: =IF(E27="",0,1) -> 0 | AL27: =IF(D27<>"",IF(D27>E27,1)) -> FALSE | AM27: =IF(E27<>"",IF(E27>D27,1)) -> FALSE | AN27: =IF(D27<>"",IF(D27=E27,1)) -> FALSE | AO27: =IF(E27<>"",IF(E27=D27,1)) -> FALSE | AP27: =IF(D27<>"",IF(D27<E27,1)) -> FALSE | AQ27: =IF(E27<>"",IF(E27<D27,1)) -> FALSE | AR27: =D27 -> 0 | AS27: =E27 -> 0 | AT27: =E27 -> 0 | AU27: =D27 -> 0
C28: =U4 -> Equipe 1A | F28: =U11 -> Equipe 8A | AH28: =IF(D28="",0,IF(D28>E28,3,IF(D28=E28,1,IF(D28<E28,0)))) -> 0 | AI28: =IF(E28="",0,IF(E28>D28,3,IF(E28=D28,1,IF(E28<D28,0)))) -> 0 | AJ28: =IF(D28="",0,1) -> 0 | AK28: =IF(E28="",0,1) -> 0 | AL28: =IF(D28<>"",IF(D28>E28,1)) -> FALSE | AM28: =IF(E28<>"",IF(E28>D28,1)) -> FALSE | AN28: =IF(D28<>"",IF(D28=E28,1)) -> FALSE | AO28: =IF(E28<>"",IF(E28=D28,1)) -> FALSE | AP28: =IF(D28<>"",IF(D28<E28,1)) -> FALSE | AQ28: =IF(E28<>"",IF(E28<D28,1)) -> FALSE | AR28: =D28 -> 0 | AS28: =E28 -> 0 | AT28: =E28 -> 0 | AU28: =D28 -> 0
C29: =U5 -> Equipe 2A | F29: =U6 -> Equipe 3A | AH29: =IF(D29="",0,IF(D29>E29,3,IF(D29=E29,1,IF(D29<E29,0)))) -> 0 | AI29: =IF(E29="",0,IF(E29>D29,3,IF(E29=D29,1,IF(E29<D29,0)))) -> 0 | AJ29: =IF(D29="",0,1) -> 0 | AK29: =IF(E29="",0,1) -> 0 | AL29: =IF(D29<>"",IF(D29>E29,1)) -> FALSE | AM29: =IF(E29<>"",IF(E29>D29,1)) -> FALSE | AN29: =IF(D29<>"",IF(D29=E29,1)) -> FALSE | AO29: =IF(E29<>"",IF(E29=D29,1)) -> FALSE | AP29: =IF(D29<>"",IF(D29<E29,1)) -> FALSE | AQ29: =IF(E29<>"",IF(E29<D29,1)) -> FALSE | AR29: =D29 -> 0 | AS29: =E29 -> 0 | AT29: =E29 -> 0 | AU29: =D29 -> 0
C30: =U7 -> Equipe 4A | F30: =U10 -> Equipe 7A | AH30: =IF(D30="",0,IF(D30>E30,3,IF(D30=E30,1,IF(D30<E30,0)))) -> 0 | AI30: =IF(E30="",0,IF(E30>D30,3,IF(E30=D30,1,IF(E30<D30,0)))) -> 0 | AJ30: =IF(D30="",0,1) -> 0 | AK30: =IF(E30="",0,1) -> 0 | AL30: =IF(D30<>"",IF(D30>E30,1)) -> FALSE | AM30: =IF(E30<>"",IF(E30>D30,1)) -> FALSE | AN30: =IF(D30<>"",IF(D30=E30,1)) -> FALSE | AO30: =IF(E30<>"",IF(E30=D30,1)) -> FALSE | AP30: =IF(D30<>"",IF(D30<E30,1)) -> FALSE | AQ30: =IF(E30<>"",IF(E30<D30,1)) -> FALSE | AR30: =D30 -> 0 | AS30: =E30 -> 0 | AT30: =E30 -> 0 | AU30: =D30 -> 0
C31: =U8 -> Equipe 5A | F31: =U9 -> Equipe 6A | AH31: =IF(D31="",0,IF(D31>E31,3,IF(D31=E31,1,IF(D31<E31,0)))) -> 0 | AI31: =IF(E31="",0,IF(E31>D31,3,IF(E31=D31,1,IF(E31<D31,0)))) -> 0 | AJ31: =IF(D31="",0,1) -> 0 | AK31: =IF(E31="",0,1) -> 0 | AL31: =IF(D31<>"",IF(D31>E31,1)) -> FALSE | AM31: =IF(E31<>"",IF(E31>D31,1)) -> FALSE | AN31: =IF(D31<>"",IF(D31=E31,1)) -> FALSE | AO31: =IF(E31<>"",IF(E31=D31,1)) -> FALSE | AP31: =IF(D31<>"",IF(D31<E31,1)) -> FALSE | AQ31: =IF(E31<>"",IF(E31<D31,1)) -> FALSE | AR31: =D31 -> 0 | AS31: =E31 -> 0 | AT31: =E31 -> 0 | AU31: =D31 -> 0
A33: POULE B | H33: CLASSEMENT POULE B | U33: CLASSEMENT POULE B
A35: Terrain | B35: Heure | C35: EQUIPES | D35: Pts | E35: Pts | F35: EQUIPES | H35: EQUIPES | I35: Place | J35: Pts | K35: J | L35: G | M35: N | N35: P | O35: B + | P35: B - | Q35: Diff. | S35: R | U35: EQUIPES | V35: R | W35: Place | X35: Pts | Y35: J | Z35: G | AA35: N | AB35: P | AC35: B + | AD35: B - | AE35: Diff. | AF35: % | AG35: % | AH35: Pts | AI35: Pts | AJ35: J | AK35: J | AL35: G | AM35: G | AN35: N | AO35: N | AP35: P | AQ35: P | AR35: B + | AS35: B + | AT35: B - | AU35: B - | AV35: EQUIPES | AW35: % | AX35: R | AY35: EQUIPES
C36: =U36 -> Equipe 1B | F36: =U37 -> Equipe 2B | H36: =VLOOKUP(S36,T$36:U$43,2,0) -> Equipe 1B | I36: 1 | J36: =INDEX($U$35:$AE$43,MATCH($H36,$U$35:$U$43,),MATCH(J$35,$U$35:$AE$35,)) -> 0 | K36: =INDEX($U$35:$AE$43,MATCH($H36,$U$35:$U$43,),MATCH(K$35,$U$35:$AE$35,)) -> 0 | L36: =INDEX($U$35:$AE$43,MATCH($H36,$U$35:$U$43,),MATCH(L$35,$U$35:$AE$35,)) -> 0 | M36: =INDEX($U$35:$AE$43,MATCH($H36,$U$35:$U$43,),MATCH(M$35,$U$35:$AE$35,)) -> 0 | N36: =INDEX($U$35:$AE$43,MATCH($H36,$U$35:$U$43,),MATCH(N$35,$U$35:$AE$35,)) -> 0 | O36: =INDEX($U$35:$AE$43,MATCH($H36,$U$35:$U$43,),MATCH(O$35,$U$35:$AE$35,)) -> 0 | P36: =INDEX($U$35:$AE$43,MATCH($H36,$U$35:$U$43,),MATCH(P$35,$U$35:$AE$35,)) -> 0 | Q36: =INDEX($U$35:$AE$43,MATCH($H36,$U$35:$U$43,),MATCH(Q$35,$U$35:$AE$35,)) -> 0 | S36: 1 | T36: =W36 -> 1 | U36: =Equipes!C2 -> Equipe 1B | V36: =RANK(AF36,AF$36:AF$43) -> 1 | W36: =RANK(AG36,AG$36:AG$43) -> 1 | X36: =SUMPRODUCT((C$36:C$63=U36)*(AH$36:AH$63))+SUMPRODUCT((F$36:F$63=U36)*(AI$36:AI$63)) -> 0 | Y36: =SUMPRODUCT((C$36:C$63=U36)*(AJ$36:AJ$63))+SUMPRODUCT((F$36:F$63=U36)*(AK$36:AK$63)) -> 0 | Z36: =SUMPRODUCT((C$36:C$63=U36)*(AL$36:AL$63))+SUMPRODUCT((F$36:F$63=U36)*(AM$36:AM$63)) -> 0 | AA36: =SUMPRODUCT((C$36:C$63=U36)*(AN$36:AN$63))+SUMPRODUCT((F$36:F$63=U36)*(AO$36:AO$63)) -> 0 | AB36: =SUMPRODUCT((C$36:C$63=U36)*(AP$36:AP$63)+SUMPRODUCT((F$36:F$63=U36)*(AQ$36:AQ$63))) -> 0 | AC36: =SUMPRODUCT((C$36:C$63=U36)*(AR$36:AR$63))+SUMPRODUCT((F$36:F$63=U36)*(AS$36:AS$63)) -> 0 | AD36: =SUMPRODUCT((C$36:C$63=U36)*(AT$36:AT$63))+SUMPRODUCT((F$36:F$63=U36)*(AU$36:AU$63)) -> 0 | AE36: =AC36-AD36 -> 0 | AF36: =SUM(X36*1000+(AE36)/10+(AC36)/100) -> 0 | AG36: =AF36+0.0000008 -> 8e-07 | AH36: =IF(D36="",0,IF(D36>E36,3,IF(D36=E36,1,IF(D36<E36,0)))) -> 0 | AI36: =IF(E36="",0,IF(E36>D36,3,IF(E36=D36,1,IF(E36<D36,0)))) -> 0 | AJ36: =IF(D36="",0,1) -> 0 | AK36: =IF(E36="",0,1) -> 0 | AL36: =IF(D36<>"",IF(D36>E36,1)) -> FALSE | AM36: =IF(E36<>"",IF(E36>D36,1)) -> FALSE | AN36: =IF(D36<>"",IF(D36=E36,1)) -> FALSE | AO36: =IF(E36<>"",IF(E36=D36,1)) -> FALSE | AP36: =IF(D36<>"",IF(D36<E36,1)) -> FALSE | AQ36: =IF(E36<>"",IF(E36<D36,1)) -> FALSE | AR36: =D36 -> 0 | AS36: =E36 -> 0 | AT36: =E36 -> 0 | AU36: =D36 -> 0 | AV36: =VLOOKUP(S36,T$36:U$43,2,0) -> Equipe 1B | AW36: =INDEX(U$36:AF$43,MATCH($AV36,$U$36:$U$43,0),12) -> 0 | AX36: =RANK(AW36,AW$36:AW$43) -> 1 | AY36: =U36 -> Equipe 1B
C37: =U38 -> Equipe 3B | F37: =U43 -> Equipe 8B | H37: =VLOOKUP(S37,T$36:U$43,2,0) -> Equipe 2B | I37: =IF(AW37=AW36,AX36,AX37) -> 1 | J37: =INDEX($U$35:$AE$43,MATCH($H37,$U$35:$U$43,),MATCH(J$35,$U$35:$AE$35,)) -> 0 | K37: =INDEX($U$35:$AE$43,MATCH($H37,$U$35:$U$43,),MATCH(K$35,$U$35:$AE$35,)) -> 0 | L37: =INDEX($U$35:$AE$43,MATCH($H37,$U$35:$U$43,),MATCH(L$35,$U$35:$AE$35,)) -> 0 | M37: =INDEX($U$35:$AE$43,MATCH($H37,$U$35:$U$43,),MATCH(M$35,$U$35:$AE$35,)) -> 0 | N37: =INDEX($U$35:$AE$43,MATCH($H37,$U$35:$U$43,),MATCH(N$35,$U$35:$AE$35,)) -> 0 | O37: =INDEX($U$35:$AE$43,MATCH($H37,$U$35:$U$43,),MATCH(O$35,$U$35:$AE$35,)) -> 0 | P37: =INDEX($U$35:$AE$43,MATCH($H37,$U$35:$U$43,),MATCH(P$35,$U$35:$AE$35,)) -> 0 | Q37: =INDEX($U$35:$AE$43,MATCH($H37,$U$35:$U$43,),MATCH(Q$35,$U$35:$AE$35,)) -> 0 | S37: 2 | T37: =W37 -> 2 | U37: =Equipes!C3 -> Equipe 2B | V37: =RANK(AF37,AF$36:AF$43) -> 1 | W37: =RANK(AG37,AG$36:AG$43) -> 2 | X37: =SUMPRODUCT((C$36:C$63=U37)*(AH$36:AH$63))+SUMPRODUCT((F$36:F$63=U37)*(AI$36:AI$63)) -> 0 | Y37: =SUMPRODUCT((C$36:C$63=U37)*(AJ$36:AJ$63))+SUMPRODUCT((F$36:F$63=U37)*(AK$36:AK$63)) -> 0 | Z37: =SUMPRODUCT((C$36:C$63=U37)*(AL$36:AL$63))+SUMPRODUCT((F$36:F$63=U37)*(AM$36:AM$63)) -> 0 | AA37: =SUMPRODUCT((C$36:C$63=U37)*(AN$36:AN$63))+SUMPRODUCT((F$36:F$63=U37)*(AO$36:AO$63)) -> 0 | AB37: =SUMPRODUCT((C$36:C$63=U37)*(AP$36:AP$63)+SUMPRODUCT((F$36:F$63=U37)*(AQ$36:AQ$63))) -> 0 | AC37: =SUMPRODUCT((C$36:C$63=U37)*(AR$36:AR$63))+SUMPRODUCT((F$36:F$63=U37)*(AS$36:AS$63)) -> 0 | AD37: =SUMPRODUCT((C$36:C$63=U37)*(AT$36:AT$63))+SUMPRODUCT((F$36:F$63=U37)*(AU$36:AU$63)) -> 0 | AE37: =AC37-AD37 -> 0 | AF37: =SUM(X37*1000+(AE37)/10+(AC37)/100) -> 0 | AG37: =AF37+0.0000007 -> 7e-07 | AH37: =IF(D37="",0,IF(D37>E37,3,IF(D37=E37,1,IF(D37<E37,0)))) -> 0 | AI37: =IF(E37="",0,IF(E37>D37,3,IF(E37=D37,1,IF(E37<D37,0)))) -> 0 | AJ37: =IF(D37="",0,1) -> 0 | AK37: =IF(E37="",0,1) -> 0 | AL37: =IF(D37<>"",IF(D37>E37,1)) -> FALSE | AM37: =IF(E37<>"",IF(E37>D37,1)) -> FALSE | AN37: =IF(D37<>"",IF(D37=E37,1)) -> FALSE | AO37: =IF(E37<>"",IF(E37=D37,1)) -> FALSE | AP37: =IF(D37<>"",IF(D37<E37,1)) -> FALSE | AQ37: =IF(E37<>"",IF(E37<D37,1)) -> FALSE | AR37: =D37 -> 0 | AS37: =E37 -> 0 | AT37: =E37 -> 0 | AU37: =D37 -> 0 | AV37: =VLOOKUP(S37,T$36:U$43,2,0) -> Equipe 2B | AW37: =INDEX(U$36:AF$43,MATCH($AV37,$U$36:$U$43,0),12) -> 0 | AX37: =RANK(AW37,AW$36:AW$43) -> 1 | AY37: =U37 -> Equipe 2B
C38: =U39 -> Equipe 4B | F38: =U40 -> Equipe 5B | H38: =VLOOKUP(S38,T$36:U$43,2,0) -> Equipe 3B | I38: =IF(AW38=AW37,AX37,AX38) -> 1 | J38: =INDEX($U$35:$AE$43,MATCH($H38,$U$35:$U$43,),MATCH(J$35,$U$35:$AE$35,)) -> 0 | K38: =INDEX($U$35:$AE$43,MATCH($H38,$U$35:$U$43,),MATCH(K$35,$U$35:$AE$35,)) -> 0 | L38: =INDEX($U$35:$AE$43,MATCH($H38,$U$35:$U$43,),MATCH(L$35,$U$35:$AE$35,)) -> 0 | M38: =INDEX($U$35:$AE$43,MATCH($H38,$U$35:$U$43,),MATCH(M$35,$U$35:$AE$35,)) -> 0 | N38: =INDEX($U$35:$AE$43,MATCH($H38,$U$35:$U$43,),MATCH(N$35,$U$35:$AE$35,)) -> 0 | O38: =INDEX($U$35:$AE$43,MATCH($H38,$U$35:$U$43,),MATCH(O$35,$U$35:$AE$35,)) -> 0 | P38: =INDEX($U$35:$AE$43,MATCH($H38,$U$35:$U$43,),MATCH(P$35,$U$35:$AE$35,)) -> 0 | Q38: =INDEX($U$35:$AE$43,MATCH($H38,$U$35:$U$43,),MATCH(Q$35,$U$35:$AE$35,)) -> 0 | S38: 3 | T38: =W38 -> 3 | U38: =Equipes!C4 -> Equipe 3B | V38: =RANK(AF38,AF$36:AF$43) -> 1 | W38: =RANK(AG38,AG$36:AG$43) -> 3 | X38: =SUMPRODUCT((C$36:C$63=U38)*(AH$36:AH$63))+SUMPRODUCT((F$36:F$63=U38)*(AI$36:AI$63)) -> 0 | Y38: =SUMPRODUCT((C$36:C$63=U38)*(AJ$36:AJ$63))+SUMPRODUCT((F$36:F$63=U38)*(AK$36:AK$63)) -> 0 | Z38: =SUMPRODUCT((C$36:C$63=U38)*(AL$36:AL$63))+SUMPRODUCT((F$36:F$63=U38)*(AM$36:AM$63)) -> 0 | AA38: =SUMPRODUCT((C$36:C$63=U38)*(AN$36:AN$63))+SUMPRODUCT((F$36:F$63=U38)*(AO$36:AO$63)) -> 0 | AB38: =SUMPRODUCT((C$36:C$63=U38)*(AP$36:AP$63)+SUMPRODUCT((F$36:F$63=U38)*(AQ$36:AQ$63))) -> 0 | AC38: =SUMPRODUCT((C$36:C$63=U38)*(AR$36:AR$63))+SUMPRODUCT((F$36:F$63=U38)*(AS$36:AS$63)) -> 0 | AD38: =SUMPRODUCT((C$36:C$63=U38)*(AT$36:AT$63))+SUMPRODUCT((F$36:F$63=U38)*(AU$36:AU$63)) -> 0 | AE38: =AC38-AD38 -> 0 | AF38: =SUM(X38*1000+(AE38)/10+(AC38)/100) -> 0 | AG38: =AF38+0.0000006 -> 6e-07 | AH38: =IF(D38="",0,IF(D38>E38,3,IF(D38=E38,1,IF(D38<E38,0)))) -> 0 | AI38: =IF(E38="",0,IF(E38>D38,3,IF(E38=D38,1,IF(E38<D38,0)))) -> 0 | AJ38: =IF(D38="",0,1) -> 0 | AK38: =IF(E38="",0,1) -> 0 | AL38: =IF(D38<>"",IF(D38>E38,1)) -> FALSE | AM38: =IF(E38<>"",IF(E38>D38,1)) -> FALSE | AN38: =IF(D38<>"",IF(D38=E38,1)) -> FALSE | AO38: =IF(E38<>"",IF(E38=D38,1)) -> FALSE | AP38: =IF(D38<>"",IF(D38<E38,1)) -> FALSE | AQ38: =IF(E38<>"",IF(E38<D38,1)) -> FALSE | AR38: =D38 -> 0 | AS38: =E38 -> 0 | AT38: =E38 -> 0 | AU38: =D38 -> 0 | AV38: =VLOOKUP(S38,T$36:U$43,2,0) -> Equipe 3B | AW38: =INDEX(U$36:AF$43,MATCH($AV38,$U$36:$U$43,0),12) -> 0 | AX38: =RANK(AW38,AW$36:AW$43) -> 1 | AY38: =U38 -> Equipe 3B
C39: =U41 -> Equipe 6B | F39: =U42 -> Equipe 7B | H39: =VLOOKUP(S39,T$36:U$43,2,0) -> Equipe 4B | I39: =IF(AW39=AW38,AX38,AX39) -> 1 | J39: =INDEX($U$35:$AE$43,MATCH($H39,$U$35:$U$43,),MATCH(J$35,$U$35:$AE$35,)) -> 0 | K39: =INDEX($U$35:$AE$43,MATCH($H39,$U$35:$U$43,),MATCH(K$35,$U$35:$AE$35,)) -> 0 | L39: =INDEX($U$35:$AE$43,MATCH($H39,$U$35:$U$43,),MATCH(L$35,$U$35:$AE$35,)) -> 0 | M39: =INDEX($U$35:$AE$43,MATCH($H39,$U$35:$U$43,),MATCH(M$35,$U$35:$AE$35,)) -> 0 | N39: =INDEX($U$35:$AE$43,MATCH($H39,$U$35:$U$43,),MATCH(N$35,$U$35:$AE$35,)) -> 0 | O39: =INDEX($U$35:$AE$43,MATCH($H39,$U$35:$U$43,),MATCH(O$35,$U$35:$AE$35,)) -> 0 | P39: =INDEX($U$35:$AE$43,MATCH($H39,$U$35:$U$43,),MATCH(P$35,$U$35:$AE$35,)) -> 0 | Q39: =INDEX($U$35:$AE$43,MATCH($H39,$U$35:$U$43,),MATCH(Q$35,$U$35:$AE$35,)) -> 0 | S39: 4 | T39: =W39 -> 4 | U39: =Equipes!C5 -> Equipe 4B | V39: =RANK(AF39,AF$36:AF$43) -> 1 | W39: =RANK(AG39,AG$36:AG$43) -> 4 | X39: =SUMPRODUCT((C$36:C$63=U39)*(AH$36:AH$63))+SUMPRODUCT((F$36:F$63=U39)*(AI$36:AI$63)) -> 0 | Y39: =SUMPRODUCT((C$36:C$63=U39)*(AJ$36:AJ$63))+SUMPRODUCT((F$36:F$63=U39)*(AK$36:AK$63)) -> 0 | Z39: =SUMPRODUCT((C$36:C$63=U39)*(AL$36:AL$63))+SUMPRODUCT((F$36:F$63=U39)*(AM$36:AM$63)) -> 0 | AA39: =SUMPRODUCT((C$36:C$63=U39)*(AN$36:AN$63))+SUMPRODUCT((F$36:F$63=U39)*(AO$36:AO$63)) -> 0 | AB39: =SUMPRODUCT((C$36:C$63=U39)*(AP$36:AP$63)+SUMPRODUCT((F$36:F$63=U39)*(AQ$36:AQ$63))) -> 0 | AC39: =SUMPRODUCT((C$36:C$63=U39)*(AR$36:AR$63))+SUMPRODUCT((F$36:F$63=U39)*(AS$36:AS$63)) -> 0 | AD39: =SUMPRODUCT((C$36:C$63=U39)*(AT$36:AT$63))+SUMPRODUCT((F$36:F$63=U39)*(AU$36:AU$63)) -> 0 | AE39: =AC39-AD39 -> 0 | AF39: =SUM(X39*1000+(AE39)/10+(AC39)/100) -> 0 | AG39: =AF39+0.0000005 -> 5e-07 | AH39: =IF(D39="",0,IF(D39>E39,3,IF(D39=E39,1,IF(D39<E39,0)))) -> 0 | AI39: =IF(E39="",0,IF(E39>D39,3,IF(E39=D39,1,IF(E39<D39,0)))) -> 0 | AJ39: =IF(D39="",0,1) -> 0 | AK39: =IF(E39="",0,1) -> 0 | AL39: =IF(D39<>"",IF(D39>E39,1)) -> FALSE | AM39: =IF(E39<>"",IF(E39>D39,1)) -> FALSE | AN39: =IF(D39<>"",IF(D39=E39,1)) -> FALSE | AO39: =IF(E39<>"",IF(E39=D39,1)) -> FALSE | AP39: =IF(D39<>"",IF(D39<E39,1)) -> FALSE | AQ39: =IF(E39<>"",IF(E39<D39,1)) -> FALSE | AR39: =D39 -> 0 | AS39: =E39 -> 0 | AT39: =E39 -> 0 | AU39: =D39 -> 0 | AV39: =VLOOKUP(S39,T$36:U$43,2,0) -> Equipe 4B | AW39: =INDEX(U$36:AF$43,MATCH($AV39,$U$36:$U$43,0),12) -> 0 | AX39: =RANK(AW39,AW$36:AW$43) -> 1 | AY39: =U39 -> Equipe 4B
C40: =U36 -> Equipe 1B | F40: =U38 -> Equipe 3B | H40: =VLOOKUP(S40,T$36:U$43,2,0) -> Equipe 5B | I40: =IF(AW40=AW39,AX39,AX40) -> 1 | J40: =INDEX($U$35:$AE$43,MATCH($H40,$U$35:$U$43,),MATCH(J$35,$U$35:$AE$35,)) -> 0 | K40: =INDEX($U$35:$AE$43,MATCH($H40,$U$35:$U$43,),MATCH(K$35,$U$35:$AE$35,)) -> 0 | L40: =INDEX($U$35:$AE$43,MATCH($H40,$U$35:$U$43,),MATCH(L$35,$U$35:$AE$35,)) -> 0 | M40: =INDEX($U$35:$AE$43,MATCH($H40,$U$35:$U$43,),MATCH(M$35,$U$35:$AE$35,)) -> 0 | N40: =INDEX($U$35:$AE$43,MATCH($H40,$U$35:$U$43,),MATCH(N$35,$U$35:$AE$35,)) -> 0 | O40: =INDEX($U$35:$AE$43,MATCH($H40,$U$35:$U$43,),MATCH(O$35,$U$35:$AE$35,)) -> 0 | P40: =INDEX($U$35:$AE$43,MATCH($H40,$U$35:$U$43,),MATCH(P$35,$U$35:$AE$35,)) -> 0 | Q40: =INDEX($U$35:$AE$43,MATCH($H40,$U$35:$U$43,),MATCH(Q$35,$U$35:$AE$35,)) -> 0 | S40: 5 | T40: =W40 -> 5 | U40: =Equipes!C6 -> Equipe 5B | V40: =RANK(AF40,AF$36:AF$43) -> 1 | W40: =RANK(AG40,AG$36:AG$43) -> 5 | X40: =SUMPRODUCT((C$36:C$63=U40)*(AH$36:AH$63))+SUMPRODUCT((F$36:F$63=U40)*(AI$36:AI$63)) -> 0 | Y40: =SUMPRODUCT((C$36:C$63=U40)*(AJ$36:AJ$63))+SUMPRODUCT((F$36:F$63=U40)*(AK$36:AK$63)) -> 0 | Z40: =SUMPRODUCT((C$36:C$63=U40)*(AL$36:AL$63))+SUMPRODUCT((F$36:F$63=U40)*(AM$36:AM$63)) -> 0 | AA40: =SUMPRODUCT((C$36:C$63=U40)*(AN$36:AN$63))+SUMPRODUCT((F$36:F$63=U40)*(AO$36:AO$63)) -> 0 | AB40: =SUMPRODUCT((C$36:C$63=U40)*(AP$36:AP$63)+SUMPRODUCT((F$36:F$63=U40)*(AQ$36:AQ$63))) -> 0 | AC40: =SUMPRODUCT((C$36:C$63=U40)*(AR$36:AR$63))+SUMPRODUCT((F$36:F$63=U40)*(AS$36:AS$63)) -> 0 | AD40: =SUMPRODUCT((C$36:C$63=U40)*(AT$36:AT$63))+SUMPRODUCT((F$36:F$63=U40)*(AU$36:AU$63)) -> 0 | AE40: =AC40-AD40 -> 0 | AF40: =SUM(X40*1000+(AE40)/10+(AC40)/100) -> 0 | AG40: =AF40+0.0000004 -> 4e-07 | AH40: =IF(D40="",0,IF(D40>E40,3,IF(D40=E40,1,IF(D40<E40,0)))) -> 0 | AI40: =IF(E40="",0,IF(E40>D40,3,IF(E40=D40,1,IF(E40<D40,0)))) -> 0 | AJ40: =IF(D40="",0,1) -> 0 | AK40: =IF(E40="",0,1) -> 0 | AL40: =IF(D40<>"",IF(D40>E40,1)) -> FALSE | AM40: =IF(E40<>"",IF(E40>D40,1)) -> FALSE | AN40: =IF(D40<>"",IF(D40=E40,1)) -> FALSE | AO40: =IF(E40<>"",IF(E40=D40,1)) -> FALSE | AP40: =IF(D40<>"",IF(D40<E40,1)) -> FALSE | AQ40: =IF(E40<>"",IF(E40<D40,1)) -> FALSE | AR40: =D40 -> 0 | AS40: =E40 -> 0 | AT40: =E40 -> 0 | AU40: =D40 -> 0 | AV40: =VLOOKUP(S40,T$36:U$43,2,0) -> Equipe 5B | AW40: =INDEX(U$36:AF$43,MATCH($AV40,$U$36:$U$43,0),12) -> 0 | AX40: =RANK(AW40,AW$36:AW$43) -> 1 | AY40: =U40 -> Equipe 5B
C41: =U37 -> Equipe 2B | F41: =U39 -> Equipe 4B | H41: =VLOOKUP(S41,T$36:U$43,2,0) -> Equipe 6B | I41: =IF(AW41=AW40,AX40,AX41) -> 1 | J41: =INDEX($U$35:$AE$43,MATCH($H41,$U$35:$U$43,),MATCH(J$35,$U$35:$AE$35,)) -> 0 | K41: =INDEX($U$35:$AE$43,MATCH($H41,$U$35:$U$43,),MATCH(K$35,$U$35:$AE$35,)) -> 0 | L41: =INDEX($U$35:$AE$43,MATCH($H41,$U$35:$U$43,),MATCH(L$35,$U$35:$AE$35,)) -> 0 | M41: =INDEX($U$35:$AE$43,MATCH($H41,$U$35:$U$43,),MATCH(M$35,$U$35:$AE$35,)) -> 0 | N41: =INDEX($U$35:$AE$43,MATCH($H41,$U$35:$U$43,),MATCH(N$35,$U$35:$AE$35,)) -> 0 | O41: =INDEX($U$35:$AE$43,MATCH($H41,$U$35:$U$43,),MATCH(O$35,$U$35:$AE$35,)) -> 0 | P41: =INDEX($U$35:$AE$43,MATCH($H41,$U$35:$U$43,),MATCH(P$35,$U$35:$AE$35,)) -> 0 | Q41: =INDEX($U$35:$AE$43,MATCH($H41,$U$35:$U$43,),MATCH(Q$35,$U$35:$AE$35,)) -> 0 | S41: 6 | T41: =W41 -> 6 | U41: =Equipes!C7 -> Equipe 6B | V41: =RANK(AF41,AF$36:AF$43) -> 1 | W41: =RANK(AG41,AG$36:AG$43) -> 6 | X41: =SUMPRODUCT((C$36:C$63=U41)*(AH$36:AH$63))+SUMPRODUCT((F$36:F$63=U41)*(AI$36:AI$63)) -> 0 | Y41: =SUMPRODUCT((C$36:C$63=U41)*(AJ$36:AJ$63))+SUMPRODUCT((F$36:F$63=U41)*(AK$36:AK$63)) -> 0 | Z41: =SUMPRODUCT((C$36:C$63=U41)*(AL$36:AL$63))+SUMPRODUCT((F$36:F$63=U41)*(AM$36:AM$63)) -> 0 | AA41: =SUMPRODUCT((C$36:C$63=U41)*(AN$36:AN$63))+SUMPRODUCT((F$36:F$63=U41)*(AO$36:AO$63)) -> 0 | AB41: =SUMPRODUCT((C$36:C$63=U41)*(AP$36:AP$63)+SUMPRODUCT((F$36:F$63=U41)*(AQ$36:AQ$63))) -> 0 | AC41: =SUMPRODUCT((C$36:C$63=U41)*(AR$36:AR$63))+SUMPRODUCT((F$36:F$63=U41)*(AS$36:AS$63)) -> 0 | AD41: =SUMPRODUCT((C$36:C$63=U41)*(AT$36:AT$63))+SUMPRODUCT((F$36:F$63=U41)*(AU$36:AU$63)) -> 0 | AE41: =AC41-AD41 -> 0 | AF41: =SUM(X41*1000+(AE41)/10+(AC41)/100) -> 0 | AG41: =AF41+0.0000003 -> 3e-07 | AH41: =IF(D41="",0,IF(D41>E41,3,IF(D41=E41,1,IF(D41<E41,0)))) -> 0 | AI41: =IF(E41="",0,IF(E41>D41,3,IF(E41=D41,1,IF(E41<D41,0)))) -> 0 | AJ41: =IF(D41="",0,1) -> 0 | AK41: =IF(E41="",0,1) -> 0 | AL41: =IF(D41<>"",IF(D41>E41,1)) -> FALSE | AM41: =IF(E41<>"",IF(E41>D41,1)) -> FALSE | AN41: =IF(D41<>"",IF(D41=E41,1)) -> FALSE | AO41: =IF(E41<>"",IF(E41=D41,1)) -> FALSE | AP41: =IF(D41<>"",IF(D41<E41,1)) -> FALSE | AQ41: =IF(E41<>"",IF(E41<D41,1)) -> FALSE | AR41: =D41 -> 0 | AS41: =E41 -> 0 | AT41: =E41 -> 0 | AU41: =D41 -> 0 | AV41: =VLOOKUP(S41,T$36:U$43,2,0) -> Equipe 6B | AW41: =INDEX(U$36:AF$43,MATCH($AV41,$U$36:$U$43,0),12) -> 0 | AX41: =RANK(AW41,AW$36:AW$43) -> 1 | AY41: =U41 -> Equipe 6B
C42: =U40 -> Equipe 5B | F42: =U42 -> Equipe 7B | H42: =VLOOKUP(S42,T$36:U$43,2,0) -> Equipe 7B | I42: =IF(AW42=AW41,AX41,AX42) -> 1 | J42: =INDEX($U$35:$AE$43,MATCH($H42,$U$35:$U$43,),MATCH(J$35,$U$35:$AE$35,)) -> 0 | K42: =INDEX($U$35:$AE$43,MATCH($H42,$U$35:$U$43,),MATCH(K$35,$U$35:$AE$35,)) -> 0 | L42: =INDEX($U$35:$AE$43,MATCH($H42,$U$35:$U$43,),MATCH(L$35,$U$35:$AE$35,)) -> 0 | M42: =INDEX($U$35:$AE$43,MATCH($H42,$U$35:$U$43,),MATCH(M$35,$U$35:$AE$35,)) -> 0 | N42: =INDEX($U$35:$AE$43,MATCH($H42,$U$35:$U$43,),MATCH(N$35,$U$35:$AE$35,)) -> 0 | O42: =INDEX($U$35:$AE$43,MATCH($H42,$U$35:$U$43,),MATCH(O$35,$U$35:$AE$35,)) -> 0 | P42: =INDEX($U$35:$AE$43,MATCH($H42,$U$35:$U$43,),MATCH(P$35,$U$35:$AE$35,)) -> 0 | Q42: =INDEX($U$35:$AE$43,MATCH($H42,$U$35:$U$43,),MATCH(Q$35,$U$35:$AE$35,)) -> 0 | S42: 7 | T42: =W42 -> 7 | U42: =Equipes!C8 -> Equipe 7B | V42: =RANK(AF42,AF$36:AF$43) -> 1 | W42: =RANK(AG42,AG$36:AG$43) -> 7 | X42: =SUMPRODUCT((C$36:C$63=U42)*(AH$36:AH$63))+SUMPRODUCT((F$36:F$63=U42)*(AI$36:AI$63)) -> 0 | Y42: =SUMPRODUCT((C$36:C$63=U42)*(AJ$36:AJ$63))+SUMPRODUCT((F$36:F$63=U42)*(AK$36:AK$63)) -> 0 | Z42: =SUMPRODUCT((C$36:C$63=U42)*(AL$36:AL$63))+SUMPRODUCT((F$36:F$63=U42)*(AM$36:AM$63)) -> 0 | AA42: =SUMPRODUCT((C$36:C$63=U42)*(AN$36:AN$63))+SUMPRODUCT((F$36:F$63=U42)*(AO$36:AO$63)) -> 0 | AB42: =SUMPRODUCT((C$36:C$63=U42)*(AP$36:AP$63)+SUMPRODUCT((F$36:F$63=U42)*(AQ$36:AQ$63))) -> 0 | AC42: =SUMPRODUCT((C$36:C$63=U42)*(AR$36:AR$63))+SUMPRODUCT((F$36:F$63=U42)*(AS$36:AS$63)) -> 0 | AD42: =SUMPRODUCT((C$36:C$63=U42)*(AT$36:AT$63))+SUMPRODUCT((F$36:F$63=U42)*(AU$36:AU$63)) -> 0 | AE42: =AC42-AD42 -> 0 | AF42: =SUM(X42*1000+(AE42)/10+(AC42)/100) -> 0 | AG42: =AF42+0.0000002 -> 2e-07 | AH42: =IF(D42="",0,IF(D42>E42,3,IF(D42=E42,1,IF(D42<E42,0)))) -> 0 | AI42: =IF(E42="",0,IF(E42>D42,3,IF(E42=D42,1,IF(E42<D42,0)))) -> 0 | AJ42: =IF(D42="",0,1) -> 0 | AK42: =IF(E42="",0,1) -> 0 | AL42: =IF(D42<>"",IF(D42>E42,1)) -> FALSE | AM42: =IF(E42<>"",IF(E42>D42,1)) -> FALSE | AN42: =IF(D42<>"",IF(D42=E42,1)) -> FALSE | AO42: =IF(E42<>"",IF(E42=D42,1)) -> FALSE | AP42: =IF(D42<>"",IF(D42<E42,1)) -> FALSE | AQ42: =IF(E42<>"",IF(E42<D42,1)) -> FALSE | AR42: =D42 -> 0 | AS42: =E42 -> 0 | AT42: =E42 -> 0 | AU42: =D42 -> 0 | AV42: =VLOOKUP(S42,T$36:U$43,2,0) -> Equipe 7B | AW42: =INDEX(U$36:AF$43,MATCH($AV42,$U$36:$U$43,0),12) -> 0 | AX42: =RANK(AW42,AW$36:AW$43) -> 1 | AY42: =U42 -> Equipe 7B
C43: =U41 -> Equipe 6B | F43: =U43 -> Equipe 8B | H43: =VLOOKUP(S43,T$36:U$43,2,0) -> Equipe 8B | I43: =IF(AW43=AW42,AX42,AX43) -> 1 | J43: =INDEX($U$35:$AE$43,MATCH($H43,$U$35:$U$43,),MATCH(J$35,$U$35:$AE$35,)) -> 0 | K43: =INDEX($U$35:$AE$43,MATCH($H43,$U$35:$U$43,),MATCH(K$35,$U$35:$AE$35,)) -> 0 | L43: =INDEX($U$35:$AE$43,MATCH($H43,$U$35:$U$43,),MATCH(L$35,$U$35:$AE$35,)) -> 0 | M43: =INDEX($U$35:$AE$43,MATCH($H43,$U$35:$U$43,),MATCH(M$35,$U$35:$AE$35,)) -> 0 | N43: =INDEX($U$35:$AE$43,MATCH($H43,$U$35:$U$43,),MATCH(N$35,$U$35:$AE$35,)) -> 0 | O43: =INDEX($U$35:$AE$43,MATCH($H43,$U$35:$U$43,),MATCH(O$35,$U$35:$AE$35,)) -> 0 | P43: =INDEX($U$35:$AE$43,MATCH($H43,$U$35:$U$43,),MATCH(P$35,$U$35:$AE$35,)) -> 0 | Q43: =INDEX($U$35:$AE$43,MATCH($H43,$U$35:$U$43,),MATCH(Q$35,$U$35:$AE$35,)) -> 0 | S43: 8 | T43: =W43 -> 8 | U43: =Equipes!C9 -> Equipe 8B | V43: =RANK(AF43,AF$36:AF$43) -> 1 | W43: =RANK(AG43,AG$36:AG$43) -> 8 | X43: =SUMPRODUCT((C$36:C$63=U43)*(AH$36:AH$63))+SUMPRODUCT((F$36:F$63=U43)*(AI$36:AI$63)) -> 0 | Y43: =SUMPRODUCT((C$36:C$63=U43)*(AJ$36:AJ$63))+SUMPRODUCT((F$36:F$63=U43)*(AK$36:AK$63)) -> 0 | Z43: =SUMPRODUCT((C$36:C$63=U43)*(AL$36:AL$63))+SUMPRODUCT((F$36:F$63=U43)*(AM$36:AM$63)) -> 0 | AA43: =SUMPRODUCT((C$36:C$63=U43)*(AN$36:AN$63))+SUMPRODUCT((F$36:F$63=U43)*(AO$36:AO$63)) -> 0 | AB43: =SUMPRODUCT((C$36:C$63=U43)*(AP$36:AP$63)+SUMPRODUCT((F$36:F$63=U43)*(AQ$36:AQ$63))) -> 0 | AC43: =SUMPRODUCT((C$36:C$63=U43)*(AR$36:AR$63))+SUMPRODUCT((F$36:F$63=U43)*(AS$36:AS$63)) -> 0 | AD43: =SUMPRODUCT((C$36:C$63=U43)*(AT$36:AT$63))+SUMPRODUCT((F$36:F$63=U43)*(AU$36:AU$63)) -> 0 | AE43: =AC43-AD43 -> 0 | AF43: =SUM(X43*1000+(AE43)/10+(AC43)/100) -> 0 | AG43: =AF43+0.0000001 -> 1e-07 | AH43: =IF(D43="",0,IF(D43>E43,3,IF(D43=E43,1,IF(D43<E43,0)))) -> 0 | AI43: =IF(E43="",0,IF(E43>D43,3,IF(E43=D43,1,IF(E43<D43,0)))) -> 0 | AJ43: =IF(D43="",0,1) -> 0 | AK43: =IF(E43="",0,1) -> 0 | AL43: =IF(D43<>"",IF(D43>E43,1)) -> FALSE | AM43: =IF(E43<>"",IF(E43>D43,1)) -> FALSE | AN43: =IF(D43<>"",IF(D43=E43,1)) -> FALSE | AO43: =IF(E43<>"",IF(E43=D43,1)) -> FALSE | AP43: =IF(D43<>"",IF(D43<E43,1)) -> FALSE | AQ43: =IF(E43<>"",IF(E43<D43,1)) -> FALSE | AR43: =D43 -> 0 | AS43: =E43 -> 0 | AT43: =E43 -> 0 | AU43: =D43 -> 0 | AV43: =VLOOKUP(S43,T$36:U$43,2,0) -> Equipe 8B | AW43: =INDEX(U$36:AF$43,MATCH($AV43,$U$36:$U$43,0),12) -> 0 | AX43: =RANK(AW43,AW$36:AW$43) -> 1 | AY43: =U43 -> Equipe 8B
C44: =U36 -> Equipe 1B | F44: =U39 -> Equipe 4B | AH44: =IF(D44="",0,IF(D44>E44,3,IF(D44=E44,1,IF(D44<E44,0)))) -> 0 | AI44: =IF(E44="",0,IF(E44>D44,3,IF(E44=D44,1,IF(E44<D44,0)))) -> 0 | AJ44: =IF(D44="",0,1) -> 0 | AK44: =IF(E44="",0,1) -> 0 | AL44: =IF(D44<>"",IF(D44>E44,1)) -> FALSE | AM44: =IF(E44<>"",IF(E44>D44,1)) -> FALSE | AN44: =IF(D44<>"",IF(D44=E44,1)) -> FALSE | AO44: =IF(E44<>"",IF(E44=D44,1)) -> FALSE | AP44: =IF(D44<>"",IF(D44<E44,1)) -> FALSE | AQ44: =IF(E44<>"",IF(E44<D44,1)) -> FALSE | AR44: =D44 -> 0 | AS44: =E44 -> 0 | AT44: =E44 -> 0 | AU44: =D44 -> 0
C45: =U37 -> Equipe 2B | F45: =U40 -> Equipe 5B | AH45: =IF(D45="",0,IF(D45>E45,3,IF(D45=E45,1,IF(D45<E45,0)))) -> 0 | AI45: =IF(E45="",0,IF(E45>D45,3,IF(E45=D45,1,IF(E45<D45,0)))) -> 0 | AJ45: =IF(D45="",0,1) -> 0 | AK45: =IF(E45="",0,1) -> 0 | AL45: =IF(D45<>"",IF(D45>E45,1)) -> FALSE | AM45: =IF(E45<>"",IF(E45>D45,1)) -> FALSE | AN45: =IF(D45<>"",IF(D45=E45,1)) -> FALSE | AO45: =IF(E45<>"",IF(E45=D45,1)) -> FALSE | AP45: =IF(D45<>"",IF(D45<E45,1)) -> FALSE | AQ45: =IF(E45<>"",IF(E45<D45,1)) -> FALSE | AR45: =D45 -> 0 | AS45: =E45 -> 0 | AT45: =E45 -> 0 | AU45: =D45 -> 0
C46: =U38 -> Equipe 3B | F46: =U41 -> Equipe 6B | AH46: =IF(D46="",0,IF(D46>E46,3,IF(D46=E46,1,IF(D46<E46,0)))) -> 0 | AI46: =IF(E46="",0,IF(E46>D46,3,IF(E46=D46,1,IF(E46<D46,0)))) -> 0 | AJ46: =IF(D46="",0,1) -> 0 | AK46: =IF(E46="",0,1) -> 0 | AL46: =IF(D46<>"",IF(D46>E46,1)) -> FALSE | AM46: =IF(E46<>"",IF(E46>D46,1)) -> FALSE | AN46: =IF(D46<>"",IF(D46=E46,1)) -> FALSE | AO46: =IF(E46<>"",IF(E46=D46,1)) -> FALSE | AP46: =IF(D46<>"",IF(D46<E46,1)) -> FALSE | AQ46: =IF(E46<>"",IF(E46<D46,1)) -> FALSE | AR46: =D46 -> 0 | AS46: =E46 -> 0 | AT46: =E46 -> 0 | AU46: =D46 -> 0
C47: =U42 -> Equipe 7B | F47: =U43 -> Equipe 8B | AH47: =IF(D47="",0,IF(D47>E47,3,IF(D47=E47,1,IF(D47<E47,0)))) -> 0 | AI47: =IF(E47="",0,IF(E47>D47,3,IF(E47=D47,1,IF(E47<D47,0)))) -> 0 | AJ47: =IF(D47="",0,1) -> 0 | AK47: =IF(E47="",0,1) -> 0 | AL47: =IF(D47<>"",IF(D47>E47,1)) -> FALSE | AM47: =IF(E47<>"",IF(E47>D47,1)) -> FALSE | AN47: =IF(D47<>"",IF(D47=E47,1)) -> FALSE | AO47: =IF(E47<>"",IF(E47=D47,1)) -> FALSE | AP47: =IF(D47<>"",IF(D47<E47,1)) -> FALSE | AQ47: =IF(E47<>"",IF(E47<D47,1)) -> FALSE | AR47: =D47 -> 0 | AS47: =E47 -> 0 | AT47: =E47 -> 0 | AU47: =D47 -> 0
C48: =U36 -> Equipe 1B | F48: =U40 -> Equipe 5B | AH48: =IF(D48="",0,IF(D48>E48,3,IF(D48=E48,1,IF(D48<E48,0)))) -> 0 | AI48: =IF(E48="",0,IF(E48>D48,3,IF(E48=D48,1,IF(E48<D48,0)))) -> 0 | AJ48: =IF(D48="",0,1) -> 0 | AK48: =IF(E48="",0,1) -> 0 | AL48: =IF(D48<>"",IF(D48>E48,1)) -> FALSE | AM48: =IF(E48<>"",IF(E48>D48,1)) -> FALSE | AN48: =IF(D48<>"",IF(D48=E48,1)) -> FALSE | AO48: =IF(E48<>"",IF(E48=D48,1)) -> FALSE | AP48: =IF(D48<>"",IF(D48<E48,1)) -> FALSE | AQ48: =IF(E48<>"",IF(E48<D48,1)) -> FALSE | AR48: =D48 -> 0 | AS48: =E48 -> 0 | AT48: =E48 -> 0 | AU48: =D48 -> 0
C49: =U37 -> Equipe 2B | F49: =U41 -> Equipe 6B | AH49: =IF(D49="",0,IF(D49>E49,3,IF(D49=E49,1,IF(D49<E49,0)))) -> 0 | AI49: =IF(E49="",0,IF(E49>D49,3,IF(E49=D49,1,IF(E49<D49,0)))) -> 0 | AJ49: =IF(D49="",0,1) -> 0 | AK49: =IF(E49="",0,1) -> 0 | AL49: =IF(D49<>"",IF(D49>E49,1)) -> FALSE | AM49: =IF(E49<>"",IF(E49>D49,1)) -> FALSE | AN49: =IF(D49<>"",IF(D49=E49,1)) -> FALSE | AO49: =IF(E49<>"",IF(E49=D49,1)) -> FALSE | AP49: =IF(D49<>"",IF(D49<E49,1)) -> FALSE | AQ49: =IF(E49<>"",IF(E49<D49,1)) -> FALSE | AR49: =D49 -> 0 | AS49: =E49 -> 0 | AT49: =E49 -> 0 | AU49: =D49 -> 0
C50: =U38 -> Equipe 3B | F50: =U42 -> Equipe 7B | AH50: =IF(D50="",0,IF(D50>E50,3,IF(D50=E50,1,IF(D50<E50,0)))) -> 0 | AI50: =IF(E50="",0,IF(E50>D50,3,IF(E50=D50,1,IF(E50<D50,0)))) -> 0 | AJ50: =IF(D50="",0,1) -> 0 | AK50: =IF(E50="",0,1) -> 0 | AL50: =IF(D50<>"",IF(D50>E50,1)) -> FALSE | AM50: =IF(E50<>"",IF(E50>D50,1)) -> FALSE | AN50: =IF(D50<>"",IF(D50=E50,1)) -> FALSE | AO50: =IF(E50<>"",IF(E50=D50,1)) -> FALSE | AP50: =IF(D50<>"",IF(D50<E50,1)) -> FALSE | AQ50: =IF(E50<>"",IF(E50<D50,1)) -> FALSE | AR50: =D50 -> 0 | AS50: =E50 -> 0 | AT50: =E50 -> 0 | AU50: =D50 -> 0
C51: =U39 -> Equipe 4B | F51: =U43 -> Equipe 8B | AH51: =IF(D51="",0,IF(D51>E51,3,IF(D51=E51,1,IF(D51<E51,0)))) -> 0 | AI51: =IF(E51="",0,IF(E51>D51,3,IF(E51=D51,1,IF(E51<D51,0)))) -> 0 | AJ51: =IF(D51="",0,1) -> 0 | AK51: =IF(E51="",0,1) -> 0 | AL51: =IF(D51<>"",IF(D51>E51,1)) -> FALSE | AM51: =IF(E51<>"",IF(E51>D51,1)) -> FALSE | AN51: =IF(D51<>"",IF(D51=E51,1)) -> FALSE | AO51: =IF(E51<>"",IF(E51=D51,1)) -> FALSE | AP51: =IF(D51<>"",IF(D51<E51,1)) -> FALSE | AQ51: =IF(E51<>"",IF(E51<D51,1)) -> FALSE | AR51: =D51 -> 0 | AS51: =E51 -> 0 | AT51: =E51 -> 0 | AU51: =D51 -> 0
C52: =U36 -> Equipe 1B | F52: =U41 -> Equipe 6B | AH52: =IF(D52="",0,IF(D52>E52,3,IF(D52=E52,1,IF(D52<E52,0)))) -> 0 | AI52: =IF(E52="",0,IF(E52>D52,3,IF(E52=D52,1,IF(E52<D52,0)))) -> 0 | AJ52: =IF(D52="",0,1) -> 0 | AK52: =IF(E52="",0,1) -> 0 | AL52: =IF(D52<>"",IF(D52>E52,1)) -> FALSE | AM52: =IF(E52<>"",IF(E52>D52,1)) -> FALSE | AN52: =IF(D52<>"",IF(D52=E52,1)) -> FALSE | AO52: =IF(E52<>"",IF(E52=D52,1)) -> FALSE | AP52: =IF(D52<>"",IF(D52<E52,1)) -> FALSE | AQ52: =IF(E52<>"",IF(E52<D52,1)) -> FALSE | AR52: =D52 -> 0 | AS52: =E52 -> 0 | AT52: =E52 -> 0 | AU52: =D52 -> 0
C53: =U37 -> Equipe 2B | F53: =U42 -> Equipe 7B | AH53: =IF(D53="",0,IF(D53>E53,3,IF(D53=E53,1,IF(D53<E53,0)))) -> 0 | AI53: =IF(E53="",0,IF(E53>D53,3,IF(E53=D53,1,IF(E53<D53,0)))) -> 0 | AJ53: =IF(D53="",0,1) -> 0 | AK53: =IF(E53="",0,1) -> 0 | AL53: =IF(D53<>"",IF(D53>E53,1)) -> FALSE | AM53: =IF(E53<>"",IF(E53>D53,1)) -> FALSE | AN53: =IF(D53<>"",IF(D53=E53,1)) -> FALSE | AO53: =IF(E53<>"",IF(E53=D53,1)) -> FALSE | AP53: =IF(D53<>"",IF(D53<E53,1)) -> FALSE | AQ53: =IF(E53<>"",IF(E53<D53,1)) -> FALSE | AR53: =D53 -> 0 | AS53: =E53 -> 0 | AT53: =E53 -> 0 | AU53: =D53 -> 0
C54: =U38 -> Equipe 3B | F54: =U39 -> Equipe 4B | AH54: =IF(D54="",0,IF(D54>E54,3,IF(D54=E54,1,IF(D54<E54,0)))) -> 0 | AI54: =IF(E54="",0,IF(E54>D54,3,IF(E54=D54,1,IF(E54<D54,0)))) -> 0 | AJ54: =IF(D54="",0,1) -> 0 | AK54: =IF(E54="",0,1) -> 0 | AL54: =IF(D54<>"",IF(D54>E54,1)) -> FALSE | AM54: =IF(E54<>"",IF(E54>D54,1)) -> FALSE | AN54: =IF(D54<>"",IF(D54=E54,1)) -> FALSE | AO54: =IF(E54<>"",IF(E54=D54,1)) -> FALSE | AP54: =IF(D54<>"",IF(D54<E54,1)) -> FALSE | AQ54: =IF(E54<>"",IF(E54<D54,1)) -> FALSE | AR54: =D54 -> 0 | AS54: =E54 -> 0 | AT54: =E54 -> 0 | AU54: =D54 -> 0
C55: =U40 -> Equipe 5B | F55: =U43 -> Equipe 8B | AH55: =IF(D55="",0,IF(D55>E55,3,IF(D55=E55,1,IF(D55<E55,0)))) -> 0 | AI55: =IF(E55="",0,IF(E55>D55,3,IF(E55=D55,1,IF(E55<D55,0)))) -> 0 | AJ55: =IF(D55="",0,1) -> 0 | AK55: =IF(E55="",0,1) -> 0 | AL55: =IF(D55<>"",IF(D55>E55,1)) -> FALSE | AM55: =IF(E55<>"",IF(E55>D55,1)) -> FALSE | AN55: =IF(D55<>"",IF(D55=E55,1)) -> FALSE | AO55: =IF(E55<>"",IF(E55=D55,1)) -> FALSE | AP55: =IF(D55<>"",IF(D55<E55,1)) -> FALSE | AQ55: =IF(E55<>"",IF(E55<D55,1)) -> FALSE | AR55: =D55 -> 0 | AS55: =E55 -> 0 | AT55: =E55 -> 0 | AU55: =D55 -> 0
C56: =U36 -> Equipe 1B | F56: =U42 -> Equipe 7B | AH56: =IF(D56="",0,IF(D56>E56,3,IF(D56=E56,1,IF(D56<E56,0)))) -> 0 | AI56: =IF(E56="",0,IF(E56>D56,3,IF(E56=D56,1,IF(E56<D56,0)))) -> 0 | AJ56: =IF(D56="",0,1) -> 0 | AK56: =IF(E56="",0,1) -> 0 | AL56: =IF(D56<>"",IF(D56>E56,1)) -> FALSE | AM56: =IF(E56<>"",IF(E56>D56,1)) -> FALSE | AN56: =IF(D56<>"",IF(D56=E56,1)) -> FALSE | AO56: =IF(E56<>"",IF(E56=D56,1)) -> FALSE | AP56: =IF(D56<>"",IF(D56<E56,1)) -> FALSE | AQ56: =IF(E56<>"",IF(E56<D56,1)) -> FALSE | AR56: =D56 -> 0 | AS56: =E56 -> 0 | AT56: =E56 -> 0 | AU56: =D56 -> 0
C57: =U37 -> Equipe 2B | F57: =U43 -> Equipe 8B | AH57: =IF(D57="",0,IF(D57>E57,3,IF(D57=E57,1,IF(D57<E57,0)))) -> 0 | AI57: =IF(E57="",0,IF(E57>D57,3,IF(E57=D57,1,IF(E57<D57,0)))) -> 0 | AJ57: =IF(D57="",0,1) -> 0 | AK57: =IF(E57="",0,1) -> 0 | AL57: =IF(D57<>"",IF(D57>E57,1)) -> FALSE | AM57: =IF(E57<>"",IF(E57>D57,1)) -> FALSE | AN57: =IF(D57<>"",IF(D57=E57,1)) -> FALSE | AO57: =IF(E57<>"",IF(E57=D57,1)) -> FALSE | AP57: =IF(D57<>"",IF(D57<E57,1)) -> FALSE | AQ57: =IF(E57<>"",IF(E57<D57,1)) -> FALSE | AR57: =D57 -> 0 | AS57: =E57 -> 0 | AT57: =E57 -> 0 | AU57: =D57 -> 0
C58: =U38 -> Equipe 3B | F58: =U40 -> Equipe 5B | AH58: =IF(D58="",0,IF(D58>E58,3,IF(D58=E58,1,IF(D58<E58,0)))) -> 0 | AI58: =IF(E58="",0,IF(E58>D58,3,IF(E58=D58,1,IF(E58<D58,0)))) -> 0 | AJ58: =IF(D58="",0,1) -> 0 | AK58: =IF(E58="",0,1) -> 0 | AL58: =IF(D58<>"",IF(D58>E58,1)) -> FALSE | AM58: =IF(E58<>"",IF(E58>D58,1)) -> FALSE | AN58: =IF(D58<>"",IF(D58=E58,1)) -> FALSE | AO58: =IF(E58<>"",IF(E58=D58,1)) -> FALSE | AP58: =IF(D58<>"",IF(D58<E58,1)) -> FALSE | AQ58: =IF(E58<>"",IF(E58<D58,1)) -> FALSE | AR58: =D58 -> 0 | AS58: =E58 -> 0 | AT58: =E58 -> 0 | AU58: =D58 -> 0
C59: =U39 -> Equipe 4B | F59: =U41 -> Equipe 6B | AH59: =IF(D59="",0,IF(D59>E59,3,IF(D59=E59,1,IF(D59<E59,0)))) -> 0 | AI59: =IF(E59="",0,IF(E59>D59,3,IF(E59=D59,1,IF(E59<D59,0)))) -> 0 | AJ59: =IF(D59="",0,1) -> 0 | AK59: =IF(E59="",0,1) -> 0 | AL59: =IF(D59<>"",IF(D59>E59,1)) -> FALSE | AM59: =IF(E59<>"",IF(E59>D59,1)) -> FALSE | AN59: =IF(D59<>"",IF(D59=E59,1)) -> FALSE | AO59: =IF(E59<>"",IF(E59=D59,1)) -> FALSE | AP59: =IF(D59<>"",IF(D59<E59,1)) -> FALSE | AQ59: =IF(E59<>"",IF(E59<D59,1)) -> FALSE | AR59: =D59 -> 0 | AS59: =E59 -> 0 | AT59: =E59 -> 0 | AU59: =D59 -> 0
C60: =U36 -> Equipe 1B | F60: =U43 -> Equipe 8B | AH60: =IF(D60="",0,IF(D60>E60,3,IF(D60=E60,1,IF(D60<E60,0)))) -> 0 | AI60: =IF(E60="",0,IF(E60>D60,3,IF(E60=D60,1,IF(E60<D60,0)))) -> 0 | AJ60: =IF(D60="",0,1) -> 0 | AK60: =IF(E60="",0,1) -> 0 | AL60: =IF(D60<>"",IF(D60>E60,1)) -> FALSE | AM60: =IF(E60<>"",IF(E60>D60,1)) -> FALSE | AN60: =IF(D60<>"",IF(D60=E60,1)) -> FALSE | AO60: =IF(E60<>"",IF(E60=D60,1)) -> FALSE | AP60: =IF(D60<>"",IF(D60<E60,1)) -> FALSE | AQ60: =IF(E60<>"",IF(E60<D60,1)) -> FALSE | AR60: =D60 -> 0 | AS60: =E60 -> 0 | AT60: =E60 -> 0 | AU60: =D60 -> 0
C61: =U37 -> Equipe 2B | F61: =U38 -> Equipe 3B | AH61: =IF(D61="",0,IF(D61>E61,3,IF(D61=E61,1,IF(D61<E61,0)))) -> 0 | AI61: =IF(E61="",0,IF(E61>D61,3,IF(E61=D61,1,IF(E61<D61,0)))) -> 0 | AJ61: =IF(D61="",0,1) -> 0 | AK61: =IF(E61="",0,1) -> 0 | AL61: =IF(D61<>"",IF(D61>E61,1)) -> FALSE | AM61: =IF(E61<>"",IF(E61>D61,1)) -> FALSE | AN61: =IF(D61<>"",IF(D61=E61,1)) -> FALSE | AO61: =IF(E61<>"",IF(E61=D61,1)) -> FALSE | AP61: =IF(D61<>"",IF(D61<E61,1)) -> FALSE | AQ61: =IF(E61<>"",IF(E61<D61,1)) -> FALSE | AR61: =D61 -> 0 | AS61: =E61 -> 0 | AT61: =E61 -> 0 | AU61: =D61 -> 0
C62: =U39 -> Equipe 4B | F62: =U42 -> Equipe 7B | AH62: =IF(D62="",0,IF(D62>E62,3,IF(D62=E62,1,IF(D62<E62,0)))) -> 0 | AI62: =IF(E62="",0,IF(E62>D62,3,IF(E62=D62,1,IF(E62<D62,0)))) -> 0 | AJ62: =IF(D62="",0,1) -> 0 | AK62: =IF(E62="",0,1) -> 0 | AL62: =IF(D62<>"",IF(D62>E62,1)) -> FALSE | AM62: =IF(E62<>"",IF(E62>D62,1)) -> FALSE | AN62: =IF(D62<>"",IF(D62=E62,1)) -> FALSE | AO62: =IF(E62<>"",IF(E62=D62,1)) -> FALSE | AP62: =IF(D62<>"",IF(D62<E62,1)) -> FALSE | AQ62: =IF(E62<>"",IF(E62<D62,1)) -> FALSE | AR62: =D62 -> 0 | AS62: =E62 -> 0 | AT62: =E62 -> 0 | AU62: =D62 -> 0
C63: =U40 -> Equipe 5B | F63: =U41 -> Equipe 6B | AH63: =IF(D63="",0,IF(D63>E63,3,IF(D63=E63,1,IF(D63<E63,0)))) -> 0 | AI63: =IF(E63="",0,IF(E63>D63,3,IF(E63=D63,1,IF(E63<D63,0)))) -> 0 | AJ63: =IF(D63="",0,1) -> 0 | AK63: =IF(E63="",0,1) -> 0 | AL63: =IF(D63<>"",IF(D63>E63,1)) -> FALSE | AM63: =IF(E63<>"",IF(E63>D63,1)) -> FALSE | AN63: =IF(D63<>"",IF(D63=E63,1)) -> FALSE | AO63: =IF(E63<>"",IF(E63=D63,1)) -> FALSE | AP63: =IF(D63<>"",IF(D63<E63,1)) -> FALSE | AQ63: =IF(E63<>"",IF(E63<D63,1)) -> FALSE | AR63: =D63 -> 0 | AS63: =E63 -> 0 | AT63: =E63 -> 0 | AU63: =D63 -> 0

Sheet Matchs de classement
C1: 15ème & 16ème place | P1: 13ème & 14ème place
A3: Terrain 1 | C3: Points | I3: Points | P3: Points | V3: Points | AA3: Terrain 2
C5: =IF('Matchs de poule'!K11=7,'Matchs de poule'!H11,"") | P5: =IF('Matchs de poule'!K10=7,'Matchs de poule'!H10,"")
C7: =IF('Matchs de poule'!K43=7,'Matchs de poule'!H43,"") | P7: =IF('Matchs de poule'!K42=7,'Matchs de poule'!H42,"")
C9: Points | I9: Points | P9: Points | V9: Points
C13: 11ème & 12ème place | P13: 9ème & 10ème place
A15: Terrain 1 | C15: Points | I15: Points | P15: Points | V15: Points | AA15: Terrain 2
C17: =IF('Matchs de poule'!K9=7,'Matchs de poule'!H9,"") | P17: =IF('Matchs de poule'!K8=7,'Matchs de poule'!H8,"")
C19: =IF('Matchs de poule'!K41=7,'Matchs de poule'!H41,"") | P19: =IF('Matchs de poule'!K40=7,'Matchs de poule'!H40,"")
C21: Points | I21: Points | P21: Points | V21: Points
C25: 7ème & 8ème place | P25: 5ème & 6ème place
A27: Terrain 3 | C27: Points | I27: Points | P27: Points | V27: Points | AA27: Terrain 4
C29: =IF('Matchs de poule'!K7=7,'Matchs de poule'!H7,"") | P29: =IF('Matchs de poule'!K6=7,'Matchs de poule'!H6,"")
C31: =IF('Matchs de poule'!K39=7,'Matchs de poule'!H39,"") | P31: =IF('Matchs de poule'!K38=7,'Matchs de poule'!H38,"")
C33: Points | I33: Points | P33: Points | V33: Points
C37: 3ème & 4ème place | P37: FINALE
A39: Terrain 1 | C39: Points | I39: Points | P39: Points | V39: Points | AA39: Terrain 1
C41: =IF('Matchs de poule'!K5=7,'Matchs de poule'!H5,"") | P41: =IF('Matchs de poule'!K4=7,'Matchs de poule'!H4,"")
C43: =IF('Matchs de poule'!K37=7,'Matchs de poule'!H37,"") | P43: =IF('Matchs de poule'!K36=7,'Matchs de poule'!H36,"")
C45: Points | I45: Points | P45: Points | V45: Points

Sheet Classement
A2: 1 | B2: =IF('Matchs de classement'!R39="","",IF('Matchs de classement'!R39>'Matchs de classement'!R45,'Matchs de classement'!P41,IF('Matchs de classement'!R45>'Matchs de classement'!R39,'Matchs de classement'!P43,IF('Matchs de classement'!R39='Matchs de classement'!R45,IF('Matchs de classement'!X39>'Matchs de classement'!X45,'Matchs de classement'!P41,IF('Matchs de classement'!R45='Matchs de classement'!R39,IF('Matchs de classement'!X45>'Matchs de classement'!X39,'Matchs de classement'!P43)))))))
A3: 2 | B3: =IF('Matchs de classement'!R39="","",IF(Classement!B2='Matchs de classement'!P41,'Matchs de classement'!P43,'Matchs de classement'!P41))
A4: 3 | B4: =IF('Matchs de classement'!E39="","",IF('Matchs de classement'!E39>'Matchs de classement'!E45,'Matchs de classement'!C41,IF('Matchs de classement'!E45>'Matchs de classement'!E39,'Matchs de classement'!C43,IF('Matchs de classement'!E39='Matchs de classement'!E45,IF('Matchs de classement'!K39>'Matchs de classement'!K45,'Matchs de classement'!C41,IF('Matchs de classement'!E45='Matchs de classement'!E39,IF('Matchs de classement'!K45>'Matchs de classement'!K39,'Matchs de classement'!C43)))))))
A5: 4 | B5: =IF('Matchs de classement'!E39="","",IF(Classement!B4='Matchs de classement'!C41,'Matchs de classement'!C43,'Matchs de classement'!C41))
A6: 5 | B6: =IF('Matchs de classement'!R27="","",IF('Matchs de classement'!R27>'Matchs de classement'!R33,'Matchs de classement'!P29,IF('Matchs de classement'!R33>'Matchs de classement'!R27,'Matchs de classement'!P31,IF('Matchs de classement'!R27='Matchs de classement'!R33,IF('Matchs de classement'!X27>'Matchs de classement'!X33,'Matchs de classement'!P29,IF('Matchs de classement'!R33='Matchs de classement'!R27,IF('Matchs de classement'!X33>'Matchs de classement'!X27,'Matchs de classement'!P31)))))))
A7: 6 | B7: =IF('Matchs de classement'!R27="","",IF(Classement!B6='Matchs de classement'!P29,'Matchs de classement'!P31,'Matchs de classement'!P29))
A8: 7 | B8: =IF('Matchs de classement'!E27="","",IF('Matchs de classement'!E27>'Matchs de classement'!E33,'Matchs de classement'!C29,IF('Matchs de classement'!E33>'Matchs de classement'!E27,'Matchs de classement'!C31,IF('Matchs de classement'!E27='Matchs de classement'!E33,IF('Matchs de classement'!K27>'Matchs de classement'!K33,'Matchs de classement'!C29,IF('Matchs de classement'!E33='Matchs de classement'!E27,IF('Matchs de classement'!K33>'Matchs de classement'!K27,'Matchs de classement'!C31)))))))
A9: 8 | B9: =IF('Matchs de classement'!E27="","",IF(Classement!B8='Matchs de classement'!C29,'Matchs de classement'!C31,'Matchs de classement'!C29))
A10: 9 | B10: =IF('Matchs de classement'!R15="","",IF('Matchs de classement'!R15>'Matchs de classement'!R21,'Matchs de classement'!P17,IF('Matchs de classement'!R21>'Matchs de classement'!R15,'Matchs de classement'!P19,IF('Matchs de classement'!R15='Matchs de classement'!R21,IF('Matchs de classement'!X15>'Matchs de classement'!X21,'Matchs de classement'!P17,IF('Matchs de classement'!R21='Matchs de classement'!R15,IF('Matchs de classement'!X21>'Matchs de classement'!X15,'Matchs de classement'!P19)))))))
A11: 10 | B11: =IF('Matchs de classement'!R15="","",IF(Classement!B10='Matchs de classement'!P17,'Matchs de classement'!P19,'Matchs de classement'!P17))
A12: 11 | B12: =IF('Matchs de classement'!E15="","",IF('Matchs de classement'!E15>'Matchs de classement'!E21,'Matchs de classement'!C17,IF('Matchs de classement'!E21>'Matchs de classement'!E15,'Matchs de classement'!C19,IF('Matchs de classement'!E15='Matchs de classement'!E21,IF('Matchs de classement'!K15>'Matchs de classement'!K21,'Matchs de classement'!C17,IF('Matchs de classement'!K21>'Matchs de classement'!K15,'Matchs de classement'!C19))))))
A13: 12 | B13: =IF('Matchs de classement'!E15="","",IF(Classement!B12='Matchs de classement'!C17,'Matchs de classement'!C19,'Matchs de classement'!C17))
A14: 13 | B14: =IF('Matchs de classement'!R3="","",IF('Matchs de classement'!R3>'Matchs de classement'!R9,'Matchs de classement'!P5,IF('Matchs de classement'!R9>'Matchs de classement'!R3,'Matchs de classement'!P7,IF('Matchs de classement'!R3='Matchs de classement'!R9,IF('Matchs de classement'!X3>'Matchs de classement'!X9,'Matchs de classement'!P5,IF('Matchs de classement'!R9='Matchs de classement'!R3,IF('Matchs de classement'!X9>'Matchs de classement'!X3,'Matchs de classement'!P7)))))))
A15: 14 | B15: =IF('Matchs de classement'!R3="","",IF(Classement!B14='Matchs de classement'!P5,'Matchs de classement'!P7,'Matchs de classement'!P5))
A16: 15 | B16: =IF('Matchs de classement'!E3="","",IF('Matchs de classement'!E3>'Matchs de classement'!E9,'Matchs de classement'!C5,IF('Matchs de classement'!E9>'Matchs de classement'!E3,'Matchs de classement'!C7,IF('Matchs de classement'!E3='Matchs de classement'!E9,IF('Matchs de classement'!K3>'Matchs de classement'!K9,'Matchs de classement'!C5,IF('Matchs de classement'!K9>'Matchs de classement'!K3,'Matchs de classement'!C7))))))
A17: 16 | B17: =IF('Matchs de classement'!E3="","",IF(Classement!B16='Matchs de classement'!C5,'Matchs de classement'!C7,'Matchs de classement'!C5))
