Workbook

Sheet Note élève
B5: Barême | C5: Compétence | D5: Zinebe | E5: Andréa | F5: Morgane | G5: Lucie | H5: Daphnée | I5: Clara | J5: Chloé G | K5: Alizée | L5: Maella | M5: Candice | N5: Axel | O5: Aurélie | P5: Thomas | Q5: Eloïse | R5: Flavie | S5: Lolita | T5: Aude | U5: Noémie | V5: Méline | W5: Manon R | X5: Julie H | Y5: Emilie E | Z5: Ilona | AA5: Jenny | AB5: Maurane | AC5: Julie | AD5: Nina | AE5: Léa
A6: etage 1 3 choix | B6: 1 | C6: S'approprier | D6: 3 | E6: 3 | F6: 3 | G6: 3 | H6: 3 | I6: 3 | J6: 3 | K6: 3 | L6: 3 | M6: 3 | N6: 3 | O6: 3 | P6: 3 | Q6: 3 | R6: 3 | S6: 3 | T6: 3 | U6: 3 | V6: 3 | W6: 3 | X6: 3 | Y6: 3 | Z6: 3 | AA6: 2 | AB6: 3 | AC6: 3 | AD6: 3 | AE6: 2
A7: Etage 2 2 choix | B7: 1 | C7: Analyser | D7: 3 | E7: 3 | F7: 3 | G7: 3 | H7: 3 | I7: 3 | J7: 3 | K7: 3 | L7: 3 | M7: 3 | N7: 3 | O7: 3 | P7: 3 | Q7: 3 | R7: 3 | S7: 3 | T7: 3 | U7: 1 | V7: 3 | W7: 3 | X7: 3 | Y7: 3 | Z7: 3 | AA7: 0 | AB7: 3 | AC7: 3 | AD7: 3 | AE7: 3
A8: Justification | B8: 1 | C8: Réaliser | D8: 3 | E8: 0 | F8: 0 | G8: 1 | H8: 0 | I8: 0 | J8: 1 | K8: 3 | L8: 3 | M8: 3 | N8: 0 | O8: 0 | P8: 0 | Q8: 3 | R8: 0 | S8: 0 | T8: 0 | U8: 2 | V8: 0 | W8: 3 | X8: 0 | Y8: 0 | Z8: 0 | AA8: 0 | AB8: 0 | AC8: 0 | AD8: 3 | AE8: 0
A9: Proba de l'étage 1 | B9: 1 | C9: S'approprier | D9: 2 | E9: 2 | F9: 2 | G9: 2 | H9: 1 | I9: 2 | J9: 2 | K9: 1 | L9: 2 | M9: 2 | N9: 2 | O9: 2 | P9: 1 | Q9: 3 | R9: 2 | S9: 0 | T9: 1 | U9: 1 | V9: 0 | W9: 0 | X9: 2 | Y9: 2 | Z9: 1 | AA9: 1 | AB9: 1 | AC9: 1 | AD9: 3 | AE9: 2
A10: Justification | B10: 0.5 | C10: Communiquer | D10: 1 | E10: 1 | F10: 1 | G10: 1 | H10: 0 | I10: 0 | J10: 0 | K10: 0 | L10: 1 | M10: 3 | N10: 2 | O10: 0 | P10: 0 | Q10: 2 | R10: 2 | S10: 1 | T10: 1 | U10: 0 | V10: 0 | W10: 0 | X10: 1 | Y10: 0 | Z10: 0 | AA10: 0 | AB10: 2 | AC10: 0 | AD10: 3 | AE10: 1
A11: Proba de l'étage 2 | B11: 1 | C11: Réaliser | D11: 3 | E11: 3 | F11: 1 | G11: 3 | H11: 2 | I11: 3 | J11: 3 | K11: 3 | L11: 3 | M11: 3 | N11: 3 | O11: 2 | P11: 3 | Q11: 3 | R11: 3 | S11: 1 | T11: 3 | U11: 2 | V11: 2 | W11: 2 | X11: 3 | Y11: 3 | Z11: 2 | AA11: 1 | AB11: 3 | AC11: 2 | AD11: 3 | AE11: 1
A12: Justification | B12: 0.5 | C12: Réaliser | D12: 1 | E12: 3 | F12: 3 | G12: 3 | H12: 1 | I12: 3 | J12: 0 | K12: 0 | L12: 1 | M12: 3 | N12: 3 | O12: 3 | P12: 0 | Q12: 0 | R12: 3 | S12: 0 | T12: 0 | U12: 0 | V12: 0 | W12: 0 | X12: 3 | Y12: 3 | Z12: 0 | AA12: 0 | AB12: 3 | AC12: 3 | AD12: 3 | AE12: 1
A13: pS(Cbarre) =0,6 pA(c) = 0,8 | B13: 1 | C13: Valider | D13: 0 | E13: 0 | F13: 3 | G13: 0 | H13: 2 | I13: 3 | J13: 1 | K13: 0 | L13: 0 | M13: 3 | N13: 0 | O13: 3 | P13: 0 | Q13: 3 | R13: 0 | S13: 0 | T13: 0 | U13: 0 | V13: 0 | W13: 1 | X13: 0 | Y13: 3 | Z13: 0 | AA13: 0 | AB13: 2 | AC13: 3 | AD13: 3 | AE13: 0
A14: Justification | B14: 0.5 | C14: Analyser | D14: 0 | E14: 0 | F14: 0 | G14: 0 | H14: 0 | I14: 0 | J14: 0 | K14: 0 | L14: 0 | M14: 0 | N14: 0 | O14: 0 | P14: 0 | Q14: 1 | R14: 0 | S14: 0 | T14: 0 | U14: 0 | V14: 0 | W14: 0 | X14: 0 | Y14: 3 | Z14: 0 | AA14: 0 | AB14: 0 | AC14: 0 | AD14: 3 | AE14: 0
A15: I et C | B15: 1 | C15: Valider | D15: 3 | E15: 3 | F15: 3 | G15: 0 | H15: 3 | I15: 3 | J15: 1 | K15: 3 | L15: 3 | M15: 3 | N15: 3 | O15: 0 | P15: 0 | Q15: 3 | R15: 1 | S15: 0 | T15: 0 | U15: 0 | V15: 2 | W15: 2 | X15: 3 | Y15: 1 | Z15: 3 | AA15: 0 | AB15: 1 | AC15: 3 | AD15: 3 | AE15: 1
A16: Calcul proba I et C | B16: 1 | C16: S'approprier | D16: 3 | E16: 3 | F16: 3 | G16: 3 | H16: 2 | I16: 3 | J16: 1 | K16: 2 | L16: 3 | M16: 3 | N16: 3 | O16: 2 | P16: 0 | Q16: 3 | R16: 3 | S16: 0 | T16: 1 | U16: 0 | V16: 1 | W16: 1 | X16: 3 | Y16: 3 | Z16: 3 | AA16: 0 | AB16: 3 | AC16: 3 | AD16: 3 | AE16: 0
A17: Formule ou principe proba p© | B17: 1 | C17: Communiquer | D17: 3 | E17: 0 | F17: 3 | G17: 2 | H17: 0 | I17: 3 | J17: 0 | K17: 1 | L17: 3 | M17: 3 | N17: 0 | O17: 0 | P17: 0 | Q17: 3 | R17: 0 | S17: 1 | T17: 1 | U17: 0 | V17: 0 | W17: 0 | X17: 3 | Y17: 3 | Z17: 0 | AA17: 0 | AB17: 0 | AC17: 0 | AD17: 3 | AE17: 0
A18: Calcul | B18: 1 | C18: S'approprier | D18: 3 | E18: 0 | F18: 3 | G18: 0 | H18: 0 | I18: 3 | J18: 0 | K18: 0 | L18: 3 | M18: 3 | N18: 0 | O18: 0 | P18: 0 | Q18: 3 | R18: 0 | S18: 0 | T18: 0 | U18: 0 | V18: 0 | W18: 0 | X18: 3 | Y18: 3 | Z18: 0 | AA18: 0 | AB18: 0 | AC18: 0 | AD18: 3 | AE18: 0
B19: =SUM(B6:B18) -> 11.5 | D19: =(D6*$B$6+D7*$B$7+D8*$B$8+D9*$B$9+D10*$B$10+D11*$B$11+D12*$B$12+D13*$B$13+D14*$B$14+D15*$B$15+D16*$B$16+D17*$B$17+D18*$B$18)/$B$19*20/3 -> 15.652174 | E19: =(E6*$B$6+E7*$B$7+E8*$B$8+E9*$B$9+E10*$B$10+E11*$B$11+E12*$B$12+E13*$B$13+E14*$B$14+E15*$B$15+E16*$B$16+E17*$B$17+E18*$B$18)/$B$19*20/3 -> 11.014493 | F19: =(F6*$B$6+F7*$B$7+F8*$B$8+F9*$B$9+F10*$B$10+F11*$B$11+F12*$B$12+F13*$B$13+F14*$B$14+F15*$B$15+F16*$B$16+F17*$B$17+F18*$B$18)/$B$19*20/3 -> 15.072464 | G19: =(G6*$B$6+G7*$B$7+G8*$B$8+G9*$B$9+G10*$B$10+G11*$B$11+G12*$B$12+G13*$B$13+G14*$B$14+G15*$B$15+G16*$B$16+G17*$B$17+G18*$B$18)/$B$19*20/3 -> 11.014493 | H19: =(H6*$B$6+H7*$B$7+H8*$B$8+H9*$B$9+H10*$B$10+H11*$B$11+H12*$B$12+H13*$B$13+H14*$B$14+H15*$B$15+H16*$B$16+H17*$B$17+H18*$B$18)/$B$19*20/3 -> 9.5652174 | I19: =(I6*$B$6+I7*$B$7+I8*$B$8+I9*$B$9+I10*$B$10+I11*$B$11+I12*$B$12+I13*$B$13+I14*$B$14+I15*$B$15+I16*$B$16+I17*$B$17+I18*$B$18)/$B$19*20/3 -> 15.942029 | J19: =(J6*$B$6+J7*$B$7+J8*$B$8+J9*$B$9+J10*$B$10+J11*$B$11+J12*$B$12+J13*$B$13+J14*$B$14+J15*$B$15+J16*$B$16+J17*$B$17+J18*$B$18)/$B$19*20/3 -> 8.6956522 | K19: =(K6*$B$6+K7*$B$7+K8*$B$8+K9*$B$9+K10*$B$10+K11*$B$11+K12*$B$12+K13*$B$13+K14*$B$14+K15*$B$15+K16*$B$16+K17*$B$17+K18*$B$18)/$B$19*20/3 -> 11.014493 | ... AE19: =(AE6*$B$6+AE7*$B$7+AE8*$B$8+AE9*$B$9+AE10*$B$10+AE11*$B$11+AE12*$B$12+AE13*$B$13+AE14*$B$14+AE15*$B$15+AE16*$B$16+AE17*$B$17+AE18*$B$18)/$B$19*20/3 -> 5.7971014
C23: Barême | D23: =D5 -> Zinebe | E23: =E5 -> Andréa | F23: =F5 -> Morgane | G23: =G5 -> Lucie | H23: =H5 -> Daphnée | I23: =I5 -> Clara | J23: Chloé G | K23: Alizée | L23: Maella | M23: Candice | N23: Axel | O23: Aurélie | P23: Thomas | Q23: Eloïse | R23: Flavie | S23: Lolita | T23: Aude | U23: Noémie | V23: Méline | W23: Manon R | X23: Julie H | Y23: Emilie E | Z23: Ilona | AA23: Jenny | AB23: Maurane | AC23: Julie | AD23: Nina | AE23: Léa
B24: S'approprier | C24: ='Note par compétence'!J20 -> 4 | D24: =IF(INDEX($D$23:AE$23,,MATCH('Note par compétence'!$J$23,'Note élève'!$D$23:AE$23,))=D$23,'Note par compétence'!$J$40,"") | E24: =IF(INDEX($D$23:AF$23,,MATCH('Note par compétence'!$J$23,'Note élève'!$D$23:AF$23,))=E$23,'Note par compétence'!$J$40,"") | F24: =IF(INDEX($D$23:AG$23,,MATCH('Note par compétence'!$J$23,'Note élève'!$D$23:AG$23,))=F$23,'Note par compétence'!$J$40,"") -> 3.6666667 | G24: =IF(INDEX($D$23:AH$23,,MATCH('Note par compétence'!$J$23,'Note élève'!$D$23:AH$23,))=G$23,'Note par compétence'!$J$40,"") | H24: =IF(INDEX($D$23:AI$23,,MATCH('Note par compétence'!$J$23,'Note élève'!$D$23:AI$23,))=H$23,'Note par compétence'!$J$40,"") | I24: =IF(INDEX($D$23:AJ$23,,MATCH('Note par compétence'!$J$23,'Note élève'!$D$23:AJ$23,))=I$23,'Note par compétence'!$J$40,"") | J24: =IF(INDEX($D$23:AK$23,,MATCH('Note par compétence'!$J$23,'Note élève'!$D$23:AK$23,))=J$23,'Note par compétence'!$J$40,"") | K24: =IF(INDEX($D$23:AL$23,,MATCH('Note par compétence'!$J$23,'Note élève'!$D$23:AL$23,))=K$23,'Note par compétence'!$J$40,"") | ... AE24: =IF(INDEX($D$23:BF$23,,MATCH('Note par compétence'!$J$23,'Note élève'!$D$23:BF$23,))=AE$23,'Note par compétence'!$J$40,"")
B25: Analyser | C25: ='Note par compétence'!D20 -> 1.5 | D25: =IF(INDEX($D$23:AE$23,,MATCH('Note par compétence'!$J$23,'Note élève'!$D$23:AE$23,))=D$23,'Note par compétence'!$K$40,"") | E25: =IF(INDEX($D$23:AF$23,,MATCH('Note par compétence'!$J$23,'Note élève'!$D$23:AF$23,))=E$23,'Note par compétence'!$K$40,"") | F25: =IF(INDEX($D$23:AG$23,,MATCH('Note par compétence'!$J$23,'Note élève'!$D$23:AG$23,))=F$23,'Note par compétence'!$K$40,"") -> 1 | G25: =IF(INDEX($D$23:AH$23,,MATCH('Note par compétence'!$J$23,'Note élève'!$D$23:AH$23,))=G$23,'Note par compétence'!$K$40,"") | H25: =IF(INDEX($D$23:AI$23,,MATCH('Note par compétence'!$J$23,'Note élève'!$D$23:AI$23,))=H$23,'Note par compétence'!$K$40,"") | I25: =IF(INDEX($D$23:AJ$23,,MATCH('Note par compétence'!$J$23,'Note élève'!$D$23:AJ$23,))=I$23,'Note par compétence'!$K$40,"") | J25: =IF(INDEX($D$23:AK$23,,MATCH('Note par compétence'!$J$23,'Note élève'!$D$23:AK$23,))=J$23,'Note par compétence'!$K$40,"") | K25: =IF(INDEX($D$23:AL$23,,MATCH('Note par compétence'!$J$23,'Note élève'!$D$23:AL$23,))=K$23,'Note par compétence'!$K$40,"") | ... AE25: =IF(INDEX($D$23:BF$23,,MATCH('Note par compétence'!$J$23,'Note élève'!$D$23:BF$23,))=AE$23,'Note par compétence'!$K$40,"")
B26: Réaliser | C26: ='Note par compétence'!E20 -> 2.5 | D26: =IF(INDEX($D$23:AE$23,,MATCH('Note par compétence'!$J$23,'Note élève'!$D$23:AE$23,))=D$23,'Note par compétence'!$L$40,"") | E26: =IF(INDEX($D$23:AF$23,,MATCH('Note par compétence'!$J$23,'Note élève'!$D$23:AF$23,))=E$23,'Note par compétence'!$L$40,"") | F26: =IF(INDEX($D$23:AG$23,,MATCH('Note par compétence'!$J$23,'Note élève'!$D$23:AG$23,))=F$23,'Note par compétence'!$L$40,"") -> 0.83333333 | G26: =IF(INDEX($D$23:AH$23,,MATCH('Note par compétence'!$J$23,'Note élève'!$D$23:AH$23,))=G$23,'Note par compétence'!$L$40,"") | H26: =IF(INDEX($D$23:AI$23,,MATCH('Note par compétence'!$J$23,'Note élève'!$D$23:AI$23,))=H$23,'Note par compétence'!$L$40,"") | I26: =IF(INDEX($D$23:AJ$23,,MATCH('Note par compétence'!$J$23,'Note élève'!$D$23:AJ$23,))=I$23,'Note par compétence'!$L$40,"") | J26: =IF(INDEX($D$23:AK$23,,MATCH('Note par compétence'!$J$23,'Note élève'!$D$23:AK$23,))=J$23,'Note par compétence'!$L$40,"") | K26: =IF(INDEX($D$23:AL$23,,MATCH('Note par compétence'!$J$23,'Note élève'!$D$23:AL$23,))=K$23,'Note par compétence'!$L$40,"") | ... AE26: =IF(INDEX($D$23:BF$23,,MATCH('Note par compétence'!$J$23,'Note élève'!$D$23:BF$23,))=AE$23,'Note par compétence'!$L$40,"")
B27: Valider | C27: ='Note par compétence'!F20 -> 2 | D27: =IF(INDEX($D$23:AE$23,,MATCH('Note par compétence'!$J$23,'Note élève'!$D$23:AE$23,))=D$23,'Note par compétence'!$M$40,"") | E27: =IF(INDEX($D$23:AF$23,,MATCH('Note par compétence'!$J$23,'Note élève'!$D$23:AF$23,))=E$23,'Note par compétence'!$M$40,"") | F27: =IF(INDEX($D$23:AG$23,,MATCH('Note par compétence'!$J$23,'Note élève'!$D$23:AG$23,))=F$23,'Note par compétence'!$M$40,"") -> 2 | G27: =IF(INDEX($D$23:AH$23,,MATCH('Note par compétence'!$J$23,'Note élève'!$D$23:AH$23,))=G$23,'Note par compétence'!$M$40,"") | H27: =IF(INDEX($D$23:AI$23,,MATCH('Note par compétence'!$J$23,'Note élève'!$D$23:AI$23,))=H$23,'Note par compétence'!$M$40,"") | I27: =IF(INDEX($D$23:AJ$23,,MATCH('Note par compétence'!$J$23,'Note élève'!$D$23:AJ$23,))=I$23,'Note par compétence'!$M$40,"") | J27: =IF(INDEX($D$23:AK$23,,MATCH('Note par compétence'!$J$23,'Note élève'!$D$23:AK$23,))=J$23,'Note par compétence'!$M$40,"") | K27: =IF(INDEX($D$23:AL$23,,MATCH('Note par compétence'!$J$23,'Note élève'!$D$23:AL$23,))=K$23,'Note par compétence'!$M$40,"") | ... AE27: =IF(INDEX($D$23:BF$23,,MATCH('Note par compétence'!$J$23,'Note élève'!$D$23:BF$23,))=AE$23,'Note par compétence'!$M$40,"")
B28: Communiquer | C28: ='Note par compétence'!G20 -> 1.5 | D28: =IF(INDEX($D$23:AE$23,,MATCH('Note par compétence'!$J$23,'Note élève'!$D$23:AE$23,))=D$23,'Note par compétence'!$N$40,"") | E28: =IF(INDEX($D$23:AF$23,,MATCH('Note par compétence'!$J$23,'Note élève'!$D$23:AF$23,))=E$23,'Note par compétence'!$N$40,"") | F28: =IF(INDEX($D$23:AG$23,,MATCH('Note par compétence'!$J$23,'Note élève'!$D$23:AG$23,))=F$23,'Note par compétence'!$N$40,"") -> 1.1666667 | G28: =IF(INDEX($D$23:AH$23,,MATCH('Note par compétence'!$J$23,'Note élève'!$D$23:AH$23,))=G$23,'Note par compétence'!$N$40,"") | H28: =IF(INDEX($D$23:AI$23,,MATCH('Note par compétence'!$J$23,'Note élève'!$D$23:AI$23,))=H$23,'Note par compétence'!$N$40,"") | I28: =IF(INDEX($D$23:AJ$23,,MATCH('Note par compétence'!$J$23,'Note élève'!$D$23:AJ$23,))=I$23,'Note par compétence'!$N$40,"") | J28: =IF(INDEX($D$23:AK$23,,MATCH('Note par compétence'!$J$23,'Note élève'!$D$23:AK$23,))=J$23,'Note par compétence'!$N$40,"") | K28: =IF(INDEX($D$23:AL$23,,MATCH('Note par compétence'!$J$23,'Note élève'!$D$23:AL$23,))=K$23,'Note par compétence'!$N$40,"") | ... AE28: =IF(INDEX($D$23:BF$23,,MATCH('Note par compétence'!$J$23,'Note élève'!$D$23:BF$23,))=AE$23,'Note par compétence'!$N$40,"")
C32: Barême | D32: =D5 -> Zinebe | E32: =E5 -> Andréa | F32: =F5 -> Morgane | G32: =G5 -> Lucie | H32: =H5 -> Daphnée | I32: =I5 -> Clara
B33: S'approprier | C33: ='Note par compétence'!C20 -> 4 | D33: ='Note par compétence'!C40 -> 3.6666667
B34: Analyser | C34: ='Note par compétence'!D20 -> 1.5 | D34: ='Note par compétence'!D40 -> 1
B35: Réaliser | C35: ='Note par compétence'!E20 -> 2.5 | D35: ='Note par compétence'!E40 -> 2.1666667
B36: Valider | C36: ='Note par compétence'!F20 -> 2 | D36: ='Note par compétence'!F40 -> 1
B37: Communiquer | C37: ='Note par compétence'!G20 -> 1.5 | D37: ='Note par compétence'!G40 -> 1.1666667

Sheet Note par compétence
B3: Barême | I3: Barême
C5: S'approprier | D5: Analyser | E5: Réaliser | F5: Valider | G5: Communiquer | J5: S'approprier | K5: Analyser | L5: Réaliser | M5: Valider | N5: Communiquer
C6: =IF($C$5='Note élève'!C6,'Note élève'!B6,0) -> 1 | D6: =IF($D$5='Note élève'!C6,'Note élève'!B6,0) -> 0 | E6: =IF($E$5='Note élève'!C6,'Note élève'!B6,0) -> 0 | F6: =IF($F$5='Note élève'!C6,'Note élève'!B6,0) -> 0 | G6: =IF($G$5='Note élève'!C6,'Note élève'!B6,0) -> 0 | J6: =IF(J$5=INDIRECT("'Note élève'!C" &ROW()),INDIRECT("'Note élève'!B" & ROW()),0) -> 1 | K6: =IF(K$5=INDIRECT("'Note élève'!C" &ROW()),INDIRECT("'Note élève'!B" & ROW()),0) -> 0 | L6: =IF(L$5=INDIRECT("'Note élève'!C" &ROW()),INDIRECT("'Note élève'!B" & ROW()),0) -> 0 | M6: =IF(M$5=INDIRECT("'Note élève'!C" &ROW()),INDIRECT("'Note élève'!B" & ROW()),0) -> 0 | N6: =IF(N$5=INDIRECT("'Note élève'!C" &ROW()),INDIRECT("'Note élève'!B" & ROW()),0) -> 0
C7: =IF($C$5='Note élève'!C7,'Note élève'!B7,0) -> 0 | D7: =IF($D$5='Note élève'!C7,'Note élève'!B7,0) -> 1 | E7: =IF($E$5='Note élève'!C7,'Note élève'!B7,0) -> 0 | F7: =IF($F$5='Note élève'!C7,'Note élève'!B7,0) -> 0 | G7: =IF($G$5='Note élève'!C7,'Note élève'!B7,0) -> 0 | J7: =IF(J$5=INDIRECT("'Note élève'!C" &ROW()),INDIRECT("'Note élève'!B" & ROW()),0) -> 0 | K7: =IF(K$5=INDIRECT("'Note élève'!C" &ROW()),INDIRECT("'Note élève'!B" & ROW()),0) -> 1 | L7: =IF(L$5=INDIRECT("'Note élève'!C" &ROW()),INDIRECT("'Note élève'!B" & ROW()),0) -> 0 | M7: =IF(M$5=INDIRECT("'Note élève'!C" &ROW()),INDIRECT("'Note élève'!B" & ROW()),0) -> 0 | N7: =IF(N$5=INDIRECT("'Note élève'!C" &ROW()),INDIRECT("'Note élève'!B" & ROW()),0) -> 0
C8: =IF($C$5='Note élève'!C8,'Note élève'!B8,0) -> 0 | D8: =IF($D$5='Note élève'!C8,'Note élève'!B8,0) -> 0 | E8: =IF($E$5='Note élève'!C8,'Note élève'!B8,0) -> 1 | F8: =IF($F$5='Note élève'!C8,'Note élève'!B8,0) -> 0 | G8: =IF($G$5='Note élève'!C8,'Note élève'!B8,0) -> 0 | J8: =IF(J$5=INDIRECT("'Note élève'!C" &ROW()),INDIRECT("'Note élève'!B" & ROW()),0) -> 0 | K8: =IF(K$5=INDIRECT("'Note élève'!C" &ROW()),INDIRECT("'Note élève'!B" & ROW()),0) -> 0 | L8: =IF(L$5=INDIRECT("'Note élève'!C" &ROW()),INDIRECT("'Note élève'!B" & ROW()),0) -> 1 | M8: =IF(M$5=INDIRECT("'Note élève'!C" &ROW()),INDIRECT("'Note élève'!B" & ROW()),0) -> 0 | N8: =IF(N$5=INDIRECT("'Note élève'!C" &ROW()),INDIRECT("'Note élève'!B" & ROW()),0) -> 0
C9: =IF($C$5='Note élève'!C9,'Note élève'!B9,0) -> 1 | D9: =IF($D$5='Note élève'!C9,'Note élève'!B9,0) -> 0 | E9: =IF($E$5='Note élève'!C9,'Note élève'!B9,0) -> 0 | F9: =IF($F$5='Note élève'!C9,'Note élève'!B9,0) -> 0 | G9: =IF($G$5='Note élève'!C9,'Note élève'!B9,0) -> 0 | J9: =IF(J$5=INDIRECT("'Note élève'!C" &ROW()),INDIRECT("'Note élève'!B" & ROW()),0) -> 1 | K9: =IF(K$5=INDIRECT("'Note élève'!C" &ROW()),INDIRECT("'Note élève'!B" & ROW()),0) -> 0 | L9: =IF(L$5=INDIRECT("'Note élève'!C" &ROW()),INDIRECT("'Note élève'!B" & ROW()),0) -> 0 | M9: =IF(M$5=INDIRECT("'Note élève'!C" &ROW()),INDIRECT("'Note élève'!B" & ROW()),0) -> 0 | N9: =IF(N$5=INDIRECT("'Note élève'!C" &ROW()),INDIRECT("'Note élève'!B" & ROW()),0) -> 0
C10: =IF($C$5='Note élève'!C10,'Note élève'!B10,0) -> 0 | D10: =IF($D$5='Note élève'!C10,'Note élève'!B10,0) -> 0 | E10: =IF($E$5='Note élève'!C10,'Note élève'!B10,0) -> 0 | F10: =IF($F$5='Note élève'!C10,'Note élève'!B10,0) -> 0 | G10: =IF($G$5='Note élève'!C10,'Note élève'!B10,0) -> 0.5 | J10: =IF(J$5=INDIRECT("'Note élève'!C" &ROW()),INDIRECT("'Note élève'!B" & ROW()),0) -> 0 | K10: =IF(K$5=INDIRECT("'Note élève'!C" &ROW()),INDIRECT("'Note élève'!B" & ROW()),0) -> 0 | L10: =IF(L$5=INDIRECT("'Note élève'!C" &ROW()),INDIRECT("'Note élève'!B" & ROW()),0) -> 0 | M10: =IF(M$5=INDIRECT("'Note élève'!C" &ROW()),INDIRECT("'Note élève'!B" & ROW()),0) -> 0 | N10: =IF(N$5=INDIRECT("'Note élève'!C" &ROW()),INDIRECT("'Note élève'!B" & ROW()),0) -> 0.5
C11: =IF($C$5='Note élève'!C11,'Note élève'!B11,0) -> 0 | D11: =IF($D$5='Note élève'!C11,'Note élève'!B11,0) -> 0 | E11: =IF($E$5='Note élève'!C11,'Note élève'!B11,0) -> 1 | F11: =IF($F$5='Note élève'!C11,'Note élève'!B11,0) -> 0 | G11: =IF($G$5='Note élève'!C11,'Note élève'!B11,0) -> 0 | J11: =IF(J$5=INDIRECT("'Note élève'!C" &ROW()),INDIRECT("'Note élève'!B" & ROW()),0) -> 0 | K11: =IF(K$5=INDIRECT("'Note élève'!C" &ROW()),INDIRECT("'Note élève'!B" & ROW()),0) -> 0 | L11: =IF(L$5=INDIRECT("'Note élève'!C" &ROW()),INDIRECT("'Note élève'!B" & ROW()),0) -> 1 | M11: =IF(M$5=INDIRECT("'Note élève'!C" &ROW()),INDIRECT("'Note élève'!B" & ROW()),0) -> 0 | N11: =IF(N$5=INDIRECT("'Note élève'!C" &ROW()),INDIRECT("'Note élève'!B" & ROW()),0) -> 0
C12: =IF($C$5='Note élève'!C12,'Note élève'!B12,0) -> 0 | D12: =IF($D$5='Note élève'!C12,'Note élève'!B12,0) -> 0 | E12: =IF($E$5='Note élève'!C12,'Note élève'!B12,0) -> 0.5 | F12: =IF($F$5='Note élève'!C12,'Note élève'!B12,0) -> 0 | G12: =IF($G$5='Note élève'!C12,'Note élève'!B12,0) -> 0 | J12: =IF(J$5=INDIRECT("'Note élève'!C" &ROW()),INDIRECT("'Note élève'!B" & ROW()),0) -> 0 | K12: =IF(K$5=INDIRECT("'Note élève'!C" &ROW()),INDIRECT("'Note élève'!B" & ROW()),0) -> 0 | L12: =IF(L$5=INDIRECT("'Note élève'!C" &ROW()),INDIRECT("'Note élève'!B" & ROW()),0) -> 0.5 | M12: =IF(M$5=INDIRECT("'Note élève'!C" &ROW()),INDIRECT("'Note élève'!B" & ROW()),0) -> 0 | N12: =IF(N$5=INDIRECT("'Note élève'!C" &ROW()),INDIRECT("'Note élève'!B" & ROW()),0) -> 0
C13: =IF($C$5='Note élève'!C13,'Note élève'!B13,0) -> 0 | D13: =IF($D$5='Note élève'!C13,'Note élève'!B13,0) -> 0 | E13: =IF($E$5='Note élève'!C13,'Note élève'!B13,0) -> 0 | F13: =IF($F$5='Note élève'!C13,'Note élève'!B13,0) -> 1 | G13: =IF($G$5='Note élève'!C13,'Note élève'!B13,0) -> 0 | J13: =IF(J$5=INDIRECT("'Note élève'!C" &ROW()),INDIRECT("'Note élève'!B" & ROW()),0) -> 0 | K13: =IF(K$5=INDIRECT("'Note élève'!C" &ROW()),INDIRECT("'Note élève'!B" & ROW()),0) -> 0 | L13: =IF(L$5=INDIRECT("'Note élève'!C" &ROW()),INDIRECT("'Note élève'!B" & ROW()),0) -> 0 | M13: =IF(M$5=INDIRECT("'Note élève'!C" &ROW()),INDIRECT("'Note élève'!B" & ROW()),0) -> 1 | N13: =IF(N$5=INDIRECT("'Note élève'!C" &ROW()),INDIRECT("'Note élève'!B" & ROW()),0) -> 0
C14: =IF($C$5='Note élève'!C14,'Note élève'!B14,0) -> 0 | D14: =IF($D$5='Note élève'!C14,'Note élève'!B14,0) -> 0.5 | E14: =IF($E$5='Note élève'!C14,'Note élève'!B14,0) -> 0 | F14: =IF($F$5='Note élève'!C14,'Note élève'!B14,0) -> 0 | G14: =IF($G$5='Note élève'!C14,'Note élève'!B14,0) -> 0 | J14: =IF(J$5=INDIRECT("'Note élève'!C" &ROW()),INDIRECT("'Note élève'!B" & ROW()),0) -> 0 | K14: =IF(K$5=INDIRECT("'Note élève'!C" &ROW()),INDIRECT("'Note élève'!B" & ROW()),0) -> 0.5 | L14: =IF(L$5=INDIRECT("'Note élève'!C" &ROW()),INDIRECT("'Note élève'!B" & ROW()),0) -> 0 | M14: =IF(M$5=INDIRECT("'Note élève'!C" &ROW()),INDIRECT("'Note élève'!B" & ROW()),0) -> 0 | N14: =IF(N$5=INDIRECT("'Note élève'!C" &ROW()),INDIRECT("'Note élève'!B" & ROW()),0) -> 0
C15: =IF($C$5='Note élève'!C15,'Note élève'!B15,0) -> 0 | D15: =IF($D$5='Note élève'!C15,'Note élève'!B15,0) -> 0 | E15: =IF($E$5='Note élève'!C15,'Note élève'!B15,0) -> 0 | F15: =IF($F$5='Note élève'!C15,'Note élève'!B15,0) -> 1 | G15: =IF($G$5='Note élève'!C15,'Note élève'!B15,0) -> 0 | J15: =IF(J$5=INDIRECT("'Note élève'!C" &ROW()),INDIRECT("'Note élève'!B" & ROW()),0) -> 0 | K15: =IF(K$5=INDIRECT("'Note élève'!C" &ROW()),INDIRECT("'Note élève'!B" & ROW()),0) -> 0 | L15: =IF(L$5=INDIRECT("'Note élève'!C" &ROW()),INDIRECT("'Note élève'!B" & ROW()),0) -> 0 | M15: =IF(M$5=INDIRECT("'Note élève'!C" &ROW()),INDIRECT("'Note élève'!B" & ROW()),0) -> 1 | N15: =IF(N$5=INDIRECT("'Note élève'!C" &ROW()),INDIRECT("'Note élève'!B" & ROW()),0) -> 0
C16: =IF($C$5='Note élève'!C16,'Note élève'!B16,0) -> 1 | D16: =IF($D$5='Note élève'!C16,'Note élève'!B16,0) -> 0 | E16: =IF($E$5='Note élève'!C16,'Note élève'!B16,0) -> 0 | F16: =IF($F$5='Note élève'!C16,'Note élève'!B16,0) -> 0 | G16: =IF($G$5='Note élève'!C16,'Note élève'!B16,0) -> 0 | J16: =IF(J$5=INDIRECT("'Note élève'!C" &ROW()),INDIRECT("'Note élève'!B" & ROW()),0) -> 1 | K16: =IF(K$5=INDIRECT("'Note élève'!C" &ROW()),INDIRECT("'Note élève'!B" & ROW()),0) -> 0 | L16: =IF(L$5=INDIRECT("'Note élève'!C" &ROW()),INDIRECT("'Note élève'!B" & ROW()),0) -> 0 | M16: =IF(M$5=INDIRECT("'Note élève'!C" &ROW()),INDIRECT("'Note élève'!B" & ROW()),0) -> 0 | N16: =IF(N$5=INDIRECT("'Note élève'!C" &ROW()),INDIRECT("'Note élève'!B" & ROW()),0) -> 0
C17: =IF($C$5='Note élève'!C17,'Note élève'!B17,0) -> 0 | D17: =IF($D$5='Note élève'!C17,'Note élève'!B17,0) -> 0 | E17: =IF($E$5='Note élève'!C17,'Note élève'!B17,0) -> 0 | F17: =IF($F$5='Note élève'!C17,'Note élève'!B17,0) -> 0 | G17: =IF($G$5='Note élève'!C17,'Note élève'!B17,0) -> 1 | J17: =IF(J$5=INDIRECT("'Note élève'!C" &ROW()),INDIRECT("'Note élève'!B" & ROW()),0) -> 0 | K17: =IF(K$5=INDIRECT("'Note élève'!C" &ROW()),INDIRECT("'Note élève'!B" & ROW()),0) -> 0 | L17: =IF(L$5=INDIRECT("'Note élève'!C" &ROW()),INDIRECT("'Note élève'!B" & ROW()),0) -> 0 | M17: =IF(M$5=INDIRECT("'Note élève'!C" &ROW()),INDIRECT("'Note élève'!B" & ROW()),0) -> 0 | N17: =IF(N$5=INDIRECT("'Note élève'!C" &ROW()),INDIRECT("'Note élève'!B" & ROW()),0) -> 1
C18: =IF($C$5='Note élève'!C18,'Note élève'!B18,0) -> 1 | D18: =IF($D$5='Note élève'!C18,'Note élève'!B18,0) -> 0 | E18: =IF($E$5='Note élève'!C18,'Note élève'!B18,0) -> 0 | F18: =IF($F$5='Note élève'!C18,'Note élève'!B18,0) -> 0 | G18: =IF($G$5='Note élève'!C18,'Note élève'!B18,0) -> 0 | J18: =IF(J$5=INDIRECT("'Note élève'!C" &ROW()),INDIRECT("'Note élève'!B" & ROW()),0) -> 1 | K18: =IF(K$5=INDIRECT("'Note élève'!C" &ROW()),INDIRECT("'Note élève'!B" & ROW()),0) -> 0 | L18: =IF(L$5=INDIRECT("'Note élève'!C" &ROW()),INDIRECT("'Note élève'!B" & ROW()),0) -> 0 | M18: =IF(M$5=INDIRECT("'Note élève'!C" &ROW()),INDIRECT("'Note élève'!B" & ROW()),0) -> 0 | N18: =IF(N$5=INDIRECT("'Note élève'!C" &ROW()),INDIRECT("'Note élève'!B" & ROW()),0) -> 0
B20: Total | C20: =SUM(C6:C18) -> 4 | D20: =SUM(D6:D18) -> 1.5 | E20: =SUM(E6:E18) -> 2.5 | F20: =SUM(F6:F18) -> 2 | G20: =SUM(G6:G18) -> 1.5 | I20: Total | J20: =SUM(J6:J18) -> 4 | K20: =SUM(K6:K18) -> 1.5 | L20: =SUM(L6:L18) -> 2.5 | M20: =SUM(M6:M18) -> 2 | N20: =SUM(N6:N18) -> 1.5
B23: Résultat élève | I23: Résultat élève | J23: Morgane
C25: S'approprier | D25: Analyser | E25: Réaliser | F25: Valider | G25: Communiquer | J25: S'approprier | K25: Analyser | L25: Réaliser | M25: Valider | N25: Communiquer
C26: =IF($C$25='Note élève'!C6,'Note élève'!D6,0)*C6/3 -> 1 | D26: =IF($D$25='Note élève'!C6,'Note élève'!D6,0)*D6/3 -> 0 | E26: =IF($E$25='Note élève'!C6,'Note élève'!D6,0)*E6/3 -> 0 | F26: =IF($F$25='Note élève'!C6,'Note élève'!D6,0)*F6/3 -> 0 | G26: =IF($G$25='Note élève'!C6,'Note élève'!D6,0)*G6/3 -> 0 | J26: =IF(J$25=INDIRECT("'Note élève'!C" &ROW()-20),INDIRECT("'Note élève'!"&ADDRESS(ROW()-20,MATCH('Note par compétence'!$J$23,'Note élève'!$D$5:$AE$5,)+3,,,)),0)*J6/3 -> 1 | K26: =IF(K$25=INDIRECT("'Note élève'!C" &ROW()-20),INDIRECT("'Note élève'!"&ADDRESS(ROW()-20,MATCH('Note par compétence'!$J$23,'Note élève'!$D$5:$AE$5,)+3,,,)),0)*K6/3 -> 0 | L26: =IF(L$25=INDIRECT("'Note élève'!C" &ROW()-20),INDIRECT("'Note élève'!"&ADDRESS(ROW()-20,MATCH('Note par compétence'!$J$23,'Note élève'!$D$5:$AE$5,)+3,,,)),0)*L6/3 -> 0 | M26: =IF(M$25=INDIRECT("'Note élève'!C" &ROW()-20),INDIRECT("'Note élève'!"&ADDRESS(ROW()-20,MATCH('Note par compétence'!$J$23,'Note élève'!$D$5:$AE$5,)+3,,,)),0)*M6/3 -> 0 | N26: =IF(N$25=INDIRECT("'Note élève'!C" &ROW()-20),INDIRECT("'Note élève'!"&ADDRESS(ROW()-20,MATCH('Note par compétence'!$J$23,'Note élève'!$D$5:$AE$5,)+3,,,)),0)*N6/3 -> 0
C27: =IF($C$25='Note élève'!C7,'Note élève'!D7,0)*C7/3 -> 0 | D27: =IF($D$25='Note élève'!C7,'Note élève'!D7,0)*D7/3 -> 1 | E27: =IF($E$25='Note élève'!C7,'Note élève'!D7,0)*E7/3 -> 0 | F27: =IF($F$25='Note élève'!C7,'Note élève'!D7,0)*F7/3 -> 0 | G27: =IF($G$25='Note élève'!C7,'Note élève'!D7,0)*G7/3 -> 0 | J27: =IF(J$25=INDIRECT("'Note élève'!C" &ROW()-20),INDIRECT("'Note élève'!"&ADDRESS(ROW()-20,MATCH('Note par compétence'!$J$23,'Note élève'!$D$5:$AE$5,)+3,,,)),0)*J7/3 -> 0 | K27: =IF(K$25=INDIRECT("'Note élève'!C" &ROW()-20),INDIRECT("'Note élève'!"&ADDRESS(ROW()-20,MATCH('Note par compétence'!$J$23,'Note élève'!$D$5:$AE$5,)+3,,,)),0)*K7/3 -> 1 | L27: =IF(L$25=INDIRECT("'Note élève'!C" &ROW()-20),INDIRECT("'Note élève'!"&ADDRESS(ROW()-20,MATCH('Note par compétence'!$J$23,'Note élève'!$D$5:$AE$5,)+3,,,)),0)*L7/3 -> 0 | M27: =IF(M$25=INDIRECT("'Note élève'!C" &ROW()-20),INDIRECT("'Note élève'!"&ADDRESS(ROW()-20,MATCH('Note par compétence'!$J$23,'Note élève'!$D$5:$AE$5,)+3,,,)),0)*M7/3 -> 0 | N27: =IF(N$25=INDIRECT("'Note élève'!C" &ROW()-20),INDIRECT("'Note élève'!"&ADDRESS(ROW()-20,MATCH('Note par compétence'!$J$23,'Note élève'!$D$5:$AE$5,)+3,,,)),0)*N7/3 -> 0
C28: =IF($C$25='Note élève'!C8,'Note élève'!D8,0)*C8/3 -> 0 | D28: =IF($D$25='Note élève'!C8,'Note élève'!D8,0)*D8/3 -> 0 | E28: =IF($E$25='Note élève'!C8,'Note élève'!D8,0)*E8/3 -> 1 | F28: =IF($F$25='Note élève'!C8,'Note élève'!D8,0)*F8/3 -> 0 | G28: =IF($G$25='Note élève'!C8,'Note élève'!D8,0)*G8/3 -> 0 | J28: =IF(J$25=INDIRECT("'Note élève'!C" &ROW()-20),INDIRECT("'Note élève'!"&ADDRESS(ROW()-20,MATCH('Note par compétence'!$J$23,'Note élève'!$D$5:$AE$5,)+3,,,)),0)*J8/3 -> 0 | K28: =IF(K$25=INDIRECT("'Note élève'!C" &ROW()-20),INDIRECT("'Note élève'!"&ADDRESS(ROW()-20,MATCH('Note par compétence'!$J$23,'Note élève'!$D$5:$AE$5,)+3,,,)),0)*K8/3 -> 0 | L28: =IF(L$25=INDIRECT("'Note élève'!C" &ROW()-20),INDIRECT("'Note élève'!"&ADDRESS(ROW()-20,MATCH('Note par compétence'!$J$23,'Note élève'!$D$5:$AE$5,)+3,,,)),0)*L8/3 -> 0 | M28: =IF(M$25=INDIRECT("'Note élève'!C" &ROW()-20),INDIRECT("'Note élève'!"&ADDRESS(ROW()-20,MATCH('Note par compétence'!$J$23,'Note élève'!$D$5:$AE$5,)+3,,,)),0)*M8/3 -> 0 | N28: =IF(N$25=INDIRECT("'Note élève'!C" &ROW()-20),INDIRECT("'Note élève'!"&ADDRESS(ROW()-20,MATCH('Note par compétence'!$J$23,'Note élève'!$D$5:$AE$5,)+3,,,)),0)*N8/3 -> 0
C29: =IF($C$25='Note élève'!C9,'Note élève'!D9,0)*C9/3 -> 0.66666667 | D29: =IF($D$25='Note élève'!C9,'Note élève'!D9,0)*D9/3 -> 0 | E29: =IF($E$25='Note élève'!C9,'Note élève'!D9,0)*E9/3 -> 0 | F29: =IF($F$25='Note élève'!C9,'Note élève'!D9,0)*F9/3 -> 0 | G29: =IF($G$25='Note élève'!C9,'Note élève'!D9,0)*G9/3 -> 0 | J29: =IF(J$25=INDIRECT("'Note élève'!C" &ROW()-20),INDIRECT("'Note élève'!"&ADDRESS(ROW()-20,MATCH('Note par compétence'!$J$23,'Note élève'!$D$5:$AE$5,)+3,,,)),0)*J9/3 -> 0.66666667 | K29: =IF(K$25=INDIRECT("'Note élève'!C" &ROW()-20),INDIRECT("'Note élève'!"&ADDRESS(ROW()-20,MATCH('Note par compétence'!$J$23,'Note élève'!$D$5:$AE$5,)+3,,,)),0)*K9/3 -> 0 | L29: =IF(L$25=INDIRECT("'Note élève'!C" &ROW()-20),INDIRECT("'Note élève'!"&ADDRESS(ROW()-20,MATCH('Note par compétence'!$J$23,'Note élève'!$D$5:$AE$5,)+3,,,)),0)*L9/3 -> 0 | M29: =IF(M$25=INDIRECT("'Note élève'!C" &ROW()-20),INDIRECT("'Note élève'!"&ADDRESS(ROW()-20,MATCH('Note par compétence'!$J$23,'Note élève'!$D$5:$AE$5,)+3,,,)),0)*M9/3 -> 0 | N29: =IF(N$25=INDIRECT("'Note élève'!C" &ROW()-20),INDIRECT("'Note élève'!"&ADDRESS(ROW()-20,MATCH('Note par compétence'!$J$23,'Note élève'!$D$5:$AE$5,)+3,,,)),0)*N9/3 -> 0
C30: =IF($C$25='Note élève'!C10,'Note élève'!D10,0)*C10/3 -> 0 | D30: =IF($D$25='Note élève'!C10,'Note élève'!D10,0)*D10/3 -> 0 | E30: =IF($E$25='Note élève'!C10,'Note élève'!D10,0)*E10/3 -> 0 | F30: =IF($F$25='Note élève'!C10,'Note élève'!D10,0)*F10/3 -> 0 | G30: =IF($G$25='Note élève'!C10,'Note élève'!D10,0)*G10/3 -> 0.16666667 | J30: =IF(J$25=INDIRECT("'Note élève'!C" &ROW()-20),INDIRECT("'Note élève'!"&ADDRESS(ROW()-20,MATCH('Note par compétence'!$J$23,'Note élève'!$D$5:$AE$5,)+3,,,)),0)*J10/3 -> 0 | K30: =IF(K$25=INDIRECT("'Note élève'!C" &ROW()-20),INDIRECT("'Note élève'!"&ADDRESS(ROW()-20,MATCH('Note par compétence'!$J$23,'Note élève'!$D$5:$AE$5,)+3,,,)),0)*K10/3 -> 0 | L30: =IF(L$25=INDIRECT("'Note élève'!C" &ROW()-20),INDIRECT("'Note élève'!"&ADDRESS(ROW()-20,MATCH('Note par compétence'!$J$23,'Note élève'!$D$5:$AE$5,)+3,,,)),0)*L10/3 -> 0 | M30: =IF(M$25=INDIRECT("'Note élève'!C" &ROW()-20),INDIRECT("'Note élève'!"&ADDRESS(ROW()-20,MATCH('Note par compétence'!$J$23,'Note élève'!$D$5:$AE$5,)+3,,,)),0)*M10/3 -> 0 | N30: =IF(N$25=INDIRECT("'Note élève'!C" &ROW()-20),INDIRECT("'Note élève'!"&ADDRESS(ROW()-20,MATCH('Note par compétence'!$J$23,'Note élève'!$D$5:$AE$5,)+3,,,)),0)*N10/3 -> 0.16666667
C31: =IF($C$25='Note élève'!C11,'Note élève'!D11,0)*C11/3 -> 0 | D31: =IF($D$25='Note élève'!C11,'Note élève'!D11,0)*D11/3 -> 0 | E31: =IF($E$25='Note élève'!C11,'Note élève'!D11,0)*E11/3 -> 1 | F31: =IF($F$25='Note élève'!C11,'Note élève'!D11,0)*F11/3 -> 0 | G31: =IF($G$25='Note élève'!C11,'Note élève'!D11,0)*G11/3 -> 0 | J31: =IF(J$25=INDIRECT("'Note élève'!C" &ROW()-20),INDIRECT("'Note élève'!"&ADDRESS(ROW()-20,MATCH('Note par compétence'!$J$23,'Note élève'!$D$5:$AE$5,)+3,,,)),0)*J11/3 -> 0 | K31: =IF(K$25=INDIRECT("'Note élève'!C" &ROW()-20),INDIRECT("'Note élève'!"&ADDRESS(ROW()-20,MATCH('Note par compétence'!$J$23,'Note élève'!$D$5:$AE$5,)+3,,,)),0)*K11/3 -> 0 | L31: =IF(L$25=INDIRECT("'Note élève'!C" &ROW()-20),INDIRECT("'Note élève'!"&ADDRESS(ROW()-20,MATCH('Note par compétence'!$J$23,'Note élève'!$D$5:$AE$5,)+3,,,)),0)*L11/3 -> 0.33333333 | M31: =IF(M$25=INDIRECT("'Note élève'!C" &ROW()-20),INDIRECT("'Note élève'!"&ADDRESS(ROW()-20,MATCH('Note par compétence'!$J$23,'Note élève'!$D$5:$AE$5,)+3,,,)),0)*M11/3 -> 0 | N31: =IF(N$25=INDIRECT("'Note élève'!C" &ROW()-20),INDIRECT("'Note élève'!"&ADDRESS(ROW()-20,MATCH('Note par compétence'!$J$23,'Note élève'!$D$5:$AE$5,)+3,,,)),0)*N11/3 -> 0
C32: =IF($C$25='Note élève'!C12,'Note élève'!D12,0)*C12/3 -> 0 | D32: =IF($D$25='Note élève'!C12,'Note élève'!D12,0)*D12/3 -> 0 | E32: =IF($E$25='Note élève'!C12,'Note élève'!D12,0)*E12/3 -> 0.16666667 | F32: =IF($F$25='Note élève'!C12,'Note élève'!D12,0)*F12/3 -> 0 | G32: =IF($G$25='Note élève'!C12,'Note élève'!D12,0)*G12/3 -> 0 | J32: =IF(J$25=INDIRECT("'Note élève'!C" &ROW()-20),INDIRECT("'Note élève'!"&ADDRESS(ROW()-20,MATCH('Note par compétence'!$J$23,'Note élève'!$D$5:$AE$5,)+3,,,)),0)*J12/3 -> 0 | K32: =IF(K$25=INDIRECT("'Note élève'!C" &ROW()-20),INDIRECT("'Note élève'!"&ADDRESS(ROW()-20,MATCH('Note par compétence'!$J$23,'Note élève'!$D$5:$AE$5,)+3,,,)),0)*K12/3 -> 0 | L32: =IF(L$25=INDIRECT("'Note élève'!C" &ROW()-20),INDIRECT("'Note élève'!"&ADDRESS(ROW()-20,MATCH('Note par compétence'!$J$23,'Note élève'!$D$5:$AE$5,)+3,,,)),0)*L12/3 -> 0.5 | M32: =IF(M$25=INDIRECT("'Note élève'!C" &ROW()-20),INDIRECT("'Note élève'!"&ADDRESS(ROW()-20,MATCH('Note par compétence'!$J$23,'Note élève'!$D$5:$AE$5,)+3,,,)),0)*M12/3 -> 0 | N32: =IF(N$25=INDIRECT("'Note élève'!C" &ROW()-20),INDIRECT("'Note élève'!"&ADDRESS(ROW()-20,MATCH('Note par compétence'!$J$23,'Note élève'!$D$5:$AE$5,)+3,,,)),0)*N12/3 -> 0
C33: =IF($C$25='Note élève'!C13,'Note élève'!D13,0)*C13/3 -> 0 | D33: =IF($D$25='Note élève'!C13,'Note élève'!D13,0)*D13/3 -> 0 | E33: =IF($E$25='Note élève'!C13,'Note élève'!D13,0)*E13/3 -> 0 | F33: =IF($F$25='Note élève'!C13,'Note élève'!D13,0)*F13/3 -> 0 | G33: =IF($G$25='Note élève'!C13,'Note élève'!D13,0)*G13/3 -> 0 | J33: =IF(J$25=INDIRECT("'Note élève'!C" &ROW()-20),INDIRECT("'Note élève'!"&ADDRESS(ROW()-20,MATCH('Note par compétence'!$J$23,'Note élève'!$D$5:$AE$5,)+3,,,)),0)*J13/3 -> 0 | K33: =IF(K$25=INDIRECT("'Note élève'!C" &ROW()-20),INDIRECT("'Note élève'!"&ADDRESS(ROW()-20,MATCH('Note par compétence'!$J$23,'Note élève'!$D$5:$AE$5,)+3,,,)),0)*K13/3 -> 0 | L33: =IF(L$25=INDIRECT("'Note élève'!C" &ROW()-20),INDIRECT("'Note élève'!"&ADDRESS(ROW()-20,MATCH('Note par compétence'!$J$23,'Note élève'!$D$5:$AE$5,)+3,,,)),0)*L13/3 -> 0 | M33: =IF(M$25=INDIRECT("'Note élève'!C" &ROW()-20),INDIRECT("'Note élève'!"&ADDRESS(ROW()-20,MATCH('Note par compétence'!$J$23,'Note élève'!$D$5:$AE$5,)+3,,,)),0)*M13/3 -> 1 | N33: =IF(N$25=INDIRECT("'Note élève'!C" &ROW()-20),INDIRECT("'Note élève'!"&ADDRESS(ROW()-20,MATCH('Note par compétence'!$J$23,'Note élève'!$D$5:$AE$5,)+3,,,)),0)*N13/3 -> 0
C34: =IF($C$25='Note élève'!C14,'Note élève'!D14,0)*C14/3 -> 0 | D34: =IF($D$25='Note élève'!C14,'Note élève'!D14,0)*D14/3 -> 0 | E34: =IF($E$25='Note élève'!C14,'Note élève'!D14,0)*E14/3 -> 0 | F34: =IF($F$25='Note élève'!C14,'Note élève'!D14,0)*F14/3 -> 0 | G34: =IF($G$25='Note élève'!C14,'Note élève'!D14,0)*G14/3 -> 0 | J34: =IF(J$25=INDIRECT("'Note élève'!C" &ROW()-20),INDIRECT("'Note élève'!"&ADDRESS(ROW()-20,MATCH('Note par compétence'!$J$23,'Note élève'!$D$5:$AE$5,)+3,,,)),0)*J14/3 -> 0 | K34: =IF(K$25=INDIRECT("'Note élève'!C" &ROW()-20),INDIRECT("'Note élève'!"&ADDRESS(ROW()-20,MATCH('Note par compétence'!$J$23,'Note élève'!$D$5:$AE$5,)+3,,,)),0)*K14/3 -> 0 | L34: =IF(L$25=INDIRECT("'Note élève'!C" &ROW()-20),INDIRECT("'Note élève'!"&ADDRESS(ROW()-20,MATCH('Note par compétence'!$J$23,'Note élève'!$D$5:$AE$5,)+3,,,)),0)*L14/3 -> 0 | M34: =IF(M$25=INDIRECT("'Note élève'!C" &ROW()-20),INDIRECT("'Note élève'!"&ADDRESS(ROW()-20,MATCH('Note par compétence'!$J$23,'Note élève'!$D$5:$AE$5,)+3,,,)),0)*M14/3 -> 0 | N34: =IF(N$25=INDIRECT("'Note élève'!C" &ROW()-20),INDIRECT("'Note élève'!"&ADDRESS(ROW()-20,MATCH('Note par compétence'!$J$23,'Note élève'!$D$5:$AE$5,)+3,,,)),0)*N14/3 -> 0
C35: =IF($C$25='Note élève'!C15,'Note élève'!D15,0)*C15/3 -> 0 | D35: =IF($D$25='Note élève'!C15,'Note élève'!D15,0)*D15/3 -> 0 | E35: =IF($E$25='Note élève'!C15,'Note élève'!D15,0)*E15/3 -> 0 | F35: =IF($F$25='Note élève'!C15,'Note élève'!D15,0)*F15/3 -> 1 | G35: =IF($G$25='Note élève'!C15,'Note élève'!D15,0)*G15/3 -> 0 | J35: =IF(J$25=INDIRECT("'Note élève'!C" &ROW()-20),INDIRECT("'Note élève'!"&ADDRESS(ROW()-20,MATCH('Note par compétence'!$J$23,'Note élève'!$D$5:$AE$5,)+3,,,)),0)*J15/3 -> 0 | K35: =IF(K$25=INDIRECT("'Note élève'!C" &ROW()-20),INDIRECT("'Note élève'!"&ADDRESS(ROW()-20,MATCH('Note par compétence'!$J$23,'Note élève'!$D$5:$AE$5,)+3,,,)),0)*K15/3 -> 0 | L35: =IF(L$25=INDIRECT("'Note élève'!C" &ROW()-20),INDIRECT("'Note élève'!"&ADDRESS(ROW()-20,MATCH('Note par compétence'!$J$23,'Note élève'!$D$5:$AE$5,)+3,,,)),0)*L15/3 -> 0 | M35: =IF(M$25=INDIRECT("'Note élève'!C" &ROW()-20),INDIRECT("'Note élève'!"&ADDRESS(ROW()-20,MATCH('Note par compétence'!$J$23,'Note élève'!$D$5:$AE$5,)+3,,,)),0)*M15/3 -> 1 | N35: =IF(N$25=INDIRECT("'Note élève'!C" &ROW()-20),INDIRECT("'Note élève'!"&ADDRESS(ROW()-20,MATCH('Note par compétence'!$J$23,'Note élève'!$D$5:$AE$5,)+3,,,)),0)*N15/3 -> 0
C36: =IF($C$25='Note élève'!C16,'Note élève'!D16,0)*C16/3 -> 1 | D36: =IF($D$25='Note élève'!C16,'Note élève'!D16,0)*D16/3 -> 0 | E36: =IF($E$25='Note élève'!C16,'Note élève'!D16,0)*E16/3 -> 0 | F36: =IF($F$25='Note élève'!C16,'Note élève'!D16,0)*F16/3 -> 0 | G36: =IF($G$25='Note élève'!C16,'Note élève'!D16,0)*G16/3 -> 0 | J36: =IF(J$25=INDIRECT("'Note élève'!C" &ROW()-20),INDIRECT("'Note élève'!"&ADDRESS(ROW()-20,MATCH('Note par compétence'!$J$23,'Note élève'!$D$5:$AE$5,)+3,,,)),0)*J16/3 -> 1 | K36: =IF(K$25=INDIRECT("'Note élève'!C" &ROW()-20),INDIRECT("'Note élève'!"&ADDRESS(ROW()-20,MATCH('Note par compétence'!$J$23,'Note élève'!$D$5:$AE$5,)+3,,,)),0)*K16/3 -> 0 | L36: =IF(L$25=INDIRECT("'Note élève'!C" &ROW()-20),INDIRECT("'Note élève'!"&ADDRESS(ROW()-20,MATCH('Note par compétence'!$J$23,'Note élève'!$D$5:$AE$5,)+3,,,)),0)*L16/3 -> 0 | M36: =IF(M$25=INDIRECT("'Note élève'!C" &ROW()-20),INDIRECT("'Note élève'!"&ADDRESS(ROW()-20,MATCH('Note par compétence'!$J$23,'Note élève'!$D$5:$AE$5,)+3,,,)),0)*M16/3 -> 0 | N36: =IF(N$25=INDIRECT("'Note élève'!C" &ROW()-20),INDIRECT("'Note élève'!"&ADDRESS(ROW()-20,MATCH('Note par compétence'!$J$23,'Note élève'!$D$5:$AE$5,)+3,,,)),0)*N16/3 -> 0
C37: =IF($C$25='Note élève'!C17,'Note élève'!D17,0)*C17/3 -> 0 | D37: =IF($D$25='Note élève'!C17,'Note élève'!D17,0)*D17/3 -> 0 | E37: =IF($E$25='Note élève'!C17,'Note élève'!D17,0)*E17/3 -> 0 | F37: =IF($F$25='Note élève'!C17,'Note élève'!D17,0)*F17/3 -> 0 | G37: =IF($G$25='Note élève'!C17,'Note élève'!D17,0)*G17/3 -> 1 | J37: =IF(J$25=INDIRECT("'Note élève'!C" &ROW()-20),INDIRECT("'Note élève'!"&ADDRESS(ROW()-20,MATCH('Note par compétence'!$J$23,'Note élève'!$D$5:$AE$5,)+3,,,)),0)*J17/3 -> 0 | K37: =IF(K$25=INDIRECT("'Note élève'!C" &ROW()-20),INDIRECT("'Note élève'!"&ADDRESS(ROW()-20,MATCH('Note par compétence'!$J$23,'Note élève'!$D$5:$AE$5,)+3,,,)),0)*K17/3 -> 0 | L37: =IF(L$25=INDIRECT("'Note élève'!C" &ROW()-20),INDIRECT("'Note élève'!"&ADDRESS(ROW()-20,MATCH('Note par compétence'!$J$23,'Note élève'!$D$5:$AE$5,)+3,,,)),0)*L17/3 -> 0 | M37: =IF(M$25=INDIRECT("'Note élève'!C" &ROW()-20),INDIRECT("'Note élève'!"&ADDRESS(ROW()-20,MATCH('Note par compétence'!$J$23,'Note élève'!$D$5:$AE$5,)+3,,,)),0)*M17/3 -> 0 | N37: =IF(N$25=INDIRECT("'Note élève'!C" &ROW()-20),INDIRECT("'Note élève'!"&ADDRESS(ROW()-20,MATCH('Note par compétence'!$J$23,'Note élève'!$D$5:$AE$5,)+3,,,)),0)*N17/3 -> 1
C38: =IF($C$25='Note élève'!C18,'Note élève'!D18,0)*C18/3 -> 1 | D38: =IF($D$25='Note élève'!C18,'Note élève'!D18,0)*D18/3 -> 0 | E38: =IF($E$25='Note élève'!C18,'Note élève'!D18,0)*E18/3 -> 0 | F38: =IF($F$25='Note élève'!C18,'Note élève'!D18,0)*F18/3 -> 0 | G38: =IF($G$25='Note élève'!C18,'Note élève'!D18,0)*G18/3 -> 0 | J38: =IF(J$25=INDIRECT("'Note élève'!C" &ROW()-20),INDIRECT("'Note élève'!"&ADDRESS(ROW()-20,MATCH('Note par compétence'!$J$23,'Note élève'!$D$5:$AE$5,)+3,,,)),0)*J18/3 -> 1 | K38: =IF(K$25=INDIRECT("'Note élève'!C" &ROW()-20),INDIRECT("'Note élève'!"&ADDRESS(ROW()-20,MATCH('Note par compétence'!$J$23,'Note élève'!$D$5:$AE$5,)+3,,,)),0)*K18/3 -> 0 | L38: =IF(L$25=INDIRECT("'Note élève'!C" &ROW()-20),INDIRECT("'Note élève'!"&ADDRESS(ROW()-20,MATCH('Note par compétence'!$J$23,'Note élève'!$D$5:$AE$5,)+3,,,)),0)*L18/3 -> 0 | M38: =IF(M$25=INDIRECT("'Note élève'!C" &ROW()-20),INDIRECT("'Note élève'!"&ADDRESS(ROW()-20,MATCH('Note par compétence'!$J$23,'Note élève'!$D$5:$AE$5,)+3,,,)),0)*M18/3 -> 0 | N38: =IF(N$25=INDIRECT("'Note élève'!C" &ROW()-20),INDIRECT("'Note élève'!"&ADDRESS(ROW()-20,MATCH('Note par compétence'!$J$23,'Note élève'!$D$5:$AE$5,)+3,,,)),0)*N18/3 -> 0
B40: Total | C40: =SUM(C26:C38) -> 3.6666667 | D40: =SUM(D26:D38) -> 1 | E40: =SUM(E26:E38) -> 2.1666667 | F40: =SUM(F26:F38) -> 1 | G40: =SUM(G26:G38) -> 1.1666667 | I40: Total | J40: =SUM(J26:J38) -> 3.6666667 | K40: =SUM(K26:K38) -> 1 | L40: =SUM(L26:L38) -> 0.83333333 | M40: =SUM(M26:M38) -> 2 | N40: =SUM(N26:N38) -> 1.1666667

Sheet Feuil3
