Workbook
Name IQ_CH: 110000
Name IQ_CQ: 5000
Name IQ_CY: 10000
Name IQ_DAILY: 500000
Name IQ_FH: 100000
Name IQ_FQ: 500
Name IQ_FY: 1000
Name IQ_LTM: 2000
Name IQ_MONTH: 15000
Name IQ_NTM: 6000
Name IQ_WEEK: 50000
Name IQ_YTD: 3000

Sheet Détails
A1: Magasin | B1: Zone Magasin | C1: Numéro | D1: Nom du magasin | E1: Ligne de produit | F1: Statut du CDV | G1: Date de RDV effectués tous produits | H1: Date d'envoi de la proposition | I1: Signature espérée avant le | J1: #NB RDV | K1: #NB PROP | L1: #NB WON | M1: WON€
A2: X | B2: BAS RHIN | C2: 123451 | D2: Magasin 1 | E2: Produit 1 | F2: En cours | G2: 27/04/2021 | I2: 30/10/2021 | J2: 1 | K2: 0 | L2: 0
B3: CHAMPAGNE ARDENNE NORD | C3: 123452 | D3: Magasin 2 | E3: Produit 1 | F3: En cours | G3: 27/10/2020 | H3: 14/04/2021 | I3: 31/05/2021 | J3: 0 | K3: 1 | L3: 0
B4: CHAMPAGNE ARDENNE NORD | C4: 123453 | D4: Magasin 3 | E4: Produit 1 | F4: Clôturé | G4: 17/09/2020 | I4: 30/04/2021 | J4: 0 | K4: 0 | L4: 0
B5: CHAMPAGNE ARDENNE NORD | C5: 123454 | D5: Magasin 4 | E5: Produit 3 | F5: Clôturé | G5: 15/02/2021 | H5: 18/02/2021 | I5: 06/04/2021 | J5: 0 | K5: 0 | L5: 0
B6: CHAMPAGNE ARDENNE NORD | C6: 123455 | D6: Magasin 5 | E6: Produit 1 | F6: En cours | G6: 02/10/2020 | I6: 23/04/2021 | J6: 0 | K6: 0 | L6: 0
B7: CHAMPAGNE ARDENNE NORD | C7: 123456 | D7: Magasin 6 | E7: Produit 1 | F7: En cours | G7: 01/10/2020 | I7: 23/04/2021 | J7: 0 | K7: 0 | L7: 0
B8: CHAMPAGNE ARDENNE NORD | C8: 123457 | D8: Magasin 7 | E8: Produit 1 | F8: En cours | G8: 05/10/2020 | I8: 12/04/2021 | J8: 0 | K8: 0 | L8: 0
B9: CHAMPAGNE ARDENNE NORD | C9: 123458 | D9: Magasin 8 | E9: Produit 1 | F9: En cours | G9: 02/10/2020 | I9: 23/04/2021 | J9: 0 | K9: 0 | L9: 0
B10: LOIRE ATLANTIQUE | C10: 123459 | D10: Magasin 9 | E10: Produit 2 | F10: Clôturé | G10: 14/01/2019 | I10: 30/04/2021 | J10: 0 | K10: 0 | L10: 0
B11: LOIRE ATLANTIQUE | C11: 123460 | D11: Magasin 10 | E11: Produit 2 | F11: Clôturé | G11: 07/06/2019 | I11: 30/04/2021 | J11: 0 | K11: 0 | L11: 0
B12: LOIRE ATLANTIQUE | C12: 123461 | D12: Magasin 11 | E12: Produit 2 | F12: Clôturé | G12: 04/07/2018 | I12: 30/04/2021 | J12: 0 | K12: 0 | L12: 0
B13: BRETAGNE EST | C13: 123462 | D13: Magasin 12 | E13: Produit 2 | F13: Clôturé | G13: 24/07/2019 | I13: 30/04/2021 | J13: 0 | K13: 0 | L13: 0
B14: VAL DE LOIRE | C14: 123463 | D14: Magasin 13 | E14: Produit 1 | F14: Clôturé | G14: 30/09/2020 | I14: 30/04/2021 | J14: 0 | K14: 0 | L14: 0
B15: VAL DE LOIRE | C15: 123464 | D15: Magasin 14 | E15: Produit 1 | F15: Clôturé | G15: 30/09/2020 | I15: 30/04/2021 | J15: 0 | K15: 0 | L15: 0
B16: VAL DE LOIRE | C16: 123465 | D16: Magasin 15 | E16: Produit 1 | F16: Clôturé | G16: 30/09/2020 | I16: 30/04/2021 | J16: 0 | K16: 0 | L16: 0
B17: VAL DE LOIRE | C17: 123466 | D17: Magasin 16 | E17: Produit 1 | F17: Clôturé | G17: 30/09/2020 | I17: 30/04/2021 | J17: 0 | K17: 0 | L17: 0
... B19: VAL DE LOIRE | C19: 123468 | D19: Magasin 18 | E19: Produit 1 | F19: Clôturé | G19: 02/07/2020 | I19: 30/04/2021 | J19: 0 | K19: 0 | L19: 0
B20: VAL DE LOIRE | C20: 123469 | D20: Magasin 19 | E20: Produit 1 | F20: Clôturé | G20: 02/07/2020 | H20: 02/12/2020 | I20: 30/04/2021 | J20: 0 | K20: 0 | L20: 0
B21: VAL DE LOIRE | C21: 123470 | D21: Magasin 20 | E21: Produit 1 | F21: Clôturé | G21: 02/07/2020 | I21: 30/04/2021 | J21: 0 | K21: 0 | L21: 0
B22: VAL DE LOIRE | C22: 123471 | D22: Magasin 21 | E22: Produit 1 | F22: Clôturé | G22: 30/09/2020 | I22: 30/04/2021 | J22: 0 | K22: 0 | L22: 0
B23: VAL DE LOIRE | C23: 123472 | D23: Magasin 22 | E23: Produit 1 | F23: Clôturé | G23: 30/09/2020 | I23: 30/04/2021 | J23: 0 | K23: 0 | L23: 0
B24: VAL DE LOIRE | C24: 123473 | D24: Magasin 23 | E24: Produit 1 | F24: Clôturé | G24: 02/07/2020 | I24: 30/04/2021 | J24: 0 | K24: 0 | L24: 0
B25: BRETAGNE OUEST | C25: 123474 | D25: Magasin 24 | E25: Produit 3 | F25: En cours | G25: 13/04/2021 | I25: 13/10/2021 | J25: 1 | K25: 0 | L25: 0
B26: BRETAGNE OUEST | C26: 123475 | D26: Magasin 25 | E26: Produit 3 | F26: En cours | G26: 13/04/2021 | I26: 13/10/2021 | J26: 1 | K26: 0 | L26: 0
B27: BRETAGNE OUEST | C27: 123476 | D27: Magasin 26 | E27: Produit 3 | F27: En cours | G27: 13/04/2021 | I27: 13/10/2021 | J27: 1 | K27: 0 | L27: 0
B28: BASSE NORMANDIE | C28: 123477 | D28: Magasin 27 | E28: Produit 1 | F28: Clôturé | G28: 10/02/2021 | H28: 19/02/2021 | I28: 13/04/2021 | J28: 0 | K28: 0 | L28: 0
B29: BASSE NORMANDIE | C29: 123478 | D29: Magasin 28 | E29: Produit 1 | F29: Clôturé | G29: 15/02/2021 | I29: 13/04/2021 | J29: 0 | K29: 0 | L29: 0
B30: VAL DE LOIRE | C30: 123479 | D30: Magasin 29 | E30: Produit 1 | F30: Clôturé | I30: 08/04/2021 | J30: 0 | K30: 0 | L30: 0
B31: VENDEE MAUGES DEUX SEVRES | C31: 123480 | D31: Magasin 30 | E31: Produit 2 | F31: En cours | G31: 09/04/2021 | I31: 09/10/2021 | J31: 1 | K31: 0 | L31: 0
B32: OUEST | C32: 123481 | D32: Magasin 31 | E32: Produit 2 | F32: Clôturé | G32: 10/10/2019 | I32: 30/04/2021 | J32: 0 | K32: 0 | L32: 0
B33: SUD OUEST | C33: 123482 | D33: Magasin 32 | E33: Produit 1 | F33: En cours | G33: 09/04/2021 | I33: 13/10/2021 | J33: 1 | K33: 0 | L33: 0
B34: PAYS DE L'ADOUR | C34: 123483 | D34: Magasin 33 | E34: Produit 1 | F34: En cours | G34: 06/10/2020 | I34: 06/04/2021 | J34: 0 | K34: 0 | L34: 0
B35: PAYS DE L'ADOUR | C35: 123484 | D35: Magasin 34 | E35: Produit 2 | F35: Clôturé | G35: 26/03/2021 | H35: 21/04/2021 | I35: 28/04/2021 | J35: 0 | K35: 1 | L35: 1 | M35: 26600
B36: PAYS DE L'ADOUR | C36: 123485 | D36: Magasin 35 | E36: Produit 1 | F36: En cours | G36: 01/10/2020 | I36: 06/04/2021 | J36: 0 | K36: 0 | L36: 0
B37: VITI-VINI ET CHARENTES | C37: 123486 | D37: Magasin 36 | E37: Produit 1 | F37: Clôturé | I37: 08/04/2021 | J37: 0 | K37: 0 | L37: 0
B38: PICARDIE | C38: 123487 | D38: Magasin 37 | E38: Produit 1 | F38: En cours | G38: 14/09/2020 | I38: 30/04/2021 | J38: 0 | K38: 0 | L38: 0
B39: ALPES | C39: 123488 | D39: Magasin 38 | E39: Produit 1 | F39: Clôturé | G39: 09/09/2020 | H39: 12/10/2020 | I39: 07/04/2021 | J39: 0 | K39: 0 | L39: 0
B40: ALPES | C40: 123489 | D40: Magasin 39 | E40: Produit 1 | F40: Clôturé | G40: 22/09/2020 | H40: 12/10/2020 | I40: 07/04/2021 | J40: 0 | K40: 0 | L40: 0
B41: ALPES | C41: 123490 | D41: Magasin 40 | E41: Produit 1 | F41: Clôturé | G41: 22/09/2020 | H41: 12/10/2020 | I41: 07/04/2021 | J41: 0 | K41: 0 | L41: 0
...

Sheet Synthèse par région
C1: 44287
C2: 1° RDV | D2: Proposition | E2: Signature | F2: Prime espérée
A3: MAGASIN EST | B3: HAUT RHIN NORD FRANCHE COMTE | C3: =SUMIF(Détails!$B$2:$M$86,'Synthèse par région'!$B3,Détails!J$2:J$86) -> 0 | D3: =SUMIF(Détails!$B$2:$M$86,'Synthèse par région'!$B3,Détails!K$2:K$86) -> 0 | E3: =SUMIF(Détails!$B$2:$M$86,'Synthèse par région'!$B3,Détails!L$2:L$86) -> 0 | F3: =SUMIF(Détails!$B$2:$M$86,'Synthèse par région'!$B3,Détails!M$2:M$86) -> 0
B4: BAS RHIN | C4: =SUMIF(Détails!$B$2:$M$86,'Synthèse par région'!$B4,Détails!J$2:J$86) -> 1 | D4: =SUMIF(Détails!$B$2:$M$86,'Synthèse par région'!$B4,Détails!K$2:K$86) -> 0 | E4: =SUMIF(Détails!$B$2:$M$86,'Synthèse par région'!$B4,Détails!L$2:L$86) -> 0 | F4: =SUMIF(Détails!$B$2:$M$86,'Synthèse par région'!$B4,Détails!M$2:M$86) -> 0
B5: LORRAINE | C5: =SUMIF(Détails!$B$2:$M$86,'Synthèse par région'!$B5,Détails!J$2:J$86) -> 0 | D5: =SUMIF(Détails!$B$2:$M$86,'Synthèse par région'!$B5,Détails!K$2:K$86) -> 0 | E5: =SUMIF(Détails!$B$2:$M$86,'Synthèse par région'!$B5,Détails!L$2:L$86) -> 0 | F5: =SUMIF(Détails!$B$2:$M$86,'Synthèse par région'!$B5,Détails!M$2:M$86) -> 0
B6: BOURGOGNE CHAMPAGNE SUD | C6: =SUMIF(Détails!$B$2:$M$86,'Synthèse par région'!$B6,Détails!J$2:J$86) -> 0 | D6: =SUMIF(Détails!$B$2:$M$86,'Synthèse par région'!$B6,Détails!K$2:K$86) -> 0 | E6: =SUMIF(Détails!$B$2:$M$86,'Synthèse par région'!$B6,Détails!L$2:L$86) -> 0 | F6: =SUMIF(Détails!$B$2:$M$86,'Synthèse par région'!$B6,Détails!M$2:M$86) -> 0
A7: MAGASIN OUEST | B7: MAINE ANJOU | C7: =SUMIF(Détails!$B$2:$M$86,'Synthèse par région'!$B7,Détails!J$2:J$86) -> 0 | D7: =SUMIF(Détails!$B$2:$M$86,'Synthèse par région'!$B7,Détails!K$2:K$86) -> 0 | E7: =SUMIF(Détails!$B$2:$M$86,'Synthèse par région'!$B7,Détails!L$2:L$86) -> 0 | F7: =SUMIF(Détails!$B$2:$M$86,'Synthèse par région'!$B7,Détails!M$2:M$86) -> 0
B8: LOIRE ATLANTIQUE | C8: =SUMIF(Détails!$B$2:$M$86,'Synthèse par région'!$B8,Détails!J$2:J$86) -> 0 | D8: =SUMIF(Détails!$B$2:$M$86,'Synthèse par région'!$B8,Détails!K$2:K$86) -> 0 | E8: =SUMIF(Détails!$B$2:$M$86,'Synthèse par région'!$B8,Détails!L$2:L$86) -> 0 | F8: =SUMIF(Détails!$B$2:$M$86,'Synthèse par région'!$B8,Détails!M$2:M$86) -> 0
B9: BRETAGNE EST | C9: =SUMIF(Détails!$B$2:$M$86,'Synthèse par région'!$B9,Détails!J$2:J$86) -> 0 | D9: =SUMIF(Détails!$B$2:$M$86,'Synthèse par région'!$B9,Détails!K$2:K$86) -> 0 | E9: =SUMIF(Détails!$B$2:$M$86,'Synthèse par région'!$B9,Détails!L$2:L$86) -> 0 | F9: =SUMIF(Détails!$B$2:$M$86,'Synthèse par région'!$B9,Détails!M$2:M$86) -> 0
B10: BRETAGNE OUEST | C10: =SUMIF(Détails!$B$2:$M$86,'Synthèse par région'!$B10,Détails!J$2:J$86) -> 3 | D10: =SUMIF(Détails!$B$2:$M$86,'Synthèse par région'!$B10,Détails!K$2:K$86) -> 0 | E10: =SUMIF(Détails!$B$2:$M$86,'Synthèse par région'!$B10,Détails!L$2:L$86) -> 0 | F10: =SUMIF(Détails!$B$2:$M$86,'Synthèse par région'!$B10,Détails!M$2:M$86) -> 0
B11: SUD VAL DE LOIRE | C11: =SUMIF(Détails!$B$2:$M$86,'Synthèse par région'!$B11,Détails!J$2:J$86) -> 0 | D11: =SUMIF(Détails!$B$2:$M$86,'Synthèse par région'!$B11,Détails!K$2:K$86) -> 0 | E11: =SUMIF(Détails!$B$2:$M$86,'Synthèse par région'!$B11,Détails!L$2:L$86) -> 0 | F11: =SUMIF(Détails!$B$2:$M$86,'Synthèse par région'!$B11,Détails!M$2:M$86) -> 0
B12: VENDEE MAUGES DEUX SEVRES | C12: =SUMIF(Détails!$B$2:$M$86,'Synthèse par région'!$B12,Détails!J$2:J$86) -> 1 | D12: =SUMIF(Détails!$B$2:$M$86,'Synthèse par région'!$B12,Détails!K$2:K$86) -> 0 | E12: =SUMIF(Détails!$B$2:$M$86,'Synthèse par région'!$B12,Détails!L$2:L$86) -> 0 | F12: =SUMIF(Détails!$B$2:$M$86,'Synthèse par région'!$B12,Détails!M$2:M$86) -> 0
A13: MAGASIN SUD OUEST | B13: NORD MIDI PYRENEES | C13: =SUMIF(Détails!$B$2:$M$86,'Synthèse par région'!$B13,Détails!J$2:J$86) -> 0 | D13: =SUMIF(Détails!$B$2:$M$86,'Synthèse par région'!$B13,Détails!K$2:K$86) -> 0 | E13: =SUMIF(Détails!$B$2:$M$86,'Synthèse par région'!$B13,Détails!L$2:L$86) -> 0 | F13: =SUMIF(Détails!$B$2:$M$86,'Synthèse par région'!$B13,Détails!M$2:M$86) -> 0
B14: GIRONDE | C14: =SUMIF(Détails!$B$2:$M$86,'Synthèse par région'!$B14,Détails!J$2:J$86) -> 0 | D14: =SUMIF(Détails!$B$2:$M$86,'Synthèse par région'!$B14,Détails!K$2:K$86) -> 0 | E14: =SUMIF(Détails!$B$2:$M$86,'Synthèse par région'!$B14,Détails!L$2:L$86) -> 0 | F14: =SUMIF(Détails!$B$2:$M$86,'Synthèse par région'!$B14,Détails!M$2:M$86) -> 0
B15: PAYS DE l'ADOUR | C15: =SUMIF(Détails!$B$2:$M$86,'Synthèse par région'!$B15,Détails!J$2:J$86) -> 0 | D15: =SUMIF(Détails!$B$2:$M$86,'Synthèse par région'!$B15,Détails!K$2:K$86) -> 1 | E15: =SUMIF(Détails!$B$2:$M$86,'Synthèse par région'!$B15,Détails!L$2:L$86) -> 1 | F15: =SUMIF(Détails!$B$2:$M$86,'Synthèse par région'!$B15,Détails!M$2:M$86) -> 26600
B16: SUD MIDI PYRENEES | C16: =SUMIF(Détails!$B$2:$M$86,'Synthèse par région'!$B16,Détails!J$2:J$86) -> 0 | D16: =SUMIF(Détails!$B$2:$M$86,'Synthèse par région'!$B16,Détails!K$2:K$86) -> 0 | E16: =SUMIF(Détails!$B$2:$M$86,'Synthèse par région'!$B16,Détails!L$2:L$86) -> 0 | F16: =SUMIF(Détails!$B$2:$M$86,'Synthèse par région'!$B16,Détails!M$2:M$86) -> 0
B17: LIMOUSIN PERIGORD | C17: =SUMIF(Détails!$B$2:$M$86,'Synthèse par région'!$B17,Détails!J$2:J$86) -> 0 | D17: =SUMIF(Détails!$B$2:$M$86,'Synthèse par région'!$B17,Détails!K$2:K$86) -> 0 | E17: =SUMIF(Détails!$B$2:$M$86,'Synthèse par région'!$B17,Détails!L$2:L$86) -> 0 | F17: =SUMIF(Détails!$B$2:$M$86,'Synthèse par région'!$B17,Détails!M$2:M$86) -> 0
B18: VITI-VINI et CHARENTES | C18: =SUMIF(Détails!$B$2:$M$86,'Synthèse par région'!$B18,Détails!J$2:J$86) -> 0 | D18: =SUMIF(Détails!$B$2:$M$86,'Synthèse par région'!$B18,Détails!K$2:K$86) -> 0 | E18: =SUMIF(Détails!$B$2:$M$86,'Synthèse par région'!$B18,Détails!L$2:L$86) -> 0 | F18: =SUMIF(Détails!$B$2:$M$86,'Synthèse par région'!$B18,Détails!M$2:M$86) -> 0
A19: MAGASIN NORD | B19: PME NORD PAS DE CALAIS | C19: =SUMIF(Détails!$B$2:$M$86,'Synthèse par région'!$B19,Détails!J$2:J$86) -> 0 | D19: =SUMIF(Détails!$B$2:$M$86,'Synthèse par région'!$B19,Détails!K$2:K$86) -> 0 | E19: =SUMIF(Détails!$B$2:$M$86,'Synthèse par région'!$B19,Détails!L$2:L$86) -> 0 | F19: =SUMIF(Détails!$B$2:$M$86,'Synthèse par région'!$B19,Détails!M$2:M$86) -> 0
B20: GE NORD PAS DE CALAIS | C20: =SUMIF(Détails!$B$2:$M$86,'Synthèse par région'!$B20,Détails!J$2:J$86) -> 0 | D20: =SUMIF(Détails!$B$2:$M$86,'Synthèse par région'!$B20,Détails!K$2:K$86) -> 0 | E20: =SUMIF(Détails!$B$2:$M$86,'Synthèse par région'!$B20,Détails!L$2:L$86) -> 0 | F20: =SUMIF(Détails!$B$2:$M$86,'Synthèse par région'!$B20,Détails!M$2:M$86) -> 0
B21: PICARDIE | C21: =SUMIF(Détails!$B$2:$M$86,'Synthèse par région'!$B21,Détails!J$2:J$86) -> 0 | D21: =SUMIF(Détails!$B$2:$M$86,'Synthèse par région'!$B21,Détails!K$2:K$86) -> 0 | E21: =SUMIF(Détails!$B$2:$M$86,'Synthèse par région'!$B21,Détails!L$2:L$86) -> 0 | F21: =SUMIF(Détails!$B$2:$M$86,'Synthèse par région'!$B21,Détails!M$2:M$86) -> 0
B22: HAUTE NORMANDIE | C22: =SUMIF(Détails!$B$2:$M$86,'Synthèse par région'!$B22,Détails!J$2:J$86) -> 0 | D22: =SUMIF(Détails!$B$2:$M$86,'Synthèse par région'!$B22,Détails!K$2:K$86) -> 0 | E22: =SUMIF(Détails!$B$2:$M$86,'Synthèse par région'!$B22,Détails!L$2:L$86) -> 0 | F22: =SUMIF(Détails!$B$2:$M$86,'Synthèse par région'!$B22,Détails!M$2:M$86) -> 0
B23: BASSE NORMANDIE | C23: =SUMIF(Détails!$B$2:$M$86,'Synthèse par région'!$B23,Détails!J$2:J$86) -> 0 | D23: =SUMIF(Détails!$B$2:$M$86,'Synthèse par région'!$B23,Détails!K$2:K$86) -> 0 | E23: =SUMIF(Détails!$B$2:$M$86,'Synthèse par région'!$B23,Détails!L$2:L$86) -> 0 | F23: =SUMIF(Détails!$B$2:$M$86,'Synthèse par région'!$B23,Détails!M$2:M$86) -> 0
A24: MAGASIN DAUPHINE SAVOIE / RHONE LOIRE AIN AUVERGNE | B24: RHÔNE | C24: =SUMIF(Détails!$B$2:$M$86,'Synthèse par région'!$B24,Détails!J$2:J$86) -> 0 | D24: =SUMIF(Détails!$B$2:$M$86,'Synthèse par région'!$B24,Détails!K$2:K$86) -> 0 | E24: =SUMIF(Détails!$B$2:$M$86,'Synthèse par région'!$B24,Détails!L$2:L$86) -> 0 | F24: =SUMIF(Détails!$B$2:$M$86,'Synthèse par région'!$B24,Détails!M$2:M$86) -> 0
B25: RHÔNE PME | C25: =SUMIF(Détails!$B$2:$M$86,'Synthèse par région'!$B25,Détails!J$2:J$86) -> 0 | D25: =SUMIF(Détails!$B$2:$M$86,'Synthèse par région'!$B25,Détails!K$2:K$86) -> 0 | E25: =SUMIF(Détails!$B$2:$M$86,'Synthèse par région'!$B25,Détails!L$2:L$86) -> 0 | F25: =SUMIF(Détails!$B$2:$M$86,'Synthèse par région'!$B25,Détails!M$2:M$86) -> 0
B26: LOIRE AUVERGNE | C26: =SUMIF(Détails!$B$2:$M$86,'Synthèse par région'!$B26,Détails!J$2:J$86) -> 0 | D26: =SUMIF(Détails!$B$2:$M$86,'Synthèse par région'!$B26,Détails!K$2:K$86) -> 0 | E26: =SUMIF(Détails!$B$2:$M$86,'Synthèse par région'!$B26,Détails!L$2:L$86) -> 0 | F26: =SUMIF(Détails!$B$2:$M$86,'Synthèse par région'!$B26,Détails!M$2:M$86) -> 0
B27: ALPES | C27: =SUMIF(Détails!$B$2:$M$86,'Synthèse par région'!$B27,Détails!J$2:J$86) -> 0 | D27: =SUMIF(Détails!$B$2:$M$86,'Synthèse par région'!$B27,Détails!K$2:K$86) -> 0 | E27: =SUMIF(Détails!$B$2:$M$86,'Synthèse par région'!$B27,Détails!L$2:L$86) -> 0 | F27: =SUMIF(Détails!$B$2:$M$86,'Synthèse par région'!$B27,Détails!M$2:M$86) -> 0
B28: ISERE DROME ARDECHE | C28: =SUMIF(Détails!$B$2:$M$86,'Synthèse par région'!$B28,Détails!J$2:J$86) -> 0 | D28: =SUMIF(Détails!$B$2:$M$86,'Synthèse par région'!$B28,Détails!K$2:K$86) -> 0 | E28: =SUMIF(Détails!$B$2:$M$86,'Synthèse par région'!$B28,Détails!L$2:L$86) -> 0 | F28: =SUMIF(Détails!$B$2:$M$86,'Synthèse par région'!$B28,Détails!M$2:M$86) -> 0
B29: GRANDS COMPTES | C29: =SUMIF(Détails!$B$2:$M$86,'Synthèse par région'!$B29,Détails!J$2:J$86) -> 0 | D29: =SUMIF(Détails!$B$2:$M$86,'Synthèse par région'!$B29,Détails!K$2:K$86) -> 0 | E29: =SUMIF(Détails!$B$2:$M$86,'Synthèse par région'!$B29,Détails!L$2:L$86) -> 0 | F29: =SUMIF(Détails!$B$2:$M$86,'Synthèse par région'!$B29,Détails!M$2:M$86) -> 0
B30: SAONE | C30: =SUMIF(Détails!$B$2:$M$86,'Synthèse par région'!$B30,Détails!J$2:J$86) -> 2 | D30: =SUMIF(Détails!$B$2:$M$86,'Synthèse par région'!$B30,Détails!K$2:K$86) -> 0 | E30: =SUMIF(Détails!$B$2:$M$86,'Synthèse par région'!$B30,Détails!L$2:L$86) -> 0 | F30: =SUMIF(Détails!$B$2:$M$86,'Synthèse par région'!$B30,Détails!M$2:M$86) -> 0
B31: BEAUJOLAIS BRESSE ROANNAIS | C31: =SUMIF(Détails!$B$2:$M$86,'Synthèse par région'!$B31,Détails!J$2:J$86) -> 0 | D31: =SUMIF(Détails!$B$2:$M$86,'Synthèse par région'!$B31,Détails!K$2:K$86) -> 0 | E31: =SUMIF(Détails!$B$2:$M$86,'Synthèse par région'!$B31,Détails!L$2:L$86) -> 0 | F31: =SUMIF(Détails!$B$2:$M$86,'Synthèse par région'!$B31,Détails!M$2:M$86) -> 0
B32: GRAND LYON ENTREPRENEURS | C32: =SUMIF(Détails!$B$2:$M$86,'Synthèse par région'!$B32,Détails!J$2:J$86) -> 0 | D32: =SUMIF(Détails!$B$2:$M$86,'Synthèse par région'!$B32,Détails!K$2:K$86) -> 0 | E32: =SUMIF(Détails!$B$2:$M$86,'Synthèse par région'!$B32,Détails!L$2:L$86) -> 0 | F32: =SUMIF(Détails!$B$2:$M$86,'Synthèse par région'!$B32,Détails!M$2:M$86) -> 0
A33: MAGASIN MEDITERRANEE | B33: GE MEDITERRANEE | C33: =SUMIF(Détails!$B$2:$M$86,'Synthèse par région'!$B33,Détails!J$2:J$86) -> 0 | D33: =SUMIF(Détails!$B$2:$M$86,'Synthèse par région'!$B33,Détails!K$2:K$86) -> 0 | E33: =SUMIF(Détails!$B$2:$M$86,'Synthèse par région'!$B33,Détails!L$2:L$86) -> 0 | F33: =SUMIF(Détails!$B$2:$M$86,'Synthèse par région'!$B33,Détails!M$2:M$86) -> 0
B34: MARSEILLE PROVENCE PME | C34: =SUMIF(Détails!$B$2:$M$86,'Synthèse par région'!$B34,Détails!J$2:J$86) -> 0 | D34: =SUMIF(Détails!$B$2:$M$86,'Synthèse par région'!$B34,Détails!K$2:K$86) -> 0 | E34: =SUMIF(Détails!$B$2:$M$86,'Synthèse par région'!$B34,Détails!L$2:L$86) -> 0 | F34: =SUMIF(Détails!$B$2:$M$86,'Synthèse par région'!$B34,Détails!M$2:M$86) -> 0
B35: LANGUEDOC ROUSSILLON | C35: =SUMIF(Détails!$B$2:$M$86,'Synthèse par région'!$B35,Détails!J$2:J$86) -> 0 | D35: =SUMIF(Détails!$B$2:$M$86,'Synthèse par région'!$B35,Détails!K$2:K$86) -> 0 | E35: =SUMIF(Détails!$B$2:$M$86,'Synthèse par région'!$B35,Détails!L$2:L$86) -> 0 | F35: =SUMIF(Détails!$B$2:$M$86,'Synthèse par région'!$B35,Détails!M$2:M$86) -> 0
B36: COTE D'AZUR | C36: =SUMIF(Détails!$B$2:$M$86,'Synthèse par région'!$B36,Détails!J$2:J$86) -> 0 | D36: =SUMIF(Détails!$B$2:$M$86,'Synthèse par région'!$B36,Détails!K$2:K$86) -> 0 | E36: =SUMIF(Détails!$B$2:$M$86,'Synthèse par région'!$B36,Détails!L$2:L$86) -> 0 | F36: =SUMIF(Détails!$B$2:$M$86,'Synthèse par région'!$B36,Détails!M$2:M$86) -> 0
B37: CORSE | C37: =SUMIF(Détails!$B$2:$M$86,'Synthèse par région'!$B37,Détails!J$2:J$86) -> 0 | D37: =SUMIF(Détails!$B$2:$M$86,'Synthèse par région'!$B37,Détails!K$2:K$86) -> 0 | E37: =SUMIF(Détails!$B$2:$M$86,'Synthèse par région'!$B37,Détails!L$2:L$86) -> 0 | F37: =SUMIF(Détails!$B$2:$M$86,'Synthèse par région'!$B37,Détails!M$2:M$86) -> 0
A38: MAGASIN DIRECTION GRANDES ENTREPRISES IDF | B38: ITALIENS | C38: =SUMIF(Détails!$B$2:$M$86,'Synthèse par région'!$B38,Détails!J$2:J$86) -> 0 | D38: =SUMIF(Détails!$B$2:$M$86,'Synthèse par région'!$B38,Détails!K$2:K$86) -> 0 | E38: =SUMIF(Détails!$B$2:$M$86,'Synthèse par région'!$B38,Détails!L$2:L$86) -> 0 | F38: =SUMIF(Détails!$B$2:$M$86,'Synthèse par région'!$B38,Détails!M$2:M$86) -> 0
B39: GRAMONT | C39: =SUMIF(Détails!$B$2:$M$86,'Synthèse par région'!$B39,Détails!J$2:J$86) -> 0 | D39: =SUMIF(Détails!$B$2:$M$86,'Synthèse par région'!$B39,Détails!K$2:K$86) -> 0 | E39: =SUMIF(Détails!$B$2:$M$86,'Synthèse par région'!$B39,Détails!L$2:L$86) -> 0 | F39: =SUMIF(Détails!$B$2:$M$86,'Synthèse par région'!$B39,Détails!M$2:M$86) -> 0
B40: CHOISEUL | C40: =SUMIF(Détails!$B$2:$M$86,'Synthèse par région'!$B40,Détails!J$2:J$86) -> 0 | D40: =SUMIF(Détails!$B$2:$M$86,'Synthèse par région'!$B40,Détails!K$2:K$86) -> 0 | E40: =SUMIF(Détails!$B$2:$M$86,'Synthèse par région'!$B40,Détails!L$2:L$86) -> 0 | F40: =SUMIF(Détails!$B$2:$M$86,'Synthèse par région'!$B40,Détails!M$2:M$86) -> 0
...

Sheet Synthèse par région-Old
C1: 44287
C2: 1° RDV | D2: Proposition | E2: Signature | F2: Prime espérée
A3: MAGASIN EST | B3: HAUT RHIN NORD FRANCHE COMTE
B4: BAS RHIN
B5: LORRAINE
B6: BOURGOGNE CHAMPAGNE SUD
A7: MAGASIN OUEST | B7: MAINE ANJOU
B8: LOIRE ATLANTIQUE
B9: BRETAGNE EST
B10: BRETAGNE OUEST
B11: SUD VAL DE LOIRE
B12: VENDEE MAUGES DEUX SEVRES
A13: MAGASIN SUD OUEST | B13: NORD MIDI PYRENEES
B14: GIRONDE
B15: PAYS DE l'ADOUR
B16: SUD MIDI PYRENEES
B17: LIMOUSIN PERIGORD
B18: VITI-VINI et CHARENTES
A19: MAGASIN NORD | B19: PME NORD PAS DE CALAIS
B20: GE NORD PAS DE CALAIS
B21: PICARDIE
B22: HAUTE NORMANDIE
B23: BASSE NORMANDIE
A24: MAGASIN DAUPHINE SAVOIE / RHONE LOIRE AIN AUVERGNE | B24: RHÔNE
B25: RHÔNE PME
B26: LOIRE AUVERGNE
B27: ALPES
B28: ISERE DROME ARDECHE
B29: GRANDS COMPTES
B30: SAONE
B31: BEAUJOLAIS BRESSE ROANNAIS
B32: GRAND LYON ENTREPRENEURS
A33: MAGASIN MEDITERRANEE | B33: GE MEDITERRANEE
B34: MARSEILLE PROVENCE PME
B35: LANGUEDOC ROUSSILLON
B36: COTE D'AZUR
B37: CORSE
A38: MAGASIN DIRECTION GRANDES ENTREPRISES IDF | B38: ITALIENS
B39: GRAMONT
B40: CHOISEUL
...
