Workbook
Name IQ_CH: 110000
Name IQ_CQ: 5000
Name IQ_CY: 10000
Name IQ_DAILY: 500000
Name IQ_FH: 100000
Name IQ_FQ: 500
Name IQ_FY: 1000
Name IQ_LTM: 2000
Name IQ_MONTH: 15000
Name IQ_NTM: 6000
Name IQ_WEEK: 50000
Name IQ_YTD: 3000

Sheet Détails
A1: Magasin | B1: Zone Magasin | C1: Numéro | D1: Nom du magasin | E1: Ligne de produit | F1: Statut du CDV | G1: Date de RDV effectués tous produits | H1: Date d'envoi de la proposition | I1: Signature espérée avant le | J1: #NB RDV | K1: #NB PROP | L1: #NB WON | M1: WON€
A2: X | B2: BAS RHIN | C2: 123451 | D2: Magasin 1 | E2: Produit 1 | F2: En cours | G2: 27/04/2021 | I2: 30/10/2021 | J2: 1 | K2: 0 | L2: 0
B3: CHAMPAGNE ARDENNE NORD | C3: 123452 | D3: Magasin 2 | E3: Produit 1 | F3: En cours | G3: 27/10/2020 | H3: 14/04/2021 | I3: 31/05/2021 | J3: 0 | K3: 1 | L3: 0
B4: CHAMPAGNE ARDENNE NORD | C4: 123453 | D4: Magasin 3 | E4: Produit 1 | F4: Clôturé | G4: 17/09/2020 | I4: 30/04/2021 | J4: 0 | K4: 0 | L4: 0
B5: CHAMPAGNE ARDENNE NORD | C5: 123454 | D5: Magasin 4 | E5: Produit 3 | F5: Clôturé | G5: 15/02/2021 | H5: 18/02/2021 | I5: 06/04/2021 | J5: 0 | K5: 0 | L5: 0
B6: CHAMPAGNE ARDENNE NORD | C6: 123455 | D6: Magasin 5 | E6: Produit 1 | F6: En cours | G6: 02/10/2020 | I6: 23/04/2021 | J6: 0 | K6: 0 | L6: 0
B7: CHAMPAGNE ARDENNE NORD | C7: 123456 | D7: Magasin 6 | E7: Produit 1 | F7: En cours | G7: 01/10/2020 | I7: 23/04/2021 | J7: 0 | K7: 0 | L7: 0
B8: CHAMPAGNE ARDENNE NORD | C8: 123457 | D8: Magasin 7 | E8: Produit 1 | F8: En cours | G8: 05/10/2020 | I8: 12/04/2021 | J8: 0 | K8: 0 | L8: 0
B9: CHAMPAGNE ARDENNE NORD | C9: 123458 | D9: Magasin 8 | E9: Produit 1 | F9: En cours | G9: 02/10/2020 | I9: 23/04/2021 | J9: 0 | K9: 0 | L9: 0
B10: LOIRE ATLANTIQUE | C10: 123459 | D10: Magasin 9 | E10: Produit 2 | F10: Clôturé | G10: 14/01/2019 | I10: 30/04/2021 | J10: 0 | K10: 0 | L10: 0
B11: LOIRE ATLANTIQUE | C11: 123460 | D11: Magasin 10 | E11: Produit 2 | F11: Clôturé | G11: 07/06/2019 | I11: 30/04/2021 | J11: 0 | K11: 0 | L11: 0
B12: LOIRE ATLANTIQUE | C12: 123461 | D12: Magasin 11 | E12: Produit 2 | F12: Clôturé | G12: 04/07/2018 | I12: 30/04/2021 | J12: 0 | K12: 0 | L12: 0
B13: BRETAGNE EST | C13: 123462 | D13: Magasin 12 | E13: Produit 2 | F13: Clôturé | G13: 24/07/2019 | I13: 30/04/2021 | J13: 0 | K13: 0 | L13: 0
B14: VAL DE LOIRE | C14: 123463 | D14: Magasin 13 | E14: Produit 1 | F14: Clôturé | G14: 30/09/2020 | I14: 30/04/2021 | J14: 0 | K14: 0 | L14: 0
B15: VAL DE LOIRE | C15: 123464 | D15: Magasin 14 | E15: Produit 1 | F15: Clôturé | G15: 30/09/2020 | I15: 30/04/2021 | J15: 0 | K15: 0 | L15: 0
B16: VAL DE LOIRE | C16: 123465 | D16: Magasin 15 | E16: Produit 1 | F16: Clôturé | G16: 30/09/2020 | I16: 30/04/2021 | J16: 0 | K16: 0 | L16: 0
B17: VAL DE LOIRE | C17: 123466 | D17: Magasin 16 | E17: Produit 1 | F17: Clôturé | G17: 30/09/2020 | I17: 30/04/2021 | J17: 0 | K17: 0 | L17: 0
... B19: VAL DE LOIRE | C19: 123468 | D19: Magasin 18 | E19: Produit 1 | F19: Clôturé | G19: 02/07/2020 | I19: 30/04/2021 | J19: 0 | K19: 0 | L19: 0
B20: VAL DE LOIRE | C20: 123469 | D20: Magasin 19 | E20: Produit 1 | F20: Clôturé | G20: 02/07/2020 | H20: 02/12/2020 | I20: 30/04/2021 | J20: 0 | K20: 0 | L20: 0
B21: VAL DE LOIRE | C21: 123470 | D21: Magasin 20 | E21: Produit 1 | F21: Clôturé | G21: 02/07/2020 | I21: 30/04/2021 | J21: 0 | K21: 0 | L21: 0
B22: VAL DE LOIRE | C22: 123471 | D22: Magasin 21 | E22: Produit 1 | F22: Clôturé | G22: 30/09/2020 | I22: 30/04/2021 | J22: 0 | K22: 0 | L22: 0
B23: VAL DE LOIRE | C23: 123472 | D23: Magasin 22 | E23: Produit 1 | F23: Clôturé | G23: 30/09/2020 | I23: 30/04/2021 | J23: 0 | K23: 0 | L23: 0
B24: VAL DE LOIRE | C24: 123473 | D24: Magasin 23 | E24: Produit 1 | F24: Clôturé | G24: 02/07/2020 | I24: 30/04/2021 | J24: 0 | K24: 0 | L24: 0
B25: BRETAGNE OUEST | C25: 123474 | D25: Magasin 24 | E25: Produit 3 | F25: En cours | G25: 13/04/2021 | I25: 13/10/2021 | J25: 1 | K25: 0 | L25: 0
B26: BRETAGNE OUEST | C26: 123475 | D26: Magasin 25 | E26: Produit 3 | F26: En cours | G26: 13/04/2021 | I26: 13/10/2021 | J26: 1 | K26: 0 | L26: 0
B27: BRETAGNE OUEST | C27: 123476 | D27: Magasin 26 | E27: Produit 3 | F27: En cours | G27: 13/04/2021 | I27: 13/10/2021 | J27: 1 | K27: 0 | L27: 0
B28: BASSE NORMANDIE | C28: 123477 | D28: Magasin 27 | E28: Produit 1 | F28: Clôturé | G28: 10/02/2021 | H28: 19/02/2021 | I28: 13/04/2021 | J28: 0 | K28: 0 | L28: 0
B29: BASSE NORMANDIE | C29: 123478 | D29: Magasin 28 | E29: Produit 1 | F29: Clôturé | G29: 15/02/2021 | I29: 13/04/2021 | J29: 0 | K29: 0 | L29: 0
B30: VAL DE LOIRE | C30: 123479 | D30: Magasin 29 | E30: Produit 1 | F30: Clôturé | I30: 08/04/2021 | J30: 0 | K30: 0 | L30: 0
B31: VENDEE MAUGES DEUX SEVRES | C31: 123480 | D31: Magasin 30 | E31: Produit 2 | F31: En cours | G31: 09/04/2021 | I31: 09/10/2021 | J31: 1 | K31: 0 | L31: 0
B32: OUEST | C32: 123481 | D32: Magasin 31 | E32: Produit 2 | F32: Clôturé | G32: 10/10/2019 | I32: 30/04/2021 | J32: 0 | K32: 0 | L32: 0
B33: SUD OUEST | C33: 123482 | D33: Magasin 32 | E33: Produit 1 | F33: En cours | G33: 09/04/2021 | I33: 13/10/2021 | J33: 1 | K33: 0 | L33: 0
B34: PAYS DE L'ADOUR | C34: 123483 | D34: Magasin 33 | E34: Produit 1 | F34: En cours | G34: 06/10/2020 | I34: 06/04/2021 | J34: 0 | K34: 0 | L34: 0
B35: PAYS DE L'ADOUR | C35: 123484 | D35: Magasin 34 | E35: Produit 2 | F35: Clôturé | G35: 26/03/2021 | H35: 21/04/2021 | I35: 28/04/2021 | J35: 0 | K35: 1 | L35: 1 | M35: 26600
B36: PAYS DE L'ADOUR | C36: 123485 | D36: Magasin 35 | E36: Produit 1 | F36: En cours | G36: 01/10/2020 | I36: 06/04/2021 | J36: 0 | K36: 0 | L36: 0
B37: VITI-VINI ET CHARENTES | C37: 123486 | D37: Magasin 36 | E37: Produit 1 | F37: Clôturé | I37: 08/04/2021 | J37: 0 | K37: 0 | L37: 0
B38: PICARDIE | C38: 123487 | D38: Magasin 37 | E38: Produit 1 | F38: En cours | G38: 14/09/2020 | I38: 30/04/2021 | J38: 0 | K38: 0 | L38: 0
B39: ALPES | C39: 123488 | D39: Magasin 38 | E39: Produit 1 | F39: Clôturé | G39: 09/09/2020 | H39: 12/10/2020 | I39: 07/04/2021 | J39: 0 | K39: 0 | L39: 0
B40: ALPES | C40: 123489 | D40: Magasin 39 | E40: Produit 1 | F40: Clôturé | G40: 22/09/2020 | H40: 12/10/2020 | I40: 07/04/2021 | J40: 0 | K40: 0 | L40: 0
B41: ALPES | C41: 123490 | D41: Magasin 40 | E41: Produit 1 | F41: Clôturé | G41: 22/09/2020 | H41: 12/10/2020 | I41: 07/04/2021 | J41: 0 | K41: 0 | L41: 0
B42: ALPES | C42: 123491 | D42: Magasin 41 | E42: Produit 1 | F42: Clôturé | G42: 22/09/2020 | H42: 12/10/2020 | I42: 07/04/2021 | J42: 0 | K42: 0 | L42: 0
B43: ALPES | C43: 123492 | D43: Magasin 42 | E43: Produit 1 | F43: Clôturé | G43: 22/09/2020 | H43: 12/10/2020 | I43: 07/04/2021 | J43: 0 | K43: 0 | L43: 0
B44: ALPES | C44: 123493 | D44: Magasin 43 | E44: Produit 1 | F44: Clôturé | G44: 22/09/2020 | H44: 12/10/2020 | I44: 07/04/2021 | J44: 0 | K44: 0 | L44: 0
B45: ALPES | C45: 123494 | D45: Magasin 44 | E45: Produit 1 | F45: Clôturé | G45: 22/09/2020 | H45: 12/10/2020 | I45: 07/04/2021 | J45: 0 | K45: 0 | L45: 0
B46: ALPES | C46: 123495 | D46: Magasin 45 | E46: Produit 1 | F46: Clôturé | G46: 22/09/2020 | H46: 12/10/2020 | I46: 07/04/2021 | J46: 0 | K46: 0 | L46: 0
B47: ALPES | C47: 123496 | D47: Magasin 46 | E47: Produit 1 | F47: Clôturé | G47: 22/09/2020 | H47: 12/10/2020 | I47: 07/04/2021 | J47: 0 | K47: 0 | L47: 0
B48: ALPES | C48: 123497 | D48: Magasin 47 | E48: Produit 1 | F48: Clôturé | G48: 22/09/2020 | H48: 12/10/2020 | I48: 07/04/2021 | J48: 0 | K48: 0 | L48: 0
B49: ISERE DROME ARDECHE | C49: 123498 | D49: Magasin 48 | E49: Produit 1 | F49: Clôturé | G49: 09/12/2019 | I49: 08/04/2021 | J49: 0 | K49: 0 | L49: 0
B50: RHONE | C50: 123499 | D50: Magasin 49 | E50: Produit 2 | F50: Clôturé | G50: 05/02/2021 | I50: 30/04/2021 | J50: 0 | K50: 0 | L50: 0
B51: RHONE | C51: 123500 | D51: Magasin 50 | E51: Produit 3 | F51: Clôturé | G51: 16/02/2021 | H51: 14/04/2021 | I51: 14/04/2021 | J51: 0 | K51: 1 | L51: 1 | M51: 9400
B52: SAONE | C52: 123501 | D52: Magasin 51 | E52: Produit 1 | F52: Clôturé | I52: 08/04/2021 | J52: 0 | K52: 0 | L52: 0
B53: SAONE | C53: 123502 | D53: Magasin 52 | E53: Produit 1 | F53: En cours | G53: 22/04/2021 | I53: 11/09/2021 | J53: 1 | K53: 0 | L53: 0
B54: SAONE | C54: 123503 | D54: Magasin 53 | E54: Produit 1 | F54: Clôturé | I54: 08/04/2021 | J54: 0 | K54: 0 | L54: 0
B55: SAONE | C55: 123504 | D55: Magasin 54 | E55: Produit 2 | F55: En cours | G55: 20/04/2021 | I55: 12/09/2021 | J55: 1 | K55: 0 | L55: 0
B56: MARSEILLE PROVENCE PME | C56: 123505 | D56: Magasin 55 | E56: Produit 1 | F56: En cours | G56: 29/10/2020 | I56: 29/04/2021 | J56: 0 | K56: 0 | L56: 0
B57: SAINT DENIS | C57: 123506 | D57: Magasin 56 | E57: Produit 1 | F57: Clôturé | I57: 08/04/2021 | J57: 0 | K57: 0 | L57: 0
B58: SAINT DENIS | C58: 123507 | D58: Magasin 57 | E58: Produit 1 | F58: Clôturé | I58: 08/04/2021 | J58: 0 | K58: 0 | L58: 0
B59: SAINT DENIS | C59: 123508 | D59: Magasin 58 | E59: Produit 1 | F59: Clôturé | I59: 08/04/2021 | J59: 0 | K59: 0 | L59: 0
B60: SAINT DENIS | C60: 123509 | D60: Magasin 59 | E60: Produit 1 | F60: Clôturé | G60: 11/03/2020 | I60: 08/04/2021 | J60: 0 | K60: 0 | L60: 0
B61: SAINT DENIS | C61: 123510 | D61: Magasin 60 | E61: Produit 1 | F61: Clôturé | I61: 08/04/2021 | J61: 0 | K61: 0 | L61: 0
B62: SAINT DENIS | C62: 123511 | D62: Magasin 61 | E62: Produit 2 | F62: Clôturé | G62: 09/07/2020 | I62: 30/04/2021 | J62: 0 | K62: 0 | L62: 0
B63: PARIS PE | C63: 123512 | D63: Magasin 62 | E63: Produit 2 | F63: Clôturé | G63: 28/02/2018 | I63: 30/04/2021 | J63: 0 | K63: 0 | L63: 0
B64: PARIS PE | C64: 123513 | D64: Magasin 63 | E64: Produit 2 | F64: Clôturé | G64: 01/03/2018 | I64: 30/04/2021 | J64: 0 | K64: 0 | L64: 0
B65: PARIS PE | C65: 123514 | D65: Magasin 64 | E65: Produit 2 | F65: Clôturé | G65: 12/02/2018 | I65: 30/04/2021 | J65: 0 | K65: 0 | L65: 0
B66: PARIS PE | C66: 123515 | D66: Magasin 65 | E66: Produit 2 | F66: Clôturé | G66: 22/06/2018 | I66: 30/04/2021 | J66: 0 | K66: 0 | L66: 0
B67: PARIS PE | C67: 123516 | D67: Magasin 66 | E67: Produit 2 | F67: Clôturé | G67: 20/03/2018 | I67: 30/04/2021 | J67: 0 | K67: 0 | L67: 0
B68: PARIS OUEST | C68: 123517 | D68: Magasin 67 | E68: Produit 1 | F68: Clôturé | G68: 15/10/2020 | I68: 30/04/2021 | J68: 0 | K68: 0 | L68: 0
B69: PARIS OUEST | C69: 123518 | D69: Magasin 68 | E69: Produit 2 | F69: Clôturé | G69: 04/05/2018 | I69: 30/04/2021 | J69: 0 | K69: 0 | L69: 0
B70: PARIS OUEST | C70: 123519 | D70: Magasin 69 | E70: Produit 1 | F70: Clôturé | G70: 07/10/2020 | H70: 12/11/2020 | I70: 08/04/2021 | J70: 0 | K70: 0 | L70: 0
B71: LA DEFENSE GRANDE ARCHE | C71: 123520 | D71: Magasin 70 | E71: Produit 1 | F71: Clôturé | I71: 08/04/2021 | J71: 0 | K71: 0 | L71: 0
B72: LA DEFENSE GRANDE ARCHE | C72: 123521 | D72: Magasin 71 | E72: Produit 1 | F72: En cours | G72: 02/04/2021 | H72: 16/04/2021 | I72: 30/05/2021 | J72: 1 | K72: 1 | L72: 0
B73: LA DEFENSE GRANDE ARCHE | C73: 123522 | D73: Magasin 72 | E73: Produit 2 | F73: Clôturé | G73: 07/09/2017 | I73: 30/04/2021 | J73: 0 | K73: 0 | L73: 0
B74: LA DEFENSE PYRAMIDE | C74: 123523 | D74: Magasin 73 | E74: Produit 2 | F74: Clôturé | G74: 22/05/2019 | I74: 30/04/2021 | J74: 0 | K74: 0 | L74: 0
B75: LA DEFENSE PYRAMIDE | C75: 123524 | D75: Magasin 74 | E75: Produit 2 | F75: Clôturé | G75: 17/07/2018 | I75: 30/04/2021 | J75: 0 | K75: 0 | L75: 0
B76: LA DEFENSE PYRAMIDE | C76: 123525 | D76: Magasin 75 | E76: Produit 2 | F76: Clôturé | G76: 29/01/2019 | I76: 30/04/2021 | J76: 0 | K76: 0 | L76: 0
B77: HAUTE NORMANDIE | C77: 123526 | D77: Magasin 76 | E77: Produit 3 | F77: Clôturé | G77: 29/10/2020 | H77: 30/10/2020 | I77: 06/04/2021 | J77: 0 | K77: 0 | L77: 0
B78: HAUTE NORMANDIE | C78: 123527 | D78: Magasin 77 | E78: Produit 1 | F78: Clôturé | G78: 09/06/2020 | I78: 08/04/2021 | J78: 0 | K78: 0 | L78: 0
B79: BOULOGNE | C79: 123528 | D79: Magasin 78 | E79: Produit 2 | F79: En cours | G79: 15/04/2021 | I79: 16/10/2021 | J79: 1 | K79: 0 | L79: 0
B80: BOULOGNE | C80: 123529 | D80: Magasin 79 | E80: Produit 2 | F80: Clôturé | G80: 25/01/2018 | I80: 15/04/2021 | J80: 0 | K80: 0 | L80: 0
B81: BOULOGNE | C81: 123530 | D81: Magasin 80 | E81: Produit 2 | F81: Clôturé | G81: 17/07/2019 | I81: 15/04/2021 | J81: 0 | K81: 0 | L81: 0
B82: BOULOGNE | C82: 123531 | D82: Magasin 81 | E82: Produit 1 | F82: Clôturé | I82: 08/04/2021 | J82: 0 | K82: 0 | L82: 0
B83: BOULOGNE | C83: 123532 | D83: Magasin 82 | E83: Produit 2 | F83: Clôturé | G83: 06/12/2018 | I83: 15/04/2021 | J83: 0 | K83: 0 | L83: 0
B84: BOULOGNE | C84: 123533 | D84: Magasin 83 | E84: Produit 2 | F84: Clôturé | G84: 09/03/2020 | I84: 30/04/2021 | J84: 0 | K84: 0 | L84: 0
B85: MARTINIQUE | C85: 123534 | D85: Magasin 84 | E85: Produit 2 | F85: Clôturé | G85: 24/05/2018 | I85: 30/04/2021 | J85: 0 | K85: 0 | L85: 0
B86: VINCENNES | C86: 123535 | D86: Magasin 85 | E86: Produit 2 | F86: Clôturé | G86: 17/09/2020 | I86: 30/04/2021 | J86: 0 | K86: 0 | L86: 0
A87: Grand Total Avril 2021 | J87: 10 | K87: 4 | L87: 2 | M87: 36000
J91: =COLUMN() -> 10 | K91: =COLUMN() -> 11 | L91: =COLUMN() -> 12

Sheet Synthèse par région
C1: 44287
C2: 1° RDV | D2: Proposition | E2: Signature | F2: Prime espérée
A3: MAGASIN EST | B3: HAUT RHIN NORD FRANCHE COMTE | C3: =SUMIF(Détails!$B$2:$M$86,'Synthèse par région'!$B3,Détails!J$2:J$86) -> 0 | D3: =SUMIF(Détails!$B$2:$M$86,'Synthèse par région'!$B3,Détails!K$2:K$86) -> 0 | E3: =SUMIF(Détails!$B$2:$M$86,'Synthèse par région'!$B3,Détails!L$2:L$86) -> 0 | F3: =SUMIF(Détails!$B$2:$M$86,'Synthèse par région'!$B3,Détails!M$2:M$86) -> 0
B4: BAS RHIN | C4: =SUMIF(Détails!$B$2:$M$86,'Synthèse par région'!$B4,Détails!J$2:J$86) -> 1 | D4: =SUMIF(Détails!$B$2:$M$86,'Synthèse par région'!$B4,Détails!K$2:K$86) -> 0 | E4: =SUMIF(Détails!$B$2:$M$86,'Synthèse par région'!$B4,Détails!L$2:L$86) -> 0 | F4: =SUMIF(Détails!$B$2:$M$86,'Synthèse par région'!$B4,Détails!M$2:M$86) -> 0
B5: LORRAINE | C5: =SUMIF(Détails!$B$2:$M$86,'Synthèse par région'!$B5,Détails!J$2:J$86) -> 0 | D5: =SUMIF(Détails!$B$2:$M$86,'Synthèse par région'!$B5,Détails!K$2:K$86) -> 0 | E5: =SUMIF(Détails!$B$2:$M$86,'Synthèse par région'!$B5,Détails!L$2:L$86) -> 0 | F5: =SUMIF(Détails!$B$2:$M$86,'Synthèse par région'!$B5,Détails!M$2:M$86) -> 0
B6: BOURGOGNE CHAMPAGNE SUD | C6: =SUMIF(Détails!$B$2:$M$86,'Synthèse par région'!$B6,Détails!J$2:J$86) -> 0 | D6: =SUMIF(Détails!$B$2:$M$86,'Synthèse par région'!$B6,Détails!K$2:K$86) -> 0 | E6: =SUMIF(Détails!$B$2:$M$86,'Synthèse par région'!$B6,Détails!L$2:L$86) -> 0 | F6: =SUMIF(Détails!$B$2:$M$86,'Synthèse par région'!$B6,Détails!M$2:M$86) -> 0
A7: MAGASIN OUEST | B7: MAINE ANJOU | C7: =SUMIF(Détails!$B$2:$M$86,'Synthèse par région'!$B7,Détails!J$2:J$86) -> 0 | D7: =SUMIF(Détails!$B$2:$M$86,'Synthèse par région'!$B7,Détails!K$2:K$86) -> 0 | E7: =SUMIF(Détails!$B$2:$M$86,'Synthèse par région'!$B7,Détails!L$2:L$86) -> 0 | F7: =SUMIF(Détails!$B$2:$M$86,'Synthèse par région'!$B7,Détails!M$2:M$86) -> 0
B8: LOIRE ATLANTIQUE | C8: =SUMIF(Détails!$B$2:$M$86,'Synthèse par région'!$B8,Détails!J$2:J$86) -> 0 | D8: =SUMIF(Détails!$B$2:$M$86,'Synthèse par région'!$B8,Détails!K$2:K$86) -> 0 | E8: =SUMIF(Détails!$B$2:$M$86,'Synthèse par région'!$B8,Détails!L$2:L$86) -> 0 | F8: =SUMIF(Détails!$B$2:$M$86,'Synthèse par région'!$B8,Détails!M$2:M$86) -> 0
B9: BRETAGNE EST | C9: =SUMIF(Détails!$B$2:$M$86,'Synthèse par région'!$B9,Détails!J$2:J$86) -> 0 | D9: =SUMIF(Détails!$B$2:$M$86,'Synthèse par région'!$B9,Détails!K$2:K$86) -> 0 | E9: =SUMIF(Détails!$B$2:$M$86,'Synthèse par région'!$B9,Détails!L$2:L$86) -> 0 | F9: =SUMIF(Détails!$B$2:$M$86,'Synthèse par région'!$B9,Détails!M$2:M$86) -> 0
B10: BRETAGNE OUEST | C10: =SUMIF(Détails!$B$2:$M$86,'Synthèse par région'!$B10,Détails!J$2:J$86) -> 3 | D10: =SUMIF(Détails!$B$2:$M$86,'Synthèse par région'!$B10,Détails!K$2:K$86) -> 0 | E10: =SUMIF(Détails!$B$2:$M$86,'Synthèse par région'!$B10,Détails!L$2:L$86) -> 0 | F10: =SUMIF(Détails!$B$2:$M$86,'Synthèse par région'!$B10,Détails!M$2:M$86) -> 0
B11: SUD VAL DE LOIRE | C11: =SUMIF(Détails!$B$2:$M$86,'Synthèse par région'!$B11,Détails!J$2:J$86) -> 0 | D11: =SUMIF(Détails!$B$2:$M$86,'Synthèse par région'!$B11,Détails!K$2:K$86) -> 0 | E11: =SUMIF(Détails!$B$2:$M$86,'Synthèse par région'!$B11,Détails!L$2:L$86) -> 0 | F11: =SUMIF(Détails!$B$2:$M$86,'Synthèse par région'!$B11,Détails!M$2:M$86) -> 0
B12: VENDEE MAUGES DEUX SEVRES | C12: =SUMIF(Détails!$B$2:$M$86,'Synthèse par région'!$B12,Détails!J$2:J$86) -> 1 | D12: =SUMIF(Détails!$B$2:$M$86,'Synthèse par région'!$B12,Détails!K$2:K$86) -> 0 | E12: =SUMIF(Détails!$B$2:$M$86,'Synthèse par région'!$B12,Détails!L$2:L$86) -> 0 | F12: =SUMIF(Détails!$B$2:$M$86,'Synthèse par région'!$B12,Détails!M$2:M$86) -> 0
A13: MAGASIN SUD OUEST | B13: NORD MIDI PYRENEES | C13: =SUMIF(Détails!$B$2:$M$86,'Synthèse par région'!$B13,Détails!J$2:J$86) -> 0 | D13: =SUMIF(Détails!$B$2:$M$86,'Synthèse par région'!$B13,Détails!K$2:K$86) -> 0 | E13: =SUMIF(Détails!$B$2:$M$86,'Synthèse par région'!$B13,Détails!L$2:L$86) -> 0 | F13: =SUMIF(Détails!$B$2:$M$86,'Synthèse par région'!$B13,Détails!M$2:M$86) -> 0
B14: GIRONDE | C14: =SUMIF(Détails!$B$2:$M$86,'Synthèse par région'!$B14,Détails!J$2:J$86) -> 0 | D14: =SUMIF(Détails!$B$2:$M$86,'Synthèse par région'!$B14,Détails!K$2:K$86) -> 0 | E14: =SUMIF(Détails!$B$2:$M$86,'Synthèse par région'!$B14,Détails!L$2:L$86) -> 0 | F14: =SUMIF(Détails!$B$2:$M$86,'Synthèse par région'!$B14,Détails!M$2:M$86) -> 0
B15: PAYS DE l'ADOUR | C15: =SUMIF(Détails!$B$2:$M$86,'Synthèse par région'!$B15,Détails!J$2:J$86) -> 0 | D15: =SUMIF(Détails!$B$2:$M$86,'Synthèse par région'!$B15,Détails!K$2:K$86) -> 1 | E15: =SUMIF(Détails!$B$2:$M$86,'Synthèse par région'!$B15,Détails!L$2:L$86) -> 1 | F15: =SUMIF(Détails!$B$2:$M$86,'Synthèse par région'!$B15,Détails!M$2:M$86) -> 26600
B16: SUD MIDI PYRENEES | C16: =SUMIF(Détails!$B$2:$M$86,'Synthèse par région'!$B16,Détails!J$2:J$86) -> 0 | D16: =SUMIF(Détails!$B$2:$M$86,'Synthèse par région'!$B16,Détails!K$2:K$86) -> 0 | E16: =SUMIF(Détails!$B$2:$M$86,'Synthèse par région'!$B16,Détails!L$2:L$86) -> 0 | F16: =SUMIF(Détails!$B$2:$M$86,'Synthèse par région'!$B16,Détails!M$2:M$86) -> 0
B17: LIMOUSIN PERIGORD | C17: =SUMIF(Détails!$B$2:$M$86,'Synthèse par région'!$B17,Détails!J$2:J$86) -> 0 | D17: =SUMIF(Détails!$B$2:$M$86,'Synthèse par région'!$B17,Détails!K$2:K$86) -> 0 | E17: =SUMIF(Détails!$B$2:$M$86,'Synthèse par région'!$B17,Détails!L$2:L$86) -> 0 | F17: =SUMIF(Détails!$B$2:$M$86,'Synthèse par région'!$B17,Détails!M$2:M$86) -> 0
B18: VITI-VINI et CHARENTES | C18: =SUMIF(Détails!$B$2:$M$86,'Synthèse par région'!$B18,Détails!J$2:J$86) -> 0 | D18: =SUMIF(Détails!$B$2:$M$86,'Synthèse par région'!$B18,Détails!K$2:K$86) -> 0 | E18: =SUMIF(Détails!$B$2:$M$86,'Synthèse par région'!$B18,Détails!L$2:L$86) -> 0 | F18: =SUMIF(Détails!$B$2:$M$86,'Synthèse par région'!$B18,Détails!M$2:M$86) -> 0
A19: MAGASIN NORD | B19: PME NORD PAS DE CALAIS | C19: =SUMIF(Détails!$B$2:$M$86,'Synthèse par région'!$B19,Détails!J$2:J$86) -> 0 | D19: =SUMIF(Détails!$B$2:$M$86,'Synthèse par région'!$B19,Détails!K$2:K$86) -> 0 | E19: =SUMIF(Détails!$B$2:$M$86,'Synthèse par région'!$B19,Détails!L$2:L$86) -> 0 | F19: =SUMIF(Détails!$B$2:$M$86,'Synthèse par région'!$B19,Détails!M$2:M$86) -> 0
B20: GE NORD PAS DE CALAIS | C20: =SUMIF(Détails!$B$2:$M$86,'Synthèse par région'!$B20,Détails!J$2:J$86) -> 0 | D20: =SUMIF(Détails!$B$2:$M$86,'Synthèse par région'!$B20,Détails!K$2:K$86) -> 0 | E20: =SUMIF(Détails!$B$2:$M$86,'Synthèse par région'!$B20,Détails!L$2:L$86) -> 0 | F20: =SUMIF(Détails!$B$2:$M$86,'Synthèse par région'!$B20,Détails!M$2:M$86) -> 0
B21: PICARDIE | C21: =SUMIF(Détails!$B$2:$M$86,'Synthèse par région'!$B21,Détails!J$2:J$86) -> 0 | D21: =SUMIF(Détails!$B$2:$M$86,'Synthèse par région'!$B21,Détails!K$2:K$86) -> 0 | E21: =SUMIF(Détails!$B$2:$M$86,'Synthèse par région'!$B21,Détails!L$2:L$86) -> 0 | F21: =SUMIF(Détails!$B$2:$M$86,'Synthèse par région'!$B21,Détails!M$2:M$86) -> 0
B22: HAUTE NORMANDIE | C22: =SUMIF(Détails!$B$2:$M$86,'Synthèse par région'!$B22,Détails!J$2:J$86) -> 0 | D22: =SUMIF(Détails!$B$2:$M$86,'Synthèse par région'!$B22,Détails!K$2:K$86) -> 0 | E22: =SUMIF(Détails!$B$2:$M$86,'Synthèse par région'!$B22,Détails!L$2:L$86) -> 0 | F22: =SUMIF(Détails!$B$2:$M$86,'Synthèse par région'!$B22,Détails!M$2:M$86) -> 0
B23: BASSE NORMANDIE | C23: =SUMIF(Détails!$B$2:$M$86,'Synthèse par région'!$B23,Détails!J$2:J$86) -> 0 | D23: =SUMIF(Détails!$B$2:$M$86,'Synthèse par région'!$B23,Détails!K$2:K$86) -> 0 | E23: =SUMIF(Détails!$B$2:$M$86,'Synthèse par région'!$B23,Détails!L$2:L$86) -> 0 | F23: =SUMIF(Détails!$B$2:$M$86,'Synthèse par région'!$B23,Détails!M$2:M$86) -> 0
A24: MAGASIN DAUPHINE SAVOIE / RHONE LOIRE AIN AUVERGNE | B24: RHÔNE | C24: =SUMIF(Détails!$B$2:$M$86,'Synthèse par région'!$B24,Détails!J$2:J$86) -> 0 | D24: =SUMIF(Détails!$B$2:$M$86,'Synthèse par région'!$B24,Détails!K$2:K$86) -> 0 | E24: =SUMIF(Détails!$B$2:$M$86,'Synthèse par région'!$B24,Détails!L$2:L$86) -> 0 | F24: =SUMIF(Détails!$B$2:$M$86,'Synthèse par région'!$B24,Détails!M$2:M$86) -> 0
B25: RHÔNE PME | C25: =SUMIF(Détails!$B$2:$M$86,'Synthèse par région'!$B25,Détails!J$2:J$86) -> 0 | D25: =SUMIF(Détails!$B$2:$M$86,'Synthèse par région'!$B25,Détails!K$2:K$86) -> 0 | E25: =SUMIF(Détails!$B$2:$M$86,'Synthèse par région'!$B25,Détails!L$2:L$86) -> 0 | F25: =SUMIF(Détails!$B$2:$M$86,'Synthèse par région'!$B25,Détails!M$2:M$86) -> 0
B26: LOIRE AUVERGNE | C26: =SUMIF(Détails!$B$2:$M$86,'Synthèse par région'!$B26,Détails!J$2:J$86) -> 0 | D26: =SUMIF(Détails!$B$2:$M$86,'Synthèse par région'!$B26,Détails!K$2:K$86) -> 0 | E26: =SUMIF(Détails!$B$2:$M$86,'Synthèse par région'!$B26,Détails!L$2:L$86) -> 0 | F26: =SUMIF(Détails!$B$2:$M$86,'Synthèse par région'!$B26,Détails!M$2:M$86) -> 0
B27: ALPES | C27: =SUMIF(Détails!$B$2:$M$86,'Synthèse par région'!$B27,Détails!J$2:J$86) -> 0 | D27: =SUMIF(Détails!$B$2:$M$86,'Synthèse par région'!$B27,Détails!K$2:K$86) -> 0 | E27: =SUMIF(Détails!$B$2:$M$86,'Synthèse par région'!$B27,Détails!L$2:L$86) -> 0 | F27: =SUMIF(Détails!$B$2:$M$86,'Synthèse par région'!$B27,Détails!M$2:M$86) -> 0
B28: ISERE DROME ARDECHE | C28: =SUMIF(Détails!$B$2:$M$86,'Synthèse par région'!$B28,Détails!J$2:J$86) -> 0 | D28: =SUMIF(Détails!$B$2:$M$86,'Synthèse par région'!$B28,Détails!K$2:K$86) -> 0 | E28: =SUMIF(Détails!$B$2:$M$86,'Synthèse par région'!$B28,Détails!L$2:L$86) -> 0 | F28: =SUMIF(Détails!$B$2:$M$86,'Synthèse par région'!$B28,Détails!M$2:M$86) -> 0
B29: GRANDS COMPTES | C29: =SUMIF(Détails!$B$2:$M$86,'Synthèse par région'!$B29,Détails!J$2:J$86) -> 0 | D29: =SUMIF(Détails!$B$2:$M$86,'Synthèse par région'!$B29,Détails!K$2:K$86) -> 0 | E29: =SUMIF(Détails!$B$2:$M$86,'Synthèse par région'!$B29,Détails!L$2:L$86) -> 0 | F29: =SUMIF(Détails!$B$2:$M$86,'Synthèse par région'!$B29,Détails!M$2:M$86) -> 0
B30: SAONE | C30: =SUMIF(Détails!$B$2:$M$86,'Synthèse par région'!$B30,Détails!J$2:J$86) -> 2 | D30: =SUMIF(Détails!$B$2:$M$86,'Synthèse par région'!$B30,Détails!K$2:K$86) -> 0 | E30: =SUMIF(Détails!$B$2:$M$86,'Synthèse par région'!$B30,Détails!L$2:L$86) -> 0 | F30: =SUMIF(Détails!$B$2:$M$86,'Synthèse par région'!$B30,Détails!M$2:M$86) -> 0
B31: BEAUJOLAIS BRESSE ROANNAIS | C31: =SUMIF(Détails!$B$2:$M$86,'Synthèse par région'!$B31,Détails!J$2:J$86) -> 0 | D31: =SUMIF(Détails!$B$2:$M$86,'Synthèse par région'!$B31,Détails!K$2:K$86) -> 0 | E31: =SUMIF(Détails!$B$2:$M$86,'Synthèse par région'!$B31,Détails!L$2:L$86) -> 0 | F31: =SUMIF(Détails!$B$2:$M$86,'Synthèse par région'!$B31,Détails!M$2:M$86) -> 0
B32: GRAND LYON ENTREPRENEURS | C32: =SUMIF(Détails!$B$2:$M$86,'Synthèse par région'!$B32,Détails!J$2:J$86) -> 0 | D32: =SUMIF(Détails!$B$2:$M$86,'Synthèse par région'!$B32,Détails!K$2:K$86) -> 0 | E32: =SUMIF(Détails!$B$2:$M$86,'Synthèse par région'!$B32,Détails!L$2:L$86) -> 0 | F32: =SUMIF(Détails!$B$2:$M$86,'Synthèse par région'!$B32,Détails!M$2:M$86) -> 0
A33: MAGASIN MEDITERRANEE | B33: GE MEDITERRANEE | C33: =SUMIF(Détails!$B$2:$M$86,'Synthèse par région'!$B33,Détails!J$2:J$86) -> 0 | D33: =SUMIF(Détails!$B$2:$M$86,'Synthèse par région'!$B33,Détails!K$2:K$86) -> 0 | E33: =SUMIF(Détails!$B$2:$M$86,'Synthèse par région'!$B33,Détails!L$2:L$86) -> 0 | F33: =SUMIF(Détails!$B$2:$M$86,'Synthèse par région'!$B33,Détails!M$2:M$86) -> 0
B34: MARSEILLE PROVENCE PME | C34: =SUMIF(Détails!$B$2:$M$86,'Synthèse par région'!$B34,Détails!J$2:J$86) -> 0 | D34: =SUMIF(Détails!$B$2:$M$86,'Synthèse par région'!$B34,Détails!K$2:K$86) -> 0 | E34: =SUMIF(Détails!$B$2:$M$86,'Synthèse par région'!$B34,Détails!L$2:L$86) -> 0 | F34: =SUMIF(Détails!$B$2:$M$86,'Synthèse par région'!$B34,Détails!M$2:M$86) -> 0
B35: LANGUEDOC ROUSSILLON | C35: =SUMIF(Détails!$B$2:$M$86,'Synthèse par région'!$B35,Détails!J$2:J$86) -> 0 | D35: =SUMIF(Détails!$B$2:$M$86,'Synthèse par région'!$B35,Détails!K$2:K$86) -> 0 | E35: =SUMIF(Détails!$B$2:$M$86,'Synthèse par région'!$B35,Détails!L$2:L$86) -> 0 | F35: =SUMIF(Détails!$B$2:$M$86,'Synthèse par région'!$B35,Détails!M$2:M$86) -> 0
B36: COTE D'AZUR | C36: =SUMIF(Détails!$B$2:$M$86,'Synthèse par région'!$B36,Détails!J$2:J$86) -> 0 | D36: =SUMIF(Détails!$B$2:$M$86,'Synthèse par région'!$B36,Détails!K$2:K$86) -> 0 | E36: =SUMIF(Détails!$B$2:$M$86,'Synthèse par région'!$B36,Détails!L$2:L$86) -> 0 | F36: =SUMIF(Détails!$B$2:$M$86,'Synthèse par région'!$B36,Détails!M$2:M$86) -> 0
B37: CORSE | C37: =SUMIF(Détails!$B$2:$M$86,'Synthèse par région'!$B37,Détails!J$2:J$86) -> 0 | D37: =SUMIF(Détails!$B$2:$M$86,'Synthèse par région'!$B37,Détails!K$2:K$86) -> 0 | E37: =SUMIF(Détails!$B$2:$M$86,'Synthèse par région'!$B37,Détails!L$2:L$86) -> 0 | F37: =SUMIF(Détails!$B$2:$M$86,'Synthèse par région'!$B37,Détails!M$2:M$86) -> 0
A38: MAGASIN DIRECTION GRANDES ENTREPRISES IDF | B38: ITALIENS | C38: =SUMIF(Détails!$B$2:$M$86,'Synthèse par région'!$B38,Détails!J$2:J$86) -> 0 | D38: =SUMIF(Détails!$B$2:$M$86,'Synthèse par région'!$B38,Détails!K$2:K$86) -> 0 | E38: =SUMIF(Détails!$B$2:$M$86,'Synthèse par région'!$B38,Détails!L$2:L$86) -> 0 | F38: =SUMIF(Détails!$B$2:$M$86,'Synthèse par région'!$B38,Détails!M$2:M$86) -> 0
B39: GRAMONT | C39: =SUMIF(Détails!$B$2:$M$86,'Synthèse par région'!$B39,Détails!J$2:J$86) -> 0 | D39: =SUMIF(Détails!$B$2:$M$86,'Synthèse par région'!$B39,Détails!K$2:K$86) -> 0 | E39: =SUMIF(Détails!$B$2:$M$86,'Synthèse par région'!$B39,Détails!L$2:L$86) -> 0 | F39: =SUMIF(Détails!$B$2:$M$86,'Synthèse par région'!$B39,Détails!M$2:M$86) -> 0
B40: CHOISEUL | C40: =SUMIF(Détails!$B$2:$M$86,'Synthèse par région'!$B40,Détails!J$2:J$86) -> 0 | D40: =SUMIF(Détails!$B$2:$M$86,'Synthèse par région'!$B40,Détails!K$2:K$86) -> 0 | E40: =SUMIF(Détails!$B$2:$M$86,'Synthèse par région'!$B40,Détails!L$2:L$86) -> 0 | F40: =SUMIF(Détails!$B$2:$M$86,'Synthèse par région'!$B40,Détails!M$2:M$86) -> 0
A41: MAGASIN PARIS GRAND EST | B41: SAINT DENIS | C41: =SUMIF(Détails!$B$2:$M$86,'Synthèse par région'!$B41,Détails!J$2:J$86) -> 0 | D41: =SUMIF(Détails!$B$2:$M$86,'Synthèse par région'!$B41,Détails!K$2:K$86) -> 0 | E41: =SUMIF(Détails!$B$2:$M$86,'Synthèse par région'!$B41,Détails!L$2:L$86) -> 0 | F41: =SUMIF(Détails!$B$2:$M$86,'Synthèse par région'!$B41,Détails!M$2:M$86) -> 0
B42: VINCENNES | C42: =SUMIF(Détails!$B$2:$M$86,'Synthèse par région'!$B42,Détails!J$2:J$86) -> 0 | D42: =SUMIF(Détails!$B$2:$M$86,'Synthèse par région'!$B42,Détails!K$2:K$86) -> 0 | E42: =SUMIF(Détails!$B$2:$M$86,'Synthèse par région'!$B42,Détails!L$2:L$86) -> 0 | F42: =SUMIF(Détails!$B$2:$M$86,'Synthèse par région'!$B42,Détails!M$2:M$86) -> 0
B43: EVRY | C43: =SUMIF(Détails!$B$2:$M$86,'Synthèse par région'!$B43,Détails!J$2:J$86) -> 0 | D43: =SUMIF(Détails!$B$2:$M$86,'Synthèse par région'!$B43,Détails!K$2:K$86) -> 0 | E43: =SUMIF(Détails!$B$2:$M$86,'Synthèse par région'!$B43,Détails!L$2:L$86) -> 0 | F43: =SUMIF(Détails!$B$2:$M$86,'Synthèse par région'!$B43,Détails!M$2:M$86) -> 0
B44: CHAMPAGNE ARDENNE NORD | C44: =SUMIF(Détails!$B$2:$M$86,'Synthèse par région'!$B44,Détails!J$2:J$86) -> 0 | D44: =SUMIF(Détails!$B$2:$M$86,'Synthèse par région'!$B44,Détails!K$2:K$86) -> 1 | E44: =SUMIF(Détails!$B$2:$M$86,'Synthèse par région'!$B44,Détails!L$2:L$86) -> 0 | F44: =SUMIF(Détails!$B$2:$M$86,'Synthèse par région'!$B44,Détails!M$2:M$86) -> 0
B45: PARIS CENTRE EST | C45: =SUMIF(Détails!$B$2:$M$86,'Synthèse par région'!$B45,Détails!J$2:J$86) -> 0 | D45: =SUMIF(Détails!$B$2:$M$86,'Synthèse par région'!$B45,Détails!K$2:K$86) -> 0 | E45: =SUMIF(Détails!$B$2:$M$86,'Synthèse par région'!$B45,Détails!L$2:L$86) -> 0 | F45: =SUMIF(Détails!$B$2:$M$86,'Synthèse par région'!$B45,Détails!M$2:M$86) -> 0
A46: MAGASIN PARIS GRAND OUEST | B46: LA DÉFENSE GRANDE ARCHE | C46: =SUMIF(Détails!$B$2:$M$86,'Synthèse par région'!$B46,Détails!J$2:J$86) -> 0 | D46: =SUMIF(Détails!$B$2:$M$86,'Synthèse par région'!$B46,Détails!K$2:K$86) -> 0 | E46: =SUMIF(Détails!$B$2:$M$86,'Synthèse par région'!$B46,Détails!L$2:L$86) -> 0 | F46: =SUMIF(Détails!$B$2:$M$86,'Synthèse par région'!$B46,Détails!M$2:M$86) -> 0
B47: LA DÉFENSE PYRAMIDE | C47: =SUMIF(Détails!$B$2:$M$86,'Synthèse par région'!$B47,Détails!J$2:J$86) -> 0 | D47: =SUMIF(Détails!$B$2:$M$86,'Synthèse par région'!$B47,Détails!K$2:K$86) -> 0 | E47: =SUMIF(Détails!$B$2:$M$86,'Synthèse par région'!$B47,Détails!L$2:L$86) -> 0 | F47: =SUMIF(Détails!$B$2:$M$86,'Synthèse par région'!$B47,Détails!M$2:M$86) -> 0
B48: BOULOGNE | C48: =SUMIF(Détails!$B$2:$M$86,'Synthèse par région'!$B48,Détails!J$2:J$86) -> 1 | D48: =SUMIF(Détails!$B$2:$M$86,'Synthèse par région'!$B48,Détails!K$2:K$86) -> 0 | E48: =SUMIF(Détails!$B$2:$M$86,'Synthèse par région'!$B48,Détails!L$2:L$86) -> 0 | F48: =SUMIF(Détails!$B$2:$M$86,'Synthèse par région'!$B48,Détails!M$2:M$86) -> 0
B49: NORD VAL DE LOIRE | C49: =SUMIF(Détails!$B$2:$M$86,'Synthèse par région'!$B49,Détails!J$2:J$86) -> 0 | D49: =SUMIF(Détails!$B$2:$M$86,'Synthèse par région'!$B49,Détails!K$2:K$86) -> 0 | E49: =SUMIF(Détails!$B$2:$M$86,'Synthèse par région'!$B49,Détails!L$2:L$86) -> 0 | F49: =SUMIF(Détails!$B$2:$M$86,'Synthèse par région'!$B49,Détails!M$2:M$86) -> 0
B50: PARIS PE | C50: =SUMIF(Détails!$B$2:$M$86,'Synthèse par région'!$B50,Détails!J$2:J$86) -> 0 | D50: =SUMIF(Détails!$B$2:$M$86,'Synthèse par région'!$B50,Détails!K$2:K$86) -> 0 | E50: =SUMIF(Détails!$B$2:$M$86,'Synthèse par région'!$B50,Détails!L$2:L$86) -> 0 | F50: =SUMIF(Détails!$B$2:$M$86,'Synthèse par région'!$B50,Détails!M$2:M$86) -> 0
B51: PARIS OUEST | C51: =SUMIF(Détails!$B$2:$M$86,'Synthèse par région'!$B51,Détails!J$2:J$86) -> 0 | D51: =SUMIF(Détails!$B$2:$M$86,'Synthèse par région'!$B51,Détails!K$2:K$86) -> 0 | E51: =SUMIF(Détails!$B$2:$M$86,'Synthèse par région'!$B51,Détails!L$2:L$86) -> 0 | F51: =SUMIF(Détails!$B$2:$M$86,'Synthèse par région'!$B51,Détails!M$2:M$86) -> 0
A52: MAGASIN ANTILLES | B52: MARTINIQUE | C52: =SUMIF(Détails!$B$2:$M$86,'Synthèse par région'!$B52,Détails!J$2:J$86) -> 0 | D52: =SUMIF(Détails!$B$2:$M$86,'Synthèse par région'!$B52,Détails!K$2:K$86) -> 0 | E52: =SUMIF(Détails!$B$2:$M$86,'Synthèse par région'!$B52,Détails!L$2:L$86) -> 0 | F52: =SUMIF(Détails!$B$2:$M$86,'Synthèse par région'!$B52,Détails!M$2:M$86) -> 0
B53: GUADELOUPE | C53: =SUMIF(Détails!$B$2:$M$86,'Synthèse par région'!$B53,Détails!J$2:J$86) -> 0 | D53: =SUMIF(Détails!$B$2:$M$86,'Synthèse par région'!$B53,Détails!K$2:K$86) -> 0 | E53: =SUMIF(Détails!$B$2:$M$86,'Synthèse par région'!$B53,Détails!L$2:L$86) -> 0 | F53: =SUMIF(Détails!$B$2:$M$86,'Synthèse par région'!$B53,Détails!M$2:M$86) -> 0
C54: =SUM(C3:C53) -> 8 | D54: =SUM(D3:D53) -> 2 | E54: =SUM(E3:E53) -> 1 | F54: =SUM(F3:F53) -> 26600

Sheet Synthèse par région-Old
C1: 44287
C2: 1° RDV | D2: Proposition | E2: Signature | F2: Prime espérée
A3: MAGASIN EST | B3: HAUT RHIN NORD FRANCHE COMTE
B4: BAS RHIN
B5: LORRAINE
B6: BOURGOGNE CHAMPAGNE SUD
A7: MAGASIN OUEST | B7: MAINE ANJOU
B8: LOIRE ATLANTIQUE
B9: BRETAGNE EST
B10: BRETAGNE OUEST
B11: SUD VAL DE LOIRE
B12: VENDEE MAUGES DEUX SEVRES
A13: MAGASIN SUD OUEST | B13: NORD MIDI PYRENEES
B14: GIRONDE
B15: PAYS DE l'ADOUR
B16: SUD MIDI PYRENEES
B17: LIMOUSIN PERIGORD
B18: VITI-VINI et CHARENTES
A19: MAGASIN NORD | B19: PME NORD PAS DE CALAIS
B20: GE NORD PAS DE CALAIS
B21: PICARDIE
B22: HAUTE NORMANDIE
B23: BASSE NORMANDIE
A24: MAGASIN DAUPHINE SAVOIE / RHONE LOIRE AIN AUVERGNE | B24: RHÔNE
B25: RHÔNE PME
B26: LOIRE AUVERGNE
B27: ALPES
B28: ISERE DROME ARDECHE
B29: GRANDS COMPTES
B30: SAONE
B31: BEAUJOLAIS BRESSE ROANNAIS
B32: GRAND LYON ENTREPRENEURS
A33: MAGASIN MEDITERRANEE | B33: GE MEDITERRANEE
B34: MARSEILLE PROVENCE PME
B35: LANGUEDOC ROUSSILLON
B36: COTE D'AZUR
B37: CORSE
A38: MAGASIN DIRECTION GRANDES ENTREPRISES IDF | B38: ITALIENS
B39: GRAMONT
B40: CHOISEUL
A41: MAGASIN PARIS GRAND EST | B41: SAINT DENIS
B42: VINCENNES
B43: EVRY
B44: CHAMPAGNE ARDENNE NORD
B45: PARIS CENTRE EST
A46: MAGASIN PARIS GRAND OUEST | B46: LA DÉFENSE GRANDE ARCHE
B47: LA DÉFENSE PYRAMIDE
B48: BOULOGNE
B49: NORD VAL DE LOIRE
B50: PARIS PE
B51: PARIS OUEST
A52: MAGASIN ANTILLES | B52: MARTINIQUE
B53: GUADELOUPE
C54: =SUM(C3:C53) -> 0 | D54: =SUM(D3:D53) -> 0 | E54: =SUM(E3:E53) -> 0 | F54: =SUM(F3:F53) -> 0
