Workbook
Name A_PRIX_GENERAUX: #REF!
Name B_TRAVAUX_PREPARATOIRES: #REF!
Name C_TERRASSEMENTS: #REF!
Name D_ASSAINISSEMENT: #REF!
Name E_AEP: #REF!
Name F_GC_RESEAUX: #REF!
Name G_ELECTRICITE: #REF!
Name H_ECLAIRAGE_SLT: #REF!
Name I_VIDEO: #REF!
Name J_MACONNERIE: #REF!
Name K_SOLS_ET_VOIRIE: #REF!
Name L_SIGNALISATION: #REF!
Name M_JEUX: #REF!
Name N_MOBILIER: N_MOBILIER!$A$1:$I$43
Name O_SERRURERIE: #REF!
Name P_ESPACES_VERTS: #REF!
Name Print_Area: BPU!$B$3:$D$43
Name Print_Area: DPGF!$B$1:$G$4
Name Print_Area: DQE!$B$3:$G$36
Name Print_Titles: BPU!$3:$3
Name Print_Titles: DQE!$3:$3

Sheet DPGF
A4: Choix bordereau | B4: N° | C4: Désignation des ouvrages | D4: U | E4: Q | F4: PU | G4: PT
C5: =IF(ISBLANK(B5)," ",IF(ISNA(VLOOKUP(B5,INDIRECT(A5),1,0))," -- Code incorrect --",VLOOKUP(B5,INDIRECT(A5),7,0))) | D5: =IF(ISBLANK(B5)," ",IF(ISNA(VLOOKUP(B5,INDIRECT(A5),1,0))," -- Code incorrect --",VLOOKUP(B5,INDIRECT(A5),9,0)))
A6: N_MOBILIER | B6: N | C6: =IF(ISBLANK(B6)," ",IF(ISNA(VLOOKUP(B6,INDIRECT(A6 &"!A:I"),5,0))," -- Code incorrect --",VLOOKUP(B6,INDIRECT(A6 &"!A:I"),5,0))) -> N - MOBILIER | D6: =IF(ISBLANK(B6)," ",IF(ISNA(VLOOKUP(B6,INDIRECT(A6 &"!A:I"),9,0))," -- Code incorrect --",VLOOKUP(B6,INDIRECT(A6 &"!A:I"),9,0))) -> 0
A7: N_MOBILIER | B7: N 5 | C7: =IF(ISBLANK(B7)," ",IF(ISNA(VLOOKUP(B7,INDIRECT(A7 &"!A:I"),5,0))," -- Code incorrect --",VLOOKUP(B7,INDIRECT(A7 &"!A:I"),5,0))) -> BANCS | D7: =IF(ISBLANK(B7)," ",IF(ISNA(VLOOKUP(B7,INDIRECT(A7 &"!A:I"),9,0))," -- Code incorrect --",VLOOKUP(B7,INDIRECT(A7 &"!A:I"),9,0))) -> 0
A8: N_MOBILIER | B8: N 5 a | C8: =IF(ISBLANK(B8)," ",IF(ISNA(VLOOKUP(B8,INDIRECT(A8 &"!A:I"),5,0))," -- Code incorrect --",VLOOKUP(B8,INDIRECT(A8 &"!A:I"),5,0))) -> Banc "DROIT" conforme aux pièces graphiques et CCTP | D8: =IF(ISBLANK(B8)," ",IF(ISNA(VLOOKUP(B8,INDIRECT(A8 &"!A:I"),9,0))," -- Code incorrect --",VLOOKUP(B8,INDIRECT(A8 &"!A:I"),9,0))) -> U
A9: N_MOBILIER | B9: N 8 | C9: =IF(ISBLANK(B9)," ",IF(ISNA(VLOOKUP(B9,INDIRECT(A9 &"!A:I"),5,0))," -- Code incorrect --",VLOOKUP(B9,INDIRECT(A9 &"!A:I"),5,0))) -> CLOU DE CHAUSSEE | D9: =IF(ISBLANK(B9)," ",IF(ISNA(VLOOKUP(B9,INDIRECT(A9 &"!A:I"),9,0))," -- Code incorrect --",VLOOKUP(B9,INDIRECT(A9 &"!A:I"),9,0))) -> 0
A10: N_MOBILIER | B10: N 8 a | C10: =IF(ISBLANK(B10)," ",IF(ISNA(VLOOKUP(B10,INDIRECT(A10 &"!A:I"),5,0))," -- Code incorrect --",VLOOKUP(B10,INDIRECT(A10 &"!A:I"),5,0))) -> Clous carrés inox brossé 120*120, Fusion de chez UNIVERS & CITE | D10: =IF(ISBLANK(B10)," ",IF(ISNA(VLOOKUP(B10,INDIRECT(A10 &"!A:I"),9,0))," -- Code incorrect --",VLOOKUP(B10,INDIRECT(A10 &"!A:I"),9,0))) -> U
A11: N_MOBILIER | B11: N 9 | C11: =IF(ISBLANK(B11)," ",IF(ISNA(VLOOKUP(B11,INDIRECT(A11 &"!A:I"),5,0))," -- Code incorrect --",VLOOKUP(B11,INDIRECT(A11 &"!A:I"),5,0))) -> CORBEILLE | D11: =IF(ISBLANK(B11)," ",IF(ISNA(VLOOKUP(B11,INDIRECT(A11 &"!A:I"),9,0))," -- Code incorrect --",VLOOKUP(B11,INDIRECT(A11 &"!A:I"),9,0))) -> U
A12: N_MOBILIER | B12: N 13 | C12: =IF(ISBLANK(B12)," ",IF(ISNA(VLOOKUP(B12,INDIRECT(A12 &"!A:I"),5,0))," -- Code incorrect --",VLOOKUP(B12,INDIRECT(A12 &"!A:I"),5,0))) -> LISSE BOIS | D12: =IF(ISBLANK(B12)," ",IF(ISNA(VLOOKUP(B12,INDIRECT(A12 &"!A:I"),9,0))," -- Code incorrect --",VLOOKUP(B12,INDIRECT(A12 &"!A:I"),9,0))) -> M
A13: N_MOBILIER | B13: N 12 a | C13: =IF(ISBLANK(B13)," ",IF(ISNA(VLOOKUP(B13,INDIRECT(A13 &"!A:I"),5,0))," -- Code incorrect --",VLOOKUP(B13,INDIRECT(A13 &"!A:I"),5,0))) -> SERI type "Croix St André" 1630mm | D13: =IF(ISBLANK(B13)," ",IF(ISNA(VLOOKUP(B13,INDIRECT(A13 &"!A:I"),9,0))," -- Code incorrect --",VLOOKUP(B13,INDIRECT(A13 &"!A:I"),9,0))) -> U
A14: N_MOBILIER | C14: =IF(ISBLANK(B14)," ",IF(ISNA(VLOOKUP(B14,INDIRECT(A14 &"!A:I"),5,0))," -- Code incorrect --",VLOOKUP(B14,INDIRECT(A14 &"!A:I"),5,0))) | D14: =IF(ISBLANK(B14)," ",IF(ISNA(VLOOKUP(B14,INDIRECT(A14 &"!A:I"),9,0))," -- Code incorrect --",VLOOKUP(B14,INDIRECT(A14 &"!A:I"),9,0)))
C15: =IF(ISBLANK(B15)," ",IF(ISNA(VLOOKUP(B15,INDIRECT(A15),1,0))," -- Code incorrect --",VLOOKUP(B15,INDIRECT(A15),7,0))) | D15: =IF(ISBLANK(B15)," ",IF(ISNA(VLOOKUP(B15,INDIRECT(A15),1,0))," -- Code incorrect --",VLOOKUP(B15,INDIRECT(A15),9,0)))
C16: =IF(ISBLANK(B16)," ",IF(ISNA(VLOOKUP(B16,INDIRECT(A16),1,0))," -- Code incorrect --",VLOOKUP(B16,INDIRECT(A16),7,0))) | D16: =IF(ISBLANK(B16)," ",IF(ISNA(VLOOKUP(B16,INDIRECT(A16),1,0))," -- Code incorrect --",VLOOKUP(B16,INDIRECT(A16),9,0)))
C17: =IF(ISBLANK(B17)," ",IF(ISNA(VLOOKUP(B17,INDIRECT(A17),1,0))," -- Code incorrect --",VLOOKUP(B17,INDIRECT(A17),7,0))) | D17: =IF(ISBLANK(B17)," ",IF(ISNA(VLOOKUP(B17,INDIRECT(A17),1,0))," -- Code incorrect --",VLOOKUP(B17,INDIRECT(A17),9,0)))
C18: =IF(ISBLANK(B18)," ",IF(ISNA(VLOOKUP(B18,INDIRECT(A18),1,0))," -- Code incorrect --",VLOOKUP(B18,INDIRECT(A18),7,0))) | D18: =IF(ISBLANK(B18)," ",IF(ISNA(VLOOKUP(B18,INDIRECT(A18),1,0))," -- Code incorrect --",VLOOKUP(B18,INDIRECT(A18),9,0)))
C19: =IF(ISBLANK(B19)," ",IF(ISNA(VLOOKUP(B19,INDIRECT(A19),1,0))," -- Code incorrect --",VLOOKUP(B19,INDIRECT(A19),7,0))) | D19: =IF(ISBLANK(B19)," ",IF(ISNA(VLOOKUP(B19,INDIRECT(A19),1,0))," -- Code incorrect --",VLOOKUP(B19,INDIRECT(A19),9,0)))
C20: =IF(ISBLANK(B20)," ",IF(ISNA(VLOOKUP(B20,INDIRECT(A20),1,0))," -- Code incorrect --",VLOOKUP(B20,INDIRECT(A20),7,0))) | D20: =IF(ISBLANK(B20)," ",IF(ISNA(VLOOKUP(B20,INDIRECT(A20),1,0))," -- Code incorrect --",VLOOKUP(B20,INDIRECT(A20),9,0)))
C21: =IF(ISBLANK(B21)," ",IF(ISNA(VLOOKUP(B21,INDIRECT(A21),1,0))," -- Code incorrect --",VLOOKUP(B21,INDIRECT(A21),7,0))) | D21: =IF(ISBLANK(B21)," ",IF(ISNA(VLOOKUP(B21,INDIRECT(A21),1,0))," -- Code incorrect --",VLOOKUP(B21,INDIRECT(A21),9,0)))
C22: =IF(ISBLANK(B22)," ",IF(ISNA(VLOOKUP(B22,INDIRECT(A22),1,0))," -- Code incorrect --",VLOOKUP(B22,INDIRECT(A22),7,0))) | D22: =IF(ISBLANK(B22)," ",IF(ISNA(VLOOKUP(B22,INDIRECT(A22),1,0))," -- Code incorrect --",VLOOKUP(B22,INDIRECT(A22),9,0)))
C23: =IF(ISBLANK(B23)," ",IF(ISNA(VLOOKUP(B23,INDIRECT(A23),1,0))," -- Code incorrect --",VLOOKUP(B23,INDIRECT(A23),7,0))) | D23: =IF(ISBLANK(B23)," ",IF(ISNA(VLOOKUP(B23,INDIRECT(A23),1,0))," -- Code incorrect --",VLOOKUP(B23,INDIRECT(A23),9,0)))
C24: =IF(ISBLANK(B24)," ",IF(ISNA(VLOOKUP(B24,INDIRECT(A24),1,0))," -- Code incorrect --",VLOOKUP(B24,INDIRECT(A24),7,0)))
C25: =IF(ISBLANK(B25)," ",IF(ISNA(VLOOKUP(B25,INDIRECT(A25),1,0))," -- Code incorrect --",VLOOKUP(B25,INDIRECT(A25),7,0)))
C26: =IF(ISBLANK(B26)," ",IF(ISNA(VLOOKUP(B26,INDIRECT(A26),1,0))," -- Code incorrect --",VLOOKUP(B26,INDIRECT(A26),7,0)))
C27: =IF(ISBLANK(B27)," ",IF(ISNA(VLOOKUP(B27,INDIRECT(A27),1,0))," -- Code incorrect --",VLOOKUP(B27,INDIRECT(A27),7,0)))
C28: =IF(ISBLANK(B28)," ",IF(ISNA(VLOOKUP(B28,INDIRECT(A28),1,0))," -- Code incorrect --",VLOOKUP(B28,INDIRECT(A28),7,0)))
C29: =IF(ISBLANK(B29)," ",IF(ISNA(VLOOKUP(B29,INDIRECT(A29),1,0))," -- Code incorrect --",VLOOKUP(B29,INDIRECT(A29),7,0)))

Sheet DQE
A3: Choix bordereau | B3: N° | C3: Désignation des ouvrages | D3: U | E3: Q | F3: PU | G3: PT
A4: =IF(DPGF!#REF!="","",DPGF!#REF!) -> #REF! | B4: =IF(DPGF!#REF!="","",DPGF!#REF!) -> #REF! | C4: =IF(ISBLANK(B4)," ",IF(ISNA(VLOOKUP(B4,INDIRECT(A4),1,0))," -- Code incorrect --",VLOOKUP(B4,INDIRECT(A4),5,0))) -> #REF! | D4: =IF(ISBLANK(B4)," ",IF(ISNA(VLOOKUP(B4,INDIRECT(A4),1,0))," -- Code incorrect --",VLOOKUP(B4,INDIRECT(A4),9,0))) -> #REF! | G4: =IF(E4>0,SUM(E4*F4),"")
A5: =IF(DPGF!#REF!="","",DPGF!#REF!) -> #REF! | B5: A 1 | C5: =IF(ISBLANK(B5)," ",IF(ISNA(VLOOKUP(B5,INDIRECT(A5),1,0))," -- Code incorrect --",VLOOKUP(B5,INDIRECT(A5),5,0))) -> #REF! | D5: =IF(ISBLANK(B5)," ",IF(ISNA(VLOOKUP(B5,INDIRECT(A5),1,0))," -- Code incorrect --",VLOOKUP(B5,INDIRECT(A5),9,0))) -> #REF! | G5: =IF(E5>0,SUM(E5*F5),"")
A6: =IF(DPGF!#REF!="","",DPGF!#REF!) -> #REF! | B6: =IF(DPGF!#REF!="","",DPGF!#REF!) -> #REF! | C6: =IF(ISBLANK(B6)," ",IF(ISNA(VLOOKUP(B6,INDIRECT(A6),1,0))," -- Code incorrect --",VLOOKUP(B6,INDIRECT(A6),5,0))) -> #REF! | D6: =IF(ISBLANK(B6)," ",IF(ISNA(VLOOKUP(B6,INDIRECT(A6),1,0))," -- Code incorrect --",VLOOKUP(B6,INDIRECT(A6),9,0))) -> #REF! | G6: =IF(E6>0,SUM(E6*F6),"")
A7: =IF(DPGF!#REF!="","",DPGF!#REF!) -> #REF! | B7: B 2 | C7: =IF(ISBLANK(B7)," ",IF(ISNA(VLOOKUP(B7,INDIRECT(A7),1,0))," -- Code incorrect --",VLOOKUP(B7,INDIRECT(A7),5,0))) -> #REF! | D7: =IF(ISBLANK(B7)," ",IF(ISNA(VLOOKUP(B7,INDIRECT(A7),1,0))," -- Code incorrect --",VLOOKUP(B7,INDIRECT(A7),9,0))) -> #REF! | G7: =IF(E7>0,SUM(E7*F7),"")
A8: =IF(DPGF!#REF!="","",DPGF!#REF!) -> #REF!
A9: =IF(DPGF!#REF!="","",DPGF!#REF!) -> #REF! | B9: =IF(DPGF!#REF!="","",DPGF!#REF!) -> #REF! | C9: =IF(ISBLANK(B9)," ",IF(ISNA(VLOOKUP(B9,INDIRECT(A9),1,0))," -- Code incorrect --",VLOOKUP(B9,INDIRECT(A9),5,0))) -> #REF! | D9: =IF(ISBLANK(B9)," ",IF(ISNA(VLOOKUP(B9,INDIRECT(A9),1,0))," -- Code incorrect --",VLOOKUP(B9,INDIRECT(A9),9,0))) -> #REF! | G9: =IF(E9>0,SUM(E9*F9),"")
A10: =IF(DPGF!#REF!="","",DPGF!#REF!) -> #REF! | B10: =IF(DPGF!#REF!="","",DPGF!#REF!) -> #REF! | C10: =IF(ISBLANK(B10)," ",IF(ISNA(VLOOKUP(B10,INDIRECT(A10),1,0))," -- Code incorrect --",VLOOKUP(B10,INDIRECT(A10),5,0))) -> #REF! | D10: =IF(ISBLANK(B10)," ",IF(ISNA(VLOOKUP(B10,INDIRECT(A10),1,0))," -- Code incorrect --",VLOOKUP(B10,INDIRECT(A10),9,0))) -> #REF! | G10: =IF(E10>0,SUM(E10*F10),"")
A11: =IF(DPGF!#REF!="","",DPGF!#REF!) -> #REF! | B11: =IF(DPGF!#REF!="","",DPGF!#REF!) -> #REF! | C11: =IF(ISBLANK(B11)," ",IF(ISNA(VLOOKUP(B11,INDIRECT(A11),1,0))," -- Code incorrect --",VLOOKUP(B11,INDIRECT(A11),5,0))) -> #REF! | D11: =IF(ISBLANK(B11)," ",IF(ISNA(VLOOKUP(B11,INDIRECT(A11),1,0))," -- Code incorrect --",VLOOKUP(B11,INDIRECT(A11),9,0))) -> #REF! | G11: =IF(E11>0,SUM(E11*F11),"")
A12: =IF(DPGF!#REF!="","",DPGF!#REF!) -> #REF!
A13: =IF(DPGF!#REF!="","",DPGF!#REF!) -> #REF! | B13: =IF(DPGF!#REF!="","",DPGF!#REF!) -> #REF! | C13: =IF(ISBLANK(B13)," ",IF(ISNA(VLOOKUP(B13,INDIRECT(A13),1,0))," -- Code incorrect --",VLOOKUP(B13,INDIRECT(A13),5,0))) -> #REF! | D13: =IF(ISBLANK(B13)," ",IF(ISNA(VLOOKUP(B13,INDIRECT(A13),1,0))," -- Code incorrect --",VLOOKUP(B13,INDIRECT(A13),9,0))) -> #REF! | G13: =IF(E13>0,SUM(E13*F13),"")
A14: =IF(DPGF!#REF!="","",DPGF!#REF!) -> #REF!
A15: =IF(DPGF!#REF!="","",DPGF!#REF!) -> #REF! | B15: =IF(DPGF!#REF!="","",DPGF!#REF!) -> #REF! | C15: =IF(ISBLANK(B15)," ",IF(ISNA(VLOOKUP(B15,INDIRECT(A15),1,0))," -- Code incorrect --",VLOOKUP(B15,INDIRECT(A15),5,0))) -> #REF! | D15: =IF(ISBLANK(B15)," ",IF(ISNA(VLOOKUP(B15,INDIRECT(A15),1,0))," -- Code incorrect --",VLOOKUP(B15,INDIRECT(A15),9,0))) -> #REF! | G15: =IF(E15>0,SUM(E15*F15),"")
A16: =IF(DPGF!#REF!="","",DPGF!#REF!) -> #REF! | B16: =IF(DPGF!#REF!="","",DPGF!#REF!) -> #REF! | C16: =IF(ISBLANK(B16)," ",IF(ISNA(VLOOKUP(B16,INDIRECT(A16),1,0))," -- Code incorrect --",VLOOKUP(B16,INDIRECT(A16),5,0))) -> #REF! | D16: =IF(ISBLANK(B16)," ",IF(ISNA(VLOOKUP(B16,INDIRECT(A16),1,0))," -- Code incorrect --",VLOOKUP(B16,INDIRECT(A16),9,0))) -> #REF! | G16: =IF(E16>0,SUM(E16*F16),"")
A17: =IF(DPGF!#REF!="","",DPGF!#REF!) -> #REF! | B17: =IF(DPGF!#REF!="","",DPGF!#REF!) -> #REF! | C17: =IF(ISBLANK(B17)," ",IF(ISNA(VLOOKUP(B17,INDIRECT(A17),1,0))," -- Code incorrect --",VLOOKUP(B17,INDIRECT(A17),5,0))) -> #REF! | D17: =IF(ISBLANK(B17)," ",IF(ISNA(VLOOKUP(B17,INDIRECT(A17),1,0))," -- Code incorrect --",VLOOKUP(B17,INDIRECT(A17),9,0))) -> #REF! | G17: =IF(E17>0,SUM(E17*F17),"")
A18: =IF(DPGF!#REF!="","",DPGF!#REF!) -> #REF! | B18: =IF(DPGF!#REF!="","",DPGF!#REF!) -> #REF! | C18: =IF(ISBLANK(B18)," ",IF(ISNA(VLOOKUP(B18,INDIRECT(A18),1,0))," -- Code incorrect --",VLOOKUP(B18,INDIRECT(A18),5,0))) -> #REF! | D18: =IF(ISBLANK(B18)," ",IF(ISNA(VLOOKUP(B18,INDIRECT(A18),1,0))," -- Code incorrect --",VLOOKUP(B18,INDIRECT(A18),9,0))) -> #REF! | G18: =IF(E18>0,SUM(E18*F18),"")
A19: =IF(DPGF!#REF!="","",DPGF!#REF!) -> #REF! | B19: =IF(DPGF!#REF!="","",DPGF!#REF!) -> #REF! | C19: =IF(ISBLANK(B19)," ",IF(ISNA(VLOOKUP(B19,INDIRECT(A19),1,0))," -- Code incorrect --",VLOOKUP(B19,INDIRECT(A19),5,0))) -> #REF! | D19: =IF(ISBLANK(B19)," ",IF(ISNA(VLOOKUP(B19,INDIRECT(A19),1,0))," -- Code incorrect --",VLOOKUP(B19,INDIRECT(A19),9,0))) -> #REF! | G19: =IF(E19>0,SUM(E19*F19),"")
A20: =IF(DPGF!#REF!="","",DPGF!#REF!) -> #REF! | B20: =IF(DPGF!#REF!="","",DPGF!#REF!) -> #REF! | C20: =IF(ISBLANK(B20)," ",IF(ISNA(VLOOKUP(B20,INDIRECT(A20),1,0))," -- Code incorrect --",VLOOKUP(B20,INDIRECT(A20),5,0))) -> #REF! | D20: =IF(ISBLANK(B20)," ",IF(ISNA(VLOOKUP(B20,INDIRECT(A20),1,0))," -- Code incorrect --",VLOOKUP(B20,INDIRECT(A20),9,0))) -> #REF! | G20: =IF(E20>0,SUM(E20*F20),"")
A21: =IF(DPGF!#REF!="","",DPGF!#REF!) -> #REF! | B21: =IF(DPGF!#REF!="","",DPGF!#REF!) -> #REF! | C21: =IF(ISBLANK(B21)," ",IF(ISNA(VLOOKUP(B21,INDIRECT(A21),1,0))," -- Code incorrect --",VLOOKUP(B21,INDIRECT(A21),5,0))) -> #REF! | D21: =IF(ISBLANK(B21)," ",IF(ISNA(VLOOKUP(B21,INDIRECT(A21),1,0))," -- Code incorrect --",VLOOKUP(B21,INDIRECT(A21),9,0))) -> #REF! | G21: =IF(E21>0,SUM(E21*F21),"")
A22: =IF(DPGF!#REF!="","",DPGF!#REF!) -> #REF! | B22: =IF(DPGF!#REF!="","",DPGF!#REF!) -> #REF! | C22: =IF(ISBLANK(B22)," ",IF(ISNA(VLOOKUP(B22,INDIRECT(A22),1,0))," -- Code incorrect --",VLOOKUP(B22,INDIRECT(A22),5,0))) -> #REF! | D22: =IF(ISBLANK(B22)," ",IF(ISNA(VLOOKUP(B22,INDIRECT(A22),1,0))," -- Code incorrect --",VLOOKUP(B22,INDIRECT(A22),9,0))) -> #REF! | G22: =IF(E22>0,SUM(E22*F22),"")
A23: =IF(DPGF!#REF!="","",DPGF!#REF!) -> #REF! | B23: =IF(DPGF!#REF!="","",DPGF!#REF!) -> #REF! | C23: =IF(ISBLANK(B23)," ",IF(ISNA(VLOOKUP(B23,INDIRECT(A23),1,0))," -- Code incorrect --",VLOOKUP(B23,INDIRECT(A23),5,0))) -> #REF! | D23: =IF(ISBLANK(B23)," ",IF(ISNA(VLOOKUP(B23,INDIRECT(A23),1,0))," -- Code incorrect --",VLOOKUP(B23,INDIRECT(A23),9,0))) -> #REF! | G23: =IF(E23>0,SUM(E23*F23),"")
A24: =IF(DPGF!#REF!="","",DPGF!#REF!) -> #REF! | B24: =IF(DPGF!#REF!="","",DPGF!#REF!) -> #REF! | C24: =IF(ISBLANK(B24)," ",IF(ISNA(VLOOKUP(B24,INDIRECT(A24),1,0))," -- Code incorrect --",VLOOKUP(B24,INDIRECT(A24),5,0))) -> #REF! | D24: =IF(ISBLANK(B24)," ",IF(ISNA(VLOOKUP(B24,INDIRECT(A24),1,0))," -- Code incorrect --",VLOOKUP(B24,INDIRECT(A24),9,0))) -> #REF! | G24: =IF(E24>0,SUM(E24*F24),"")
A25: =IF(DPGF!#REF!="","",DPGF!#REF!) -> #REF! | B25: =IF(DPGF!#REF!="","",DPGF!#REF!) -> #REF! | C25: =IF(ISBLANK(B25)," ",IF(ISNA(VLOOKUP(B25,INDIRECT(A25),1,0))," -- Code incorrect --",VLOOKUP(B25,INDIRECT(A25),5,0))) -> #REF! | D25: =IF(ISBLANK(B25)," ",IF(ISNA(VLOOKUP(B25,INDIRECT(A25),1,0))," -- Code incorrect --",VLOOKUP(B25,INDIRECT(A25),9,0))) -> #REF! | G25: =IF(E25>0,SUM(E25*F25),"")
A26: =IF(DPGF!#REF!="","",DPGF!#REF!) -> #REF!
A27: =IF(DPGF!#REF!="","",DPGF!#REF!) -> #REF! | B27: =IF(DPGF!#REF!="","",DPGF!#REF!) -> #REF! | C27: =IF(ISBLANK(B27)," ",IF(ISNA(VLOOKUP(B27,INDIRECT(A27),1,0))," -- Code incorrect --",VLOOKUP(B27,INDIRECT(A27),5,0))) -> #REF! | D27: =IF(ISBLANK(B27)," ",IF(ISNA(VLOOKUP(B27,INDIRECT(A27),1,0))," -- Code incorrect --",VLOOKUP(B27,INDIRECT(A27),9,0))) -> #REF! | G27: =IF(E27>0,SUM(E27*F27),"")
A28: =IF(DPGF!#REF!="","",DPGF!#REF!) -> #REF!
C29: =IF(ISBLANK(B29)," ",IF(ISNA(VLOOKUP(B29,INDIRECT(#REF!),1,0))," -- Code incorrect --",VLOOKUP(B29,INDIRECT(#REF!),7,0))) | D29: =IF(ISBLANK(B29)," ",IF(ISNA(VLOOKUP(B29,INDIRECT(#REF!),1,0))," -- Code incorrect --",VLOOKUP(B29,INDIRECT(#REF!),9,0))) | G29: =IF(E29>0,SUM(E29*F29),"")
D30: TOTAL H.T | G30: =SUM(G5:G27) -> 0
D32: TVA 20,00 % | G32: =G30*0.2 -> 0
D34: TOTAL T.T.C | G34: =SUM(G30:G32) -> 0

Sheet BPU
B1: =DPGF!A1 -> 0
B2: =DPGF!A2 -> 0
B3: N° des prix | C3: Désignation des ouvrages et prix H.T. en toutes lettres | D3: prix H.T. en chiffres
A4: =DPGF!#REF! -> #REF! | B4: =DPGF!#REF! -> #REF! | C4: =IF(ISBLANK(B4)," ",IF(ISNA(VLOOKUP(B4,INDIRECT(A4),1,0))," -- Code incorrect --",VLOOKUP(B4,INDIRECT(A4),7,0)&CHAR(10)&VLOOKUP(B4,INDIRECT(A4),8,0))) -> #REF!
A5: =DPGF!#REF! -> #REF! | B5: =DPGF!#REF! -> #REF! | C5: =IF(ISBLANK(B5)," ",IF(ISNA(VLOOKUP(B5,INDIRECT(A5),1,0))," -- Code incorrect --",VLOOKUP(B5,INDIRECT(A5),7,0)&CHAR(10)&VLOOKUP(B5,INDIRECT(A5),8,0))) -> #REF!
A7: =DPGF!#REF! -> #REF! | B7: =DPGF!#REF! -> #REF! | C7: =IF(ISBLANK(B7)," ",IF(ISNA(VLOOKUP(B7,INDIRECT(A7),1,0))," -- Code incorrect --",VLOOKUP(B7,INDIRECT(A7),7,0)&CHAR(10)&VLOOKUP(B7,INDIRECT(A7),8,0))) -> #REF!
A8: =DPGF!#REF! -> #REF! | B8: =DPGF!#REF! -> #REF! | C8: =IF(ISBLANK(B8)," ",IF(ISNA(VLOOKUP(B8,INDIRECT(A8),1,0))," -- Code incorrect --",VLOOKUP(B8,INDIRECT(A8),7,0)&CHAR(10)&VLOOKUP(B8,INDIRECT(A8),8,0))) -> #REF!
A9: =DPGF!#REF! -> #REF! | B9: =DPGF!#REF! -> #REF! | C9: =IF(ISBLANK(B9)," ",IF(ISNA(VLOOKUP(B9,INDIRECT(A9),1,0))," -- Code incorrect --",VLOOKUP(B9,INDIRECT(A9),7,0)&CHAR(10)&VLOOKUP(B9,INDIRECT(A9),8,0))) -> #REF!
A10: =DPGF!#REF! -> #REF! | B10: =DPGF!#REF! -> #REF! | C10: =IF(ISBLANK(B10)," ",IF(ISNA(VLOOKUP(B10,INDIRECT(A10),1,0))," -- Code incorrect --",VLOOKUP(B10,INDIRECT(A10),7,0)&CHAR(10)&VLOOKUP(B10,INDIRECT(A10),8,0))) -> #REF!
A11: =DPGF!#REF! -> #REF! | B11: =DPGF!#REF! -> #REF! | C11: =IF(ISBLANK(B11)," ",IF(ISNA(VLOOKUP(B11,INDIRECT(A11),1,0))," -- Code incorrect --",VLOOKUP(B11,INDIRECT(A11),7,0)&CHAR(10)&VLOOKUP(B11,INDIRECT(A11),8,0))) -> #REF!
A12: =DPGF!#REF! -> #REF! | B12: =DPGF!#REF! -> #REF! | C12: =IF(ISBLANK(B12)," ",IF(ISNA(VLOOKUP(B12,INDIRECT(A12),1,0))," -- Code incorrect --",VLOOKUP(B12,INDIRECT(A12),7,0)&CHAR(10)&VLOOKUP(B12,INDIRECT(A12),8,0))) -> #REF!
A13: =DPGF!#REF! -> #REF! | B13: =DPGF!#REF! -> #REF! | C13: =IF(ISBLANK(B13)," ",IF(ISNA(VLOOKUP(B13,INDIRECT(A13),1,0))," -- Code incorrect --",VLOOKUP(B13,INDIRECT(A13),7,0)&CHAR(10)&VLOOKUP(B13,INDIRECT(A13),8,0))) -> #REF!
A14: =DPGF!#REF! -> #REF! | B14: =DPGF!#REF! -> #REF! | C14: =IF(ISBLANK(B14)," ",IF(ISNA(VLOOKUP(B14,INDIRECT(A14),1,0))," -- Code incorrect --",VLOOKUP(B14,INDIRECT(A14),7,0)&CHAR(10)&VLOOKUP(B14,INDIRECT(A14),8,0))) -> #REF!
A15: =DPGF!#REF! -> #REF! | B15: =DPGF!#REF! -> #REF! | C15: =IF(ISBLANK(B15)," ",IF(ISNA(VLOOKUP(B15,INDIRECT(A15),1,0))," -- Code incorrect --",VLOOKUP(B15,INDIRECT(A15),7,0)&CHAR(10)&VLOOKUP(B15,INDIRECT(A15),8,0))) -> #REF!
A16: =DPGF!#REF! -> #REF! | B16: =DPGF!#REF! -> #REF! | C16: =IF(ISBLANK(B16)," ",IF(ISNA(VLOOKUP(B16,INDIRECT(A16),1,0))," -- Code incorrect --",VLOOKUP(B16,INDIRECT(A16),7,0)&CHAR(10)&VLOOKUP(B16,INDIRECT(A16),8,0))) -> #REF!
... A46: =DPGF!#REF! -> #REF! | B46: =DPGF!#REF! -> #REF! | C46: =IF(ISBLANK(B46)," ",IF(ISNA(VLOOKUP(B46,INDIRECT(A46),1,0))," -- Code incorrect --",VLOOKUP(B46,INDIRECT(A46),7,0)&CHAR(10)&VLOOKUP(B46,INDIRECT(A46),8,0))) -> #REF!
A47: =DPGF!#REF! -> #REF! | B47: =DPGF!#REF! -> #REF!
A48: =DPGF!#REF! -> #REF! | B48: =DPGF!#REF! -> #REF! | C48: =IF(ISBLANK(B48)," ",IF(ISNA(VLOOKUP(B48,INDIRECT(A48),1,0))," -- Code incorrect --",VLOOKUP(B48,INDIRECT(A48),7,0)&CHAR(10)&VLOOKUP(B48,INDIRECT(A48),8,0))) -> #REF!
A49: =DPGF!#REF! -> #REF! | B49: =DPGF!#REF! -> #REF! | C49: CONTRÔLE DE PERMEABILITE DE COUCHE DRAINANTE Ce prix rémunère au forfait, les contrôles de perméabilité de la couche drainante conformément aux prescriptions énoncées dans le C.C.T.P et comprend notamment : • La réalisation des essais par un laboratoire agrée indépendant. Le laboratoire devra être agrée par le maître d'œuvre, • Les essais devront être réalisés tous les 200 m². L'entrepreneur proposera au maître d'œuvre la position des essais sur un plan pour agrément du maître d'œuvre, • Les essais seront transmis directement au maître d'œuvre en 3 exemplaires papiers • Toutes sujétions et aléas LE FORFAIT :
A50: =DPGF!#REF! -> #REF! | B50: =DPGF!#REF! -> #REF! | C50: CONTRÔLE DE PERMEABILITE DE COUCHE DRAINANTE Ce prix rémunère au forfait, les contrôles de perméabilité de la couche drainante conformément aux prescriptions énoncées dans le C.C.T.P et comprend notamment : • La réalisation des essais par un laboratoire agrée indépendant. Le laboratoire devra être agrée par le maître d'œuvre, • Les essais devront être réalisés tous les 200 m². L'entrepreneur proposera au maître d'œuvre la position des essais sur un plan pour agrément du maître d'œuvre, • Les essais seront transmis directement au maître d'œuvre en 3 exemplaires papiers • Toutes sujétions et aléas LE FORFAIT :
A51: =DPGF!#REF! -> #REF! | B51: =DPGF!#REF! -> #REF! | C51: CONTRÔLE DE PERMEABILITE DE COUCHE DRAINANTE Ce prix rémunère au forfait, les contrôles de perméabilité de la couche drainante conformément aux prescriptions énoncées dans le C.C.T.P et comprend notamment : • La réalisation des essais par un laboratoire agrée indépendant. Le laboratoire devra être agrée par le maître d'œuvre, • Les essais devront être réalisés tous les 200 m². L'entrepreneur proposera au maître d'œuvre la position des essais sur un plan pour agrément du maître d'œuvre, • Les essais seront transmis directement au maître d'œuvre en 3 exemplaires papiers • Toutes sujétions et aléas LE FORFAIT :
A52: =DPGF!#REF! -> #REF! | B52: =DPGF!#REF! -> #REF! | C52: CONTRÔLE DE PERMEABILITE DE COUCHE DRAINANTE Ce prix rémunère au forfait, les contrôles de perméabilité de la couche drainante conformément aux prescriptions énoncées dans le C.C.T.P et comprend notamment : • La réalisation des essais par un laboratoire agrée indépendant. Le laboratoire devra être agrée par le maître d'œuvre, • Les essais devront être réalisés tous les 200 m². L'entrepreneur proposera au maître d'œuvre la position des essais sur un plan pour agrément du maître d'œuvre, • Les essais seront transmis directement au maître d'œuvre en 3 exemplaires papiers • Toutes sujétions et aléas LE FORFAIT :
A53: =DPGF!#REF! -> #REF! | B53: =DPGF!#REF! -> #REF! | C53: CONTRÔLE DE PERMEABILITE DE COUCHE DRAINANTE Ce prix rémunère au forfait, les contrôles de perméabilité de la couche drainante conformément aux prescriptions énoncées dans le C.C.T.P et comprend notamment : • La réalisation des essais par un laboratoire agrée indépendant. Le laboratoire devra être agrée par le maître d'œuvre, • Les essais devront être réalisés tous les 200 m². L'entrepreneur proposera au maître d'œuvre la position des essais sur un plan pour agrément du maître d'œuvre, • Les essais seront transmis directement au maître d'œuvre en 3 exemplaires papiers • Toutes sujétions et aléas LE FORFAIT :
A54: =DPGF!#REF! -> #REF! | B54: =DPGF!#REF! -> #REF! | C54: CONTRÔLE DE PERMEABILITE DE COUCHE DRAINANTE Ce prix rémunère au forfait, les contrôles de perméabilité de la couche drainante conformément aux prescriptions énoncées dans le C.C.T.P et comprend notamment : • La réalisation des essais par un laboratoire agrée indépendant. Le laboratoire devra être agrée par le maître d'œuvre, • Les essais devront être réalisés tous les 200 m². L'entrepreneur proposera au maître d'œuvre la position des essais sur un plan pour agrément du maître d'œuvre, • Les essais seront transmis directement au maître d'œuvre en 3 exemplaires papiers • Toutes sujétions et aléas LE FORFAIT :
A55: =DPGF!#REF! -> #REF! | B55: =DPGF!#REF! -> #REF! | C55: =IF(ISBLANK(B55)," ",IF(ISNA(VLOOKUP(B55,INDIRECT(A55),1,0))," -- Code incorrect --",VLOOKUP(B55,INDIRECT(A55),7,0)&CHAR(10)&VLOOKUP(B55,INDIRECT(A55),8,0))) -> #REF!
A56: =DPGF!#REF! -> #REF! | B56: =DPGF!#REF! -> #REF! | C56: =IF(ISBLANK(B56)," ",IF(ISNA(VLOOKUP(B56,INDIRECT(A56),1,0))," -- Code incorrect --",VLOOKUP(B56,INDIRECT(A56),7,0)&CHAR(10)&VLOOKUP(B56,INDIRECT(A56),8,0))) -> #REF!
A57: =DPGF!#REF! -> #REF! | B57: =DPGF!#REF! -> #REF! | C57: =IF(ISBLANK(B57)," ",IF(ISNA(VLOOKUP(B57,INDIRECT(A57),1,0))," -- Code incorrect --",VLOOKUP(B57,INDIRECT(A57),7,0)&CHAR(10)&VLOOKUP(B57,INDIRECT(A57),8,0))) -> #REF!
A58: =DPGF!#REF! -> #REF! | B58: =DPGF!#REF! -> #REF! | C58: =IF(ISBLANK(B58)," ",IF(ISNA(VLOOKUP(B58,INDIRECT(A58),1,0))," -- Code incorrect --",VLOOKUP(B58,INDIRECT(A58),7,0)&CHAR(10)&VLOOKUP(B58,INDIRECT(A58),8,0))) -> #REF!
A60: =DPGF!#REF! -> #REF! | B60: =DPGF!#REF! -> #REF! | C60: =IF(ISBLANK(B60)," ",IF(ISNA(VLOOKUP(B60,INDIRECT(A60),1,0))," -- Code incorrect --",VLOOKUP(B60,INDIRECT(A60),7,0)&CHAR(10)&VLOOKUP(B60,INDIRECT(A60),8,0))) -> #REF!
A61: =DPGF!#REF! -> #REF! | B61: =DPGF!#REF! -> #REF! | C61: =IF(ISBLANK(B61)," ",IF(ISNA(VLOOKUP(B61,INDIRECT(A61),1,0))," -- Code incorrect --",VLOOKUP(B61,INDIRECT(A61),7,0)&CHAR(10)&VLOOKUP(B61,INDIRECT(A61),8,0))) -> #REF!
A62: =DPGF!#REF! -> #REF! | B62: =DPGF!#REF! -> #REF! | C62: =IF(ISBLANK(B62)," ",IF(ISNA(VLOOKUP(B62,INDIRECT(A62),1,0))," -- Code incorrect --",VLOOKUP(B62,INDIRECT(A62),7,0)&CHAR(10)&VLOOKUP(B62,INDIRECT(A62),8,0))) -> #REF!
A63: =DPGF!#REF! -> #REF! | B63: =DPGF!#REF! -> #REF! | C63: =IF(ISBLANK(B63)," ",IF(ISNA(VLOOKUP(B63,INDIRECT(A63),1,0))," -- Code incorrect --",VLOOKUP(B63,INDIRECT(A63),7,0)&CHAR(10)&VLOOKUP(B63,INDIRECT(A63),8,0))) -> #REF!
A64: =DPGF!#REF! -> #REF! | B64: =DPGF!#REF! -> #REF! | C64: =IF(ISBLANK(B64)," ",IF(ISNA(VLOOKUP(B64,INDIRECT(A64),1,0))," -- Code incorrect --",VLOOKUP(B64,INDIRECT(A64),7,0)&CHAR(10)&VLOOKUP(B64,INDIRECT(A64),8,0))) -> #REF!
A65: =DPGF!#REF! -> #REF! | B65: =DPGF!#REF! -> #REF! | C65: =IF(ISBLANK(B65)," ",IF(ISNA(VLOOKUP(B65,INDIRECT(A65),1,0))," -- Code incorrect --",VLOOKUP(B65,INDIRECT(A65),7,0)&CHAR(10)&VLOOKUP(B65,INDIRECT(A65),8,0))) -> #REF!
A66: =DPGF!#REF! -> #REF! | B66: =DPGF!#REF! -> #REF! | C66: =IF(ISBLANK(B66)," ",IF(ISNA(VLOOKUP(B66,INDIRECT(A66),1,0))," -- Code incorrect --",VLOOKUP(B66,INDIRECT(A66),7,0)&CHAR(10)&VLOOKUP(B66,INDIRECT(A66),8,0))) -> #REF!
A67: =DPGF!#REF! -> #REF! | B67: =DPGF!#REF! -> #REF! | C67: =IF(ISBLANK(B67)," ",IF(ISNA(VLOOKUP(B67,INDIRECT(A67),1,0))," -- Code incorrect --",VLOOKUP(B67,INDIRECT(A67),7,0)&CHAR(10)&VLOOKUP(B67,INDIRECT(A67),8,0))) -> #REF!
A68: =DPGF!#REF! -> #REF! | B68: =DPGF!#REF! -> #REF!
A69: =DPGF!#REF! -> #REF! | B69: =DPGF!#REF! -> #REF! | C69: =IF(ISBLANK(B69)," ",IF(ISNA(VLOOKUP(B69,INDIRECT(A69),1,0))," -- Code incorrect --",VLOOKUP(B69,INDIRECT(A69),7,0)&CHAR(10)&VLOOKUP(B69,INDIRECT(A69),8,0))) -> #REF!
A70: =DPGF!#REF! -> #REF! | B70: =DPGF!#REF! -> #REF! | C70: =IF(ISBLANK(B70)," ",IF(ISNA(VLOOKUP(B70,INDIRECT(A70),1,0))," -- Code incorrect --",VLOOKUP(B70,INDIRECT(A70),7,0)&CHAR(10)&VLOOKUP(B70,INDIRECT(A70),8,0))) -> #REF!
A71: =DPGF!#REF! -> #REF! | B71: =DPGF!#REF! -> #REF! | C71: =IF(ISBLANK(B71)," ",IF(ISNA(VLOOKUP(B71,INDIRECT(A71),1,0))," -- Code incorrect --",VLOOKUP(B71,INDIRECT(A71),7,0)&CHAR(10)&VLOOKUP(B71,INDIRECT(A71),8,0))) -> #REF!
...

Sheet modèle mise en page
A1: N° DES PRIX | E1: DESIGNATION DES OUVRAGES ET PRIX H.T. EN TOUTES LETTRES | F1: PRIX H.T. EN CHIFFRES
E4: intitulé du PRIX
E5: Ce prix rémunère (attention supprimer l'unité du prix dans le texte ex forfaitairement ….)
E6: Ce prix comprend | J6: Liste feuilles
E7: Ce prix s'applique | J7: A_PRIX_GENERAUX
E8: Ce prix se règle (dans le cas de fractionnement en %) | J8: B_TRAVAUX_PREPARATOIRES
E9: UNITE | J9: C_TERRASSEMENTS
J10: D_ASSAINISSEMENT
J11: E_AEP
J12: F_GC_RESEAUX
J13: G_ELECTRICITE
J14: H_ECLAIRAGE_SLT
J15: I_VIDEO
J16: J_MACONNERIE
J17: K_SOLS_ET_VOIRIE
J18: L_SIGNALISATION
J19: M_JEUX
J20: N_MOBILIER
J21: O_SERRURERIE
J22: P_ESPACES_VERTS

Sheet N_MOBILIER
B1: N° DES PRIX | E1: Désignation des ouvrages | F1: Description des ouvrages | G1: Désignation et description des ouvrages | H1: Unité en texte | I1: Unité
A2: =B2 -> N | B2: N | E2: N - MOBILIER | G2: =E2 -> N - MOBILIER
A3: =IF(D3="",B3&" "&C3,B3&" "&C3&" "&D3) -> N 1 | B3: N | C3: 1 | E3: CLOTURE CHATAIGNIER ALTERNEE HAUTEUR 1,2M TYPE LA FLOTILLE | F3: Ce prix rémunère au mètre la pose de clôture châtaignier conformément aux prescriptions du C.C.T.P et des pièces graphiques. Ce prix comprend : La fourniture, le chargement, le transport et le déchargement des éléments constituant la clôture, La pose des poteaux en parfait alignement et le scellement au sol par un socle béton grossier (250 kg), les terrassements correspondants y compris remblais et évacuation des excédents aux décharges, La fixation ou l’assemblage des panneaux de clôture aux poteaux, L’évacuation en décharge des déchets, y compris droits de décharge, empêchant notamment la bonne mise en place de la clôture, Le nettoyage général des zones de travaux et l’évacuation des matériaux ou produits de mise en œuvre, Y compris toutes sujétions de mise en œuvre, liées à la topographie du terrain | G3: =E3&CHAR(10)&F3 -> CLOTURE CHATAIGNIER ALTERNEE HAUTEUR 1,2M TYPE LA FLOTILLE Ce prix rémunère au mètre la pose de clôture châtaignier conformément aux prescriptions du C.C.T.P et des pièces graphiques. Ce prix comprend : La fourniture, le chargement, le transport et le déchargement des éléments constituant la clôture, La pose des poteaux en parfait alignement et le scellement au sol par un socle béton grossier (250 kg), les terrassements correspondants y compris remblais et évacuation des excédents aux décharges, La fixation ou l’assemblage des panneaux de clôture aux poteaux, L’évacuation en décharge des déchets, y compris droits de décharge, empêchant notamment la bonne mise en place de la clôture, Le nettoyage général des zones de travaux et l’évacuation des matériaux ou produits de mise en œuvre, Y compris toutes sujétions de mise en œuvre, liées à la topographie du terrain | H3: LE METRE : | I3: M
A4: =IF(D4="",B4&" "&C4,B4&" "&C4&" "&D4) -> N 2 | B4: N | C4: 2 | E4: PORTILLON CHATAIGNIER ALTERNEE HAUTEUR 1,2M TYPE LA FLOTILLE | F4: Ce prix rémunère à l’unité la pose de portillons en clôture châtaignier. Ce prix comprend : La fourniture, le chargement, le transport et le déchargement des éléments constituant les portillons, La pose des poteaux scellés au sol par un socle béton grossier (250 kg) ou sur platines, parfaitement aligné en hauteur avec la clôture, La fixation ou l’assemblage des vantaux aux poteaux, les terrassements correspondants y compris remblais et évacuation des excédents aux décharges, L’évacuation en décharge des déchets, y compris droits de décharge, empêchant notamment la bonne mise en place des portillons, Le nettoyage général des zones de travaux et l’évacuation des matériaux ou produits de mise en œuvre. Y compris toutes sujétions de mise en œuvre, liées à la topographie du terrain. | G4: =E4&CHAR(10)&F4 -> PORTILLON CHATAIGNIER ALTERNEE HAUTEUR 1,2M TYPE LA FLOTILLE Ce prix rémunère à l’unité la pose de portillons en clôture châtaignier. Ce prix comprend : La fourniture, le chargement, le transport et le déchargement des éléments constituant les portillons, La pose des poteaux scellés au sol par un socle béton grossier (250 kg) ou sur platines, parfaitement aligné en hauteur avec la clôture, La fixation ou l’assemblage des vantaux aux poteaux, les terrassements correspondants y compris remblais et évacuation des excédents aux décharges, L’évacuation en décharge des déchets, y compris droits de décharge, empêchant notamment la bonne mise en place des portillons, Le nettoyage général des zones de travaux et l’évacuation des matériaux ou produits de mise en œuvre. Y compris toutes sujétions de mise en œuvre, liées à la topographie du terrain. | H4: L’UNITE : | I4: U
A5: =IF(D5="",B5&" "&C5,B5&" "&C5&" "&D5) -> N 3 | B5: N | C5: 3 | E5: PORTAIL CHATAIGNIER ALTERNEE HAUTEUR 1,2M TYPE LA FLOTILLE | F5: Ce prix rémunère à l’unité la pose de portail en clôture châtaignier. Ce prix comprend : La fourniture, le chargement, le transport et le déchargement des éléments constituant le portail, La pose des poteaux scellés au sol par un socle béton grossier (250 kg) ou sur platines, parfaitement aligné en hauteur avec la clôture, La fixation ou l’assemblage des vantaux aux poteaux, les terrassements correspondants y compris remblais et évacuation des excédents aux décharges, L’évacuation en décharge des déchets, y compris droits de décharge, empêchant notamment la bonne mise en place du portail, Le nettoyage général des zones de travaux et l’évacuation des matériaux ou produits de mise en œuvre. Y compris toutes sujétions de mise en œuvre, liées à la topographie du terrain. | G5: =E5&CHAR(10)&F5 -> PORTAIL CHATAIGNIER ALTERNEE HAUTEUR 1,2M TYPE LA FLOTILLE Ce prix rémunère à l’unité la pose de portail en clôture châtaignier. Ce prix comprend : La fourniture, le chargement, le transport et le déchargement des éléments constituant le portail, La pose des poteaux scellés au sol par un socle béton grossier (250 kg) ou sur platines, parfaitement aligné en hauteur avec la clôture, La fixation ou l’assemblage des vantaux aux poteaux, les terrassements correspondants y compris remblais et évacuation des excédents aux décharges, L’évacuation en décharge des déchets, y compris droits de décharge, empêchant notamment la bonne mise en place du portail, Le nettoyage général des zones de travaux et l’évacuation des matériaux ou produits de mise en œuvre. Y compris toutes sujétions de mise en œuvre, liées à la topographie du terrain. | H5: L’UNITE : | I5: U
A6: =IF(D6="",B6&" "&C6,B6&" "&C6&" "&D6) -> N 4 | B6: N | C6: 4 | E6: CLOTURE NOISETIER TRESSE HAUTEUR 1,15M TYPE LOIRE 1 | F6: Ce prix rémunère au mètre la pose de clôture noisetier conformément aux prescriptions du C.C.T.P et des pièces graphiques. Ce prix comprend : La fourniture, le chargement, le transport et le déchargement des éléments constituant la clôture, La pose des poteaux en parfait alignement et le scellement au sol par un socle béton grossier (250 kg), les terrassements correspondants y compris remblais et évacuation des excédents aux décharges, La fixation ou l’assemblage des panneaux de clôture aux poteaux, L’évacuation en décharge des déchets, y compris droits de décharge, empêchant notamment la bonne mise en place de la clôture, Le nettoyage général des zones de travaux et l’évacuation des matériaux ou produits de mise en œuvre, Y compris toutes sujétions de mise en œuvre, liées à la topographie du terrain | G6: =E6&CHAR(10)&F6 -> CLOTURE NOISETIER TRESSE HAUTEUR 1,15M TYPE LOIRE 1 Ce prix rémunère au mètre la pose de clôture noisetier conformément aux prescriptions du C.C.T.P et des pièces graphiques. Ce prix comprend : La fourniture, le chargement, le transport et le déchargement des éléments constituant la clôture, La pose des poteaux en parfait alignement et le scellement au sol par un socle béton grossier (250 kg), les terrassements correspondants y compris remblais et évacuation des excédents aux décharges, La fixation ou l’assemblage des panneaux de clôture aux poteaux, L’évacuation en décharge des déchets, y compris droits de décharge, empêchant notamment la bonne mise en place de la clôture, Le nettoyage général des zones de travaux et l’évacuation des matériaux ou produits de mise en œuvre, Y compris toutes sujétions de mise en œuvre, liées à la topographie du terrain | H6: LE METRE : | I6: M
A7: =IF(D7="",B7&" "&C7,B7&" "&C7&" "&D7) -> N 5 | B7: N | C7: 5 | E7: BANCS | F7: Ce prix rémunère à l’unité, la fourniture et pose de mobilier urbain tel que décris dans le CCTP. Ce prix comprend : le terrassement complémentaire, la confection des massifs de scellement en béton dosé à 350kg/m3 de ciment CP 45, y compris façon de réservation, tiges et platine de fixation éventuelles ou carottage, ou ferraillage, le remblaiement périphérique, y compris le compactage et l'évacuation des matériaux excédentaires aux décharges, La fourniture, le chargement, le transport et le déchargement la mise en place et la fixation du mobilier. | G7: =E7&CHAR(10)&F7 -> BANCS Ce prix rémunère à l’unité, la fourniture et pose de mobilier urbain tel que décris dans le CCTP. Ce prix comprend : le terrassement complémentaire, la confection des massifs de scellement en béton dosé à 350kg/m3 de ciment CP 45, y compris façon de réservation, tiges et platine de fixation éventuelles ou carottage, ou ferraillage, le remblaiement périphérique, y compris le compactage et l'évacuation des matériaux excédentaires aux décharges, La fourniture, le chargement, le transport et le déchargement la mise en place et la fixation du mobilier.
A8: =IF(D8="",B8&" "&C8,B8&" "&C8&" "&D8) -> N 5 a | B8: N | C8: 5 | D8: a | E8: Banc "DROIT" conforme aux pièces graphiques et CCTP | F8: =E8 -> Banc "DROIT" conforme aux pièces graphiques et CCTP | G8: =F8 -> Banc "DROIT" conforme aux pièces graphiques et CCTP | H8: L’UNITE : | I8: U
A9: =IF(D9="",B9&" "&C9,B9&" "&C9&" "&D9) -> N 5 b | B9: N | C9: 5 | D9: b | E9: Banc "ANGLE DROIT" conformement aux pièces graphiques et CCTP | F9: =E9 -> Banc "ANGLE DROIT" conformement aux pièces graphiques et CCTP | G9: =F9 -> Banc "ANGLE DROIT" conformement aux pièces graphiques et CCTP | H9: L’UNITE : | I9: U
A10: =IF(D10="",B10&" "&C10,B10&" "&C10&" "&D10) -> N 5 c | B10: N | C10: 5 | D10: c | E10: Banc "ANGLE" conformement aux pièces graphiques et CCTP | F10: =E10 -> Banc "ANGLE" conformement aux pièces graphiques et CCTP | G10: =F10 -> Banc "ANGLE" conformement aux pièces graphiques et CCTP | H10: L’UNITE : | I10: U
A11: =IF(D11="",B11&" "&C11,B11&" "&C11&" "&D11) -> N 6 | B11: N | C11: 6 | E11: TABOURET TYPE ECOBAT | F11: Ce prix rémunère à l’unité, la fourniture et pose de mobilier urbain tel que décris dans le CCTP. Ce prix comprend : le terrassement complémentaire, la confection des massifs de scellement en béton dosé à 350kg/m3 de ciment CP 45, y compris façon de réservation, tiges et platine de fixation éventuelles ou carottage, ou ferraillage, le remblaiement périphérique, y compris le compactage et l'évacuation des matériaux excédentaires aux décharges, La fourniture, le chargement, le transport et le déchargement la mise en place et la fixation du mobilier. | G11: =E11&CHAR(10)&F11 -> TABOURET TYPE ECOBAT Ce prix rémunère à l’unité, la fourniture et pose de mobilier urbain tel que décris dans le CCTP. Ce prix comprend : le terrassement complémentaire, la confection des massifs de scellement en béton dosé à 350kg/m3 de ciment CP 45, y compris façon de réservation, tiges et platine de fixation éventuelles ou carottage, ou ferraillage, le remblaiement périphérique, y compris le compactage et l'évacuation des matériaux excédentaires aux décharges, La fourniture, le chargement, le transport et le déchargement la mise en place et la fixation du mobilier. | H11: L’UNITE : | I11: U
A12: =IF(D12="",B12&" "&C12,B12&" "&C12&" "&D12) -> N 7 | B12: N | C12: 7 | E12: POTELET | F12: Ce prix rémunère à l’unité, la fourniture et pose de mobilier urbain tel que décris dans le CCTP. Ce prix comprend : - la découpe du revêtement de surface et de la couche de fondation à la carotteuse, - le terrassement complémentaire, - la confection des massifs de scellement y compris façon de réservation, tiges et platine de fixation éventuelles ou carottage, ou ferraillage, - le remblaiement périphérique, y compris le compactage et l'évacuation des matériaux excédentaires aux décharges, - le cas échéant le complètement au niveau fini avec un mortier de la teinte du revêtement de surface - La fourniture, le chargement, le transport et le déchargement la mise en place et la fixation du mobilier. | G12: =E12&CHAR(10)&F12 -> POTELET Ce prix rémunère à l’unité, la fourniture et pose de mobilier urbain tel que décris dans le CCTP. Ce prix comprend : - la découpe du revêtement de surface et de la couche de fondation à la carotteuse, - le terrassement complémentaire, - la confection des massifs de scellement y compris façon de réservation, tiges et platine de fixation éventuelles ou carottage, ou ferraillage, - le remblaiement périphérique, y compris le compactage et l'évacuation des matériaux excédentaires aux décharges, - le cas échéant le complètement au niveau fini avec un mortier de la teinte du revêtement de surface - La fourniture, le chargement, le transport et le déchargement la mise en place et la fixation du mobilier.
A13: =IF(D13="",B13&" "&C13,B13&" "&C13&" "&D13) -> N 7 a | B13: N | C13: 7 | D13: a | E13: SERI potelet à boule Ø114 à sceller 800mm hors sol | F13: =E13 -> SERI potelet à boule Ø114 à sceller 800mm hors sol | G13: =F13 -> SERI potelet à boule Ø114 à sceller 800mm hors sol | H13: L’UNITE : | I13: U
A14: =IF(D14="",B14&" "&C14,B14&" "&C14&" "&D14) -> N 7 b | B14: N | C14: 7 | D14: b | E14: SERI potelet à boule Ø114 à sceller 1200mm hors sol | F14: =E14 -> SERI potelet à boule Ø114 à sceller 1200mm hors sol | G14: =F14 -> SERI potelet à boule Ø114 à sceller 1200mm hors sol | H14: L’UNITE : | I14: U
A15: =IF(D15="",B15&" "&C15,B15&" "&C15&" "&D15) -> N 7 c | B15: N | C15: 7 | D15: c | E15: SERI potelet à boule Ø114 amovible 800mm hors sol y compris boitier de sol | F15: =E15 -> SERI potelet à boule Ø114 amovible 800mm hors sol y compris boitier de sol | G15: =F15 -> SERI potelet à boule Ø114 amovible 800mm hors sol y compris boitier de sol | H15: L’UNITE : | I15: U
A16: =IF(D16="",B16&" "&C16,B16&" "&C16&" "&D16) -> N 7 d | B16: N | C16: 7 | D16: d | E16: SERI potelet à boule Ø114 amovible 1200mm hors sol y compris boitier de sol | F16: =E16 -> SERI potelet à boule Ø114 amovible 1200mm hors sol y compris boitier de sol | G16: =F16 -> SERI potelet à boule Ø114 amovible 1200mm hors sol y compris boitier de sol | H16: L’UNITE : | I16: U
A17: =IF(D17="",B17&" "&C17,B17&" "&C17&" "&D17) -> N 7 e | B17: N | C17: 7 | D17: e | E17: SERI potelet à boule Ø76 à sceller 1000mm hors sol | F17: =E17 -> SERI potelet à boule Ø76 à sceller 1000mm hors sol | G17: =F17 -> SERI potelet à boule Ø76 à sceller 1000mm hors sol | H17: L’UNITE : | I17: U
A18: =IF(D18="",B18&" "&C18,B18&" "&C18&" "&D18) -> N 7 f | B18: N | C18: 7 | D18: f | E18: SERI potelet à boule Ø76 à sceller 1200mm hors sol | F18: =E18 -> SERI potelet à boule Ø76 à sceller 1200mm hors sol | G18: =F18 -> SERI potelet à boule Ø76 à sceller 1200mm hors sol | H18: L’UNITE : | I18: U
A19: =IF(D19="",B19&" "&C19,B19&" "&C19&" "&D19) -> N 7 g | B19: N | C19: 7 | D19: g | E19: SERI potelet à boule Ø76 amovible 1000mm hors sol y compris boitier de sol | F19: =E19 -> SERI potelet à boule Ø76 amovible 1000mm hors sol y compris boitier de sol | G19: =F19 -> SERI potelet à boule Ø76 amovible 1000mm hors sol y compris boitier de sol | H19: L’UNITE : | I19: U
A20: =IF(D20="",B20&" "&C20,B20&" "&C20&" "&D20) -> N 7 h | B20: N | C20: 7 | D20: h | E20: SERI potelet à boule Ø76 amovible 1200mm hors sol y compris boitier de sol | F20: =E20 -> SERI potelet à boule Ø76 amovible 1200mm hors sol y compris boitier de sol | G20: =F20 -> SERI potelet à boule Ø76 amovible 1200mm hors sol y compris boitier de sol | H20: L’UNITE : | I20: U
A21: =IF(D21="",B21&" "&C21,B21&" "&C21&" "&D21) -> N 7 i | B21: N | C21: 7 | D21: i | E21: SERI potelet LIBER à sceller 1000mm hors sol | F21: =E21 -> SERI potelet LIBER à sceller 1000mm hors sol | G21: =F21 -> SERI potelet LIBER à sceller 1000mm hors sol | H21: L’UNITE : | I21: U
A22: =IF(D22="",B22&" "&C22,B22&" "&C22&" "&D22) -> N 7 j | B22: N | C22: 7 | D22: j | E22: SERI potelet LIBER amovible 1000mm hors sol y compris boitier de sol | F22: =E22 -> SERI potelet LIBER amovible 1000mm hors sol y compris boitier de sol | G22: =F22 -> SERI potelet LIBER amovible 1000mm hors sol y compris boitier de sol | H22: L’UNITE : | I22: U
A23: =IF(D23="",B23&" "&C23,B23&" "&C23&" "&D23) -> N 7 k | B23: N | C23: 7 | D23: k | E23: SERI potelet NEPTUNE à sceller 1000mm hors sol | F23: =E23 -> SERI potelet NEPTUNE à sceller 1000mm hors sol | G23: =F23 -> SERI potelet NEPTUNE à sceller 1000mm hors sol | H23: L’UNITE : | I23: U
A24: =IF(D24="",B24&" "&C24,B24&" "&C24&" "&D24) -> N 7 l | B24: N | C24: 7 | D24: l | E24: URBACO potelet DEMOISELLE à sceller 900mm hors sol | F24: =E24 -> URBACO potelet DEMOISELLE à sceller 900mm hors sol | G24: =F24 -> URBACO potelet DEMOISELLE à sceller 900mm hors sol | H24: L’UNITE : | I24: U
... A28: =IF(D28="",B28&" "&C28,B28&" "&C28&" "&D28) -> N 7 p | B28: N | C28: 7 | D28: p | E28: bois de pin chêne classe III, section 12cmx20cm longueur 1m, bords verticaux et horizontaux chanfreinés y compris protection de la partie enterrée au moyen d’une imprégnation protectrice imperméabilisante et antihumidité | F28: =E28 -> bois de pin chêne classe III, section 12cmx20cm longueur 1m, bords verticaux et horizontaux chanfreinés y compris protection de la partie enterrée au moyen d’une imprégnation protectrice imperméabilisante et antihumidité | G28: =F28 -> bois de pin chêne classe III, section 12cmx20cm longueur 1m, bords verticaux et horizontaux chanfreinés y compris protection de la partie enterrée au moyen d’une imprégnation protectrice imperméabilisante et antihumidité | H28: L’UNITE : | I28: U
A29: =IF(D29="",B29&" "&C29,B29&" "&C29&" "&D29) -> N 8 | B29: N | C29: 8 | E29: CLOU DE CHAUSSEE | F29: Ce prix rémunère à l’unité la fourniture et la pose de clous de chaussée en inox, acier peint ou bronze. Ce prix comprend : - la fourniture des clous - les dispositifs de fixation nécessaires, y compris percement d’éléments en pierre naturelle neuve - le remplacement éventuel des éléments en pierre naturelle abimés par le percement - toutes sujétions inhérentes à ce prix. | G29: =E29&CHAR(10)&F29 -> CLOU DE CHAUSSEE Ce prix rémunère à l’unité la fourniture et la pose de clous de chaussée en inox, acier peint ou bronze. Ce prix comprend : - la fourniture des clous - les dispositifs de fixation nécessaires, y compris percement d’éléments en pierre naturelle neuve - le remplacement éventuel des éléments en pierre naturelle abimés par le percement - toutes sujétions inhérentes à ce prix.
A30: =IF(D30="",B30&" "&C30,B30&" "&C30&" "&D30) -> N 8 a | B30: N | C30: 8 | D30: a | E30: Clous carrés inox brossé 120*120, Fusion de chez UNIVERS & CITE | F30: =E30 -> Clous carrés inox brossé 120*120, Fusion de chez UNIVERS & CITE | G30: =F30 -> Clous carrés inox brossé 120*120, Fusion de chez UNIVERS & CITE | H30: L’UNITE : | I30: U
A31: =IF(D31="",B31&" "&C31,B31&" "&C31&" "&D31) -> N 8 b | B31: N | C31: 8 | D31: b | E31: Clous carrés inox brossé 80*80, Fusion de chez UNIVERS & CITE | F31: =E31 -> Clous carrés inox brossé 80*80, Fusion de chez UNIVERS & CITE | G31: =F31 -> Clous carrés inox brossé 80*80, Fusion de chez UNIVERS & CITE | H31: L’UNITE : | I31: U
A32: =IF(D32="",B32&" "&C32,B32&" "&C32&" "&D32) -> N 9 | B32: N | C32: 9 | E32: CORBEILLE | F32: Ce prix rémunère à l’unité, la fourniture et pose de mobilier urbain tel que décris dans le CCTP. Ce prix comprend : - la découpe du revêtement de surface et de la couche de fondation à la carotteuse, - le terrassement complémentaire, - la confection des massifs de scellement en béton dosé à 350kg/m3 de ciment CP 45, y compris façon de réservation, tiges et platine de fixation éventuelles ou carottage, ou ferraillage, - le remblaiement périphérique, y compris le compactage et l'évacuation des matériaux excédentaires aux décharges, - le cas échéant le complètement au niveau fini avec un mortier de la teinte du revêtement de surface - La fourniture, le chargement, le transport et le déchargement la mise en place et la fixation du mobilier. | G32: =E32&CHAR(10)&F32 -> CORBEILLE Ce prix rémunère à l’unité, la fourniture et pose de mobilier urbain tel que décris dans le CCTP. Ce prix comprend : - la découpe du revêtement de surface et de la couche de fondation à la carotteuse, - le terrassement complémentaire, - la confection des massifs de scellement en béton dosé à 350kg/m3 de ciment CP 45, y compris façon de réservation, tiges et platine de fixation éventuelles ou carottage, ou ferraillage, - le remblaiement périphérique, y compris le compactage et l'évacuation des matériaux excédentaires aux décharges, - le cas échéant le complètement au niveau fini avec un mortier de la teinte du revêtement de surface - La fourniture, le chargement, le transport et le déchargement la mise en place et la fixation du mobilier. | H32: L’UNITE : | I32: U
A33: =IF(D33="",B33&" "&C33,B33&" "&C33&" "&D33) -> N 10 | B33: N | C33: 10 | E33: BORNE | F33: Ce prix rémunère à l’unité, la fourniture et pose de mobilier urbain tel que décris dans le CCTP. Ce prix comprend : - le terrassement complémentaire, - la confection des massifs de scellement y compris façon de réservation, tiges et platine de fixation éventuelles ou carottage, ou ferraillage, - le remblaiement périphérique, y compris le compactage et l'évacuation des matériaux excédentaires aux décharges, - le cas échéant le complètement au niveau fini avec un mortier de la teinte du revêtement de surface - La fourniture, le chargement, le transport et le déchargement la mise en place et la fixation du mobilier. | G33: =E33&CHAR(10)&F33 -> BORNE Ce prix rémunère à l’unité, la fourniture et pose de mobilier urbain tel que décris dans le CCTP. Ce prix comprend : - le terrassement complémentaire, - la confection des massifs de scellement y compris façon de réservation, tiges et platine de fixation éventuelles ou carottage, ou ferraillage, - le remblaiement périphérique, y compris le compactage et l'évacuation des matériaux excédentaires aux décharges, - le cas échéant le complètement au niveau fini avec un mortier de la teinte du revêtement de surface - La fourniture, le chargement, le transport et le déchargement la mise en place et la fixation du mobilier.
A34: =IF(D34="",B34&" "&C34,B34&" "&C34&" "&D34) -> N 10 a | B34: N | C34: 10 | D34: a | E34: GIRPAV borne GBNA | F34: =E34 -> GIRPAV borne GBNA | G34: =F34 -> GIRPAV borne GBNA | H34: L’UNITE : | I34: U
A35: =IF(D35="",B35&" "&C35,B35&" "&C35&" "&D35) -> N 10 b | B35: N | C35: 10 | D35: b | E35: GIRPAV borne GBVA | F35: =E35 -> GIRPAV borne GBVA | G35: =F35 -> GIRPAV borne GBVA | H35: L’UNITE : | I35: U
A36: =IF(D36="",B36&" "&C36,B36&" "&C36&" "&D36) -> N 10 c | B36: N | C36: 10 | D36: c | E36: GIRPAV borne GBAG | F36: =E36 -> GIRPAV borne GBAG | G36: =F36 -> GIRPAV borne GBAG | H36: L’UNITE : | I36: U
A37: =IF(D37="",B37&" "&C37,B37&" "&C37&" "&D37) -> N 10 d | B37: N | C37: 10 | D37: d | E37: GIRPAV borne GBCH | F37: =E37 -> GIRPAV borne GBCH | G37: =F37 -> GIRPAV borne GBCH | H37: L’UNITE : | I37: U
A38: =IF(D38="",B38&" "&C38,B38&" "&C38&" "&D38) -> N 10 e | B38: N | C38: 10 | D38: e | E38: LEBEAU borne rustique | F38: =E38 -> LEBEAU borne rustique | G38: =F38 -> LEBEAU borne rustique | H38: L’UNITE : | I38: U
A39: =IF(D39="",B39&" "&C39,B39&" "&C39&" "&D39) -> N 10 f | B39: N | C39: 10 | D39: f | E39: JONCHERE REPLIK borne tronc conique 1 | F39: =E39 -> JONCHERE REPLIK borne tronc conique 1 | G39: =F39 -> JONCHERE REPLIK borne tronc conique 1 | H39: L’UNITE : | I39: U
A40: =IF(D40="",B40&" "&C40,B40&" "&C40&" "&D40) -> N 10 g | B40: N | C40: 10 | D40: g | E40: JONCHERE REPLIK borne tronc conique 2 | F40: =E40 -> JONCHERE REPLIK borne tronc conique 2 | G40: =F40 -> JONCHERE REPLIK borne tronc conique 2 | H40: L’UNITE : | I40: U
A41: =IF(D41="",B41&" "&C41,B41&" "&C41&" "&D41) -> N 10 h | B41: N | C41: 10 | D41: h | E41: GIRPAV borne GBCH | F41: =E41 -> GIRPAV borne GBCH | G41: =F41 -> GIRPAV borne GBCH | H41: L’UNITE : | I41: U
A42: =IF(D42="",B42&" "&C42,B42&" "&C42&" "&D42) -> N 11 | B42: N | C42: 11 | E42: BORNE ESCAMOTABLE | F42: Ce prix rémunère à l’unité, la fourniture et pose de mobilier urbain tel que décris dans le CCTP. Ce prix comprend : - la découpe du revêtement de surface et de la couche de fondation à la carotteuse, - le terrassement complémentaire, - la confection des massifs de scellement en béton dosé à 350kg/m3 de ciment CP 45, y compris façon de réservation, tiges et platine de fixation éventuelles ou carottage, ou ferraillage, - le remblaiement périphérique, y compris le compactage et l'évacuation des matériaux excédentaires aux décharges, - le cas échéant le complètement au niveau fini avec un mortier de la teinte du revêtement de surface - La fourniture, le chargement, le transport et le déchargement la mise en place et la fixation du mobilier. | G42: =E42&CHAR(10)&F42 -> BORNE ESCAMOTABLE Ce prix rémunère à l’unité, la fourniture et pose de mobilier urbain tel que décris dans le CCTP. Ce prix comprend : - la découpe du revêtement de surface et de la couche de fondation à la carotteuse, - le terrassement complémentaire, - la confection des massifs de scellement en béton dosé à 350kg/m3 de ciment CP 45, y compris façon de réservation, tiges et platine de fixation éventuelles ou carottage, ou ferraillage, - le remblaiement périphérique, y compris le compactage et l'évacuation des matériaux excédentaires aux décharges, - le cas échéant le complètement au niveau fini avec un mortier de la teinte du revêtement de surface - La fourniture, le chargement, le transport et le déchargement la mise en place et la fixation du mobilier. | H42: L’UNITE : | I42: U
A43: =IF(D43="",B43&" "&C43,B43&" "&C43&" "&D43) -> N 12 | B43: N | C43: 12 | E43: BARRIERE DE VILLE | F43: Ce prix rémunère à l’unité, la fourniture et pose de mobilier urbain tel que décris dans le CCTP. Ce prix comprend : - la découpe du revêtement de surface et de la couche de fondation à la carotteuse, - le terrassement complémentaire, - la confection des massifs de scellement en béton dosé à 350kg/m3 de ciment CP 45, y compris façon de réservation, tiges et platine de fixation éventuelles ou carottage, ou ferraillage, - le remblaiement périphérique, y compris le compactage et l'évacuation des matériaux excédentaires aux décharges, - le cas échéant le complètement au niveau fini avec un mortier de la teinte du revêtement de surface - La fourniture, le chargement, le transport et le déchargement la mise en place et la fixation du mobilier. | G43: =E43&CHAR(10)&F43 -> BARRIERE DE VILLE Ce prix rémunère à l’unité, la fourniture et pose de mobilier urbain tel que décris dans le CCTP. Ce prix comprend : - la découpe du revêtement de surface et de la couche de fondation à la carotteuse, - le terrassement complémentaire, - la confection des massifs de scellement en béton dosé à 350kg/m3 de ciment CP 45, y compris façon de réservation, tiges et platine de fixation éventuelles ou carottage, ou ferraillage, - le remblaiement périphérique, y compris le compactage et l'évacuation des matériaux excédentaires aux décharges, - le cas échéant le complètement au niveau fini avec un mortier de la teinte du revêtement de surface - La fourniture, le chargement, le transport et le déchargement la mise en place et la fixation du mobilier.
...
