Workbook
Name BCF: Tableau1[BCF]
Name Nom_assurance: Tableau1[Nom Assurance]

Sheet Formulaire
A1: RECHERCHE ASSURANCES par Nom | G1: RECHERCHE ASSURANCES par Code
C2: METTRE LE NOM RECHERCHE EN MAJUSCULE + ENTRER | I2: METTRE LE CODE + ENTRER
A6: Franchise | C6: Elements non compris BDG | E6: Spécificités | G6: Franchise | I6: Elements non compris BDG | K6: Spécificités
A7: =INDEX(Tableau1[],MATCH(Formulaire!$B$4,Nom_assurance,),10) -> #N/A | C7: =INDEX(Tableau1[],MATCH(Formulaire!$B$4,Nom_assurance,),12) -> #N/A | E7: =INDEX(Tableau1[],MATCH(Formulaire!$B$4,Nom_assurance,),13) -> #N/A | G7: =INDEX(Tableau1[],MATCH(Formulaire!$H$4,BCF,),11) -> #N/A | I7: =INDEX(Tableau1[],MATCH(Formulaire!$H$4,BCF,),13) -> #N/A | K7: =INDEX(Tableau1[],MATCH(Formulaire!$H$4,BCF,),14) -> #N/A
C9: PROCESS | I9: PROCESS
B10: =INDEX(Tableau1[],MATCH(Formulaire!$B$4,Nom_assurance,),11) -> #N/A | H10: =INDEX(Tableau1[],MATCH(Formulaire!$H$4,BCF,),12) -> #N/A
A12: Adresse | B12: Mail : | C12: =IF(ISBLANK(INDEX(Tableau1[],MATCH(Formulaire!$B$4,Nom_assurance,),9)),"",INDEX(Tableau1[],MATCH(Formulaire!$B$4,Nom_assurance,),9)) -> #N/A | G12: Adresse | H12: Mail : | I12: =IF(ISBLANK(INDEX(Tableau1[],MATCH(Formulaire!$H$4,BCF,),10)),"",INDEX(Tableau1[],MATCH(Formulaire!$H$4,BCF,),10)) -> #N/A
A13: =INDEX(Tableau1[],MATCH(Formulaire!$B$4,Nom_assurance,),7) -> #N/A | G13: =INDEX(Tableau1[],MATCH(Formulaire!$H$4,BCF,),8) -> #N/A
B15: Tél : | C15: =IF(ISBLANK(INDEX(Tableau1[],MATCH(Formulaire!$B$4,Nom_assurance,),8)),"",INDEX(Tableau1[],MATCH(Formulaire!$B$4,Nom_assurance,),8)) -> #N/A | H15: Tél : | I15: =IF(ISBLANK(INDEX(Tableau1[],MATCH(Formulaire!$H$4,BCF,),9)),"",INDEX(Tableau1[],MATCH(Formulaire!$H$4,BCF,),9)) -> #N/A

Sheet Assurances
A1: BCF | B1: Nom Assurance | C1: Groupe | D1: Adresse | E1: CP | F1: Ville | G1: Adresse complete | H1: Téléphone | I1: Mail | J1: Indication Franchise | K1: Process Paiement | L1: Élément Non Compris BDG | M1: Spécificités
A2: 992 | B2: ACTE IARD | D2: Espace Européen de l'entreprise - 14 avenue de l'Europe | E2: 67300 | F2: Schiltigheim | G2: =D2& " - "&E2& " " &F2 -> Espace Européen de l'entreprise - 14 avenue de l'Europe - 67300 Schiltigheim | J2: - | K2: Envoi en AR | L2: Les rétros Les miroirs de rétros | M2: -
A3: 2 | B3: ACTIVE ASSURANCE | D3: 71 rue de Billancourt | E3: 92100 | F3: Boulogne Billancourt | G3: =D3& " - "&E3& " " &F3 -> 71 rue de Billancourt - 92100 Boulogne Billancourt | J3: - | K3: Envoi en AR | L3: - | M3: /!\ Chèque de caution ou empreinte CB OBLIGATOIREMENT
A4: 279 | B4: AGPM | D4: Rue Nicolas Appert Quartier Sainte Musse | E4: 83086 | F4: Toulon Cedex 9 | G4: =D4& " - "&E4& " " &F4 -> Rue Nicolas Appert Quartier Sainte Musse - 83086 Toulon Cedex 9 | J4: - | K4: Envoi en AR | L4: - | M4: -
A5: 862 | B5: AIOI NISSAY TOYOTA | D5: - | G5: =D5& " - "&E5& " " &F5 -> - - | J5: - | K5: Envoi par mail | L5: - | M5: Immat + N°contrat obligatoire CC à envoyer par mail si dossier complet
A6: 532 | B6: ALLIANZ EUROCOURTAGE | D6: Voir CV | G6: =D6& " - "&E6& " " &F6 -> Voir CV - | J6: - | K6: Envoi par mail | L6: Tout est marqué sur la CV Franchise Bris de glaces Optiques de Phares | M6: /!\ Chèque ou Empreinte CB OBLIGATOIREMENT
A7: 522 | B7: ALLIANZ IART | D7: 1 cours Michelet CS 30 051 | E7: 92076 | F7: Paris la Défense Cedex | G7: =D7& " - "&E7& " " &F7 -> 1 cours Michelet CS 30 051 - 92076 Paris la Défense Cedex | J7: - | K7: Envoi en AR | L7: Tout est marqué sur la CV Franchise Bris de glaces Optiques de Phares | M7: /!\ Chèque ou Empreinte CB OBLIGATOIREMENT ATTENTION LES CC SONT REMBOURSEES AU CLIENT
A8: 3 | B8: ALLSECUR | D8: 1 cours Michelet CS 30 051 | E8: 92076 | F8: Paris la Défense Cedex | G8: =D8& " - "&E8& " " &F8 -> 1 cours Michelet CS 30 051 - 92076 Paris la Défense Cedex | J8: - | K8: Envoi en AR | L8: - | M8: /!\ Chèque de caution ou empreinte CB OBLIGATOIREMENT
A9: 804 | B9: AMAGUIZ | D9: 130 Avenue Claud Antoine Peccot | E9: 44700 | F9: Orvault | G9: =D9& " - "&E9& " " &F9 -> 130 Avenue Claud Antoine Peccot - 44700 Orvault | J9: - | K9: Envoi par mail | L9: Phares en polycarbonate | M9: / !\ Devis Obligatoire AVANT Travaux
A10: 801 | B10: AMF | D10: 66 rue de Sotteville | E10: 760000 | F10: Rouen | G10: =D10& " - "&E10& " " &F10 -> 66 rue de Sotteville - 760000 Rouen | J10: H – 15% de franchise HSF – Sans franchise / !\ Pas de franchise sur la réparation | K10: Envoi en AR | L10: - | M10: / !\ Attention ne pas facturer l'interrogation construction et les produits connexes
A11: 4 | B11: AMV | D11: Rue Miguel Cervantes | E11: 33700 | F11: Mérignac | G11: =D11& " - "&E11& " " &F11 -> Rue Miguel Cervantes - 33700 Mérignac | J11: - | K11: Envoi en AR | L11: - | M11: /!\ Chèque de caution ou empreinte CB OBLIGATOIREMENT
A12: 5 | B12: AON | D12: 31-35 rue de la Fédération | E12: 75717 | F12: Paris Cedex 15 | G12: =D12& " - "&E12& " " &F12 -> 31-35 rue de la Fédération - 75717 Paris Cedex 15 | J12: - | K12: Envoi en AR | L12: - | M12: -
A13: 169 | B13: AREAS | D13: 49 rue de Miromesnil | E13: 75008 | F13: Paris | G13: =D13& " - "&E13& " " &F13 -> 49 rue de Miromesnil - 75008 Paris | J13: BG – Sans franchise BG(55) – Franchise 55€ (Montant variable en fonction du nombre) BGS – 25% de franchise / !\ Pas de franchise sur réparation | K13: Envoi en AR | L13: - | M13: /!\ Hormis AREAS QUILLIEC, Prendre Chèque de caution ou empreinte CB OBLIGATOIREMENT
A14: 181 | B14: AVIVA | D14: 70 avenue de l'Europe | E14: 92270 | F14: Bois Colombes | G14: =D14& " - "&E14& " " &F14 -> 70 avenue de l'Europe - 92270 Bois Colombes | J14: - | K14: Envoi en AR | L14: - | M14: -
A15: 995 | B15: AXA CORPORATE SOLUTIONS | D15: CSE IARD - TSA 81 110 | E15: 69386 | F15: SAINT PRIEST CEDEX 9 | G15: =D15& " - "&E15& " " &F15 -> CSE IARD - TSA 81 110 - 69386 SAINT PRIEST CEDEX 9 | J15: 20% Franchise. Min : 20€ - Max : 120€ | K15: Envoi Lettre Simple | L15: - | M15: /!\ Chèque de caution ou empreinte CB OBLIGATOIREMENT
A16: 943 | B16: AXA France IARD | D16: CSE IARD - TSA 81 110 | E16: 69386 | F16: SAINT PRIEST CEDEX 9 | G16: =D16& " - "&E16& " " &F16 -> CSE IARD - TSA 81 110 - 69386 SAINT PRIEST CEDEX 9 | J16: 20% Franchise. Min : 20€ - Max : 120€ | K16: Envoi Lettre Simple | L16: - | M16: /!\ Chèque de caution ou empreinte CB OBLIGATOIREMENT
A17: 104 | B17: BANQUE POPULAIRE (BPCE IARD) | D17: Route Chaban | E17: 79180 | F17: Chauffray | G17: =D17& " - "&E17& " " &F17 -> Route Chaban - 79180 Chauffray | J17: - | K17: Envoi en AR | L17: - | M17: / !\ Le client déclare OBLIGATOIREMENT son sinistre et donne son dernier CT.
A18: 807 | B18: BANQUE POSTALE | D18: TSA 11 602 | E18: 35516 | F18: Cesson Sevigne Cedex | G18: =D18& " - "&E18& " " &F18 -> TSA 11 602 - 35516 Cesson Sevigne Cedex | J18: - | K18: Envoi en AR | L18: Miroir des rétros Les feux arrière Les clignotants arrière | M18: /!\Chèque de caution ou empreinte CB OBLIGATOIREMENT
A19: 6 | B19: C.A.M BTP | D19: Espace Européen de l'entreprise - 14 avenue de l'Europe - 67300 Schiltigheim | G19: =D19& " - "&E19& " " &F19 -> Espace Européen de l'entreprise - 14 avenue de l'Europe - 67300 Schiltigheim - | J19: - | K19: Envoi en AR | L19: - | M19: -
A20: 549 | B20: CAISSE D'EPARGNE (BPCEA) | D20: 88 avenue de France | E20: 75013 | F20: Paris | G20: =D20& " - "&E20& " " &F20 -> 88 avenue de France - 75013 Paris | J20: - | K20: Envoi en AR | L20: - | M20: /!\Chèque de caution ou empreinte CB OBLIGATOIREMENT
A21: 908 | B21: CAISSE MEUSIENNE D'ASSURANCES MUTUELLES (CMAM) | D21: 22 rue du Dr Neve | E21: 55000 | F21: Bar-le-Duc | G21: =D21& " - "&E21& " " &F21 -> 22 rue du Dr Neve - 55000 Bar-le-Duc | J21: - | K21: Envoi en AR | L21: - | M21: -
A22: 173 | B22: CALYPSO FILIALE ALLSECUR | D22: 87 Rue Richelieu | E22: 75009 | F22: Paris | G22: =D22& " - "&E22& " " &F22 -> 87 Rue Richelieu - 75009 Paris | K22: Mail si dossier complet
A23: 809 | B23: CARDIF IARD | D23: 31 rue de Sotteville CS41200 | E23: 76177 | F23: Rouen Cedex | G23: =D23& " - "&E23& " " &F23 -> 31 rue de Sotteville CS41200 - 76177 Rouen Cedex | J23: - | K23: Envoi en AR | L23: - | M23: RETARD DANS TRAITEMENT DES CC A EVITER /!\Chèque de caution ou empreinte CB OBLIGATOIREMENT
A24: 945 | B24: CARMA | D24: auto solution BP 24 246 | E24: 72004 | F24: Le mans cedex 1 | G24: =D24& " - "&E24& " " &F24 -> auto solution BP 24 246 - 72004 Le mans cedex 1 | J24: - | K24: Envoi en AR | L24: - | M24: -
A25: 941 | B25: COVEA FLEET | D25: 160 rue Henri Champion | E25: 72035 | F25: Le mans cedex 1 | G25: =D25& " - "&E25& " " &F25 -> 160 rue Henri Champion - 72035 Le mans cedex 1 | J25: - | K25: Envoi en AR | L25: - | M25: -
A26: 959 | B26: COVEA RISK | D26: BP 24 246 | E26: 72004 | F26: Le mans cedex 1 | G26: =D26& " - "&E26& " " &F26 -> BP 24 246 - 72004 Le mans cedex 1 | J26: - | K26: Envoi en AR | L26: - | M26: -
A27: 666 | B27: CREDIT MUTUEL et CIC (ACM) | D27: 4 rue Frédéric Guillaume Raiffesein | E27: 67906 | F27: Strasbourg | G27: =D27& " - "&E27& " " &F27 -> 4 rue Frédéric Guillaume Raiffesein - 67906 Strasbourg | J27: - | K27: Envoi par mail, joindre RIB | L27: - | M27: / !\ Expert Obligatoire AVANT Travaux
A28: 109 | B28: CREDIT MUTUEL DU NORD (ACM) | D28: 4 rue Frédéric Guillaume Raiffesein | E28: 67906 | F28: Strasbourg | G28: =D28& " - "&E28& " " &F28 -> 4 rue Frédéric Guillaume Raiffesein - 67906 Strasbourg | J28: - | K28: Envoi par mail, joindre RIB | L28: - | M28: /!\ Expert Obligatoire AVANT Travaux -
A29: 601 | B29: DIRECT ASSURANCE - AVANSSUR | D29: 48 rue Carnot - 92150 Suresnes | G29: =D29& " - "&E29& " " &F29 -> 48 rue Carnot - 92150 Suresnes - | J29: 25% de franchise | K29: Envoi en AR | L29: - | M29: / !\ Chèque de caution ou Empreinte CB OBLIGATOIREMENT Prendre 2 photos, 1 du pare brise et 1 de l'avant du véhicule pour voir l'immat Ne pas facture les frais de nettoyage et Interrogation Immat Facturer le Kit de colle constructeur, pas le notre
A30: 937 | B30: EUROFIL | D30: Service indemnisation -76823 MONT SAINT AIGNAN Cedex | G30: =D30& " - "&E30& " " &F30 -> Service indemnisation -76823 MONT SAINT AIGNAN Cedex - | J30: - | K30: Envoi en AR | L30: - | M30: /!\Chèque de caution ou empreinte CB OBLIGATOIREMENT
A31: F907 | B31: FILIA - MAIF | D31: Service indemnisation - 79018 Niort Cedex 9 | G31: =D31& " - "&E31& " " &F31 -> Service indemnisation - 79018 Niort Cedex 9 - | J31: I – Pas de prise en charge S – 50€ de franchise D – 50€ de franchise P – 50€ de franchise FP – Sans franchise L – Sans Franchise / !\ Pas de franchise sur réparation | K31: Envoi en AR | L31: Les rétros Les miroirs de rétros Les toits en verre non ouvrants Les lanterneaux de caravane Les lunettes arrière intégrées aux capotes Les phares en polycarbonate suite au vieillissement | M31: -
A32: 345 | B32: G.M.F | D32: 148 rue Anatole France - 92300 Levallois Perret | G32: =D32& " - "&E32& " " &F32 -> 148 rue Anatole France - 92300 Levallois Perret - | J32: - | K32: Envoi par Mail si dossier complet | L32: - | M32: / !\ N° de SINISTRE OBLIGATOIRE pour la facturation + Kilométrage + Date de sinistre / Les CC peuvent être envoyées par mail
A33: 376 | B33: GAN | D33: Service Indemnisation TSA 64444 35090 Rennes cedex 9 | G33: =D33& " - "&E33& " " &F33 -> Service Indemnisation TSA 64444 35090 Rennes cedex 9 - | J33: - | K33: Envoi en AR | L33: - | M33: -
A34: 128 | B34: GENERALI | D34: 2 Rue Pillet Will - 75456 Paris Cedex 09 | G34: =D34& " - "&E34& " " &F34 -> 2 Rue Pillet Will - 75456 Paris Cedex 09 - | J34: - | K34: Envoi par AR | L34: - | M34: Tout est inscrit sur la CV en bas à gauche Si pas de mention, non assuré BDG /!\ Prendre chèque ou CB caution pour un traitement plus rapide !
A35: 113 | B35: GROUPAMA CENTRE ATLANTIQUE | D35: 2 avenue de limoges 79000 Niort | G35: =D35& " - "&E35& " " &F35 -> 2 avenue de limoges 79000 Niort - | J35: - | K35: Envoi en AR | L35: Rétros Feux arrière Clignotants arrière Des phares antibrouillards Glace de toit ouvrant non d’origine Déflecteurs de portes | M35: /!\ Il existe plusieurs Groupama (Centre Atlantique, Centre Manche …) Bien regarder la CV pour être sur de l'adresse de Facturation Faire attention à la Facturation, plus de 800 HT expertise sur facture !
A36: 9005 | B36: IPAC 64 | D36: 47 rue de Monceau - 75008 Paris | G36: =D36& " - "&E36& " " &F36 -> 47 rue de Monceau - 75008 Paris - | J36: - | K36: Envoi en AR | L36: - | M36: -
A37: 535 | B37: L'EQUITE | D37: 2 Rue Pillet Will - 75009 Paris | G37: =D37& " - "&E37& " " &F37 -> 2 Rue Pillet Will - 75009 Paris - | J37: - | K37: Envoi en AR | L37: - | M37: /!\Chèque de caution ou empreinte CB OBLIGATOIREMENT
A38: 1038 | B38: L'OLIVIER ASSURANCE | D38: 251 rue du Faubourg Saint Martin - 75010 Paris | G38: =D38& " - "&E38& " " &F38 -> 251 rue du Faubourg Saint Martin - 75010 Paris - | J38: Mention sur la carte verte | K38: Envoi par Mail, joindre le RIB | L38: - | M38: / !\ N° de SINISTRE OBLIGATOIRE + BON de COMMANDE (Mettre du blanco sur le tarif des pièces) + CT pour la facturation L'olivier se base sur un logiciel CERTIGLASS. Le remboursement sera moindre que notre facture
A39: 628 | B39: LYBERNET | D39: BP 24246 - 72004 Le Mans CEDEX 1 | G39: =D39& " - "&E39& " " &F39 -> BP 24246 - 72004 Le Mans CEDEX 1 - | J39: - | K39: Envoi en AR | L39: - | M39: / !\ Le client déclare OBLIGATOIREMENT son sinistre pour la facturation
A40: 368 | B40: M.A.C.S.F / LIBEA | D40: 10 cours du triangle de l'arche TSA 40100 - 92919 LA DEFENSE Cedex | G40: =D40& " - "&E40& " " &F40 -> 10 cours du triangle de l'arche TSA 40100 - 92919 LA DEFENSE Cedex - | J40: BG – Sans franchise BGA – Franchise 38€ BGB – Franchise 50€ BGC – Franchise 75€ en remplacement, 20€ en rép | K40: Envoi en AR | L40: Toit panoramique Antibrouillard Glace de rétroviseur | M40: -
...
