Workbook
Name test: OFFSET(DONNEESOld!$O$1,,COUNTA(DONNEESOld!$1:$1),-7,)
Name test: OFFSET(DONNEES!$P$1,,COUNTA(DONNEES!$1:$1),-7,)

Sheet MARCHE CONTRAT PV
B1: SUIVI CHANTIER | AC1: LIEN DOSSIER
A2: CHANTIER | H2: CONTRAT | U2: VALIDATION | Z2: AVANCEMENT ST | AA2: PV RECEPTION
A3: Ref | B3: MO | C3: MOE | D3: CT | E3: CHANTIER | F3: ADRESSE | G3: CP | H3: SOUS TRAITANT | I3: PU SOUS TRAITANT | J3: INDICE BC | K3: TX | L3: MONTANT BC | M3: MARCHEEXT | N3: MARCHEINT | O3: RG_5% | P3: P_2% | Q3: BFT_5% | R3: E 3% | S3: AUTRE | T3: OBSERVATION | U3: STATUT | V3: SIGNATURE | W3: ENVOIE | X3: RECEP | Y3: ACCEPTATION | AA3: DATE | AB3: RESERVES
A4: =CONCATENATE(Tableau16[[#This Row],[CT]],Tableau16[[#This Row],[CHANTIER]],Tableau16[[#This Row],[SOUS TRAITANT]],Tableau16[[#This Row],[MO]]) -> ARNAUDBOBIGNYASPIRIT | B4: SPIRIT | C4: ARCADE | D4: ARNAUD | E4: BOBIGNY | F4: 13 BIS RUE DU PONT | G4: 7700 | H4: A | I4: =VLOOKUP(H4,Tableau11[[SOUS TRAITANT]:[PU MARCHE]],3,FALSE) -> 1100 | J4: a | K4: CFO | L4: 100000 | M4: =IF(Tableau16[[#This Row],[MARCHEINT]]>1,Tableau16[[#This Row],[MONTANT BC]]*30%,Tableau16[[#This Row],[MONTANT BC]]) -> 0 | N4: =IF(Tableau16[[#This Row],[MARCHEEXT]]>=1,((Tableau16[[#This Row],[MONTANT BC]]*70%)-(Tableau16[[#This Row],[RG_5%]]+Tableau16[[#This Row],[P_2%]]+Tableau16[[#This Row],[BFT_5%]]+Tableau16[[#This Row],[E 3%]]+Tableau16[[#This Row],[AUTRE]])),(Tableau16[[#This Row],[MONTANT BC]]-(Tableau16[[#This Row],[RG_5%]]+Tableau16[[#This Row],[P_2%]]+Tableau16[[#This Row],[BFT_5%]]+Tableau16[[#This Row],[E 3%]]+Tableau16[[#This Row],[AUTRE]]))) -> 55000 | O4: =Tableau16[MONTANT BC]*5% -> 5000 | P4: =Tableau16[[#This Row],[MONTANT BC]]*2% -> 2000 | Q4: =Tableau16[[#This Row],[MONTANT BC]]*5% -> 5000 | R4: =(Tableau16[[#This Row],[MONTANT BC]]*3%) -> 3000 | U4: =IF(AND(J4="",W4="",Y4=""),"",IF(AND(J4>1,W4=""),"EN_COURS",IF(AND(W4>1,Y4="",W4+21<=TODAY()),"VALIDER_PAR_DEFFAUT",IF(AND(W4>1,Y4=""),"ENVOYER",IF(Y4>1,"VALIDER",""))))) -> VALIDER_PAR_DEFFAUT | W4: 43831 | AB4: NON
A5: =CONCATENATE(Tableau16[[#This Row],[CT]],Tableau16[[#This Row],[CHANTIER]],Tableau16[[#This Row],[SOUS TRAITANT]],Tableau16[[#This Row],[MO]]) -> ARNAUDST MICHEL SUR ORGEASPIRIT | B5: SPIRIT | D5: ARNAUD | E5: ST MICHEL SUR ORGE | H5: A | I5: =VLOOKUP(H5,Tableau11[[SOUS TRAITANT]:[PU MARCHE]],3,FALSE) -> 1100 | J5: a | K5: CFO | L5: 100000 | M5: =IF(Tableau16[[#This Row],[MARCHEINT]]>1,Tableau16[[#This Row],[MONTANT BC]]*30%,Tableau16[[#This Row],[MONTANT BC]]) -> 0 | N5: =IF(Tableau16[[#This Row],[MARCHEEXT]]>=1,((Tableau16[[#This Row],[MONTANT BC]]*70%)-(Tableau16[[#This Row],[RG_5%]]+Tableau16[[#This Row],[P_2%]]+Tableau16[[#This Row],[BFT_5%]]+Tableau16[[#This Row],[E 3%]]+Tableau16[[#This Row],[AUTRE]])),(Tableau16[[#This Row],[MONTANT BC]]-(Tableau16[[#This Row],[RG_5%]]+Tableau16[[#This Row],[P_2%]]+Tableau16[[#This Row],[BFT_5%]]+Tableau16[[#This Row],[E 3%]]+Tableau16[[#This Row],[AUTRE]]))) -> 55000 | O5: =Tableau16[MONTANT BC]*5% -> 5000 | P5: =Tableau16[[#This Row],[MONTANT BC]]*2% -> 2000 | Q5: =Tableau16[[#This Row],[MONTANT BC]]*5% -> 5000 | R5: =(Tableau16[[#This Row],[MONTANT BC]]*3%) -> 3000 | U5: =IF(AND(J5="",W5="",Y5=""),"",IF(AND(J5>1,W5=""),"EN_COURS",IF(AND(W5>1,Y5="",W5+21<=TODAY()),"VALIDER_PAR_DEFFAUT",IF(AND(W5>1,Y5=""),"ENVOYER",IF(Y5>1,"VALIDER",""))))) -> VALIDER | W5: 44032 | Y5: 44042
A6: =CONCATENATE(Tableau16[[#This Row],[CT]],Tableau16[[#This Row],[CHANTIER]],Tableau16[[#This Row],[SOUS TRAITANT]],Tableau16[[#This Row],[MO]]) -> ARNAUDST MICHEL SUR ORGEASPIRIT | B6: SPIRIT | D6: ARNAUD | E6: ST MICHEL SUR ORGE | H6: A | I6: =VLOOKUP(H6,Tableau11[[SOUS TRAITANT]:[PU MARCHE]],3,FALSE) -> 1100 | J6: a | K6: CFO | L6: 100000 | M6: =IF(Tableau16[[#This Row],[MARCHEINT]]>1,Tableau16[[#This Row],[MONTANT BC]]*30%,Tableau16[[#This Row],[MONTANT BC]]) -> 0 | N6: =IF(Tableau16[[#This Row],[MARCHEEXT]]>=1,((Tableau16[[#This Row],[MONTANT BC]]*70%)-(Tableau16[[#This Row],[RG_5%]]+Tableau16[[#This Row],[P_2%]]+Tableau16[[#This Row],[BFT_5%]]+Tableau16[[#This Row],[E 3%]]+Tableau16[[#This Row],[AUTRE]])),(Tableau16[[#This Row],[MONTANT BC]]-(Tableau16[[#This Row],[RG_5%]]+Tableau16[[#This Row],[P_2%]]+Tableau16[[#This Row],[BFT_5%]]+Tableau16[[#This Row],[E 3%]]+Tableau16[[#This Row],[AUTRE]]))) -> 85000 | O6: =Tableau16[MONTANT BC]*5% -> 5000 | P6: =Tableau16[[#This Row],[MONTANT BC]]*2% -> 2000 | Q6: =Tableau16[[#This Row],[MONTANT BC]]*5% -> 5000 | R6: =(Tableau16[[#This Row],[MONTANT BC]]*3%) -> 3000 | U6: =IF(AND(J6="",W6="",Y6=""),"",IF(AND(J6>1,W6=""),"EN_COURS",IF(AND(W6>1,Y6="",W6+21<=TODAY()),"VALIDER_PAR_DEFFAUT",IF(AND(W6>1,Y6=""),"ENVOYER",IF(Y6>1,"VALIDER",""))))) -> VALIDER_PAR_DEFFAUT | W6: 44063
A7: =CONCATENATE(Tableau16[[#This Row],[CT]],Tableau16[[#This Row],[CHANTIER]],Tableau16[[#This Row],[SOUS TRAITANT]],Tableau16[[#This Row],[MO]]) -> ARNAUDST CYR ASPIRIT | B7: SPIRIT | D7: ARNAUD | E7: ST CYR | H7: A | I7: =VLOOKUP(H7,Tableau11[[SOUS TRAITANT]:[PU MARCHE]],3,FALSE) -> 1100 | J7: a | K7: CFO | L7: 100000 | M7: =IF(Tableau16[[#This Row],[MARCHEINT]]>1,Tableau16[[#This Row],[MONTANT BC]]*30%,Tableau16[[#This Row],[MONTANT BC]]) -> 0 | N7: =IF(Tableau16[[#This Row],[MARCHEEXT]]>=1,((Tableau16[[#This Row],[MONTANT BC]]*70%)-(Tableau16[[#This Row],[RG_5%]]+Tableau16[[#This Row],[P_2%]]+Tableau16[[#This Row],[BFT_5%]]+Tableau16[[#This Row],[E 3%]]+Tableau16[[#This Row],[AUTRE]])),(Tableau16[[#This Row],[MONTANT BC]]-(Tableau16[[#This Row],[RG_5%]]+Tableau16[[#This Row],[P_2%]]+Tableau16[[#This Row],[BFT_5%]]+Tableau16[[#This Row],[E 3%]]+Tableau16[[#This Row],[AUTRE]]))) -> 55000 | O7: =Tableau16[MONTANT BC]*5% -> 5000 | P7: =Tableau16[[#This Row],[MONTANT BC]]*2% -> 2000 | Q7: =Tableau16[[#This Row],[MONTANT BC]]*5% -> 5000 | R7: =(Tableau16[[#This Row],[MONTANT BC]]*3%) -> 3000 | U7: =IF(AND(J7="",W7="",Y7=""),"",IF(AND(J7>1,W7=""),"EN_COURS",IF(AND(W7>1,Y7="",W7+21<=TODAY()),"VALIDER_PAR_DEFFAUT",IF(AND(W7>1,Y7=""),"ENVOYER",IF(Y7>1,"VALIDER",""))))) -> EN_COURS
A8: =CONCATENATE(Tableau16[[#This Row],[CT]],Tableau16[[#This Row],[CHANTIER]],Tableau16[[#This Row],[SOUS TRAITANT]],Tableau16[[#This Row],[MO]]) -> ARNAUDPUTEAU CORDELIAASPIRIT | B8: SPIRIT | D8: ARNAUD | E8: PUTEAU CORDELIA | H8: A | I8: =VLOOKUP(H8,Tableau11[[SOUS TRAITANT]:[PU MARCHE]],3,FALSE) -> 1100 | J8: a | K8: CFO | L8: 100000 | M8: =Tableau16[[#This Row],[MONTANT BC]]*30% -> 30000 | N8: =IF(Tableau16[[#This Row],[MARCHEEXT]]>=1,((Tableau16[[#This Row],[MONTANT BC]]*70%)-(Tableau16[[#This Row],[RG_5%]]+Tableau16[[#This Row],[P_2%]]+Tableau16[[#This Row],[BFT_5%]]+Tableau16[[#This Row],[E 3%]]+Tableau16[[#This Row],[AUTRE]])),(Tableau16[[#This Row],[MONTANT BC]]-(Tableau16[[#This Row],[RG_5%]]+Tableau16[[#This Row],[P_2%]]+Tableau16[[#This Row],[BFT_5%]]+Tableau16[[#This Row],[E 3%]]+Tableau16[[#This Row],[AUTRE]]))) -> 55000 | O8: =Tableau16[MONTANT BC]*5% -> 5000 | P8: =Tableau16[[#This Row],[MONTANT BC]]*2% -> 2000 | Q8: =Tableau16[[#This Row],[MONTANT BC]]*5% -> 5000 | R8: =(Tableau16[[#This Row],[MONTANT BC]]*3%) -> 3000 | U8: =IF(AND(J8="",W8="",Y8=""),"",IF(AND(J8>1,W8=""),"EN_COURS",IF(AND(W8>1,Y8="",W8+21<=TODAY()),"VALIDER_PAR_DEFFAUT",IF(AND(W8>1,Y8=""),"ENVOYER",IF(Y8>1,"VALIDER",""))))) -> EN_COURS
A9: =CONCATENATE(Tableau16[[#This Row],[CT]],Tableau16[[#This Row],[CHANTIER]],Tableau16[[#This Row],[SOUS TRAITANT]],Tableau16[[#This Row],[MO]]) -> ARNAUDPUTEAU CORDELIAASPIRIT | B9: SPIRIT | D9: ARNAUD | E9: PUTEAU CORDELIA | H9: A | I9: =VLOOKUP(H9,Tableau11[[SOUS TRAITANT]:[PU MARCHE]],3,FALSE) -> 1100 | J9: a | K9: CFO | L9: 100000 | M9: =Tableau16[[#This Row],[MONTANT BC]]*30% -> 30000 | N9: =IF(Tableau16[[#This Row],[MARCHEEXT]]>=1,((Tableau16[[#This Row],[MONTANT BC]]*70%)-(Tableau16[[#This Row],[RG_5%]]+Tableau16[[#This Row],[P_2%]]+Tableau16[[#This Row],[BFT_5%]]+Tableau16[[#This Row],[E 3%]]+Tableau16[[#This Row],[AUTRE]])),(Tableau16[[#This Row],[MONTANT BC]]-(Tableau16[[#This Row],[RG_5%]]+Tableau16[[#This Row],[P_2%]]+Tableau16[[#This Row],[BFT_5%]]+Tableau16[[#This Row],[E 3%]]+Tableau16[[#This Row],[AUTRE]]))) -> 55000 | O9: =Tableau16[MONTANT BC]*5% -> 5000 | P9: =Tableau16[[#This Row],[MONTANT BC]]*2% -> 2000 | Q9: =Tableau16[[#This Row],[MONTANT BC]]*5% -> 5000 | R9: =(Tableau16[[#This Row],[MONTANT BC]]*3%) -> 3000 | U9: =IF(AND(J9="",W9="",Y9=""),"",IF(AND(J9>1,W9=""),"EN_COURS",IF(AND(W9>1,Y9="",W9+21<=TODAY()),"VALIDER_PAR_DEFFAUT",IF(AND(W9>1,Y9=""),"ENVOYER",IF(Y9>1,"VALIDER",""))))) -> VALIDER_PAR_DEFFAUT | W9: 44089
A10: =CONCATENATE(Tableau16[[#This Row],[CT]],Tableau16[[#This Row],[CHANTIER]],Tableau16[[#This Row],[SOUS TRAITANT]],Tableau16[[#This Row],[MO]]) -> ARNAUDPUTEAU CORDELIAASPIRIT | B10: SPIRIT | D10: ARNAUD | E10: PUTEAU CORDELIA | H10: A | I10: =VLOOKUP(H10,Tableau11[[SOUS TRAITANT]:[PU MARCHE]],3,FALSE) -> 1100 | J10: a | K10: CFO | L10: 100000 | M10: =Tableau16[[#This Row],[MONTANT BC]]*30% -> 30000 | N10: =IF(Tableau16[[#This Row],[MARCHEEXT]]>=1,((Tableau16[[#This Row],[MONTANT BC]]*70%)-(Tableau16[[#This Row],[RG_5%]]+Tableau16[[#This Row],[P_2%]]+Tableau16[[#This Row],[BFT_5%]]+Tableau16[[#This Row],[E 3%]]+Tableau16[[#This Row],[AUTRE]])),(Tableau16[[#This Row],[MONTANT BC]]-(Tableau16[[#This Row],[RG_5%]]+Tableau16[[#This Row],[P_2%]]+Tableau16[[#This Row],[BFT_5%]]+Tableau16[[#This Row],[E 3%]]+Tableau16[[#This Row],[AUTRE]]))) -> 55000 | O10: =Tableau16[MONTANT BC]*5% -> 5000 | P10: =Tableau16[[#This Row],[MONTANT BC]]*2% -> 2000 | Q10: =Tableau16[[#This Row],[MONTANT BC]]*5% -> 5000 | R10: =(Tableau16[[#This Row],[MONTANT BC]]*3%) -> 3000 | U10: =IF(AND(J10="",W10="",Y10=""),"",IF(AND(J10>1,W10=""),"EN_COURS",IF(AND(W10>1,Y10="",W10+21<=TODAY()),"VALIDER_PAR_DEFFAUT",IF(AND(W10>1,Y10=""),"ENVOYER",IF(Y10>1,"VALIDER",""))))) -> EN_COURS
A11: =CONCATENATE(Tableau16[[#This Row],[CT]],Tableau16[[#This Row],[CHANTIER]],Tableau16[[#This Row],[SOUS TRAITANT]],Tableau16[[#This Row],[MO]]) -> FREDCHATENAY MALABRY - IRENADH2O | B11: H2O | D11: FRED | E11: CHATENAY MALABRY - IRENA | H11: D | I11: =VLOOKUP(H11,Tableau11[[SOUS TRAITANT]:[PU MARCHE]],3,FALSE) -> 1103 | J11: a | K11: CFO | L11: 100000 | M11: =Tableau16[[#This Row],[MONTANT BC]]*30% -> 30000 | N11: =IF(Tableau16[[#This Row],[MARCHEEXT]]>=1,((Tableau16[[#This Row],[MONTANT BC]]*70%)-(Tableau16[[#This Row],[RG_5%]]+Tableau16[[#This Row],[P_2%]]+Tableau16[[#This Row],[BFT_5%]]+Tableau16[[#This Row],[E 3%]]+Tableau16[[#This Row],[AUTRE]])),(Tableau16[[#This Row],[MONTANT BC]]-(Tableau16[[#This Row],[RG_5%]]+Tableau16[[#This Row],[P_2%]]+Tableau16[[#This Row],[BFT_5%]]+Tableau16[[#This Row],[E 3%]]+Tableau16[[#This Row],[AUTRE]]))) -> 55000 | O11: =Tableau16[MONTANT BC]*5% -> 5000 | P11: =Tableau16[[#This Row],[MONTANT BC]]*2% -> 2000 | Q11: =Tableau16[[#This Row],[MONTANT BC]]*5% -> 5000 | R11: =(Tableau16[[#This Row],[MONTANT BC]]*3%) -> 3000 | U11: =IF(AND(J11="",W11="",Y11=""),"",IF(AND(J11>1,W11=""),"EN_COURS",IF(AND(W11>1,Y11="",W11+21<=TODAY()),"VALIDER_PAR_DEFFAUT",IF(AND(W11>1,Y11=""),"ENVOYER",IF(Y11>1,"VALIDER",""))))) -> EN_COURS
A12: =CONCATENATE(Tableau16[[#This Row],[CT]],Tableau16[[#This Row],[CHANTIER]],Tableau16[[#This Row],[SOUS TRAITANT]],Tableau16[[#This Row],[MO]]) -> FREDCHATENAY MALABRY - IRENADH2O | B12: H2O | D12: FRED | E12: CHATENAY MALABRY - IRENA | H12: D | I12: =VLOOKUP(H12,Tableau11[[SOUS TRAITANT]:[PU MARCHE]],3,FALSE) -> 1103 | J12: a | K12: CFO | L12: 100000 | M12: =Tableau16[[#This Row],[MONTANT BC]]*30% -> 30000 | N12: =IF(Tableau16[[#This Row],[MARCHEEXT]]>=1,((Tableau16[[#This Row],[MONTANT BC]]*70%)-(Tableau16[[#This Row],[RG_5%]]+Tableau16[[#This Row],[P_2%]]+Tableau16[[#This Row],[BFT_5%]]+Tableau16[[#This Row],[E 3%]]+Tableau16[[#This Row],[AUTRE]])),(Tableau16[[#This Row],[MONTANT BC]]-(Tableau16[[#This Row],[RG_5%]]+Tableau16[[#This Row],[P_2%]]+Tableau16[[#This Row],[BFT_5%]]+Tableau16[[#This Row],[E 3%]]+Tableau16[[#This Row],[AUTRE]]))) -> 55000 | O12: =Tableau16[MONTANT BC]*5% -> 5000 | P12: =Tableau16[[#This Row],[MONTANT BC]]*2% -> 2000 | Q12: =Tableau16[[#This Row],[MONTANT BC]]*5% -> 5000 | R12: =(Tableau16[[#This Row],[MONTANT BC]]*3%) -> 3000 | U12: =IF(AND(J12="",W12="",Y12=""),"",IF(AND(J12>1,W12=""),"EN_COURS",IF(AND(W12>1,Y12="",W12+21<=TODAY()),"VALIDER_PAR_DEFFAUT",IF(AND(W12>1,Y12=""),"ENVOYER",IF(Y12>1,"VALIDER",""))))) -> EN_COURS
A13: =CONCATENATE(Tableau16[[#This Row],[CT]],Tableau16[[#This Row],[CHANTIER]],Tableau16[[#This Row],[SOUS TRAITANT]],Tableau16[[#This Row],[MO]]) -> FREDCHATENAY MALABRY - IRENADH2O | B13: H2O | D13: FRED | E13: CHATENAY MALABRY - IRENA | H13: D | I13: =VLOOKUP(H13,Tableau11[[SOUS TRAITANT]:[PU MARCHE]],3,FALSE) -> 1103 | J13: a | K13: CFO | L13: 100000 | M13: =Tableau16[[#This Row],[MONTANT BC]]*30% -> 30000 | N13: =IF(Tableau16[[#This Row],[MARCHEEXT]]>=1,((Tableau16[[#This Row],[MONTANT BC]]*70%)-(Tableau16[[#This Row],[RG_5%]]+Tableau16[[#This Row],[P_2%]]+Tableau16[[#This Row],[BFT_5%]]+Tableau16[[#This Row],[E 3%]]+Tableau16[[#This Row],[AUTRE]])),(Tableau16[[#This Row],[MONTANT BC]]-(Tableau16[[#This Row],[RG_5%]]+Tableau16[[#This Row],[P_2%]]+Tableau16[[#This Row],[BFT_5%]]+Tableau16[[#This Row],[E 3%]]+Tableau16[[#This Row],[AUTRE]]))) -> 55000 | O13: =Tableau16[MONTANT BC]*5% -> 5000 | P13: =Tableau16[[#This Row],[MONTANT BC]]*2% -> 2000 | Q13: =Tableau16[[#This Row],[MONTANT BC]]*5% -> 5000 | R13: =(Tableau16[[#This Row],[MONTANT BC]]*3%) -> 3000 | U13: =IF(AND(J13="",W13="",Y13=""),"",IF(AND(J13>1,W13=""),"EN_COURS",IF(AND(W13>1,Y13="",W13+21<=TODAY()),"VALIDER_PAR_DEFFAUT",IF(AND(W13>1,Y13=""),"ENVOYER",IF(Y13>1,"VALIDER",""))))) -> EN_COURS
A14: =CONCATENATE(Tableau16[[#This Row],[CT]],Tableau16[[#This Row],[CHANTIER]],Tableau16[[#This Row],[SOUS TRAITANT]],Tableau16[[#This Row],[MO]]) -> FREDCHATENAY MALABRY - IRENAFH2O | B14: H2O | D14: FRED | E14: CHATENAY MALABRY - IRENA | H14: F | I14: =VLOOKUP(H14,Tableau11[[SOUS TRAITANT]:[PU MARCHE]],3,FALSE) -> 1105 | J14: a | K14: CFO | L14: 100000 | M14: =Tableau16[[#This Row],[MONTANT BC]]*30% -> 30000 | N14: =IF(Tableau16[[#This Row],[MARCHEEXT]]>=1,((Tableau16[[#This Row],[MONTANT BC]]*70%)-(Tableau16[[#This Row],[RG_5%]]+Tableau16[[#This Row],[P_2%]]+Tableau16[[#This Row],[BFT_5%]]+Tableau16[[#This Row],[E 3%]]+Tableau16[[#This Row],[AUTRE]])),(Tableau16[[#This Row],[MONTANT BC]]-(Tableau16[[#This Row],[RG_5%]]+Tableau16[[#This Row],[P_2%]]+Tableau16[[#This Row],[BFT_5%]]+Tableau16[[#This Row],[E 3%]]+Tableau16[[#This Row],[AUTRE]]))) -> 55000 | O14: =Tableau16[MONTANT BC]*5% -> 5000 | P14: =Tableau16[[#This Row],[MONTANT BC]]*2% -> 2000 | Q14: =Tableau16[[#This Row],[MONTANT BC]]*5% -> 5000 | R14: =(Tableau16[[#This Row],[MONTANT BC]]*3%) -> 3000 | U14: =IF(AND(J14="",W14="",Y14=""),"",IF(AND(J14>1,W14=""),"EN_COURS",IF(AND(W14>1,Y14="",W14+21<=TODAY()),"VALIDER_PAR_DEFFAUT",IF(AND(W14>1,Y14=""),"ENVOYER",IF(Y14>1,"VALIDER",""))))) -> EN_COURS
A15: =CONCATENATE(Tableau16[[#This Row],[CT]],Tableau16[[#This Row],[CHANTIER]],Tableau16[[#This Row],[SOUS TRAITANT]],Tableau16[[#This Row],[MO]]) -> FREDCHATENAY MALABRY - IRENAFH2O | B15: H2O | D15: FRED | E15: CHATENAY MALABRY - IRENA | H15: F | I15: =VLOOKUP(H15,Tableau11[[SOUS TRAITANT]:[PU MARCHE]],3,FALSE) -> 1105 | K15: CFO | L15: 100000 | M15: =Tableau16[[#This Row],[MONTANT BC]]*30% -> 30000 | N15: =IF(Tableau16[[#This Row],[MARCHEEXT]]>=1,((Tableau16[[#This Row],[MONTANT BC]]*70%)-(Tableau16[[#This Row],[RG_5%]]+Tableau16[[#This Row],[P_2%]]+Tableau16[[#This Row],[BFT_5%]]+Tableau16[[#This Row],[E 3%]]+Tableau16[[#This Row],[AUTRE]])),(Tableau16[[#This Row],[MONTANT BC]]-(Tableau16[[#This Row],[RG_5%]]+Tableau16[[#This Row],[P_2%]]+Tableau16[[#This Row],[BFT_5%]]+Tableau16[[#This Row],[E 3%]]+Tableau16[[#This Row],[AUTRE]]))) -> 55000 | O15: =Tableau16[MONTANT BC]*5% -> 5000 | P15: =Tableau16[[#This Row],[MONTANT BC]]*2% -> 2000 | Q15: =Tableau16[[#This Row],[MONTANT BC]]*5% -> 5000 | R15: =(Tableau16[[#This Row],[MONTANT BC]]*3%) -> 3000 | U15: =IF(AND(J15="",W15="",Y15=""),"",IF(AND(J15>1,W15=""),"EN_COURS",IF(AND(W15>1,Y15="",W15+21<=TODAY()),"VALIDER_PAR_DEFFAUT",IF(AND(W15>1,Y15=""),"ENVOYER",IF(Y15>1,"VALIDER","")))))
A16: =CONCATENATE(Tableau16[[#This Row],[CT]],Tableau16[[#This Row],[CHANTIER]],Tableau16[[#This Row],[SOUS TRAITANT]],Tableau16[[#This Row],[MO]]) -> JONATHANST MAURDH2O | B16: H2O | D16: JONATHAN | E16: ST MAUR | H16: D | I16: =VLOOKUP(H16,Tableau11[[SOUS TRAITANT]:[PU MARCHE]],3,FALSE) -> 1103 | K16: CFO | L16: 100000 | M16: =Tableau16[[#This Row],[MONTANT BC]]*30% -> 30000 | N16: =IF(Tableau16[[#This Row],[MARCHEEXT]]>=1,((Tableau16[[#This Row],[MONTANT BC]]*70%)-(Tableau16[[#This Row],[RG_5%]]+Tableau16[[#This Row],[P_2%]]+Tableau16[[#This Row],[BFT_5%]]+Tableau16[[#This Row],[E 3%]]+Tableau16[[#This Row],[AUTRE]])),(Tableau16[[#This Row],[MONTANT BC]]-(Tableau16[[#This Row],[RG_5%]]+Tableau16[[#This Row],[P_2%]]+Tableau16[[#This Row],[BFT_5%]]+Tableau16[[#This Row],[E 3%]]+Tableau16[[#This Row],[AUTRE]]))) -> 55000 | O16: =Tableau16[MONTANT BC]*5% -> 5000 | P16: =Tableau16[[#This Row],[MONTANT BC]]*2% -> 2000 | Q16: =Tableau16[[#This Row],[MONTANT BC]]*5% -> 5000 | R16: =(Tableau16[[#This Row],[MONTANT BC]]*3%) -> 3000 | U16: =IF(AND(J16="",W16="",Y16=""),"",IF(AND(J16>1,W16=""),"EN_COURS",IF(AND(W16>1,Y16="",W16+21<=TODAY()),"VALIDER_PAR_DEFFAUT",IF(AND(W16>1,Y16=""),"ENVOYER",IF(Y16>1,"VALIDER","")))))
A17: =CONCATENATE(Tableau16[[#This Row],[CT]],Tableau16[[#This Row],[CHANTIER]],Tableau16[[#This Row],[SOUS TRAITANT]],Tableau16[[#This Row],[MO]]) -> JONATHANCHATENAY MALABRY - ANDREA 2DH2O | B17: H2O | D17: JONATHAN | E17: CHATENAY MALABRY - ANDREA 2 | H17: D | I17: =VLOOKUP(H17,Tableau11[[SOUS TRAITANT]:[PU MARCHE]],3,FALSE) -> 1103 | K17: CFO | L17: 100000 | M17: =Tableau16[[#This Row],[MONTANT BC]]*30% -> 30000 | N17: =IF(Tableau16[[#This Row],[MARCHEEXT]]>=1,((Tableau16[[#This Row],[MONTANT BC]]*70%)-(Tableau16[[#This Row],[RG_5%]]+Tableau16[[#This Row],[P_2%]]+Tableau16[[#This Row],[BFT_5%]]+Tableau16[[#This Row],[E 3%]]+Tableau16[[#This Row],[AUTRE]])),(Tableau16[[#This Row],[MONTANT BC]]-(Tableau16[[#This Row],[RG_5%]]+Tableau16[[#This Row],[P_2%]]+Tableau16[[#This Row],[BFT_5%]]+Tableau16[[#This Row],[E 3%]]+Tableau16[[#This Row],[AUTRE]]))) -> 55000 | O17: =Tableau16[MONTANT BC]*5% -> 5000 | P17: =Tableau16[[#This Row],[MONTANT BC]]*2% -> 2000 | Q17: =Tableau16[[#This Row],[MONTANT BC]]*5% -> 5000 | R17: =(Tableau16[[#This Row],[MONTANT BC]]*3%) -> 3000 | U17: =IF(AND(J17="",W17="",Y17=""),"",IF(AND(J17>1,W17=""),"EN_COURS",IF(AND(W17>1,Y17="",W17+21<=TODAY()),"VALIDER_PAR_DEFFAUT",IF(AND(W17>1,Y17=""),"ENVOYER",IF(Y17>1,"VALIDER","")))))
A18: =CONCATENATE(Tableau16[[#This Row],[CT]],Tableau16[[#This Row],[CHANTIER]],Tableau16[[#This Row],[SOUS TRAITANT]],Tableau16[[#This Row],[MO]]) -> JONATHANCLAMART - LORENADH2O | B18: H2O | D18: JONATHAN | E18: CLAMART - LORENA | H18: D | I18: =VLOOKUP(H18,Tableau11[[SOUS TRAITANT]:[PU MARCHE]],3,FALSE) -> 1103 | J18: b | K18: CFO | L18: 100000 | M18: =Tableau16[[#This Row],[MONTANT BC]]*30% -> 30000 | N18: =IF(Tableau16[[#This Row],[MARCHEEXT]]>=1,((Tableau16[[#This Row],[MONTANT BC]]*70%)-(Tableau16[[#This Row],[RG_5%]]+Tableau16[[#This Row],[P_2%]]+Tableau16[[#This Row],[BFT_5%]]+Tableau16[[#This Row],[E 3%]]+Tableau16[[#This Row],[AUTRE]])),(Tableau16[[#This Row],[MONTANT BC]]-(Tableau16[[#This Row],[RG_5%]]+Tableau16[[#This Row],[P_2%]]+Tableau16[[#This Row],[BFT_5%]]+Tableau16[[#This Row],[E 3%]]+Tableau16[[#This Row],[AUTRE]]))) -> 55000 | O18: =Tableau16[MONTANT BC]*5% -> 5000 | P18: =Tableau16[[#This Row],[MONTANT BC]]*2% -> 2000 | Q18: =Tableau16[[#This Row],[MONTANT BC]]*5% -> 5000 | R18: =(Tableau16[[#This Row],[MONTANT BC]]*3%) -> 3000 | U18: =IF(AND(J18="",W18="",Y18=""),"",IF(AND(J18>1,W18=""),"EN_COURS",IF(AND(W18>1,Y18="",W18+21<=TODAY()),"VALIDER_PAR_DEFFAUT",IF(AND(W18>1,Y18=""),"ENVOYER",IF(Y18>1,"VALIDER",""))))) -> VALIDER_PAR_DEFFAUT | W18: 44046
A19: =CONCATENATE(Tableau16[[#This Row],[CT]],Tableau16[[#This Row],[CHANTIER]],Tableau16[[#This Row],[SOUS TRAITANT]],Tableau16[[#This Row],[MO]]) -> JONATHANSAINT PIERRE LES NEMOURSDH2O | B19: H2O | D19: JONATHAN | E19: SAINT PIERRE LES NEMOURS | H19: D | I19: =VLOOKUP(H19,Tableau11[[SOUS TRAITANT]:[PU MARCHE]],3,FALSE) -> 1103 | K19: CFO | L19: 100000 | M19: =Tableau16[[#This Row],[MONTANT BC]]*30% -> 30000 | N19: =IF(Tableau16[[#This Row],[MARCHEEXT]]>=1,((Tableau16[[#This Row],[MONTANT BC]]*70%)-(Tableau16[[#This Row],[RG_5%]]+Tableau16[[#This Row],[P_2%]]+Tableau16[[#This Row],[BFT_5%]]+Tableau16[[#This Row],[E 3%]]+Tableau16[[#This Row],[AUTRE]])),(Tableau16[[#This Row],[MONTANT BC]]-(Tableau16[[#This Row],[RG_5%]]+Tableau16[[#This Row],[P_2%]]+Tableau16[[#This Row],[BFT_5%]]+Tableau16[[#This Row],[E 3%]]+Tableau16[[#This Row],[AUTRE]]))) -> 55000 | O19: =Tableau16[MONTANT BC]*5% -> 5000 | P19: =Tableau16[[#This Row],[MONTANT BC]]*2% -> 2000 | Q19: =Tableau16[[#This Row],[MONTANT BC]]*5% -> 5000 | R19: =(Tableau16[[#This Row],[MONTANT BC]]*3%) -> 3000 | U19: =IF(AND(J19="",W19="",Y19=""),"",IF(AND(J19>1,W19=""),"EN_COURS",IF(AND(W19>1,Y19="",W19+21<=TODAY()),"VALIDER_PAR_DEFFAUT",IF(AND(W19>1,Y19=""),"ENVOYER",IF(Y19>1,"VALIDER","")))))
A20: =CONCATENATE(Tableau16[[#This Row],[CT]],Tableau16[[#This Row],[CHANTIER]],Tableau16[[#This Row],[SOUS TRAITANT]],Tableau16[[#This Row],[MO]]) -> JONATHANNANDYDOPALE | B20: OPALE | D20: JONATHAN | E20: NANDY | H20: D | I20: =VLOOKUP(H20,Tableau11[[SOUS TRAITANT]:[PU MARCHE]],3,FALSE) -> 1103 | K20: CFO | L20: 100000 | M20: =Tableau16[[#This Row],[MONTANT BC]]*30% -> 30000 | N20: =IF(Tableau16[[#This Row],[MARCHEEXT]]>=1,((Tableau16[[#This Row],[MONTANT BC]]*70%)-(Tableau16[[#This Row],[RG_5%]]+Tableau16[[#This Row],[P_2%]]+Tableau16[[#This Row],[BFT_5%]]+Tableau16[[#This Row],[E 3%]]+Tableau16[[#This Row],[AUTRE]])),(Tableau16[[#This Row],[MONTANT BC]]-(Tableau16[[#This Row],[RG_5%]]+Tableau16[[#This Row],[P_2%]]+Tableau16[[#This Row],[BFT_5%]]+Tableau16[[#This Row],[E 3%]]+Tableau16[[#This Row],[AUTRE]]))) -> 55000 | O20: =Tableau16[MONTANT BC]*5% -> 5000 | P20: =Tableau16[[#This Row],[MONTANT BC]]*2% -> 2000 | Q20: =Tableau16[[#This Row],[MONTANT BC]]*5% -> 5000 | R20: =(Tableau16[[#This Row],[MONTANT BC]]*3%) -> 3000 | U20: =IF(AND(J20="",W20="",Y20=""),"",IF(AND(J20>1,W20=""),"EN_COURS",IF(AND(W20>1,Y20="",W20+21<=TODAY()),"VALIDER_PAR_DEFFAUT",IF(AND(W20>1,Y20=""),"ENVOYER",IF(Y20>1,"VALIDER","")))))
A21: =CONCATENATE(Tableau16[[#This Row],[CT]],Tableau16[[#This Row],[CHANTIER]],Tableau16[[#This Row],[SOUS TRAITANT]],Tableau16[[#This Row],[MO]]) -> JONATHANNANDYDOPALE | B21: OPALE | D21: JONATHAN | E21: NANDY | H21: D | I21: =VLOOKUP(H21,Tableau11[[SOUS TRAITANT]:[PU MARCHE]],3,FALSE) -> 1103 | K21: CFO | L21: 100000 | M21: =Tableau16[[#This Row],[MONTANT BC]]*30% -> 30000 | N21: =IF(Tableau16[[#This Row],[MARCHEEXT]]>=1,((Tableau16[[#This Row],[MONTANT BC]]*70%)-(Tableau16[[#This Row],[RG_5%]]+Tableau16[[#This Row],[P_2%]]+Tableau16[[#This Row],[BFT_5%]]+Tableau16[[#This Row],[E 3%]]+Tableau16[[#This Row],[AUTRE]])),(Tableau16[[#This Row],[MONTANT BC]]-(Tableau16[[#This Row],[RG_5%]]+Tableau16[[#This Row],[P_2%]]+Tableau16[[#This Row],[BFT_5%]]+Tableau16[[#This Row],[E 3%]]+Tableau16[[#This Row],[AUTRE]]))) -> 55000 | O21: =Tableau16[MONTANT BC]*5% -> 5000 | P21: =Tableau16[[#This Row],[MONTANT BC]]*2% -> 2000 | Q21: =Tableau16[[#This Row],[MONTANT BC]]*5% -> 5000 | R21: =(Tableau16[[#This Row],[MONTANT BC]]*3%) -> 3000 | U21: =IF(AND(J21="",W21="",Y21=""),"",IF(AND(J21>1,W21=""),"EN_COURS",IF(AND(W21>1,Y21="",W21+21<=TODAY()),"VALIDER_PAR_DEFFAUT",IF(AND(W21>1,Y21=""),"ENVOYER",IF(Y21>1,"VALIDER","")))))
A22: =CONCATENATE(Tableau16[[#This Row],[CT]],Tableau16[[#This Row],[CHANTIER]],Tableau16[[#This Row],[SOUS TRAITANT]],Tableau16[[#This Row],[MO]]) -> JONATHANBRETIGNU SUR ORGEIOPALE | B22: OPALE | D22: JONATHAN | E22: BRETIGNU SUR ORGE | H22: I | I22: =VLOOKUP(H22,Tableau11[[SOUS TRAITANT]:[PU MARCHE]],3,FALSE) -> 1108 | K22: CFO | L22: 100000 | M22: =Tableau16[[#This Row],[MONTANT BC]]*30% -> 30000 | N22: =IF(Tableau16[[#This Row],[MARCHEEXT]]>=1,((Tableau16[[#This Row],[MONTANT BC]]*70%)-(Tableau16[[#This Row],[RG_5%]]+Tableau16[[#This Row],[P_2%]]+Tableau16[[#This Row],[BFT_5%]]+Tableau16[[#This Row],[E 3%]]+Tableau16[[#This Row],[AUTRE]])),(Tableau16[[#This Row],[MONTANT BC]]-(Tableau16[[#This Row],[RG_5%]]+Tableau16[[#This Row],[P_2%]]+Tableau16[[#This Row],[BFT_5%]]+Tableau16[[#This Row],[E 3%]]+Tableau16[[#This Row],[AUTRE]]))) -> 55000 | O22: =Tableau16[MONTANT BC]*5% -> 5000 | P22: =Tableau16[[#This Row],[MONTANT BC]]*2% -> 2000 | Q22: =Tableau16[[#This Row],[MONTANT BC]]*5% -> 5000 | R22: =(Tableau16[[#This Row],[MONTANT BC]]*3%) -> 3000 | U22: =IF(AND(J22="",W22="",Y22=""),"",IF(AND(J22>1,W22=""),"EN_COURS",IF(AND(W22>1,Y22="",W22+21<=TODAY()),"VALIDER_PAR_DEFFAUT",IF(AND(W22>1,Y22=""),"ENVOYER",IF(Y22>1,"VALIDER","")))))
A23: =CONCATENATE(Tableau16[[#This Row],[CT]],Tableau16[[#This Row],[CHANTIER]],Tableau16[[#This Row],[SOUS TRAITANT]],Tableau16[[#This Row],[MO]]) -> JONATHANBRETIGNU SUR ORGEIOPALE | B23: OPALE | D23: JONATHAN | E23: BRETIGNU SUR ORGE | H23: I | I23: =VLOOKUP(H23,Tableau11[[SOUS TRAITANT]:[PU MARCHE]],3,FALSE) -> 1108 | K23: CFO | L23: 100000 | M23: =Tableau16[[#This Row],[MONTANT BC]]*30% -> 30000 | N23: =IF(Tableau16[[#This Row],[MARCHEEXT]]>=1,((Tableau16[[#This Row],[MONTANT BC]]*70%)-(Tableau16[[#This Row],[RG_5%]]+Tableau16[[#This Row],[P_2%]]+Tableau16[[#This Row],[BFT_5%]]+Tableau16[[#This Row],[E 3%]]+Tableau16[[#This Row],[AUTRE]])),(Tableau16[[#This Row],[MONTANT BC]]-(Tableau16[[#This Row],[RG_5%]]+Tableau16[[#This Row],[P_2%]]+Tableau16[[#This Row],[BFT_5%]]+Tableau16[[#This Row],[E 3%]]+Tableau16[[#This Row],[AUTRE]]))) -> 55000 | O23: =Tableau16[MONTANT BC]*5% -> 5000 | P23: =Tableau16[[#This Row],[MONTANT BC]]*2% -> 2000 | Q23: =Tableau16[[#This Row],[MONTANT BC]]*5% -> 5000 | R23: =(Tableau16[[#This Row],[MONTANT BC]]*3%) -> 3000 | U23: =IF(AND(J23="",W23="",Y23=""),"",IF(AND(J23>1,W23=""),"EN_COURS",IF(AND(W23>1,Y23="",W23+21<=TODAY()),"VALIDER_PAR_DEFFAUT",IF(AND(W23>1,Y23=""),"ENVOYER",IF(Y23>1,"VALIDER","")))))
A24: =CONCATENATE(Tableau16[[#This Row],[CT]],Tableau16[[#This Row],[CHANTIER]],Tableau16[[#This Row],[SOUS TRAITANT]],Tableau16[[#This Row],[MO]]) -> JONATHANSAINT FARGEAUIOPALE | B24: OPALE | D24: JONATHAN | E24: SAINT FARGEAU | H24: I | I24: =VLOOKUP(H24,Tableau11[[SOUS TRAITANT]:[PU MARCHE]],3,FALSE) -> 1108 | K24: CFO | L24: 100000 | M24: =Tableau16[[#This Row],[MONTANT BC]]*30% -> 30000 | N24: =IF(Tableau16[[#This Row],[MARCHEEXT]]>=1,((Tableau16[[#This Row],[MONTANT BC]]*70%)-(Tableau16[[#This Row],[RG_5%]]+Tableau16[[#This Row],[P_2%]]+Tableau16[[#This Row],[BFT_5%]]+Tableau16[[#This Row],[E 3%]]+Tableau16[[#This Row],[AUTRE]])),(Tableau16[[#This Row],[MONTANT BC]]-(Tableau16[[#This Row],[RG_5%]]+Tableau16[[#This Row],[P_2%]]+Tableau16[[#This Row],[BFT_5%]]+Tableau16[[#This Row],[E 3%]]+Tableau16[[#This Row],[AUTRE]]))) -> 55000 | O24: =Tableau16[MONTANT BC]*5% -> 5000 | P24: =Tableau16[[#This Row],[MONTANT BC]]*2% -> 2000 | Q24: =Tableau16[[#This Row],[MONTANT BC]]*5% -> 5000 | R24: =(Tableau16[[#This Row],[MONTANT BC]]*3%) -> 3000 | U24: =IF(AND(J24="",W24="",Y24=""),"",IF(AND(J24>1,W24=""),"EN_COURS",IF(AND(W24>1,Y24="",W24+21<=TODAY()),"VALIDER_PAR_DEFFAUT",IF(AND(W24>1,Y24=""),"ENVOYER",IF(Y24>1,"VALIDER","")))))
A25: =CONCATENATE(Tableau16[[#This Row],[CT]],Tableau16[[#This Row],[CHANTIER]],Tableau16[[#This Row],[SOUS TRAITANT]],Tableau16[[#This Row],[MO]]) -> JONATHANSERVONIOPALE | B25: OPALE | D25: JONATHAN | E25: SERVON | H25: I | I25: =VLOOKUP(H25,Tableau11[[SOUS TRAITANT]:[PU MARCHE]],3,FALSE) -> 1108 | K25: CFO | L25: 100000 | M25: =Tableau16[[#This Row],[MONTANT BC]]*30% -> 30000 | N25: =IF(Tableau16[[#This Row],[MARCHEEXT]]>=1,((Tableau16[[#This Row],[MONTANT BC]]*70%)-(Tableau16[[#This Row],[RG_5%]]+Tableau16[[#This Row],[P_2%]]+Tableau16[[#This Row],[BFT_5%]]+Tableau16[[#This Row],[E 3%]]+Tableau16[[#This Row],[AUTRE]])),(Tableau16[[#This Row],[MONTANT BC]]-(Tableau16[[#This Row],[RG_5%]]+Tableau16[[#This Row],[P_2%]]+Tableau16[[#This Row],[BFT_5%]]+Tableau16[[#This Row],[E 3%]]+Tableau16[[#This Row],[AUTRE]]))) -> 55000 | O25: =Tableau16[MONTANT BC]*5% -> 5000 | P25: =Tableau16[[#This Row],[MONTANT BC]]*2% -> 2000 | Q25: =Tableau16[[#This Row],[MONTANT BC]]*5% -> 5000 | R25: =(Tableau16[[#This Row],[MONTANT BC]]*3%) -> 3000 | U25: =IF(AND(J25="",W25="",Y25=""),"",IF(AND(J25>1,W25=""),"EN_COURS",IF(AND(W25>1,Y25="",W25+21<=TODAY()),"VALIDER_PAR_DEFFAUT",IF(AND(W25>1,Y25=""),"ENVOYER",IF(Y25>1,"VALIDER","")))))
A26: =CONCATENATE(Tableau16[[#This Row],[CT]],Tableau16[[#This Row],[CHANTIER]],Tableau16[[#This Row],[SOUS TRAITANT]],Tableau16[[#This Row],[MO]]) -> JONATHANROISSY EN BRIEIOPALE | B26: OPALE | D26: JONATHAN | E26: ROISSY EN BRIE | H26: I | I26: =VLOOKUP(H26,Tableau11[[SOUS TRAITANT]:[PU MARCHE]],3,FALSE) -> 1108 | K26: CFO | L26: 100000 | M26: =Tableau16[[#This Row],[MONTANT BC]]*30% -> 30000 | N26: =IF(Tableau16[[#This Row],[MARCHEEXT]]>=1,((Tableau16[[#This Row],[MONTANT BC]]*70%)-(Tableau16[[#This Row],[RG_5%]]+Tableau16[[#This Row],[P_2%]]+Tableau16[[#This Row],[BFT_5%]]+Tableau16[[#This Row],[E 3%]]+Tableau16[[#This Row],[AUTRE]])),(Tableau16[[#This Row],[MONTANT BC]]-(Tableau16[[#This Row],[RG_5%]]+Tableau16[[#This Row],[P_2%]]+Tableau16[[#This Row],[BFT_5%]]+Tableau16[[#This Row],[E 3%]]+Tableau16[[#This Row],[AUTRE]]))) -> 55000 | O26: =Tableau16[MONTANT BC]*5% -> 5000 | P26: =Tableau16[[#This Row],[MONTANT BC]]*2% -> 2000 | Q26: =Tableau16[[#This Row],[MONTANT BC]]*5% -> 5000 | R26: =(Tableau16[[#This Row],[MONTANT BC]]*3%) -> 3000 | U26: =IF(AND(J26="",W26="",Y26=""),"",IF(AND(J26>1,W26=""),"EN_COURS",IF(AND(W26>1,Y26="",W26+21<=TODAY()),"VALIDER_PAR_DEFFAUT",IF(AND(W26>1,Y26=""),"ENVOYER",IF(Y26>1,"VALIDER","")))))
A27: =CONCATENATE(Tableau16[[#This Row],[CT]],Tableau16[[#This Row],[CHANTIER]],Tableau16[[#This Row],[SOUS TRAITANT]],Tableau16[[#This Row],[MO]]) -> JONATHANATHIS MONS F1IOPALE | B27: OPALE | D27: JONATHAN | E27: ATHIS MONS F1 | H27: I | I27: =VLOOKUP(H27,Tableau11[[SOUS TRAITANT]:[PU MARCHE]],3,FALSE) -> 1108 | K27: CFO | L27: 100000 | M27: =Tableau16[[#This Row],[MONTANT BC]]*30% -> 30000 | N27: =IF(Tableau16[[#This Row],[MARCHEEXT]]>=1,((Tableau16[[#This Row],[MONTANT BC]]*70%)-(Tableau16[[#This Row],[RG_5%]]+Tableau16[[#This Row],[P_2%]]+Tableau16[[#This Row],[BFT_5%]]+Tableau16[[#This Row],[E 3%]]+Tableau16[[#This Row],[AUTRE]])),(Tableau16[[#This Row],[MONTANT BC]]-(Tableau16[[#This Row],[RG_5%]]+Tableau16[[#This Row],[P_2%]]+Tableau16[[#This Row],[BFT_5%]]+Tableau16[[#This Row],[E 3%]]+Tableau16[[#This Row],[AUTRE]]))) -> 55000 | O27: =Tableau16[MONTANT BC]*5% -> 5000 | P27: =Tableau16[[#This Row],[MONTANT BC]]*2% -> 2000 | Q27: =Tableau16[[#This Row],[MONTANT BC]]*5% -> 5000 | R27: =(Tableau16[[#This Row],[MONTANT BC]]*3%) -> 3000 | U27: =IF(AND(J27="",W27="",Y27=""),"",IF(AND(J27>1,W27=""),"EN_COURS",IF(AND(W27>1,Y27="",W27+21<=TODAY()),"VALIDER_PAR_DEFFAUT",IF(AND(W27>1,Y27=""),"ENVOYER",IF(Y27>1,"VALIDER","")))))
A28: =CONCATENATE(Tableau16[[#This Row],[CT]],Tableau16[[#This Row],[CHANTIER]],Tableau16[[#This Row],[SOUS TRAITANT]],Tableau16[[#This Row],[MO]]) -> JONATHANATHIS MONS E2IOPALE | B28: OPALE | D28: JONATHAN | E28: ATHIS MONS E2 | H28: I | I28: =VLOOKUP(H28,Tableau11[[SOUS TRAITANT]:[PU MARCHE]],3,FALSE) -> 1108 | K28: CFO | L28: 100000 | M28: =Tableau16[[#This Row],[MONTANT BC]]*30% -> 30000 | N28: =IF(Tableau16[[#This Row],[MARCHEEXT]]>=1,((Tableau16[[#This Row],[MONTANT BC]]*70%)-(Tableau16[[#This Row],[RG_5%]]+Tableau16[[#This Row],[P_2%]]+Tableau16[[#This Row],[BFT_5%]]+Tableau16[[#This Row],[E 3%]]+Tableau16[[#This Row],[AUTRE]])),(Tableau16[[#This Row],[MONTANT BC]]-(Tableau16[[#This Row],[RG_5%]]+Tableau16[[#This Row],[P_2%]]+Tableau16[[#This Row],[BFT_5%]]+Tableau16[[#This Row],[E 3%]]+Tableau16[[#This Row],[AUTRE]]))) -> 55000 | O28: =Tableau16[MONTANT BC]*5% -> 5000 | P28: =Tableau16[[#This Row],[MONTANT BC]]*2% -> 2000 | Q28: =Tableau16[[#This Row],[MONTANT BC]]*5% -> 5000 | R28: =(Tableau16[[#This Row],[MONTANT BC]]*3%) -> 3000 | U28: =IF(AND(J28="",W28="",Y28=""),"",IF(AND(J28>1,W28=""),"EN_COURS",IF(AND(W28>1,Y28="",W28+21<=TODAY()),"VALIDER_PAR_DEFFAUT",IF(AND(W28>1,Y28=""),"ENVOYER",IF(Y28>1,"VALIDER","")))))
A29: =CONCATENATE(Tableau16[[#This Row],[CT]],Tableau16[[#This Row],[CHANTIER]],Tableau16[[#This Row],[SOUS TRAITANT]],Tableau16[[#This Row],[MO]]) -> JONATHANATHIS MONS E2IOPALE | B29: OPALE | D29: JONATHAN | E29: ATHIS MONS E2 | H29: I | I29: =VLOOKUP(H29,Tableau11[[SOUS TRAITANT]:[PU MARCHE]],3,FALSE) -> 1108 | K29: CFO | L29: 100000 | M29: =Tableau16[[#This Row],[MONTANT BC]]*30% -> 30000 | N29: =IF(Tableau16[[#This Row],[MARCHEEXT]]>=1,((Tableau16[[#This Row],[MONTANT BC]]*70%)-(Tableau16[[#This Row],[RG_5%]]+Tableau16[[#This Row],[P_2%]]+Tableau16[[#This Row],[BFT_5%]]+Tableau16[[#This Row],[E 3%]]+Tableau16[[#This Row],[AUTRE]])),(Tableau16[[#This Row],[MONTANT BC]]-(Tableau16[[#This Row],[RG_5%]]+Tableau16[[#This Row],[P_2%]]+Tableau16[[#This Row],[BFT_5%]]+Tableau16[[#This Row],[E 3%]]+Tableau16[[#This Row],[AUTRE]]))) -> 55000 | O29: =Tableau16[MONTANT BC]*5% -> 5000 | P29: =Tableau16[[#This Row],[MONTANT BC]]*2% -> 2000 | Q29: =Tableau16[[#This Row],[MONTANT BC]]*5% -> 5000 | R29: =(Tableau16[[#This Row],[MONTANT BC]]*3%) -> 3000 | U29: =IF(AND(J29="",W29="",Y29=""),"",IF(AND(J29>1,W29=""),"EN_COURS",IF(AND(W29>1,Y29="",W29+21<=TODAY()),"VALIDER_PAR_DEFFAUT",IF(AND(W29>1,Y29=""),"ENVOYER",IF(Y29>1,"VALIDER","")))))
A30: =CONCATENATE(Tableau16[[#This Row],[CT]],Tableau16[[#This Row],[CHANTIER]],Tableau16[[#This Row],[SOUS TRAITANT]],Tableau16[[#This Row],[MO]]) -> LAURENTCLAMARTMOPALE | B30: OPALE | D30: LAURENT | E30: CLAMART | H30: M | I30: =VLOOKUP(H30,Tableau11[[SOUS TRAITANT]:[PU MARCHE]],3,FALSE) -> 1112 | K30: CFO | L30: 100000 | M30: =Tableau16[[#This Row],[MONTANT BC]]*30% -> 30000 | N30: =IF(Tableau16[[#This Row],[MARCHEEXT]]>=1,((Tableau16[[#This Row],[MONTANT BC]]*70%)-(Tableau16[[#This Row],[RG_5%]]+Tableau16[[#This Row],[P_2%]]+Tableau16[[#This Row],[BFT_5%]]+Tableau16[[#This Row],[E 3%]]+Tableau16[[#This Row],[AUTRE]])),(Tableau16[[#This Row],[MONTANT BC]]-(Tableau16[[#This Row],[RG_5%]]+Tableau16[[#This Row],[P_2%]]+Tableau16[[#This Row],[BFT_5%]]+Tableau16[[#This Row],[E 3%]]+Tableau16[[#This Row],[AUTRE]]))) -> 55000 | O30: =Tableau16[MONTANT BC]*5% -> 5000 | P30: =Tableau16[[#This Row],[MONTANT BC]]*2% -> 2000 | Q30: =Tableau16[[#This Row],[MONTANT BC]]*5% -> 5000 | R30: =(Tableau16[[#This Row],[MONTANT BC]]*3%) -> 3000 | U30: =IF(AND(J30="",W30="",Y30=""),"",IF(AND(J30>1,W30=""),"EN_COURS",IF(AND(W30>1,Y30="",W30+21<=TODAY()),"VALIDER_PAR_DEFFAUT",IF(AND(W30>1,Y30=""),"ENVOYER",IF(Y30>1,"VALIDER","")))))
... A42: =CONCATENATE(Tableau16[[#This Row],[CT]],Tableau16[[#This Row],[CHANTIER]],Tableau16[[#This Row],[SOUS TRAITANT]],Tableau16[[#This Row],[MO]]) -> SEBCOMBS ICADEMZORG | B42: ZORG | D42: SEB | E42: COMBS ICADE | H42: M | I42: =VLOOKUP(H42,Tableau11[[SOUS TRAITANT]:[PU MARCHE]],3,FALSE) -> 1112 | K42: CFO | L42: 100000 | M42: =Tableau16[[#This Row],[MONTANT BC]]*30% -> 30000 | N42: =IF(Tableau16[[#This Row],[MARCHEEXT]]>=1,((Tableau16[[#This Row],[MONTANT BC]]*70%)-(Tableau16[[#This Row],[RG_5%]]+Tableau16[[#This Row],[P_2%]]+Tableau16[[#This Row],[BFT_5%]]+Tableau16[[#This Row],[E 3%]]+Tableau16[[#This Row],[AUTRE]])),(Tableau16[[#This Row],[MONTANT BC]]-(Tableau16[[#This Row],[RG_5%]]+Tableau16[[#This Row],[P_2%]]+Tableau16[[#This Row],[BFT_5%]]+Tableau16[[#This Row],[E 3%]]+Tableau16[[#This Row],[AUTRE]]))) -> 55000 | O42: =Tableau16[MONTANT BC]*5% -> 5000 | P42: =Tableau16[[#This Row],[MONTANT BC]]*2% -> 2000 | Q42: =Tableau16[[#This Row],[MONTANT BC]]*5% -> 5000 | R42: =(Tableau16[[#This Row],[MONTANT BC]]*3%) -> 3000 | U42: =IF(AND(J42="",W42="",Y42=""),"",IF(AND(J42>1,W42=""),"EN_COURS",IF(AND(W42>1,Y42="",W42+21<=TODAY()),"VALIDER_PAR_DEFFAUT",IF(AND(W42>1,Y42=""),"ENVOYER",IF(Y42>1,"VALIDER","")))))
W43: =VLOOKUP(B43,Tableau16[[Ref]:[MONTANT BC]],12,FALSE) -> #N/A
A44: critere obligatoire
E48: =DECALER(DONNEES!$P$1;19;EQUIV($H5;DONNEES!$P$1:AO$1;0)-1;NBVAL(DECALER(DONNEES!$P$1;;EQUIV($H5;DONNEES!$P$1:AO$1;0)-1;20;1000)))
E49: =MATCH($H4,DONNEES!$P$1:AO$1,0) -> 1
E50: =COUNTA(OFFSET(DONNEES!$P$21,,MATCH($H4,DONNEES!$P$1:AO$1,0)-1)) -> 1
E51: =DECALER(DONNEES!$P$1;20;EQUIV($H4;DONNEES!$P$1:AO$1;0)-1;NBVAL(DECALER(DONNEES!$P$1;20;EQUIV($H4;DONNEES!$P$1:AO$1;0)-1;10;1000)))
E53: =COUNTA(OFFSET(DONNEES!$P$1,20,MATCH($H4,DONNEES!$P$1:AO$1,0)-1,15,1000)) -> 21
E56: =COUNTA(OFFSET(DONNEES!$P$1,20,MATCH($H4,DONNEES!$P$1:AO$1,0)-1,11,)) -> 3

Sheet FACT ST
A1: SUIVI FACTURATION SOUS TRAITANT
A2: FACTURES SOUS TRAITANT
A3: MOIS | B3: REF | C3: Sous Traitant | D3: NOM CHANTIER INDIRECT ST | E3: CT INDIRECT CHANTIER | F3: MO INDIRECT CT | G3: Adresse chantier | H3: CP | I3: REF FACT | J3: fact n° | K3: ref fact2 | L3: date fact | M3: delais paim | N3: date paiement provisoir | O3: marché | P3: montant | Q3: validé par | R3: payé / présenté le | S3: Observations | T3: PAYEE | U3: MARCHE INT | V3: MARCHE EXT | W3: RG_5% | X3: BFT_5% | Y3: AUTRE | Z3: TS/TMA/CFA | AA3: MARCHE INIT
A4: JANV | B4: =CONCATENATE(Tableau8[[#This Row],[CT INDIRECT CHANTIER]],Tableau8[[#This Row],[NOM CHANTIER INDIRECT ST]],Tableau8[[#This Row],[Sous Traitant]],Tableau8[[#This Row],[MO INDIRECT CT]]) | G4: =IFERROR(IF(B4="","",VLOOKUP(B4,Tableau16[[Ref]:[CP]],6,FALSE)),"") | H4: =IFERROR(IF(B4="","",VLOOKUP(B4,Tableau16[[Ref]:[CP]],7,FALSE)),"") | I4: =CONCATENATE(Tableau8[[#This Row],[CT INDIRECT CHANTIER]],Tableau8[[#This Row],[NOM CHANTIER INDIRECT ST]],Tableau8[[#This Row],[Sous Traitant]],Tableau8[[#This Row],[MO INDIRECT CT]],Tableau8[[#This Row],[marché]]) | J4: =COUNTIF($I$4:I4,Tableau8[[#This Row],[REF FACT]]) -> 1 | M4: =IF(Tableau8[[#This Row],[Sous Traitant]]>1,VLOOKUP(Tableau8[[#This Row],[Sous Traitant]],#REF!,3,FALSE),"") | T4: =SUMIFS($P$4:P4,$I$4:I4,I4) -> 0 | U4: =IF(Tableau8[[#This Row],[marché]]="MARCHEINT",VLOOKUP($B4,Tableau16[[Ref]:[AUTRE]],13,FALSE)-Tableau8[[#This Row],[PAYEE]],"") | V4: =IF(Tableau8[[#This Row],[marché]]="MARCHEEXT",VLOOKUP($B4,Tableau16[[Ref]:[AUTRE]],14,FALSE)-Tableau8[[#This Row],[PAYEE]],"") | W4: =IF(Tableau8[[#This Row],[marché]]="RG_5%",VLOOKUP($B4,Tableau16[[Ref]:[AUTRE]],15,FALSE)-Tableau8[[#This Row],[PAYEE]],"") | X4: =IF(Tableau8[[#This Row],[marché]]="BFT_5%",VLOOKUP($B4,Tableau16[[Ref]:[AUTRE]],17,FALSE)-Tableau8[[#This Row],[PAYEE]],"") | Y4: =IF(Tableau8[[#This Row],[marché]]="AUTRE",VLOOKUP($B4,Tableau16[[Ref]:[AUTRE]],19,FALSE)-Tableau8[[#This Row],[PAYEE]],"") | AA4: =IF(Tableau8[[#This Row],[marché]]="MARCHEINT",Tableau8[[#This Row],[MARCHE INT]]+Tableau8[[#This Row],[PAYEE]],IF(Tableau8[[#This Row],[marché]]="MARCHEEXT",Tableau8[[#This Row],[MARCHE EXT]]+Tableau8[[#This Row],[PAYEE]],IF(Tableau8[[#This Row],[marché]]="RG_5%",Tableau8[[#This Row],[RG_5%]]+Tableau8[[#This Row],[PAYEE]],IF(Tableau8[[#This Row],[marché]]="BFT_5%",Tableau8[[#This Row],[BFT_5%]]+Tableau8[[#This Row],[PAYEE]],IF(Tableau8[[#This Row],[marché]]="AUTRE",Tableau8[[#This Row],[AUTRE]]+Tableau8[[#This Row],[PAYEE]],"")))))
B5: =CONCATENATE(Tableau8[[#This Row],[CT INDIRECT CHANTIER]],Tableau8[[#This Row],[NOM CHANTIER INDIRECT ST]],Tableau8[[#This Row],[Sous Traitant]],Tableau8[[#This Row],[MO INDIRECT CT]]) | G5: =IFERROR(IF(B5="","",VLOOKUP(B5,Tableau16[[Ref]:[CP]],6,FALSE)),"") | H5: =IFERROR(IF(B5="","",VLOOKUP(B5,Tableau16[[Ref]:[CP]],7,FALSE)),"") | I5: =CONCATENATE(Tableau8[[#This Row],[CT INDIRECT CHANTIER]],Tableau8[[#This Row],[NOM CHANTIER INDIRECT ST]],Tableau8[[#This Row],[Sous Traitant]],Tableau8[[#This Row],[MO INDIRECT CT]],Tableau8[[#This Row],[marché]]) | J5: =COUNTIF($I$4:I5,Tableau8[[#This Row],[REF FACT]]) -> 2 | M5: =IF(Tableau8[[#This Row],[Sous Traitant]]>1,VLOOKUP(Tableau8[[#This Row],[Sous Traitant]],#REF!,3,FALSE),"") | T5: =SUMIFS($P$4:P5,$I$4:I5,I5) -> 0 | U5: =IF(Tableau8[[#This Row],[marché]]="MARCHEINT",VLOOKUP($B5,Tableau16[[Ref]:[AUTRE]],13,FALSE)-Tableau8[[#This Row],[PAYEE]],"") | V5: =IF(Tableau8[[#This Row],[marché]]="MARCHEEXT",VLOOKUP($B5,Tableau16[[Ref]:[AUTRE]],14,FALSE)-Tableau8[[#This Row],[PAYEE]],"") | W5: =IF(Tableau8[[#This Row],[marché]]="RG_5%",VLOOKUP($B5,Tableau16[[Ref]:[AUTRE]],15,FALSE)-Tableau8[[#This Row],[PAYEE]],"") | X5: =IF(Tableau8[[#This Row],[marché]]="BFT_5%",VLOOKUP($B5,Tableau16[[Ref]:[AUTRE]],17,FALSE)-Tableau8[[#This Row],[PAYEE]],"") | Y5: =IF(Tableau8[[#This Row],[marché]]="AUTRE",VLOOKUP($B5,Tableau16[[Ref]:[AUTRE]],19,FALSE)-Tableau8[[#This Row],[PAYEE]],"") | AA5: =IF(Tableau8[[#This Row],[marché]]="MARCHEINT",Tableau8[[#This Row],[MARCHE INT]]+Tableau8[[#This Row],[PAYEE]],IF(Tableau8[[#This Row],[marché]]="MARCHEEXT",Tableau8[[#This Row],[MARCHE EXT]]+Tableau8[[#This Row],[PAYEE]],IF(Tableau8[[#This Row],[marché]]="RG_5%",Tableau8[[#This Row],[RG_5%]]+Tableau8[[#This Row],[PAYEE]],IF(Tableau8[[#This Row],[marché]]="BFT_5%",Tableau8[[#This Row],[BFT_5%]]+Tableau8[[#This Row],[PAYEE]],IF(Tableau8[[#This Row],[marché]]="AUTRE",Tableau8[[#This Row],[AUTRE]]+Tableau8[[#This Row],[PAYEE]],"")))))
B6: =CONCATENATE(Tableau8[[#This Row],[CT INDIRECT CHANTIER]],Tableau8[[#This Row],[NOM CHANTIER INDIRECT ST]],Tableau8[[#This Row],[Sous Traitant]],Tableau8[[#This Row],[MO INDIRECT CT]]) | G6: =IFERROR(IF(B6="","",VLOOKUP(B6,Tableau16[[Ref]:[CP]],6,FALSE)),"") | H6: =IFERROR(IF(B6="","",VLOOKUP(B6,Tableau16[[Ref]:[CP]],7,FALSE)),"") | I6: =CONCATENATE(Tableau8[[#This Row],[CT INDIRECT CHANTIER]],Tableau8[[#This Row],[NOM CHANTIER INDIRECT ST]],Tableau8[[#This Row],[Sous Traitant]],Tableau8[[#This Row],[MO INDIRECT CT]],Tableau8[[#This Row],[marché]]) | J6: =COUNTIF($I$4:I6,Tableau8[[#This Row],[REF FACT]]) -> 3 | M6: =IF(Tableau8[[#This Row],[Sous Traitant]]>1,VLOOKUP(Tableau8[[#This Row],[Sous Traitant]],#REF!,3,FALSE),"") | T6: =SUMIFS($P$4:P6,$I$4:I6,I6) -> 0 | U6: =IF(Tableau8[[#This Row],[marché]]="MARCHEINT",VLOOKUP($B6,Tableau16[[Ref]:[AUTRE]],13,FALSE)-Tableau8[[#This Row],[PAYEE]],"") | V6: =IF(Tableau8[[#This Row],[marché]]="MARCHEEXT",VLOOKUP($B6,Tableau16[[Ref]:[AUTRE]],14,FALSE)-Tableau8[[#This Row],[PAYEE]],"") | W6: =IF(Tableau8[[#This Row],[marché]]="RG_5%",VLOOKUP($B6,Tableau16[[Ref]:[AUTRE]],15,FALSE)-Tableau8[[#This Row],[PAYEE]],"") | X6: =IF(Tableau8[[#This Row],[marché]]="BFT_5%",VLOOKUP($B6,Tableau16[[Ref]:[AUTRE]],17,FALSE)-Tableau8[[#This Row],[PAYEE]],"") | Y6: =IF(Tableau8[[#This Row],[marché]]="AUTRE",VLOOKUP($B6,Tableau16[[Ref]:[AUTRE]],19,FALSE)-Tableau8[[#This Row],[PAYEE]],"") | AA6: =IF(Tableau8[[#This Row],[marché]]="MARCHEINT",Tableau8[[#This Row],[MARCHE INT]]+Tableau8[[#This Row],[PAYEE]],IF(Tableau8[[#This Row],[marché]]="MARCHEEXT",Tableau8[[#This Row],[MARCHE EXT]]+Tableau8[[#This Row],[PAYEE]],IF(Tableau8[[#This Row],[marché]]="RG_5%",Tableau8[[#This Row],[RG_5%]]+Tableau8[[#This Row],[PAYEE]],IF(Tableau8[[#This Row],[marché]]="BFT_5%",Tableau8[[#This Row],[BFT_5%]]+Tableau8[[#This Row],[PAYEE]],IF(Tableau8[[#This Row],[marché]]="AUTRE",Tableau8[[#This Row],[AUTRE]]+Tableau8[[#This Row],[PAYEE]],"")))))
B7: =CONCATENATE(Tableau8[[#This Row],[CT INDIRECT CHANTIER]],Tableau8[[#This Row],[NOM CHANTIER INDIRECT ST]],Tableau8[[#This Row],[Sous Traitant]],Tableau8[[#This Row],[MO INDIRECT CT]]) | G7: =IFERROR(IF(B7="","",VLOOKUP(B7,Tableau16[[Ref]:[CP]],6,FALSE)),"") | H7: =IFERROR(IF(B7="","",VLOOKUP(B7,Tableau16[[Ref]:[CP]],7,FALSE)),"") | I7: =CONCATENATE(Tableau8[[#This Row],[CT INDIRECT CHANTIER]],Tableau8[[#This Row],[NOM CHANTIER INDIRECT ST]],Tableau8[[#This Row],[Sous Traitant]],Tableau8[[#This Row],[MO INDIRECT CT]],Tableau8[[#This Row],[marché]]) | J7: =COUNTIF($I$4:I7,Tableau8[[#This Row],[REF FACT]]) -> 4 | M7: =IF(Tableau8[[#This Row],[Sous Traitant]]>1,VLOOKUP(Tableau8[[#This Row],[Sous Traitant]],#REF!,3,FALSE),"") | T7: =SUMIFS($P$4:P7,$I$4:I7,I7) -> 0 | U7: =IF(Tableau8[[#This Row],[marché]]="MARCHEINT",VLOOKUP($B7,Tableau16[[Ref]:[AUTRE]],13,FALSE)-Tableau8[[#This Row],[PAYEE]],"") | V7: =IF(Tableau8[[#This Row],[marché]]="MARCHEEXT",VLOOKUP($B7,Tableau16[[Ref]:[AUTRE]],14,FALSE)-Tableau8[[#This Row],[PAYEE]],"") | W7: =IF(Tableau8[[#This Row],[marché]]="RG_5%",VLOOKUP($B7,Tableau16[[Ref]:[AUTRE]],15,FALSE)-Tableau8[[#This Row],[PAYEE]],"") | X7: =IF(Tableau8[[#This Row],[marché]]="BFT_5%",VLOOKUP($B7,Tableau16[[Ref]:[AUTRE]],17,FALSE)-Tableau8[[#This Row],[PAYEE]],"") | Y7: =IF(Tableau8[[#This Row],[marché]]="AUTRE",VLOOKUP($B7,Tableau16[[Ref]:[AUTRE]],19,FALSE)-Tableau8[[#This Row],[PAYEE]],"") | AA7: =IF(Tableau8[[#This Row],[marché]]="MARCHEINT",Tableau8[[#This Row],[MARCHE INT]]+Tableau8[[#This Row],[PAYEE]],IF(Tableau8[[#This Row],[marché]]="MARCHEEXT",Tableau8[[#This Row],[MARCHE EXT]]+Tableau8[[#This Row],[PAYEE]],IF(Tableau8[[#This Row],[marché]]="RG_5%",Tableau8[[#This Row],[RG_5%]]+Tableau8[[#This Row],[PAYEE]],IF(Tableau8[[#This Row],[marché]]="BFT_5%",Tableau8[[#This Row],[BFT_5%]]+Tableau8[[#This Row],[PAYEE]],IF(Tableau8[[#This Row],[marché]]="AUTRE",Tableau8[[#This Row],[AUTRE]]+Tableau8[[#This Row],[PAYEE]],"")))))
A8: FEV | B8: =CONCATENATE(Tableau8[[#This Row],[CT INDIRECT CHANTIER]],Tableau8[[#This Row],[NOM CHANTIER INDIRECT ST]],Tableau8[[#This Row],[Sous Traitant]],Tableau8[[#This Row],[MO INDIRECT CT]]) | G8: =IFERROR(IF(B8="","",VLOOKUP(B8,Tableau16[[Ref]:[CP]],6,FALSE)),"") | H8: =IFERROR(IF(B8="","",VLOOKUP(B8,Tableau16[[Ref]:[CP]],7,FALSE)),"") | I8: =CONCATENATE(Tableau8[[#This Row],[CT INDIRECT CHANTIER]],Tableau8[[#This Row],[NOM CHANTIER INDIRECT ST]],Tableau8[[#This Row],[Sous Traitant]],Tableau8[[#This Row],[MO INDIRECT CT]],Tableau8[[#This Row],[marché]]) | J8: =COUNTIF($I$4:I8,Tableau8[[#This Row],[REF FACT]]) -> 5 | M8: =IF(Tableau8[[#This Row],[Sous Traitant]]>1,VLOOKUP(Tableau8[[#This Row],[Sous Traitant]],#REF!,3,FALSE),"") | T8: =SUMIFS($P$4:P8,$I$4:I8,I8) -> 0 | U8: =IF(Tableau8[[#This Row],[marché]]="MARCHEINT",VLOOKUP($B8,Tableau16[[Ref]:[AUTRE]],13,FALSE)-Tableau8[[#This Row],[PAYEE]],"") | V8: =IF(Tableau8[[#This Row],[marché]]="MARCHEEXT",VLOOKUP($B8,Tableau16[[Ref]:[AUTRE]],14,FALSE)-Tableau8[[#This Row],[PAYEE]],"") | W8: =IF(Tableau8[[#This Row],[marché]]="RG_5%",VLOOKUP($B8,Tableau16[[Ref]:[AUTRE]],15,FALSE)-Tableau8[[#This Row],[PAYEE]],"") | X8: =IF(Tableau8[[#This Row],[marché]]="BFT_5%",VLOOKUP($B8,Tableau16[[Ref]:[AUTRE]],17,FALSE)-Tableau8[[#This Row],[PAYEE]],"") | Y8: =IF(Tableau8[[#This Row],[marché]]="AUTRE",VLOOKUP($B8,Tableau16[[Ref]:[AUTRE]],19,FALSE)-Tableau8[[#This Row],[PAYEE]],"") | AA8: =IF(Tableau8[[#This Row],[marché]]="MARCHEINT",Tableau8[[#This Row],[MARCHE INT]]+Tableau8[[#This Row],[PAYEE]],IF(Tableau8[[#This Row],[marché]]="MARCHEEXT",Tableau8[[#This Row],[MARCHE EXT]]+Tableau8[[#This Row],[PAYEE]],IF(Tableau8[[#This Row],[marché]]="RG_5%",Tableau8[[#This Row],[RG_5%]]+Tableau8[[#This Row],[PAYEE]],IF(Tableau8[[#This Row],[marché]]="BFT_5%",Tableau8[[#This Row],[BFT_5%]]+Tableau8[[#This Row],[PAYEE]],IF(Tableau8[[#This Row],[marché]]="AUTRE",Tableau8[[#This Row],[AUTRE]]+Tableau8[[#This Row],[PAYEE]],"")))))
B9: =CONCATENATE(Tableau8[[#This Row],[CT INDIRECT CHANTIER]],Tableau8[[#This Row],[NOM CHANTIER INDIRECT ST]],Tableau8[[#This Row],[Sous Traitant]],Tableau8[[#This Row],[MO INDIRECT CT]]) | G9: =IFERROR(IF(B9="","",VLOOKUP(B9,Tableau16[[Ref]:[CP]],6,FALSE)),"") | H9: =IFERROR(IF(B9="","",VLOOKUP(B9,Tableau16[[Ref]:[CP]],7,FALSE)),"") | I9: =CONCATENATE(Tableau8[[#This Row],[CT INDIRECT CHANTIER]],Tableau8[[#This Row],[NOM CHANTIER INDIRECT ST]],Tableau8[[#This Row],[Sous Traitant]],Tableau8[[#This Row],[MO INDIRECT CT]],Tableau8[[#This Row],[marché]]) | J9: =COUNTIF($I$4:I9,Tableau8[[#This Row],[REF FACT]]) -> 6 | M9: =IF(Tableau8[[#This Row],[Sous Traitant]]>1,VLOOKUP(Tableau8[[#This Row],[Sous Traitant]],#REF!,3,FALSE),"") | T9: =SUMIFS($P$4:P9,$I$4:I9,I9) -> 0 | U9: =IF(Tableau8[[#This Row],[marché]]="MARCHEINT",VLOOKUP($B9,Tableau16[[Ref]:[AUTRE]],13,FALSE)-Tableau8[[#This Row],[PAYEE]],"") | V9: =IF(Tableau8[[#This Row],[marché]]="MARCHEEXT",VLOOKUP($B9,Tableau16[[Ref]:[AUTRE]],14,FALSE)-Tableau8[[#This Row],[PAYEE]],"") | W9: =IF(Tableau8[[#This Row],[marché]]="RG_5%",VLOOKUP($B9,Tableau16[[Ref]:[AUTRE]],15,FALSE)-Tableau8[[#This Row],[PAYEE]],"") | X9: =IF(Tableau8[[#This Row],[marché]]="BFT_5%",VLOOKUP($B9,Tableau16[[Ref]:[AUTRE]],17,FALSE)-Tableau8[[#This Row],[PAYEE]],"") | Y9: =IF(Tableau8[[#This Row],[marché]]="AUTRE",VLOOKUP($B9,Tableau16[[Ref]:[AUTRE]],19,FALSE)-Tableau8[[#This Row],[PAYEE]],"") | AA9: =IF(Tableau8[[#This Row],[marché]]="MARCHEINT",Tableau8[[#This Row],[MARCHE INT]]+Tableau8[[#This Row],[PAYEE]],IF(Tableau8[[#This Row],[marché]]="MARCHEEXT",Tableau8[[#This Row],[MARCHE EXT]]+Tableau8[[#This Row],[PAYEE]],IF(Tableau8[[#This Row],[marché]]="RG_5%",Tableau8[[#This Row],[RG_5%]]+Tableau8[[#This Row],[PAYEE]],IF(Tableau8[[#This Row],[marché]]="BFT_5%",Tableau8[[#This Row],[BFT_5%]]+Tableau8[[#This Row],[PAYEE]],IF(Tableau8[[#This Row],[marché]]="AUTRE",Tableau8[[#This Row],[AUTRE]]+Tableau8[[#This Row],[PAYEE]],"")))))
B10: =CONCATENATE(Tableau8[[#This Row],[CT INDIRECT CHANTIER]],Tableau8[[#This Row],[NOM CHANTIER INDIRECT ST]],Tableau8[[#This Row],[Sous Traitant]],Tableau8[[#This Row],[MO INDIRECT CT]]) | G10: =IFERROR(IF(B10="","",VLOOKUP(B10,Tableau16[[Ref]:[CP]],6,FALSE)),"") | H10: =IFERROR(IF(B10="","",VLOOKUP(B10,Tableau16[[Ref]:[CP]],7,FALSE)),"") | I10: =CONCATENATE(Tableau8[[#This Row],[CT INDIRECT CHANTIER]],Tableau8[[#This Row],[NOM CHANTIER INDIRECT ST]],Tableau8[[#This Row],[Sous Traitant]],Tableau8[[#This Row],[MO INDIRECT CT]],Tableau8[[#This Row],[marché]]) | J10: =COUNTIF($I$4:I10,Tableau8[[#This Row],[REF FACT]]) -> 7 | M10: =IF(Tableau8[[#This Row],[Sous Traitant]]>1,VLOOKUP(Tableau8[[#This Row],[Sous Traitant]],#REF!,3,FALSE),"") | T10: =SUMIFS($P$4:P10,$I$4:I10,I10) -> 0 | U10: =IF(Tableau8[[#This Row],[marché]]="MARCHEINT",VLOOKUP($B10,Tableau16[[Ref]:[AUTRE]],13,FALSE)-Tableau8[[#This Row],[PAYEE]],"") | V10: =IF(Tableau8[[#This Row],[marché]]="MARCHEEXT",VLOOKUP($B10,Tableau16[[Ref]:[AUTRE]],14,FALSE)-Tableau8[[#This Row],[PAYEE]],"") | W10: =IF(Tableau8[[#This Row],[marché]]="RG_5%",VLOOKUP($B10,Tableau16[[Ref]:[AUTRE]],15,FALSE)-Tableau8[[#This Row],[PAYEE]],"") | X10: =IF(Tableau8[[#This Row],[marché]]="BFT_5%",VLOOKUP($B10,Tableau16[[Ref]:[AUTRE]],17,FALSE)-Tableau8[[#This Row],[PAYEE]],"") | Y10: =IF(Tableau8[[#This Row],[marché]]="AUTRE",VLOOKUP($B10,Tableau16[[Ref]:[AUTRE]],19,FALSE)-Tableau8[[#This Row],[PAYEE]],"") | AA10: =IF(Tableau8[[#This Row],[marché]]="MARCHEINT",Tableau8[[#This Row],[MARCHE INT]]+Tableau8[[#This Row],[PAYEE]],IF(Tableau8[[#This Row],[marché]]="MARCHEEXT",Tableau8[[#This Row],[MARCHE EXT]]+Tableau8[[#This Row],[PAYEE]],IF(Tableau8[[#This Row],[marché]]="RG_5%",Tableau8[[#This Row],[RG_5%]]+Tableau8[[#This Row],[PAYEE]],IF(Tableau8[[#This Row],[marché]]="BFT_5%",Tableau8[[#This Row],[BFT_5%]]+Tableau8[[#This Row],[PAYEE]],IF(Tableau8[[#This Row],[marché]]="AUTRE",Tableau8[[#This Row],[AUTRE]]+Tableau8[[#This Row],[PAYEE]],"")))))
B11: =CONCATENATE(Tableau8[[#This Row],[CT INDIRECT CHANTIER]],Tableau8[[#This Row],[NOM CHANTIER INDIRECT ST]],Tableau8[[#This Row],[Sous Traitant]],Tableau8[[#This Row],[MO INDIRECT CT]]) | G11: =IFERROR(IF(B11="","",VLOOKUP(B11,Tableau16[[Ref]:[CP]],6,FALSE)),"") | H11: =IFERROR(IF(B11="","",VLOOKUP(B11,Tableau16[[Ref]:[CP]],7,FALSE)),"") | I11: =CONCATENATE(Tableau8[[#This Row],[CT INDIRECT CHANTIER]],Tableau8[[#This Row],[NOM CHANTIER INDIRECT ST]],Tableau8[[#This Row],[Sous Traitant]],Tableau8[[#This Row],[MO INDIRECT CT]],Tableau8[[#This Row],[marché]]) | J11: =COUNTIF($I$4:I11,Tableau8[[#This Row],[REF FACT]]) -> 8 | M11: =IF(Tableau8[[#This Row],[Sous Traitant]]>1,VLOOKUP(Tableau8[[#This Row],[Sous Traitant]],#REF!,3,FALSE),"") | T11: =SUMIFS($P$4:P11,$I$4:I11,I11) -> 0 | U11: =IF(Tableau8[[#This Row],[marché]]="MARCHEINT",VLOOKUP($B11,Tableau16[[Ref]:[AUTRE]],13,FALSE)-Tableau8[[#This Row],[PAYEE]],"") | V11: =IF(Tableau8[[#This Row],[marché]]="MARCHEEXT",VLOOKUP($B11,Tableau16[[Ref]:[AUTRE]],14,FALSE)-Tableau8[[#This Row],[PAYEE]],"") | W11: =IF(Tableau8[[#This Row],[marché]]="RG_5%",VLOOKUP($B11,Tableau16[[Ref]:[AUTRE]],15,FALSE)-Tableau8[[#This Row],[PAYEE]],"") | X11: =IF(Tableau8[[#This Row],[marché]]="BFT_5%",VLOOKUP($B11,Tableau16[[Ref]:[AUTRE]],17,FALSE)-Tableau8[[#This Row],[PAYEE]],"") | Y11: =IF(Tableau8[[#This Row],[marché]]="AUTRE",VLOOKUP($B11,Tableau16[[Ref]:[AUTRE]],19,FALSE)-Tableau8[[#This Row],[PAYEE]],"") | AA11: =IF(Tableau8[[#This Row],[marché]]="MARCHEINT",Tableau8[[#This Row],[MARCHE INT]]+Tableau8[[#This Row],[PAYEE]],IF(Tableau8[[#This Row],[marché]]="MARCHEEXT",Tableau8[[#This Row],[MARCHE EXT]]+Tableau8[[#This Row],[PAYEE]],IF(Tableau8[[#This Row],[marché]]="RG_5%",Tableau8[[#This Row],[RG_5%]]+Tableau8[[#This Row],[PAYEE]],IF(Tableau8[[#This Row],[marché]]="BFT_5%",Tableau8[[#This Row],[BFT_5%]]+Tableau8[[#This Row],[PAYEE]],IF(Tableau8[[#This Row],[marché]]="AUTRE",Tableau8[[#This Row],[AUTRE]]+Tableau8[[#This Row],[PAYEE]],"")))))
A12: MARS | B12: =CONCATENATE(Tableau8[[#This Row],[CT INDIRECT CHANTIER]],Tableau8[[#This Row],[NOM CHANTIER INDIRECT ST]],Tableau8[[#This Row],[Sous Traitant]],Tableau8[[#This Row],[MO INDIRECT CT]]) | G12: =IFERROR(IF(B12="","",VLOOKUP(B12,Tableau16[[Ref]:[CP]],6,FALSE)),"") | H12: =IFERROR(IF(B12="","",VLOOKUP(B12,Tableau16[[Ref]:[CP]],7,FALSE)),"") | I12: =CONCATENATE(Tableau8[[#This Row],[CT INDIRECT CHANTIER]],Tableau8[[#This Row],[NOM CHANTIER INDIRECT ST]],Tableau8[[#This Row],[Sous Traitant]],Tableau8[[#This Row],[MO INDIRECT CT]],Tableau8[[#This Row],[marché]]) | J12: =COUNTIF($I$4:I12,Tableau8[[#This Row],[REF FACT]]) -> 9 | M12: =IF(Tableau8[[#This Row],[Sous Traitant]]>1,VLOOKUP(Tableau8[[#This Row],[Sous Traitant]],#REF!,3,FALSE),"") | T12: =SUMIFS($P$4:P12,$I$4:I12,I12) -> 0 | U12: =IF(Tableau8[[#This Row],[marché]]="MARCHEINT",VLOOKUP($B12,Tableau16[[Ref]:[AUTRE]],13,FALSE)-Tableau8[[#This Row],[PAYEE]],"") | V12: =IF(Tableau8[[#This Row],[marché]]="MARCHEEXT",VLOOKUP($B12,Tableau16[[Ref]:[AUTRE]],14,FALSE)-Tableau8[[#This Row],[PAYEE]],"") | W12: =IF(Tableau8[[#This Row],[marché]]="RG_5%",VLOOKUP($B12,Tableau16[[Ref]:[AUTRE]],15,FALSE)-Tableau8[[#This Row],[PAYEE]],"") | X12: =IF(Tableau8[[#This Row],[marché]]="BFT_5%",VLOOKUP($B12,Tableau16[[Ref]:[AUTRE]],17,FALSE)-Tableau8[[#This Row],[PAYEE]],"") | Y12: =IF(Tableau8[[#This Row],[marché]]="AUTRE",VLOOKUP($B12,Tableau16[[Ref]:[AUTRE]],19,FALSE)-Tableau8[[#This Row],[PAYEE]],"") | AA12: =IF(Tableau8[[#This Row],[marché]]="MARCHEINT",Tableau8[[#This Row],[MARCHE INT]]+Tableau8[[#This Row],[PAYEE]],IF(Tableau8[[#This Row],[marché]]="MARCHEEXT",Tableau8[[#This Row],[MARCHE EXT]]+Tableau8[[#This Row],[PAYEE]],IF(Tableau8[[#This Row],[marché]]="RG_5%",Tableau8[[#This Row],[RG_5%]]+Tableau8[[#This Row],[PAYEE]],IF(Tableau8[[#This Row],[marché]]="BFT_5%",Tableau8[[#This Row],[BFT_5%]]+Tableau8[[#This Row],[PAYEE]],IF(Tableau8[[#This Row],[marché]]="AUTRE",Tableau8[[#This Row],[AUTRE]]+Tableau8[[#This Row],[PAYEE]],"")))))
B13: =CONCATENATE(Tableau8[[#This Row],[CT INDIRECT CHANTIER]],Tableau8[[#This Row],[NOM CHANTIER INDIRECT ST]],Tableau8[[#This Row],[Sous Traitant]],Tableau8[[#This Row],[MO INDIRECT CT]]) | G13: =IFERROR(IF(B13="","",VLOOKUP(B13,Tableau16[[Ref]:[CP]],6,FALSE)),"") | H13: =IFERROR(IF(B13="","",VLOOKUP(B13,Tableau16[[Ref]:[CP]],7,FALSE)),"") | I13: =CONCATENATE(Tableau8[[#This Row],[CT INDIRECT CHANTIER]],Tableau8[[#This Row],[NOM CHANTIER INDIRECT ST]],Tableau8[[#This Row],[Sous Traitant]],Tableau8[[#This Row],[MO INDIRECT CT]],Tableau8[[#This Row],[marché]]) | J13: =COUNTIF($I$4:I13,Tableau8[[#This Row],[REF FACT]]) -> 10 | M13: =IF(Tableau8[[#This Row],[Sous Traitant]]>1,VLOOKUP(Tableau8[[#This Row],[Sous Traitant]],#REF!,3,FALSE),"") | T13: =SUMIFS($P$4:P13,$I$4:I13,I13) -> 0 | U13: =IF(Tableau8[[#This Row],[marché]]="MARCHEINT",VLOOKUP($B13,Tableau16[[Ref]:[AUTRE]],13,FALSE)-Tableau8[[#This Row],[PAYEE]],"") | V13: =IF(Tableau8[[#This Row],[marché]]="MARCHEEXT",VLOOKUP($B13,Tableau16[[Ref]:[AUTRE]],14,FALSE)-Tableau8[[#This Row],[PAYEE]],"") | W13: =IF(Tableau8[[#This Row],[marché]]="RG_5%",VLOOKUP($B13,Tableau16[[Ref]:[AUTRE]],15,FALSE)-Tableau8[[#This Row],[PAYEE]],"") | X13: =IF(Tableau8[[#This Row],[marché]]="BFT_5%",VLOOKUP($B13,Tableau16[[Ref]:[AUTRE]],17,FALSE)-Tableau8[[#This Row],[PAYEE]],"") | Y13: =IF(Tableau8[[#This Row],[marché]]="AUTRE",VLOOKUP($B13,Tableau16[[Ref]:[AUTRE]],19,FALSE)-Tableau8[[#This Row],[PAYEE]],"") | AA13: =IF(Tableau8[[#This Row],[marché]]="MARCHEINT",Tableau8[[#This Row],[MARCHE INT]]+Tableau8[[#This Row],[PAYEE]],IF(Tableau8[[#This Row],[marché]]="MARCHEEXT",Tableau8[[#This Row],[MARCHE EXT]]+Tableau8[[#This Row],[PAYEE]],IF(Tableau8[[#This Row],[marché]]="RG_5%",Tableau8[[#This Row],[RG_5%]]+Tableau8[[#This Row],[PAYEE]],IF(Tableau8[[#This Row],[marché]]="BFT_5%",Tableau8[[#This Row],[BFT_5%]]+Tableau8[[#This Row],[PAYEE]],IF(Tableau8[[#This Row],[marché]]="AUTRE",Tableau8[[#This Row],[AUTRE]]+Tableau8[[#This Row],[PAYEE]],"")))))
B14: =CONCATENATE(Tableau8[[#This Row],[CT INDIRECT CHANTIER]],Tableau8[[#This Row],[NOM CHANTIER INDIRECT ST]],Tableau8[[#This Row],[Sous Traitant]],Tableau8[[#This Row],[MO INDIRECT CT]]) | G14: =IFERROR(IF(B14="","",VLOOKUP(B14,Tableau16[[Ref]:[CP]],6,FALSE)),"") | H14: =IFERROR(IF(B14="","",VLOOKUP(B14,Tableau16[[Ref]:[CP]],7,FALSE)),"") | I14: =CONCATENATE(Tableau8[[#This Row],[CT INDIRECT CHANTIER]],Tableau8[[#This Row],[NOM CHANTIER INDIRECT ST]],Tableau8[[#This Row],[Sous Traitant]],Tableau8[[#This Row],[MO INDIRECT CT]],Tableau8[[#This Row],[marché]]) | J14: =COUNTIF($I$4:I14,Tableau8[[#This Row],[REF FACT]]) -> 11 | M14: =IF(Tableau8[[#This Row],[Sous Traitant]]>1,VLOOKUP(Tableau8[[#This Row],[Sous Traitant]],#REF!,3,FALSE),"") | T14: =SUMIFS($P$4:P14,$I$4:I14,I14) -> 0 | U14: =IF(Tableau8[[#This Row],[marché]]="MARCHEINT",VLOOKUP($B14,Tableau16[[Ref]:[AUTRE]],13,FALSE)-Tableau8[[#This Row],[PAYEE]],"") | V14: =IF(Tableau8[[#This Row],[marché]]="MARCHEEXT",VLOOKUP($B14,Tableau16[[Ref]:[AUTRE]],14,FALSE)-Tableau8[[#This Row],[PAYEE]],"") | W14: =IF(Tableau8[[#This Row],[marché]]="RG_5%",VLOOKUP($B14,Tableau16[[Ref]:[AUTRE]],15,FALSE)-Tableau8[[#This Row],[PAYEE]],"") | X14: =IF(Tableau8[[#This Row],[marché]]="BFT_5%",VLOOKUP($B14,Tableau16[[Ref]:[AUTRE]],17,FALSE)-Tableau8[[#This Row],[PAYEE]],"") | Y14: =IF(Tableau8[[#This Row],[marché]]="AUTRE",VLOOKUP($B14,Tableau16[[Ref]:[AUTRE]],19,FALSE)-Tableau8[[#This Row],[PAYEE]],"") | AA14: =IF(Tableau8[[#This Row],[marché]]="MARCHEINT",Tableau8[[#This Row],[MARCHE INT]]+Tableau8[[#This Row],[PAYEE]],IF(Tableau8[[#This Row],[marché]]="MARCHEEXT",Tableau8[[#This Row],[MARCHE EXT]]+Tableau8[[#This Row],[PAYEE]],IF(Tableau8[[#This Row],[marché]]="RG_5%",Tableau8[[#This Row],[RG_5%]]+Tableau8[[#This Row],[PAYEE]],IF(Tableau8[[#This Row],[marché]]="BFT_5%",Tableau8[[#This Row],[BFT_5%]]+Tableau8[[#This Row],[PAYEE]],IF(Tableau8[[#This Row],[marché]]="AUTRE",Tableau8[[#This Row],[AUTRE]]+Tableau8[[#This Row],[PAYEE]],"")))))
