Workbook
Name test: OFFSET(DONNEESOld!$O$1,,COUNTA(DONNEESOld!$1:$1),-7,)
Name test: OFFSET(DONNEES!$P$1,,COUNTA(DONNEES!$1:$1),-7,)

Sheet MARCHE CONTRAT PV
B1: SUIVI CHANTIER | AC1: LIEN DOSSIER
A2: CHANTIER | H2: CONTRAT | U2: VALIDATION | Z2: AVANCEMENT ST | AA2: PV RECEPTION
A3: Ref | B3: MO | C3: MOE | D3: CT | E3: CHANTIER | F3: ADRESSE | G3: CP | H3: SOUS TRAITANT | I3: PU SOUS TRAITANT | J3: INDICE BC | K3: TX | L3: MONTANT BC | M3: MARCHEEXT | N3: MARCHEINT | O3: RG_5% | P3: P_2% | Q3: BFT_5% | R3: E 3% | S3: AUTRE | T3: OBSERVATION | U3: STATUT | V3: SIGNATURE | W3: ENVOIE | X3: RECEP | Y3: ACCEPTATION | AA3: DATE | AB3: RESERVES
A4: =CONCATENATE(Tableau16[[#This Row],[CT]],Tableau16[[#This Row],[CHANTIER]],Tableau16[[#This Row],[SOUS TRAITANT]],Tableau16[[#This Row],[MO]]) -> ARNAUDBOBIGNYASPIRIT | B4: SPIRIT | C4: ARCADE | D4: ARNAUD | E4: BOBIGNY | F4: 13 BIS RUE DU PONT | G4: 7700 | H4: A | I4: =VLOOKUP(H4,Tableau11[[SOUS TRAITANT]:[PU MARCHE]],3,FALSE) -> 1100 | J4: a | K4: CFO | L4: 100000 | M4: =IF(Tableau16[[#This Row],[MARCHEINT]]>1,Tableau16[[#This Row],[MONTANT BC]]*30%,Tableau16[[#This Row],[MONTANT BC]]) -> 0 | N4: =IF(Tableau16[[#This Row],[MARCHEEXT]]>=1,((Tableau16[[#This Row],[MONTANT BC]]*70%)-(Tableau16[[#This Row],[RG_5%]]+Tableau16[[#This Row],[P_2%]]+Tableau16[[#This Row],[BFT_5%]]+Tableau16[[#This Row],[E 3%]]+Tableau16[[#This Row],[AUTRE]])),(Tableau16[[#This Row],[MONTANT BC]]-(Tableau16[[#This Row],[RG_5%]]+Tableau16[[#This Row],[P_2%]]+Tableau16[[#This Row],[BFT_5%]]+Tableau16[[#This Row],[E 3%]]+Tableau16[[#This Row],[AUTRE]]))) -> 55000 | O4: =Tableau16[MONTANT BC]*5% -> 5000 | P4: =Tableau16[[#This Row],[MONTANT BC]]*2% -> 2000 | Q4: =Tableau16[[#This Row],[MONTANT BC]]*5% -> 5000 | R4: =(Tableau16[[#This Row],[MONTANT BC]]*3%) -> 3000 | U4: =IF(AND(J4="",W4="",Y4=""),"",IF(AND(J4>1,W4=""),"EN_COURS",IF(AND(W4>1,Y4="",W4+21<=TODAY()),"VALIDER_PAR_DEFFAUT",IF(AND(W4>1,Y4=""),"ENVOYER",IF(Y4>1,"VALIDER",""))))) -> VALIDER_PAR_DEFFAUT | W4: 43831 | AB4: NON
A5: =CONCATENATE(Tableau16[[#This Row],[CT]],Tableau16[[#This Row],[CHANTIER]],Tableau16[[#This Row],[SOUS TRAITANT]],Tableau16[[#This Row],[MO]]) -> ARNAUDST MICHEL SUR ORGEASPIRIT | B5: SPIRIT | D5: ARNAUD | E5: ST MICHEL SUR ORGE | H5: A | I5: =VLOOKUP(H5,Tableau11[[SOUS TRAITANT]:[PU MARCHE]],3,FALSE) -> 1100 | J5: a | K5: CFO | L5: 100000 | M5: =IF(Tableau16[[#This Row],[MARCHEINT]]>1,Tableau16[[#This Row],[MONTANT BC]]*30%,Tableau16[[#This Row],[MONTANT BC]]) -> 0 | N5: =IF(Tableau16[[#This Row],[MARCHEEXT]]>=1,((Tableau16[[#This Row],[MONTANT BC]]*70%)-(Tableau16[[#This Row],[RG_5%]]+Tableau16[[#This Row],[P_2%]]+Tableau16[[#This Row],[BFT_5%]]+Tableau16[[#This Row],[E 3%]]+Tableau16[[#This Row],[AUTRE]])),(Tableau16[[#This Row],[MONTANT BC]]-(Tableau16[[#This Row],[RG_5%]]+Tableau16[[#This Row],[P_2%]]+Tableau16[[#This Row],[BFT_5%]]+Tableau16[[#This Row],[E 3%]]+Tableau16[[#This Row],[AUTRE]]))) -> 55000 | O5: =Tableau16[MONTANT BC]*5% -> 5000 | P5: =Tableau16[[#This Row],[MONTANT BC]]*2% -> 2000 | Q5: =Tableau16[[#This Row],[MONTANT BC]]*5% -> 5000 | R5: =(Tableau16[[#This Row],[MONTANT BC]]*3%) -> 3000 | U5: =IF(AND(J5="",W5="",Y5=""),"",IF(AND(J5>1,W5=""),"EN_COURS",IF(AND(W5>1,Y5="",W5+21<=TODAY()),"VALIDER_PAR_DEFFAUT",IF(AND(W5>1,Y5=""),"ENVOYER",IF(Y5>1,"VALIDER",""))))) -> VALIDER | W5: 44032 | Y5: 44042
A6: =CONCATENATE(Tableau16[[#This Row],[CT]],Tableau16[[#This Row],[CHANTIER]],Tableau16[[#This Row],[SOUS TRAITANT]],Tableau16[[#This Row],[MO]]) -> ARNAUDST MICHEL SUR ORGEASPIRIT | B6: SPIRIT | D6: ARNAUD | E6: ST MICHEL SUR ORGE | H6: A | I6: =VLOOKUP(H6,Tableau11[[SOUS TRAITANT]:[PU MARCHE]],3,FALSE) -> 1100 | J6: a | K6: CFO | L6: 100000 | M6: =IF(Tableau16[[#This Row],[MARCHEINT]]>1,Tableau16[[#This Row],[MONTANT BC]]*30%,Tableau16[[#This Row],[MONTANT BC]]) -> 0 | N6: =IF(Tableau16[[#This Row],[MARCHEEXT]]>=1,((Tableau16[[#This Row],[MONTANT BC]]*70%)-(Tableau16[[#This Row],[RG_5%]]+Tableau16[[#This Row],[P_2%]]+Tableau16[[#This Row],[BFT_5%]]+Tableau16[[#This Row],[E 3%]]+Tableau16[[#This Row],[AUTRE]])),(Tableau16[[#This Row],[MONTANT BC]]-(Tableau16[[#This Row],[RG_5%]]+Tableau16[[#This Row],[P_2%]]+Tableau16[[#This Row],[BFT_5%]]+Tableau16[[#This Row],[E 3%]]+Tableau16[[#This Row],[AUTRE]]))) -> 85000 | O6: =Tableau16[MONTANT BC]*5% -> 5000 | P6: =Tableau16[[#This Row],[MONTANT BC]]*2% -> 2000 | Q6: =Tableau16[[#This Row],[MONTANT BC]]*5% -> 5000 | R6: =(Tableau16[[#This Row],[MONTANT BC]]*3%) -> 3000 | U6: =IF(AND(J6="",W6="",Y6=""),"",IF(AND(J6>1,W6=""),"EN_COURS",IF(AND(W6>1,Y6="",W6+21<=TODAY()),"VALIDER_PAR_DEFFAUT",IF(AND(W6>1,Y6=""),"ENVOYER",IF(Y6>1,"VALIDER",""))))) -> VALIDER_PAR_DEFFAUT | W6: 44063
A7: =CONCATENATE(Tableau16[[#This Row],[CT]],Tableau16[[#This Row],[CHANTIER]],Tableau16[[#This Row],[SOUS TRAITANT]],Tableau16[[#This Row],[MO]]) -> ARNAUDST CYR ASPIRIT | B7: SPIRIT | D7: ARNAUD | E7: ST CYR | H7: A | I7: =VLOOKUP(H7,Tableau11[[SOUS TRAITANT]:[PU MARCHE]],3,FALSE) -> 1100 | J7: a | K7: CFO | L7: 100000 | M7: =IF(Tableau16[[#This Row],[MARCHEINT]]>1,Tableau16[[#This Row],[MONTANT BC]]*30%,Tableau16[[#This Row],[MONTANT BC]]) -> 0 | N7: =IF(Tableau16[[#This Row],[MARCHEEXT]]>=1,((Tableau16[[#This Row],[MONTANT BC]]*70%)-(Tableau16[[#This Row],[RG_5%]]+Tableau16[[#This Row],[P_2%]]+Tableau16[[#This Row],[BFT_5%]]+Tableau16[[#This Row],[E 3%]]+Tableau16[[#This Row],[AUTRE]])),(Tableau16[[#This Row],[MONTANT BC]]-(Tableau16[[#This Row],[RG_5%]]+Tableau16[[#This Row],[P_2%]]+Tableau16[[#This Row],[BFT_5%]]+Tableau16[[#This Row],[E 3%]]+Tableau16[[#This Row],[AUTRE]]))) -> 55000 | O7: =Tableau16[MONTANT BC]*5% -> 5000 | P7: =Tableau16[[#This Row],[MONTANT BC]]*2% -> 2000 | Q7: =Tableau16[[#This Row],[MONTANT BC]]*5% -> 5000 | R7: =(Tableau16[[#This Row],[MONTANT BC]]*3%) -> 3000 | U7: =IF(AND(J7="",W7="",Y7=""),"",IF(AND(J7>1,W7=""),"EN_COURS",IF(AND(W7>1,Y7="",W7+21<=TODAY()),"VALIDER_PAR_DEFFAUT",IF(AND(W7>1,Y7=""),"ENVOYER",IF(Y7>1,"VALIDER",""))))) -> EN_COURS
A8: =CONCATENATE(Tableau16[[#This Row],[CT]],Tableau16[[#This Row],[CHANTIER]],Tableau16[[#This Row],[SOUS TRAITANT]],Tableau16[[#This Row],[MO]]) -> ARNAUDPUTEAU CORDELIAASPIRIT | B8: SPIRIT | D8: ARNAUD | E8: PUTEAU CORDELIA | H8: A | I8: =VLOOKUP(H8,Tableau11[[SOUS TRAITANT]:[PU MARCHE]],3,FALSE) -> 1100 | J8: a | K8: CFO | L8: 100000 | M8: =Tableau16[[#This Row],[MONTANT BC]]*30% -> 30000 | N8: =IF(Tableau16[[#This Row],[MARCHEEXT]]>=1,((Tableau16[[#This Row],[MONTANT BC]]*70%)-(Tableau16[[#This Row],[RG_5%]]+Tableau16[[#This Row],[P_2%]]+Tableau16[[#This Row],[BFT_5%]]+Tableau16[[#This Row],[E 3%]]+Tableau16[[#This Row],[AUTRE]])),(Tableau16[[#This Row],[MONTANT BC]]-(Tableau16[[#This Row],[RG_5%]]+Tableau16[[#This Row],[P_2%]]+Tableau16[[#This Row],[BFT_5%]]+Tableau16[[#This Row],[E 3%]]+Tableau16[[#This Row],[AUTRE]]))) -> 55000 | O8: =Tableau16[MONTANT BC]*5% -> 5000 | P8: =Tableau16[[#This Row],[MONTANT BC]]*2% -> 2000 | Q8: =Tableau16[[#This Row],[MONTANT BC]]*5% -> 5000 | R8: =(Tableau16[[#This Row],[MONTANT BC]]*3%) -> 3000 | U8: =IF(AND(J8="",W8="",Y8=""),"",IF(AND(J8>1,W8=""),"EN_COURS",IF(AND(W8>1,Y8="",W8+21<=TODAY()),"VALIDER_PAR_DEFFAUT",IF(AND(W8>1,Y8=""),"ENVOYER",IF(Y8>1,"VALIDER",""))))) -> EN_COURS
A9: =CONCATENATE(Tableau16[[#This Row],[CT]],Tableau16[[#This Row],[CHANTIER]],Tableau16[[#This Row],[SOUS TRAITANT]],Tableau16[[#This Row],[MO]]) -> ARNAUDPUTEAU CORDELIAASPIRIT | B9: SPIRIT | D9: ARNAUD | E9: PUTEAU CORDELIA | H9: A | I9: =VLOOKUP(H9,Tableau11[[SOUS TRAITANT]:[PU MARCHE]],3,FALSE) -> 1100 | J9: a | K9: CFO | L9: 100000 | M9: =Tableau16[[#This Row],[MONTANT BC]]*30% -> 30000 | N9: =IF(Tableau16[[#This Row],[MARCHEEXT]]>=1,((Tableau16[[#This Row],[MONTANT BC]]*70%)-(Tableau16[[#This Row],[RG_5%]]+Tableau16[[#This Row],[P_2%]]+Tableau16[[#This Row],[BFT_5%]]+Tableau16[[#This Row],[E 3%]]+Tableau16[[#This Row],[AUTRE]])),(Tableau16[[#This Row],[MONTANT BC]]-(Tableau16[[#This Row],[RG_5%]]+Tableau16[[#This Row],[P_2%]]+Tableau16[[#This Row],[BFT_5%]]+Tableau16[[#This Row],[E 3%]]+Tableau16[[#This Row],[AUTRE]]))) -> 55000 | O9: =Tableau16[MONTANT BC]*5% -> 5000 | P9: =Tableau16[[#This Row],[MONTANT BC]]*2% -> 2000 | Q9: =Tableau16[[#This Row],[MONTANT BC]]*5% -> 5000 | R9: =(Tableau16[[#This Row],[MONTANT BC]]*3%) -> 3000 | U9: =IF(AND(J9="",W9="",Y9=""),"",IF(AND(J9>1,W9=""),"EN_COURS",IF(AND(W9>1,Y9="",W9+21<=TODAY()),"VALIDER_PAR_DEFFAUT",IF(AND(W9>1,Y9=""),"ENVOYER",IF(Y9>1,"VALIDER",""))))) -> VALIDER_PAR_DEFFAUT | W9: 44089
A10: =CONCATENATE(Tableau16[[#This Row],[CT]],Tableau16[[#This Row],[CHANTIER]],Tableau16[[#This Row],[SOUS TRAITANT]],Tableau16[[#This Row],[MO]]) -> ARNAUDPUTEAU CORDELIAASPIRIT | B10: SPIRIT | D10: ARNAUD | E10: PUTEAU CORDELIA | H10: A | I10: =VLOOKUP(H10,Tableau11[[SOUS TRAITANT]:[PU MARCHE]],3,FALSE) -> 1100 | J10: a | K10: CFO | L10: 100000 | M10: =Tableau16[[#This Row],[MONTANT BC]]*30% -> 30000 | N10: =IF(Tableau16[[#This Row],[MARCHEEXT]]>=1,((Tableau16[[#This Row],[MONTANT BC]]*70%)-(Tableau16[[#This Row],[RG_5%]]+Tableau16[[#This Row],[P_2%]]+Tableau16[[#This Row],[BFT_5%]]+Tableau16[[#This Row],[E 3%]]+Tableau16[[#This Row],[AUTRE]])),(Tableau16[[#This Row],[MONTANT BC]]-(Tableau16[[#This Row],[RG_5%]]+Tableau16[[#This Row],[P_2%]]+Tableau16[[#This Row],[BFT_5%]]+Tableau16[[#This Row],[E 3%]]+Tableau16[[#This Row],[AUTRE]]))) -> 55000 | O10: =Tableau16[MONTANT BC]*5% -> 5000 | P10: =Tableau16[[#This Row],[MONTANT BC]]*2% -> 2000 | Q10: =Tableau16[[#This Row],[MONTANT BC]]*5% -> 5000 | R10: =(Tableau16[[#This Row],[MONTANT BC]]*3%) -> 3000 | U10: =IF(AND(J10="",W10="",Y10=""),"",IF(AND(J10>1,W10=""),"EN_COURS",IF(AND(W10>1,Y10="",W10+21<=TODAY()),"VALIDER_PAR_DEFFAUT",IF(AND(W10>1,Y10=""),"ENVOYER",IF(Y10>1,"VALIDER",""))))) -> EN_COURS
A11: =CONCATENATE(Tableau16[[#This Row],[CT]],Tableau16[[#This Row],[CHANTIER]],Tableau16[[#This Row],[SOUS TRAITANT]],Tableau16[[#This Row],[MO]]) -> FREDCHATENAY MALABRY - IRENADH2O | B11: H2O | D11: FRED | E11: CHATENAY MALABRY - IRENA | H11: D | I11: =VLOOKUP(H11,Tableau11[[SOUS TRAITANT]:[PU MARCHE]],3,FALSE) -> 1103 | J11: a | K11: CFO | L11: 100000 | M11: =Tableau16[[#This Row],[MONTANT BC]]*30% -> 30000 | N11: =IF(Tableau16[[#This Row],[MARCHEEXT]]>=1,((Tableau16[[#This Row],[MONTANT BC]]*70%)-(Tableau16[[#This Row],[RG_5%]]+Tableau16[[#This Row],[P_2%]]+Tableau16[[#This Row],[BFT_5%]]+Tableau16[[#This Row],[E 3%]]+Tableau16[[#This Row],[AUTRE]])),(Tableau16[[#This Row],[MONTANT BC]]-(Tableau16[[#This Row],[RG_5%]]+Tableau16[[#This Row],[P_2%]]+Tableau16[[#This Row],[BFT_5%]]+Tableau16[[#This Row],[E 3%]]+Tableau16[[#This Row],[AUTRE]]))) -> 55000 | O11: =Tableau16[MONTANT BC]*5% -> 5000 | P11: =Tableau16[[#This Row],[MONTANT BC]]*2% -> 2000 | Q11: =Tableau16[[#This Row],[MONTANT BC]]*5% -> 5000 | R11: =(Tableau16[[#This Row],[MONTANT BC]]*3%) -> 3000 | U11: =IF(AND(J11="",W11="",Y11=""),"",IF(AND(J11>1,W11=""),"EN_COURS",IF(AND(W11>1,Y11="",W11+21<=TODAY()),"VALIDER_PAR_DEFFAUT",IF(AND(W11>1,Y11=""),"ENVOYER",IF(Y11>1,"VALIDER",""))))) -> EN_COURS
A12: =CONCATENATE(Tableau16[[#This Row],[CT]],Tableau16[[#This Row],[CHANTIER]],Tableau16[[#This Row],[SOUS TRAITANT]],Tableau16[[#This Row],[MO]]) -> FREDCHATENAY MALABRY - IRENADH2O | B12: H2O | D12: FRED | E12: CHATENAY MALABRY - IRENA | H12: D | I12: =VLOOKUP(H12,Tableau11[[SOUS TRAITANT]:[PU MARCHE]],3,FALSE) -> 1103 | J12: a | K12: CFO | L12: 100000 | M12: =Tableau16[[#This Row],[MONTANT BC]]*30% -> 30000 | N12: =IF(Tableau16[[#This Row],[MARCHEEXT]]>=1,((Tableau16[[#This Row],[MONTANT BC]]*70%)-(Tableau16[[#This Row],[RG_5%]]+Tableau16[[#This Row],[P_2%]]+Tableau16[[#This Row],[BFT_5%]]+Tableau16[[#This Row],[E 3%]]+Tableau16[[#This Row],[AUTRE]])),(Tableau16[[#This Row],[MONTANT BC]]-(Tableau16[[#This Row],[RG_5%]]+Tableau16[[#This Row],[P_2%]]+Tableau16[[#This Row],[BFT_5%]]+Tableau16[[#This Row],[E 3%]]+Tableau16[[#This Row],[AUTRE]]))) -> 55000 | O12: =Tableau16[MONTANT BC]*5% -> 5000 | P12: =Tableau16[[#This Row],[MONTANT BC]]*2% -> 2000 | Q12: =Tableau16[[#This Row],[MONTANT BC]]*5% -> 5000 | R12: =(Tableau16[[#This Row],[MONTANT BC]]*3%) -> 3000 | U12: =IF(AND(J12="",W12="",Y12=""),"",IF(AND(J12>1,W12=""),"EN_COURS",IF(AND(W12>1,Y12="",W12+21<=TODAY()),"VALIDER_PAR_DEFFAUT",IF(AND(W12>1,Y12=""),"ENVOYER",IF(Y12>1,"VALIDER",""))))) -> EN_COURS
A13: =CONCATENATE(Tableau16[[#This Row],[CT]],Tableau16[[#This Row],[CHANTIER]],Tableau16[[#This Row],[SOUS TRAITANT]],Tableau16[[#This Row],[MO]]) -> FREDCHATENAY MALABRY - IRENADH2O | B13: H2O | D13: FRED | E13: CHATENAY MALABRY - IRENA | H13: D | I13: =VLOOKUP(H13,Tableau11[[SOUS TRAITANT]:[PU MARCHE]],3,FALSE) -> 1103 | J13: a | K13: CFO | L13: 100000 | M13: =Tableau16[[#This Row],[MONTANT BC]]*30% -> 30000 | N13: =IF(Tableau16[[#This Row],[MARCHEEXT]]>=1,((Tableau16[[#This Row],[MONTANT BC]]*70%)-(Tableau16[[#This Row],[RG_5%]]+Tableau16[[#This Row],[P_2%]]+Tableau16[[#This Row],[BFT_5%]]+Tableau16[[#This Row],[E 3%]]+Tableau16[[#This Row],[AUTRE]])),(Tableau16[[#This Row],[MONTANT BC]]-(Tableau16[[#This Row],[RG_5%]]+Tableau16[[#This Row],[P_2%]]+Tableau16[[#This Row],[BFT_5%]]+Tableau16[[#This Row],[E 3%]]+Tableau16[[#This Row],[AUTRE]]))) -> 55000 | O13: =Tableau16[MONTANT BC]*5% -> 5000 | P13: =Tableau16[[#This Row],[MONTANT BC]]*2% -> 2000 | Q13: =Tableau16[[#This Row],[MONTANT BC]]*5% -> 5000 | R13: =(Tableau16[[#This Row],[MONTANT BC]]*3%) -> 3000 | U13: =IF(AND(J13="",W13="",Y13=""),"",IF(AND(J13>1,W13=""),"EN_COURS",IF(AND(W13>1,Y13="",W13+21<=TODAY()),"VALIDER_PAR_DEFFAUT",IF(AND(W13>1,Y13=""),"ENVOYER",IF(Y13>1,"VALIDER",""))))) -> EN_COURS
A14: =CONCATENATE(Tableau16[[#This Row],[CT]],Tableau16[[#This Row],[CHANTIER]],Tableau16[[#This Row],[SOUS TRAITANT]],Tableau16[[#This Row],[MO]]) -> FREDCHATENAY MALABRY - IRENAFH2O | B14: H2O | D14: FRED | E14: CHATENAY MALABRY - IRENA | H14: F | I14: =VLOOKUP(H14,Tableau11[[SOUS TRAITANT]:[PU MARCHE]],3,FALSE) -> 1105 | J14: a | K14: CFO | L14: 100000 | M14: =Tableau16[[#This Row],[MONTANT BC]]*30% -> 30000 | N14: =IF(Tableau16[[#This Row],[MARCHEEXT]]>=1,((Tableau16[[#This Row],[MONTANT BC]]*70%)-(Tableau16[[#This Row],[RG_5%]]+Tableau16[[#This Row],[P_2%]]+Tableau16[[#This Row],[BFT_5%]]+Tableau16[[#This Row],[E 3%]]+Tableau16[[#This Row],[AUTRE]])),(Tableau16[[#This Row],[MONTANT BC]]-(Tableau16[[#This Row],[RG_5%]]+Tableau16[[#This Row],[P_2%]]+Tableau16[[#This Row],[BFT_5%]]+Tableau16[[#This Row],[E 3%]]+Tableau16[[#This Row],[AUTRE]]))) -> 55000 | O14: =Tableau16[MONTANT BC]*5% -> 5000 | P14: =Tableau16[[#This Row],[MONTANT BC]]*2% -> 2000 | Q14: =Tableau16[[#This Row],[MONTANT BC]]*5% -> 5000 | R14: =(Tableau16[[#This Row],[MONTANT BC]]*3%) -> 3000 | U14: =IF(AND(J14="",W14="",Y14=""),"",IF(AND(J14>1,W14=""),"EN_COURS",IF(AND(W14>1,Y14="",W14+21<=TODAY()),"VALIDER_PAR_DEFFAUT",IF(AND(W14>1,Y14=""),"ENVOYER",IF(Y14>1,"VALIDER",""))))) -> EN_COURS
A15: =CONCATENATE(Tableau16[[#This Row],[CT]],Tableau16[[#This Row],[CHANTIER]],Tableau16[[#This Row],[SOUS TRAITANT]],Tableau16[[#This Row],[MO]]) -> FREDCHATENAY MALABRY - IRENAFH2O | B15: H2O | D15: FRED | E15: CHATENAY MALABRY - IRENA | H15: F | I15: =VLOOKUP(H15,Tableau11[[SOUS TRAITANT]:[PU MARCHE]],3,FALSE) -> 1105 | K15: CFO | L15: 100000 | M15: =Tableau16[[#This Row],[MONTANT BC]]*30% -> 30000 | N15: =IF(Tableau16[[#This Row],[MARCHEEXT]]>=1,((Tableau16[[#This Row],[MONTANT BC]]*70%)-(Tableau16[[#This Row],[RG_5%]]+Tableau16[[#This Row],[P_2%]]+Tableau16[[#This Row],[BFT_5%]]+Tableau16[[#This Row],[E 3%]]+Tableau16[[#This Row],[AUTRE]])),(Tableau16[[#This Row],[MONTANT BC]]-(Tableau16[[#This Row],[RG_5%]]+Tableau16[[#This Row],[P_2%]]+Tableau16[[#This Row],[BFT_5%]]+Tableau16[[#This Row],[E 3%]]+Tableau16[[#This Row],[AUTRE]]))) -> 55000 | O15: =Tableau16[MONTANT BC]*5% -> 5000 | P15: =Tableau16[[#This Row],[MONTANT BC]]*2% -> 2000 | Q15: =Tableau16[[#This Row],[MONTANT BC]]*5% -> 5000 | R15: =(Tableau16[[#This Row],[MONTANT BC]]*3%) -> 3000 | U15: =IF(AND(J15="",W15="",Y15=""),"",IF(AND(J15>1,W15=""),"EN_COURS",IF(AND(W15>1,Y15="",W15+21<=TODAY()),"VALIDER_PAR_DEFFAUT",IF(AND(W15>1,Y15=""),"ENVOYER",IF(Y15>1,"VALIDER","")))))
A16: =CONCATENATE(Tableau16[[#This Row],[CT]],Tableau16[[#This Row],[CHANTIER]],Tableau16[[#This Row],[SOUS TRAITANT]],Tableau16[[#This Row],[MO]]) -> JONATHANST MAURDH2O | B16: H2O | D16: JONATHAN | E16: ST MAUR | H16: D | I16: =VLOOKUP(H16,Tableau11[[SOUS TRAITANT]:[PU MARCHE]],3,FALSE) -> 1103 | K16: CFO | L16: 100000 | M16: =Tableau16[[#This Row],[MONTANT BC]]*30% -> 30000 | N16: =IF(Tableau16[[#This Row],[MARCHEEXT]]>=1,((Tableau16[[#This Row],[MONTANT BC]]*70%)-(Tableau16[[#This Row],[RG_5%]]+Tableau16[[#This Row],[P_2%]]+Tableau16[[#This Row],[BFT_5%]]+Tableau16[[#This Row],[E 3%]]+Tableau16[[#This Row],[AUTRE]])),(Tableau16[[#This Row],[MONTANT BC]]-(Tableau16[[#This Row],[RG_5%]]+Tableau16[[#This Row],[P_2%]]+Tableau16[[#This Row],[BFT_5%]]+Tableau16[[#This Row],[E 3%]]+Tableau16[[#This Row],[AUTRE]]))) -> 55000 | O16: =Tableau16[MONTANT BC]*5% -> 5000 | P16: =Tableau16[[#This Row],[MONTANT BC]]*2% -> 2000 | Q16: =Tableau16[[#This Row],[MONTANT BC]]*5% -> 5000 | R16: =(Tableau16[[#This Row],[MONTANT BC]]*3%) -> 3000 | U16: =IF(AND(J16="",W16="",Y16=""),"",IF(AND(J16>1,W16=""),"EN_COURS",IF(AND(W16>1,Y16="",W16+21<=TODAY()),"VALIDER_PAR_DEFFAUT",IF(AND(W16>1,Y16=""),"ENVOYER",IF(Y16>1,"VALIDER","")))))
A17: =CONCATENATE(Tableau16[[#This Row],[CT]],Tableau16[[#This Row],[CHANTIER]],Tableau16[[#This Row],[SOUS TRAITANT]],Tableau16[[#This Row],[MO]]) -> JONATHANCHATENAY MALABRY - ANDREA 2DH2O | B17: H2O | D17: JONATHAN | E17: CHATENAY MALABRY - ANDREA 2 | H17: D | I17: =VLOOKUP(H17,Tableau11[[SOUS TRAITANT]:[PU MARCHE]],3,FALSE) -> 1103 | K17: CFO | L17: 100000 | M17: =Tableau16[[#This Row],[MONTANT BC]]*30% -> 30000 | N17: =IF(Tableau16[[#This Row],[MARCHEEXT]]>=1,((Tableau16[[#This Row],[MONTANT BC]]*70%)-(Tableau16[[#This Row],[RG_5%]]+Tableau16[[#This Row],[P_2%]]+Tableau16[[#This Row],[BFT_5%]]+Tableau16[[#This Row],[E 3%]]+Tableau16[[#This Row],[AUTRE]])),(Tableau16[[#This Row],[MONTANT BC]]-(Tableau16[[#This Row],[RG_5%]]+Tableau16[[#This Row],[P_2%]]+Tableau16[[#This Row],[BFT_5%]]+Tableau16[[#This Row],[E 3%]]+Tableau16[[#This Row],[AUTRE]]))) -> 55000 | O17: =Tableau16[MONTANT BC]*5% -> 5000 | P17: =Tableau16[[#This Row],[MONTANT BC]]*2% -> 2000 | Q17: =Tableau16[[#This Row],[MONTANT BC]]*5% -> 5000 | R17: =(Tableau16[[#This Row],[MONTANT BC]]*3%) -> 3000 | U17: =IF(AND(J17="",W17="",Y17=""),"",IF(AND(J17>1,W17=""),"EN_COURS",IF(AND(W17>1,Y17="",W17+21<=TODAY()),"VALIDER_PAR_DEFFAUT",IF(AND(W17>1,Y17=""),"ENVOYER",IF(Y17>1,"VALIDER","")))))
A18: =CONCATENATE(Tableau16[[#This Row],[CT]],Tableau16[[#This Row],[CHANTIER]],Tableau16[[#This Row],[SOUS TRAITANT]],Tableau16[[#This Row],[MO]]) -> JONATHANCLAMART - LORENADH2O | B18: H2O | D18: JONATHAN | E18: CLAMART - LORENA | H18: D | I18: =VLOOKUP(H18,Tableau11[[SOUS TRAITANT]:[PU MARCHE]],3,FALSE) -> 1103 | J18: b | K18: CFO | L18: 100000 | M18: =Tableau16[[#This Row],[MONTANT BC]]*30% -> 30000 | N18: =IF(Tableau16[[#This Row],[MARCHEEXT]]>=1,((Tableau16[[#This Row],[MONTANT BC]]*70%)-(Tableau16[[#This Row],[RG_5%]]+Tableau16[[#This Row],[P_2%]]+Tableau16[[#This Row],[BFT_5%]]+Tableau16[[#This Row],[E 3%]]+Tableau16[[#This Row],[AUTRE]])),(Tableau16[[#This Row],[MONTANT BC]]-(Tableau16[[#This Row],[RG_5%]]+Tableau16[[#This Row],[P_2%]]+Tableau16[[#This Row],[BFT_5%]]+Tableau16[[#This Row],[E 3%]]+Tableau16[[#This Row],[AUTRE]]))) -> 55000 | O18: =Tableau16[MONTANT BC]*5% -> 5000 | P18: =Tableau16[[#This Row],[MONTANT BC]]*2% -> 2000 | Q18: =Tableau16[[#This Row],[MONTANT BC]]*5% -> 5000 | R18: =(Tableau16[[#This Row],[MONTANT BC]]*3%) -> 3000 | U18: =IF(AND(J18="",W18="",Y18=""),"",IF(AND(J18>1,W18=""),"EN_COURS",IF(AND(W18>1,Y18="",W18+21<=TODAY()),"VALIDER_PAR_DEFFAUT",IF(AND(W18>1,Y18=""),"ENVOYER",IF(Y18>1,"VALIDER",""))))) -> VALIDER_PAR_DEFFAUT | W18: 44046
A19: =CONCATENATE(Tableau16[[#This Row],[CT]],Tableau16[[#This Row],[CHANTIER]],Tableau16[[#This Row],[SOUS TRAITANT]],Tableau16[[#This Row],[MO]]) -> JONATHANSAINT PIERRE LES NEMOURSDH2O | B19: H2O | D19: JONATHAN | E19: SAINT PIERRE LES NEMOURS | H19: D | I19: =VLOOKUP(H19,Tableau11[[SOUS TRAITANT]:[PU MARCHE]],3,FALSE) -> 1103 | K19: CFO | L19: 100000 | M19: =Tableau16[[#This Row],[MONTANT BC]]*30% -> 30000 | N19: =IF(Tableau16[[#This Row],[MARCHEEXT]]>=1,((Tableau16[[#This Row],[MONTANT BC]]*70%)-(Tableau16[[#This Row],[RG_5%]]+Tableau16[[#This Row],[P_2%]]+Tableau16[[#This Row],[BFT_5%]]+Tableau16[[#This Row],[E 3%]]+Tableau16[[#This Row],[AUTRE]])),(Tableau16[[#This Row],[MONTANT BC]]-(Tableau16[[#This Row],[RG_5%]]+Tableau16[[#This Row],[P_2%]]+Tableau16[[#This Row],[BFT_5%]]+Tableau16[[#This Row],[E 3%]]+Tableau16[[#This Row],[AUTRE]]))) -> 55000 | O19: =Tableau16[MONTANT BC]*5% -> 5000 | P19: =Tableau16[[#This Row],[MONTANT BC]]*2% -> 2000 | Q19: =Tableau16[[#This Row],[MONTANT BC]]*5% -> 5000 | R19: =(Tableau16[[#This Row],[MONTANT BC]]*3%) -> 3000 | U19: =IF(AND(J19="",W19="",Y19=""),"",IF(AND(J19>1,W19=""),"EN_COURS",IF(AND(W19>1,Y19="",W19+21<=TODAY()),"VALIDER_PAR_DEFFAUT",IF(AND(W19>1,Y19=""),"ENVOYER",IF(Y19>1,"VALIDER","")))))
A20: =CONCATENATE(Tableau16[[#This Row],[CT]],Tableau16[[#This Row],[CHANTIER]],Tableau16[[#This Row],[SOUS TRAITANT]],Tableau16[[#This Row],[MO]]) -> JONATHANNANDYDOPALE | B20: OPALE | D20: JONATHAN | E20: NANDY | H20: D | I20: =VLOOKUP(H20,Tableau11[[SOUS TRAITANT]:[PU MARCHE]],3,FALSE) -> 1103 | K20: CFO | L20: 100000 | M20: =Tableau16[[#This Row],[MONTANT BC]]*30% -> 30000 | N20: =IF(Tableau16[[#This Row],[MARCHEEXT]]>=1,((Tableau16[[#This Row],[MONTANT BC]]*70%)-(Tableau16[[#This Row],[RG_5%]]+Tableau16[[#This Row],[P_2%]]+Tableau16[[#This Row],[BFT_5%]]+Tableau16[[#This Row],[E 3%]]+Tableau16[[#This Row],[AUTRE]])),(Tableau16[[#This Row],[MONTANT BC]]-(Tableau16[[#This Row],[RG_5%]]+Tableau16[[#This Row],[P_2%]]+Tableau16[[#This Row],[BFT_5%]]+Tableau16[[#This Row],[E 3%]]+Tableau16[[#This Row],[AUTRE]]))) -> 55000 | O20: =Tableau16[MONTANT BC]*5% -> 5000 | P20: =Tableau16[[#This Row],[MONTANT BC]]*2% -> 2000 | Q20: =Tableau16[[#This Row],[MONTANT BC]]*5% -> 5000 | R20: =(Tableau16[[#This Row],[MONTANT BC]]*3%) -> 3000 | U20: =IF(AND(J20="",W20="",Y20=""),"",IF(AND(J20>1,W20=""),"EN_COURS",IF(AND(W20>1,Y20="",W20+21<=TODAY()),"VALIDER_PAR_DEFFAUT",IF(AND(W20>1,Y20=""),"ENVOYER",IF(Y20>1,"VALIDER","")))))
A21: =CONCATENATE(Tableau16[[#This Row],[CT]],Tableau16[[#This Row],[CHANTIER]],Tableau16[[#This Row],[SOUS TRAITANT]],Tableau16[[#This Row],[MO]]) -> JONATHANNANDYDOPALE | B21: OPALE | D21: JONATHAN | E21: NANDY | H21: D | I21: =VLOOKUP(H21,Tableau11[[SOUS TRAITANT]:[PU MARCHE]],3,FALSE) -> 1103 | K21: CFO | L21: 100000 | M21: =Tableau16[[#This Row],[MONTANT BC]]*30% -> 30000 | N21: =IF(Tableau16[[#This Row],[MARCHEEXT]]>=1,((Tableau16[[#This Row],[MONTANT BC]]*70%)-(Tableau16[[#This Row],[RG_5%]]+Tableau16[[#This Row],[P_2%]]+Tableau16[[#This Row],[BFT_5%]]+Tableau16[[#This Row],[E 3%]]+Tableau16[[#This Row],[AUTRE]])),(Tableau16[[#This Row],[MONTANT BC]]-(Tableau16[[#This Row],[RG_5%]]+Tableau16[[#This Row],[P_2%]]+Tableau16[[#This Row],[BFT_5%]]+Tableau16[[#This Row],[E 3%]]+Tableau16[[#This Row],[AUTRE]]))) -> 55000 | O21: =Tableau16[MONTANT BC]*5% -> 5000 | P21: =Tableau16[[#This Row],[MONTANT BC]]*2% -> 2000 | Q21: =Tableau16[[#This Row],[MONTANT BC]]*5% -> 5000 | R21: =(Tableau16[[#This Row],[MONTANT BC]]*3%) -> 3000 | U21: =IF(AND(J21="",W21="",Y21=""),"",IF(AND(J21>1,W21=""),"EN_COURS",IF(AND(W21>1,Y21="",W21+21<=TODAY()),"VALIDER_PAR_DEFFAUT",IF(AND(W21>1,Y21=""),"ENVOYER",IF(Y21>1,"VALIDER","")))))
A22: =CONCATENATE(Tableau16[[#This Row],[CT]],Tableau16[[#This Row],[CHANTIER]],Tableau16[[#This Row],[SOUS TRAITANT]],Tableau16[[#This Row],[MO]]) -> JONATHANBRETIGNU SUR ORGEIOPALE | B22: OPALE | D22: JONATHAN | E22: BRETIGNU SUR ORGE | H22: I | I22: =VLOOKUP(H22,Tableau11[[SOUS TRAITANT]:[PU MARCHE]],3,FALSE) -> 1108 | K22: CFO | L22: 100000 | M22: =Tableau16[[#This Row],[MONTANT BC]]*30% -> 30000 | N22: =IF(Tableau16[[#This Row],[MARCHEEXT]]>=1,((Tableau16[[#This Row],[MONTANT BC]]*70%)-(Tableau16[[#This Row],[RG_5%]]+Tableau16[[#This Row],[P_2%]]+Tableau16[[#This Row],[BFT_5%]]+Tableau16[[#This Row],[E 3%]]+Tableau16[[#This Row],[AUTRE]])),(Tableau16[[#This Row],[MONTANT BC]]-(Tableau16[[#This Row],[RG_5%]]+Tableau16[[#This Row],[P_2%]]+Tableau16[[#This Row],[BFT_5%]]+Tableau16[[#This Row],[E 3%]]+Tableau16[[#This Row],[AUTRE]]))) -> 55000 | O22: =Tableau16[MONTANT BC]*5% -> 5000 | P22: =Tableau16[[#This Row],[MONTANT BC]]*2% -> 2000 | Q22: =Tableau16[[#This Row],[MONTANT BC]]*5% -> 5000 | R22: =(Tableau16[[#This Row],[MONTANT BC]]*3%) -> 3000 | U22: =IF(AND(J22="",W22="",Y22=""),"",IF(AND(J22>1,W22=""),"EN_COURS",IF(AND(W22>1,Y22="",W22+21<=TODAY()),"VALIDER_PAR_DEFFAUT",IF(AND(W22>1,Y22=""),"ENVOYER",IF(Y22>1,"VALIDER","")))))
A23: =CONCATENATE(Tableau16[[#This Row],[CT]],Tableau16[[#This Row],[CHANTIER]],Tableau16[[#This Row],[SOUS TRAITANT]],Tableau16[[#This Row],[MO]]) -> JONATHANBRETIGNU SUR ORGEIOPALE | B23: OPALE | D23: JONATHAN | E23: BRETIGNU SUR ORGE | H23: I | I23: =VLOOKUP(H23,Tableau11[[SOUS TRAITANT]:[PU MARCHE]],3,FALSE) -> 1108 | K23: CFO | L23: 100000 | M23: =Tableau16[[#This Row],[MONTANT BC]]*30% -> 30000 | N23: =IF(Tableau16[[#This Row],[MARCHEEXT]]>=1,((Tableau16[[#This Row],[MONTANT BC]]*70%)-(Tableau16[[#This Row],[RG_5%]]+Tableau16[[#This Row],[P_2%]]+Tableau16[[#This Row],[BFT_5%]]+Tableau16[[#This Row],[E 3%]]+Tableau16[[#This Row],[AUTRE]])),(Tableau16[[#This Row],[MONTANT BC]]-(Tableau16[[#This Row],[RG_5%]]+Tableau16[[#This Row],[P_2%]]+Tableau16[[#This Row],[BFT_5%]]+Tableau16[[#This Row],[E 3%]]+Tableau16[[#This Row],[AUTRE]]))) -> 55000 | O23: =Tableau16[MONTANT BC]*5% -> 5000 | P23: =Tableau16[[#This Row],[MONTANT BC]]*2% -> 2000 | Q23: =Tableau16[[#This Row],[MONTANT BC]]*5% -> 5000 | R23: =(Tableau16[[#This Row],[MONTANT BC]]*3%) -> 3000 | U23: =IF(AND(J23="",W23="",Y23=""),"",IF(AND(J23>1,W23=""),"EN_COURS",IF(AND(W23>1,Y23="",W23+21<=TODAY()),"VALIDER_PAR_DEFFAUT",IF(AND(W23>1,Y23=""),"ENVOYER",IF(Y23>1,"VALIDER","")))))
A24: =CONCATENATE(Tableau16[[#This Row],[CT]],Tableau16[[#This Row],[CHANTIER]],Tableau16[[#This Row],[SOUS TRAITANT]],Tableau16[[#This Row],[MO]]) -> JONATHANSAINT FARGEAUIOPALE | B24: OPALE | D24: JONATHAN | E24: SAINT FARGEAU | H24: I | I24: =VLOOKUP(H24,Tableau11[[SOUS TRAITANT]:[PU MARCHE]],3,FALSE) -> 1108 | K24: CFO | L24: 100000 | M24: =Tableau16[[#This Row],[MONTANT BC]]*30% -> 30000 | N24: =IF(Tableau16[[#This Row],[MARCHEEXT]]>=1,((Tableau16[[#This Row],[MONTANT BC]]*70%)-(Tableau16[[#This Row],[RG_5%]]+Tableau16[[#This Row],[P_2%]]+Tableau16[[#This Row],[BFT_5%]]+Tableau16[[#This Row],[E 3%]]+Tableau16[[#This Row],[AUTRE]])),(Tableau16[[#This Row],[MONTANT BC]]-(Tableau16[[#This Row],[RG_5%]]+Tableau16[[#This Row],[P_2%]]+Tableau16[[#This Row],[BFT_5%]]+Tableau16[[#This Row],[E 3%]]+Tableau16[[#This Row],[AUTRE]]))) -> 55000 | O24: =Tableau16[MONTANT BC]*5% -> 5000 | P24: =Tableau16[[#This Row],[MONTANT BC]]*2% -> 2000 | Q24: =Tableau16[[#This Row],[MONTANT BC]]*5% -> 5000 | R24: =(Tableau16[[#This Row],[MONTANT BC]]*3%) -> 3000 | U24: =IF(AND(J24="",W24="",Y24=""),"",IF(AND(J24>1,W24=""),"EN_COURS",IF(AND(W24>1,Y24="",W24+21<=TODAY()),"VALIDER_PAR_DEFFAUT",IF(AND(W24>1,Y24=""),"ENVOYER",IF(Y24>1,"VALIDER","")))))
A25: =CONCATENATE(Tableau16[[#This Row],[CT]],Tableau16[[#This Row],[CHANTIER]],Tableau16[[#This Row],[SOUS TRAITANT]],Tableau16[[#This Row],[MO]]) -> JONATHANSERVONIOPALE | B25: OPALE | D25: JONATHAN | E25: SERVON | H25: I | I25: =VLOOKUP(H25,Tableau11[[SOUS TRAITANT]:[PU MARCHE]],3,FALSE) -> 1108 | K25: CFO | L25: 100000 | M25: =Tableau16[[#This Row],[MONTANT BC]]*30% -> 30000 | N25: =IF(Tableau16[[#This Row],[MARCHEEXT]]>=1,((Tableau16[[#This Row],[MONTANT BC]]*70%)-(Tableau16[[#This Row],[RG_5%]]+Tableau16[[#This Row],[P_2%]]+Tableau16[[#This Row],[BFT_5%]]+Tableau16[[#This Row],[E 3%]]+Tableau16[[#This Row],[AUTRE]])),(Tableau16[[#This Row],[MONTANT BC]]-(Tableau16[[#This Row],[RG_5%]]+Tableau16[[#This Row],[P_2%]]+Tableau16[[#This Row],[BFT_5%]]+Tableau16[[#This Row],[E 3%]]+Tableau16[[#This Row],[AUTRE]]))) -> 55000 | O25: =Tableau16[MONTANT BC]*5% -> 5000 | P25: =Tableau16[[#This Row],[MONTANT BC]]*2% -> 2000 | Q25: =Tableau16[[#This Row],[MONTANT BC]]*5% -> 5000 | R25: =(Tableau16[[#This Row],[MONTANT BC]]*3%) -> 3000 | U25: =IF(AND(J25="",W25="",Y25=""),"",IF(AND(J25>1,W25=""),"EN_COURS",IF(AND(W25>1,Y25="",W25+21<=TODAY()),"VALIDER_PAR_DEFFAUT",IF(AND(W25>1,Y25=""),"ENVOYER",IF(Y25>1,"VALIDER","")))))
A26: =CONCATENATE(Tableau16[[#This Row],[CT]],Tableau16[[#This Row],[CHANTIER]],Tableau16[[#This Row],[SOUS TRAITANT]],Tableau16[[#This Row],[MO]]) -> JONATHANROISSY EN BRIEIOPALE | B26: OPALE | D26: JONATHAN | E26: ROISSY EN BRIE | H26: I | I26: =VLOOKUP(H26,Tableau11[[SOUS TRAITANT]:[PU MARCHE]],3,FALSE) -> 1108 | K26: CFO | L26: 100000 | M26: =Tableau16[[#This Row],[MONTANT BC]]*30% -> 30000 | N26: =IF(Tableau16[[#This Row],[MARCHEEXT]]>=1,((Tableau16[[#This Row],[MONTANT BC]]*70%)-(Tableau16[[#This Row],[RG_5%]]+Tableau16[[#This Row],[P_2%]]+Tableau16[[#This Row],[BFT_5%]]+Tableau16[[#This Row],[E 3%]]+Tableau16[[#This Row],[AUTRE]])),(Tableau16[[#This Row],[MONTANT BC]]-(Tableau16[[#This Row],[RG_5%]]+Tableau16[[#This Row],[P_2%]]+Tableau16[[#This Row],[BFT_5%]]+Tableau16[[#This Row],[E 3%]]+Tableau16[[#This Row],[AUTRE]]))) -> 55000 | O26: =Tableau16[MONTANT BC]*5% -> 5000 | P26: =Tableau16[[#This Row],[MONTANT BC]]*2% -> 2000 | Q26: =Tableau16[[#This Row],[MONTANT BC]]*5% -> 5000 | R26: =(Tableau16[[#This Row],[MONTANT BC]]*3%) -> 3000 | U26: =IF(AND(J26="",W26="",Y26=""),"",IF(AND(J26>1,W26=""),"EN_COURS",IF(AND(W26>1,Y26="",W26+21<=TODAY()),"VALIDER_PAR_DEFFAUT",IF(AND(W26>1,Y26=""),"ENVOYER",IF(Y26>1,"VALIDER","")))))
A27: =CONCATENATE(Tableau16[[#This Row],[CT]],Tableau16[[#This Row],[CHANTIER]],Tableau16[[#This Row],[SOUS TRAITANT]],Tableau16[[#This Row],[MO]]) -> JONATHANATHIS MONS F1IOPALE | B27: OPALE | D27: JONATHAN | E27: ATHIS MONS F1 | H27: I | I27: =VLOOKUP(H27,Tableau11[[SOUS TRAITANT]:[PU MARCHE]],3,FALSE) -> 1108 | K27: CFO | L27: 100000 | M27: =Tableau16[[#This Row],[MONTANT BC]]*30% -> 30000 | N27: =IF(Tableau16[[#This Row],[MARCHEEXT]]>=1,((Tableau16[[#This Row],[MONTANT BC]]*70%)-(Tableau16[[#This Row],[RG_5%]]+Tableau16[[#This Row],[P_2%]]+Tableau16[[#This Row],[BFT_5%]]+Tableau16[[#This Row],[E 3%]]+Tableau16[[#This Row],[AUTRE]])),(Tableau16[[#This Row],[MONTANT BC]]-(Tableau16[[#This Row],[RG_5%]]+Tableau16[[#This Row],[P_2%]]+Tableau16[[#This Row],[BFT_5%]]+Tableau16[[#This Row],[E 3%]]+Tableau16[[#This Row],[AUTRE]]))) -> 55000 | O27: =Tableau16[MONTANT BC]*5% -> 5000 | P27: =Tableau16[[#This Row],[MONTANT BC]]*2% -> 2000 | Q27: =Tableau16[[#This Row],[MONTANT BC]]*5% -> 5000 | R27: =(Tableau16[[#This Row],[MONTANT BC]]*3%) -> 3000 | U27: =IF(AND(J27="",W27="",Y27=""),"",IF(AND(J27>1,W27=""),"EN_COURS",IF(AND(W27>1,Y27="",W27+21<=TODAY()),"VALIDER_PAR_DEFFAUT",IF(AND(W27>1,Y27=""),"ENVOYER",IF(Y27>1,"VALIDER","")))))
A28: =CONCATENATE(Tableau16[[#This Row],[CT]],Tableau16[[#This Row],[CHANTIER]],Tableau16[[#This Row],[SOUS TRAITANT]],Tableau16[[#This Row],[MO]]) -> JONATHANATHIS MONS E2IOPALE | B28: OPALE | D28: JONATHAN | E28: ATHIS MONS E2 | H28: I | I28: =VLOOKUP(H28,Tableau11[[SOUS TRAITANT]:[PU MARCHE]],3,FALSE) -> 1108 | K28: CFO | L28: 100000 | M28: =Tableau16[[#This Row],[MONTANT BC]]*30% -> 30000 | N28: =IF(Tableau16[[#This Row],[MARCHEEXT]]>=1,((Tableau16[[#This Row],[MONTANT BC]]*70%)-(Tableau16[[#This Row],[RG_5%]]+Tableau16[[#This Row],[P_2%]]+Tableau16[[#This Row],[BFT_5%]]+Tableau16[[#This Row],[E 3%]]+Tableau16[[#This Row],[AUTRE]])),(Tableau16[[#This Row],[MONTANT BC]]-(Tableau16[[#This Row],[RG_5%]]+Tableau16[[#This Row],[P_2%]]+Tableau16[[#This Row],[BFT_5%]]+Tableau16[[#This Row],[E 3%]]+Tableau16[[#This Row],[AUTRE]]))) -> 55000 | O28: =Tableau16[MONTANT BC]*5% -> 5000 | P28: =Tableau16[[#This Row],[MONTANT BC]]*2% -> 2000 | Q28: =Tableau16[[#This Row],[MONTANT BC]]*5% -> 5000 | R28: =(Tableau16[[#This Row],[MONTANT BC]]*3%) -> 3000 | U28: =IF(AND(J28="",W28="",Y28=""),"",IF(AND(J28>1,W28=""),"EN_COURS",IF(AND(W28>1,Y28="",W28+21<=TODAY()),"VALIDER_PAR_DEFFAUT",IF(AND(W28>1,Y28=""),"ENVOYER",IF(Y28>1,"VALIDER","")))))
A29: =CONCATENATE(Tableau16[[#This Row],[CT]],Tableau16[[#This Row],[CHANTIER]],Tableau16[[#This Row],[SOUS TRAITANT]],Tableau16[[#This Row],[MO]]) -> JONATHANATHIS MONS E2IOPALE | B29: OPALE | D29: JONATHAN | E29: ATHIS MONS E2 | H29: I | I29: =VLOOKUP(H29,Tableau11[[SOUS TRAITANT]:[PU MARCHE]],3,FALSE) -> 1108 | K29: CFO | L29: 100000 | M29: =Tableau16[[#This Row],[MONTANT BC]]*30% -> 30000 | N29: =IF(Tableau16[[#This Row],[MARCHEEXT]]>=1,((Tableau16[[#This Row],[MONTANT BC]]*70%)-(Tableau16[[#This Row],[RG_5%]]+Tableau16[[#This Row],[P_2%]]+Tableau16[[#This Row],[BFT_5%]]+Tableau16[[#This Row],[E 3%]]+Tableau16[[#This Row],[AUTRE]])),(Tableau16[[#This Row],[MONTANT BC]]-(Tableau16[[#This Row],[RG_5%]]+Tableau16[[#This Row],[P_2%]]+Tableau16[[#This Row],[BFT_5%]]+Tableau16[[#This Row],[E 3%]]+Tableau16[[#This Row],[AUTRE]]))) -> 55000 | O29: =Tableau16[MONTANT BC]*5% -> 5000 | P29: =Tableau16[[#This Row],[MONTANT BC]]*2% -> 2000 | Q29: =Tableau16[[#This Row],[MONTANT BC]]*5% -> 5000 | R29: =(Tableau16[[#This Row],[MONTANT BC]]*3%) -> 3000 | U29: =IF(AND(J29="",W29="",Y29=""),"",IF(AND(J29>1,W29=""),"EN_COURS",IF(AND(W29>1,Y29="",W29+21<=TODAY()),"VALIDER_PAR_DEFFAUT",IF(AND(W29>1,Y29=""),"ENVOYER",IF(Y29>1,"VALIDER","")))))
A30: =CONCATENATE(Tableau16[[#This Row],[CT]],Tableau16[[#This Row],[CHANTIER]],Tableau16[[#This Row],[SOUS TRAITANT]],Tableau16[[#This Row],[MO]]) -> LAURENTCLAMARTMOPALE | B30: OPALE | D30: LAURENT | E30: CLAMART | H30: M | I30: =VLOOKUP(H30,Tableau11[[SOUS TRAITANT]:[PU MARCHE]],3,FALSE) -> 1112 | K30: CFO | L30: 100000 | M30: =Tableau16[[#This Row],[MONTANT BC]]*30% -> 30000 | N30: =IF(Tableau16[[#This Row],[MARCHEEXT]]>=1,((Tableau16[[#This Row],[MONTANT BC]]*70%)-(Tableau16[[#This Row],[RG_5%]]+Tableau16[[#This Row],[P_2%]]+Tableau16[[#This Row],[BFT_5%]]+Tableau16[[#This Row],[E 3%]]+Tableau16[[#This Row],[AUTRE]])),(Tableau16[[#This Row],[MONTANT BC]]-(Tableau16[[#This Row],[RG_5%]]+Tableau16[[#This Row],[P_2%]]+Tableau16[[#This Row],[BFT_5%]]+Tableau16[[#This Row],[E 3%]]+Tableau16[[#This Row],[AUTRE]]))) -> 55000 | O30: =Tableau16[MONTANT BC]*5% -> 5000 | P30: =Tableau16[[#This Row],[MONTANT BC]]*2% -> 2000 | Q30: =Tableau16[[#This Row],[MONTANT BC]]*5% -> 5000 | R30: =(Tableau16[[#This Row],[MONTANT BC]]*3%) -> 3000 | U30: =IF(AND(J30="",W30="",Y30=""),"",IF(AND(J30>1,W30=""),"EN_COURS",IF(AND(W30>1,Y30="",W30+21<=TODAY()),"VALIDER_PAR_DEFFAUT",IF(AND(W30>1,Y30=""),"ENVOYER",IF(Y30>1,"VALIDER","")))))
... A42: =CONCATENATE(Tableau16[[#This Row],[CT]],Tableau16[[#This Row],[CHANTIER]],Tableau16[[#This Row],[SOUS TRAITANT]],Tableau16[[#This Row],[MO]]) -> SEBCOMBS ICADEMZORG | B42: ZORG | D42: SEB | E42: COMBS ICADE | H42: M | I42: =VLOOKUP(H42,Tableau11[[SOUS TRAITANT]:[PU MARCHE]],3,FALSE) -> 1112 | K42: CFO | L42: 100000 | M42: =Tableau16[[#This Row],[MONTANT BC]]*30% -> 30000 | N42: =IF(Tableau16[[#This Row],[MARCHEEXT]]>=1,((Tableau16[[#This Row],[MONTANT BC]]*70%)-(Tableau16[[#This Row],[RG_5%]]+Tableau16[[#This Row],[P_2%]]+Tableau16[[#This Row],[BFT_5%]]+Tableau16[[#This Row],[E 3%]]+Tableau16[[#This Row],[AUTRE]])),(Tableau16[[#This Row],[MONTANT BC]]-(Tableau16[[#This Row],[RG_5%]]+Tableau16[[#This Row],[P_2%]]+Tableau16[[#This Row],[BFT_5%]]+Tableau16[[#This Row],[E 3%]]+Tableau16[[#This Row],[AUTRE]]))) -> 55000 | O42: =Tableau16[MONTANT BC]*5% -> 5000 | P42: =Tableau16[[#This Row],[MONTANT BC]]*2% -> 2000 | Q42: =Tableau16[[#This Row],[MONTANT BC]]*5% -> 5000 | R42: =(Tableau16[[#This Row],[MONTANT BC]]*3%) -> 3000 | U42: =IF(AND(J42="",W42="",Y42=""),"",IF(AND(J42>1,W42=""),"EN_COURS",IF(AND(W42>1,Y42="",W42+21<=TODAY()),"VALIDER_PAR_DEFFAUT",IF(AND(W42>1,Y42=""),"ENVOYER",IF(Y42>1,"VALIDER","")))))
W43: =VLOOKUP(B43,Tableau16[[Ref]:[MONTANT BC]],12,FALSE) -> #N/A
A44: critere obligatoire
E48: =DECALER(DONNEES!$P$1;19;EQUIV($H5;DONNEES!$P$1:AO$1;0)-1;NBVAL(DECALER(DONNEES!$P$1;;EQUIV($H5;DONNEES!$P$1:AO$1;0)-1;20;1000)))
E49: =MATCH($H4,DONNEES!$P$1:AO$1,0) -> 1
E50: =COUNTA(OFFSET(DONNEES!$P$21,,MATCH($H4,DONNEES!$P$1:AO$1,0)-1)) -> 1
E51: =DECALER(DONNEES!$P$1;20;EQUIV($H4;DONNEES!$P$1:AO$1;0)-1;NBVAL(DECALER(DONNEES!$P$1;20;EQUIV($H4;DONNEES!$P$1:AO$1;0)-1;10;1000)))
E53: =COUNTA(OFFSET(DONNEES!$P$1,20,MATCH($H4,DONNEES!$P$1:AO$1,0)-1,15,1000)) -> 21
E56: =COUNTA(OFFSET(DONNEES!$P$1,20,MATCH($H4,DONNEES!$P$1:AO$1,0)-1,11,)) -> 3

Sheet FACT ST
A1: SUIVI FACTURATION SOUS TRAITANT
A2: FACTURES SOUS TRAITANT
A3: MOIS | B3: REF | C3: Sous Traitant | D3: NOM CHANTIER INDIRECT ST | E3: CT INDIRECT CHANTIER | F3: MO INDIRECT CT | G3: Adresse chantier | H3: CP | I3: REF FACT | J3: fact n° | K3: ref fact2 | L3: date fact | M3: delais paim | N3: date paiement provisoir | O3: marché | P3: montant | Q3: validé par | R3: payé / présenté le | S3: Observations | T3: PAYEE | U3: MARCHE INT | V3: MARCHE EXT | W3: RG_5% | X3: BFT_5% | Y3: AUTRE | Z3: TS/TMA/CFA | AA3: MARCHE INIT
A4: JANV | B4: =CONCATENATE(Tableau8[[#This Row],[CT INDIRECT CHANTIER]],Tableau8[[#This Row],[NOM CHANTIER INDIRECT ST]],Tableau8[[#This Row],[Sous Traitant]],Tableau8[[#This Row],[MO INDIRECT CT]]) | G4: =IFERROR(IF(B4="","",VLOOKUP(B4,Tableau16[[Ref]:[CP]],6,FALSE)),"") | H4: =IFERROR(IF(B4="","",VLOOKUP(B4,Tableau16[[Ref]:[CP]],7,FALSE)),"") | I4: =CONCATENATE(Tableau8[[#This Row],[CT INDIRECT CHANTIER]],Tableau8[[#This Row],[NOM CHANTIER INDIRECT ST]],Tableau8[[#This Row],[Sous Traitant]],Tableau8[[#This Row],[MO INDIRECT CT]],Tableau8[[#This Row],[marché]]) | J4: =COUNTIF($I$4:I4,Tableau8[[#This Row],[REF FACT]]) -> 1 | M4: =IF(Tableau8[[#This Row],[Sous Traitant]]>1,VLOOKUP(Tableau8[[#This Row],[Sous Traitant]],#REF!,3,FALSE),"") | T4: =SUMIFS($P$4:P4,$I$4:I4,I4) -> 0 | U4: =IF(Tableau8[[#This Row],[marché]]="MARCHEINT",VLOOKUP($B4,Tableau16[[Ref]:[AUTRE]],13,FALSE)-Tableau8[[#This Row],[PAYEE]],"") | V4: =IF(Tableau8[[#This Row],[marché]]="MARCHEEXT",VLOOKUP($B4,Tableau16[[Ref]:[AUTRE]],14,FALSE)-Tableau8[[#This Row],[PAYEE]],"") | W4: =IF(Tableau8[[#This Row],[marché]]="RG_5%",VLOOKUP($B4,Tableau16[[Ref]:[AUTRE]],15,FALSE)-Tableau8[[#This Row],[PAYEE]],"") | X4: =IF(Tableau8[[#This Row],[marché]]="BFT_5%",VLOOKUP($B4,Tableau16[[Ref]:[AUTRE]],17,FALSE)-Tableau8[[#This Row],[PAYEE]],"") | Y4: =IF(Tableau8[[#This Row],[marché]]="AUTRE",VLOOKUP($B4,Tableau16[[Ref]:[AUTRE]],19,FALSE)-Tableau8[[#This Row],[PAYEE]],"") | AA4: =IF(Tableau8[[#This Row],[marché]]="MARCHEINT",Tableau8[[#This Row],[MARCHE INT]]+Tableau8[[#This Row],[PAYEE]],IF(Tableau8[[#This Row],[marché]]="MARCHEEXT",Tableau8[[#This Row],[MARCHE EXT]]+Tableau8[[#This Row],[PAYEE]],IF(Tableau8[[#This Row],[marché]]="RG_5%",Tableau8[[#This Row],[RG_5%]]+Tableau8[[#This Row],[PAYEE]],IF(Tableau8[[#This Row],[marché]]="BFT_5%",Tableau8[[#This Row],[BFT_5%]]+Tableau8[[#This Row],[PAYEE]],IF(Tableau8[[#This Row],[marché]]="AUTRE",Tableau8[[#This Row],[AUTRE]]+Tableau8[[#This Row],[PAYEE]],"")))))
B5: =CONCATENATE(Tableau8[[#This Row],[CT INDIRECT CHANTIER]],Tableau8[[#This Row],[NOM CHANTIER INDIRECT ST]],Tableau8[[#This Row],[Sous Traitant]],Tableau8[[#This Row],[MO INDIRECT CT]]) | G5: =IFERROR(IF(B5="","",VLOOKUP(B5,Tableau16[[Ref]:[CP]],6,FALSE)),"") | H5: =IFERROR(IF(B5="","",VLOOKUP(B5,Tableau16[[Ref]:[CP]],7,FALSE)),"") | I5: =CONCATENATE(Tableau8[[#This Row],[CT INDIRECT CHANTIER]],Tableau8[[#This Row],[NOM CHANTIER INDIRECT ST]],Tableau8[[#This Row],[Sous Traitant]],Tableau8[[#This Row],[MO INDIRECT CT]],Tableau8[[#This Row],[marché]]) | J5: =COUNTIF($I$4:I5,Tableau8[[#This Row],[REF FACT]]) -> 2 | M5: =IF(Tableau8[[#This Row],[Sous Traitant]]>1,VLOOKUP(Tableau8[[#This Row],[Sous Traitant]],#REF!,3,FALSE),"") | T5: =SUMIFS($P$4:P5,$I$4:I5,I5) -> 0 | U5: =IF(Tableau8[[#This Row],[marché]]="MARCHEINT",VLOOKUP($B5,Tableau16[[Ref]:[AUTRE]],13,FALSE)-Tableau8[[#This Row],[PAYEE]],"") | V5: =IF(Tableau8[[#This Row],[marché]]="MARCHEEXT",VLOOKUP($B5,Tableau16[[Ref]:[AUTRE]],14,FALSE)-Tableau8[[#This Row],[PAYEE]],"") | W5: =IF(Tableau8[[#This Row],[marché]]="RG_5%",VLOOKUP($B5,Tableau16[[Ref]:[AUTRE]],15,FALSE)-Tableau8[[#This Row],[PAYEE]],"") | X5: =IF(Tableau8[[#This Row],[marché]]="BFT_5%",VLOOKUP($B5,Tableau16[[Ref]:[AUTRE]],17,FALSE)-Tableau8[[#This Row],[PAYEE]],"") | Y5: =IF(Tableau8[[#This Row],[marché]]="AUTRE",VLOOKUP($B5,Tableau16[[Ref]:[AUTRE]],19,FALSE)-Tableau8[[#This Row],[PAYEE]],"") | AA5: =IF(Tableau8[[#This Row],[marché]]="MARCHEINT",Tableau8[[#This Row],[MARCHE INT]]+Tableau8[[#This Row],[PAYEE]],IF(Tableau8[[#This Row],[marché]]="MARCHEEXT",Tableau8[[#This Row],[MARCHE EXT]]+Tableau8[[#This Row],[PAYEE]],IF(Tableau8[[#This Row],[marché]]="RG_5%",Tableau8[[#This Row],[RG_5%]]+Tableau8[[#This Row],[PAYEE]],IF(Tableau8[[#This Row],[marché]]="BFT_5%",Tableau8[[#This Row],[BFT_5%]]+Tableau8[[#This Row],[PAYEE]],IF(Tableau8[[#This Row],[marché]]="AUTRE",Tableau8[[#This Row],[AUTRE]]+Tableau8[[#This Row],[PAYEE]],"")))))
B6: =CONCATENATE(Tableau8[[#This Row],[CT INDIRECT CHANTIER]],Tableau8[[#This Row],[NOM CHANTIER INDIRECT ST]],Tableau8[[#This Row],[Sous Traitant]],Tableau8[[#This Row],[MO INDIRECT CT]]) | G6: =IFERROR(IF(B6="","",VLOOKUP(B6,Tableau16[[Ref]:[CP]],6,FALSE)),"") | H6: =IFERROR(IF(B6="","",VLOOKUP(B6,Tableau16[[Ref]:[CP]],7,FALSE)),"") | I6: =CONCATENATE(Tableau8[[#This Row],[CT INDIRECT CHANTIER]],Tableau8[[#This Row],[NOM CHANTIER INDIRECT ST]],Tableau8[[#This Row],[Sous Traitant]],Tableau8[[#This Row],[MO INDIRECT CT]],Tableau8[[#This Row],[marché]]) | J6: =COUNTIF($I$4:I6,Tableau8[[#This Row],[REF FACT]]) -> 3 | M6: =IF(Tableau8[[#This Row],[Sous Traitant]]>1,VLOOKUP(Tableau8[[#This Row],[Sous Traitant]],#REF!,3,FALSE),"") | T6: =SUMIFS($P$4:P6,$I$4:I6,I6) -> 0 | U6: =IF(Tableau8[[#This Row],[marché]]="MARCHEINT",VLOOKUP($B6,Tableau16[[Ref]:[AUTRE]],13,FALSE)-Tableau8[[#This Row],[PAYEE]],"") | V6: =IF(Tableau8[[#This Row],[marché]]="MARCHEEXT",VLOOKUP($B6,Tableau16[[Ref]:[AUTRE]],14,FALSE)-Tableau8[[#This Row],[PAYEE]],"") | W6: =IF(Tableau8[[#This Row],[marché]]="RG_5%",VLOOKUP($B6,Tableau16[[Ref]:[AUTRE]],15,FALSE)-Tableau8[[#This Row],[PAYEE]],"") | X6: =IF(Tableau8[[#This Row],[marché]]="BFT_5%",VLOOKUP($B6,Tableau16[[Ref]:[AUTRE]],17,FALSE)-Tableau8[[#This Row],[PAYEE]],"") | Y6: =IF(Tableau8[[#This Row],[marché]]="AUTRE",VLOOKUP($B6,Tableau16[[Ref]:[AUTRE]],19,FALSE)-Tableau8[[#This Row],[PAYEE]],"") | AA6: =IF(Tableau8[[#This Row],[marché]]="MARCHEINT",Tableau8[[#This Row],[MARCHE INT]]+Tableau8[[#This Row],[PAYEE]],IF(Tableau8[[#This Row],[marché]]="MARCHEEXT",Tableau8[[#This Row],[MARCHE EXT]]+Tableau8[[#This Row],[PAYEE]],IF(Tableau8[[#This Row],[marché]]="RG_5%",Tableau8[[#This Row],[RG_5%]]+Tableau8[[#This Row],[PAYEE]],IF(Tableau8[[#This Row],[marché]]="BFT_5%",Tableau8[[#This Row],[BFT_5%]]+Tableau8[[#This Row],[PAYEE]],IF(Tableau8[[#This Row],[marché]]="AUTRE",Tableau8[[#This Row],[AUTRE]]+Tableau8[[#This Row],[PAYEE]],"")))))
B7: =CONCATENATE(Tableau8[[#This Row],[CT INDIRECT CHANTIER]],Tableau8[[#This Row],[NOM CHANTIER INDIRECT ST]],Tableau8[[#This Row],[Sous Traitant]],Tableau8[[#This Row],[MO INDIRECT CT]]) | G7: =IFERROR(IF(B7="","",VLOOKUP(B7,Tableau16[[Ref]:[CP]],6,FALSE)),"") | H7: =IFERROR(IF(B7="","",VLOOKUP(B7,Tableau16[[Ref]:[CP]],7,FALSE)),"") | I7: =CONCATENATE(Tableau8[[#This Row],[CT INDIRECT CHANTIER]],Tableau8[[#This Row],[NOM CHANTIER INDIRECT ST]],Tableau8[[#This Row],[Sous Traitant]],Tableau8[[#This Row],[MO INDIRECT CT]],Tableau8[[#This Row],[marché]]) | J7: =COUNTIF($I$4:I7,Tableau8[[#This Row],[REF FACT]]) -> 4 | M7: =IF(Tableau8[[#This Row],[Sous Traitant]]>1,VLOOKUP(Tableau8[[#This Row],[Sous Traitant]],#REF!,3,FALSE),"") | T7: =SUMIFS($P$4:P7,$I$4:I7,I7) -> 0 | U7: =IF(Tableau8[[#This Row],[marché]]="MARCHEINT",VLOOKUP($B7,Tableau16[[Ref]:[AUTRE]],13,FALSE)-Tableau8[[#This Row],[PAYEE]],"") | V7: =IF(Tableau8[[#This Row],[marché]]="MARCHEEXT",VLOOKUP($B7,Tableau16[[Ref]:[AUTRE]],14,FALSE)-Tableau8[[#This Row],[PAYEE]],"") | W7: =IF(Tableau8[[#This Row],[marché]]="RG_5%",VLOOKUP($B7,Tableau16[[Ref]:[AUTRE]],15,FALSE)-Tableau8[[#This Row],[PAYEE]],"") | X7: =IF(Tableau8[[#This Row],[marché]]="BFT_5%",VLOOKUP($B7,Tableau16[[Ref]:[AUTRE]],17,FALSE)-Tableau8[[#This Row],[PAYEE]],"") | Y7: =IF(Tableau8[[#This Row],[marché]]="AUTRE",VLOOKUP($B7,Tableau16[[Ref]:[AUTRE]],19,FALSE)-Tableau8[[#This Row],[PAYEE]],"") | AA7: =IF(Tableau8[[#This Row],[marché]]="MARCHEINT",Tableau8[[#This Row],[MARCHE INT]]+Tableau8[[#This Row],[PAYEE]],IF(Tableau8[[#This Row],[marché]]="MARCHEEXT",Tableau8[[#This Row],[MARCHE EXT]]+Tableau8[[#This Row],[PAYEE]],IF(Tableau8[[#This Row],[marché]]="RG_5%",Tableau8[[#This Row],[RG_5%]]+Tableau8[[#This Row],[PAYEE]],IF(Tableau8[[#This Row],[marché]]="BFT_5%",Tableau8[[#This Row],[BFT_5%]]+Tableau8[[#This Row],[PAYEE]],IF(Tableau8[[#This Row],[marché]]="AUTRE",Tableau8[[#This Row],[AUTRE]]+Tableau8[[#This Row],[PAYEE]],"")))))
A8: FEV | B8: =CONCATENATE(Tableau8[[#This Row],[CT INDIRECT CHANTIER]],Tableau8[[#This Row],[NOM CHANTIER INDIRECT ST]],Tableau8[[#This Row],[Sous Traitant]],Tableau8[[#This Row],[MO INDIRECT CT]]) | G8: =IFERROR(IF(B8="","",VLOOKUP(B8,Tableau16[[Ref]:[CP]],6,FALSE)),"") | H8: =IFERROR(IF(B8="","",VLOOKUP(B8,Tableau16[[Ref]:[CP]],7,FALSE)),"") | I8: =CONCATENATE(Tableau8[[#This Row],[CT INDIRECT CHANTIER]],Tableau8[[#This Row],[NOM CHANTIER INDIRECT ST]],Tableau8[[#This Row],[Sous Traitant]],Tableau8[[#This Row],[MO INDIRECT CT]],Tableau8[[#This Row],[marché]]) | J8: =COUNTIF($I$4:I8,Tableau8[[#This Row],[REF FACT]]) -> 5 | M8: =IF(Tableau8[[#This Row],[Sous Traitant]]>1,VLOOKUP(Tableau8[[#This Row],[Sous Traitant]],#REF!,3,FALSE),"") | T8: =SUMIFS($P$4:P8,$I$4:I8,I8) -> 0 | U8: =IF(Tableau8[[#This Row],[marché]]="MARCHEINT",VLOOKUP($B8,Tableau16[[Ref]:[AUTRE]],13,FALSE)-Tableau8[[#This Row],[PAYEE]],"") | V8: =IF(Tableau8[[#This Row],[marché]]="MARCHEEXT",VLOOKUP($B8,Tableau16[[Ref]:[AUTRE]],14,FALSE)-Tableau8[[#This Row],[PAYEE]],"") | W8: =IF(Tableau8[[#This Row],[marché]]="RG_5%",VLOOKUP($B8,Tableau16[[Ref]:[AUTRE]],15,FALSE)-Tableau8[[#This Row],[PAYEE]],"") | X8: =IF(Tableau8[[#This Row],[marché]]="BFT_5%",VLOOKUP($B8,Tableau16[[Ref]:[AUTRE]],17,FALSE)-Tableau8[[#This Row],[PAYEE]],"") | Y8: =IF(Tableau8[[#This Row],[marché]]="AUTRE",VLOOKUP($B8,Tableau16[[Ref]:[AUTRE]],19,FALSE)-Tableau8[[#This Row],[PAYEE]],"") | AA8: =IF(Tableau8[[#This Row],[marché]]="MARCHEINT",Tableau8[[#This Row],[MARCHE INT]]+Tableau8[[#This Row],[PAYEE]],IF(Tableau8[[#This Row],[marché]]="MARCHEEXT",Tableau8[[#This Row],[MARCHE EXT]]+Tableau8[[#This Row],[PAYEE]],IF(Tableau8[[#This Row],[marché]]="RG_5%",Tableau8[[#This Row],[RG_5%]]+Tableau8[[#This Row],[PAYEE]],IF(Tableau8[[#This Row],[marché]]="BFT_5%",Tableau8[[#This Row],[BFT_5%]]+Tableau8[[#This Row],[PAYEE]],IF(Tableau8[[#This Row],[marché]]="AUTRE",Tableau8[[#This Row],[AUTRE]]+Tableau8[[#This Row],[PAYEE]],"")))))
B9: =CONCATENATE(Tableau8[[#This Row],[CT INDIRECT CHANTIER]],Tableau8[[#This Row],[NOM CHANTIER INDIRECT ST]],Tableau8[[#This Row],[Sous Traitant]],Tableau8[[#This Row],[MO INDIRECT CT]]) | G9: =IFERROR(IF(B9="","",VLOOKUP(B9,Tableau16[[Ref]:[CP]],6,FALSE)),"") | H9: =IFERROR(IF(B9="","",VLOOKUP(B9,Tableau16[[Ref]:[CP]],7,FALSE)),"") | I9: =CONCATENATE(Tableau8[[#This Row],[CT INDIRECT CHANTIER]],Tableau8[[#This Row],[NOM CHANTIER INDIRECT ST]],Tableau8[[#This Row],[Sous Traitant]],Tableau8[[#This Row],[MO INDIRECT CT]],Tableau8[[#This Row],[marché]]) | J9: =COUNTIF($I$4:I9,Tableau8[[#This Row],[REF FACT]]) -> 6 | M9: =IF(Tableau8[[#This Row],[Sous Traitant]]>1,VLOOKUP(Tableau8[[#This Row],[Sous Traitant]],#REF!,3,FALSE),"") | T9: =SUMIFS($P$4:P9,$I$4:I9,I9) -> 0 | U9: =IF(Tableau8[[#This Row],[marché]]="MARCHEINT",VLOOKUP($B9,Tableau16[[Ref]:[AUTRE]],13,FALSE)-Tableau8[[#This Row],[PAYEE]],"") | V9: =IF(Tableau8[[#This Row],[marché]]="MARCHEEXT",VLOOKUP($B9,Tableau16[[Ref]:[AUTRE]],14,FALSE)-Tableau8[[#This Row],[PAYEE]],"") | W9: =IF(Tableau8[[#This Row],[marché]]="RG_5%",VLOOKUP($B9,Tableau16[[Ref]:[AUTRE]],15,FALSE)-Tableau8[[#This Row],[PAYEE]],"") | X9: =IF(Tableau8[[#This Row],[marché]]="BFT_5%",VLOOKUP($B9,Tableau16[[Ref]:[AUTRE]],17,FALSE)-Tableau8[[#This Row],[PAYEE]],"") | Y9: =IF(Tableau8[[#This Row],[marché]]="AUTRE",VLOOKUP($B9,Tableau16[[Ref]:[AUTRE]],19,FALSE)-Tableau8[[#This Row],[PAYEE]],"") | AA9: =IF(Tableau8[[#This Row],[marché]]="MARCHEINT",Tableau8[[#This Row],[MARCHE INT]]+Tableau8[[#This Row],[PAYEE]],IF(Tableau8[[#This Row],[marché]]="MARCHEEXT",Tableau8[[#This Row],[MARCHE EXT]]+Tableau8[[#This Row],[PAYEE]],IF(Tableau8[[#This Row],[marché]]="RG_5%",Tableau8[[#This Row],[RG_5%]]+Tableau8[[#This Row],[PAYEE]],IF(Tableau8[[#This Row],[marché]]="BFT_5%",Tableau8[[#This Row],[BFT_5%]]+Tableau8[[#This Row],[PAYEE]],IF(Tableau8[[#This Row],[marché]]="AUTRE",Tableau8[[#This Row],[AUTRE]]+Tableau8[[#This Row],[PAYEE]],"")))))
B10: =CONCATENATE(Tableau8[[#This Row],[CT INDIRECT CHANTIER]],Tableau8[[#This Row],[NOM CHANTIER INDIRECT ST]],Tableau8[[#This Row],[Sous Traitant]],Tableau8[[#This Row],[MO INDIRECT CT]]) | G10: =IFERROR(IF(B10="","",VLOOKUP(B10,Tableau16[[Ref]:[CP]],6,FALSE)),"") | H10: =IFERROR(IF(B10="","",VLOOKUP(B10,Tableau16[[Ref]:[CP]],7,FALSE)),"") | I10: =CONCATENATE(Tableau8[[#This Row],[CT INDIRECT CHANTIER]],Tableau8[[#This Row],[NOM CHANTIER INDIRECT ST]],Tableau8[[#This Row],[Sous Traitant]],Tableau8[[#This Row],[MO INDIRECT CT]],Tableau8[[#This Row],[marché]]) | J10: =COUNTIF($I$4:I10,Tableau8[[#This Row],[REF FACT]]) -> 7 | M10: =IF(Tableau8[[#This Row],[Sous Traitant]]>1,VLOOKUP(Tableau8[[#This Row],[Sous Traitant]],#REF!,3,FALSE),"") | T10: =SUMIFS($P$4:P10,$I$4:I10,I10) -> 0 | U10: =IF(Tableau8[[#This Row],[marché]]="MARCHEINT",VLOOKUP($B10,Tableau16[[Ref]:[AUTRE]],13,FALSE)-Tableau8[[#This Row],[PAYEE]],"") | V10: =IF(Tableau8[[#This Row],[marché]]="MARCHEEXT",VLOOKUP($B10,Tableau16[[Ref]:[AUTRE]],14,FALSE)-Tableau8[[#This Row],[PAYEE]],"") | W10: =IF(Tableau8[[#This Row],[marché]]="RG_5%",VLOOKUP($B10,Tableau16[[Ref]:[AUTRE]],15,FALSE)-Tableau8[[#This Row],[PAYEE]],"") | X10: =IF(Tableau8[[#This Row],[marché]]="BFT_5%",VLOOKUP($B10,Tableau16[[Ref]:[AUTRE]],17,FALSE)-Tableau8[[#This Row],[PAYEE]],"") | Y10: =IF(Tableau8[[#This Row],[marché]]="AUTRE",VLOOKUP($B10,Tableau16[[Ref]:[AUTRE]],19,FALSE)-Tableau8[[#This Row],[PAYEE]],"") | AA10: =IF(Tableau8[[#This Row],[marché]]="MARCHEINT",Tableau8[[#This Row],[MARCHE INT]]+Tableau8[[#This Row],[PAYEE]],IF(Tableau8[[#This Row],[marché]]="MARCHEEXT",Tableau8[[#This Row],[MARCHE EXT]]+Tableau8[[#This Row],[PAYEE]],IF(Tableau8[[#This Row],[marché]]="RG_5%",Tableau8[[#This Row],[RG_5%]]+Tableau8[[#This Row],[PAYEE]],IF(Tableau8[[#This Row],[marché]]="BFT_5%",Tableau8[[#This Row],[BFT_5%]]+Tableau8[[#This Row],[PAYEE]],IF(Tableau8[[#This Row],[marché]]="AUTRE",Tableau8[[#This Row],[AUTRE]]+Tableau8[[#This Row],[PAYEE]],"")))))
B11: =CONCATENATE(Tableau8[[#This Row],[CT INDIRECT CHANTIER]],Tableau8[[#This Row],[NOM CHANTIER INDIRECT ST]],Tableau8[[#This Row],[Sous Traitant]],Tableau8[[#This Row],[MO INDIRECT CT]]) | G11: =IFERROR(IF(B11="","",VLOOKUP(B11,Tableau16[[Ref]:[CP]],6,FALSE)),"") | H11: =IFERROR(IF(B11="","",VLOOKUP(B11,Tableau16[[Ref]:[CP]],7,FALSE)),"") | I11: =CONCATENATE(Tableau8[[#This Row],[CT INDIRECT CHANTIER]],Tableau8[[#This Row],[NOM CHANTIER INDIRECT ST]],Tableau8[[#This Row],[Sous Traitant]],Tableau8[[#This Row],[MO INDIRECT CT]],Tableau8[[#This Row],[marché]]) | J11: =COUNTIF($I$4:I11,Tableau8[[#This Row],[REF FACT]]) -> 8 | M11: =IF(Tableau8[[#This Row],[Sous Traitant]]>1,VLOOKUP(Tableau8[[#This Row],[Sous Traitant]],#REF!,3,FALSE),"") | T11: =SUMIFS($P$4:P11,$I$4:I11,I11) -> 0 | U11: =IF(Tableau8[[#This Row],[marché]]="MARCHEINT",VLOOKUP($B11,Tableau16[[Ref]:[AUTRE]],13,FALSE)-Tableau8[[#This Row],[PAYEE]],"") | V11: =IF(Tableau8[[#This Row],[marché]]="MARCHEEXT",VLOOKUP($B11,Tableau16[[Ref]:[AUTRE]],14,FALSE)-Tableau8[[#This Row],[PAYEE]],"") | W11: =IF(Tableau8[[#This Row],[marché]]="RG_5%",VLOOKUP($B11,Tableau16[[Ref]:[AUTRE]],15,FALSE)-Tableau8[[#This Row],[PAYEE]],"") | X11: =IF(Tableau8[[#This Row],[marché]]="BFT_5%",VLOOKUP($B11,Tableau16[[Ref]:[AUTRE]],17,FALSE)-Tableau8[[#This Row],[PAYEE]],"") | Y11: =IF(Tableau8[[#This Row],[marché]]="AUTRE",VLOOKUP($B11,Tableau16[[Ref]:[AUTRE]],19,FALSE)-Tableau8[[#This Row],[PAYEE]],"") | AA11: =IF(Tableau8[[#This Row],[marché]]="MARCHEINT",Tableau8[[#This Row],[MARCHE INT]]+Tableau8[[#This Row],[PAYEE]],IF(Tableau8[[#This Row],[marché]]="MARCHEEXT",Tableau8[[#This Row],[MARCHE EXT]]+Tableau8[[#This Row],[PAYEE]],IF(Tableau8[[#This Row],[marché]]="RG_5%",Tableau8[[#This Row],[RG_5%]]+Tableau8[[#This Row],[PAYEE]],IF(Tableau8[[#This Row],[marché]]="BFT_5%",Tableau8[[#This Row],[BFT_5%]]+Tableau8[[#This Row],[PAYEE]],IF(Tableau8[[#This Row],[marché]]="AUTRE",Tableau8[[#This Row],[AUTRE]]+Tableau8[[#This Row],[PAYEE]],"")))))
A12: MARS | B12: =CONCATENATE(Tableau8[[#This Row],[CT INDIRECT CHANTIER]],Tableau8[[#This Row],[NOM CHANTIER INDIRECT ST]],Tableau8[[#This Row],[Sous Traitant]],Tableau8[[#This Row],[MO INDIRECT CT]]) | G12: =IFERROR(IF(B12="","",VLOOKUP(B12,Tableau16[[Ref]:[CP]],6,FALSE)),"") | H12: =IFERROR(IF(B12="","",VLOOKUP(B12,Tableau16[[Ref]:[CP]],7,FALSE)),"") | I12: =CONCATENATE(Tableau8[[#This Row],[CT INDIRECT CHANTIER]],Tableau8[[#This Row],[NOM CHANTIER INDIRECT ST]],Tableau8[[#This Row],[Sous Traitant]],Tableau8[[#This Row],[MO INDIRECT CT]],Tableau8[[#This Row],[marché]]) | J12: =COUNTIF($I$4:I12,Tableau8[[#This Row],[REF FACT]]) -> 9 | M12: =IF(Tableau8[[#This Row],[Sous Traitant]]>1,VLOOKUP(Tableau8[[#This Row],[Sous Traitant]],#REF!,3,FALSE),"") | T12: =SUMIFS($P$4:P12,$I$4:I12,I12) -> 0 | U12: =IF(Tableau8[[#This Row],[marché]]="MARCHEINT",VLOOKUP($B12,Tableau16[[Ref]:[AUTRE]],13,FALSE)-Tableau8[[#This Row],[PAYEE]],"") | V12: =IF(Tableau8[[#This Row],[marché]]="MARCHEEXT",VLOOKUP($B12,Tableau16[[Ref]:[AUTRE]],14,FALSE)-Tableau8[[#This Row],[PAYEE]],"") | W12: =IF(Tableau8[[#This Row],[marché]]="RG_5%",VLOOKUP($B12,Tableau16[[Ref]:[AUTRE]],15,FALSE)-Tableau8[[#This Row],[PAYEE]],"") | X12: =IF(Tableau8[[#This Row],[marché]]="BFT_5%",VLOOKUP($B12,Tableau16[[Ref]:[AUTRE]],17,FALSE)-Tableau8[[#This Row],[PAYEE]],"") | Y12: =IF(Tableau8[[#This Row],[marché]]="AUTRE",VLOOKUP($B12,Tableau16[[Ref]:[AUTRE]],19,FALSE)-Tableau8[[#This Row],[PAYEE]],"") | AA12: =IF(Tableau8[[#This Row],[marché]]="MARCHEINT",Tableau8[[#This Row],[MARCHE INT]]+Tableau8[[#This Row],[PAYEE]],IF(Tableau8[[#This Row],[marché]]="MARCHEEXT",Tableau8[[#This Row],[MARCHE EXT]]+Tableau8[[#This Row],[PAYEE]],IF(Tableau8[[#This Row],[marché]]="RG_5%",Tableau8[[#This Row],[RG_5%]]+Tableau8[[#This Row],[PAYEE]],IF(Tableau8[[#This Row],[marché]]="BFT_5%",Tableau8[[#This Row],[BFT_5%]]+Tableau8[[#This Row],[PAYEE]],IF(Tableau8[[#This Row],[marché]]="AUTRE",Tableau8[[#This Row],[AUTRE]]+Tableau8[[#This Row],[PAYEE]],"")))))
B13: =CONCATENATE(Tableau8[[#This Row],[CT INDIRECT CHANTIER]],Tableau8[[#This Row],[NOM CHANTIER INDIRECT ST]],Tableau8[[#This Row],[Sous Traitant]],Tableau8[[#This Row],[MO INDIRECT CT]]) | G13: =IFERROR(IF(B13="","",VLOOKUP(B13,Tableau16[[Ref]:[CP]],6,FALSE)),"") | H13: =IFERROR(IF(B13="","",VLOOKUP(B13,Tableau16[[Ref]:[CP]],7,FALSE)),"") | I13: =CONCATENATE(Tableau8[[#This Row],[CT INDIRECT CHANTIER]],Tableau8[[#This Row],[NOM CHANTIER INDIRECT ST]],Tableau8[[#This Row],[Sous Traitant]],Tableau8[[#This Row],[MO INDIRECT CT]],Tableau8[[#This Row],[marché]]) | J13: =COUNTIF($I$4:I13,Tableau8[[#This Row],[REF FACT]]) -> 10 | M13: =IF(Tableau8[[#This Row],[Sous Traitant]]>1,VLOOKUP(Tableau8[[#This Row],[Sous Traitant]],#REF!,3,FALSE),"") | T13: =SUMIFS($P$4:P13,$I$4:I13,I13) -> 0 | U13: =IF(Tableau8[[#This Row],[marché]]="MARCHEINT",VLOOKUP($B13,Tableau16[[Ref]:[AUTRE]],13,FALSE)-Tableau8[[#This Row],[PAYEE]],"") | V13: =IF(Tableau8[[#This Row],[marché]]="MARCHEEXT",VLOOKUP($B13,Tableau16[[Ref]:[AUTRE]],14,FALSE)-Tableau8[[#This Row],[PAYEE]],"") | W13: =IF(Tableau8[[#This Row],[marché]]="RG_5%",VLOOKUP($B13,Tableau16[[Ref]:[AUTRE]],15,FALSE)-Tableau8[[#This Row],[PAYEE]],"") | X13: =IF(Tableau8[[#This Row],[marché]]="BFT_5%",VLOOKUP($B13,Tableau16[[Ref]:[AUTRE]],17,FALSE)-Tableau8[[#This Row],[PAYEE]],"") | Y13: =IF(Tableau8[[#This Row],[marché]]="AUTRE",VLOOKUP($B13,Tableau16[[Ref]:[AUTRE]],19,FALSE)-Tableau8[[#This Row],[PAYEE]],"") | AA13: =IF(Tableau8[[#This Row],[marché]]="MARCHEINT",Tableau8[[#This Row],[MARCHE INT]]+Tableau8[[#This Row],[PAYEE]],IF(Tableau8[[#This Row],[marché]]="MARCHEEXT",Tableau8[[#This Row],[MARCHE EXT]]+Tableau8[[#This Row],[PAYEE]],IF(Tableau8[[#This Row],[marché]]="RG_5%",Tableau8[[#This Row],[RG_5%]]+Tableau8[[#This Row],[PAYEE]],IF(Tableau8[[#This Row],[marché]]="BFT_5%",Tableau8[[#This Row],[BFT_5%]]+Tableau8[[#This Row],[PAYEE]],IF(Tableau8[[#This Row],[marché]]="AUTRE",Tableau8[[#This Row],[AUTRE]]+Tableau8[[#This Row],[PAYEE]],"")))))
B14: =CONCATENATE(Tableau8[[#This Row],[CT INDIRECT CHANTIER]],Tableau8[[#This Row],[NOM CHANTIER INDIRECT ST]],Tableau8[[#This Row],[Sous Traitant]],Tableau8[[#This Row],[MO INDIRECT CT]]) | G14: =IFERROR(IF(B14="","",VLOOKUP(B14,Tableau16[[Ref]:[CP]],6,FALSE)),"") | H14: =IFERROR(IF(B14="","",VLOOKUP(B14,Tableau16[[Ref]:[CP]],7,FALSE)),"") | I14: =CONCATENATE(Tableau8[[#This Row],[CT INDIRECT CHANTIER]],Tableau8[[#This Row],[NOM CHANTIER INDIRECT ST]],Tableau8[[#This Row],[Sous Traitant]],Tableau8[[#This Row],[MO INDIRECT CT]],Tableau8[[#This Row],[marché]]) | J14: =COUNTIF($I$4:I14,Tableau8[[#This Row],[REF FACT]]) -> 11 | M14: =IF(Tableau8[[#This Row],[Sous Traitant]]>1,VLOOKUP(Tableau8[[#This Row],[Sous Traitant]],#REF!,3,FALSE),"") | T14: =SUMIFS($P$4:P14,$I$4:I14,I14) -> 0 | U14: =IF(Tableau8[[#This Row],[marché]]="MARCHEINT",VLOOKUP($B14,Tableau16[[Ref]:[AUTRE]],13,FALSE)-Tableau8[[#This Row],[PAYEE]],"") | V14: =IF(Tableau8[[#This Row],[marché]]="MARCHEEXT",VLOOKUP($B14,Tableau16[[Ref]:[AUTRE]],14,FALSE)-Tableau8[[#This Row],[PAYEE]],"") | W14: =IF(Tableau8[[#This Row],[marché]]="RG_5%",VLOOKUP($B14,Tableau16[[Ref]:[AUTRE]],15,FALSE)-Tableau8[[#This Row],[PAYEE]],"") | X14: =IF(Tableau8[[#This Row],[marché]]="BFT_5%",VLOOKUP($B14,Tableau16[[Ref]:[AUTRE]],17,FALSE)-Tableau8[[#This Row],[PAYEE]],"") | Y14: =IF(Tableau8[[#This Row],[marché]]="AUTRE",VLOOKUP($B14,Tableau16[[Ref]:[AUTRE]],19,FALSE)-Tableau8[[#This Row],[PAYEE]],"") | AA14: =IF(Tableau8[[#This Row],[marché]]="MARCHEINT",Tableau8[[#This Row],[MARCHE INT]]+Tableau8[[#This Row],[PAYEE]],IF(Tableau8[[#This Row],[marché]]="MARCHEEXT",Tableau8[[#This Row],[MARCHE EXT]]+Tableau8[[#This Row],[PAYEE]],IF(Tableau8[[#This Row],[marché]]="RG_5%",Tableau8[[#This Row],[RG_5%]]+Tableau8[[#This Row],[PAYEE]],IF(Tableau8[[#This Row],[marché]]="BFT_5%",Tableau8[[#This Row],[BFT_5%]]+Tableau8[[#This Row],[PAYEE]],IF(Tableau8[[#This Row],[marché]]="AUTRE",Tableau8[[#This Row],[AUTRE]]+Tableau8[[#This Row],[PAYEE]],"")))))
B15: =CONCATENATE(Tableau8[[#This Row],[CT INDIRECT CHANTIER]],Tableau8[[#This Row],[NOM CHANTIER INDIRECT ST]],Tableau8[[#This Row],[Sous Traitant]],Tableau8[[#This Row],[MO INDIRECT CT]]) | G15: =IFERROR(IF(B15="","",VLOOKUP(B15,Tableau16[[Ref]:[CP]],6,FALSE)),"") | H15: =IFERROR(IF(B15="","",VLOOKUP(B15,Tableau16[[Ref]:[CP]],7,FALSE)),"") | I15: =CONCATENATE(Tableau8[[#This Row],[CT INDIRECT CHANTIER]],Tableau8[[#This Row],[NOM CHANTIER INDIRECT ST]],Tableau8[[#This Row],[Sous Traitant]],Tableau8[[#This Row],[MO INDIRECT CT]],Tableau8[[#This Row],[marché]]) | J15: =COUNTIF($I$4:I15,Tableau8[[#This Row],[REF FACT]]) -> 12 | M15: =IF(Tableau8[[#This Row],[Sous Traitant]]>1,VLOOKUP(Tableau8[[#This Row],[Sous Traitant]],#REF!,3,FALSE),"") | T15: =SUMIFS($P$4:P15,$I$4:I15,I15) -> 0 | U15: =IF(Tableau8[[#This Row],[marché]]="MARCHEINT",VLOOKUP($B15,Tableau16[[Ref]:[AUTRE]],13,FALSE)-Tableau8[[#This Row],[PAYEE]],"") | V15: =IF(Tableau8[[#This Row],[marché]]="MARCHEEXT",VLOOKUP($B15,Tableau16[[Ref]:[AUTRE]],14,FALSE)-Tableau8[[#This Row],[PAYEE]],"") | W15: =IF(Tableau8[[#This Row],[marché]]="RG_5%",VLOOKUP($B15,Tableau16[[Ref]:[AUTRE]],15,FALSE)-Tableau8[[#This Row],[PAYEE]],"") | X15: =IF(Tableau8[[#This Row],[marché]]="BFT_5%",VLOOKUP($B15,Tableau16[[Ref]:[AUTRE]],17,FALSE)-Tableau8[[#This Row],[PAYEE]],"") | Y15: =IF(Tableau8[[#This Row],[marché]]="AUTRE",VLOOKUP($B15,Tableau16[[Ref]:[AUTRE]],19,FALSE)-Tableau8[[#This Row],[PAYEE]],"") | AA15: =IF(Tableau8[[#This Row],[marché]]="MARCHEINT",Tableau8[[#This Row],[MARCHE INT]]+Tableau8[[#This Row],[PAYEE]],IF(Tableau8[[#This Row],[marché]]="MARCHEEXT",Tableau8[[#This Row],[MARCHE EXT]]+Tableau8[[#This Row],[PAYEE]],IF(Tableau8[[#This Row],[marché]]="RG_5%",Tableau8[[#This Row],[RG_5%]]+Tableau8[[#This Row],[PAYEE]],IF(Tableau8[[#This Row],[marché]]="BFT_5%",Tableau8[[#This Row],[BFT_5%]]+Tableau8[[#This Row],[PAYEE]],IF(Tableau8[[#This Row],[marché]]="AUTRE",Tableau8[[#This Row],[AUTRE]]+Tableau8[[#This Row],[PAYEE]],"")))))
A16: AVRIL | B16: =CONCATENATE(Tableau8[[#This Row],[CT INDIRECT CHANTIER]],Tableau8[[#This Row],[NOM CHANTIER INDIRECT ST]],Tableau8[[#This Row],[Sous Traitant]],Tableau8[[#This Row],[MO INDIRECT CT]]) | G16: =IFERROR(IF(B16="","",VLOOKUP(B16,Tableau16[[Ref]:[CP]],6,FALSE)),"") | H16: =IFERROR(IF(B16="","",VLOOKUP(B16,Tableau16[[Ref]:[CP]],7,FALSE)),"") | I16: =CONCATENATE(Tableau8[[#This Row],[CT INDIRECT CHANTIER]],Tableau8[[#This Row],[NOM CHANTIER INDIRECT ST]],Tableau8[[#This Row],[Sous Traitant]],Tableau8[[#This Row],[MO INDIRECT CT]],Tableau8[[#This Row],[marché]]) | J16: =COUNTIF($I$4:I16,Tableau8[[#This Row],[REF FACT]]) -> 13 | M16: =IF(Tableau8[[#This Row],[Sous Traitant]]>1,VLOOKUP(Tableau8[[#This Row],[Sous Traitant]],#REF!,3,FALSE),"") | T16: =SUMIFS($P$4:P16,$I$4:I16,I16) -> 0 | U16: =IF(Tableau8[[#This Row],[marché]]="MARCHEINT",VLOOKUP($B16,Tableau16[[Ref]:[AUTRE]],13,FALSE)-Tableau8[[#This Row],[PAYEE]],"") | V16: =IF(Tableau8[[#This Row],[marché]]="MARCHEEXT",VLOOKUP($B16,Tableau16[[Ref]:[AUTRE]],14,FALSE)-Tableau8[[#This Row],[PAYEE]],"") | W16: =IF(Tableau8[[#This Row],[marché]]="RG_5%",VLOOKUP($B16,Tableau16[[Ref]:[AUTRE]],15,FALSE)-Tableau8[[#This Row],[PAYEE]],"") | X16: =IF(Tableau8[[#This Row],[marché]]="BFT_5%",VLOOKUP($B16,Tableau16[[Ref]:[AUTRE]],17,FALSE)-Tableau8[[#This Row],[PAYEE]],"") | Y16: =IF(Tableau8[[#This Row],[marché]]="AUTRE",VLOOKUP($B16,Tableau16[[Ref]:[AUTRE]],19,FALSE)-Tableau8[[#This Row],[PAYEE]],"") | AA16: =IF(Tableau8[[#This Row],[marché]]="MARCHEINT",Tableau8[[#This Row],[MARCHE INT]]+Tableau8[[#This Row],[PAYEE]],IF(Tableau8[[#This Row],[marché]]="MARCHEEXT",Tableau8[[#This Row],[MARCHE EXT]]+Tableau8[[#This Row],[PAYEE]],IF(Tableau8[[#This Row],[marché]]="RG_5%",Tableau8[[#This Row],[RG_5%]]+Tableau8[[#This Row],[PAYEE]],IF(Tableau8[[#This Row],[marché]]="BFT_5%",Tableau8[[#This Row],[BFT_5%]]+Tableau8[[#This Row],[PAYEE]],IF(Tableau8[[#This Row],[marché]]="AUTRE",Tableau8[[#This Row],[AUTRE]]+Tableau8[[#This Row],[PAYEE]],"")))))
B17: =CONCATENATE(Tableau8[[#This Row],[CT INDIRECT CHANTIER]],Tableau8[[#This Row],[NOM CHANTIER INDIRECT ST]],Tableau8[[#This Row],[Sous Traitant]],Tableau8[[#This Row],[MO INDIRECT CT]]) | G17: =IFERROR(IF(B17="","",VLOOKUP(B17,Tableau16[[Ref]:[CP]],6,FALSE)),"") | H17: =IFERROR(IF(B17="","",VLOOKUP(B17,Tableau16[[Ref]:[CP]],7,FALSE)),"") | I17: =CONCATENATE(Tableau8[[#This Row],[CT INDIRECT CHANTIER]],Tableau8[[#This Row],[NOM CHANTIER INDIRECT ST]],Tableau8[[#This Row],[Sous Traitant]],Tableau8[[#This Row],[MO INDIRECT CT]],Tableau8[[#This Row],[marché]]) | J17: =COUNTIF($I$4:I17,Tableau8[[#This Row],[REF FACT]]) -> 14 | M17: =IF(Tableau8[[#This Row],[Sous Traitant]]>1,VLOOKUP(Tableau8[[#This Row],[Sous Traitant]],#REF!,3,FALSE),"") | T17: =SUMIFS($P$4:P17,$I$4:I17,I17) -> 0 | U17: =IF(Tableau8[[#This Row],[marché]]="MARCHEINT",VLOOKUP($B17,Tableau16[[Ref]:[AUTRE]],13,FALSE)-Tableau8[[#This Row],[PAYEE]],"") | V17: =IF(Tableau8[[#This Row],[marché]]="MARCHEEXT",VLOOKUP($B17,Tableau16[[Ref]:[AUTRE]],14,FALSE)-Tableau8[[#This Row],[PAYEE]],"") | W17: =IF(Tableau8[[#This Row],[marché]]="RG_5%",VLOOKUP($B17,Tableau16[[Ref]:[AUTRE]],15,FALSE)-Tableau8[[#This Row],[PAYEE]],"") | X17: =IF(Tableau8[[#This Row],[marché]]="BFT_5%",VLOOKUP($B17,Tableau16[[Ref]:[AUTRE]],17,FALSE)-Tableau8[[#This Row],[PAYEE]],"") | Y17: =IF(Tableau8[[#This Row],[marché]]="AUTRE",VLOOKUP($B17,Tableau16[[Ref]:[AUTRE]],19,FALSE)-Tableau8[[#This Row],[PAYEE]],"") | AA17: =IF(Tableau8[[#This Row],[marché]]="MARCHEINT",Tableau8[[#This Row],[MARCHE INT]]+Tableau8[[#This Row],[PAYEE]],IF(Tableau8[[#This Row],[marché]]="MARCHEEXT",Tableau8[[#This Row],[MARCHE EXT]]+Tableau8[[#This Row],[PAYEE]],IF(Tableau8[[#This Row],[marché]]="RG_5%",Tableau8[[#This Row],[RG_5%]]+Tableau8[[#This Row],[PAYEE]],IF(Tableau8[[#This Row],[marché]]="BFT_5%",Tableau8[[#This Row],[BFT_5%]]+Tableau8[[#This Row],[PAYEE]],IF(Tableau8[[#This Row],[marché]]="AUTRE",Tableau8[[#This Row],[AUTRE]]+Tableau8[[#This Row],[PAYEE]],"")))))
B18: =CONCATENATE(Tableau8[[#This Row],[CT INDIRECT CHANTIER]],Tableau8[[#This Row],[NOM CHANTIER INDIRECT ST]],Tableau8[[#This Row],[Sous Traitant]],Tableau8[[#This Row],[MO INDIRECT CT]]) | G18: =IFERROR(IF(B18="","",VLOOKUP(B18,Tableau16[[Ref]:[CP]],6,FALSE)),"") | H18: =IFERROR(IF(B18="","",VLOOKUP(B18,Tableau16[[Ref]:[CP]],7,FALSE)),"") | I18: =CONCATENATE(Tableau8[[#This Row],[CT INDIRECT CHANTIER]],Tableau8[[#This Row],[NOM CHANTIER INDIRECT ST]],Tableau8[[#This Row],[Sous Traitant]],Tableau8[[#This Row],[MO INDIRECT CT]],Tableau8[[#This Row],[marché]]) | J18: =COUNTIF($I$4:I18,Tableau8[[#This Row],[REF FACT]]) -> 15 | M18: =IF(Tableau8[[#This Row],[Sous Traitant]]>1,VLOOKUP(Tableau8[[#This Row],[Sous Traitant]],#REF!,3,FALSE),"") | T18: =SUMIFS($P$4:P18,$I$4:I18,I18) -> 0 | U18: =IF(Tableau8[[#This Row],[marché]]="MARCHEINT",VLOOKUP($B18,Tableau16[[Ref]:[AUTRE]],13,FALSE)-Tableau8[[#This Row],[PAYEE]],"") | V18: =IF(Tableau8[[#This Row],[marché]]="MARCHEEXT",VLOOKUP($B18,Tableau16[[Ref]:[AUTRE]],14,FALSE)-Tableau8[[#This Row],[PAYEE]],"") | W18: =IF(Tableau8[[#This Row],[marché]]="RG_5%",VLOOKUP($B18,Tableau16[[Ref]:[AUTRE]],15,FALSE)-Tableau8[[#This Row],[PAYEE]],"") | X18: =IF(Tableau8[[#This Row],[marché]]="BFT_5%",VLOOKUP($B18,Tableau16[[Ref]:[AUTRE]],17,FALSE)-Tableau8[[#This Row],[PAYEE]],"") | Y18: =IF(Tableau8[[#This Row],[marché]]="AUTRE",VLOOKUP($B18,Tableau16[[Ref]:[AUTRE]],19,FALSE)-Tableau8[[#This Row],[PAYEE]],"") | AA18: =IF(Tableau8[[#This Row],[marché]]="MARCHEINT",Tableau8[[#This Row],[MARCHE INT]]+Tableau8[[#This Row],[PAYEE]],IF(Tableau8[[#This Row],[marché]]="MARCHEEXT",Tableau8[[#This Row],[MARCHE EXT]]+Tableau8[[#This Row],[PAYEE]],IF(Tableau8[[#This Row],[marché]]="RG_5%",Tableau8[[#This Row],[RG_5%]]+Tableau8[[#This Row],[PAYEE]],IF(Tableau8[[#This Row],[marché]]="BFT_5%",Tableau8[[#This Row],[BFT_5%]]+Tableau8[[#This Row],[PAYEE]],IF(Tableau8[[#This Row],[marché]]="AUTRE",Tableau8[[#This Row],[AUTRE]]+Tableau8[[#This Row],[PAYEE]],"")))))
B19: =CONCATENATE(Tableau8[[#This Row],[CT INDIRECT CHANTIER]],Tableau8[[#This Row],[NOM CHANTIER INDIRECT ST]],Tableau8[[#This Row],[Sous Traitant]],Tableau8[[#This Row],[MO INDIRECT CT]]) | G19: =IFERROR(IF(B19="","",VLOOKUP(B19,Tableau16[[Ref]:[CP]],6,FALSE)),"") | H19: =IFERROR(IF(B19="","",VLOOKUP(B19,Tableau16[[Ref]:[CP]],7,FALSE)),"") | I19: =CONCATENATE(Tableau8[[#This Row],[CT INDIRECT CHANTIER]],Tableau8[[#This Row],[NOM CHANTIER INDIRECT ST]],Tableau8[[#This Row],[Sous Traitant]],Tableau8[[#This Row],[MO INDIRECT CT]],Tableau8[[#This Row],[marché]]) | J19: =COUNTIF($I$4:I19,Tableau8[[#This Row],[REF FACT]]) -> 16 | M19: =IF(Tableau8[[#This Row],[Sous Traitant]]>1,VLOOKUP(Tableau8[[#This Row],[Sous Traitant]],#REF!,3,FALSE),"") | T19: =SUMIFS($P$4:P19,$I$4:I19,I19) -> 0 | U19: =IF(Tableau8[[#This Row],[marché]]="MARCHEINT",VLOOKUP($B19,Tableau16[[Ref]:[AUTRE]],13,FALSE)-Tableau8[[#This Row],[PAYEE]],"") | V19: =IF(Tableau8[[#This Row],[marché]]="MARCHEEXT",VLOOKUP($B19,Tableau16[[Ref]:[AUTRE]],14,FALSE)-Tableau8[[#This Row],[PAYEE]],"") | W19: =IF(Tableau8[[#This Row],[marché]]="RG_5%",VLOOKUP($B19,Tableau16[[Ref]:[AUTRE]],15,FALSE)-Tableau8[[#This Row],[PAYEE]],"") | X19: =IF(Tableau8[[#This Row],[marché]]="BFT_5%",VLOOKUP($B19,Tableau16[[Ref]:[AUTRE]],17,FALSE)-Tableau8[[#This Row],[PAYEE]],"") | Y19: =IF(Tableau8[[#This Row],[marché]]="AUTRE",VLOOKUP($B19,Tableau16[[Ref]:[AUTRE]],19,FALSE)-Tableau8[[#This Row],[PAYEE]],"") | AA19: =IF(Tableau8[[#This Row],[marché]]="MARCHEINT",Tableau8[[#This Row],[MARCHE INT]]+Tableau8[[#This Row],[PAYEE]],IF(Tableau8[[#This Row],[marché]]="MARCHEEXT",Tableau8[[#This Row],[MARCHE EXT]]+Tableau8[[#This Row],[PAYEE]],IF(Tableau8[[#This Row],[marché]]="RG_5%",Tableau8[[#This Row],[RG_5%]]+Tableau8[[#This Row],[PAYEE]],IF(Tableau8[[#This Row],[marché]]="BFT_5%",Tableau8[[#This Row],[BFT_5%]]+Tableau8[[#This Row],[PAYEE]],IF(Tableau8[[#This Row],[marché]]="AUTRE",Tableau8[[#This Row],[AUTRE]]+Tableau8[[#This Row],[PAYEE]],"")))))
A20: MAI | B20: =CONCATENATE(Tableau8[[#This Row],[CT INDIRECT CHANTIER]],Tableau8[[#This Row],[NOM CHANTIER INDIRECT ST]],Tableau8[[#This Row],[Sous Traitant]],Tableau8[[#This Row],[MO INDIRECT CT]]) | G20: =IFERROR(IF(B20="","",VLOOKUP(B20,Tableau16[[Ref]:[CP]],6,FALSE)),"") | H20: =IFERROR(IF(B20="","",VLOOKUP(B20,Tableau16[[Ref]:[CP]],7,FALSE)),"") | I20: =CONCATENATE(Tableau8[[#This Row],[CT INDIRECT CHANTIER]],Tableau8[[#This Row],[NOM CHANTIER INDIRECT ST]],Tableau8[[#This Row],[Sous Traitant]],Tableau8[[#This Row],[MO INDIRECT CT]],Tableau8[[#This Row],[marché]]) | J20: =COUNTIF($I$4:I20,Tableau8[[#This Row],[REF FACT]]) -> 17 | M20: =IF(Tableau8[[#This Row],[Sous Traitant]]>1,VLOOKUP(Tableau8[[#This Row],[Sous Traitant]],#REF!,3,FALSE),"") | T20: =SUMIFS($P$4:P20,$I$4:I20,I20) -> 0 | U20: =IF(Tableau8[[#This Row],[marché]]="MARCHEINT",VLOOKUP($B20,Tableau16[[Ref]:[AUTRE]],13,FALSE)-Tableau8[[#This Row],[PAYEE]],"") | V20: =IF(Tableau8[[#This Row],[marché]]="MARCHEEXT",VLOOKUP($B20,Tableau16[[Ref]:[AUTRE]],14,FALSE)-Tableau8[[#This Row],[PAYEE]],"") | W20: =IF(Tableau8[[#This Row],[marché]]="RG_5%",VLOOKUP($B20,Tableau16[[Ref]:[AUTRE]],15,FALSE)-Tableau8[[#This Row],[PAYEE]],"") | X20: =IF(Tableau8[[#This Row],[marché]]="BFT_5%",VLOOKUP($B20,Tableau16[[Ref]:[AUTRE]],17,FALSE)-Tableau8[[#This Row],[PAYEE]],"") | Y20: =IF(Tableau8[[#This Row],[marché]]="AUTRE",VLOOKUP($B20,Tableau16[[Ref]:[AUTRE]],19,FALSE)-Tableau8[[#This Row],[PAYEE]],"") | AA20: =IF(Tableau8[[#This Row],[marché]]="MARCHEINT",Tableau8[[#This Row],[MARCHE INT]]+Tableau8[[#This Row],[PAYEE]],IF(Tableau8[[#This Row],[marché]]="MARCHEEXT",Tableau8[[#This Row],[MARCHE EXT]]+Tableau8[[#This Row],[PAYEE]],IF(Tableau8[[#This Row],[marché]]="RG_5%",Tableau8[[#This Row],[RG_5%]]+Tableau8[[#This Row],[PAYEE]],IF(Tableau8[[#This Row],[marché]]="BFT_5%",Tableau8[[#This Row],[BFT_5%]]+Tableau8[[#This Row],[PAYEE]],IF(Tableau8[[#This Row],[marché]]="AUTRE",Tableau8[[#This Row],[AUTRE]]+Tableau8[[#This Row],[PAYEE]],"")))))
B21: =CONCATENATE(Tableau8[[#This Row],[CT INDIRECT CHANTIER]],Tableau8[[#This Row],[NOM CHANTIER INDIRECT ST]],Tableau8[[#This Row],[Sous Traitant]],Tableau8[[#This Row],[MO INDIRECT CT]]) | G21: =IFERROR(IF(B21="","",VLOOKUP(B21,Tableau16[[Ref]:[CP]],6,FALSE)),"") | H21: =IFERROR(IF(B21="","",VLOOKUP(B21,Tableau16[[Ref]:[CP]],7,FALSE)),"") | I21: =CONCATENATE(Tableau8[[#This Row],[CT INDIRECT CHANTIER]],Tableau8[[#This Row],[NOM CHANTIER INDIRECT ST]],Tableau8[[#This Row],[Sous Traitant]],Tableau8[[#This Row],[MO INDIRECT CT]],Tableau8[[#This Row],[marché]]) | J21: =COUNTIF($I$4:I21,Tableau8[[#This Row],[REF FACT]]) -> 18 | M21: =IF(Tableau8[[#This Row],[Sous Traitant]]>1,VLOOKUP(Tableau8[[#This Row],[Sous Traitant]],#REF!,3,FALSE),"") | T21: =SUMIFS($P$4:P21,$I$4:I21,I21) -> 0 | U21: =IF(Tableau8[[#This Row],[marché]]="MARCHEINT",VLOOKUP($B21,Tableau16[[Ref]:[AUTRE]],13,FALSE)-Tableau8[[#This Row],[PAYEE]],"") | V21: =IF(Tableau8[[#This Row],[marché]]="MARCHEEXT",VLOOKUP($B21,Tableau16[[Ref]:[AUTRE]],14,FALSE)-Tableau8[[#This Row],[PAYEE]],"") | W21: =IF(Tableau8[[#This Row],[marché]]="RG_5%",VLOOKUP($B21,Tableau16[[Ref]:[AUTRE]],15,FALSE)-Tableau8[[#This Row],[PAYEE]],"") | X21: =IF(Tableau8[[#This Row],[marché]]="BFT_5%",VLOOKUP($B21,Tableau16[[Ref]:[AUTRE]],17,FALSE)-Tableau8[[#This Row],[PAYEE]],"") | Y21: =IF(Tableau8[[#This Row],[marché]]="AUTRE",VLOOKUP($B21,Tableau16[[Ref]:[AUTRE]],19,FALSE)-Tableau8[[#This Row],[PAYEE]],"") | AA21: =IF(Tableau8[[#This Row],[marché]]="MARCHEINT",Tableau8[[#This Row],[MARCHE INT]]+Tableau8[[#This Row],[PAYEE]],IF(Tableau8[[#This Row],[marché]]="MARCHEEXT",Tableau8[[#This Row],[MARCHE EXT]]+Tableau8[[#This Row],[PAYEE]],IF(Tableau8[[#This Row],[marché]]="RG_5%",Tableau8[[#This Row],[RG_5%]]+Tableau8[[#This Row],[PAYEE]],IF(Tableau8[[#This Row],[marché]]="BFT_5%",Tableau8[[#This Row],[BFT_5%]]+Tableau8[[#This Row],[PAYEE]],IF(Tableau8[[#This Row],[marché]]="AUTRE",Tableau8[[#This Row],[AUTRE]]+Tableau8[[#This Row],[PAYEE]],"")))))
B22: =CONCATENATE(Tableau8[[#This Row],[CT INDIRECT CHANTIER]],Tableau8[[#This Row],[NOM CHANTIER INDIRECT ST]],Tableau8[[#This Row],[Sous Traitant]],Tableau8[[#This Row],[MO INDIRECT CT]]) | G22: =IFERROR(IF(B22="","",VLOOKUP(B22,Tableau16[[Ref]:[CP]],6,FALSE)),"") | H22: =IFERROR(IF(B22="","",VLOOKUP(B22,Tableau16[[Ref]:[CP]],7,FALSE)),"") | I22: =CONCATENATE(Tableau8[[#This Row],[CT INDIRECT CHANTIER]],Tableau8[[#This Row],[NOM CHANTIER INDIRECT ST]],Tableau8[[#This Row],[Sous Traitant]],Tableau8[[#This Row],[MO INDIRECT CT]],Tableau8[[#This Row],[marché]]) | J22: =COUNTIF($I$4:I22,Tableau8[[#This Row],[REF FACT]]) -> 19 | M22: =IF(Tableau8[[#This Row],[Sous Traitant]]>1,VLOOKUP(Tableau8[[#This Row],[Sous Traitant]],#REF!,3,FALSE),"") | T22: =SUMIFS($P$4:P22,$I$4:I22,I22) -> 0 | U22: =IF(Tableau8[[#This Row],[marché]]="MARCHEINT",VLOOKUP($B22,Tableau16[[Ref]:[AUTRE]],13,FALSE)-Tableau8[[#This Row],[PAYEE]],"") | V22: =IF(Tableau8[[#This Row],[marché]]="MARCHEEXT",VLOOKUP($B22,Tableau16[[Ref]:[AUTRE]],14,FALSE)-Tableau8[[#This Row],[PAYEE]],"") | W22: =IF(Tableau8[[#This Row],[marché]]="RG_5%",VLOOKUP($B22,Tableau16[[Ref]:[AUTRE]],15,FALSE)-Tableau8[[#This Row],[PAYEE]],"") | X22: =IF(Tableau8[[#This Row],[marché]]="BFT_5%",VLOOKUP($B22,Tableau16[[Ref]:[AUTRE]],17,FALSE)-Tableau8[[#This Row],[PAYEE]],"") | Y22: =IF(Tableau8[[#This Row],[marché]]="AUTRE",VLOOKUP($B22,Tableau16[[Ref]:[AUTRE]],19,FALSE)-Tableau8[[#This Row],[PAYEE]],"") | AA22: =IF(Tableau8[[#This Row],[marché]]="MARCHEINT",Tableau8[[#This Row],[MARCHE INT]]+Tableau8[[#This Row],[PAYEE]],IF(Tableau8[[#This Row],[marché]]="MARCHEEXT",Tableau8[[#This Row],[MARCHE EXT]]+Tableau8[[#This Row],[PAYEE]],IF(Tableau8[[#This Row],[marché]]="RG_5%",Tableau8[[#This Row],[RG_5%]]+Tableau8[[#This Row],[PAYEE]],IF(Tableau8[[#This Row],[marché]]="BFT_5%",Tableau8[[#This Row],[BFT_5%]]+Tableau8[[#This Row],[PAYEE]],IF(Tableau8[[#This Row],[marché]]="AUTRE",Tableau8[[#This Row],[AUTRE]]+Tableau8[[#This Row],[PAYEE]],"")))))
B23: =CONCATENATE(Tableau8[[#This Row],[CT INDIRECT CHANTIER]],Tableau8[[#This Row],[NOM CHANTIER INDIRECT ST]],Tableau8[[#This Row],[Sous Traitant]],Tableau8[[#This Row],[MO INDIRECT CT]]) | G23: =IFERROR(IF(B23="","",VLOOKUP(B23,Tableau16[[Ref]:[CP]],6,FALSE)),"") | H23: =IFERROR(IF(B23="","",VLOOKUP(B23,Tableau16[[Ref]:[CP]],7,FALSE)),"") | I23: =CONCATENATE(Tableau8[[#This Row],[CT INDIRECT CHANTIER]],Tableau8[[#This Row],[NOM CHANTIER INDIRECT ST]],Tableau8[[#This Row],[Sous Traitant]],Tableau8[[#This Row],[MO INDIRECT CT]],Tableau8[[#This Row],[marché]]) | J23: =COUNTIF($I$4:I23,Tableau8[[#This Row],[REF FACT]]) -> 20 | M23: =IF(Tableau8[[#This Row],[Sous Traitant]]>1,VLOOKUP(Tableau8[[#This Row],[Sous Traitant]],#REF!,3,FALSE),"") | T23: =SUMIFS($P$4:P23,$I$4:I23,I23) -> 0 | U23: =IF(Tableau8[[#This Row],[marché]]="MARCHEINT",VLOOKUP($B23,Tableau16[[Ref]:[AUTRE]],13,FALSE)-Tableau8[[#This Row],[PAYEE]],"") | V23: =IF(Tableau8[[#This Row],[marché]]="MARCHEEXT",VLOOKUP($B23,Tableau16[[Ref]:[AUTRE]],14,FALSE)-Tableau8[[#This Row],[PAYEE]],"") | W23: =IF(Tableau8[[#This Row],[marché]]="RG_5%",VLOOKUP($B23,Tableau16[[Ref]:[AUTRE]],15,FALSE)-Tableau8[[#This Row],[PAYEE]],"") | X23: =IF(Tableau8[[#This Row],[marché]]="BFT_5%",VLOOKUP($B23,Tableau16[[Ref]:[AUTRE]],17,FALSE)-Tableau8[[#This Row],[PAYEE]],"") | Y23: =IF(Tableau8[[#This Row],[marché]]="AUTRE",VLOOKUP($B23,Tableau16[[Ref]:[AUTRE]],19,FALSE)-Tableau8[[#This Row],[PAYEE]],"") | AA23: =IF(Tableau8[[#This Row],[marché]]="MARCHEINT",Tableau8[[#This Row],[MARCHE INT]]+Tableau8[[#This Row],[PAYEE]],IF(Tableau8[[#This Row],[marché]]="MARCHEEXT",Tableau8[[#This Row],[MARCHE EXT]]+Tableau8[[#This Row],[PAYEE]],IF(Tableau8[[#This Row],[marché]]="RG_5%",Tableau8[[#This Row],[RG_5%]]+Tableau8[[#This Row],[PAYEE]],IF(Tableau8[[#This Row],[marché]]="BFT_5%",Tableau8[[#This Row],[BFT_5%]]+Tableau8[[#This Row],[PAYEE]],IF(Tableau8[[#This Row],[marché]]="AUTRE",Tableau8[[#This Row],[AUTRE]]+Tableau8[[#This Row],[PAYEE]],"")))))
A24: JUIN | B24: =CONCATENATE(Tableau8[[#This Row],[CT INDIRECT CHANTIER]],Tableau8[[#This Row],[NOM CHANTIER INDIRECT ST]],Tableau8[[#This Row],[Sous Traitant]],Tableau8[[#This Row],[MO INDIRECT CT]]) | G24: =IFERROR(IF(B24="","",VLOOKUP(B24,Tableau16[[Ref]:[CP]],6,FALSE)),"") | H24: =IFERROR(IF(B24="","",VLOOKUP(B24,Tableau16[[Ref]:[CP]],7,FALSE)),"") | I24: =CONCATENATE(Tableau8[[#This Row],[CT INDIRECT CHANTIER]],Tableau8[[#This Row],[NOM CHANTIER INDIRECT ST]],Tableau8[[#This Row],[Sous Traitant]],Tableau8[[#This Row],[MO INDIRECT CT]],Tableau8[[#This Row],[marché]]) | J24: =COUNTIF($I$4:I24,Tableau8[[#This Row],[REF FACT]]) -> 21 | M24: =IF(Tableau8[[#This Row],[Sous Traitant]]>1,VLOOKUP(Tableau8[[#This Row],[Sous Traitant]],#REF!,3,FALSE),"") | T24: =SUMIFS($P$4:P24,$I$4:I24,I24) -> 0 | U24: =IF(Tableau8[[#This Row],[marché]]="MARCHEINT",VLOOKUP($B24,Tableau16[[Ref]:[AUTRE]],13,FALSE)-Tableau8[[#This Row],[PAYEE]],"") | V24: =IF(Tableau8[[#This Row],[marché]]="MARCHEEXT",VLOOKUP($B24,Tableau16[[Ref]:[AUTRE]],14,FALSE)-Tableau8[[#This Row],[PAYEE]],"") | W24: =IF(Tableau8[[#This Row],[marché]]="RG_5%",VLOOKUP($B24,Tableau16[[Ref]:[AUTRE]],15,FALSE)-Tableau8[[#This Row],[PAYEE]],"") | X24: =IF(Tableau8[[#This Row],[marché]]="BFT_5%",VLOOKUP($B24,Tableau16[[Ref]:[AUTRE]],17,FALSE)-Tableau8[[#This Row],[PAYEE]],"") | Y24: =IF(Tableau8[[#This Row],[marché]]="AUTRE",VLOOKUP($B24,Tableau16[[Ref]:[AUTRE]],19,FALSE)-Tableau8[[#This Row],[PAYEE]],"") | AA24: =IF(Tableau8[[#This Row],[marché]]="MARCHEINT",Tableau8[[#This Row],[MARCHE INT]]+Tableau8[[#This Row],[PAYEE]],IF(Tableau8[[#This Row],[marché]]="MARCHEEXT",Tableau8[[#This Row],[MARCHE EXT]]+Tableau8[[#This Row],[PAYEE]],IF(Tableau8[[#This Row],[marché]]="RG_5%",Tableau8[[#This Row],[RG_5%]]+Tableau8[[#This Row],[PAYEE]],IF(Tableau8[[#This Row],[marché]]="BFT_5%",Tableau8[[#This Row],[BFT_5%]]+Tableau8[[#This Row],[PAYEE]],IF(Tableau8[[#This Row],[marché]]="AUTRE",Tableau8[[#This Row],[AUTRE]]+Tableau8[[#This Row],[PAYEE]],"")))))
B25: =CONCATENATE(Tableau8[[#This Row],[CT INDIRECT CHANTIER]],Tableau8[[#This Row],[NOM CHANTIER INDIRECT ST]],Tableau8[[#This Row],[Sous Traitant]],Tableau8[[#This Row],[MO INDIRECT CT]]) | G25: =IFERROR(IF(B25="","",VLOOKUP(B25,Tableau16[[Ref]:[CP]],6,FALSE)),"") | H25: =IFERROR(IF(B25="","",VLOOKUP(B25,Tableau16[[Ref]:[CP]],7,FALSE)),"") | I25: =CONCATENATE(Tableau8[[#This Row],[CT INDIRECT CHANTIER]],Tableau8[[#This Row],[NOM CHANTIER INDIRECT ST]],Tableau8[[#This Row],[Sous Traitant]],Tableau8[[#This Row],[MO INDIRECT CT]],Tableau8[[#This Row],[marché]]) | J25: =COUNTIF($I$4:I25,Tableau8[[#This Row],[REF FACT]]) -> 22 | M25: =IF(Tableau8[[#This Row],[Sous Traitant]]>1,VLOOKUP(Tableau8[[#This Row],[Sous Traitant]],#REF!,3,FALSE),"") | T25: =SUMIFS($P$4:P25,$I$4:I25,I25) -> 0 | U25: =IF(Tableau8[[#This Row],[marché]]="MARCHEINT",VLOOKUP($B25,Tableau16[[Ref]:[AUTRE]],13,FALSE)-Tableau8[[#This Row],[PAYEE]],"") | V25: =IF(Tableau8[[#This Row],[marché]]="MARCHEEXT",VLOOKUP($B25,Tableau16[[Ref]:[AUTRE]],14,FALSE)-Tableau8[[#This Row],[PAYEE]],"") | W25: =IF(Tableau8[[#This Row],[marché]]="RG_5%",VLOOKUP($B25,Tableau16[[Ref]:[AUTRE]],15,FALSE)-Tableau8[[#This Row],[PAYEE]],"") | X25: =IF(Tableau8[[#This Row],[marché]]="BFT_5%",VLOOKUP($B25,Tableau16[[Ref]:[AUTRE]],17,FALSE)-Tableau8[[#This Row],[PAYEE]],"") | Y25: =IF(Tableau8[[#This Row],[marché]]="AUTRE",VLOOKUP($B25,Tableau16[[Ref]:[AUTRE]],19,FALSE)-Tableau8[[#This Row],[PAYEE]],"") | AA25: =IF(Tableau8[[#This Row],[marché]]="MARCHEINT",Tableau8[[#This Row],[MARCHE INT]]+Tableau8[[#This Row],[PAYEE]],IF(Tableau8[[#This Row],[marché]]="MARCHEEXT",Tableau8[[#This Row],[MARCHE EXT]]+Tableau8[[#This Row],[PAYEE]],IF(Tableau8[[#This Row],[marché]]="RG_5%",Tableau8[[#This Row],[RG_5%]]+Tableau8[[#This Row],[PAYEE]],IF(Tableau8[[#This Row],[marché]]="BFT_5%",Tableau8[[#This Row],[BFT_5%]]+Tableau8[[#This Row],[PAYEE]],IF(Tableau8[[#This Row],[marché]]="AUTRE",Tableau8[[#This Row],[AUTRE]]+Tableau8[[#This Row],[PAYEE]],"")))))
B26: =CONCATENATE(Tableau8[[#This Row],[CT INDIRECT CHANTIER]],Tableau8[[#This Row],[NOM CHANTIER INDIRECT ST]],Tableau8[[#This Row],[Sous Traitant]],Tableau8[[#This Row],[MO INDIRECT CT]]) | G26: =IFERROR(IF(B26="","",VLOOKUP(B26,Tableau16[[Ref]:[CP]],6,FALSE)),"") | H26: =IFERROR(IF(B26="","",VLOOKUP(B26,Tableau16[[Ref]:[CP]],7,FALSE)),"") | I26: =CONCATENATE(Tableau8[[#This Row],[CT INDIRECT CHANTIER]],Tableau8[[#This Row],[NOM CHANTIER INDIRECT ST]],Tableau8[[#This Row],[Sous Traitant]],Tableau8[[#This Row],[MO INDIRECT CT]],Tableau8[[#This Row],[marché]]) | J26: =COUNTIF($I$4:I26,Tableau8[[#This Row],[REF FACT]]) -> 23 | M26: =IF(Tableau8[[#This Row],[Sous Traitant]]>1,VLOOKUP(Tableau8[[#This Row],[Sous Traitant]],#REF!,3,FALSE),"") | T26: =SUMIFS($P$4:P26,$I$4:I26,I26) -> 0 | U26: =IF(Tableau8[[#This Row],[marché]]="MARCHEINT",VLOOKUP($B26,Tableau16[[Ref]:[AUTRE]],13,FALSE)-Tableau8[[#This Row],[PAYEE]],"") | V26: =IF(Tableau8[[#This Row],[marché]]="MARCHEEXT",VLOOKUP($B26,Tableau16[[Ref]:[AUTRE]],14,FALSE)-Tableau8[[#This Row],[PAYEE]],"") | W26: =IF(Tableau8[[#This Row],[marché]]="RG_5%",VLOOKUP($B26,Tableau16[[Ref]:[AUTRE]],15,FALSE)-Tableau8[[#This Row],[PAYEE]],"") | X26: =IF(Tableau8[[#This Row],[marché]]="BFT_5%",VLOOKUP($B26,Tableau16[[Ref]:[AUTRE]],17,FALSE)-Tableau8[[#This Row],[PAYEE]],"") | Y26: =IF(Tableau8[[#This Row],[marché]]="AUTRE",VLOOKUP($B26,Tableau16[[Ref]:[AUTRE]],19,FALSE)-Tableau8[[#This Row],[PAYEE]],"") | AA26: =IF(Tableau8[[#This Row],[marché]]="MARCHEINT",Tableau8[[#This Row],[MARCHE INT]]+Tableau8[[#This Row],[PAYEE]],IF(Tableau8[[#This Row],[marché]]="MARCHEEXT",Tableau8[[#This Row],[MARCHE EXT]]+Tableau8[[#This Row],[PAYEE]],IF(Tableau8[[#This Row],[marché]]="RG_5%",Tableau8[[#This Row],[RG_5%]]+Tableau8[[#This Row],[PAYEE]],IF(Tableau8[[#This Row],[marché]]="BFT_5%",Tableau8[[#This Row],[BFT_5%]]+Tableau8[[#This Row],[PAYEE]],IF(Tableau8[[#This Row],[marché]]="AUTRE",Tableau8[[#This Row],[AUTRE]]+Tableau8[[#This Row],[PAYEE]],"")))))
B27: =CONCATENATE(Tableau8[[#This Row],[CT INDIRECT CHANTIER]],Tableau8[[#This Row],[NOM CHANTIER INDIRECT ST]],Tableau8[[#This Row],[Sous Traitant]],Tableau8[[#This Row],[MO INDIRECT CT]]) | G27: =IFERROR(IF(B27="","",VLOOKUP(B27,Tableau16[[Ref]:[CP]],6,FALSE)),"") | H27: =IFERROR(IF(B27="","",VLOOKUP(B27,Tableau16[[Ref]:[CP]],7,FALSE)),"") | I27: =CONCATENATE(Tableau8[[#This Row],[CT INDIRECT CHANTIER]],Tableau8[[#This Row],[NOM CHANTIER INDIRECT ST]],Tableau8[[#This Row],[Sous Traitant]],Tableau8[[#This Row],[MO INDIRECT CT]],Tableau8[[#This Row],[marché]]) | J27: =COUNTIF($I$4:I27,Tableau8[[#This Row],[REF FACT]]) -> 24 | M27: =IF(Tableau8[[#This Row],[Sous Traitant]]>1,VLOOKUP(Tableau8[[#This Row],[Sous Traitant]],#REF!,3,FALSE),"") | T27: =SUMIFS($P$4:P27,$I$4:I27,I27) -> 0 | U27: =IF(Tableau8[[#This Row],[marché]]="MARCHEINT",VLOOKUP($B27,Tableau16[[Ref]:[AUTRE]],13,FALSE)-Tableau8[[#This Row],[PAYEE]],"") | V27: =IF(Tableau8[[#This Row],[marché]]="MARCHEEXT",VLOOKUP($B27,Tableau16[[Ref]:[AUTRE]],14,FALSE)-Tableau8[[#This Row],[PAYEE]],"") | W27: =IF(Tableau8[[#This Row],[marché]]="RG_5%",VLOOKUP($B27,Tableau16[[Ref]:[AUTRE]],15,FALSE)-Tableau8[[#This Row],[PAYEE]],"") | X27: =IF(Tableau8[[#This Row],[marché]]="BFT_5%",VLOOKUP($B27,Tableau16[[Ref]:[AUTRE]],17,FALSE)-Tableau8[[#This Row],[PAYEE]],"") | Y27: =IF(Tableau8[[#This Row],[marché]]="AUTRE",VLOOKUP($B27,Tableau16[[Ref]:[AUTRE]],19,FALSE)-Tableau8[[#This Row],[PAYEE]],"") | AA27: =IF(Tableau8[[#This Row],[marché]]="MARCHEINT",Tableau8[[#This Row],[MARCHE INT]]+Tableau8[[#This Row],[PAYEE]],IF(Tableau8[[#This Row],[marché]]="MARCHEEXT",Tableau8[[#This Row],[MARCHE EXT]]+Tableau8[[#This Row],[PAYEE]],IF(Tableau8[[#This Row],[marché]]="RG_5%",Tableau8[[#This Row],[RG_5%]]+Tableau8[[#This Row],[PAYEE]],IF(Tableau8[[#This Row],[marché]]="BFT_5%",Tableau8[[#This Row],[BFT_5%]]+Tableau8[[#This Row],[PAYEE]],IF(Tableau8[[#This Row],[marché]]="AUTRE",Tableau8[[#This Row],[AUTRE]]+Tableau8[[#This Row],[PAYEE]],"")))))
A28: JUIL | B28: =CONCATENATE(Tableau8[[#This Row],[CT INDIRECT CHANTIER]],Tableau8[[#This Row],[NOM CHANTIER INDIRECT ST]],Tableau8[[#This Row],[Sous Traitant]],Tableau8[[#This Row],[MO INDIRECT CT]]) | G28: =IFERROR(IF(B28="","",VLOOKUP(B28,Tableau16[[Ref]:[CP]],6,FALSE)),"") | H28: =IFERROR(IF(B28="","",VLOOKUP(B28,Tableau16[[Ref]:[CP]],7,FALSE)),"") | I28: =CONCATENATE(Tableau8[[#This Row],[CT INDIRECT CHANTIER]],Tableau8[[#This Row],[NOM CHANTIER INDIRECT ST]],Tableau8[[#This Row],[Sous Traitant]],Tableau8[[#This Row],[MO INDIRECT CT]],Tableau8[[#This Row],[marché]]) | J28: =COUNTIF($I$4:I28,Tableau8[[#This Row],[REF FACT]]) -> 25 | M28: =IF(Tableau8[[#This Row],[Sous Traitant]]>1,VLOOKUP(Tableau8[[#This Row],[Sous Traitant]],#REF!,3,FALSE),"") | T28: =SUMIFS($P$4:P28,$I$4:I28,I28) -> 0 | U28: =IF(Tableau8[[#This Row],[marché]]="MARCHEINT",VLOOKUP($B28,Tableau16[[Ref]:[AUTRE]],13,FALSE)-Tableau8[[#This Row],[PAYEE]],"") | V28: =IF(Tableau8[[#This Row],[marché]]="MARCHEEXT",VLOOKUP($B28,Tableau16[[Ref]:[AUTRE]],14,FALSE)-Tableau8[[#This Row],[PAYEE]],"") | W28: =IF(Tableau8[[#This Row],[marché]]="RG_5%",VLOOKUP($B28,Tableau16[[Ref]:[AUTRE]],15,FALSE)-Tableau8[[#This Row],[PAYEE]],"") | X28: =IF(Tableau8[[#This Row],[marché]]="BFT_5%",VLOOKUP($B28,Tableau16[[Ref]:[AUTRE]],17,FALSE)-Tableau8[[#This Row],[PAYEE]],"") | Y28: =IF(Tableau8[[#This Row],[marché]]="AUTRE",VLOOKUP($B28,Tableau16[[Ref]:[AUTRE]],19,FALSE)-Tableau8[[#This Row],[PAYEE]],"") | AA28: =IF(Tableau8[[#This Row],[marché]]="MARCHEINT",Tableau8[[#This Row],[MARCHE INT]]+Tableau8[[#This Row],[PAYEE]],IF(Tableau8[[#This Row],[marché]]="MARCHEEXT",Tableau8[[#This Row],[MARCHE EXT]]+Tableau8[[#This Row],[PAYEE]],IF(Tableau8[[#This Row],[marché]]="RG_5%",Tableau8[[#This Row],[RG_5%]]+Tableau8[[#This Row],[PAYEE]],IF(Tableau8[[#This Row],[marché]]="BFT_5%",Tableau8[[#This Row],[BFT_5%]]+Tableau8[[#This Row],[PAYEE]],IF(Tableau8[[#This Row],[marché]]="AUTRE",Tableau8[[#This Row],[AUTRE]]+Tableau8[[#This Row],[PAYEE]],"")))))
B29: =CONCATENATE(Tableau8[[#This Row],[CT INDIRECT CHANTIER]],Tableau8[[#This Row],[NOM CHANTIER INDIRECT ST]],Tableau8[[#This Row],[Sous Traitant]],Tableau8[[#This Row],[MO INDIRECT CT]]) | G29: =IFERROR(IF(B29="","",VLOOKUP(B29,Tableau16[[Ref]:[CP]],6,FALSE)),"") | H29: =IFERROR(IF(B29="","",VLOOKUP(B29,Tableau16[[Ref]:[CP]],7,FALSE)),"") | I29: =CONCATENATE(Tableau8[[#This Row],[CT INDIRECT CHANTIER]],Tableau8[[#This Row],[NOM CHANTIER INDIRECT ST]],Tableau8[[#This Row],[Sous Traitant]],Tableau8[[#This Row],[MO INDIRECT CT]],Tableau8[[#This Row],[marché]]) | J29: =COUNTIF($I$4:I29,Tableau8[[#This Row],[REF FACT]]) -> 26 | M29: =IF(Tableau8[[#This Row],[Sous Traitant]]>1,VLOOKUP(Tableau8[[#This Row],[Sous Traitant]],#REF!,3,FALSE),"") | T29: =SUMIFS($P$4:P29,$I$4:I29,I29) -> 0 | U29: =IF(Tableau8[[#This Row],[marché]]="MARCHEINT",VLOOKUP($B29,Tableau16[[Ref]:[AUTRE]],13,FALSE)-Tableau8[[#This Row],[PAYEE]],"") | V29: =IF(Tableau8[[#This Row],[marché]]="MARCHEEXT",VLOOKUP($B29,Tableau16[[Ref]:[AUTRE]],14,FALSE)-Tableau8[[#This Row],[PAYEE]],"") | W29: =IF(Tableau8[[#This Row],[marché]]="RG_5%",VLOOKUP($B29,Tableau16[[Ref]:[AUTRE]],15,FALSE)-Tableau8[[#This Row],[PAYEE]],"") | X29: =IF(Tableau8[[#This Row],[marché]]="BFT_5%",VLOOKUP($B29,Tableau16[[Ref]:[AUTRE]],17,FALSE)-Tableau8[[#This Row],[PAYEE]],"") | Y29: =IF(Tableau8[[#This Row],[marché]]="AUTRE",VLOOKUP($B29,Tableau16[[Ref]:[AUTRE]],19,FALSE)-Tableau8[[#This Row],[PAYEE]],"") | AA29: =IF(Tableau8[[#This Row],[marché]]="MARCHEINT",Tableau8[[#This Row],[MARCHE INT]]+Tableau8[[#This Row],[PAYEE]],IF(Tableau8[[#This Row],[marché]]="MARCHEEXT",Tableau8[[#This Row],[MARCHE EXT]]+Tableau8[[#This Row],[PAYEE]],IF(Tableau8[[#This Row],[marché]]="RG_5%",Tableau8[[#This Row],[RG_5%]]+Tableau8[[#This Row],[PAYEE]],IF(Tableau8[[#This Row],[marché]]="BFT_5%",Tableau8[[#This Row],[BFT_5%]]+Tableau8[[#This Row],[PAYEE]],IF(Tableau8[[#This Row],[marché]]="AUTRE",Tableau8[[#This Row],[AUTRE]]+Tableau8[[#This Row],[PAYEE]],"")))))
B30: =CONCATENATE(Tableau8[[#This Row],[CT INDIRECT CHANTIER]],Tableau8[[#This Row],[NOM CHANTIER INDIRECT ST]],Tableau8[[#This Row],[Sous Traitant]],Tableau8[[#This Row],[MO INDIRECT CT]]) | G30: =IFERROR(IF(B30="","",VLOOKUP(B30,Tableau16[[Ref]:[CP]],6,FALSE)),"") | H30: =IFERROR(IF(B30="","",VLOOKUP(B30,Tableau16[[Ref]:[CP]],7,FALSE)),"") | I30: =CONCATENATE(Tableau8[[#This Row],[CT INDIRECT CHANTIER]],Tableau8[[#This Row],[NOM CHANTIER INDIRECT ST]],Tableau8[[#This Row],[Sous Traitant]],Tableau8[[#This Row],[MO INDIRECT CT]],Tableau8[[#This Row],[marché]]) | J30: =COUNTIF($I$4:I30,Tableau8[[#This Row],[REF FACT]]) -> 27 | M30: =IF(Tableau8[[#This Row],[Sous Traitant]]>1,VLOOKUP(Tableau8[[#This Row],[Sous Traitant]],#REF!,3,FALSE),"") | T30: =SUMIFS($P$4:P30,$I$4:I30,I30) -> 0 | U30: =IF(Tableau8[[#This Row],[marché]]="MARCHEINT",VLOOKUP($B30,Tableau16[[Ref]:[AUTRE]],13,FALSE)-Tableau8[[#This Row],[PAYEE]],"") | V30: =IF(Tableau8[[#This Row],[marché]]="MARCHEEXT",VLOOKUP($B30,Tableau16[[Ref]:[AUTRE]],14,FALSE)-Tableau8[[#This Row],[PAYEE]],"") | W30: =IF(Tableau8[[#This Row],[marché]]="RG_5%",VLOOKUP($B30,Tableau16[[Ref]:[AUTRE]],15,FALSE)-Tableau8[[#This Row],[PAYEE]],"") | X30: =IF(Tableau8[[#This Row],[marché]]="BFT_5%",VLOOKUP($B30,Tableau16[[Ref]:[AUTRE]],17,FALSE)-Tableau8[[#This Row],[PAYEE]],"") | Y30: =IF(Tableau8[[#This Row],[marché]]="AUTRE",VLOOKUP($B30,Tableau16[[Ref]:[AUTRE]],19,FALSE)-Tableau8[[#This Row],[PAYEE]],"") | AA30: =IF(Tableau8[[#This Row],[marché]]="MARCHEINT",Tableau8[[#This Row],[MARCHE INT]]+Tableau8[[#This Row],[PAYEE]],IF(Tableau8[[#This Row],[marché]]="MARCHEEXT",Tableau8[[#This Row],[MARCHE EXT]]+Tableau8[[#This Row],[PAYEE]],IF(Tableau8[[#This Row],[marché]]="RG_5%",Tableau8[[#This Row],[RG_5%]]+Tableau8[[#This Row],[PAYEE]],IF(Tableau8[[#This Row],[marché]]="BFT_5%",Tableau8[[#This Row],[BFT_5%]]+Tableau8[[#This Row],[PAYEE]],IF(Tableau8[[#This Row],[marché]]="AUTRE",Tableau8[[#This Row],[AUTRE]]+Tableau8[[#This Row],[PAYEE]],"")))))
B31: =CONCATENATE(Tableau8[[#This Row],[CT INDIRECT CHANTIER]],Tableau8[[#This Row],[NOM CHANTIER INDIRECT ST]],Tableau8[[#This Row],[Sous Traitant]],Tableau8[[#This Row],[MO INDIRECT CT]]) | G31: =IFERROR(IF(B31="","",VLOOKUP(B31,Tableau16[[Ref]:[CP]],6,FALSE)),"") | H31: =IFERROR(IF(B31="","",VLOOKUP(B31,Tableau16[[Ref]:[CP]],7,FALSE)),"") | I31: =CONCATENATE(Tableau8[[#This Row],[CT INDIRECT CHANTIER]],Tableau8[[#This Row],[NOM CHANTIER INDIRECT ST]],Tableau8[[#This Row],[Sous Traitant]],Tableau8[[#This Row],[MO INDIRECT CT]],Tableau8[[#This Row],[marché]]) | J31: =COUNTIF($I$4:I31,Tableau8[[#This Row],[REF FACT]]) -> 28 | M31: =IF(Tableau8[[#This Row],[Sous Traitant]]>1,VLOOKUP(Tableau8[[#This Row],[Sous Traitant]],#REF!,3,FALSE),"") | T31: =SUMIFS($P$4:P31,$I$4:I31,I31) -> 0 | U31: =IF(Tableau8[[#This Row],[marché]]="MARCHEINT",VLOOKUP($B31,Tableau16[[Ref]:[AUTRE]],13,FALSE)-Tableau8[[#This Row],[PAYEE]],"") | V31: =IF(Tableau8[[#This Row],[marché]]="MARCHEEXT",VLOOKUP($B31,Tableau16[[Ref]:[AUTRE]],14,FALSE)-Tableau8[[#This Row],[PAYEE]],"") | W31: =IF(Tableau8[[#This Row],[marché]]="RG_5%",VLOOKUP($B31,Tableau16[[Ref]:[AUTRE]],15,FALSE)-Tableau8[[#This Row],[PAYEE]],"") | X31: =IF(Tableau8[[#This Row],[marché]]="BFT_5%",VLOOKUP($B31,Tableau16[[Ref]:[AUTRE]],17,FALSE)-Tableau8[[#This Row],[PAYEE]],"") | Y31: =IF(Tableau8[[#This Row],[marché]]="AUTRE",VLOOKUP($B31,Tableau16[[Ref]:[AUTRE]],19,FALSE)-Tableau8[[#This Row],[PAYEE]],"") | AA31: =IF(Tableau8[[#This Row],[marché]]="MARCHEINT",Tableau8[[#This Row],[MARCHE INT]]+Tableau8[[#This Row],[PAYEE]],IF(Tableau8[[#This Row],[marché]]="MARCHEEXT",Tableau8[[#This Row],[MARCHE EXT]]+Tableau8[[#This Row],[PAYEE]],IF(Tableau8[[#This Row],[marché]]="RG_5%",Tableau8[[#This Row],[RG_5%]]+Tableau8[[#This Row],[PAYEE]],IF(Tableau8[[#This Row],[marché]]="BFT_5%",Tableau8[[#This Row],[BFT_5%]]+Tableau8[[#This Row],[PAYEE]],IF(Tableau8[[#This Row],[marché]]="AUTRE",Tableau8[[#This Row],[AUTRE]]+Tableau8[[#This Row],[PAYEE]],"")))))
A32: AOUT | B32: =CONCATENATE(Tableau8[[#This Row],[CT INDIRECT CHANTIER]],Tableau8[[#This Row],[NOM CHANTIER INDIRECT ST]],Tableau8[[#This Row],[Sous Traitant]],Tableau8[[#This Row],[MO INDIRECT CT]]) -> ARNAUDBOBIGNYAspirit | C32: A | D32: BOBIGNY | E32: ARNAUD | F32: spirit | G32: =IFERROR(IF(B32="","",VLOOKUP(B32,Tableau16[[Ref]:[CP]],6,FALSE)),"") -> 13 BIS RUE DU PONT | H32: =IFERROR(IF(B32="","",VLOOKUP(B32,Tableau16[[Ref]:[CP]],7,FALSE)),"") -> 7700 | I32: =CONCATENATE(Tableau8[[#This Row],[CT INDIRECT CHANTIER]],Tableau8[[#This Row],[NOM CHANTIER INDIRECT ST]],Tableau8[[#This Row],[Sous Traitant]],Tableau8[[#This Row],[MO INDIRECT CT]],Tableau8[[#This Row],[marché]]) -> ARNAUDBOBIGNYAspiritMARCHEINT | J32: =COUNTIF($I$4:I32,Tableau8[[#This Row],[REF FACT]]) -> 1 | K32: 2020/0790 | L32: 44041 | M32: =IF(Tableau8[[#This Row],[Sous Traitant]]>1,VLOOKUP(Tableau8[[#This Row],[Sous Traitant]],Tableau11[[SOUS TRAITANT]:[DELAIS PAIEMENT]],4,FALSE),"") -> 45J | N32: =IF(M32="15J",EOMONTH(L32,0)+15,IF(M32="45J",EOMONTH(L32+30,0)+15,"")) -> 44089 | O32: MARCHEINT | P32: 600 | Q32: FRED | T32: =SUMIFS($P$4:P32,$I$4:I32,I32) -> 600 | U32: =IF(Tableau8[[#This Row],[marché]]="MARCHEINT",VLOOKUP($B32,Tableau16[[Ref]:[AUTRE]],13,FALSE)-Tableau8[[#This Row],[PAYEE]],"") -> #N/A | V32: =IF(Tableau8[[#This Row],[marché]]="MARCHEEXT",VLOOKUP($B32,Tableau16[[Ref]:[AUTRE]],14,FALSE)-Tableau8[[#This Row],[PAYEE]],"") | W32: =IF(Tableau8[[#This Row],[marché]]="RG_5%",VLOOKUP($B32,Tableau16[[Ref]:[AUTRE]],15,FALSE)-Tableau8[[#This Row],[PAYEE]],"") | X32: =IF(Tableau8[[#This Row],[marché]]="BFT_5%",VLOOKUP($B32,Tableau16[[Ref]:[AUTRE]],17,FALSE)-Tableau8[[#This Row],[PAYEE]],"") | Y32: =IF(Tableau8[[#This Row],[marché]]="AUTRE",VLOOKUP($B32,Tableau16[[Ref]:[AUTRE]],19,FALSE)-Tableau8[[#This Row],[PAYEE]],"") | AA32: =IF(Tableau8[[#This Row],[marché]]="MARCHEINT",Tableau8[[#This Row],[MARCHE INT]]+Tableau8[[#This Row],[PAYEE]],IF(Tableau8[[#This Row],[marché]]="MARCHEEXT",Tableau8[[#This Row],[MARCHE EXT]]+Tableau8[[#This Row],[PAYEE]],IF(Tableau8[[#This Row],[marché]]="RG_5%",Tableau8[[#This Row],[RG_5%]]+Tableau8[[#This Row],[PAYEE]],IF(Tableau8[[#This Row],[marché]]="BFT_5%",Tableau8[[#This Row],[BFT_5%]]+Tableau8[[#This Row],[PAYEE]],IF(Tableau8[[#This Row],[marché]]="AUTRE",Tableau8[[#This Row],[AUTRE]]+Tableau8[[#This Row],[PAYEE]],""))))) -> #N/A
B33: =CONCATENATE(Tableau8[[#This Row],[CT INDIRECT CHANTIER]],Tableau8[[#This Row],[NOM CHANTIER INDIRECT ST]],Tableau8[[#This Row],[Sous Traitant]],Tableau8[[#This Row],[MO INDIRECT CT]]) -> ARNAUDST MICHEL SUR ORGEAspirit | C33: A | D33: ST MICHEL SUR ORGE | E33: ARNAUD | F33: spirit | G33: =IFERROR(IF(B33="","",VLOOKUP(B33,Tableau16[[Ref]:[CP]],6,FALSE)),"") -> 0 | H33: =IFERROR(IF(B33="","",VLOOKUP(B33,Tableau16[[Ref]:[CP]],7,FALSE)),"") -> 0 | I33: =CONCATENATE(Tableau8[[#This Row],[CT INDIRECT CHANTIER]],Tableau8[[#This Row],[NOM CHANTIER INDIRECT ST]],Tableau8[[#This Row],[Sous Traitant]],Tableau8[[#This Row],[MO INDIRECT CT]],Tableau8[[#This Row],[marché]]) -> ARNAUDST MICHEL SUR ORGEAspiritMARCHEINT | J33: =COUNTIF($I$4:I33,Tableau8[[#This Row],[REF FACT]]) -> 1 | K33: 2020/0795 | L33: 44041 | M33: =IF(Tableau8[[#This Row],[Sous Traitant]]>1,VLOOKUP(Tableau8[[#This Row],[Sous Traitant]],Tableau11[[SOUS TRAITANT]:[DELAIS PAIEMENT]],4,FALSE),"") -> 45J | N33: =IF(M33="15J",EOMONTH(L33,0)+15,IF(M33="45J",EOMONTH(L33+30,0)+15,"")) -> 44089 | O33: MARCHEINT | P33: 1400 | Q33: FRED | T33: =SUMIFS($P$4:P33,$I$4:I33,I33) -> 1400 | U33: =IF(Tableau8[[#This Row],[marché]]="MARCHEINT",VLOOKUP($B33,Tableau16[[Ref]:[AUTRE]],13,FALSE)-Tableau8[[#This Row],[PAYEE]],"") -> #N/A | V33: =IF(Tableau8[[#This Row],[marché]]="MARCHEEXT",VLOOKUP($B33,Tableau16[[Ref]:[AUTRE]],14,FALSE)-Tableau8[[#This Row],[PAYEE]],"") | W33: =IF(Tableau8[[#This Row],[marché]]="RG_5%",VLOOKUP($B33,Tableau16[[Ref]:[AUTRE]],15,FALSE)-Tableau8[[#This Row],[PAYEE]],"") | X33: =IF(Tableau8[[#This Row],[marché]]="BFT_5%",VLOOKUP($B33,Tableau16[[Ref]:[AUTRE]],17,FALSE)-Tableau8[[#This Row],[PAYEE]],"") | Y33: =IF(Tableau8[[#This Row],[marché]]="AUTRE",VLOOKUP($B33,Tableau16[[Ref]:[AUTRE]],19,FALSE)-Tableau8[[#This Row],[PAYEE]],"") | AA33: =IF(Tableau8[[#This Row],[marché]]="MARCHEINT",Tableau8[[#This Row],[MARCHE INT]]+Tableau8[[#This Row],[PAYEE]],IF(Tableau8[[#This Row],[marché]]="MARCHEEXT",Tableau8[[#This Row],[MARCHE EXT]]+Tableau8[[#This Row],[PAYEE]],IF(Tableau8[[#This Row],[marché]]="RG_5%",Tableau8[[#This Row],[RG_5%]]+Tableau8[[#This Row],[PAYEE]],IF(Tableau8[[#This Row],[marché]]="BFT_5%",Tableau8[[#This Row],[BFT_5%]]+Tableau8[[#This Row],[PAYEE]],IF(Tableau8[[#This Row],[marché]]="AUTRE",Tableau8[[#This Row],[AUTRE]]+Tableau8[[#This Row],[PAYEE]],""))))) -> #N/A
B34: =CONCATENATE(Tableau8[[#This Row],[CT INDIRECT CHANTIER]],Tableau8[[#This Row],[NOM CHANTIER INDIRECT ST]],Tableau8[[#This Row],[Sous Traitant]],Tableau8[[#This Row],[MO INDIRECT CT]]) -> ARNAUDST MICHEL SUR ORGEAspirit | C34: A | D34: ST MICHEL SUR ORGE | E34: ARNAUD | F34: spirit | G34: =IFERROR(IF(B34="","",VLOOKUP(B34,Tableau16[[Ref]:[CP]],6,FALSE)),"") -> 0 | H34: =IFERROR(IF(B34="","",VLOOKUP(B34,Tableau16[[Ref]:[CP]],7,FALSE)),"") -> 0 | I34: =CONCATENATE(Tableau8[[#This Row],[CT INDIRECT CHANTIER]],Tableau8[[#This Row],[NOM CHANTIER INDIRECT ST]],Tableau8[[#This Row],[Sous Traitant]],Tableau8[[#This Row],[MO INDIRECT CT]],Tableau8[[#This Row],[marché]]) -> ARNAUDST MICHEL SUR ORGEAspiritMARCHEINT | J34: =COUNTIF($I$4:I34,Tableau8[[#This Row],[REF FACT]]) -> 2 | K34: 167 | L34: 44043 | M34: =IF(Tableau8[[#This Row],[Sous Traitant]]>1,VLOOKUP(Tableau8[[#This Row],[Sous Traitant]],Tableau11[[SOUS TRAITANT]:[DELAIS PAIEMENT]],4,FALSE),"") -> 45J | N34: =IF(M34="15J",EOMONTH(L34,0)+15,IF(M34="45J",EOMONTH(L34+30,0)+15,"")) -> 44089 | O34: MARCHEINT | P34: 1140 | Q34: FRED | T34: =SUMIFS($P$4:P34,$I$4:I34,I34) -> 2540 | U34: =IF(Tableau8[[#This Row],[marché]]="MARCHEINT",VLOOKUP($B34,Tableau16[[Ref]:[AUTRE]],13,FALSE)-Tableau8[[#This Row],[PAYEE]],"") -> #N/A | V34: =IF(Tableau8[[#This Row],[marché]]="MARCHEEXT",VLOOKUP($B34,Tableau16[[Ref]:[AUTRE]],14,FALSE)-Tableau8[[#This Row],[PAYEE]],"") | W34: =IF(Tableau8[[#This Row],[marché]]="RG_5%",VLOOKUP($B34,Tableau16[[Ref]:[AUTRE]],15,FALSE)-Tableau8[[#This Row],[PAYEE]],"") | X34: =IF(Tableau8[[#This Row],[marché]]="BFT_5%",VLOOKUP($B34,Tableau16[[Ref]:[AUTRE]],17,FALSE)-Tableau8[[#This Row],[PAYEE]],"") | Y34: =IF(Tableau8[[#This Row],[marché]]="AUTRE",VLOOKUP($B34,Tableau16[[Ref]:[AUTRE]],19,FALSE)-Tableau8[[#This Row],[PAYEE]],"") | AA34: =IF(Tableau8[[#This Row],[marché]]="MARCHEINT",Tableau8[[#This Row],[MARCHE INT]]+Tableau8[[#This Row],[PAYEE]],IF(Tableau8[[#This Row],[marché]]="MARCHEEXT",Tableau8[[#This Row],[MARCHE EXT]]+Tableau8[[#This Row],[PAYEE]],IF(Tableau8[[#This Row],[marché]]="RG_5%",Tableau8[[#This Row],[RG_5%]]+Tableau8[[#This Row],[PAYEE]],IF(Tableau8[[#This Row],[marché]]="BFT_5%",Tableau8[[#This Row],[BFT_5%]]+Tableau8[[#This Row],[PAYEE]],IF(Tableau8[[#This Row],[marché]]="AUTRE",Tableau8[[#This Row],[AUTRE]]+Tableau8[[#This Row],[PAYEE]],""))))) -> #N/A
B35: =CONCATENATE(Tableau8[[#This Row],[CT INDIRECT CHANTIER]],Tableau8[[#This Row],[NOM CHANTIER INDIRECT ST]],Tableau8[[#This Row],[Sous Traitant]],Tableau8[[#This Row],[MO INDIRECT CT]]) -> ARNAUDST CYR Aspirit | C35: A | D35: ST CYR | E35: ARNAUD | F35: spirit | G35: =IFERROR(IF(B35="","",VLOOKUP(B35,Tableau16[[Ref]:[CP]],6,FALSE)),"") -> 0 | H35: =IFERROR(IF(B35="","",VLOOKUP(B35,Tableau16[[Ref]:[CP]],7,FALSE)),"") -> 0 | I35: =CONCATENATE(Tableau8[[#This Row],[CT INDIRECT CHANTIER]],Tableau8[[#This Row],[NOM CHANTIER INDIRECT ST]],Tableau8[[#This Row],[Sous Traitant]],Tableau8[[#This Row],[MO INDIRECT CT]],Tableau8[[#This Row],[marché]]) -> ARNAUDST CYR AspiritMARCHEEXT | J35: =COUNTIF($I$4:I35,Tableau8[[#This Row],[REF FACT]]) -> 1 | K35: 169 | L35: 44043 | M35: =IF(Tableau8[[#This Row],[Sous Traitant]]>1,VLOOKUP(Tableau8[[#This Row],[Sous Traitant]],Tableau11[[SOUS TRAITANT]:[DELAIS PAIEMENT]],4,FALSE),"") -> 45J | N35: =IF(M35="15J",EOMONTH(L35,0)+15,IF(M35="45J",EOMONTH(L35+30,0)+15,"")) -> 44089 | O35: MARCHEEXT | P35: 5453 | Q35: FRED | T35: =SUMIFS($P$4:P35,$I$4:I35,I35) -> 5453 | U35: =IF(Tableau8[[#This Row],[marché]]="MARCHEINT",VLOOKUP($B35,Tableau16[[Ref]:[AUTRE]],13,FALSE)-Tableau8[[#This Row],[PAYEE]],"") | V35: =IF(Tableau8[[#This Row],[marché]]="MARCHEEXT",VLOOKUP($B35,Tableau16[[Ref]:[AUTRE]],14,FALSE)-Tableau8[[#This Row],[PAYEE]],"") -> #N/A | W35: =IF(Tableau8[[#This Row],[marché]]="RG_5%",VLOOKUP($B35,Tableau16[[Ref]:[AUTRE]],15,FALSE)-Tableau8[[#This Row],[PAYEE]],"") | X35: =IF(Tableau8[[#This Row],[marché]]="BFT_5%",VLOOKUP($B35,Tableau16[[Ref]:[AUTRE]],17,FALSE)-Tableau8[[#This Row],[PAYEE]],"") | Y35: =IF(Tableau8[[#This Row],[marché]]="AUTRE",VLOOKUP($B35,Tableau16[[Ref]:[AUTRE]],19,FALSE)-Tableau8[[#This Row],[PAYEE]],"") | AA35: =IF(Tableau8[[#This Row],[marché]]="MARCHEINT",Tableau8[[#This Row],[MARCHE INT]]+Tableau8[[#This Row],[PAYEE]],IF(Tableau8[[#This Row],[marché]]="MARCHEEXT",Tableau8[[#This Row],[MARCHE EXT]]+Tableau8[[#This Row],[PAYEE]],IF(Tableau8[[#This Row],[marché]]="RG_5%",Tableau8[[#This Row],[RG_5%]]+Tableau8[[#This Row],[PAYEE]],IF(Tableau8[[#This Row],[marché]]="BFT_5%",Tableau8[[#This Row],[BFT_5%]]+Tableau8[[#This Row],[PAYEE]],IF(Tableau8[[#This Row],[marché]]="AUTRE",Tableau8[[#This Row],[AUTRE]]+Tableau8[[#This Row],[PAYEE]],""))))) -> #N/A
B36: =CONCATENATE(Tableau8[[#This Row],[CT INDIRECT CHANTIER]],Tableau8[[#This Row],[NOM CHANTIER INDIRECT ST]],Tableau8[[#This Row],[Sous Traitant]],Tableau8[[#This Row],[MO INDIRECT CT]]) -> ARNAUDPUTEAU CORDELIAAspirit | C36: A | D36: PUTEAU CORDELIA | E36: ARNAUD | F36: spirit | G36: =IFERROR(IF(B36="","",VLOOKUP(B36,Tableau16[[Ref]:[CP]],6,FALSE)),"") -> 0 | H36: =IFERROR(IF(B36="","",VLOOKUP(B36,Tableau16[[Ref]:[CP]],7,FALSE)),"") -> 0 | I36: =CONCATENATE(Tableau8[[#This Row],[CT INDIRECT CHANTIER]],Tableau8[[#This Row],[NOM CHANTIER INDIRECT ST]],Tableau8[[#This Row],[Sous Traitant]],Tableau8[[#This Row],[MO INDIRECT CT]],Tableau8[[#This Row],[marché]]) -> ARNAUDPUTEAU CORDELIAAspiritMARCHEEXT | J36: =COUNTIF($I$4:I36,Tableau8[[#This Row],[REF FACT]]) -> 1 | K36: 165 | L36: 44043 | M36: =IF(Tableau8[[#This Row],[Sous Traitant]]>1,VLOOKUP(Tableau8[[#This Row],[Sous Traitant]],Tableau11[[SOUS TRAITANT]:[DELAIS PAIEMENT]],4,FALSE),"") -> 45J | N36: =IF(M36="15J",EOMONTH(L36,0)+15,IF(M36="45J",EOMONTH(L36+30,0)+15,"")) -> 44089 | O36: MARCHEEXT | P36: 56000 | Q36: FRED | T36: =SUMIFS($P$4:P36,$I$4:I36,I36) -> 56000 | U36: =IF(Tableau8[[#This Row],[marché]]="MARCHEINT",VLOOKUP($B36,Tableau16[[Ref]:[AUTRE]],13,FALSE)-Tableau8[[#This Row],[PAYEE]],"") | V36: =IF(Tableau8[[#This Row],[marché]]="MARCHEEXT",VLOOKUP($B36,Tableau16[[Ref]:[AUTRE]],14,FALSE)-Tableau8[[#This Row],[PAYEE]],"") -> -1000 | W36: =IF(Tableau8[[#This Row],[marché]]="RG_5%",VLOOKUP($B36,Tableau16[[Ref]:[AUTRE]],15,FALSE)-Tableau8[[#This Row],[PAYEE]],"") | X36: =IF(Tableau8[[#This Row],[marché]]="BFT_5%",VLOOKUP($B36,Tableau16[[Ref]:[AUTRE]],17,FALSE)-Tableau8[[#This Row],[PAYEE]],"") | Y36: =IF(Tableau8[[#This Row],[marché]]="AUTRE",VLOOKUP($B36,Tableau16[[Ref]:[AUTRE]],19,FALSE)-Tableau8[[#This Row],[PAYEE]],"") | AA36: =IF(Tableau8[[#This Row],[marché]]="MARCHEINT",Tableau8[[#This Row],[MARCHE INT]]+Tableau8[[#This Row],[PAYEE]],IF(Tableau8[[#This Row],[marché]]="MARCHEEXT",Tableau8[[#This Row],[MARCHE EXT]]+Tableau8[[#This Row],[PAYEE]],IF(Tableau8[[#This Row],[marché]]="RG_5%",Tableau8[[#This Row],[RG_5%]]+Tableau8[[#This Row],[PAYEE]],IF(Tableau8[[#This Row],[marché]]="BFT_5%",Tableau8[[#This Row],[BFT_5%]]+Tableau8[[#This Row],[PAYEE]],IF(Tableau8[[#This Row],[marché]]="AUTRE",Tableau8[[#This Row],[AUTRE]]+Tableau8[[#This Row],[PAYEE]],""))))) -> 55000
B37: =CONCATENATE(Tableau8[[#This Row],[CT INDIRECT CHANTIER]],Tableau8[[#This Row],[NOM CHANTIER INDIRECT ST]],Tableau8[[#This Row],[Sous Traitant]],Tableau8[[#This Row],[MO INDIRECT CT]]) -> ARNAUDPUTEAU CORDELIAAspirit | C37: A | D37: PUTEAU CORDELIA | E37: ARNAUD | F37: spirit | G37: =IFERROR(IF(B37="","",VLOOKUP(B37,Tableau16[[Ref]:[CP]],6,FALSE)),"") -> 0 | H37: =IFERROR(IF(B37="","",VLOOKUP(B37,Tableau16[[Ref]:[CP]],7,FALSE)),"") -> 0 | I37: =CONCATENATE(Tableau8[[#This Row],[CT INDIRECT CHANTIER]],Tableau8[[#This Row],[NOM CHANTIER INDIRECT ST]],Tableau8[[#This Row],[Sous Traitant]],Tableau8[[#This Row],[MO INDIRECT CT]],Tableau8[[#This Row],[marché]]) -> ARNAUDPUTEAU CORDELIAAspiritRG_5% | J37: =COUNTIF($I$4:I37,Tableau8[[#This Row],[REF FACT]]) -> 1 | K37: 166 | L37: 44043 | M37: =IF(Tableau8[[#This Row],[Sous Traitant]]>1,VLOOKUP(Tableau8[[#This Row],[Sous Traitant]],Tableau11[[SOUS TRAITANT]:[DELAIS PAIEMENT]],4,FALSE),"") -> 45J | N37: =IF(M37="15J",EOMONTH(L37,0)+15,IF(M37="45J",EOMONTH(L37+30,0)+15,"")) -> 44089 | O37: RG_5% | P37: 1406 | Q37: FRED | T37: =SUMIFS($P$4:P37,$I$4:I37,I37) -> 1406 | U37: =IF(Tableau8[[#This Row],[marché]]="MARCHEINT",VLOOKUP($B37,Tableau16[[Ref]:[AUTRE]],13,FALSE)-Tableau8[[#This Row],[PAYEE]],"") | V37: =IF(Tableau8[[#This Row],[marché]]="MARCHEEXT",VLOOKUP($B37,Tableau16[[Ref]:[AUTRE]],14,FALSE)-Tableau8[[#This Row],[PAYEE]],"") | W37: =IF(Tableau8[[#This Row],[marché]]="RG_5%",VLOOKUP($B37,Tableau16[[Ref]:[AUTRE]],15,FALSE)-Tableau8[[#This Row],[PAYEE]],"") -> 3594 | X37: =IF(Tableau8[[#This Row],[marché]]="BFT_5%",VLOOKUP($B37,Tableau16[[Ref]:[AUTRE]],17,FALSE)-Tableau8[[#This Row],[PAYEE]],"") | Y37: =IF(Tableau8[[#This Row],[marché]]="AUTRE",VLOOKUP($B37,Tableau16[[Ref]:[AUTRE]],19,FALSE)-Tableau8[[#This Row],[PAYEE]],"") | AA37: =IF(Tableau8[[#This Row],[marché]]="MARCHEINT",Tableau8[[#This Row],[MARCHE INT]]+Tableau8[[#This Row],[PAYEE]],IF(Tableau8[[#This Row],[marché]]="MARCHEEXT",Tableau8[[#This Row],[MARCHE EXT]]+Tableau8[[#This Row],[PAYEE]],IF(Tableau8[[#This Row],[marché]]="RG_5%",Tableau8[[#This Row],[RG_5%]]+Tableau8[[#This Row],[PAYEE]],IF(Tableau8[[#This Row],[marché]]="BFT_5%",Tableau8[[#This Row],[BFT_5%]]+Tableau8[[#This Row],[PAYEE]],IF(Tableau8[[#This Row],[marché]]="AUTRE",Tableau8[[#This Row],[AUTRE]]+Tableau8[[#This Row],[PAYEE]],""))))) -> 5000
B38: =CONCATENATE(Tableau8[[#This Row],[CT INDIRECT CHANTIER]],Tableau8[[#This Row],[NOM CHANTIER INDIRECT ST]],Tableau8[[#This Row],[Sous Traitant]],Tableau8[[#This Row],[MO INDIRECT CT]]) -> ARNAUDPUTEAU CORDELIAAspirit | C38: A | D38: PUTEAU CORDELIA | E38: ARNAUD | F38: spirit | G38: =IFERROR(IF(B38="","",VLOOKUP(B38,Tableau16[[Ref]:[CP]],6,FALSE)),"") -> 0 | H38: =IFERROR(IF(B38="","",VLOOKUP(B38,Tableau16[[Ref]:[CP]],7,FALSE)),"") -> 0 | I38: =CONCATENATE(Tableau8[[#This Row],[CT INDIRECT CHANTIER]],Tableau8[[#This Row],[NOM CHANTIER INDIRECT ST]],Tableau8[[#This Row],[Sous Traitant]],Tableau8[[#This Row],[MO INDIRECT CT]],Tableau8[[#This Row],[marché]]) -> ARNAUDPUTEAU CORDELIAAspiritBFT_5% | J38: =COUNTIF($I$4:I38,Tableau8[[#This Row],[REF FACT]]) -> 1 | K38: 168 | L38: 44043 | M38: =IF(Tableau8[[#This Row],[Sous Traitant]]>1,VLOOKUP(Tableau8[[#This Row],[Sous Traitant]],Tableau11[[SOUS TRAITANT]:[DELAIS PAIEMENT]],4,FALSE),"") -> 45J | N38: =IF(M38="15J",EOMONTH(L38,0)+15,IF(M38="45J",EOMONTH(L38+30,0)+15,"")) -> 44089 | O38: BFT_5% | P38: 1074.64 | Q38: FRED | T38: =SUMIFS($P$4:P38,$I$4:I38,I38) -> 1074.64 | U38: =IF(Tableau8[[#This Row],[marché]]="MARCHEINT",VLOOKUP($B38,Tableau16[[Ref]:[AUTRE]],13,FALSE)-Tableau8[[#This Row],[PAYEE]],"") | V38: =IF(Tableau8[[#This Row],[marché]]="MARCHEEXT",VLOOKUP($B38,Tableau16[[Ref]:[AUTRE]],14,FALSE)-Tableau8[[#This Row],[PAYEE]],"") | W38: =IF(Tableau8[[#This Row],[marché]]="RG_5%",VLOOKUP($B38,Tableau16[[Ref]:[AUTRE]],15,FALSE)-Tableau8[[#This Row],[PAYEE]],"") | X38: =IF(Tableau8[[#This Row],[marché]]="BFT_5%",VLOOKUP($B38,Tableau16[[Ref]:[AUTRE]],17,FALSE)-Tableau8[[#This Row],[PAYEE]],"") -> 3925.36 | Y38: =IF(Tableau8[[#This Row],[marché]]="AUTRE",VLOOKUP($B38,Tableau16[[Ref]:[AUTRE]],19,FALSE)-Tableau8[[#This Row],[PAYEE]],"") | AA38: =IF(Tableau8[[#This Row],[marché]]="MARCHEINT",Tableau8[[#This Row],[MARCHE INT]]+Tableau8[[#This Row],[PAYEE]],IF(Tableau8[[#This Row],[marché]]="MARCHEEXT",Tableau8[[#This Row],[MARCHE EXT]]+Tableau8[[#This Row],[PAYEE]],IF(Tableau8[[#This Row],[marché]]="RG_5%",Tableau8[[#This Row],[RG_5%]]+Tableau8[[#This Row],[PAYEE]],IF(Tableau8[[#This Row],[marché]]="BFT_5%",Tableau8[[#This Row],[BFT_5%]]+Tableau8[[#This Row],[PAYEE]],IF(Tableau8[[#This Row],[marché]]="AUTRE",Tableau8[[#This Row],[AUTRE]]+Tableau8[[#This Row],[PAYEE]],""))))) -> 5000
B39: =CONCATENATE(Tableau8[[#This Row],[CT INDIRECT CHANTIER]],Tableau8[[#This Row],[NOM CHANTIER INDIRECT ST]],Tableau8[[#This Row],[Sous Traitant]],Tableau8[[#This Row],[MO INDIRECT CT]]) -> FREDCHATENAY MALABRY - IRENADH2O | C39: D | D39: CHATENAY MALABRY - IRENA | E39: FRED | F39: H2O | G39: =IFERROR(IF(B39="","",VLOOKUP(B39,Tableau16[[Ref]:[CP]],6,FALSE)),"") -> 0 | H39: =IFERROR(IF(B39="","",VLOOKUP(B39,Tableau16[[Ref]:[CP]],7,FALSE)),"") -> 0 | I39: =CONCATENATE(Tableau8[[#This Row],[CT INDIRECT CHANTIER]],Tableau8[[#This Row],[NOM CHANTIER INDIRECT ST]],Tableau8[[#This Row],[Sous Traitant]],Tableau8[[#This Row],[MO INDIRECT CT]],Tableau8[[#This Row],[marché]]) -> FREDCHATENAY MALABRY - IRENADH2OAUTRE | J39: =COUNTIF($I$4:I39,Tableau8[[#This Row],[REF FACT]]) -> 1 | K39: 157 | L39: 44043 | M39: =IF(Tableau8[[#This Row],[Sous Traitant]]>1,VLOOKUP(Tableau8[[#This Row],[Sous Traitant]],Tableau11[[SOUS TRAITANT]:[DELAIS PAIEMENT]],4,FALSE),"") -> 15J | N39: =IF(M39="15J",EOMONTH(L39,0)+15,IF(M39="45J",EOMONTH(L39+30,0)+15,"")) -> 44058 | O39: AUTRE | P39: 2000 | Q39: FRED | S39: moins value | T39: =SUMIFS($P$4:P39,$I$4:I39,I39) -> 2000 | U39: =IF(Tableau8[[#This Row],[marché]]="MARCHEINT",VLOOKUP($B39,Tableau16[[Ref]:[AUTRE]],13,FALSE)-Tableau8[[#This Row],[PAYEE]],"") | V39: =IF(Tableau8[[#This Row],[marché]]="MARCHEEXT",VLOOKUP($B39,Tableau16[[Ref]:[AUTRE]],14,FALSE)-Tableau8[[#This Row],[PAYEE]],"") | W39: =IF(Tableau8[[#This Row],[marché]]="RG_5%",VLOOKUP($B39,Tableau16[[Ref]:[AUTRE]],15,FALSE)-Tableau8[[#This Row],[PAYEE]],"") | X39: =IF(Tableau8[[#This Row],[marché]]="BFT_5%",VLOOKUP($B39,Tableau16[[Ref]:[AUTRE]],17,FALSE)-Tableau8[[#This Row],[PAYEE]],"") | Y39: =IF(Tableau8[[#This Row],[marché]]="AUTRE",VLOOKUP($B39,Tableau16[[Ref]:[AUTRE]],19,FALSE)-Tableau8[[#This Row],[PAYEE]],"") -> -2000 | AA39: =IF(Tableau8[[#This Row],[marché]]="MARCHEINT",Tableau8[[#This Row],[MARCHE INT]]+Tableau8[[#This Row],[PAYEE]],IF(Tableau8[[#This Row],[marché]]="MARCHEEXT",Tableau8[[#This Row],[MARCHE EXT]]+Tableau8[[#This Row],[PAYEE]],IF(Tableau8[[#This Row],[marché]]="RG_5%",Tableau8[[#This Row],[RG_5%]]+Tableau8[[#This Row],[PAYEE]],IF(Tableau8[[#This Row],[marché]]="BFT_5%",Tableau8[[#This Row],[BFT_5%]]+Tableau8[[#This Row],[PAYEE]],IF(Tableau8[[#This Row],[marché]]="AUTRE",Tableau8[[#This Row],[AUTRE]]+Tableau8[[#This Row],[PAYEE]],""))))) -> 0
B40: =CONCATENATE(Tableau8[[#This Row],[CT INDIRECT CHANTIER]],Tableau8[[#This Row],[NOM CHANTIER INDIRECT ST]],Tableau8[[#This Row],[Sous Traitant]],Tableau8[[#This Row],[MO INDIRECT CT]]) -> FREDCHATENAY MALABRY - IRENADH2O | C40: D | D40: CHATENAY MALABRY - IRENA | E40: FRED | F40: H2O | G40: =IFERROR(IF(B40="","",VLOOKUP(B40,Tableau16[[Ref]:[CP]],6,FALSE)),"") -> 0 | H40: =IFERROR(IF(B40="","",VLOOKUP(B40,Tableau16[[Ref]:[CP]],7,FALSE)),"") -> 0 | I40: =CONCATENATE(Tableau8[[#This Row],[CT INDIRECT CHANTIER]],Tableau8[[#This Row],[NOM CHANTIER INDIRECT ST]],Tableau8[[#This Row],[Sous Traitant]],Tableau8[[#This Row],[MO INDIRECT CT]],Tableau8[[#This Row],[marché]]) -> FREDCHATENAY MALABRY - IRENADH2OTS/TMA/CFA | J40: =COUNTIF($I$4:I40,Tableau8[[#This Row],[REF FACT]]) -> 1 | K40: 161 | L40: 44043 | M40: =IF(Tableau8[[#This Row],[Sous Traitant]]>1,VLOOKUP(Tableau8[[#This Row],[Sous Traitant]],Tableau11[[SOUS TRAITANT]:[DELAIS PAIEMENT]],4,FALSE),"") -> 15J | N40: =IF(M40="15J",EOMONTH(L40,0)+15,IF(M40="45J",EOMONTH(L40+30,0)+15,"")) -> 44058 | O40: TS/TMA/CFA | P40: 950 | Q40: FRED | T40: =SUMIFS($P$4:P40,$I$4:I40,I40) -> 950 | U40: =IF(Tableau8[[#This Row],[marché]]="MARCHEINT",VLOOKUP($B40,Tableau16[[Ref]:[AUTRE]],13,FALSE)-Tableau8[[#This Row],[PAYEE]],"") | V40: =IF(Tableau8[[#This Row],[marché]]="MARCHEEXT",VLOOKUP($B40,Tableau16[[Ref]:[AUTRE]],14,FALSE)-Tableau8[[#This Row],[PAYEE]],"") | W40: =IF(Tableau8[[#This Row],[marché]]="RG_5%",VLOOKUP($B40,Tableau16[[Ref]:[AUTRE]],15,FALSE)-Tableau8[[#This Row],[PAYEE]],"") | X40: =IF(Tableau8[[#This Row],[marché]]="BFT_5%",VLOOKUP($B40,Tableau16[[Ref]:[AUTRE]],17,FALSE)-Tableau8[[#This Row],[PAYEE]],"") | Y40: =IF(Tableau8[[#This Row],[marché]]="AUTRE",VLOOKUP($B40,Tableau16[[Ref]:[AUTRE]],19,FALSE)-Tableau8[[#This Row],[PAYEE]],"") | AA40: =IF(Tableau8[[#This Row],[marché]]="MARCHEINT",Tableau8[[#This Row],[MARCHE INT]]+Tableau8[[#This Row],[PAYEE]],IF(Tableau8[[#This Row],[marché]]="MARCHEEXT",Tableau8[[#This Row],[MARCHE EXT]]+Tableau8[[#This Row],[PAYEE]],IF(Tableau8[[#This Row],[marché]]="RG_5%",Tableau8[[#This Row],[RG_5%]]+Tableau8[[#This Row],[PAYEE]],IF(Tableau8[[#This Row],[marché]]="BFT_5%",Tableau8[[#This Row],[BFT_5%]]+Tableau8[[#This Row],[PAYEE]],IF(Tableau8[[#This Row],[marché]]="AUTRE",Tableau8[[#This Row],[AUTRE]]+Tableau8[[#This Row],[PAYEE]],"")))))
B41: =CONCATENATE(Tableau8[[#This Row],[CT INDIRECT CHANTIER]],Tableau8[[#This Row],[NOM CHANTIER INDIRECT ST]],Tableau8[[#This Row],[Sous Traitant]],Tableau8[[#This Row],[MO INDIRECT CT]]) -> FREDCHATENAY MALABRY - IRENADH2O | C41: D | D41: CHATENAY MALABRY - IRENA | E41: FRED | F41: H2O | G41: =IFERROR(IF(B41="","",VLOOKUP(B41,Tableau16[[Ref]:[CP]],6,FALSE)),"") -> 0 | H41: =IFERROR(IF(B41="","",VLOOKUP(B41,Tableau16[[Ref]:[CP]],7,FALSE)),"") -> 0 | I41: =CONCATENATE(Tableau8[[#This Row],[CT INDIRECT CHANTIER]],Tableau8[[#This Row],[NOM CHANTIER INDIRECT ST]],Tableau8[[#This Row],[Sous Traitant]],Tableau8[[#This Row],[MO INDIRECT CT]],Tableau8[[#This Row],[marché]]) -> FREDCHATENAY MALABRY - IRENADH2OMARCHEINT | J41: =COUNTIF($I$4:I41,Tableau8[[#This Row],[REF FACT]]) -> 1 | K41: 162 | L41: 44043 | M41: =IF(Tableau8[[#This Row],[Sous Traitant]]>1,VLOOKUP(Tableau8[[#This Row],[Sous Traitant]],Tableau11[[SOUS TRAITANT]:[DELAIS PAIEMENT]],4,FALSE),"") -> 15J | N41: =IF(M41="15J",EOMONTH(L41,0)+15,IF(M41="45J",EOMONTH(L41+30,0)+15,"")) -> 44058 | O41: MARCHEINT | P41: 1216 | Q41: FRED | T41: =SUMIFS($P$4:P41,$I$4:I41,I41) -> 1216 | U41: =IF(Tableau8[[#This Row],[marché]]="MARCHEINT",VLOOKUP($B41,Tableau16[[Ref]:[AUTRE]],13,FALSE)-Tableau8[[#This Row],[PAYEE]],"") -> 28784 | V41: =IF(Tableau8[[#This Row],[marché]]="MARCHEEXT",VLOOKUP($B41,Tableau16[[Ref]:[AUTRE]],14,FALSE)-Tableau8[[#This Row],[PAYEE]],"") | W41: =IF(Tableau8[[#This Row],[marché]]="RG_5%",VLOOKUP($B41,Tableau16[[Ref]:[AUTRE]],15,FALSE)-Tableau8[[#This Row],[PAYEE]],"") | X41: =IF(Tableau8[[#This Row],[marché]]="BFT_5%",VLOOKUP($B41,Tableau16[[Ref]:[AUTRE]],17,FALSE)-Tableau8[[#This Row],[PAYEE]],"") | Y41: =IF(Tableau8[[#This Row],[marché]]="AUTRE",VLOOKUP($B41,Tableau16[[Ref]:[AUTRE]],19,FALSE)-Tableau8[[#This Row],[PAYEE]],"") | AA41: =IF(Tableau8[[#This Row],[marché]]="MARCHEINT",Tableau8[[#This Row],[MARCHE INT]]+Tableau8[[#This Row],[PAYEE]],IF(Tableau8[[#This Row],[marché]]="MARCHEEXT",Tableau8[[#This Row],[MARCHE EXT]]+Tableau8[[#This Row],[PAYEE]],IF(Tableau8[[#This Row],[marché]]="RG_5%",Tableau8[[#This Row],[RG_5%]]+Tableau8[[#This Row],[PAYEE]],IF(Tableau8[[#This Row],[marché]]="BFT_5%",Tableau8[[#This Row],[BFT_5%]]+Tableau8[[#This Row],[PAYEE]],IF(Tableau8[[#This Row],[marché]]="AUTRE",Tableau8[[#This Row],[AUTRE]]+Tableau8[[#This Row],[PAYEE]],""))))) -> 30000
B42: =CONCATENATE(Tableau8[[#This Row],[CT INDIRECT CHANTIER]],Tableau8[[#This Row],[NOM CHANTIER INDIRECT ST]],Tableau8[[#This Row],[Sous Traitant]],Tableau8[[#This Row],[MO INDIRECT CT]]) -> FREDCHATENAY MALABRY - IRENADH2O | C42: D | D42: CHATENAY MALABRY - IRENA | E42: FRED | F42: H2O | G42: =IFERROR(IF(B42="","",VLOOKUP(B42,Tableau16[[Ref]:[CP]],6,FALSE)),"") -> 0 | H42: =IFERROR(IF(B42="","",VLOOKUP(B42,Tableau16[[Ref]:[CP]],7,FALSE)),"") -> 0 | I42: =CONCATENATE(Tableau8[[#This Row],[CT INDIRECT CHANTIER]],Tableau8[[#This Row],[NOM CHANTIER INDIRECT ST]],Tableau8[[#This Row],[Sous Traitant]],Tableau8[[#This Row],[MO INDIRECT CT]],Tableau8[[#This Row],[marché]]) -> FREDCHATENAY MALABRY - IRENADH2OMARCHEINT | J42: =COUNTIF($I$4:I42,Tableau8[[#This Row],[REF FACT]]) -> 2 | K42: 163 | L42: 44043 | M42: =IF(Tableau8[[#This Row],[Sous Traitant]]>1,VLOOKUP(Tableau8[[#This Row],[Sous Traitant]],Tableau11[[SOUS TRAITANT]:[DELAIS PAIEMENT]],4,FALSE),"") -> 15J | N42: =IF(M42="15J",EOMONTH(L42,0)+15,IF(M42="45J",EOMONTH(L42+30,0)+15,"")) -> 44058 | O42: MARCHEINT | P42: 4259.25 | Q42: FRED | T42: =SUMIFS($P$4:P42,$I$4:I42,I42) -> 5475.25 | U42: =IF(Tableau8[[#This Row],[marché]]="MARCHEINT",VLOOKUP($B42,Tableau16[[Ref]:[AUTRE]],13,FALSE)-Tableau8[[#This Row],[PAYEE]],"") -> 24524.75 | V42: =IF(Tableau8[[#This Row],[marché]]="MARCHEEXT",VLOOKUP($B42,Tableau16[[Ref]:[AUTRE]],14,FALSE)-Tableau8[[#This Row],[PAYEE]],"") | W42: =IF(Tableau8[[#This Row],[marché]]="RG_5%",VLOOKUP($B42,Tableau16[[Ref]:[AUTRE]],15,FALSE)-Tableau8[[#This Row],[PAYEE]],"") | X42: =IF(Tableau8[[#This Row],[marché]]="BFT_5%",VLOOKUP($B42,Tableau16[[Ref]:[AUTRE]],17,FALSE)-Tableau8[[#This Row],[PAYEE]],"") | Y42: =IF(Tableau8[[#This Row],[marché]]="AUTRE",VLOOKUP($B42,Tableau16[[Ref]:[AUTRE]],19,FALSE)-Tableau8[[#This Row],[PAYEE]],"") | AA42: =IF(Tableau8[[#This Row],[marché]]="MARCHEINT",Tableau8[[#This Row],[MARCHE INT]]+Tableau8[[#This Row],[PAYEE]],IF(Tableau8[[#This Row],[marché]]="MARCHEEXT",Tableau8[[#This Row],[MARCHE EXT]]+Tableau8[[#This Row],[PAYEE]],IF(Tableau8[[#This Row],[marché]]="RG_5%",Tableau8[[#This Row],[RG_5%]]+Tableau8[[#This Row],[PAYEE]],IF(Tableau8[[#This Row],[marché]]="BFT_5%",Tableau8[[#This Row],[BFT_5%]]+Tableau8[[#This Row],[PAYEE]],IF(Tableau8[[#This Row],[marché]]="AUTRE",Tableau8[[#This Row],[AUTRE]]+Tableau8[[#This Row],[PAYEE]],""))))) -> 30000
B43: =CONCATENATE(Tableau8[[#This Row],[CT INDIRECT CHANTIER]],Tableau8[[#This Row],[NOM CHANTIER INDIRECT ST]],Tableau8[[#This Row],[Sous Traitant]],Tableau8[[#This Row],[MO INDIRECT CT]]) -> FREDCHATENAY MALABRY - IRENADH2O | C43: D | D43: CHATENAY MALABRY - IRENA | E43: FRED | F43: H2O | G43: =IFERROR(IF(B43="","",VLOOKUP(B43,Tableau16[[Ref]:[CP]],6,FALSE)),"") -> 0 | H43: =IFERROR(IF(B43="","",VLOOKUP(B43,Tableau16[[Ref]:[CP]],7,FALSE)),"") -> 0 | I43: =CONCATENATE(Tableau8[[#This Row],[CT INDIRECT CHANTIER]],Tableau8[[#This Row],[NOM CHANTIER INDIRECT ST]],Tableau8[[#This Row],[Sous Traitant]],Tableau8[[#This Row],[MO INDIRECT CT]],Tableau8[[#This Row],[marché]]) -> FREDCHATENAY MALABRY - IRENADH2OMARCHEINT | J43: =COUNTIF($I$4:I43,Tableau8[[#This Row],[REF FACT]]) -> 3 | K43: 170 | L43: 44043 | M43: =IF(Tableau8[[#This Row],[Sous Traitant]]>1,VLOOKUP(Tableau8[[#This Row],[Sous Traitant]],Tableau11[[SOUS TRAITANT]:[DELAIS PAIEMENT]],4,FALSE),"") -> 15J | N43: =IF(M43="15J",EOMONTH(L43,0)+15,IF(M43="45J",EOMONTH(L43+30,0)+15,"")) -> 44058 | O43: MARCHEINT | P43: 4867.8 | Q43: FRED | T43: =SUMIFS($P$4:P43,$I$4:I43,I43) -> 10343.05 | U43: =IF(Tableau8[[#This Row],[marché]]="MARCHEINT",VLOOKUP($B43,Tableau16[[Ref]:[AUTRE]],13,FALSE)-Tableau8[[#This Row],[PAYEE]],"") -> 19656.95 | V43: =IF(Tableau8[[#This Row],[marché]]="MARCHEEXT",VLOOKUP($B43,Tableau16[[Ref]:[AUTRE]],14,FALSE)-Tableau8[[#This Row],[PAYEE]],"") | W43: =IF(Tableau8[[#This Row],[marché]]="RG_5%",VLOOKUP($B43,Tableau16[[Ref]:[AUTRE]],15,FALSE)-Tableau8[[#This Row],[PAYEE]],"") | X43: =IF(Tableau8[[#This Row],[marché]]="BFT_5%",VLOOKUP($B43,Tableau16[[Ref]:[AUTRE]],17,FALSE)-Tableau8[[#This Row],[PAYEE]],"") | Y43: =IF(Tableau8[[#This Row],[marché]]="AUTRE",VLOOKUP($B43,Tableau16[[Ref]:[AUTRE]],19,FALSE)-Tableau8[[#This Row],[PAYEE]],"") | AA43: =IF(Tableau8[[#This Row],[marché]]="MARCHEINT",Tableau8[[#This Row],[MARCHE INT]]+Tableau8[[#This Row],[PAYEE]],IF(Tableau8[[#This Row],[marché]]="MARCHEEXT",Tableau8[[#This Row],[MARCHE EXT]]+Tableau8[[#This Row],[PAYEE]],IF(Tableau8[[#This Row],[marché]]="RG_5%",Tableau8[[#This Row],[RG_5%]]+Tableau8[[#This Row],[PAYEE]],IF(Tableau8[[#This Row],[marché]]="BFT_5%",Tableau8[[#This Row],[BFT_5%]]+Tableau8[[#This Row],[PAYEE]],IF(Tableau8[[#This Row],[marché]]="AUTRE",Tableau8[[#This Row],[AUTRE]]+Tableau8[[#This Row],[PAYEE]],""))))) -> 30000
B44: =CONCATENATE(Tableau8[[#This Row],[CT INDIRECT CHANTIER]],Tableau8[[#This Row],[NOM CHANTIER INDIRECT ST]],Tableau8[[#This Row],[Sous Traitant]],Tableau8[[#This Row],[MO INDIRECT CT]]) -> JONATHANST MAURBH2O | C44: B | D44: ST MAUR | E44: JONATHAN | F44: H2O | G44: =IFERROR(IF(B44="","",VLOOKUP(B44,Tableau16[[Ref]:[CP]],6,FALSE)),"") | H44: =IFERROR(IF(B44="","",VLOOKUP(B44,Tableau16[[Ref]:[CP]],7,FALSE)),"") | I44: =CONCATENATE(Tableau8[[#This Row],[CT INDIRECT CHANTIER]],Tableau8[[#This Row],[NOM CHANTIER INDIRECT ST]],Tableau8[[#This Row],[Sous Traitant]],Tableau8[[#This Row],[MO INDIRECT CT]],Tableau8[[#This Row],[marché]]) -> JONATHANST MAURBH2OMARCHEINT | J44: =COUNTIF($I$4:I44,Tableau8[[#This Row],[REF FACT]]) -> 1 | K44: 019/2020 | L44: 44043 | M44: =IF(Tableau8[[#This Row],[Sous Traitant]]>1,VLOOKUP(Tableau8[[#This Row],[Sous Traitant]],Tableau11[[SOUS TRAITANT]:[DELAIS PAIEMENT]],4,FALSE),"") -> 15J | N44: =IF(M44="15J",EOMONTH(L44,0)+15,IF(M44="45J",EOMONTH(L44+30,0)+15,"")) -> 44058 | O44: MARCHEINT | P44: 1141.14 | Q44: FRED | T44: =SUMIFS($P$4:P44,$I$4:I44,I44) -> 1141.14 | U44: =IF(Tableau8[[#This Row],[marché]]="MARCHEINT",VLOOKUP($B44,Tableau16[[Ref]:[AUTRE]],13,FALSE)-Tableau8[[#This Row],[PAYEE]],"") -> #N/A | V44: =IF(Tableau8[[#This Row],[marché]]="MARCHEEXT",VLOOKUP($B44,Tableau16[[Ref]:[AUTRE]],14,FALSE)-Tableau8[[#This Row],[PAYEE]],"") | W44: =IF(Tableau8[[#This Row],[marché]]="RG_5%",VLOOKUP($B44,Tableau16[[Ref]:[AUTRE]],15,FALSE)-Tableau8[[#This Row],[PAYEE]],"") | X44: =IF(Tableau8[[#This Row],[marché]]="BFT_5%",VLOOKUP($B44,Tableau16[[Ref]:[AUTRE]],17,FALSE)-Tableau8[[#This Row],[PAYEE]],"") | Y44: =IF(Tableau8[[#This Row],[marché]]="AUTRE",VLOOKUP($B44,Tableau16[[Ref]:[AUTRE]],19,FALSE)-Tableau8[[#This Row],[PAYEE]],"") | AA44: =IF(Tableau8[[#This Row],[marché]]="MARCHEINT",Tableau8[[#This Row],[MARCHE INT]]+Tableau8[[#This Row],[PAYEE]],IF(Tableau8[[#This Row],[marché]]="MARCHEEXT",Tableau8[[#This Row],[MARCHE EXT]]+Tableau8[[#This Row],[PAYEE]],IF(Tableau8[[#This Row],[marché]]="RG_5%",Tableau8[[#This Row],[RG_5%]]+Tableau8[[#This Row],[PAYEE]],IF(Tableau8[[#This Row],[marché]]="BFT_5%",Tableau8[[#This Row],[BFT_5%]]+Tableau8[[#This Row],[PAYEE]],IF(Tableau8[[#This Row],[marché]]="AUTRE",Tableau8[[#This Row],[AUTRE]]+Tableau8[[#This Row],[PAYEE]],""))))) -> #N/A
B45: =CONCATENATE(Tableau8[[#This Row],[CT INDIRECT CHANTIER]],Tableau8[[#This Row],[NOM CHANTIER INDIRECT ST]],Tableau8[[#This Row],[Sous Traitant]],Tableau8[[#This Row],[MO INDIRECT CT]]) -> JONATHANCHATENAY MALABRY - ANDREA 2BH2O | C45: B | D45: CHATENAY MALABRY - ANDREA 2 | E45: JONATHAN | F45: H2O | G45: =IFERROR(IF(B45="","",VLOOKUP(B45,Tableau16[[Ref]:[CP]],6,FALSE)),"") | H45: =IFERROR(IF(B45="","",VLOOKUP(B45,Tableau16[[Ref]:[CP]],7,FALSE)),"") | I45: =CONCATENATE(Tableau8[[#This Row],[CT INDIRECT CHANTIER]],Tableau8[[#This Row],[NOM CHANTIER INDIRECT ST]],Tableau8[[#This Row],[Sous Traitant]],Tableau8[[#This Row],[MO INDIRECT CT]],Tableau8[[#This Row],[marché]]) -> JONATHANCHATENAY MALABRY - ANDREA 2BH2OMARCHEINT | J45: =COUNTIF($I$4:I45,Tableau8[[#This Row],[REF FACT]]) -> 1 | K45: 018/2020 | L45: 44043 | M45: =IF(Tableau8[[#This Row],[Sous Traitant]]>1,VLOOKUP(Tableau8[[#This Row],[Sous Traitant]],Tableau11[[SOUS TRAITANT]:[DELAIS PAIEMENT]],4,FALSE),"") -> 15J | N45: =IF(M45="15J",EOMONTH(L45,0)+15,IF(M45="45J",EOMONTH(L45+30,0)+15,"")) -> 44058 | O45: MARCHEINT | P45: 1280 | Q45: FRED | T45: =SUMIFS($P$4:P45,$I$4:I45,I45) -> 1280 | U45: =IF(Tableau8[[#This Row],[marché]]="MARCHEINT",VLOOKUP($B45,Tableau16[[Ref]:[AUTRE]],13,FALSE)-Tableau8[[#This Row],[PAYEE]],"") -> #N/A | V45: =IF(Tableau8[[#This Row],[marché]]="MARCHEEXT",VLOOKUP($B45,Tableau16[[Ref]:[AUTRE]],14,FALSE)-Tableau8[[#This Row],[PAYEE]],"") | W45: =IF(Tableau8[[#This Row],[marché]]="RG_5%",VLOOKUP($B45,Tableau16[[Ref]:[AUTRE]],15,FALSE)-Tableau8[[#This Row],[PAYEE]],"") | X45: =IF(Tableau8[[#This Row],[marché]]="BFT_5%",VLOOKUP($B45,Tableau16[[Ref]:[AUTRE]],17,FALSE)-Tableau8[[#This Row],[PAYEE]],"") | Y45: =IF(Tableau8[[#This Row],[marché]]="AUTRE",VLOOKUP($B45,Tableau16[[Ref]:[AUTRE]],19,FALSE)-Tableau8[[#This Row],[PAYEE]],"") | AA45: =IF(Tableau8[[#This Row],[marché]]="MARCHEINT",Tableau8[[#This Row],[MARCHE INT]]+Tableau8[[#This Row],[PAYEE]],IF(Tableau8[[#This Row],[marché]]="MARCHEEXT",Tableau8[[#This Row],[MARCHE EXT]]+Tableau8[[#This Row],[PAYEE]],IF(Tableau8[[#This Row],[marché]]="RG_5%",Tableau8[[#This Row],[RG_5%]]+Tableau8[[#This Row],[PAYEE]],IF(Tableau8[[#This Row],[marché]]="BFT_5%",Tableau8[[#This Row],[BFT_5%]]+Tableau8[[#This Row],[PAYEE]],IF(Tableau8[[#This Row],[marché]]="AUTRE",Tableau8[[#This Row],[AUTRE]]+Tableau8[[#This Row],[PAYEE]],""))))) -> #N/A
B46: =CONCATENATE(Tableau8[[#This Row],[CT INDIRECT CHANTIER]],Tableau8[[#This Row],[NOM CHANTIER INDIRECT ST]],Tableau8[[#This Row],[Sous Traitant]],Tableau8[[#This Row],[MO INDIRECT CT]]) -> JONATHANCLAMART - LORENABH2O | C46: B | D46: CLAMART - LORENA | E46: JONATHAN | F46: H2O | G46: =IFERROR(IF(B46="","",VLOOKUP(B46,Tableau16[[Ref]:[CP]],6,FALSE)),"") | H46: =IFERROR(IF(B46="","",VLOOKUP(B46,Tableau16[[Ref]:[CP]],7,FALSE)),"") | I46: =CONCATENATE(Tableau8[[#This Row],[CT INDIRECT CHANTIER]],Tableau8[[#This Row],[NOM CHANTIER INDIRECT ST]],Tableau8[[#This Row],[Sous Traitant]],Tableau8[[#This Row],[MO INDIRECT CT]],Tableau8[[#This Row],[marché]]) -> JONATHANCLAMART - LORENABH2OMARCHEINT | J46: =COUNTIF($I$4:I46,Tableau8[[#This Row],[REF FACT]]) -> 1 | K46: 017/2020 | L46: 44042 | M46: =IF(Tableau8[[#This Row],[Sous Traitant]]>1,VLOOKUP(Tableau8[[#This Row],[Sous Traitant]],Tableau11[[SOUS TRAITANT]:[DELAIS PAIEMENT]],4,FALSE),"") -> 15J | N46: =IF(M46="15J",EOMONTH(L46,0)+15,IF(M46="45J",EOMONTH(L46+30,0)+15,"")) -> 44058 | O46: MARCHEINT | P46: 594.88 | Q46: FRED | T46: =SUMIFS($P$4:P46,$I$4:I46,I46) -> 594.88 | U46: =IF(Tableau8[[#This Row],[marché]]="MARCHEINT",VLOOKUP($B46,Tableau16[[Ref]:[AUTRE]],13,FALSE)-Tableau8[[#This Row],[PAYEE]],"") -> #N/A | V46: =IF(Tableau8[[#This Row],[marché]]="MARCHEEXT",VLOOKUP($B46,Tableau16[[Ref]:[AUTRE]],14,FALSE)-Tableau8[[#This Row],[PAYEE]],"") | W46: =IF(Tableau8[[#This Row],[marché]]="RG_5%",VLOOKUP($B46,Tableau16[[Ref]:[AUTRE]],15,FALSE)-Tableau8[[#This Row],[PAYEE]],"") | X46: =IF(Tableau8[[#This Row],[marché]]="BFT_5%",VLOOKUP($B46,Tableau16[[Ref]:[AUTRE]],17,FALSE)-Tableau8[[#This Row],[PAYEE]],"") | Y46: =IF(Tableau8[[#This Row],[marché]]="AUTRE",VLOOKUP($B46,Tableau16[[Ref]:[AUTRE]],19,FALSE)-Tableau8[[#This Row],[PAYEE]],"") | AA46: =IF(Tableau8[[#This Row],[marché]]="MARCHEINT",Tableau8[[#This Row],[MARCHE INT]]+Tableau8[[#This Row],[PAYEE]],IF(Tableau8[[#This Row],[marché]]="MARCHEEXT",Tableau8[[#This Row],[MARCHE EXT]]+Tableau8[[#This Row],[PAYEE]],IF(Tableau8[[#This Row],[marché]]="RG_5%",Tableau8[[#This Row],[RG_5%]]+Tableau8[[#This Row],[PAYEE]],IF(Tableau8[[#This Row],[marché]]="BFT_5%",Tableau8[[#This Row],[BFT_5%]]+Tableau8[[#This Row],[PAYEE]],IF(Tableau8[[#This Row],[marché]]="AUTRE",Tableau8[[#This Row],[AUTRE]]+Tableau8[[#This Row],[PAYEE]],""))))) -> #N/A
B47: =CONCATENATE(Tableau8[[#This Row],[CT INDIRECT CHANTIER]],Tableau8[[#This Row],[NOM CHANTIER INDIRECT ST]],Tableau8[[#This Row],[Sous Traitant]],Tableau8[[#This Row],[MO INDIRECT CT]]) -> JONATHANSAINT PIERRE LES NEMOURSBH2O | C47: B | D47: SAINT PIERRE LES NEMOURS | E47: JONATHAN | F47: H2O | G47: =IFERROR(IF(B47="","",VLOOKUP(B47,Tableau16[[Ref]:[CP]],6,FALSE)),"") | H47: =IFERROR(IF(B47="","",VLOOKUP(B47,Tableau16[[Ref]:[CP]],7,FALSE)),"") | I47: =CONCATENATE(Tableau8[[#This Row],[CT INDIRECT CHANTIER]],Tableau8[[#This Row],[NOM CHANTIER INDIRECT ST]],Tableau8[[#This Row],[Sous Traitant]],Tableau8[[#This Row],[MO INDIRECT CT]],Tableau8[[#This Row],[marché]]) -> JONATHANSAINT PIERRE LES NEMOURSBH2OMARCHEINT | J47: =COUNTIF($I$4:I47,Tableau8[[#This Row],[REF FACT]]) -> 1 | K47: 28 | L47: 44043 | M47: =IF(Tableau8[[#This Row],[Sous Traitant]]>1,VLOOKUP(Tableau8[[#This Row],[Sous Traitant]],Tableau11[[SOUS TRAITANT]:[DELAIS PAIEMENT]],4,FALSE),"") -> 15J | N47: =IF(M47="15J",EOMONTH(L47,0)+15,IF(M47="45J",EOMONTH(L47+30,0)+15,"")) -> 44058 | O47: MARCHEINT | P47: 4998.73 | Q47: FRED | T47: =SUMIFS($P$4:P47,$I$4:I47,I47) -> 4998.73 | U47: =IF(Tableau8[[#This Row],[marché]]="MARCHEINT",VLOOKUP($B47,Tableau16[[Ref]:[AUTRE]],13,FALSE)-Tableau8[[#This Row],[PAYEE]],"") -> #N/A | V47: =IF(Tableau8[[#This Row],[marché]]="MARCHEEXT",VLOOKUP($B47,Tableau16[[Ref]:[AUTRE]],14,FALSE)-Tableau8[[#This Row],[PAYEE]],"") | W47: =IF(Tableau8[[#This Row],[marché]]="RG_5%",VLOOKUP($B47,Tableau16[[Ref]:[AUTRE]],15,FALSE)-Tableau8[[#This Row],[PAYEE]],"") | X47: =IF(Tableau8[[#This Row],[marché]]="BFT_5%",VLOOKUP($B47,Tableau16[[Ref]:[AUTRE]],17,FALSE)-Tableau8[[#This Row],[PAYEE]],"") | Y47: =IF(Tableau8[[#This Row],[marché]]="AUTRE",VLOOKUP($B47,Tableau16[[Ref]:[AUTRE]],19,FALSE)-Tableau8[[#This Row],[PAYEE]],"") | AA47: =IF(Tableau8[[#This Row],[marché]]="MARCHEINT",Tableau8[[#This Row],[MARCHE INT]]+Tableau8[[#This Row],[PAYEE]],IF(Tableau8[[#This Row],[marché]]="MARCHEEXT",Tableau8[[#This Row],[MARCHE EXT]]+Tableau8[[#This Row],[PAYEE]],IF(Tableau8[[#This Row],[marché]]="RG_5%",Tableau8[[#This Row],[RG_5%]]+Tableau8[[#This Row],[PAYEE]],IF(Tableau8[[#This Row],[marché]]="BFT_5%",Tableau8[[#This Row],[BFT_5%]]+Tableau8[[#This Row],[PAYEE]],IF(Tableau8[[#This Row],[marché]]="AUTRE",Tableau8[[#This Row],[AUTRE]]+Tableau8[[#This Row],[PAYEE]],""))))) -> #N/A
B48: =CONCATENATE(Tableau8[[#This Row],[CT INDIRECT CHANTIER]],Tableau8[[#This Row],[NOM CHANTIER INDIRECT ST]],Tableau8[[#This Row],[Sous Traitant]],Tableau8[[#This Row],[MO INDIRECT CT]]) -> JONATHANNANDYBOPALE | C48: B | D48: NANDY | E48: JONATHAN | F48: OPALE | G48: =IFERROR(IF(B48="","",VLOOKUP(B48,Tableau16[[Ref]:[CP]],6,FALSE)),"") | H48: =IFERROR(IF(B48="","",VLOOKUP(B48,Tableau16[[Ref]:[CP]],7,FALSE)),"") | I48: =CONCATENATE(Tableau8[[#This Row],[CT INDIRECT CHANTIER]],Tableau8[[#This Row],[NOM CHANTIER INDIRECT ST]],Tableau8[[#This Row],[Sous Traitant]],Tableau8[[#This Row],[MO INDIRECT CT]],Tableau8[[#This Row],[marché]]) -> JONATHANNANDYBOPALEMARCHEINT | J48: =COUNTIF($I$4:I48,Tableau8[[#This Row],[REF FACT]]) -> 1 | K48: 180183 | L48: 44026 | M48: =IF(Tableau8[[#This Row],[Sous Traitant]]>1,VLOOKUP(Tableau8[[#This Row],[Sous Traitant]],Tableau11[[SOUS TRAITANT]:[DELAIS PAIEMENT]],4,FALSE),"") -> 15J | N48: =IF(M48="15J",EOMONTH(L48,0)+15,IF(M48="45J",EOMONTH(L48+30,0)+15,"")) -> 44058 | O48: MARCHEINT | P48: 1500 | Q48: FRED | T48: =SUMIFS($P$4:P48,$I$4:I48,I48) -> 1500 | U48: =IF(Tableau8[[#This Row],[marché]]="MARCHEINT",VLOOKUP($B48,Tableau16[[Ref]:[AUTRE]],13,FALSE)-Tableau8[[#This Row],[PAYEE]],"") -> #N/A | V48: =IF(Tableau8[[#This Row],[marché]]="MARCHEEXT",VLOOKUP($B48,Tableau16[[Ref]:[AUTRE]],14,FALSE)-Tableau8[[#This Row],[PAYEE]],"") | W48: =IF(Tableau8[[#This Row],[marché]]="RG_5%",VLOOKUP($B48,Tableau16[[Ref]:[AUTRE]],15,FALSE)-Tableau8[[#This Row],[PAYEE]],"") | X48: =IF(Tableau8[[#This Row],[marché]]="BFT_5%",VLOOKUP($B48,Tableau16[[Ref]:[AUTRE]],17,FALSE)-Tableau8[[#This Row],[PAYEE]],"") | Y48: =IF(Tableau8[[#This Row],[marché]]="AUTRE",VLOOKUP($B48,Tableau16[[Ref]:[AUTRE]],19,FALSE)-Tableau8[[#This Row],[PAYEE]],"") | AA48: =IF(Tableau8[[#This Row],[marché]]="MARCHEINT",Tableau8[[#This Row],[MARCHE INT]]+Tableau8[[#This Row],[PAYEE]],IF(Tableau8[[#This Row],[marché]]="MARCHEEXT",Tableau8[[#This Row],[MARCHE EXT]]+Tableau8[[#This Row],[PAYEE]],IF(Tableau8[[#This Row],[marché]]="RG_5%",Tableau8[[#This Row],[RG_5%]]+Tableau8[[#This Row],[PAYEE]],IF(Tableau8[[#This Row],[marché]]="BFT_5%",Tableau8[[#This Row],[BFT_5%]]+Tableau8[[#This Row],[PAYEE]],IF(Tableau8[[#This Row],[marché]]="AUTRE",Tableau8[[#This Row],[AUTRE]]+Tableau8[[#This Row],[PAYEE]],""))))) -> #N/A
B49: =CONCATENATE(Tableau8[[#This Row],[CT INDIRECT CHANTIER]],Tableau8[[#This Row],[NOM CHANTIER INDIRECT ST]],Tableau8[[#This Row],[Sous Traitant]],Tableau8[[#This Row],[MO INDIRECT CT]]) -> JONATHANNANDYBOPALE | C49: B | D49: NANDY | E49: JONATHAN | F49: OPALE | G49: =IFERROR(IF(B49="","",VLOOKUP(B49,Tableau16[[Ref]:[CP]],6,FALSE)),"") | H49: =IFERROR(IF(B49="","",VLOOKUP(B49,Tableau16[[Ref]:[CP]],7,FALSE)),"") | I49: =CONCATENATE(Tableau8[[#This Row],[CT INDIRECT CHANTIER]],Tableau8[[#This Row],[NOM CHANTIER INDIRECT ST]],Tableau8[[#This Row],[Sous Traitant]],Tableau8[[#This Row],[MO INDIRECT CT]],Tableau8[[#This Row],[marché]]) -> JONATHANNANDYBOPALEMARCHEINT | J49: =COUNTIF($I$4:I49,Tableau8[[#This Row],[REF FACT]]) -> 2 | K49: 180184 | L49: 44026 | M49: =IF(Tableau8[[#This Row],[Sous Traitant]]>1,VLOOKUP(Tableau8[[#This Row],[Sous Traitant]],Tableau11[[SOUS TRAITANT]:[DELAIS PAIEMENT]],4,FALSE),"") -> 15J | N49: =IF(M49="15J",EOMONTH(L49,0)+15,IF(M49="45J",EOMONTH(L49+30,0)+15,"")) -> 44058 | O49: MARCHEINT | P49: 825 | Q49: FRED | T49: =SUMIFS($P$4:P49,$I$4:I49,I49) -> 2325 | U49: =IF(Tableau8[[#This Row],[marché]]="MARCHEINT",VLOOKUP($B49,Tableau16[[Ref]:[AUTRE]],13,FALSE)-Tableau8[[#This Row],[PAYEE]],"") -> #N/A | V49: =IF(Tableau8[[#This Row],[marché]]="MARCHEEXT",VLOOKUP($B49,Tableau16[[Ref]:[AUTRE]],14,FALSE)-Tableau8[[#This Row],[PAYEE]],"") | W49: =IF(Tableau8[[#This Row],[marché]]="RG_5%",VLOOKUP($B49,Tableau16[[Ref]:[AUTRE]],15,FALSE)-Tableau8[[#This Row],[PAYEE]],"") | X49: =IF(Tableau8[[#This Row],[marché]]="BFT_5%",VLOOKUP($B49,Tableau16[[Ref]:[AUTRE]],17,FALSE)-Tableau8[[#This Row],[PAYEE]],"") | Y49: =IF(Tableau8[[#This Row],[marché]]="AUTRE",VLOOKUP($B49,Tableau16[[Ref]:[AUTRE]],19,FALSE)-Tableau8[[#This Row],[PAYEE]],"") | AA49: =IF(Tableau8[[#This Row],[marché]]="MARCHEINT",Tableau8[[#This Row],[MARCHE INT]]+Tableau8[[#This Row],[PAYEE]],IF(Tableau8[[#This Row],[marché]]="MARCHEEXT",Tableau8[[#This Row],[MARCHE EXT]]+Tableau8[[#This Row],[PAYEE]],IF(Tableau8[[#This Row],[marché]]="RG_5%",Tableau8[[#This Row],[RG_5%]]+Tableau8[[#This Row],[PAYEE]],IF(Tableau8[[#This Row],[marché]]="BFT_5%",Tableau8[[#This Row],[BFT_5%]]+Tableau8[[#This Row],[PAYEE]],IF(Tableau8[[#This Row],[marché]]="AUTRE",Tableau8[[#This Row],[AUTRE]]+Tableau8[[#This Row],[PAYEE]],""))))) -> #N/A
B50: =CONCATENATE(Tableau8[[#This Row],[CT INDIRECT CHANTIER]],Tableau8[[#This Row],[NOM CHANTIER INDIRECT ST]],Tableau8[[#This Row],[Sous Traitant]],Tableau8[[#This Row],[MO INDIRECT CT]]) -> JONATHANBRETIGNU SUR ORGEBOPALE | C50: B | D50: BRETIGNU SUR ORGE | E50: JONATHAN | F50: OPALE | G50: =IFERROR(IF(B50="","",VLOOKUP(B50,Tableau16[[Ref]:[CP]],6,FALSE)),"") | H50: =IFERROR(IF(B50="","",VLOOKUP(B50,Tableau16[[Ref]:[CP]],7,FALSE)),"") | I50: =CONCATENATE(Tableau8[[#This Row],[CT INDIRECT CHANTIER]],Tableau8[[#This Row],[NOM CHANTIER INDIRECT ST]],Tableau8[[#This Row],[Sous Traitant]],Tableau8[[#This Row],[MO INDIRECT CT]],Tableau8[[#This Row],[marché]]) -> JONATHANBRETIGNU SUR ORGEBOPALEMARCHEINT | J50: =COUNTIF($I$4:I50,Tableau8[[#This Row],[REF FACT]]) -> 1 | K50: 37/07/2020 | L50: 44034 | M50: =IF(Tableau8[[#This Row],[Sous Traitant]]>1,VLOOKUP(Tableau8[[#This Row],[Sous Traitant]],Tableau11[[SOUS TRAITANT]:[DELAIS PAIEMENT]],4,FALSE),"") -> 15J | N50: =IF(M50="15J",EOMONTH(L50,0)+15,IF(M50="45J",EOMONTH(L50+30,0)+15,"")) -> 44058 | O50: MARCHEINT | P50: 1400 | Q50: FRED | T50: =SUMIFS($P$4:P50,$I$4:I50,I50) -> 1400 | U50: =IF(Tableau8[[#This Row],[marché]]="MARCHEINT",VLOOKUP($B50,Tableau16[[Ref]:[AUTRE]],13,FALSE)-Tableau8[[#This Row],[PAYEE]],"") -> #N/A | V50: =IF(Tableau8[[#This Row],[marché]]="MARCHEEXT",VLOOKUP($B50,Tableau16[[Ref]:[AUTRE]],14,FALSE)-Tableau8[[#This Row],[PAYEE]],"") | W50: =IF(Tableau8[[#This Row],[marché]]="RG_5%",VLOOKUP($B50,Tableau16[[Ref]:[AUTRE]],15,FALSE)-Tableau8[[#This Row],[PAYEE]],"") | X50: =IF(Tableau8[[#This Row],[marché]]="BFT_5%",VLOOKUP($B50,Tableau16[[Ref]:[AUTRE]],17,FALSE)-Tableau8[[#This Row],[PAYEE]],"") | Y50: =IF(Tableau8[[#This Row],[marché]]="AUTRE",VLOOKUP($B50,Tableau16[[Ref]:[AUTRE]],19,FALSE)-Tableau8[[#This Row],[PAYEE]],"") | AA50: =IF(Tableau8[[#This Row],[marché]]="MARCHEINT",Tableau8[[#This Row],[MARCHE INT]]+Tableau8[[#This Row],[PAYEE]],IF(Tableau8[[#This Row],[marché]]="MARCHEEXT",Tableau8[[#This Row],[MARCHE EXT]]+Tableau8[[#This Row],[PAYEE]],IF(Tableau8[[#This Row],[marché]]="RG_5%",Tableau8[[#This Row],[RG_5%]]+Tableau8[[#This Row],[PAYEE]],IF(Tableau8[[#This Row],[marché]]="BFT_5%",Tableau8[[#This Row],[BFT_5%]]+Tableau8[[#This Row],[PAYEE]],IF(Tableau8[[#This Row],[marché]]="AUTRE",Tableau8[[#This Row],[AUTRE]]+Tableau8[[#This Row],[PAYEE]],""))))) -> #N/A
B51: =CONCATENATE(Tableau8[[#This Row],[CT INDIRECT CHANTIER]],Tableau8[[#This Row],[NOM CHANTIER INDIRECT ST]],Tableau8[[#This Row],[Sous Traitant]],Tableau8[[#This Row],[MO INDIRECT CT]]) -> JONATHANBRETIGNU SUR ORGEBOPALE | C51: B | D51: BRETIGNU SUR ORGE | E51: JONATHAN | F51: OPALE | G51: =IFERROR(IF(B51="","",VLOOKUP(B51,Tableau16[[Ref]:[CP]],6,FALSE)),"") | H51: =IFERROR(IF(B51="","",VLOOKUP(B51,Tableau16[[Ref]:[CP]],7,FALSE)),"") | I51: =CONCATENATE(Tableau8[[#This Row],[CT INDIRECT CHANTIER]],Tableau8[[#This Row],[NOM CHANTIER INDIRECT ST]],Tableau8[[#This Row],[Sous Traitant]],Tableau8[[#This Row],[MO INDIRECT CT]],Tableau8[[#This Row],[marché]]) -> JONATHANBRETIGNU SUR ORGEBOPALEMARCHEINT | J51: =COUNTIF($I$4:I51,Tableau8[[#This Row],[REF FACT]]) -> 2 | K51: 38/07/2020 | L51: 44039 | M51: =IF(Tableau8[[#This Row],[Sous Traitant]]>1,VLOOKUP(Tableau8[[#This Row],[Sous Traitant]],Tableau11[[SOUS TRAITANT]:[DELAIS PAIEMENT]],4,FALSE),"") -> 15J | N51: =IF(M51="15J",EOMONTH(L51,0)+15,IF(M51="45J",EOMONTH(L51+30,0)+15,"")) -> 44058 | O51: MARCHEINT | P51: 980.5 | Q51: FRED | T51: =SUMIFS($P$4:P51,$I$4:I51,I51) -> 2380.5 | U51: =IF(Tableau8[[#This Row],[marché]]="MARCHEINT",VLOOKUP($B51,Tableau16[[Ref]:[AUTRE]],13,FALSE)-Tableau8[[#This Row],[PAYEE]],"") -> #N/A | V51: =IF(Tableau8[[#This Row],[marché]]="MARCHEEXT",VLOOKUP($B51,Tableau16[[Ref]:[AUTRE]],14,FALSE)-Tableau8[[#This Row],[PAYEE]],"") | W51: =IF(Tableau8[[#This Row],[marché]]="RG_5%",VLOOKUP($B51,Tableau16[[Ref]:[AUTRE]],15,FALSE)-Tableau8[[#This Row],[PAYEE]],"") | X51: =IF(Tableau8[[#This Row],[marché]]="BFT_5%",VLOOKUP($B51,Tableau16[[Ref]:[AUTRE]],17,FALSE)-Tableau8[[#This Row],[PAYEE]],"") | Y51: =IF(Tableau8[[#This Row],[marché]]="AUTRE",VLOOKUP($B51,Tableau16[[Ref]:[AUTRE]],19,FALSE)-Tableau8[[#This Row],[PAYEE]],"") | AA51: =IF(Tableau8[[#This Row],[marché]]="MARCHEINT",Tableau8[[#This Row],[MARCHE INT]]+Tableau8[[#This Row],[PAYEE]],IF(Tableau8[[#This Row],[marché]]="MARCHEEXT",Tableau8[[#This Row],[MARCHE EXT]]+Tableau8[[#This Row],[PAYEE]],IF(Tableau8[[#This Row],[marché]]="RG_5%",Tableau8[[#This Row],[RG_5%]]+Tableau8[[#This Row],[PAYEE]],IF(Tableau8[[#This Row],[marché]]="BFT_5%",Tableau8[[#This Row],[BFT_5%]]+Tableau8[[#This Row],[PAYEE]],IF(Tableau8[[#This Row],[marché]]="AUTRE",Tableau8[[#This Row],[AUTRE]]+Tableau8[[#This Row],[PAYEE]],""))))) -> #N/A
B52: =CONCATENATE(Tableau8[[#This Row],[CT INDIRECT CHANTIER]],Tableau8[[#This Row],[NOM CHANTIER INDIRECT ST]],Tableau8[[#This Row],[Sous Traitant]],Tableau8[[#This Row],[MO INDIRECT CT]]) -> JONATHANSAINT FARGEAUAOPALE | C52: A | D52: SAINT FARGEAU | E52: JONATHAN | F52: OPALE | G52: =IFERROR(IF(B52="","",VLOOKUP(B52,Tableau16[[Ref]:[CP]],6,FALSE)),"") | H52: =IFERROR(IF(B52="","",VLOOKUP(B52,Tableau16[[Ref]:[CP]],7,FALSE)),"") | I52: =CONCATENATE(Tableau8[[#This Row],[CT INDIRECT CHANTIER]],Tableau8[[#This Row],[NOM CHANTIER INDIRECT ST]],Tableau8[[#This Row],[Sous Traitant]],Tableau8[[#This Row],[MO INDIRECT CT]],Tableau8[[#This Row],[marché]]) -> JONATHANSAINT FARGEAUAOPALEMARCHEINT | J52: =COUNTIF($I$4:I52,Tableau8[[#This Row],[REF FACT]]) -> 1 | K52: 39/07/2020 | L52: 44039 | M52: =IF(Tableau8[[#This Row],[Sous Traitant]]>1,VLOOKUP(Tableau8[[#This Row],[Sous Traitant]],Tableau11[[SOUS TRAITANT]:[DELAIS PAIEMENT]],4,FALSE),"") -> 45J | N52: =IF(M52="15J",EOMONTH(L52,0)+15,IF(M52="45J",EOMONTH(L52+30,0)+15,"")) -> 44089 | O52: MARCHEINT | P52: 300 | Q52: FRED | T52: =SUMIFS($P$4:P52,$I$4:I52,I52) -> 300 | U52: =IF(Tableau8[[#This Row],[marché]]="MARCHEINT",VLOOKUP($B52,Tableau16[[Ref]:[AUTRE]],13,FALSE)-Tableau8[[#This Row],[PAYEE]],"") -> #N/A | V52: =IF(Tableau8[[#This Row],[marché]]="MARCHEEXT",VLOOKUP($B52,Tableau16[[Ref]:[AUTRE]],14,FALSE)-Tableau8[[#This Row],[PAYEE]],"") | W52: =IF(Tableau8[[#This Row],[marché]]="RG_5%",VLOOKUP($B52,Tableau16[[Ref]:[AUTRE]],15,FALSE)-Tableau8[[#This Row],[PAYEE]],"") | X52: =IF(Tableau8[[#This Row],[marché]]="BFT_5%",VLOOKUP($B52,Tableau16[[Ref]:[AUTRE]],17,FALSE)-Tableau8[[#This Row],[PAYEE]],"") | Y52: =IF(Tableau8[[#This Row],[marché]]="AUTRE",VLOOKUP($B52,Tableau16[[Ref]:[AUTRE]],19,FALSE)-Tableau8[[#This Row],[PAYEE]],"") | AA52: =IF(Tableau8[[#This Row],[marché]]="MARCHEINT",Tableau8[[#This Row],[MARCHE INT]]+Tableau8[[#This Row],[PAYEE]],IF(Tableau8[[#This Row],[marché]]="MARCHEEXT",Tableau8[[#This Row],[MARCHE EXT]]+Tableau8[[#This Row],[PAYEE]],IF(Tableau8[[#This Row],[marché]]="RG_5%",Tableau8[[#This Row],[RG_5%]]+Tableau8[[#This Row],[PAYEE]],IF(Tableau8[[#This Row],[marché]]="BFT_5%",Tableau8[[#This Row],[BFT_5%]]+Tableau8[[#This Row],[PAYEE]],IF(Tableau8[[#This Row],[marché]]="AUTRE",Tableau8[[#This Row],[AUTRE]]+Tableau8[[#This Row],[PAYEE]],""))))) -> #N/A
B53: =CONCATENATE(Tableau8[[#This Row],[CT INDIRECT CHANTIER]],Tableau8[[#This Row],[NOM CHANTIER INDIRECT ST]],Tableau8[[#This Row],[Sous Traitant]],Tableau8[[#This Row],[MO INDIRECT CT]]) -> JONATHANSERVONAOPALE | C53: A | D53: SERVON | E53: JONATHAN | F53: OPALE | G53: =IFERROR(IF(B53="","",VLOOKUP(B53,Tableau16[[Ref]:[CP]],6,FALSE)),"") | H53: =IFERROR(IF(B53="","",VLOOKUP(B53,Tableau16[[Ref]:[CP]],7,FALSE)),"") | I53: =CONCATENATE(Tableau8[[#This Row],[CT INDIRECT CHANTIER]],Tableau8[[#This Row],[NOM CHANTIER INDIRECT ST]],Tableau8[[#This Row],[Sous Traitant]],Tableau8[[#This Row],[MO INDIRECT CT]],Tableau8[[#This Row],[marché]]) -> JONATHANSERVONAOPALEMARCHEINT | J53: =COUNTIF($I$4:I53,Tableau8[[#This Row],[REF FACT]]) -> 1 | K53: 60/07/2020 | L53: 44043 | M53: =IF(Tableau8[[#This Row],[Sous Traitant]]>1,VLOOKUP(Tableau8[[#This Row],[Sous Traitant]],Tableau11[[SOUS TRAITANT]:[DELAIS PAIEMENT]],4,FALSE),"") -> 45J | N53: =IF(M53="15J",EOMONTH(L53,0)+15,IF(M53="45J",EOMONTH(L53+30,0)+15,"")) -> 44089 | O53: MARCHEINT | P53: 1287 | Q53: FRED | T53: =SUMIFS($P$4:P53,$I$4:I53,I53) -> 1287 | U53: =IF(Tableau8[[#This Row],[marché]]="MARCHEINT",VLOOKUP($B53,Tableau16[[Ref]:[AUTRE]],13,FALSE)-Tableau8[[#This Row],[PAYEE]],"") -> #N/A | V53: =IF(Tableau8[[#This Row],[marché]]="MARCHEEXT",VLOOKUP($B53,Tableau16[[Ref]:[AUTRE]],14,FALSE)-Tableau8[[#This Row],[PAYEE]],"") | W53: =IF(Tableau8[[#This Row],[marché]]="RG_5%",VLOOKUP($B53,Tableau16[[Ref]:[AUTRE]],15,FALSE)-Tableau8[[#This Row],[PAYEE]],"") | X53: =IF(Tableau8[[#This Row],[marché]]="BFT_5%",VLOOKUP($B53,Tableau16[[Ref]:[AUTRE]],17,FALSE)-Tableau8[[#This Row],[PAYEE]],"") | Y53: =IF(Tableau8[[#This Row],[marché]]="AUTRE",VLOOKUP($B53,Tableau16[[Ref]:[AUTRE]],19,FALSE)-Tableau8[[#This Row],[PAYEE]],"") | AA53: =IF(Tableau8[[#This Row],[marché]]="MARCHEINT",Tableau8[[#This Row],[MARCHE INT]]+Tableau8[[#This Row],[PAYEE]],IF(Tableau8[[#This Row],[marché]]="MARCHEEXT",Tableau8[[#This Row],[MARCHE EXT]]+Tableau8[[#This Row],[PAYEE]],IF(Tableau8[[#This Row],[marché]]="RG_5%",Tableau8[[#This Row],[RG_5%]]+Tableau8[[#This Row],[PAYEE]],IF(Tableau8[[#This Row],[marché]]="BFT_5%",Tableau8[[#This Row],[BFT_5%]]+Tableau8[[#This Row],[PAYEE]],IF(Tableau8[[#This Row],[marché]]="AUTRE",Tableau8[[#This Row],[AUTRE]]+Tableau8[[#This Row],[PAYEE]],""))))) -> #N/A
B54: =CONCATENATE(Tableau8[[#This Row],[CT INDIRECT CHANTIER]],Tableau8[[#This Row],[NOM CHANTIER INDIRECT ST]],Tableau8[[#This Row],[Sous Traitant]],Tableau8[[#This Row],[MO INDIRECT CT]]) -> JONATHANROISSY EN BRIEAOPALE | C54: A | D54: ROISSY EN BRIE | E54: JONATHAN | F54: OPALE | G54: =IFERROR(IF(B54="","",VLOOKUP(B54,Tableau16[[Ref]:[CP]],6,FALSE)),"") | H54: =IFERROR(IF(B54="","",VLOOKUP(B54,Tableau16[[Ref]:[CP]],7,FALSE)),"") | I54: =CONCATENATE(Tableau8[[#This Row],[CT INDIRECT CHANTIER]],Tableau8[[#This Row],[NOM CHANTIER INDIRECT ST]],Tableau8[[#This Row],[Sous Traitant]],Tableau8[[#This Row],[MO INDIRECT CT]],Tableau8[[#This Row],[marché]]) -> JONATHANROISSY EN BRIEAOPALEMARCHEINT | J54: =COUNTIF($I$4:I54,Tableau8[[#This Row],[REF FACT]]) -> 1 | K54: RB008 | L54: 44042 | M54: =IF(Tableau8[[#This Row],[Sous Traitant]]>1,VLOOKUP(Tableau8[[#This Row],[Sous Traitant]],Tableau11[[SOUS TRAITANT]:[DELAIS PAIEMENT]],4,FALSE),"") -> 45J | N54: =IF(M54="15J",EOMONTH(L54,0)+15,IF(M54="45J",EOMONTH(L54+30,0)+15,"")) -> 44089 | O54: MARCHEINT | P54: 12062.44 | Q54: FRED | T54: =SUMIFS($P$4:P54,$I$4:I54,I54) -> 12062.44 | U54: =IF(Tableau8[[#This Row],[marché]]="MARCHEINT",VLOOKUP($B54,Tableau16[[Ref]:[AUTRE]],13,FALSE)-Tableau8[[#This Row],[PAYEE]],"") -> #N/A | V54: =IF(Tableau8[[#This Row],[marché]]="MARCHEEXT",VLOOKUP($B54,Tableau16[[Ref]:[AUTRE]],14,FALSE)-Tableau8[[#This Row],[PAYEE]],"") | W54: =IF(Tableau8[[#This Row],[marché]]="RG_5%",VLOOKUP($B54,Tableau16[[Ref]:[AUTRE]],15,FALSE)-Tableau8[[#This Row],[PAYEE]],"") | X54: =IF(Tableau8[[#This Row],[marché]]="BFT_5%",VLOOKUP($B54,Tableau16[[Ref]:[AUTRE]],17,FALSE)-Tableau8[[#This Row],[PAYEE]],"") | Y54: =IF(Tableau8[[#This Row],[marché]]="AUTRE",VLOOKUP($B54,Tableau16[[Ref]:[AUTRE]],19,FALSE)-Tableau8[[#This Row],[PAYEE]],"") | AA54: =IF(Tableau8[[#This Row],[marché]]="MARCHEINT",Tableau8[[#This Row],[MARCHE INT]]+Tableau8[[#This Row],[PAYEE]],IF(Tableau8[[#This Row],[marché]]="MARCHEEXT",Tableau8[[#This Row],[MARCHE EXT]]+Tableau8[[#This Row],[PAYEE]],IF(Tableau8[[#This Row],[marché]]="RG_5%",Tableau8[[#This Row],[RG_5%]]+Tableau8[[#This Row],[PAYEE]],IF(Tableau8[[#This Row],[marché]]="BFT_5%",Tableau8[[#This Row],[BFT_5%]]+Tableau8[[#This Row],[PAYEE]],IF(Tableau8[[#This Row],[marché]]="AUTRE",Tableau8[[#This Row],[AUTRE]]+Tableau8[[#This Row],[PAYEE]],""))))) -> #N/A
B55: =CONCATENATE(Tableau8[[#This Row],[CT INDIRECT CHANTIER]],Tableau8[[#This Row],[NOM CHANTIER INDIRECT ST]],Tableau8[[#This Row],[Sous Traitant]],Tableau8[[#This Row],[MO INDIRECT CT]]) -> JONATHANATHIS MONS F1AOPALE | C55: A | D55: ATHIS MONS F1 | E55: JONATHAN | F55: OPALE | G55: =IFERROR(IF(B55="","",VLOOKUP(B55,Tableau16[[Ref]:[CP]],6,FALSE)),"") | H55: =IFERROR(IF(B55="","",VLOOKUP(B55,Tableau16[[Ref]:[CP]],7,FALSE)),"") | I55: =CONCATENATE(Tableau8[[#This Row],[CT INDIRECT CHANTIER]],Tableau8[[#This Row],[NOM CHANTIER INDIRECT ST]],Tableau8[[#This Row],[Sous Traitant]],Tableau8[[#This Row],[MO INDIRECT CT]],Tableau8[[#This Row],[marché]]) -> JONATHANATHIS MONS F1AOPALEMARCHEINT | J55: =COUNTIF($I$4:I55,Tableau8[[#This Row],[REF FACT]]) -> 1 | K55: 2020/0780 | L55: 44041 | M55: =IF(Tableau8[[#This Row],[Sous Traitant]]>1,VLOOKUP(Tableau8[[#This Row],[Sous Traitant]],Tableau11[[SOUS TRAITANT]:[DELAIS PAIEMENT]],4,FALSE),"") -> 45J | N55: =IF(M55="15J",EOMONTH(L55,0)+15,IF(M55="45J",EOMONTH(L55+30,0)+15,"")) -> 44089 | O55: MARCHEINT | P55: 3850.2 | Q55: FRED | S55: EN ATTENTE MODIFICATION | T55: =SUMIFS($P$4:P55,$I$4:I55,I55) -> 3850.2 | U55: =IF(Tableau8[[#This Row],[marché]]="MARCHEINT",VLOOKUP($B55,Tableau16[[Ref]:[AUTRE]],13,FALSE)-Tableau8[[#This Row],[PAYEE]],"") -> #N/A | V55: =IF(Tableau8[[#This Row],[marché]]="MARCHEEXT",VLOOKUP($B55,Tableau16[[Ref]:[AUTRE]],14,FALSE)-Tableau8[[#This Row],[PAYEE]],"") | W55: =IF(Tableau8[[#This Row],[marché]]="RG_5%",VLOOKUP($B55,Tableau16[[Ref]:[AUTRE]],15,FALSE)-Tableau8[[#This Row],[PAYEE]],"") | X55: =IF(Tableau8[[#This Row],[marché]]="BFT_5%",VLOOKUP($B55,Tableau16[[Ref]:[AUTRE]],17,FALSE)-Tableau8[[#This Row],[PAYEE]],"") | Y55: =IF(Tableau8[[#This Row],[marché]]="AUTRE",VLOOKUP($B55,Tableau16[[Ref]:[AUTRE]],19,FALSE)-Tableau8[[#This Row],[PAYEE]],"") | AA55: =IF(Tableau8[[#This Row],[marché]]="MARCHEINT",Tableau8[[#This Row],[MARCHE INT]]+Tableau8[[#This Row],[PAYEE]],IF(Tableau8[[#This Row],[marché]]="MARCHEEXT",Tableau8[[#This Row],[MARCHE EXT]]+Tableau8[[#This Row],[PAYEE]],IF(Tableau8[[#This Row],[marché]]="RG_5%",Tableau8[[#This Row],[RG_5%]]+Tableau8[[#This Row],[PAYEE]],IF(Tableau8[[#This Row],[marché]]="BFT_5%",Tableau8[[#This Row],[BFT_5%]]+Tableau8[[#This Row],[PAYEE]],IF(Tableau8[[#This Row],[marché]]="AUTRE",Tableau8[[#This Row],[AUTRE]]+Tableau8[[#This Row],[PAYEE]],""))))) -> #N/A
B56: =CONCATENATE(Tableau8[[#This Row],[CT INDIRECT CHANTIER]],Tableau8[[#This Row],[NOM CHANTIER INDIRECT ST]],Tableau8[[#This Row],[Sous Traitant]],Tableau8[[#This Row],[MO INDIRECT CT]]) -> JONATHANATHIS MONS E2AOPALE | C56: A | D56: ATHIS MONS E2 | E56: JONATHAN | F56: OPALE | G56: =IFERROR(IF(B56="","",VLOOKUP(B56,Tableau16[[Ref]:[CP]],6,FALSE)),"") | H56: =IFERROR(IF(B56="","",VLOOKUP(B56,Tableau16[[Ref]:[CP]],7,FALSE)),"") | I56: =CONCATENATE(Tableau8[[#This Row],[CT INDIRECT CHANTIER]],Tableau8[[#This Row],[NOM CHANTIER INDIRECT ST]],Tableau8[[#This Row],[Sous Traitant]],Tableau8[[#This Row],[MO INDIRECT CT]],Tableau8[[#This Row],[marché]]) -> JONATHANATHIS MONS E2AOPALEMARCHEINT | J56: =COUNTIF($I$4:I56,Tableau8[[#This Row],[REF FACT]]) -> 1 | K56: 2020/0785 | L56: 44041 | M56: =IF(Tableau8[[#This Row],[Sous Traitant]]>1,VLOOKUP(Tableau8[[#This Row],[Sous Traitant]],Tableau11[[SOUS TRAITANT]:[DELAIS PAIEMENT]],4,FALSE),"") -> 45J | N56: =IF(M56="15J",EOMONTH(L56,0)+15,IF(M56="45J",EOMONTH(L56+30,0)+15,"")) -> 44089 | O56: MARCHEINT | P56: 2197.13 | Q56: FRED | S56: EN ATTENTE MODIFICATION | T56: =SUMIFS($P$4:P56,$I$4:I56,I56) -> 2197.13 | U56: =IF(Tableau8[[#This Row],[marché]]="MARCHEINT",VLOOKUP($B56,Tableau16[[Ref]:[AUTRE]],13,FALSE)-Tableau8[[#This Row],[PAYEE]],"") -> #N/A | V56: =IF(Tableau8[[#This Row],[marché]]="MARCHEEXT",VLOOKUP($B56,Tableau16[[Ref]:[AUTRE]],14,FALSE)-Tableau8[[#This Row],[PAYEE]],"") | W56: =IF(Tableau8[[#This Row],[marché]]="RG_5%",VLOOKUP($B56,Tableau16[[Ref]:[AUTRE]],15,FALSE)-Tableau8[[#This Row],[PAYEE]],"") | X56: =IF(Tableau8[[#This Row],[marché]]="BFT_5%",VLOOKUP($B56,Tableau16[[Ref]:[AUTRE]],17,FALSE)-Tableau8[[#This Row],[PAYEE]],"") | Y56: =IF(Tableau8[[#This Row],[marché]]="AUTRE",VLOOKUP($B56,Tableau16[[Ref]:[AUTRE]],19,FALSE)-Tableau8[[#This Row],[PAYEE]],"") | AA56: =IF(Tableau8[[#This Row],[marché]]="MARCHEINT",Tableau8[[#This Row],[MARCHE INT]]+Tableau8[[#This Row],[PAYEE]],IF(Tableau8[[#This Row],[marché]]="MARCHEEXT",Tableau8[[#This Row],[MARCHE EXT]]+Tableau8[[#This Row],[PAYEE]],IF(Tableau8[[#This Row],[marché]]="RG_5%",Tableau8[[#This Row],[RG_5%]]+Tableau8[[#This Row],[PAYEE]],IF(Tableau8[[#This Row],[marché]]="BFT_5%",Tableau8[[#This Row],[BFT_5%]]+Tableau8[[#This Row],[PAYEE]],IF(Tableau8[[#This Row],[marché]]="AUTRE",Tableau8[[#This Row],[AUTRE]]+Tableau8[[#This Row],[PAYEE]],""))))) -> #N/A
B57: =CONCATENATE(Tableau8[[#This Row],[CT INDIRECT CHANTIER]],Tableau8[[#This Row],[NOM CHANTIER INDIRECT ST]],Tableau8[[#This Row],[Sous Traitant]],Tableau8[[#This Row],[MO INDIRECT CT]]) -> JONATHANATHIS MONS E2AOPALE | C57: A | D57: ATHIS MONS E2 | E57: JONATHAN | F57: OPALE | G57: =IFERROR(IF(B57="","",VLOOKUP(B57,Tableau16[[Ref]:[CP]],6,FALSE)),"") | H57: =IFERROR(IF(B57="","",VLOOKUP(B57,Tableau16[[Ref]:[CP]],7,FALSE)),"") | I57: =CONCATENATE(Tableau8[[#This Row],[CT INDIRECT CHANTIER]],Tableau8[[#This Row],[NOM CHANTIER INDIRECT ST]],Tableau8[[#This Row],[Sous Traitant]],Tableau8[[#This Row],[MO INDIRECT CT]],Tableau8[[#This Row],[marché]]) -> JONATHANATHIS MONS E2AOPALEMARCHEINT | J57: =COUNTIF($I$4:I57,Tableau8[[#This Row],[REF FACT]]) -> 2 | K57: 2020/0305 | L57: 43999 | M57: =IF(Tableau8[[#This Row],[Sous Traitant]]>1,VLOOKUP(Tableau8[[#This Row],[Sous Traitant]],Tableau11[[SOUS TRAITANT]:[DELAIS PAIEMENT]],4,FALSE),"") -> 45J | N57: =IF(M57="15J",EOMONTH(L57,0)+15,IF(M57="45J",EOMONTH(L57+30,0)+15,"")) -> 44058 | O57: MARCHEINT | P57: 400 | Q57: FRED | T57: =SUMIFS($P$4:P57,$I$4:I57,I57) -> 2597.13 | U57: =IF(Tableau8[[#This Row],[marché]]="MARCHEINT",VLOOKUP($B57,Tableau16[[Ref]:[AUTRE]],13,FALSE)-Tableau8[[#This Row],[PAYEE]],"") -> #N/A | V57: =IF(Tableau8[[#This Row],[marché]]="MARCHEEXT",VLOOKUP($B57,Tableau16[[Ref]:[AUTRE]],14,FALSE)-Tableau8[[#This Row],[PAYEE]],"") | W57: =IF(Tableau8[[#This Row],[marché]]="RG_5%",VLOOKUP($B57,Tableau16[[Ref]:[AUTRE]],15,FALSE)-Tableau8[[#This Row],[PAYEE]],"") | X57: =IF(Tableau8[[#This Row],[marché]]="BFT_5%",VLOOKUP($B57,Tableau16[[Ref]:[AUTRE]],17,FALSE)-Tableau8[[#This Row],[PAYEE]],"") | Y57: =IF(Tableau8[[#This Row],[marché]]="AUTRE",VLOOKUP($B57,Tableau16[[Ref]:[AUTRE]],19,FALSE)-Tableau8[[#This Row],[PAYEE]],"") | AA57: =IF(Tableau8[[#This Row],[marché]]="MARCHEINT",Tableau8[[#This Row],[MARCHE INT]]+Tableau8[[#This Row],[PAYEE]],IF(Tableau8[[#This Row],[marché]]="MARCHEEXT",Tableau8[[#This Row],[MARCHE EXT]]+Tableau8[[#This Row],[PAYEE]],IF(Tableau8[[#This Row],[marché]]="RG_5%",Tableau8[[#This Row],[RG_5%]]+Tableau8[[#This Row],[PAYEE]],IF(Tableau8[[#This Row],[marché]]="BFT_5%",Tableau8[[#This Row],[BFT_5%]]+Tableau8[[#This Row],[PAYEE]],IF(Tableau8[[#This Row],[marché]]="AUTRE",Tableau8[[#This Row],[AUTRE]]+Tableau8[[#This Row],[PAYEE]],""))))) -> #N/A
B58: =CONCATENATE(Tableau8[[#This Row],[CT INDIRECT CHANTIER]],Tableau8[[#This Row],[NOM CHANTIER INDIRECT ST]],Tableau8[[#This Row],[Sous Traitant]],Tableau8[[#This Row],[MO INDIRECT CT]]) -> LAURENTCLAMARTAOPALE | C58: A | D58: CLAMART | E58: LAURENT | F58: OPALE | G58: =IFERROR(IF(B58="","",VLOOKUP(B58,Tableau16[[Ref]:[CP]],6,FALSE)),"") | H58: =IFERROR(IF(B58="","",VLOOKUP(B58,Tableau16[[Ref]:[CP]],7,FALSE)),"") | I58: =CONCATENATE(Tableau8[[#This Row],[CT INDIRECT CHANTIER]],Tableau8[[#This Row],[NOM CHANTIER INDIRECT ST]],Tableau8[[#This Row],[Sous Traitant]],Tableau8[[#This Row],[MO INDIRECT CT]],Tableau8[[#This Row],[marché]]) -> LAURENTCLAMARTAOPALEMARCHEINT | J58: =COUNTIF($I$4:I58,Tableau8[[#This Row],[REF FACT]]) -> 1 | K58: 202CLMT082020 | L58: 44049 | M58: =IF(Tableau8[[#This Row],[Sous Traitant]]>1,VLOOKUP(Tableau8[[#This Row],[Sous Traitant]],Tableau11[[SOUS TRAITANT]:[DELAIS PAIEMENT]],4,FALSE),"") -> 45J | N58: =IF(M58="15J",EOMONTH(L58,0)+15,IF(M58="45J",EOMONTH(L58+30,0)+15,"")) -> 44119 | O58: MARCHEINT | P58: 1081.43 | Q58: FRED | T58: =SUMIFS($P$4:P58,$I$4:I58,I58) -> 1081.43 | U58: =IF(Tableau8[[#This Row],[marché]]="MARCHEINT",VLOOKUP($B58,Tableau16[[Ref]:[AUTRE]],13,FALSE)-Tableau8[[#This Row],[PAYEE]],"") -> #N/A | V58: =IF(Tableau8[[#This Row],[marché]]="MARCHEEXT",VLOOKUP($B58,Tableau16[[Ref]:[AUTRE]],14,FALSE)-Tableau8[[#This Row],[PAYEE]],"") | W58: =IF(Tableau8[[#This Row],[marché]]="RG_5%",VLOOKUP($B58,Tableau16[[Ref]:[AUTRE]],15,FALSE)-Tableau8[[#This Row],[PAYEE]],"") | X58: =IF(Tableau8[[#This Row],[marché]]="BFT_5%",VLOOKUP($B58,Tableau16[[Ref]:[AUTRE]],17,FALSE)-Tableau8[[#This Row],[PAYEE]],"") | Y58: =IF(Tableau8[[#This Row],[marché]]="AUTRE",VLOOKUP($B58,Tableau16[[Ref]:[AUTRE]],19,FALSE)-Tableau8[[#This Row],[PAYEE]],"") | AA58: =IF(Tableau8[[#This Row],[marché]]="MARCHEINT",Tableau8[[#This Row],[MARCHE INT]]+Tableau8[[#This Row],[PAYEE]],IF(Tableau8[[#This Row],[marché]]="MARCHEEXT",Tableau8[[#This Row],[MARCHE EXT]]+Tableau8[[#This Row],[PAYEE]],IF(Tableau8[[#This Row],[marché]]="RG_5%",Tableau8[[#This Row],[RG_5%]]+Tableau8[[#This Row],[PAYEE]],IF(Tableau8[[#This Row],[marché]]="BFT_5%",Tableau8[[#This Row],[BFT_5%]]+Tableau8[[#This Row],[PAYEE]],IF(Tableau8[[#This Row],[marché]]="AUTRE",Tableau8[[#This Row],[AUTRE]]+Tableau8[[#This Row],[PAYEE]],""))))) -> #N/A
B59: =CONCATENATE(Tableau8[[#This Row],[CT INDIRECT CHANTIER]],Tableau8[[#This Row],[NOM CHANTIER INDIRECT ST]],Tableau8[[#This Row],[Sous Traitant]],Tableau8[[#This Row],[MO INDIRECT CT]]) -> LAURENTLOGNESAZORG | C59: A | D59: LOGNES | E59: LAURENT | F59: ZORG | G59: =IFERROR(IF(B59="","",VLOOKUP(B59,Tableau16[[Ref]:[CP]],6,FALSE)),"") | H59: =IFERROR(IF(B59="","",VLOOKUP(B59,Tableau16[[Ref]:[CP]],7,FALSE)),"") | I59: =CONCATENATE(Tableau8[[#This Row],[CT INDIRECT CHANTIER]],Tableau8[[#This Row],[NOM CHANTIER INDIRECT ST]],Tableau8[[#This Row],[Sous Traitant]],Tableau8[[#This Row],[MO INDIRECT CT]],Tableau8[[#This Row],[marché]]) -> LAURENTLOGNESAZORGMARCHEINT | J59: =COUNTIF($I$4:I59,Tableau8[[#This Row],[REF FACT]]) -> 1 | K59: 167 | L59: 44048 | M59: =IF(Tableau8[[#This Row],[Sous Traitant]]>1,VLOOKUP(Tableau8[[#This Row],[Sous Traitant]],Tableau11[[SOUS TRAITANT]:[DELAIS PAIEMENT]],4,FALSE),"") -> 45J | N59: =IF(M59="15J",EOMONTH(L59,0)+15,IF(M59="45J",EOMONTH(L59+30,0)+15,"")) -> 44119 | O59: MARCHEINT | P59: 1905 | Q59: FRED | T59: =SUMIFS($P$4:P59,$I$4:I59,I59) -> 1905 | U59: =IF(Tableau8[[#This Row],[marché]]="MARCHEINT",VLOOKUP($B59,Tableau16[[Ref]:[AUTRE]],13,FALSE)-Tableau8[[#This Row],[PAYEE]],"") -> #N/A | V59: =IF(Tableau8[[#This Row],[marché]]="MARCHEEXT",VLOOKUP($B59,Tableau16[[Ref]:[AUTRE]],14,FALSE)-Tableau8[[#This Row],[PAYEE]],"") | W59: =IF(Tableau8[[#This Row],[marché]]="RG_5%",VLOOKUP($B59,Tableau16[[Ref]:[AUTRE]],15,FALSE)-Tableau8[[#This Row],[PAYEE]],"") | X59: =IF(Tableau8[[#This Row],[marché]]="BFT_5%",VLOOKUP($B59,Tableau16[[Ref]:[AUTRE]],17,FALSE)-Tableau8[[#This Row],[PAYEE]],"") | Y59: =IF(Tableau8[[#This Row],[marché]]="AUTRE",VLOOKUP($B59,Tableau16[[Ref]:[AUTRE]],19,FALSE)-Tableau8[[#This Row],[PAYEE]],"") | AA59: =IF(Tableau8[[#This Row],[marché]]="MARCHEINT",Tableau8[[#This Row],[MARCHE INT]]+Tableau8[[#This Row],[PAYEE]],IF(Tableau8[[#This Row],[marché]]="MARCHEEXT",Tableau8[[#This Row],[MARCHE EXT]]+Tableau8[[#This Row],[PAYEE]],IF(Tableau8[[#This Row],[marché]]="RG_5%",Tableau8[[#This Row],[RG_5%]]+Tableau8[[#This Row],[PAYEE]],IF(Tableau8[[#This Row],[marché]]="BFT_5%",Tableau8[[#This Row],[BFT_5%]]+Tableau8[[#This Row],[PAYEE]],IF(Tableau8[[#This Row],[marché]]="AUTRE",Tableau8[[#This Row],[AUTRE]]+Tableau8[[#This Row],[PAYEE]],""))))) -> #N/A
B60: =CONCATENATE(Tableau8[[#This Row],[CT INDIRECT CHANTIER]],Tableau8[[#This Row],[NOM CHANTIER INDIRECT ST]],Tableau8[[#This Row],[Sous Traitant]],Tableau8[[#This Row],[MO INDIRECT CT]]) -> LAURENTSERVONAZORG | C60: A | D60: SERVON | E60: LAURENT | F60: ZORG | G60: =IFERROR(IF(B60="","",VLOOKUP(B60,Tableau16[[Ref]:[CP]],6,FALSE)),"") | H60: =IFERROR(IF(B60="","",VLOOKUP(B60,Tableau16[[Ref]:[CP]],7,FALSE)),"") | I60: =CONCATENATE(Tableau8[[#This Row],[CT INDIRECT CHANTIER]],Tableau8[[#This Row],[NOM CHANTIER INDIRECT ST]],Tableau8[[#This Row],[Sous Traitant]],Tableau8[[#This Row],[MO INDIRECT CT]],Tableau8[[#This Row],[marché]]) -> LAURENTSERVONAZORGMARCHEINT | J60: =COUNTIF($I$4:I60,Tableau8[[#This Row],[REF FACT]]) -> 1 | K60: 60/07/2021 | L60: 44035 | M60: =IF(Tableau8[[#This Row],[Sous Traitant]]>1,VLOOKUP(Tableau8[[#This Row],[Sous Traitant]],Tableau11[[SOUS TRAITANT]:[DELAIS PAIEMENT]],4,FALSE),"") -> 45J | N60: =IF(M60="15J",EOMONTH(L60,0)+15,IF(M60="45J",EOMONTH(L60+30,0)+15,"")) -> 44089 | O60: MARCHEINT | P60: 1075 | Q60: FRED | S60: EN ATTENTE MODIFICATION | T60: =SUMIFS($P$4:P60,$I$4:I60,I60) -> 1075 | U60: =IF(Tableau8[[#This Row],[marché]]="MARCHEINT",VLOOKUP($B60,Tableau16[[Ref]:[AUTRE]],13,FALSE)-Tableau8[[#This Row],[PAYEE]],"") -> #N/A | V60: =IF(Tableau8[[#This Row],[marché]]="MARCHEEXT",VLOOKUP($B60,Tableau16[[Ref]:[AUTRE]],14,FALSE)-Tableau8[[#This Row],[PAYEE]],"") | W60: =IF(Tableau8[[#This Row],[marché]]="RG_5%",VLOOKUP($B60,Tableau16[[Ref]:[AUTRE]],15,FALSE)-Tableau8[[#This Row],[PAYEE]],"") | X60: =IF(Tableau8[[#This Row],[marché]]="BFT_5%",VLOOKUP($B60,Tableau16[[Ref]:[AUTRE]],17,FALSE)-Tableau8[[#This Row],[PAYEE]],"") | Y60: =IF(Tableau8[[#This Row],[marché]]="AUTRE",VLOOKUP($B60,Tableau16[[Ref]:[AUTRE]],19,FALSE)-Tableau8[[#This Row],[PAYEE]],"") | AA60: =IF(Tableau8[[#This Row],[marché]]="MARCHEINT",Tableau8[[#This Row],[MARCHE INT]]+Tableau8[[#This Row],[PAYEE]],IF(Tableau8[[#This Row],[marché]]="MARCHEEXT",Tableau8[[#This Row],[MARCHE EXT]]+Tableau8[[#This Row],[PAYEE]],IF(Tableau8[[#This Row],[marché]]="RG_5%",Tableau8[[#This Row],[RG_5%]]+Tableau8[[#This Row],[PAYEE]],IF(Tableau8[[#This Row],[marché]]="BFT_5%",Tableau8[[#This Row],[BFT_5%]]+Tableau8[[#This Row],[PAYEE]],IF(Tableau8[[#This Row],[marché]]="AUTRE",Tableau8[[#This Row],[AUTRE]]+Tableau8[[#This Row],[PAYEE]],""))))) -> #N/A
B61: =CONCATENATE(Tableau8[[#This Row],[CT INDIRECT CHANTIER]],Tableau8[[#This Row],[NOM CHANTIER INDIRECT ST]],Tableau8[[#This Row],[Sous Traitant]],Tableau8[[#This Row],[MO INDIRECT CT]]) -> LAURENTMOISSYAZORG | C61: A | D61: MOISSY | E61: LAURENT | F61: ZORG | G61: =IFERROR(IF(B61="","",VLOOKUP(B61,Tableau16[[Ref]:[CP]],6,FALSE)),"") | H61: =IFERROR(IF(B61="","",VLOOKUP(B61,Tableau16[[Ref]:[CP]],7,FALSE)),"") | I61: =CONCATENATE(Tableau8[[#This Row],[CT INDIRECT CHANTIER]],Tableau8[[#This Row],[NOM CHANTIER INDIRECT ST]],Tableau8[[#This Row],[Sous Traitant]],Tableau8[[#This Row],[MO INDIRECT CT]],Tableau8[[#This Row],[marché]]) -> LAURENTMOISSYAZORGMARCHEINT | J61: =COUNTIF($I$4:I61,Tableau8[[#This Row],[REF FACT]]) -> 1 | K61: 058/05/2020 | L61: 43982 | M61: =IF(Tableau8[[#This Row],[Sous Traitant]]>1,VLOOKUP(Tableau8[[#This Row],[Sous Traitant]],Tableau11[[SOUS TRAITANT]:[DELAIS PAIEMENT]],4,FALSE),"") -> 45J | N61: =IF(M61="15J",EOMONTH(L61,0)+15,IF(M61="45J",EOMONTH(L61+30,0)+15,"")) -> 44027 | O61: MARCHEINT | P61: 770 | Q61: FRED | S61: EN ATTENTE MODIFICATION | T61: =SUMIFS($P$4:P61,$I$4:I61,I61) -> 770 | U61: =IF(Tableau8[[#This Row],[marché]]="MARCHEINT",VLOOKUP($B61,Tableau16[[Ref]:[AUTRE]],13,FALSE)-Tableau8[[#This Row],[PAYEE]],"") -> #N/A | V61: =IF(Tableau8[[#This Row],[marché]]="MARCHEEXT",VLOOKUP($B61,Tableau16[[Ref]:[AUTRE]],14,FALSE)-Tableau8[[#This Row],[PAYEE]],"") | W61: =IF(Tableau8[[#This Row],[marché]]="RG_5%",VLOOKUP($B61,Tableau16[[Ref]:[AUTRE]],15,FALSE)-Tableau8[[#This Row],[PAYEE]],"") | X61: =IF(Tableau8[[#This Row],[marché]]="BFT_5%",VLOOKUP($B61,Tableau16[[Ref]:[AUTRE]],17,FALSE)-Tableau8[[#This Row],[PAYEE]],"") | Y61: =IF(Tableau8[[#This Row],[marché]]="AUTRE",VLOOKUP($B61,Tableau16[[Ref]:[AUTRE]],19,FALSE)-Tableau8[[#This Row],[PAYEE]],"") | AA61: =IF(Tableau8[[#This Row],[marché]]="MARCHEINT",Tableau8[[#This Row],[MARCHE INT]]+Tableau8[[#This Row],[PAYEE]],IF(Tableau8[[#This Row],[marché]]="MARCHEEXT",Tableau8[[#This Row],[MARCHE EXT]]+Tableau8[[#This Row],[PAYEE]],IF(Tableau8[[#This Row],[marché]]="RG_5%",Tableau8[[#This Row],[RG_5%]]+Tableau8[[#This Row],[PAYEE]],IF(Tableau8[[#This Row],[marché]]="BFT_5%",Tableau8[[#This Row],[BFT_5%]]+Tableau8[[#This Row],[PAYEE]],IF(Tableau8[[#This Row],[marché]]="AUTRE",Tableau8[[#This Row],[AUTRE]]+Tableau8[[#This Row],[PAYEE]],""))))) -> #N/A
B62: =CONCATENATE(Tableau8[[#This Row],[CT INDIRECT CHANTIER]],Tableau8[[#This Row],[NOM CHANTIER INDIRECT ST]],Tableau8[[#This Row],[Sous Traitant]],Tableau8[[#This Row],[MO INDIRECT CT]]) -> LAURENTSERVONAZORG | C62: A | D62: SERVON | E62: LAURENT | F62: ZORG | G62: =IFERROR(IF(B62="","",VLOOKUP(B62,Tableau16[[Ref]:[CP]],6,FALSE)),"") | H62: =IFERROR(IF(B62="","",VLOOKUP(B62,Tableau16[[Ref]:[CP]],7,FALSE)),"") | I62: =CONCATENATE(Tableau8[[#This Row],[CT INDIRECT CHANTIER]],Tableau8[[#This Row],[NOM CHANTIER INDIRECT ST]],Tableau8[[#This Row],[Sous Traitant]],Tableau8[[#This Row],[MO INDIRECT CT]],Tableau8[[#This Row],[marché]]) -> LAURENTSERVONAZORGMARCHEINT | J62: =COUNTIF($I$4:I62,Tableau8[[#This Row],[REF FACT]]) -> 2 | K62: 59/06/2020 | L62: 44012 | M62: =IF(Tableau8[[#This Row],[Sous Traitant]]>1,VLOOKUP(Tableau8[[#This Row],[Sous Traitant]],Tableau11[[SOUS TRAITANT]:[DELAIS PAIEMENT]],4,FALSE),"") -> 45J | N62: =IF(M62="15J",EOMONTH(L62,0)+15,IF(M62="45J",EOMONTH(L62+30,0)+15,"")) -> 44058 | O62: MARCHEINT | P62: 1572.12 | Q62: FRED | S62: EN ATTENTE MODIFICATION | T62: =SUMIFS($P$4:P62,$I$4:I62,I62) -> 2647.12 | U62: =IF(Tableau8[[#This Row],[marché]]="MARCHEINT",VLOOKUP($B62,Tableau16[[Ref]:[AUTRE]],13,FALSE)-Tableau8[[#This Row],[PAYEE]],"") -> #N/A | V62: =IF(Tableau8[[#This Row],[marché]]="MARCHEEXT",VLOOKUP($B62,Tableau16[[Ref]:[AUTRE]],14,FALSE)-Tableau8[[#This Row],[PAYEE]],"") | W62: =IF(Tableau8[[#This Row],[marché]]="RG_5%",VLOOKUP($B62,Tableau16[[Ref]:[AUTRE]],15,FALSE)-Tableau8[[#This Row],[PAYEE]],"") | X62: =IF(Tableau8[[#This Row],[marché]]="BFT_5%",VLOOKUP($B62,Tableau16[[Ref]:[AUTRE]],17,FALSE)-Tableau8[[#This Row],[PAYEE]],"") | Y62: =IF(Tableau8[[#This Row],[marché]]="AUTRE",VLOOKUP($B62,Tableau16[[Ref]:[AUTRE]],19,FALSE)-Tableau8[[#This Row],[PAYEE]],"") | AA62: =IF(Tableau8[[#This Row],[marché]]="MARCHEINT",Tableau8[[#This Row],[MARCHE INT]]+Tableau8[[#This Row],[PAYEE]],IF(Tableau8[[#This Row],[marché]]="MARCHEEXT",Tableau8[[#This Row],[MARCHE EXT]]+Tableau8[[#This Row],[PAYEE]],IF(Tableau8[[#This Row],[marché]]="RG_5%",Tableau8[[#This Row],[RG_5%]]+Tableau8[[#This Row],[PAYEE]],IF(Tableau8[[#This Row],[marché]]="BFT_5%",Tableau8[[#This Row],[BFT_5%]]+Tableau8[[#This Row],[PAYEE]],IF(Tableau8[[#This Row],[marché]]="AUTRE",Tableau8[[#This Row],[AUTRE]]+Tableau8[[#This Row],[PAYEE]],""))))) -> #N/A
B63: =CONCATENATE(Tableau8[[#This Row],[CT INDIRECT CHANTIER]],Tableau8[[#This Row],[NOM CHANTIER INDIRECT ST]],Tableau8[[#This Row],[Sous Traitant]],Tableau8[[#This Row],[MO INDIRECT CT]]) -> LAURENTSARCELLESAZORG | C63: A | D63: SARCELLES | E63: LAURENT | F63: ZORG | G63: =IFERROR(IF(B63="","",VLOOKUP(B63,Tableau16[[Ref]:[CP]],6,FALSE)),"") | H63: =IFERROR(IF(B63="","",VLOOKUP(B63,Tableau16[[Ref]:[CP]],7,FALSE)),"") | I63: =CONCATENATE(Tableau8[[#This Row],[CT INDIRECT CHANTIER]],Tableau8[[#This Row],[NOM CHANTIER INDIRECT ST]],Tableau8[[#This Row],[Sous Traitant]],Tableau8[[#This Row],[MO INDIRECT CT]],Tableau8[[#This Row],[marché]]) -> LAURENTSARCELLESAZORGMARCHEINT | J63: =COUNTIF($I$4:I63,Tableau8[[#This Row],[REF FACT]]) -> 1 | K63: 2020/516 | L63: 44047 | M63: =IF(Tableau8[[#This Row],[Sous Traitant]]>1,VLOOKUP(Tableau8[[#This Row],[Sous Traitant]],Tableau11[[SOUS TRAITANT]:[DELAIS PAIEMENT]],4,FALSE),"") -> 45J | N63: =IF(M63="15J",EOMONTH(L63,0)+15,IF(M63="45J",EOMONTH(L63+30,0)+15,"")) -> 44119 | O63: MARCHEINT | P63: 1160 | Q63: FRED | T63: =SUMIFS($P$4:P63,$I$4:I63,I63) -> 1160 | U63: =IF(Tableau8[[#This Row],[marché]]="MARCHEINT",VLOOKUP($B63,Tableau16[[Ref]:[AUTRE]],13,FALSE)-Tableau8[[#This Row],[PAYEE]],"") -> #N/A | V63: =IF(Tableau8[[#This Row],[marché]]="MARCHEEXT",VLOOKUP($B63,Tableau16[[Ref]:[AUTRE]],14,FALSE)-Tableau8[[#This Row],[PAYEE]],"") | W63: =IF(Tableau8[[#This Row],[marché]]="RG_5%",VLOOKUP($B63,Tableau16[[Ref]:[AUTRE]],15,FALSE)-Tableau8[[#This Row],[PAYEE]],"") | X63: =IF(Tableau8[[#This Row],[marché]]="BFT_5%",VLOOKUP($B63,Tableau16[[Ref]:[AUTRE]],17,FALSE)-Tableau8[[#This Row],[PAYEE]],"") | Y63: =IF(Tableau8[[#This Row],[marché]]="AUTRE",VLOOKUP($B63,Tableau16[[Ref]:[AUTRE]],19,FALSE)-Tableau8[[#This Row],[PAYEE]],"") | AA63: =IF(Tableau8[[#This Row],[marché]]="MARCHEINT",Tableau8[[#This Row],[MARCHE INT]]+Tableau8[[#This Row],[PAYEE]],IF(Tableau8[[#This Row],[marché]]="MARCHEEXT",Tableau8[[#This Row],[MARCHE EXT]]+Tableau8[[#This Row],[PAYEE]],IF(Tableau8[[#This Row],[marché]]="RG_5%",Tableau8[[#This Row],[RG_5%]]+Tableau8[[#This Row],[PAYEE]],IF(Tableau8[[#This Row],[marché]]="BFT_5%",Tableau8[[#This Row],[BFT_5%]]+Tableau8[[#This Row],[PAYEE]],IF(Tableau8[[#This Row],[marché]]="AUTRE",Tableau8[[#This Row],[AUTRE]]+Tableau8[[#This Row],[PAYEE]],""))))) -> #N/A
B64: =CONCATENATE(Tableau8[[#This Row],[CT INDIRECT CHANTIER]],Tableau8[[#This Row],[NOM CHANTIER INDIRECT ST]],Tableau8[[#This Row],[Sous Traitant]],Tableau8[[#This Row],[MO INDIRECT CT]]) -> LAURENTLOGNESAZORG | C64: A | D64: LOGNES | E64: LAURENT | F64: ZORG | G64: =IFERROR(IF(B64="","",VLOOKUP(B64,Tableau16[[Ref]:[CP]],6,FALSE)),"") | H64: =IFERROR(IF(B64="","",VLOOKUP(B64,Tableau16[[Ref]:[CP]],7,FALSE)),"") | I64: =CONCATENATE(Tableau8[[#This Row],[CT INDIRECT CHANTIER]],Tableau8[[#This Row],[NOM CHANTIER INDIRECT ST]],Tableau8[[#This Row],[Sous Traitant]],Tableau8[[#This Row],[MO INDIRECT CT]],Tableau8[[#This Row],[marché]]) -> LAURENTLOGNESAZORGMARCHEINT | J64: =COUNTIF($I$4:I64,Tableau8[[#This Row],[REF FACT]]) -> 2 | K64: 139 | L64: 44012 | M64: =IF(Tableau8[[#This Row],[Sous Traitant]]>1,VLOOKUP(Tableau8[[#This Row],[Sous Traitant]],Tableau11[[SOUS TRAITANT]:[DELAIS PAIEMENT]],4,FALSE),"") -> 45J | N64: =IF(M64="15J",EOMONTH(L64,0)+15,IF(M64="45J",EOMONTH(L64+30,0)+15,"")) -> 44058 | O64: MARCHEINT | P64: 6583.5 | Q64: FRED | R64: 43981 | T64: =SUMIFS($P$4:P64,$I$4:I64,I64) -> 8488.5 | U64: =IF(Tableau8[[#This Row],[marché]]="MARCHEINT",VLOOKUP($B64,Tableau16[[Ref]:[AUTRE]],13,FALSE)-Tableau8[[#This Row],[PAYEE]],"") -> #N/A | V64: =IF(Tableau8[[#This Row],[marché]]="MARCHEEXT",VLOOKUP($B64,Tableau16[[Ref]:[AUTRE]],14,FALSE)-Tableau8[[#This Row],[PAYEE]],"") | W64: =IF(Tableau8[[#This Row],[marché]]="RG_5%",VLOOKUP($B64,Tableau16[[Ref]:[AUTRE]],15,FALSE)-Tableau8[[#This Row],[PAYEE]],"") | X64: =IF(Tableau8[[#This Row],[marché]]="BFT_5%",VLOOKUP($B64,Tableau16[[Ref]:[AUTRE]],17,FALSE)-Tableau8[[#This Row],[PAYEE]],"") | Y64: =IF(Tableau8[[#This Row],[marché]]="AUTRE",VLOOKUP($B64,Tableau16[[Ref]:[AUTRE]],19,FALSE)-Tableau8[[#This Row],[PAYEE]],"") | AA64: =IF(Tableau8[[#This Row],[marché]]="MARCHEINT",Tableau8[[#This Row],[MARCHE INT]]+Tableau8[[#This Row],[PAYEE]],IF(Tableau8[[#This Row],[marché]]="MARCHEEXT",Tableau8[[#This Row],[MARCHE EXT]]+Tableau8[[#This Row],[PAYEE]],IF(Tableau8[[#This Row],[marché]]="RG_5%",Tableau8[[#This Row],[RG_5%]]+Tableau8[[#This Row],[PAYEE]],IF(Tableau8[[#This Row],[marché]]="BFT_5%",Tableau8[[#This Row],[BFT_5%]]+Tableau8[[#This Row],[PAYEE]],IF(Tableau8[[#This Row],[marché]]="AUTRE",Tableau8[[#This Row],[AUTRE]]+Tableau8[[#This Row],[PAYEE]],""))))) -> #N/A
B65: =CONCATENATE(Tableau8[[#This Row],[CT INDIRECT CHANTIER]],Tableau8[[#This Row],[NOM CHANTIER INDIRECT ST]],Tableau8[[#This Row],[Sous Traitant]],Tableau8[[#This Row],[MO INDIRECT CT]]) -> LAURENTLOGNESAZORG | C65: A | D65: LOGNES | E65: LAURENT | F65: ZORG | G65: =IFERROR(IF(B65="","",VLOOKUP(B65,Tableau16[[Ref]:[CP]],6,FALSE)),"") | H65: =IFERROR(IF(B65="","",VLOOKUP(B65,Tableau16[[Ref]:[CP]],7,FALSE)),"") | I65: =CONCATENATE(Tableau8[[#This Row],[CT INDIRECT CHANTIER]],Tableau8[[#This Row],[NOM CHANTIER INDIRECT ST]],Tableau8[[#This Row],[Sous Traitant]],Tableau8[[#This Row],[MO INDIRECT CT]],Tableau8[[#This Row],[marché]]) -> LAURENTLOGNESAZORGMARCHEINT | J65: =COUNTIF($I$4:I65,Tableau8[[#This Row],[REF FACT]]) -> 3 | K65: 140 | L65: 44042 | M65: =IF(Tableau8[[#This Row],[Sous Traitant]]>1,VLOOKUP(Tableau8[[#This Row],[Sous Traitant]],Tableau11[[SOUS TRAITANT]:[DELAIS PAIEMENT]],4,FALSE),"") -> 45J | N65: =IF(M65="15J",EOMONTH(L65,0)+15,IF(M65="45J",EOMONTH(L65+30,0)+15,"")) -> 44089 | O65: MARCHEINT | P65: 2824.45 | Q65: FRED | R65: 43982 | T65: =SUMIFS($P$4:P65,$I$4:I65,I65) -> 11312.95 | U65: =IF(Tableau8[[#This Row],[marché]]="MARCHEINT",VLOOKUP($B65,Tableau16[[Ref]:[AUTRE]],13,FALSE)-Tableau8[[#This Row],[PAYEE]],"") -> #N/A | V65: =IF(Tableau8[[#This Row],[marché]]="MARCHEEXT",VLOOKUP($B65,Tableau16[[Ref]:[AUTRE]],14,FALSE)-Tableau8[[#This Row],[PAYEE]],"") | W65: =IF(Tableau8[[#This Row],[marché]]="RG_5%",VLOOKUP($B65,Tableau16[[Ref]:[AUTRE]],15,FALSE)-Tableau8[[#This Row],[PAYEE]],"") | X65: =IF(Tableau8[[#This Row],[marché]]="BFT_5%",VLOOKUP($B65,Tableau16[[Ref]:[AUTRE]],17,FALSE)-Tableau8[[#This Row],[PAYEE]],"") | Y65: =IF(Tableau8[[#This Row],[marché]]="AUTRE",VLOOKUP($B65,Tableau16[[Ref]:[AUTRE]],19,FALSE)-Tableau8[[#This Row],[PAYEE]],"") | AA65: =IF(Tableau8[[#This Row],[marché]]="MARCHEINT",Tableau8[[#This Row],[MARCHE INT]]+Tableau8[[#This Row],[PAYEE]],IF(Tableau8[[#This Row],[marché]]="MARCHEEXT",Tableau8[[#This Row],[MARCHE EXT]]+Tableau8[[#This Row],[PAYEE]],IF(Tableau8[[#This Row],[marché]]="RG_5%",Tableau8[[#This Row],[RG_5%]]+Tableau8[[#This Row],[PAYEE]],IF(Tableau8[[#This Row],[marché]]="BFT_5%",Tableau8[[#This Row],[BFT_5%]]+Tableau8[[#This Row],[PAYEE]],IF(Tableau8[[#This Row],[marché]]="AUTRE",Tableau8[[#This Row],[AUTRE]]+Tableau8[[#This Row],[PAYEE]],""))))) -> #N/A
B66: =CONCATENATE(Tableau8[[#This Row],[CT INDIRECT CHANTIER]],Tableau8[[#This Row],[NOM CHANTIER INDIRECT ST]],Tableau8[[#This Row],[Sous Traitant]],Tableau8[[#This Row],[MO INDIRECT CT]]) -> SEBMONTFERMEILAZORG | C66: A | D66: MONTFERMEIL | E66: SEB | F66: ZORG | G66: =IFERROR(IF(B66="","",VLOOKUP(B66,Tableau16[[Ref]:[CP]],6,FALSE)),"") | H66: =IFERROR(IF(B66="","",VLOOKUP(B66,Tableau16[[Ref]:[CP]],7,FALSE)),"") | I66: =CONCATENATE(Tableau8[[#This Row],[CT INDIRECT CHANTIER]],Tableau8[[#This Row],[NOM CHANTIER INDIRECT ST]],Tableau8[[#This Row],[Sous Traitant]],Tableau8[[#This Row],[MO INDIRECT CT]],Tableau8[[#This Row],[marché]]) -> SEBMONTFERMEILAZORGMARCHEINT | J66: =COUNTIF($I$4:I66,Tableau8[[#This Row],[REF FACT]]) -> 1 | K66: 10,620 | L66: 44008 | M66: =IF(Tableau8[[#This Row],[Sous Traitant]]>1,VLOOKUP(Tableau8[[#This Row],[Sous Traitant]],Tableau11[[SOUS TRAITANT]:[DELAIS PAIEMENT]],4,FALSE),"") -> 45J | N66: =IF(M66="15J",EOMONTH(L66,0)+15,IF(M66="45J",EOMONTH(L66+30,0)+15,"")) -> 44058 | O66: MARCHEINT | P66: 3558.22 | Q66: FRED | S66: EN ATTENTE MODIFICATION | T66: =SUMIFS($P$4:P66,$I$4:I66,I66) -> 3558.22 | U66: =IF(Tableau8[[#This Row],[marché]]="MARCHEINT",VLOOKUP($B66,Tableau16[[Ref]:[AUTRE]],13,FALSE)-Tableau8[[#This Row],[PAYEE]],"") -> #N/A | V66: =IF(Tableau8[[#This Row],[marché]]="MARCHEEXT",VLOOKUP($B66,Tableau16[[Ref]:[AUTRE]],14,FALSE)-Tableau8[[#This Row],[PAYEE]],"") | W66: =IF(Tableau8[[#This Row],[marché]]="RG_5%",VLOOKUP($B66,Tableau16[[Ref]:[AUTRE]],15,FALSE)-Tableau8[[#This Row],[PAYEE]],"") | X66: =IF(Tableau8[[#This Row],[marché]]="BFT_5%",VLOOKUP($B66,Tableau16[[Ref]:[AUTRE]],17,FALSE)-Tableau8[[#This Row],[PAYEE]],"") | Y66: =IF(Tableau8[[#This Row],[marché]]="AUTRE",VLOOKUP($B66,Tableau16[[Ref]:[AUTRE]],19,FALSE)-Tableau8[[#This Row],[PAYEE]],"") | AA66: =IF(Tableau8[[#This Row],[marché]]="MARCHEINT",Tableau8[[#This Row],[MARCHE INT]]+Tableau8[[#This Row],[PAYEE]],IF(Tableau8[[#This Row],[marché]]="MARCHEEXT",Tableau8[[#This Row],[MARCHE EXT]]+Tableau8[[#This Row],[PAYEE]],IF(Tableau8[[#This Row],[marché]]="RG_5%",Tableau8[[#This Row],[RG_5%]]+Tableau8[[#This Row],[PAYEE]],IF(Tableau8[[#This Row],[marché]]="BFT_5%",Tableau8[[#This Row],[BFT_5%]]+Tableau8[[#This Row],[PAYEE]],IF(Tableau8[[#This Row],[marché]]="AUTRE",Tableau8[[#This Row],[AUTRE]]+Tableau8[[#This Row],[PAYEE]],""))))) -> #N/A
B67: =CONCATENATE(Tableau8[[#This Row],[CT INDIRECT CHANTIER]],Tableau8[[#This Row],[NOM CHANTIER INDIRECT ST]],Tableau8[[#This Row],[Sous Traitant]],Tableau8[[#This Row],[MO INDIRECT CT]]) -> SEBPUTEAUXAZORG | C67: A | D67: PUTEAUX | E67: SEB | F67: ZORG | G67: =IFERROR(IF(B67="","",VLOOKUP(B67,Tableau16[[Ref]:[CP]],6,FALSE)),"") | H67: =IFERROR(IF(B67="","",VLOOKUP(B67,Tableau16[[Ref]:[CP]],7,FALSE)),"") | I67: =CONCATENATE(Tableau8[[#This Row],[CT INDIRECT CHANTIER]],Tableau8[[#This Row],[NOM CHANTIER INDIRECT ST]],Tableau8[[#This Row],[Sous Traitant]],Tableau8[[#This Row],[MO INDIRECT CT]],Tableau8[[#This Row],[marché]]) -> SEBPUTEAUXAZORGMARCHEINT | J67: =COUNTIF($I$4:I67,Tableau8[[#This Row],[REF FACT]]) -> 1 | K67: FA0036 | L67: 43951 | M67: =IF(Tableau8[[#This Row],[Sous Traitant]]>1,VLOOKUP(Tableau8[[#This Row],[Sous Traitant]],Tableau11[[SOUS TRAITANT]:[DELAIS PAIEMENT]],4,FALSE),"") -> 45J | N67: =IF(M67="15J",EOMONTH(L67,0)+15,IF(M67="45J",EOMONTH(L67+30,0)+15,"")) -> 43997 | O67: MARCHEINT | P67: 6200 | Q67: FRED | S67: EN ATTENTE MODIFICATION | T67: =SUMIFS($P$4:P67,$I$4:I67,I67) -> 6200 | U67: =IF(Tableau8[[#This Row],[marché]]="MARCHEINT",VLOOKUP($B67,Tableau16[[Ref]:[AUTRE]],13,FALSE)-Tableau8[[#This Row],[PAYEE]],"") -> #N/A | V67: =IF(Tableau8[[#This Row],[marché]]="MARCHEEXT",VLOOKUP($B67,Tableau16[[Ref]:[AUTRE]],14,FALSE)-Tableau8[[#This Row],[PAYEE]],"") | W67: =IF(Tableau8[[#This Row],[marché]]="RG_5%",VLOOKUP($B67,Tableau16[[Ref]:[AUTRE]],15,FALSE)-Tableau8[[#This Row],[PAYEE]],"") | X67: =IF(Tableau8[[#This Row],[marché]]="BFT_5%",VLOOKUP($B67,Tableau16[[Ref]:[AUTRE]],17,FALSE)-Tableau8[[#This Row],[PAYEE]],"") | Y67: =IF(Tableau8[[#This Row],[marché]]="AUTRE",VLOOKUP($B67,Tableau16[[Ref]:[AUTRE]],19,FALSE)-Tableau8[[#This Row],[PAYEE]],"") | AA67: =IF(Tableau8[[#This Row],[marché]]="MARCHEINT",Tableau8[[#This Row],[MARCHE INT]]+Tableau8[[#This Row],[PAYEE]],IF(Tableau8[[#This Row],[marché]]="MARCHEEXT",Tableau8[[#This Row],[MARCHE EXT]]+Tableau8[[#This Row],[PAYEE]],IF(Tableau8[[#This Row],[marché]]="RG_5%",Tableau8[[#This Row],[RG_5%]]+Tableau8[[#This Row],[PAYEE]],IF(Tableau8[[#This Row],[marché]]="BFT_5%",Tableau8[[#This Row],[BFT_5%]]+Tableau8[[#This Row],[PAYEE]],IF(Tableau8[[#This Row],[marché]]="AUTRE",Tableau8[[#This Row],[AUTRE]]+Tableau8[[#This Row],[PAYEE]],""))))) -> #N/A
B68: =CONCATENATE(Tableau8[[#This Row],[CT INDIRECT CHANTIER]],Tableau8[[#This Row],[NOM CHANTIER INDIRECT ST]],Tableau8[[#This Row],[Sous Traitant]],Tableau8[[#This Row],[MO INDIRECT CT]]) -> SEBBONDOUFLEAZORG | C68: A | D68: BONDOUFLE | E68: SEB | F68: ZORG | G68: =IFERROR(IF(B68="","",VLOOKUP(B68,Tableau16[[Ref]:[CP]],6,FALSE)),"") | H68: =IFERROR(IF(B68="","",VLOOKUP(B68,Tableau16[[Ref]:[CP]],7,FALSE)),"") | I68: =CONCATENATE(Tableau8[[#This Row],[CT INDIRECT CHANTIER]],Tableau8[[#This Row],[NOM CHANTIER INDIRECT ST]],Tableau8[[#This Row],[Sous Traitant]],Tableau8[[#This Row],[MO INDIRECT CT]],Tableau8[[#This Row],[marché]]) -> SEBBONDOUFLEAZORGMARCHEINT | J68: =COUNTIF($I$4:I68,Tableau8[[#This Row],[REF FACT]]) -> 1 | K68: 20/08/1 | L68: 43644 | M68: =IF(Tableau8[[#This Row],[Sous Traitant]]>1,VLOOKUP(Tableau8[[#This Row],[Sous Traitant]],Tableau11[[SOUS TRAITANT]:[DELAIS PAIEMENT]],4,FALSE),"") -> 45J | N68: =IF(M68="15J",EOMONTH(L68,0)+15,IF(M68="45J",EOMONTH(L68+30,0)+15,"")) -> 43692 | O68: MARCHEINT | P68: 6925 | Q68: FRED | S68: EN ATTENTE MODIFICATION | T68: =SUMIFS($P$4:P68,$I$4:I68,I68) -> 6925 | U68: =IF(Tableau8[[#This Row],[marché]]="MARCHEINT",VLOOKUP($B68,Tableau16[[Ref]:[AUTRE]],13,FALSE)-Tableau8[[#This Row],[PAYEE]],"") -> #N/A | V68: =IF(Tableau8[[#This Row],[marché]]="MARCHEEXT",VLOOKUP($B68,Tableau16[[Ref]:[AUTRE]],14,FALSE)-Tableau8[[#This Row],[PAYEE]],"") | W68: =IF(Tableau8[[#This Row],[marché]]="RG_5%",VLOOKUP($B68,Tableau16[[Ref]:[AUTRE]],15,FALSE)-Tableau8[[#This Row],[PAYEE]],"") | X68: =IF(Tableau8[[#This Row],[marché]]="BFT_5%",VLOOKUP($B68,Tableau16[[Ref]:[AUTRE]],17,FALSE)-Tableau8[[#This Row],[PAYEE]],"") | Y68: =IF(Tableau8[[#This Row],[marché]]="AUTRE",VLOOKUP($B68,Tableau16[[Ref]:[AUTRE]],19,FALSE)-Tableau8[[#This Row],[PAYEE]],"") | AA68: =IF(Tableau8[[#This Row],[marché]]="MARCHEINT",Tableau8[[#This Row],[MARCHE INT]]+Tableau8[[#This Row],[PAYEE]],IF(Tableau8[[#This Row],[marché]]="MARCHEEXT",Tableau8[[#This Row],[MARCHE EXT]]+Tableau8[[#This Row],[PAYEE]],IF(Tableau8[[#This Row],[marché]]="RG_5%",Tableau8[[#This Row],[RG_5%]]+Tableau8[[#This Row],[PAYEE]],IF(Tableau8[[#This Row],[marché]]="BFT_5%",Tableau8[[#This Row],[BFT_5%]]+Tableau8[[#This Row],[PAYEE]],IF(Tableau8[[#This Row],[marché]]="AUTRE",Tableau8[[#This Row],[AUTRE]]+Tableau8[[#This Row],[PAYEE]],""))))) -> #N/A
B69: =CONCATENATE(Tableau8[[#This Row],[CT INDIRECT CHANTIER]],Tableau8[[#This Row],[NOM CHANTIER INDIRECT ST]],Tableau8[[#This Row],[Sous Traitant]],Tableau8[[#This Row],[MO INDIRECT CT]]) -> SEBCOMBS ICADEAZORG | C69: A | D69: COMBS ICADE | E69: SEB | F69: ZORG | G69: =IFERROR(IF(B69="","",VLOOKUP(B69,Tableau16[[Ref]:[CP]],6,FALSE)),"") | H69: =IFERROR(IF(B69="","",VLOOKUP(B69,Tableau16[[Ref]:[CP]],7,FALSE)),"") | I69: =CONCATENATE(Tableau8[[#This Row],[CT INDIRECT CHANTIER]],Tableau8[[#This Row],[NOM CHANTIER INDIRECT ST]],Tableau8[[#This Row],[Sous Traitant]],Tableau8[[#This Row],[MO INDIRECT CT]],Tableau8[[#This Row],[marché]]) -> SEBCOMBS ICADEAZORGMARCHEINT | J69: =COUNTIF($I$4:I69,Tableau8[[#This Row],[REF FACT]]) -> 1 | K69: F10-174 | L69: 44043 | M69: =IF(Tableau8[[#This Row],[Sous Traitant]]>1,VLOOKUP(Tableau8[[#This Row],[Sous Traitant]],Tableau11[[SOUS TRAITANT]:[DELAIS PAIEMENT]],4,FALSE),"") -> 45J | N69: =IF(M69="15J",EOMONTH(L69,0)+15,IF(M69="45J",EOMONTH(L69+30,0)+15,"")) -> 44089 | O69: MARCHEINT | P69: 10979.72 | Q69: FRED | S69: EN ATTENTE MODIFICATION | T69: =SUMIFS($P$4:P69,$I$4:I69,I69) -> 10979.72 | U69: =IF(Tableau8[[#This Row],[marché]]="MARCHEINT",VLOOKUP($B69,Tableau16[[Ref]:[AUTRE]],13,FALSE)-Tableau8[[#This Row],[PAYEE]],"") -> #N/A | V69: =IF(Tableau8[[#This Row],[marché]]="MARCHEEXT",VLOOKUP($B69,Tableau16[[Ref]:[AUTRE]],14,FALSE)-Tableau8[[#This Row],[PAYEE]],"") | W69: =IF(Tableau8[[#This Row],[marché]]="RG_5%",VLOOKUP($B69,Tableau16[[Ref]:[AUTRE]],15,FALSE)-Tableau8[[#This Row],[PAYEE]],"") | X69: =IF(Tableau8[[#This Row],[marché]]="BFT_5%",VLOOKUP($B69,Tableau16[[Ref]:[AUTRE]],17,FALSE)-Tableau8[[#This Row],[PAYEE]],"") | Y69: =IF(Tableau8[[#This Row],[marché]]="AUTRE",VLOOKUP($B69,Tableau16[[Ref]:[AUTRE]],19,FALSE)-Tableau8[[#This Row],[PAYEE]],"") | AA69: =IF(Tableau8[[#This Row],[marché]]="MARCHEINT",Tableau8[[#This Row],[MARCHE INT]]+Tableau8[[#This Row],[PAYEE]],IF(Tableau8[[#This Row],[marché]]="MARCHEEXT",Tableau8[[#This Row],[MARCHE EXT]]+Tableau8[[#This Row],[PAYEE]],IF(Tableau8[[#This Row],[marché]]="RG_5%",Tableau8[[#This Row],[RG_5%]]+Tableau8[[#This Row],[PAYEE]],IF(Tableau8[[#This Row],[marché]]="BFT_5%",Tableau8[[#This Row],[BFT_5%]]+Tableau8[[#This Row],[PAYEE]],IF(Tableau8[[#This Row],[marché]]="AUTRE",Tableau8[[#This Row],[AUTRE]]+Tableau8[[#This Row],[PAYEE]],""))))) -> #N/A
B70: =CONCATENATE(Tableau8[[#This Row],[CT INDIRECT CHANTIER]],Tableau8[[#This Row],[NOM CHANTIER INDIRECT ST]],Tableau8[[#This Row],[Sous Traitant]],Tableau8[[#This Row],[MO INDIRECT CT]]) -> SEBCOMBS ICADEAZORG | C70: A | D70: COMBS ICADE | E70: SEB | F70: ZORG | G70: =IFERROR(IF(B70="","",VLOOKUP(B70,Tableau16[[Ref]:[CP]],6,FALSE)),"") | H70: =IFERROR(IF(B70="","",VLOOKUP(B70,Tableau16[[Ref]:[CP]],7,FALSE)),"") | I70: =CONCATENATE(Tableau8[[#This Row],[CT INDIRECT CHANTIER]],Tableau8[[#This Row],[NOM CHANTIER INDIRECT ST]],Tableau8[[#This Row],[Sous Traitant]],Tableau8[[#This Row],[MO INDIRECT CT]],Tableau8[[#This Row],[marché]]) -> SEBCOMBS ICADEAZORGMARCHEINT | J70: =COUNTIF($I$4:I70,Tableau8[[#This Row],[REF FACT]]) -> 2 | K70: F10-175 | L70: 44043 | M70: =IF(Tableau8[[#This Row],[Sous Traitant]]>1,VLOOKUP(Tableau8[[#This Row],[Sous Traitant]],Tableau11[[SOUS TRAITANT]:[DELAIS PAIEMENT]],4,FALSE),"") -> 45J | N70: =IF(M70="15J",EOMONTH(L70,0)+15,IF(M70="45J",EOMONTH(L70+30,0)+15,"")) -> 44089 | O70: MARCHEINT | P70: 5347.45 | Q70: FRED | S70: EN ATTENTE MODIFICATION | T70: =SUMIFS($P$4:P70,$I$4:I70,I70) -> 16327.17 | U70: =IF(Tableau8[[#This Row],[marché]]="MARCHEINT",VLOOKUP($B70,Tableau16[[Ref]:[AUTRE]],13,FALSE)-Tableau8[[#This Row],[PAYEE]],"") -> #N/A | V70: =IF(Tableau8[[#This Row],[marché]]="MARCHEEXT",VLOOKUP($B70,Tableau16[[Ref]:[AUTRE]],14,FALSE)-Tableau8[[#This Row],[PAYEE]],"") | W70: =IF(Tableau8[[#This Row],[marché]]="RG_5%",VLOOKUP($B70,Tableau16[[Ref]:[AUTRE]],15,FALSE)-Tableau8[[#This Row],[PAYEE]],"") | X70: =IF(Tableau8[[#This Row],[marché]]="BFT_5%",VLOOKUP($B70,Tableau16[[Ref]:[AUTRE]],17,FALSE)-Tableau8[[#This Row],[PAYEE]],"") | Y70: =IF(Tableau8[[#This Row],[marché]]="AUTRE",VLOOKUP($B70,Tableau16[[Ref]:[AUTRE]],19,FALSE)-Tableau8[[#This Row],[PAYEE]],"") | AA70: =IF(Tableau8[[#This Row],[marché]]="MARCHEINT",Tableau8[[#This Row],[MARCHE INT]]+Tableau8[[#This Row],[PAYEE]],IF(Tableau8[[#This Row],[marché]]="MARCHEEXT",Tableau8[[#This Row],[MARCHE EXT]]+Tableau8[[#This Row],[PAYEE]],IF(Tableau8[[#This Row],[marché]]="RG_5%",Tableau8[[#This Row],[RG_5%]]+Tableau8[[#This Row],[PAYEE]],IF(Tableau8[[#This Row],[marché]]="BFT_5%",Tableau8[[#This Row],[BFT_5%]]+Tableau8[[#This Row],[PAYEE]],IF(Tableau8[[#This Row],[marché]]="AUTRE",Tableau8[[#This Row],[AUTRE]]+Tableau8[[#This Row],[PAYEE]],""))))) -> #N/A
B71: =CONCATENATE(Tableau8[[#This Row],[CT INDIRECT CHANTIER]],Tableau8[[#This Row],[NOM CHANTIER INDIRECT ST]],Tableau8[[#This Row],[Sous Traitant]],Tableau8[[#This Row],[MO INDIRECT CT]]) | J71: =COUNTIF($I$4:I71,Tableau8[[#This Row],[REF FACT]]) -> 0 | M71: =IF(Tableau8[[#This Row],[Sous Traitant]]>1,VLOOKUP(Tableau8[[#This Row],[Sous Traitant]],Tableau11[[SOUS TRAITANT]:[DELAIS PAIEMENT]],4,FALSE),"") | T71: =SUMIFS($P$4:P71,$I$4:I71,I71) -> 0 | U71: =IF(Tableau8[[#This Row],[marché]]="MARCHEINT",VLOOKUP($B71,Tableau16[[Ref]:[AUTRE]],13,FALSE)-Tableau8[[#This Row],[PAYEE]],"") | V71: =IF(Tableau8[[#This Row],[marché]]="MARCHEEXT",VLOOKUP($B71,Tableau16[[Ref]:[AUTRE]],14,FALSE)-Tableau8[[#This Row],[PAYEE]],"") | W71: =IF(Tableau8[[#This Row],[marché]]="RG_5%",VLOOKUP($B71,Tableau16[[Ref]:[AUTRE]],15,FALSE)-Tableau8[[#This Row],[PAYEE]],"") | X71: =IF(Tableau8[[#This Row],[marché]]="BFT_5%",VLOOKUP($B71,Tableau16[[Ref]:[AUTRE]],17,FALSE)-Tableau8[[#This Row],[PAYEE]],"") | Y71: =IF(Tableau8[[#This Row],[marché]]="AUTRE",VLOOKUP($B71,Tableau16[[Ref]:[AUTRE]],19,FALSE)-Tableau8[[#This Row],[PAYEE]],"") | AA71: =IF(Tableau8[[#This Row],[marché]]="MARCHEINT",Tableau8[[#This Row],[MARCHE INT]]+Tableau8[[#This Row],[PAYEE]],IF(Tableau8[[#This Row],[marché]]="MARCHEEXT",Tableau8[[#This Row],[MARCHE EXT]]+Tableau8[[#This Row],[PAYEE]],IF(Tableau8[[#This Row],[marché]]="RG_5%",Tableau8[[#This Row],[RG_5%]]+Tableau8[[#This Row],[PAYEE]],IF(Tableau8[[#This Row],[marché]]="BFT_5%",Tableau8[[#This Row],[BFT_5%]]+Tableau8[[#This Row],[PAYEE]],IF(Tableau8[[#This Row],[marché]]="AUTRE",Tableau8[[#This Row],[AUTRE]]+Tableau8[[#This Row],[PAYEE]],"")))))
B72: =CONCATENATE(Tableau8[[#This Row],[CT INDIRECT CHANTIER]],Tableau8[[#This Row],[NOM CHANTIER INDIRECT ST]],Tableau8[[#This Row],[Sous Traitant]],Tableau8[[#This Row],[MO INDIRECT CT]]) | J72: =COUNTIF($I$4:I72,Tableau8[[#This Row],[REF FACT]]) -> 0 | M72: =IF(Tableau8[[#This Row],[Sous Traitant]]>1,VLOOKUP(Tableau8[[#This Row],[Sous Traitant]],Tableau11[[SOUS TRAITANT]:[DELAIS PAIEMENT]],4,FALSE),"") | T72: =SUMIFS($P$4:P72,$I$4:I72,I72) -> 0 | U72: =IF(Tableau8[[#This Row],[marché]]="MARCHEINT",VLOOKUP($B72,Tableau16[[Ref]:[AUTRE]],13,FALSE)-Tableau8[[#This Row],[PAYEE]],"") | V72: =IF(Tableau8[[#This Row],[marché]]="MARCHEEXT",VLOOKUP($B72,Tableau16[[Ref]:[AUTRE]],14,FALSE)-Tableau8[[#This Row],[PAYEE]],"") | W72: =IF(Tableau8[[#This Row],[marché]]="RG_5%",VLOOKUP($B72,Tableau16[[Ref]:[AUTRE]],15,FALSE)-Tableau8[[#This Row],[PAYEE]],"") | X72: =IF(Tableau8[[#This Row],[marché]]="BFT_5%",VLOOKUP($B72,Tableau16[[Ref]:[AUTRE]],17,FALSE)-Tableau8[[#This Row],[PAYEE]],"") | Y72: =IF(Tableau8[[#This Row],[marché]]="AUTRE",VLOOKUP($B72,Tableau16[[Ref]:[AUTRE]],19,FALSE)-Tableau8[[#This Row],[PAYEE]],"") | AA72: =IF(Tableau8[[#This Row],[marché]]="MARCHEINT",Tableau8[[#This Row],[MARCHE INT]]+Tableau8[[#This Row],[PAYEE]],IF(Tableau8[[#This Row],[marché]]="MARCHEEXT",Tableau8[[#This Row],[MARCHE EXT]]+Tableau8[[#This Row],[PAYEE]],IF(Tableau8[[#This Row],[marché]]="RG_5%",Tableau8[[#This Row],[RG_5%]]+Tableau8[[#This Row],[PAYEE]],IF(Tableau8[[#This Row],[marché]]="BFT_5%",Tableau8[[#This Row],[BFT_5%]]+Tableau8[[#This Row],[PAYEE]],IF(Tableau8[[#This Row],[marché]]="AUTRE",Tableau8[[#This Row],[AUTRE]]+Tableau8[[#This Row],[PAYEE]],"")))))
B73: =CONCATENATE(Tableau8[[#This Row],[CT INDIRECT CHANTIER]],Tableau8[[#This Row],[NOM CHANTIER INDIRECT ST]],Tableau8[[#This Row],[Sous Traitant]],Tableau8[[#This Row],[MO INDIRECT CT]]) | J73: =COUNTIF($I$4:I73,Tableau8[[#This Row],[REF FACT]]) -> 0 | M73: =IF(Tableau8[[#This Row],[Sous Traitant]]>1,VLOOKUP(Tableau8[[#This Row],[Sous Traitant]],Tableau11[[SOUS TRAITANT]:[DELAIS PAIEMENT]],4,FALSE),"") | T73: =SUMIFS($P$4:P73,$I$4:I73,I73) -> 0 | U73: =IF(Tableau8[[#This Row],[marché]]="MARCHEINT",VLOOKUP($B73,Tableau16[[Ref]:[AUTRE]],13,FALSE)-Tableau8[[#This Row],[PAYEE]],"") | V73: =IF(Tableau8[[#This Row],[marché]]="MARCHEEXT",VLOOKUP($B73,Tableau16[[Ref]:[AUTRE]],14,FALSE)-Tableau8[[#This Row],[PAYEE]],"") | W73: =IF(Tableau8[[#This Row],[marché]]="RG_5%",VLOOKUP($B73,Tableau16[[Ref]:[AUTRE]],15,FALSE)-Tableau8[[#This Row],[PAYEE]],"") | X73: =IF(Tableau8[[#This Row],[marché]]="BFT_5%",VLOOKUP($B73,Tableau16[[Ref]:[AUTRE]],17,FALSE)-Tableau8[[#This Row],[PAYEE]],"") | Y73: =IF(Tableau8[[#This Row],[marché]]="AUTRE",VLOOKUP($B73,Tableau16[[Ref]:[AUTRE]],19,FALSE)-Tableau8[[#This Row],[PAYEE]],"") | AA73: =IF(Tableau8[[#This Row],[marché]]="MARCHEINT",Tableau8[[#This Row],[MARCHE INT]]+Tableau8[[#This Row],[PAYEE]],IF(Tableau8[[#This Row],[marché]]="MARCHEEXT",Tableau8[[#This Row],[MARCHE EXT]]+Tableau8[[#This Row],[PAYEE]],IF(Tableau8[[#This Row],[marché]]="RG_5%",Tableau8[[#This Row],[RG_5%]]+Tableau8[[#This Row],[PAYEE]],IF(Tableau8[[#This Row],[marché]]="BFT_5%",Tableau8[[#This Row],[BFT_5%]]+Tableau8[[#This Row],[PAYEE]],IF(Tableau8[[#This Row],[marché]]="AUTRE",Tableau8[[#This Row],[AUTRE]]+Tableau8[[#This Row],[PAYEE]],"")))))
B74: =CONCATENATE(Tableau8[[#This Row],[CT INDIRECT CHANTIER]],Tableau8[[#This Row],[NOM CHANTIER INDIRECT ST]],Tableau8[[#This Row],[Sous Traitant]],Tableau8[[#This Row],[MO INDIRECT CT]]) | J74: =COUNTIF($I$4:I74,Tableau8[[#This Row],[REF FACT]]) -> 0 | M74: =IF(Tableau8[[#This Row],[Sous Traitant]]>1,VLOOKUP(Tableau8[[#This Row],[Sous Traitant]],Tableau11[[SOUS TRAITANT]:[DELAIS PAIEMENT]],4,FALSE),"") | T74: =SUMIFS($P$4:P74,$I$4:I74,I74) -> 0 | U74: =IF(Tableau8[[#This Row],[marché]]="MARCHEINT",VLOOKUP($B74,Tableau16[[Ref]:[AUTRE]],13,FALSE)-Tableau8[[#This Row],[PAYEE]],"") | V74: =IF(Tableau8[[#This Row],[marché]]="MARCHEEXT",VLOOKUP($B74,Tableau16[[Ref]:[AUTRE]],14,FALSE)-Tableau8[[#This Row],[PAYEE]],"") | W74: =IF(Tableau8[[#This Row],[marché]]="RG_5%",VLOOKUP($B74,Tableau16[[Ref]:[AUTRE]],15,FALSE)-Tableau8[[#This Row],[PAYEE]],"") | X74: =IF(Tableau8[[#This Row],[marché]]="BFT_5%",VLOOKUP($B74,Tableau16[[Ref]:[AUTRE]],17,FALSE)-Tableau8[[#This Row],[PAYEE]],"") | Y74: =IF(Tableau8[[#This Row],[marché]]="AUTRE",VLOOKUP($B74,Tableau16[[Ref]:[AUTRE]],19,FALSE)-Tableau8[[#This Row],[PAYEE]],"") | AA74: =IF(Tableau8[[#This Row],[marché]]="MARCHEINT",Tableau8[[#This Row],[MARCHE INT]]+Tableau8[[#This Row],[PAYEE]],IF(Tableau8[[#This Row],[marché]]="MARCHEEXT",Tableau8[[#This Row],[MARCHE EXT]]+Tableau8[[#This Row],[PAYEE]],IF(Tableau8[[#This Row],[marché]]="RG_5%",Tableau8[[#This Row],[RG_5%]]+Tableau8[[#This Row],[PAYEE]],IF(Tableau8[[#This Row],[marché]]="BFT_5%",Tableau8[[#This Row],[BFT_5%]]+Tableau8[[#This Row],[PAYEE]],IF(Tableau8[[#This Row],[marché]]="AUTRE",Tableau8[[#This Row],[AUTRE]]+Tableau8[[#This Row],[PAYEE]],"")))))
B75: =CONCATENATE(Tableau8[[#This Row],[CT INDIRECT CHANTIER]],Tableau8[[#This Row],[NOM CHANTIER INDIRECT ST]],Tableau8[[#This Row],[Sous Traitant]],Tableau8[[#This Row],[MO INDIRECT CT]]) | J75: =COUNTIF($I$4:I75,Tableau8[[#This Row],[REF FACT]]) -> 0 | M75: =IF(Tableau8[[#This Row],[Sous Traitant]]>1,VLOOKUP(Tableau8[[#This Row],[Sous Traitant]],Tableau11[[SOUS TRAITANT]:[DELAIS PAIEMENT]],4,FALSE),"") | T75: =SUMIFS($P$4:P75,$I$4:I75,I75) -> 0 | U75: =IF(Tableau8[[#This Row],[marché]]="MARCHEINT",VLOOKUP($B75,Tableau16[[Ref]:[AUTRE]],13,FALSE)-Tableau8[[#This Row],[PAYEE]],"") | V75: =IF(Tableau8[[#This Row],[marché]]="MARCHEEXT",VLOOKUP($B75,Tableau16[[Ref]:[AUTRE]],14,FALSE)-Tableau8[[#This Row],[PAYEE]],"") | W75: =IF(Tableau8[[#This Row],[marché]]="RG_5%",VLOOKUP($B75,Tableau16[[Ref]:[AUTRE]],15,FALSE)-Tableau8[[#This Row],[PAYEE]],"") | X75: =IF(Tableau8[[#This Row],[marché]]="BFT_5%",VLOOKUP($B75,Tableau16[[Ref]:[AUTRE]],17,FALSE)-Tableau8[[#This Row],[PAYEE]],"") | Y75: =IF(Tableau8[[#This Row],[marché]]="AUTRE",VLOOKUP($B75,Tableau16[[Ref]:[AUTRE]],19,FALSE)-Tableau8[[#This Row],[PAYEE]],"") | AA75: =IF(Tableau8[[#This Row],[marché]]="MARCHEINT",Tableau8[[#This Row],[MARCHE INT]]+Tableau8[[#This Row],[PAYEE]],IF(Tableau8[[#This Row],[marché]]="MARCHEEXT",Tableau8[[#This Row],[MARCHE EXT]]+Tableau8[[#This Row],[PAYEE]],IF(Tableau8[[#This Row],[marché]]="RG_5%",Tableau8[[#This Row],[RG_5%]]+Tableau8[[#This Row],[PAYEE]],IF(Tableau8[[#This Row],[marché]]="BFT_5%",Tableau8[[#This Row],[BFT_5%]]+Tableau8[[#This Row],[PAYEE]],IF(Tableau8[[#This Row],[marché]]="AUTRE",Tableau8[[#This Row],[AUTRE]]+Tableau8[[#This Row],[PAYEE]],"")))))
A76: SEPT | B76: =CONCATENATE(Tableau8[[#This Row],[CT INDIRECT CHANTIER]],Tableau8[[#This Row],[NOM CHANTIER INDIRECT ST]],Tableau8[[#This Row],[Sous Traitant]],Tableau8[[#This Row],[MO INDIRECT CT]]) | J76: =COUNTIF($I$4:I76,Tableau8[[#This Row],[REF FACT]]) -> 0 | M76: =IF(Tableau8[[#This Row],[Sous Traitant]]>1,VLOOKUP(Tableau8[[#This Row],[Sous Traitant]],Tableau11[[SOUS TRAITANT]:[DELAIS PAIEMENT]],4,FALSE),"") | T76: =SUMIFS($P$4:P76,$I$4:I76,I76) -> 0 | U76: =IF(Tableau8[[#This Row],[marché]]="MARCHEINT",VLOOKUP($B76,Tableau16[[Ref]:[AUTRE]],13,FALSE)-Tableau8[[#This Row],[PAYEE]],"") | V76: =IF(Tableau8[[#This Row],[marché]]="MARCHEEXT",VLOOKUP($B76,Tableau16[[Ref]:[AUTRE]],14,FALSE)-Tableau8[[#This Row],[PAYEE]],"") | W76: =IF(Tableau8[[#This Row],[marché]]="RG_5%",VLOOKUP($B76,Tableau16[[Ref]:[AUTRE]],15,FALSE)-Tableau8[[#This Row],[PAYEE]],"") | X76: =IF(Tableau8[[#This Row],[marché]]="BFT_5%",VLOOKUP($B76,Tableau16[[Ref]:[AUTRE]],17,FALSE)-Tableau8[[#This Row],[PAYEE]],"") | Y76: =IF(Tableau8[[#This Row],[marché]]="AUTRE",VLOOKUP($B76,Tableau16[[Ref]:[AUTRE]],19,FALSE)-Tableau8[[#This Row],[PAYEE]],"") | AA76: =IF(Tableau8[[#This Row],[marché]]="MARCHEINT",Tableau8[[#This Row],[MARCHE INT]]+Tableau8[[#This Row],[PAYEE]],IF(Tableau8[[#This Row],[marché]]="MARCHEEXT",Tableau8[[#This Row],[MARCHE EXT]]+Tableau8[[#This Row],[PAYEE]],IF(Tableau8[[#This Row],[marché]]="RG_5%",Tableau8[[#This Row],[RG_5%]]+Tableau8[[#This Row],[PAYEE]],IF(Tableau8[[#This Row],[marché]]="BFT_5%",Tableau8[[#This Row],[BFT_5%]]+Tableau8[[#This Row],[PAYEE]],IF(Tableau8[[#This Row],[marché]]="AUTRE",Tableau8[[#This Row],[AUTRE]]+Tableau8[[#This Row],[PAYEE]],"")))))
B77: =CONCATENATE(Tableau8[[#This Row],[CT INDIRECT CHANTIER]],Tableau8[[#This Row],[NOM CHANTIER INDIRECT ST]],Tableau8[[#This Row],[Sous Traitant]],Tableau8[[#This Row],[MO INDIRECT CT]]) | J77: =COUNTIF($I$4:I77,Tableau8[[#This Row],[REF FACT]]) -> 0 | M77: =IF(Tableau8[[#This Row],[Sous Traitant]]>1,VLOOKUP(Tableau8[[#This Row],[Sous Traitant]],Tableau11[[SOUS TRAITANT]:[DELAIS PAIEMENT]],4,FALSE),"") | T77: =SUMIFS($P$4:P77,$I$4:I77,I77) -> 0 | U77: =IF(Tableau8[[#This Row],[marché]]="MARCHEINT",VLOOKUP($B77,Tableau16[[Ref]:[AUTRE]],13,FALSE)-Tableau8[[#This Row],[PAYEE]],"") | V77: =IF(Tableau8[[#This Row],[marché]]="MARCHEEXT",VLOOKUP($B77,Tableau16[[Ref]:[AUTRE]],14,FALSE)-Tableau8[[#This Row],[PAYEE]],"") | W77: =IF(Tableau8[[#This Row],[marché]]="RG_5%",VLOOKUP($B77,Tableau16[[Ref]:[AUTRE]],15,FALSE)-Tableau8[[#This Row],[PAYEE]],"") | X77: =IF(Tableau8[[#This Row],[marché]]="BFT_5%",VLOOKUP($B77,Tableau16[[Ref]:[AUTRE]],17,FALSE)-Tableau8[[#This Row],[PAYEE]],"") | Y77: =IF(Tableau8[[#This Row],[marché]]="AUTRE",VLOOKUP($B77,Tableau16[[Ref]:[AUTRE]],19,FALSE)-Tableau8[[#This Row],[PAYEE]],"") | AA77: =IF(Tableau8[[#This Row],[marché]]="MARCHEINT",Tableau8[[#This Row],[MARCHE INT]]+Tableau8[[#This Row],[PAYEE]],IF(Tableau8[[#This Row],[marché]]="MARCHEEXT",Tableau8[[#This Row],[MARCHE EXT]]+Tableau8[[#This Row],[PAYEE]],IF(Tableau8[[#This Row],[marché]]="RG_5%",Tableau8[[#This Row],[RG_5%]]+Tableau8[[#This Row],[PAYEE]],IF(Tableau8[[#This Row],[marché]]="BFT_5%",Tableau8[[#This Row],[BFT_5%]]+Tableau8[[#This Row],[PAYEE]],IF(Tableau8[[#This Row],[marché]]="AUTRE",Tableau8[[#This Row],[AUTRE]]+Tableau8[[#This Row],[PAYEE]],"")))))
B78: =CONCATENATE(Tableau8[[#This Row],[CT INDIRECT CHANTIER]],Tableau8[[#This Row],[NOM CHANTIER INDIRECT ST]],Tableau8[[#This Row],[Sous Traitant]],Tableau8[[#This Row],[MO INDIRECT CT]]) | J78: =COUNTIF($I$4:I78,Tableau8[[#This Row],[REF FACT]]) -> 0 | M78: =IF(Tableau8[[#This Row],[Sous Traitant]]>1,VLOOKUP(Tableau8[[#This Row],[Sous Traitant]],Tableau11[[SOUS TRAITANT]:[DELAIS PAIEMENT]],4,FALSE),"") | T78: =SUMIFS($P$4:P78,$I$4:I78,I78) -> 0 | U78: =IF(Tableau8[[#This Row],[marché]]="MARCHEINT",VLOOKUP($B78,Tableau16[[Ref]:[AUTRE]],13,FALSE)-Tableau8[[#This Row],[PAYEE]],"") | V78: =IF(Tableau8[[#This Row],[marché]]="MARCHEEXT",VLOOKUP($B78,Tableau16[[Ref]:[AUTRE]],14,FALSE)-Tableau8[[#This Row],[PAYEE]],"") | W78: =IF(Tableau8[[#This Row],[marché]]="RG_5%",VLOOKUP($B78,Tableau16[[Ref]:[AUTRE]],15,FALSE)-Tableau8[[#This Row],[PAYEE]],"") | X78: =IF(Tableau8[[#This Row],[marché]]="BFT_5%",VLOOKUP($B78,Tableau16[[Ref]:[AUTRE]],17,FALSE)-Tableau8[[#This Row],[PAYEE]],"") | Y78: =IF(Tableau8[[#This Row],[marché]]="AUTRE",VLOOKUP($B78,Tableau16[[Ref]:[AUTRE]],19,FALSE)-Tableau8[[#This Row],[PAYEE]],"") | AA78: =IF(Tableau8[[#This Row],[marché]]="MARCHEINT",Tableau8[[#This Row],[MARCHE INT]]+Tableau8[[#This Row],[PAYEE]],IF(Tableau8[[#This Row],[marché]]="MARCHEEXT",Tableau8[[#This Row],[MARCHE EXT]]+Tableau8[[#This Row],[PAYEE]],IF(Tableau8[[#This Row],[marché]]="RG_5%",Tableau8[[#This Row],[RG_5%]]+Tableau8[[#This Row],[PAYEE]],IF(Tableau8[[#This Row],[marché]]="BFT_5%",Tableau8[[#This Row],[BFT_5%]]+Tableau8[[#This Row],[PAYEE]],IF(Tableau8[[#This Row],[marché]]="AUTRE",Tableau8[[#This Row],[AUTRE]]+Tableau8[[#This Row],[PAYEE]],"")))))
