Workbook
Name Fériés: [1]Fériés!$B$2:$B$14

Sheet Donnée
E4: POSTE DE TRAVAIL | F4: LEGENDE PLANNING | G4: Début | H4: Fin
E5: Ouverture galerie / PCS | F5: OUV 2 | G5: 0.20833333 | H5: 0.54166667
E6: Ouverture galerie / PCS | F6: OUV | G6: 0.29166667 | H6: 0.5625
E7: Fermeture galerie / PCS | F7: FERM | G7: 0.54166667 | H7: 0.88541667
E8: SURVEILLANCE GALERIE / PCS | F8: SSIAP 1 | G8: 0.375 | H8: 0.875
E9: Chéf d'équipe du Jour | F9: SSIAP 2 | G9: 0.375 | H9: 0.875
E10: SURVEILLANCE Travaux / Gardiennage | F10: ST | G10: 0.875 | H10: 0.29166667
E11: SURVEILLANCE Travaux / Gardiennage | F11: ST | G11: 0.875 | H11: 0.041666667
E12: CONGE PAYE | F12: CP
E13: FORMATION / RECYCLAGE | F13: FOR
E14: VISITE MEDICAL | F14: VM
E15: - | F15: MAL
E16: RENFORT | F16: RENF | G16: 0.375 | H16: 0.79166667
E17: - | F17: Réunion
E18: - | F18: -
E19: - | F19: -
E20: - | F20: -
E21: - | F21: -
E22: - | F22: -
E23: - | F23: -
E24: - | F24: -

Sheet Planning général 1
G2: ü | H2: X | I2: ü | J2: X
F3: Poste | G3: FERM | H3: OUV 2 | K3: TOTAL
F4: Début | G4: =IF(ISERROR(VLOOKUP(G3,Donnée!F:H,2,FALSE)),"",VLOOKUP(G3,Donnée!F:H,2,FALSE)) -> 0.54166667 | H4: =IF(ISERROR(VLOOKUP(H3,Donnée!F:H,2,FALSE)),"",VLOOKUP(H3,Donnée!F:H,2,FALSE)) -> 0.20833333 | I4: =IF(ISERROR(VLOOKUP(I3,Donnée!F:H,2,FALSE)),"",VLOOKUP(I3,Donnée!F:H,2,FALSE)) | J4: =IF(ISERROR(VLOOKUP(J3,Donnée!F:H,2,FALSE)),"",VLOOKUP(J3,Donnée!F:H,2,FALSE))
F5: Fin | G5: =IF(ISERROR(VLOOKUP(G3,Donnée!F:H,3,FALSE)),"",VLOOKUP(G3,Donnée!F:H,3,FALSE)) -> 0.88541667 | H5: =IF(ISERROR(VLOOKUP(H3,Donnée!F:H,3,FALSE)),"",VLOOKUP(H3,Donnée!F:H,3,FALSE)) -> 0.54166667 | I5: =IF(ISERROR(VLOOKUP(I3,Donnée!F:H,3,FALSE)),"",VLOOKUP(I3,Donnée!F:H,3,FALSE)) | J5: =IF(ISERROR(VLOOKUP(J3,Donnée!F:H,3,FALSE)),"",VLOOKUP(J3,Donnée!F:H,3,FALSE))
F7: Début | G7: =IF(ISERROR(VLOOKUP(G6,Donnée!F:H,2,FALSE)),"",VLOOKUP(G6,Donnée!F:H,2,FALSE)) | H7: =IF(ISERROR(VLOOKUP(H6,Donnée!F:H,2,FALSE)),"",VLOOKUP(H6,Donnée!F:H,2,FALSE)) | I7: =IF(ISERROR(VLOOKUP(I6,Donnée!F:H,2,FALSE)),"",VLOOKUP(I6,Donnée!F:H,2,FALSE)) | J7: =IF(ISERROR(VLOOKUP(J6,Donnée!F:H,2,FALSE)),"",VLOOKUP(J6,Donnée!F:H,2,FALSE))
F8: Fin | G8: =IF(ISERROR(VLOOKUP(G6,Donnée!F:H,3,FALSE)),"",VLOOKUP(G6,Donnée!F:H,3,FALSE)) | H8: =IF(ISERROR(VLOOKUP(H6,Donnée!F:H,3,FALSE)),"",VLOOKUP(H6,Donnée!F:H,3,FALSE)) | I8: =IF(ISERROR(VLOOKUP(I6,Donnée!F:H,3,FALSE)),"",VLOOKUP(I6,Donnée!F:H,3,FALSE)) | J8: =IF(ISERROR(VLOOKUP(J6,Donnée!F:H,3,FALSE)),"",VLOOKUP(J6,Donnée!F:H,3,FALSE))
G9: =MOD(N(G5)-N(G4)+N(G8)-N(G7),1) -> 0.34375 | H9: =MOD(N(H5)-N(H4)+N(H8)-N(H7),1) -> 0.33333333 | I9: =MOD(N(I5)-N(I4)+N(I8)-N(I7),1) -> 0 | J9: =MOD(N(J5)-N(J4)+N(J8)-N(J7),1) -> 0 | K9: =SUM(G9:J9)*24 -> 16.25
F10: Poste | I10: FERM | J10: OUV 2 | K10: TOTAL
F11: Début | G11: =IF(ISERROR(VLOOKUP(G10,Donnée!F:H,2,FALSE)),"",VLOOKUP(G10,Donnée!F:H,2,FALSE)) | H11: =IF(ISERROR(VLOOKUP(H10,Donnée!F:H,2,FALSE)),"",VLOOKUP(H10,Donnée!F:H,2,FALSE)) | I11: =IF(ISERROR(VLOOKUP(I10,Donnée!F:H,2,FALSE)),"",VLOOKUP(I10,Donnée!F:H,2,FALSE)) -> 0.54166667 | J11: =IF(ISERROR(VLOOKUP(J10,Donnée!F:H,2,FALSE)),"",VLOOKUP(J10,Donnée!F:H,2,FALSE)) -> 0.20833333
F12: Fin | G12: =IF(ISERROR(VLOOKUP(G10,Donnée!F:H,3,FALSE)),"",VLOOKUP(G10,Donnée!F:H,3,FALSE)) | H12: =IF(ISERROR(VLOOKUP(H10,Donnée!F:H,3,FALSE)),"",VLOOKUP(H10,Donnée!F:H,3,FALSE)) | I12: =IF(ISERROR(VLOOKUP(I10,Donnée!F:H,3,FALSE)),"",VLOOKUP(I10,Donnée!F:H,3,FALSE)) -> 0.88541667 | J12: =IF(ISERROR(VLOOKUP(J10,Donnée!F:H,3,FALSE)),"",VLOOKUP(J10,Donnée!F:H,3,FALSE)) -> 0.54166667
F14: Début | G14: =IF(ISERROR(VLOOKUP(G13,Donnée!F:H,2,FALSE)),"",VLOOKUP(G13,Donnée!F:H,2,FALSE)) | H14: =IF(ISERROR(VLOOKUP(H13,Donnée!F:H,2,FALSE)),"",VLOOKUP(H13,Donnée!F:H,2,FALSE)) | I14: =IF(ISERROR(VLOOKUP(I13,Donnée!F:H,2,FALSE)),"",VLOOKUP(I13,Donnée!F:H,2,FALSE)) | J14: =IF(ISERROR(VLOOKUP(J13,Donnée!F:H,2,FALSE)),"",VLOOKUP(J13,Donnée!F:H,2,FALSE))
F15: Fin | G15: =IF(ISERROR(VLOOKUP(G13,Donnée!F:H,3,FALSE)),"",VLOOKUP(G13,Donnée!F:H,3,FALSE)) | H15: =IF(ISERROR(VLOOKUP(H13,Donnée!F:H,3,FALSE)),"",VLOOKUP(H13,Donnée!F:H,3,FALSE)) | I15: =IF(ISERROR(VLOOKUP(I13,Donnée!F:H,3,FALSE)),"",VLOOKUP(I13,Donnée!F:H,3,FALSE)) | J15: =IF(ISERROR(VLOOKUP(J13,Donnée!F:H,3,FALSE)),"",VLOOKUP(J13,Donnée!F:H,3,FALSE))
G16: =MOD(N(G12)-N(G11)+N(G15)-N(G14),1) -> 0 | H16: =MOD(N(H12)-N(H11)+N(H15)-N(H14),1) -> 0 | I16: =MOD(N(I12)-N(I11)+N(I15)-N(I14),1) -> 0.34375 | J16: =MOD(N(J12)-N(J11)+N(J15)-N(J14),1) -> 0.33333333 | K16: =SUM(G16:J16)*24 -> 16.25
F17: Poste | G17: SSIAP 1 | H17: SSIAP 1 | I17: SSIAP 1 | J17: SSIAP 1 | K17: TOTAL
F18: Début | G18: =IF(ISERROR(VLOOKUP(G17,Donnée!F:H,2,FALSE)),"",VLOOKUP(G17,Donnée!F:H,2,FALSE)) -> 0.375 | H18: =IF(ISERROR(VLOOKUP(H17,Donnée!F:H,2,FALSE)),"",VLOOKUP(H17,Donnée!F:H,2,FALSE)) -> 0.375 | I18: =IF(ISERROR(VLOOKUP(I17,Donnée!F:H,2,FALSE)),"",VLOOKUP(I17,Donnée!F:H,2,FALSE)) -> 0.375 | J18: =IF(ISERROR(VLOOKUP(J17,Donnée!F:H,2,FALSE)),"",VLOOKUP(J17,Donnée!F:H,2,FALSE)) -> 0.375
F19: Fin | G19: =IF(ISERROR(VLOOKUP(G17,Donnée!F:H,3,FALSE)),"",VLOOKUP(G17,Donnée!F:H,3,FALSE)) -> 0.875 | H19: =IF(ISERROR(VLOOKUP(H17,Donnée!F:H,3,FALSE)),"",VLOOKUP(H17,Donnée!F:H,3,FALSE)) -> 0.875 | I19: =IF(ISERROR(VLOOKUP(I17,Donnée!F:H,3,FALSE)),"",VLOOKUP(I17,Donnée!F:H,3,FALSE)) -> 0.875 | J19: =IF(ISERROR(VLOOKUP(J17,Donnée!F:H,3,FALSE)),"",VLOOKUP(J17,Donnée!F:H,3,FALSE)) -> 0.875
J20: ST
F21: Début | G21: =IF(ISERROR(VLOOKUP(G20,Donnée!F:H,2,FALSE)),"",VLOOKUP(G20,Donnée!F:H,2,FALSE)) | H21: =IF(ISERROR(VLOOKUP(H20,Donnée!F:H,2,FALSE)),"",VLOOKUP(H20,Donnée!F:H,2,FALSE)) | I21: =IF(ISERROR(VLOOKUP(I20,Donnée!F:H,2,FALSE)),"",VLOOKUP(I20,Donnée!F:H,2,FALSE)) | J21: =IF(ISERROR(VLOOKUP(J20,Donnée!F:H,2,FALSE)),"",VLOOKUP(J20,Donnée!F:H,2,FALSE)) -> 0.875
F22: Fin | G22: =IF(ISERROR(VLOOKUP(G20,Donnée!F:H,3,FALSE)),"",VLOOKUP(G20,Donnée!F:H,3,FALSE)) | H22: =IF(ISERROR(VLOOKUP(H20,Donnée!F:H,3,FALSE)),"",VLOOKUP(H20,Donnée!F:H,3,FALSE)) | I22: =IF(ISERROR(VLOOKUP(I20,Donnée!F:H,3,FALSE)),"",VLOOKUP(I20,Donnée!F:H,3,FALSE)) | J22: =IF(ISERROR(VLOOKUP(J20,Donnée!F:H,3,FALSE)),"",VLOOKUP(J20,Donnée!F:H,3,FALSE)) -> 0.29166667
G23: =MOD(N(G19)-N(G18)+N(G22)-N(G21),1) -> 0.5 | H23: =MOD(N(H19)-N(H18)+N(H22)-N(H21),1) -> 0.5 | I23: =MOD(N(I19)-N(I18)+N(I22)-N(I21),1) -> 0.5 | J23: =MOD(N(J19)-N(J18)+N(J22)-N(J21),1) -> 0.91666667 | K23: =SUM(G23:J23)*24 -> 58
