Workbook
Name SQCDP: LISTES!$A$2:$A$8
Name ville: LISTES!$I:$I
Name zone: LISTES!$G:$G

Sheet ACCUEIL
B1: 2 | C1: 2021 | D1: 8
A3: 1 | C3: =DATE(C1,D1,1) -> 44409
A4: 2 | C4: =C3+1 -> 44410
A5: 3 | C5: =C4+1 -> 44411
A6: 4 | C6: =C5+1 -> 44412
A7: 5 | C7: =C6+1 -> 44413
A8: 6 | C8: =C7+1 -> 44414
A9: 7 | C9: =C8+1 -> 44415
A10: 8 | C10: =C9+1 -> 44416
A11: 9 | C11: =C10+1 -> 44417
A12: 10 | C12: =C11+1 -> 44418
A13: 11 | C13: =C12+1 -> 44419
A14: 12 | C14: =C13+1 -> 44420
A15: 13 | C15: =C14+1 -> 44421
... A30: 28 | C30: =C29+1 -> 44436
A31: 29 | C31: =IF(MOIS[]($C30+1)<>MOIS[]($C30),"",$C30+1) -> #REF!
A32: 30 | C32: =IF(MOIS[]($C30+2)<>MOIS[]($C30),"",$C30+2) -> #REF!
A33: 31 | C33: =IF(MOIS[]($C30+3)<>MOIS[]($C30),"",$C30+3) -> #REF!

Sheet MASQUE
B5: =DATE(ACCUEIL!$C$1,ACCUEIL!$D$1,1) -> 44409 | Q5: Semaine
B6: =INDEX({"Dim","Lun","Mar","Mer","Jeu","Ven","Sam"},1+MOD(ACCUEIL!$B$1+1-2,7)) -> Lun | D6: =INDEX({"Dim","Lun","Mar","Mer","Jeu","Ven","Sam"},1+MOD(ACCUEIL!$B$1+2-2,7)) -> Mar | F6: =INDEX({"Dim","Lun","Mar","Mer","Jeu","Ven","Sam"},1+MOD(ACCUEIL!$B$1+3-2,7)) -> Mer | H6: =INDEX({"Dim","Lun","Mar","Mer","Jeu","Ven","Sam"},1+MOD(ACCUEIL!$B$1+4-2,7)) -> Jeu | J6: =INDEX({"Dim","Lun","Mar","Mer","Jeu","Ven","Sam"},1+MOD(ACCUEIL!$B$1+5-2,7)) -> Ven | L6: =INDEX({"Dim","Lun","Mar","Mer","Jeu","Ven","Sam"},1+MOD(ACCUEIL!$B$1+6-2,7)) -> Sam | N6: =INDEX({"Dim","Lun","Mar","Mer","Jeu","Ven","Sam"},1+MOD(ACCUEIL!$B$1+7-2,7)) -> Dim
B7: =IF(MONTH($B$5)<>MONTH($B$5-(WEEKDAY($B$5,1)-(ACCUEIL!$B$1-1))-IF((WEEKDAY($B$5,1)-(ACCUEIL!$B$1-1))<=0,7,0)+(ROW(B7)-ROW($B$7))*7+(COLUMN(B7)-COLUMN($B$7)+1)),"",$B$5-(WEEKDAY($B$5,1)-(ACCUEIL!$B$1-1))-IF((WEEKDAY($B$5,1)-(ACCUEIL!$B$1-1))<=0,7,0)+(ROW(B7)-ROW($B$7))*7+(COLUMN(B7)-COLUMN($B$7)+1)) | D7: =IF(MONTH($B$5)<>MONTH($B$5-(WEEKDAY($B$5,1)-(ACCUEIL!$B$1-1))-IF((WEEKDAY($B$5,1)-(ACCUEIL!$B$1-1))<=0,7,0)+(ROW(C7)-ROW($B$7))*7+(COLUMN(C7)-COLUMN($B$7)+1)),"",$B$5-(WEEKDAY($B$5,1)-(ACCUEIL!$B$1-1))-IF((WEEKDAY($B$5,1)-(ACCUEIL!$B$1-1))<=0,7,0)+(ROW(C7)-ROW($B$7))*7+(COLUMN(C7)-COLUMN($B$7)+1)) | F7: =IF(MONTH($B$5)<>MONTH($B$5-(WEEKDAY($B$5,1)-(ACCUEIL!$B$1-1))-IF((WEEKDAY($B$5,1)-(ACCUEIL!$B$1-1))<=0,7,0)+(ROW(D7)-ROW($B$7))*7+(COLUMN(D7)-COLUMN($B$7)+1)),"",$B$5-(WEEKDAY($B$5,1)-(ACCUEIL!$B$1-1))-IF((WEEKDAY($B$5,1)-(ACCUEIL!$B$1-1))<=0,7,0)+(ROW(D7)-ROW($B$7))*7+(COLUMN(D7)-COLUMN($B$7)+1)) | H7: =IF(MONTH($B$5)<>MONTH($B$5-(WEEKDAY($B$5,1)-(ACCUEIL!$B$1-1))-IF((WEEKDAY($B$5,1)-(ACCUEIL!$B$1-1))<=0,7,0)+(ROW(E7)-ROW($B$7))*7+(COLUMN(E7)-COLUMN($B$7)+1)),"",$B$5-(WEEKDAY($B$5,1)-(ACCUEIL!$B$1-1))-IF((WEEKDAY($B$5,1)-(ACCUEIL!$B$1-1))<=0,7,0)+(ROW(E7)-ROW($B$7))*7+(COLUMN(E7)-COLUMN($B$7)+1)) | J7: =IF(MONTH($B$5)<>MONTH($B$5-(WEEKDAY($B$5,1)-(ACCUEIL!$B$1-1))-IF((WEEKDAY($B$5,1)-(ACCUEIL!$B$1-1))<=0,7,0)+(ROW(F7)-ROW($B$7))*7+(COLUMN(F7)-COLUMN($B$7)+1)),"",$B$5-(WEEKDAY($B$5,1)-(ACCUEIL!$B$1-1))-IF((WEEKDAY($B$5,1)-(ACCUEIL!$B$1-1))<=0,7,0)+(ROW(F7)-ROW($B$7))*7+(COLUMN(F7)-COLUMN($B$7)+1)) | L7: =IF(MONTH($B$5)<>MONTH($B$5-(WEEKDAY($B$5,1)-(ACCUEIL!$B$1-1))-IF((WEEKDAY($B$5,1)-(ACCUEIL!$B$1-1))<=0,7,0)+(ROW(G7)-ROW($B$7))*7+(COLUMN(G7)-COLUMN($B$7)+1)),"",$B$5-(WEEKDAY($B$5,1)-(ACCUEIL!$B$1-1))-IF((WEEKDAY($B$5,1)-(ACCUEIL!$B$1-1))<=0,7,0)+(ROW(G7)-ROW($B$7))*7+(COLUMN(G7)-COLUMN($B$7)+1)) | N7: =IF(MONTH($B$5)<>MONTH($B$5-(WEEKDAY($B$5,1)-(ACCUEIL!$B$1-1))-IF((WEEKDAY($B$5,1)-(ACCUEIL!$B$1-1))<=0,7,0)+(ROW(H7)-ROW($B$7))*7+(COLUMN(H7)-COLUMN($B$7)+1)),"",$B$5-(WEEKDAY($B$5,1)-(ACCUEIL!$B$1-1))-IF((WEEKDAY($B$5,1)-(ACCUEIL!$B$1-1))<=0,7,0)+(ROW(H7)-ROW($B$7))*7+(COLUMN(H7)-COLUMN($B$7)+1)) -> 44409 | P7: =IF(B7="","",B7) | Q7: =IF(N7="","",(INT(MOD(INT((N7-2)/7)+0.6,52+5/28))+1)) -> 30
B8: =IF(MONTH($B$5)<>MONTH($B$5-(WEEKDAY($B$5,1)-(ACCUEIL!$B$1-1))-IF((WEEKDAY($B$5,1)-(ACCUEIL!$B$1-1))<=0,7,0)+(ROW(B8)-ROW($B$7))*7+(COLUMN(B8)-COLUMN($B$7)+1)),"",$B$5-(WEEKDAY($B$5,1)-(ACCUEIL!$B$1-1))-IF((WEEKDAY($B$5,1)-(ACCUEIL!$B$1-1))<=0,7,0)+(ROW(B8)-ROW($B$7))*7+(COLUMN(B8)-COLUMN($B$7)+1)) -> 44410 | D8: =IF(MONTH($B$5)<>MONTH($B$5-(WEEKDAY($B$5,1)-(ACCUEIL!$B$1-1))-IF((WEEKDAY($B$5,1)-(ACCUEIL!$B$1-1))<=0,7,0)+(ROW(C8)-ROW($B$7))*7+(COLUMN(C8)-COLUMN($B$7)+1)),"",$B$5-(WEEKDAY($B$5,1)-(ACCUEIL!$B$1-1))-IF((WEEKDAY($B$5,1)-(ACCUEIL!$B$1-1))<=0,7,0)+(ROW(C8)-ROW($B$7))*7+(COLUMN(C8)-COLUMN($B$7)+1)) -> 44411 | F8: =IF(MONTH($B$5)<>MONTH($B$5-(WEEKDAY($B$5,1)-(ACCUEIL!$B$1-1))-IF((WEEKDAY($B$5,1)-(ACCUEIL!$B$1-1))<=0,7,0)+(ROW(D8)-ROW($B$7))*7+(COLUMN(D8)-COLUMN($B$7)+1)),"",$B$5-(WEEKDAY($B$5,1)-(ACCUEIL!$B$1-1))-IF((WEEKDAY($B$5,1)-(ACCUEIL!$B$1-1))<=0,7,0)+(ROW(D8)-ROW($B$7))*7+(COLUMN(D8)-COLUMN($B$7)+1)) -> 44412 | H8: =IF(MONTH($B$5)<>MONTH($B$5-(WEEKDAY($B$5,1)-(ACCUEIL!$B$1-1))-IF((WEEKDAY($B$5,1)-(ACCUEIL!$B$1-1))<=0,7,0)+(ROW(E8)-ROW($B$7))*7+(COLUMN(E8)-COLUMN($B$7)+1)),"",$B$5-(WEEKDAY($B$5,1)-(ACCUEIL!$B$1-1))-IF((WEEKDAY($B$5,1)-(ACCUEIL!$B$1-1))<=0,7,0)+(ROW(E8)-ROW($B$7))*7+(COLUMN(E8)-COLUMN($B$7)+1)) -> 44413 | J8: =IF(MONTH($B$5)<>MONTH($B$5-(WEEKDAY($B$5,1)-(ACCUEIL!$B$1-1))-IF((WEEKDAY($B$5,1)-(ACCUEIL!$B$1-1))<=0,7,0)+(ROW(F8)-ROW($B$7))*7+(COLUMN(F8)-COLUMN($B$7)+1)),"",$B$5-(WEEKDAY($B$5,1)-(ACCUEIL!$B$1-1))-IF((WEEKDAY($B$5,1)-(ACCUEIL!$B$1-1))<=0,7,0)+(ROW(F8)-ROW($B$7))*7+(COLUMN(F8)-COLUMN($B$7)+1)) -> 44414 | L8: =IF(MONTH($B$5)<>MONTH($B$5-(WEEKDAY($B$5,1)-(ACCUEIL!$B$1-1))-IF((WEEKDAY($B$5,1)-(ACCUEIL!$B$1-1))<=0,7,0)+(ROW(G8)-ROW($B$7))*7+(COLUMN(G8)-COLUMN($B$7)+1)),"",$B$5-(WEEKDAY($B$5,1)-(ACCUEIL!$B$1-1))-IF((WEEKDAY($B$5,1)-(ACCUEIL!$B$1-1))<=0,7,0)+(ROW(G8)-ROW($B$7))*7+(COLUMN(G8)-COLUMN($B$7)+1)) -> 44415 | N8: =IF(MONTH($B$5)<>MONTH($B$5-(WEEKDAY($B$5,1)-(ACCUEIL!$B$1-1))-IF((WEEKDAY($B$5,1)-(ACCUEIL!$B$1-1))<=0,7,0)+(ROW(H8)-ROW($B$7))*7+(COLUMN(H8)-COLUMN($B$7)+1)),"",$B$5-(WEEKDAY($B$5,1)-(ACCUEIL!$B$1-1))-IF((WEEKDAY($B$5,1)-(ACCUEIL!$B$1-1))<=0,7,0)+(ROW(H8)-ROW($B$7))*7+(COLUMN(H8)-COLUMN($B$7)+1)) -> 44416 | P8: =IF(B8="","",B8) -> 44410 | Q8: =IF(P8="","",(INT(MOD(INT((P8-2)/7)+0.6,52+5/28))+1)) -> 31
B9: =IF(MONTH($B$5)<>MONTH($B$5-(WEEKDAY($B$5,1)-(ACCUEIL!$B$1-1))-IF((WEEKDAY($B$5,1)-(ACCUEIL!$B$1-1))<=0,7,0)+(ROW(B9)-ROW($B$7))*7+(COLUMN(B9)-COLUMN($B$7)+1)),"",$B$5-(WEEKDAY($B$5,1)-(ACCUEIL!$B$1-1))-IF((WEEKDAY($B$5,1)-(ACCUEIL!$B$1-1))<=0,7,0)+(ROW(B9)-ROW($B$7))*7+(COLUMN(B9)-COLUMN($B$7)+1)) -> 44417 | D9: =IF(MONTH($B$5)<>MONTH($B$5-(WEEKDAY($B$5,1)-(ACCUEIL!$B$1-1))-IF((WEEKDAY($B$5,1)-(ACCUEIL!$B$1-1))<=0,7,0)+(ROW(C9)-ROW($B$7))*7+(COLUMN(C9)-COLUMN($B$7)+1)),"",$B$5-(WEEKDAY($B$5,1)-(ACCUEIL!$B$1-1))-IF((WEEKDAY($B$5,1)-(ACCUEIL!$B$1-1))<=0,7,0)+(ROW(C9)-ROW($B$7))*7+(COLUMN(C9)-COLUMN($B$7)+1)) -> 44418 | F9: =IF(MONTH($B$5)<>MONTH($B$5-(WEEKDAY($B$5,1)-(ACCUEIL!$B$1-1))-IF((WEEKDAY($B$5,1)-(ACCUEIL!$B$1-1))<=0,7,0)+(ROW(D9)-ROW($B$7))*7+(COLUMN(D9)-COLUMN($B$7)+1)),"",$B$5-(WEEKDAY($B$5,1)-(ACCUEIL!$B$1-1))-IF((WEEKDAY($B$5,1)-(ACCUEIL!$B$1-1))<=0,7,0)+(ROW(D9)-ROW($B$7))*7+(COLUMN(D9)-COLUMN($B$7)+1)) -> 44419 | H9: =IF(MONTH($B$5)<>MONTH($B$5-(WEEKDAY($B$5,1)-(ACCUEIL!$B$1-1))-IF((WEEKDAY($B$5,1)-(ACCUEIL!$B$1-1))<=0,7,0)+(ROW(E9)-ROW($B$7))*7+(COLUMN(E9)-COLUMN($B$7)+1)),"",$B$5-(WEEKDAY($B$5,1)-(ACCUEIL!$B$1-1))-IF((WEEKDAY($B$5,1)-(ACCUEIL!$B$1-1))<=0,7,0)+(ROW(E9)-ROW($B$7))*7+(COLUMN(E9)-COLUMN($B$7)+1)) -> 44420 | J9: =IF(MONTH($B$5)<>MONTH($B$5-(WEEKDAY($B$5,1)-(ACCUEIL!$B$1-1))-IF((WEEKDAY($B$5,1)-(ACCUEIL!$B$1-1))<=0,7,0)+(ROW(F9)-ROW($B$7))*7+(COLUMN(F9)-COLUMN($B$7)+1)),"",$B$5-(WEEKDAY($B$5,1)-(ACCUEIL!$B$1-1))-IF((WEEKDAY($B$5,1)-(ACCUEIL!$B$1-1))<=0,7,0)+(ROW(F9)-ROW($B$7))*7+(COLUMN(F9)-COLUMN($B$7)+1)) -> 44421 | L9: =IF(MONTH($B$5)<>MONTH($B$5-(WEEKDAY($B$5,1)-(ACCUEIL!$B$1-1))-IF((WEEKDAY($B$5,1)-(ACCUEIL!$B$1-1))<=0,7,0)+(ROW(G9)-ROW($B$7))*7+(COLUMN(G9)-COLUMN($B$7)+1)),"",$B$5-(WEEKDAY($B$5,1)-(ACCUEIL!$B$1-1))-IF((WEEKDAY($B$5,1)-(ACCUEIL!$B$1-1))<=0,7,0)+(ROW(G9)-ROW($B$7))*7+(COLUMN(G9)-COLUMN($B$7)+1)) -> 44422 | N9: =IF(MONTH($B$5)<>MONTH($B$5-(WEEKDAY($B$5,1)-(ACCUEIL!$B$1-1))-IF((WEEKDAY($B$5,1)-(ACCUEIL!$B$1-1))<=0,7,0)+(ROW(H9)-ROW($B$7))*7+(COLUMN(H9)-COLUMN($B$7)+1)),"",$B$5-(WEEKDAY($B$5,1)-(ACCUEIL!$B$1-1))-IF((WEEKDAY($B$5,1)-(ACCUEIL!$B$1-1))<=0,7,0)+(ROW(H9)-ROW($B$7))*7+(COLUMN(H9)-COLUMN($B$7)+1)) -> 44423 | P9: =IF(B9="","",B9) -> 44417 | Q9: =IF(P9="","",(INT(MOD(INT((P9-2)/7)+0.6,52+5/28))+1)) -> 32
B10: =IF(MONTH($B$5)<>MONTH($B$5-(WEEKDAY($B$5,1)-(ACCUEIL!$B$1-1))-IF((WEEKDAY($B$5,1)-(ACCUEIL!$B$1-1))<=0,7,0)+(ROW(B10)-ROW($B$7))*7+(COLUMN(B10)-COLUMN($B$7)+1)),"",$B$5-(WEEKDAY($B$5,1)-(ACCUEIL!$B$1-1))-IF((WEEKDAY($B$5,1)-(ACCUEIL!$B$1-1))<=0,7,0)+(ROW(B10)-ROW($B$7))*7+(COLUMN(B10)-COLUMN($B$7)+1)) -> 44424 | D10: =IF(MONTH($B$5)<>MONTH($B$5-(WEEKDAY($B$5,1)-(ACCUEIL!$B$1-1))-IF((WEEKDAY($B$5,1)-(ACCUEIL!$B$1-1))<=0,7,0)+(ROW(C10)-ROW($B$7))*7+(COLUMN(C10)-COLUMN($B$7)+1)),"",$B$5-(WEEKDAY($B$5,1)-(ACCUEIL!$B$1-1))-IF((WEEKDAY($B$5,1)-(ACCUEIL!$B$1-1))<=0,7,0)+(ROW(C10)-ROW($B$7))*7+(COLUMN(C10)-COLUMN($B$7)+1)) -> 44425 | F10: =IF(MONTH($B$5)<>MONTH($B$5-(WEEKDAY($B$5,1)-(ACCUEIL!$B$1-1))-IF((WEEKDAY($B$5,1)-(ACCUEIL!$B$1-1))<=0,7,0)+(ROW(D10)-ROW($B$7))*7+(COLUMN(D10)-COLUMN($B$7)+1)),"",$B$5-(WEEKDAY($B$5,1)-(ACCUEIL!$B$1-1))-IF((WEEKDAY($B$5,1)-(ACCUEIL!$B$1-1))<=0,7,0)+(ROW(D10)-ROW($B$7))*7+(COLUMN(D10)-COLUMN($B$7)+1)) -> 44426 | H10: =IF(MONTH($B$5)<>MONTH($B$5-(WEEKDAY($B$5,1)-(ACCUEIL!$B$1-1))-IF((WEEKDAY($B$5,1)-(ACCUEIL!$B$1-1))<=0,7,0)+(ROW(E10)-ROW($B$7))*7+(COLUMN(E10)-COLUMN($B$7)+1)),"",$B$5-(WEEKDAY($B$5,1)-(ACCUEIL!$B$1-1))-IF((WEEKDAY($B$5,1)-(ACCUEIL!$B$1-1))<=0,7,0)+(ROW(E10)-ROW($B$7))*7+(COLUMN(E10)-COLUMN($B$7)+1)) -> 44427 | J10: =IF(MONTH($B$5)<>MONTH($B$5-(WEEKDAY($B$5,1)-(ACCUEIL!$B$1-1))-IF((WEEKDAY($B$5,1)-(ACCUEIL!$B$1-1))<=0,7,0)+(ROW(F10)-ROW($B$7))*7+(COLUMN(F10)-COLUMN($B$7)+1)),"",$B$5-(WEEKDAY($B$5,1)-(ACCUEIL!$B$1-1))-IF((WEEKDAY($B$5,1)-(ACCUEIL!$B$1-1))<=0,7,0)+(ROW(F10)-ROW($B$7))*7+(COLUMN(F10)-COLUMN($B$7)+1)) -> 44428 | L10: =IF(MONTH($B$5)<>MONTH($B$5-(WEEKDAY($B$5,1)-(ACCUEIL!$B$1-1))-IF((WEEKDAY($B$5,1)-(ACCUEIL!$B$1-1))<=0,7,0)+(ROW(G10)-ROW($B$7))*7+(COLUMN(G10)-COLUMN($B$7)+1)),"",$B$5-(WEEKDAY($B$5,1)-(ACCUEIL!$B$1-1))-IF((WEEKDAY($B$5,1)-(ACCUEIL!$B$1-1))<=0,7,0)+(ROW(G10)-ROW($B$7))*7+(COLUMN(G10)-COLUMN($B$7)+1)) -> 44429 | N10: =IF(MONTH($B$5)<>MONTH($B$5-(WEEKDAY($B$5,1)-(ACCUEIL!$B$1-1))-IF((WEEKDAY($B$5,1)-(ACCUEIL!$B$1-1))<=0,7,0)+(ROW(H10)-ROW($B$7))*7+(COLUMN(H10)-COLUMN($B$7)+1)),"",$B$5-(WEEKDAY($B$5,1)-(ACCUEIL!$B$1-1))-IF((WEEKDAY($B$5,1)-(ACCUEIL!$B$1-1))<=0,7,0)+(ROW(H10)-ROW($B$7))*7+(COLUMN(H10)-COLUMN($B$7)+1)) -> 44430 | P10: =IF(B10="","",B10) -> 44424 | Q10: =IF(P10="","",(INT(MOD(INT((P10-2)/7)+0.6,52+5/28))+1)) -> 33
B11: =IF(MONTH($B$5)<>MONTH($B$5-(WEEKDAY($B$5,1)-(ACCUEIL!$B$1-1))-IF((WEEKDAY($B$5,1)-(ACCUEIL!$B$1-1))<=0,7,0)+(ROW(B11)-ROW($B$7))*7+(COLUMN(B11)-COLUMN($B$7)+1)),"",$B$5-(WEEKDAY($B$5,1)-(ACCUEIL!$B$1-1))-IF((WEEKDAY($B$5,1)-(ACCUEIL!$B$1-1))<=0,7,0)+(ROW(B11)-ROW($B$7))*7+(COLUMN(B11)-COLUMN($B$7)+1)) -> 44431 | D11: =IF(MONTH($B$5)<>MONTH($B$5-(WEEKDAY($B$5,1)-(ACCUEIL!$B$1-1))-IF((WEEKDAY($B$5,1)-(ACCUEIL!$B$1-1))<=0,7,0)+(ROW(C11)-ROW($B$7))*7+(COLUMN(C11)-COLUMN($B$7)+1)),"",$B$5-(WEEKDAY($B$5,1)-(ACCUEIL!$B$1-1))-IF((WEEKDAY($B$5,1)-(ACCUEIL!$B$1-1))<=0,7,0)+(ROW(C11)-ROW($B$7))*7+(COLUMN(C11)-COLUMN($B$7)+1)) -> 44432 | F11: =IF(MONTH($B$5)<>MONTH($B$5-(WEEKDAY($B$5,1)-(ACCUEIL!$B$1-1))-IF((WEEKDAY($B$5,1)-(ACCUEIL!$B$1-1))<=0,7,0)+(ROW(D11)-ROW($B$7))*7+(COLUMN(D11)-COLUMN($B$7)+1)),"",$B$5-(WEEKDAY($B$5,1)-(ACCUEIL!$B$1-1))-IF((WEEKDAY($B$5,1)-(ACCUEIL!$B$1-1))<=0,7,0)+(ROW(D11)-ROW($B$7))*7+(COLUMN(D11)-COLUMN($B$7)+1)) -> 44433 | H11: =IF(MONTH($B$5)<>MONTH($B$5-(WEEKDAY($B$5,1)-(ACCUEIL!$B$1-1))-IF((WEEKDAY($B$5,1)-(ACCUEIL!$B$1-1))<=0,7,0)+(ROW(E11)-ROW($B$7))*7+(COLUMN(E11)-COLUMN($B$7)+1)),"",$B$5-(WEEKDAY($B$5,1)-(ACCUEIL!$B$1-1))-IF((WEEKDAY($B$5,1)-(ACCUEIL!$B$1-1))<=0,7,0)+(ROW(E11)-ROW($B$7))*7+(COLUMN(E11)-COLUMN($B$7)+1)) -> 44434 | J11: =IF(MONTH($B$5)<>MONTH($B$5-(WEEKDAY($B$5,1)-(ACCUEIL!$B$1-1))-IF((WEEKDAY($B$5,1)-(ACCUEIL!$B$1-1))<=0,7,0)+(ROW(F11)-ROW($B$7))*7+(COLUMN(F11)-COLUMN($B$7)+1)),"",$B$5-(WEEKDAY($B$5,1)-(ACCUEIL!$B$1-1))-IF((WEEKDAY($B$5,1)-(ACCUEIL!$B$1-1))<=0,7,0)+(ROW(F11)-ROW($B$7))*7+(COLUMN(F11)-COLUMN($B$7)+1)) -> 44435 | L11: =IF(MONTH($B$5)<>MONTH($B$5-(WEEKDAY($B$5,1)-(ACCUEIL!$B$1-1))-IF((WEEKDAY($B$5,1)-(ACCUEIL!$B$1-1))<=0,7,0)+(ROW(G11)-ROW($B$7))*7+(COLUMN(G11)-COLUMN($B$7)+1)),"",$B$5-(WEEKDAY($B$5,1)-(ACCUEIL!$B$1-1))-IF((WEEKDAY($B$5,1)-(ACCUEIL!$B$1-1))<=0,7,0)+(ROW(G11)-ROW($B$7))*7+(COLUMN(G11)-COLUMN($B$7)+1)) -> 44436 | N11: =IF(MONTH($B$5)<>MONTH($B$5-(WEEKDAY($B$5,1)-(ACCUEIL!$B$1-1))-IF((WEEKDAY($B$5,1)-(ACCUEIL!$B$1-1))<=0,7,0)+(ROW(H11)-ROW($B$7))*7+(COLUMN(H11)-COLUMN($B$7)+1)),"",$B$5-(WEEKDAY($B$5,1)-(ACCUEIL!$B$1-1))-IF((WEEKDAY($B$5,1)-(ACCUEIL!$B$1-1))<=0,7,0)+(ROW(H11)-ROW($B$7))*7+(COLUMN(H11)-COLUMN($B$7)+1)) -> 44437 | P11: =IF(B11="","",B11) -> 44431 | Q11: =IF(P11="","",(INT(MOD(INT((P11-2)/7)+0.6,52+5/28))+1)) -> 34
B12: =IF(MONTH($B$5)<>MONTH($B$5-(WEEKDAY($B$5,1)-(ACCUEIL!$B$1-1))-IF((WEEKDAY($B$5,1)-(ACCUEIL!$B$1-1))<=0,7,0)+(ROW(B12)-ROW($B$7))*7+(COLUMN(B12)-COLUMN($B$7)+1)),"",$B$5-(WEEKDAY($B$5,1)-(ACCUEIL!$B$1-1))-IF((WEEKDAY($B$5,1)-(ACCUEIL!$B$1-1))<=0,7,0)+(ROW(B12)-ROW($B$7))*7+(COLUMN(B12)-COLUMN($B$7)+1)) -> 44438 | D12: =IF(MONTH($B$5)<>MONTH($B$5-(WEEKDAY($B$5,1)-(ACCUEIL!$B$1-1))-IF((WEEKDAY($B$5,1)-(ACCUEIL!$B$1-1))<=0,7,0)+(ROW(C12)-ROW($B$7))*7+(COLUMN(C12)-COLUMN($B$7)+1)),"",$B$5-(WEEKDAY($B$5,1)-(ACCUEIL!$B$1-1))-IF((WEEKDAY($B$5,1)-(ACCUEIL!$B$1-1))<=0,7,0)+(ROW(C12)-ROW($B$7))*7+(COLUMN(C12)-COLUMN($B$7)+1)) -> 44439 | F12: =IF(MONTH($B$5)<>MONTH($B$5-(WEEKDAY($B$5,1)-(ACCUEIL!$B$1-1))-IF((WEEKDAY($B$5,1)-(ACCUEIL!$B$1-1))<=0,7,0)+(ROW(D12)-ROW($B$7))*7+(COLUMN(D12)-COLUMN($B$7)+1)),"",$B$5-(WEEKDAY($B$5,1)-(ACCUEIL!$B$1-1))-IF((WEEKDAY($B$5,1)-(ACCUEIL!$B$1-1))<=0,7,0)+(ROW(D12)-ROW($B$7))*7+(COLUMN(D12)-COLUMN($B$7)+1)) | H12: =IF(MONTH($B$5)<>MONTH($B$5-(WEEKDAY($B$5,1)-(ACCUEIL!$B$1-1))-IF((WEEKDAY($B$5,1)-(ACCUEIL!$B$1-1))<=0,7,0)+(ROW(E12)-ROW($B$7))*7+(COLUMN(E12)-COLUMN($B$7)+1)),"",$B$5-(WEEKDAY($B$5,1)-(ACCUEIL!$B$1-1))-IF((WEEKDAY($B$5,1)-(ACCUEIL!$B$1-1))<=0,7,0)+(ROW(E12)-ROW($B$7))*7+(COLUMN(E12)-COLUMN($B$7)+1)) | J12: =IF(MONTH($B$5)<>MONTH($B$5-(WEEKDAY($B$5,1)-(ACCUEIL!$B$1-1))-IF((WEEKDAY($B$5,1)-(ACCUEIL!$B$1-1))<=0,7,0)+(ROW(F12)-ROW($B$7))*7+(COLUMN(F12)-COLUMN($B$7)+1)),"",$B$5-(WEEKDAY($B$5,1)-(ACCUEIL!$B$1-1))-IF((WEEKDAY($B$5,1)-(ACCUEIL!$B$1-1))<=0,7,0)+(ROW(F12)-ROW($B$7))*7+(COLUMN(F12)-COLUMN($B$7)+1)) | L12: =IF(MONTH($B$5)<>MONTH($B$5-(WEEKDAY($B$5,1)-(ACCUEIL!$B$1-1))-IF((WEEKDAY($B$5,1)-(ACCUEIL!$B$1-1))<=0,7,0)+(ROW(G12)-ROW($B$7))*7+(COLUMN(G12)-COLUMN($B$7)+1)),"",$B$5-(WEEKDAY($B$5,1)-(ACCUEIL!$B$1-1))-IF((WEEKDAY($B$5,1)-(ACCUEIL!$B$1-1))<=0,7,0)+(ROW(G12)-ROW($B$7))*7+(COLUMN(G12)-COLUMN($B$7)+1)) | N12: =IF(MONTH($B$5)<>MONTH($B$5-(WEEKDAY($B$5,1)-(ACCUEIL!$B$1-1))-IF((WEEKDAY($B$5,1)-(ACCUEIL!$B$1-1))<=0,7,0)+(ROW(H12)-ROW($B$7))*7+(COLUMN(H12)-COLUMN($B$7)+1)),"",$B$5-(WEEKDAY($B$5,1)-(ACCUEIL!$B$1-1))-IF((WEEKDAY($B$5,1)-(ACCUEIL!$B$1-1))<=0,7,0)+(ROW(H12)-ROW($B$7))*7+(COLUMN(H12)-COLUMN($B$7)+1)) | P12: =IF(B12="","",B12) -> 44438 | Q12: =IF(P12="","",(INT(MOD(INT((P12-2)/7)+0.6,52+5/28))+1)) -> 35

Sheet LISTES
A1: LETTRE | B1: DÉNOMINATION | D1: MOIS | E1: MOIS2 | G1: ZONES | I1: VILLES | K1: ANNÉES | M1: JOURS | N1: DATES
A2: C | B2: Chiffre d'affaire | D2: 1 | E2: Janvier | G2: Zone longue | I2: SAINT-QUENTIN | K2: 2021 | M2: Premier de l'AN | N2: =DATE(ACCUEIL!C1,1,1) -> 44197
A3: P | B3: Personnel | D3: 2 | E3: Février | G3: Zone courte | I3: NEUVILLE | K3: 2022 | M3: Pâques | N3: =ROUND(DATE(ACCUEIL!C1,4,MOD(234-11*MOD(ACCUEIL!C1,19),30))/7,0)*7-6 -> 44290
A4: M | B4: Matériel | D4: 3 | E4: Mars | G4: TPS Exceptionnels | K4: 2023 | M4: Lundi de Pâques | N4: =N3+1 -> 44291
A5: Q | B5: qualité | D5: 4 | E5: Avril | K5: 2024 | M5: Fête du travail | N5: =DATE(ACCUEIL!C1,5,1) -> 44317
D6: 5 | E6: Mai | K6: 2025 | M6: Victoire de 1945 | N6: =DATE(ACCUEIL!C1,5,8) -> 44324
D7: 6 | E7: Juin | K7: 2026 | M7: Ascension | N7: =N3+39 -> 44329
D8: 7 | E8: Juillet | K8: 2027 | M8: Pentecôte | N8: =N3+50 -> 44340
D9: 8 | E9: Août | K9: 2028 | M9: Fête nationale | N9: =DATE(ACCUEIL!C1,7,14) -> 44391
D10: 9 | E10: Septembre | K10: 2029 | M10: Assomption | N10: =DATE(ACCUEIL!C1,8,15) -> 44423
D11: 10 | E11: Octobre | K11: 2030 | M11: Toussaint | N11: =DATE(ACCUEIL!C1,11,1) -> 44501
D12: 11 | E12: Novembre | M12: Armistice | N12: =DATE(ACCUEIL!C1,11,11) -> 44511
D13: 12 | E13: Décembre | M13: Noël | N13: =DATE(ACCUEIL!C1,12,25) -> 44555
