Workbook
Name CODE: LISTE!$B$2:$B$8
Name DES: LISTE!$A$2:$A$8

Sheet CDE
A1: Date | B1: Désignation | C1: Code | D1: Nbr | E1: Prix unitaire | F1: Prix total | J1: DATE: | K1: 43031
B2: =IF(ISERROR(INDEX(LISTE!$A$2:$D$8,MATCH(C2,LISTE!$B$2:$B$100,0),1)),"",(INDEX(LISTE!$A$2:$D$8,MATCH(C2,LISTE!$B$2:$B$100,0),1))) | E2: =IF(ISERROR(INDEX(LISTE!$A$2:$D$8,MATCH(C2,LISTE!$B$2:$B$100,0),4)),"",(INDEX(LISTE!$A$2:$D$8,MATCH(C2,LISTE!$B$2:$B$100,0),4))) | F2: =IF(ISERROR(D2*E2),"",D2*E2)
B3: =IF(ISERROR(INDEX(LISTE!$A$2:$D$8,MATCH(C3,LISTE!$B$2:$B$100,0),1)),"",(INDEX(LISTE!$A$2:$D$8,MATCH(C3,LISTE!$B$2:$B$100,0),1))) | E3: =IF(ISERROR(INDEX(LISTE!$A$2:$D$8,MATCH(C3,LISTE!$B$2:$B$100,0),4)),"",(INDEX(LISTE!$A$2:$D$8,MATCH(C3,LISTE!$B$2:$B$100,0),4)))
B4: =IF(ISERROR(INDEX(LISTE!$A$2:$D$8,MATCH(C4,LISTE!$B$2:$B$100,0),1)),"",(INDEX(LISTE!$A$2:$D$8,MATCH(C4,LISTE!$B$2:$B$100,0),1))) | E4: =IF(ISERROR(INDEX(LISTE!$A$2:$D$8,MATCH(C4,LISTE!$B$2:$B$100,0),4)),"",(INDEX(LISTE!$A$2:$D$8,MATCH(C4,LISTE!$B$2:$B$100,0),4)))
B5: =IF(ISERROR(INDEX(LISTE!$A$2:$D$8,MATCH(C5,LISTE!$B$2:$B$100,0),1)),"",(INDEX(LISTE!$A$2:$D$8,MATCH(C5,LISTE!$B$2:$B$100,0),1))) | E5: =IF(ISERROR(INDEX(LISTE!$A$2:$D$8,MATCH(C5,LISTE!$B$2:$B$100,0),4)),"",(INDEX(LISTE!$A$2:$D$8,MATCH(C5,LISTE!$B$2:$B$100,0),4)))
B6: =IF(ISERROR(INDEX(LISTE!$A$2:$D$8,MATCH(C6,LISTE!$B$2:$B$100,0),1)),"",(INDEX(LISTE!$A$2:$D$8,MATCH(C6,LISTE!$B$2:$B$100,0),1))) | E6: =IF(ISERROR(INDEX(LISTE!$A$2:$D$8,MATCH(C6,LISTE!$B$2:$B$100,0),4)),"",(INDEX(LISTE!$A$2:$D$8,MATCH(C6,LISTE!$B$2:$B$100,0),4)))
B7: =IF(ISERROR(INDEX(LISTE!$A$2:$D$8,MATCH(C7,LISTE!$B$2:$B$100,0),1)),"",(INDEX(LISTE!$A$2:$D$8,MATCH(C7,LISTE!$B$2:$B$100,0),1))) | E7: =IF(ISERROR(INDEX(LISTE!$A$2:$D$8,MATCH(C7,LISTE!$B$2:$B$100,0),4)),"",(INDEX(LISTE!$A$2:$D$8,MATCH(C7,LISTE!$B$2:$B$100,0),4)))
B8: =IF(ISERROR(INDEX(LISTE!$A$2:$D$8,MATCH(C8,LISTE!$B$2:$B$100,0),1)),"",(INDEX(LISTE!$A$2:$D$8,MATCH(C8,LISTE!$B$2:$B$100,0),1))) | E8: =IF(ISERROR(INDEX(LISTE!$A$2:$D$8,MATCH(C8,LISTE!$B$2:$B$100,0),4)),"",(INDEX(LISTE!$A$2:$D$8,MATCH(C8,LISTE!$B$2:$B$100,0),4)))
B9: =IF(ISERROR(INDEX(LISTE!$A$2:$D$8,MATCH(C9,LISTE!$B$2:$B$100,0),1)),"",(INDEX(LISTE!$A$2:$D$8,MATCH(C9,LISTE!$B$2:$B$100,0),1))) | E9: =IF(ISERROR(INDEX(LISTE!$A$2:$D$8,MATCH(C9,LISTE!$B$2:$B$100,0),4)),"",(INDEX(LISTE!$A$2:$D$8,MATCH(C9,LISTE!$B$2:$B$100,0),4)))
B10: =IF(ISERROR(INDEX(LISTE!$A$2:$D$8,MATCH(C10,LISTE!$B$2:$B$100,0),1)),"",(INDEX(LISTE!$A$2:$D$8,MATCH(C10,LISTE!$B$2:$B$100,0),1))) | E10: =IF(ISERROR(INDEX(LISTE!$A$2:$D$8,MATCH(C10,LISTE!$B$2:$B$100,0),4)),"",(INDEX(LISTE!$A$2:$D$8,MATCH(C10,LISTE!$B$2:$B$100,0),4)))
B11: =IF(ISERROR(INDEX(LISTE!$A$2:$D$8,MATCH(C11,LISTE!$B$2:$B$100,0),1)),"",(INDEX(LISTE!$A$2:$D$8,MATCH(C11,LISTE!$B$2:$B$100,0),1))) | E11: =IF(ISERROR(INDEX(LISTE!$A$2:$D$8,MATCH(C11,LISTE!$B$2:$B$100,0),4)),"",(INDEX(LISTE!$A$2:$D$8,MATCH(C11,LISTE!$B$2:$B$100,0),4)))
B12: =IF(ISERROR(INDEX(LISTE!$A$2:$D$8,MATCH(C12,LISTE!$B$2:$B$100,0),1)),"",(INDEX(LISTE!$A$2:$D$8,MATCH(C12,LISTE!$B$2:$B$100,0),1))) | E12: =IF(ISERROR(INDEX(LISTE!$A$2:$D$8,MATCH(C12,LISTE!$B$2:$B$100,0),4)),"",(INDEX(LISTE!$A$2:$D$8,MATCH(C12,LISTE!$B$2:$B$100,0),4)))
B13: =IF(ISERROR(INDEX(LISTE!$A$2:$D$8,MATCH(C13,LISTE!$B$2:$B$100,0),1)),"",(INDEX(LISTE!$A$2:$D$8,MATCH(C13,LISTE!$B$2:$B$100,0),1))) | E13: =IF(ISERROR(INDEX(LISTE!$A$2:$D$8,MATCH(C13,LISTE!$B$2:$B$100,0),4)),"",(INDEX(LISTE!$A$2:$D$8,MATCH(C13,LISTE!$B$2:$B$100,0),4)))
B14: =IF(ISERROR(INDEX(LISTE!$A$2:$D$8,MATCH(C14,LISTE!$B$2:$B$100,0),1)),"",(INDEX(LISTE!$A$2:$D$8,MATCH(C14,LISTE!$B$2:$B$100,0),1))) | E14: =IF(ISERROR(INDEX(LISTE!$A$2:$D$8,MATCH(C14,LISTE!$B$2:$B$100,0),4)),"",(INDEX(LISTE!$A$2:$D$8,MATCH(C14,LISTE!$B$2:$B$100,0),4)))
... B31: =IF(ISERROR(INDEX(LISTE!$A$2:$D$8,MATCH(C31,LISTE!$B$2:$B$100,0),1)),"",(INDEX(LISTE!$A$2:$D$8,MATCH(C31,LISTE!$B$2:$B$100,0),1))) | E31: =IF(ISERROR(INDEX(LISTE!$A$2:$D$8,MATCH(C31,LISTE!$B$2:$B$100,0),4)),"",(INDEX(LISTE!$A$2:$D$8,MATCH(C31,LISTE!$B$2:$B$100,0),4)))
B32: =IF(ISERROR(INDEX(LISTE!$A$2:$D$8,MATCH(C32,LISTE!$B$2:$B$100,0),1)),"",(INDEX(LISTE!$A$2:$D$8,MATCH(C32,LISTE!$B$2:$B$100,0),1)))

Sheet ELEC
A1: Date | B1: Désignation | C1: Code | D1: Nbr | E1: Prix unitaire | F1: Prix total
A2: 42926 | B2: =IF(ISERROR(INDEX(LISTE!$A$2:$D$1000,MATCH(C2,LISTE!$B$2:$B$100,0),1)),"",(INDEX(LISTE!$A$2:$D$1000,MATCH(C2,LISTE!$B$2:$B$100,0),1))) -> CASQUE | C2: 23540 | D2: 10 | E2: =IF(ISERROR(INDEX(LISTE!$A$2:$D$1000,MATCH(C2,LISTE!$B$2:$B$100,0),4)),"",(INDEX(LISTE!$A$2:$D$1000,MATCH(C2,LISTE!$B$2:$B$100,0),4))) -> 11.4 | F2: =IF(ISERROR(D2*E2),"",D2*E2) -> 114
A3: 43031 | B3: =IF(ISERROR(INDEX(LISTE!$A$2:$D$1000,MATCH(C3,LISTE!$B$2:$B$100,0),1)),"",(INDEX(LISTE!$A$2:$D$1000,MATCH(C3,LISTE!$B$2:$B$100,0),1))) -> GANT ANTI CHALEUR | C3: 8902 | D3: 5 | E3: =IF(ISERROR(INDEX(LISTE!$A$2:$D$1000,MATCH(C3,LISTE!$B$2:$B$100,0),4)),"",(INDEX(LISTE!$A$2:$D$1000,MATCH(C3,LISTE!$B$2:$B$100,0),4))) -> 8.95 | F3: =IF(ISERROR(D3*E3),"",D3*E3) -> 44.75
A4: 43031 | B4: =IF(ISERROR(INDEX(LISTE!$A$2:$D$1000,MATCH(C4,LISTE!$B$2:$B$100,0),1)),"",(INDEX(LISTE!$A$2:$D$1000,MATCH(C4,LISTE!$B$2:$B$100,0),1))) -> CASQUE ANTI BRUITS | C4: 25400 | D4: 12 | E4: =IF(ISERROR(INDEX(LISTE!$A$2:$D$1000,MATCH(C4,LISTE!$B$2:$B$100,0),4)),"",(INDEX(LISTE!$A$2:$D$1000,MATCH(C4,LISTE!$B$2:$B$100,0),4))) -> 12.3 | F4: =IF(ISERROR(D4*E4),"",D4*E4) -> 147.6
A5: 43031 | B5: =IF(ISERROR(INDEX(LISTE!$A$2:$D$1000,MATCH(C5,LISTE!$B$2:$B$100,0),1)),"",(INDEX(LISTE!$A$2:$D$1000,MATCH(C5,LISTE!$B$2:$B$100,0),1))) -> CASQUE | C5: 23540 | D5: 5 | E5: =IF(ISERROR(INDEX(LISTE!$A$2:$D$1000,MATCH(C5,LISTE!$B$2:$B$100,0),4)),"",(INDEX(LISTE!$A$2:$D$1000,MATCH(C5,LISTE!$B$2:$B$100,0),4))) -> 11.4 | F5: =IF(ISERROR(D5*E5),"",D5*E5) -> 57
A6: 43031 | B6: =IF(ISERROR(INDEX(LISTE!$A$2:$D$1000,MATCH(C6,LISTE!$B$2:$B$100,0),1)),"",(INDEX(LISTE!$A$2:$D$1000,MATCH(C6,LISTE!$B$2:$B$100,0),1))) -> GANTS ANTI COUPURE | C6: 9760 | D6: 4 | E6: =IF(ISERROR(INDEX(LISTE!$A$2:$D$1000,MATCH(C6,LISTE!$B$2:$B$100,0),4)),"",(INDEX(LISTE!$A$2:$D$1000,MATCH(C6,LISTE!$B$2:$B$100,0),4))) -> 12.45 | F6: =IF(ISERROR(D6*E6),"",D6*E6) -> 49.8
B7: =IF(ISERROR(INDEX(LISTE!$A$2:$D$1000,MATCH(C7,LISTE!$B$2:$B$100,0),1)),"",(INDEX(LISTE!$A$2:$D$1000,MATCH(C7,LISTE!$B$2:$B$100,0),1))) | E7: =IF(ISERROR(INDEX(LISTE!$A$2:$D$1000,MATCH(C7,LISTE!$B$2:$B$100,0),4)),"",(INDEX(LISTE!$A$2:$D$1000,MATCH(C7,LISTE!$B$2:$B$100,0),4))) | F7: =IF(ISERROR(D7*E7),"",D7*E7)
B8: =IF(ISERROR(INDEX(LISTE!$A$2:$D$1000,MATCH(C8,LISTE!$B$2:$B$100,0),1)),"",(INDEX(LISTE!$A$2:$D$1000,MATCH(C8,LISTE!$B$2:$B$100,0),1))) | E8: =IF(ISERROR(INDEX(LISTE!$A$2:$D$1000,MATCH(C8,LISTE!$B$2:$B$100,0),4)),"",(INDEX(LISTE!$A$2:$D$1000,MATCH(C8,LISTE!$B$2:$B$100,0),4))) | F8: =IF(ISERROR(D8*E8),"",D8*E8)
B9: =IF(ISERROR(INDEX(LISTE!$A$2:$D$1000,MATCH(C9,LISTE!$B$2:$B$100,0),1)),"",(INDEX(LISTE!$A$2:$D$1000,MATCH(C9,LISTE!$B$2:$B$100,0),1))) | E9: =IF(ISERROR(INDEX(LISTE!$A$2:$D$1000,MATCH(C9,LISTE!$B$2:$B$100,0),4)),"",(INDEX(LISTE!$A$2:$D$1000,MATCH(C9,LISTE!$B$2:$B$100,0),4))) | F9: =IF(ISERROR(D9*E9),"",D9*E9)
B10: =IF(ISERROR(INDEX(LISTE!$A$2:$D$1000,MATCH(C10,LISTE!$B$2:$B$100,0),1)),"",(INDEX(LISTE!$A$2:$D$1000,MATCH(C10,LISTE!$B$2:$B$100,0),1))) | E10: =IF(ISERROR(INDEX(LISTE!$A$2:$D$1000,MATCH(C10,LISTE!$B$2:$B$100,0),4)),"",(INDEX(LISTE!$A$2:$D$1000,MATCH(C10,LISTE!$B$2:$B$100,0),4))) | F10: =IF(ISERROR(D10*E10),"",D10*E10)
B11: =IF(ISERROR(INDEX(LISTE!$A$2:$D$1000,MATCH(C11,LISTE!$B$2:$B$100,0),1)),"",(INDEX(LISTE!$A$2:$D$1000,MATCH(C11,LISTE!$B$2:$B$100,0),1))) | E11: =IF(ISERROR(INDEX(LISTE!$A$2:$D$1000,MATCH(C11,LISTE!$B$2:$B$100,0),4)),"",(INDEX(LISTE!$A$2:$D$1000,MATCH(C11,LISTE!$B$2:$B$100,0),4))) | F11: =IF(ISERROR(D11*E11),"",D11*E11)
B12: =IF(ISERROR(INDEX(LISTE!$A$2:$D$1000,MATCH(C12,LISTE!$B$2:$B$100,0),1)),"",(INDEX(LISTE!$A$2:$D$1000,MATCH(C12,LISTE!$B$2:$B$100,0),1))) | E12: =IF(ISERROR(INDEX(LISTE!$A$2:$D$1000,MATCH(C12,LISTE!$B$2:$B$100,0),4)),"",(INDEX(LISTE!$A$2:$D$1000,MATCH(C12,LISTE!$B$2:$B$100,0),4))) | F12: =IF(ISERROR(D12*E12),"",D12*E12)
B13: =IF(ISERROR(INDEX(LISTE!$A$2:$D$1000,MATCH(C13,LISTE!$B$2:$B$100,0),1)),"",(INDEX(LISTE!$A$2:$D$1000,MATCH(C13,LISTE!$B$2:$B$100,0),1))) | E13: =IF(ISERROR(INDEX(LISTE!$A$2:$D$1000,MATCH(C13,LISTE!$B$2:$B$100,0),4)),"",(INDEX(LISTE!$A$2:$D$1000,MATCH(C13,LISTE!$B$2:$B$100,0),4))) | F13: =IF(ISERROR(D13*E13),"",D13*E13)
B14: =IF(ISERROR(INDEX(LISTE!$A$2:$D$1000,MATCH(C14,LISTE!$B$2:$B$100,0),1)),"",(INDEX(LISTE!$A$2:$D$1000,MATCH(C14,LISTE!$B$2:$B$100,0),1))) | E14: =IF(ISERROR(INDEX(LISTE!$A$2:$D$1000,MATCH(C14,LISTE!$B$2:$B$100,0),4)),"",(INDEX(LISTE!$A$2:$D$1000,MATCH(C14,LISTE!$B$2:$B$100,0),4))) | F14: =IF(ISERROR(D14*E14),"",D14*E14)
B15: =IF(ISERROR(INDEX(LISTE!$A$2:$D$1000,MATCH(C15,LISTE!$B$2:$B$100,0),1)),"",(INDEX(LISTE!$A$2:$D$1000,MATCH(C15,LISTE!$B$2:$B$100,0),1))) | E15: =IF(ISERROR(INDEX(LISTE!$A$2:$D$1000,MATCH(C15,LISTE!$B$2:$B$100,0),4)),"",(INDEX(LISTE!$A$2:$D$1000,MATCH(C15,LISTE!$B$2:$B$100,0),4))) | F15: =IF(ISERROR(D15*E15),"",D15*E15)
B16: =IF(ISERROR(INDEX(LISTE!$A$2:$D$1000,MATCH(C16,LISTE!$B$2:$B$100,0),1)),"",(INDEX(LISTE!$A$2:$D$1000,MATCH(C16,LISTE!$B$2:$B$100,0),1))) | E16: =IF(ISERROR(INDEX(LISTE!$A$2:$D$1000,MATCH(C16,LISTE!$B$2:$B$100,0),4)),"",(INDEX(LISTE!$A$2:$D$1000,MATCH(C16,LISTE!$B$2:$B$100,0),4))) | F16: =IF(ISERROR(D16*E16),"",D16*E16)
B17: =IF(ISERROR(INDEX(LISTE!$A$2:$D$1000,MATCH(C17,LISTE!$B$2:$B$100,0),1)),"",(INDEX(LISTE!$A$2:$D$1000,MATCH(C17,LISTE!$B$2:$B$100,0),1))) | E17: =IF(ISERROR(INDEX(LISTE!$A$2:$D$1000,MATCH(C17,LISTE!$B$2:$B$100,0),4)),"",(INDEX(LISTE!$A$2:$D$1000,MATCH(C17,LISTE!$B$2:$B$100,0),4))) | F17: =IF(ISERROR(D17*E17),"",D17*E17)
B18: =IF(ISERROR(INDEX(LISTE!$A$2:$D$1000,MATCH(C18,LISTE!$B$2:$B$100,0),1)),"",(INDEX(LISTE!$A$2:$D$1000,MATCH(C18,LISTE!$B$2:$B$100,0),1))) | E18: =IF(ISERROR(INDEX(LISTE!$A$2:$D$8,MATCH(C18,LISTE!$B$2:$B$100,0),4)),"",(INDEX(LISTE!$A$2:$D$8,MATCH(C18,LISTE!$B$2:$B$100,0),4))) | F18: =IF(ISERROR(D18*E18),"",D18*E18)
B19: =IF(ISERROR(INDEX(LISTE!$A$2:$D$1000,MATCH(C19,LISTE!$B$2:$B$100,0),1)),"",(INDEX(LISTE!$A$2:$D$1000,MATCH(C19,LISTE!$B$2:$B$100,0),1))) | E19: =IF(ISERROR(INDEX(LISTE!$A$2:$D$8,MATCH(C19,LISTE!$B$2:$B$100,0),4)),"",(INDEX(LISTE!$A$2:$D$8,MATCH(C19,LISTE!$B$2:$B$100,0),4))) | F19: =IF(ISERROR(D19*E19),"",D19*E19)
B20: =IF(ISERROR(INDEX(LISTE!$A$2:$D$1000,MATCH(C20,LISTE!$B$2:$B$100,0),1)),"",(INDEX(LISTE!$A$2:$D$1000,MATCH(C20,LISTE!$B$2:$B$100,0),1)))
B21: =IF(ISERROR(INDEX(LISTE!$A$2:$D$8,MATCH(C21,LISTE!$B$2:$B$100,0),1)),"",(INDEX(LISTE!$A$2:$D$8,MATCH(C21,LISTE!$B$2:$B$100,0),1)))
B22: =IF(ISERROR(INDEX(LISTE!$A$2:$D$8,MATCH(C22,LISTE!$B$2:$B$100,0),1)),"",(INDEX(LISTE!$A$2:$D$8,MATCH(C22,LISTE!$B$2:$B$100,0),1)))
B23: =IF(ISERROR(INDEX(LISTE!$A$2:$D$8,MATCH(C23,LISTE!$B$2:$B$100,0),1)),"",(INDEX(LISTE!$A$2:$D$8,MATCH(C23,LISTE!$B$2:$B$100,0),1)))

Sheet MECA
A1: Date | B1: Désignation | C1: Code | D1: Nbr | E1: Prix unitaire | F1: Prix total
A2: 42865 | B2: =IF(ISERROR(INDEX(LISTE!$A$2:$D$1000,MATCH(C2,LISTE!$B$2:$B$100,0),1)),"",(INDEX(LISTE!$A$2:$D$1000,MATCH(C2,LISTE!$B$2:$B$100,0),1))) -> GANTS ANTI COUPURE | C2: 9760 | D2: 4 | E2: =IF(ISERROR(INDEX(LISTE!$A$2:$D$1000,MATCH(C2,LISTE!$B$2:$B$100,0),4)),"",(INDEX(LISTE!$A$2:$D$1000,MATCH(C2,LISTE!$B$2:$B$100,0),4))) -> 12.45 | F2: =IF(ISERROR(D2*E2),"",D2*E2) -> 49.8
A3: 42865 | B3: =IF(ISERROR(INDEX(LISTE!$A$2:$D$1000,MATCH(C3,LISTE!$B$2:$B$100,0),1)),"",(INDEX(LISTE!$A$2:$D$1000,MATCH(C3,LISTE!$B$2:$B$100,0),1))) -> PANTALON TRAVAIL | C3: 23660 | D3: 10 | E3: =IF(ISERROR(INDEX(LISTE!$A$2:$D$1000,MATCH(C3,LISTE!$B$2:$B$100,0),4)),"",(INDEX(LISTE!$A$2:$D$1000,MATCH(C3,LISTE!$B$2:$B$100,0),4))) -> 23 | F3: =IF(ISERROR(D3*E3),"",D3*E3) -> 230
A4: 43031 | B4: =IF(ISERROR(INDEX(LISTE!$A$2:$D$1000,MATCH(C4,LISTE!$B$2:$B$100,0),1)),"",(INDEX(LISTE!$A$2:$D$1000,MATCH(C4,LISTE!$B$2:$B$100,0),1))) -> GANT ANTI CHALEUR | C4: 8902 | D4: 5 | E4: =IF(ISERROR(INDEX(LISTE!$A$2:$D$1000,MATCH(C4,LISTE!$B$2:$B$100,0),4)),"",(INDEX(LISTE!$A$2:$D$1000,MATCH(C4,LISTE!$B$2:$B$100,0),4))) -> 8.95 | F4: =IF(ISERROR(D4*E4),"",D4*E4) -> 44.75
A5: 43031 | B5: =IF(ISERROR(INDEX(LISTE!$A$2:$D$1000,MATCH(C5,LISTE!$B$2:$B$100,0),1)),"",(INDEX(LISTE!$A$2:$D$1000,MATCH(C5,LISTE!$B$2:$B$100,0),1))) -> CASQUE ANTI BRUITS | C5: 25400 | D5: 8 | E5: =IF(ISERROR(INDEX(LISTE!$A$2:$D$1000,MATCH(C5,LISTE!$B$2:$B$100,0),4)),"",(INDEX(LISTE!$A$2:$D$1000,MATCH(C5,LISTE!$B$2:$B$100,0),4))) -> 12.3 | F5: =IF(ISERROR(D5*E5),"",D5*E5) -> 98.4
A6: 43031 | B6: =IF(ISERROR(INDEX(LISTE!$A$2:$D$1000,MATCH(C6,LISTE!$B$2:$B$100,0),1)),"",(INDEX(LISTE!$A$2:$D$1000,MATCH(C6,LISTE!$B$2:$B$100,0),1))) -> GANTS ANTI COUPURE | C6: 9760 | D6: 15 | E6: =IF(ISERROR(INDEX(LISTE!$A$2:$D$1000,MATCH(C6,LISTE!$B$2:$B$100,0),4)),"",(INDEX(LISTE!$A$2:$D$1000,MATCH(C6,LISTE!$B$2:$B$100,0),4))) -> 12.45 | F6: =IF(ISERROR(D6*E6),"",D6*E6) -> 186.75
B7: =IF(ISERROR(INDEX(LISTE!$A$2:$D$1000,MATCH(C7,LISTE!$B$2:$B$100,0),1)),"",(INDEX(LISTE!$A$2:$D$1000,MATCH(C7,LISTE!$B$2:$B$100,0),1))) | E7: =IF(ISERROR(INDEX(LISTE!$A$2:$D$1000,MATCH(C7,LISTE!$B$2:$B$100,0),4)),"",(INDEX(LISTE!$A$2:$D$1000,MATCH(C7,LISTE!$B$2:$B$100,0),4))) | F7: =IF(ISERROR(D7*E7),"",D7*E7)
B8: =IF(ISERROR(INDEX(LISTE!$A$2:$D$1000,MATCH(C8,LISTE!$B$2:$B$100,0),1)),"",(INDEX(LISTE!$A$2:$D$1000,MATCH(C8,LISTE!$B$2:$B$100,0),1))) | E8: =IF(ISERROR(INDEX(LISTE!$A$2:$D$1000,MATCH(C8,LISTE!$B$2:$B$100,0),4)),"",(INDEX(LISTE!$A$2:$D$1000,MATCH(C8,LISTE!$B$2:$B$100,0),4))) | F8: =IF(ISERROR(D8*E8),"",D8*E8)
B9: =IF(ISERROR(INDEX(LISTE!$A$2:$D$1000,MATCH(C9,LISTE!$B$2:$B$100,0),1)),"",(INDEX(LISTE!$A$2:$D$1000,MATCH(C9,LISTE!$B$2:$B$100,0),1))) | E9: =IF(ISERROR(INDEX(LISTE!$A$2:$D$1000,MATCH(C9,LISTE!$B$2:$B$100,0),4)),"",(INDEX(LISTE!$A$2:$D$1000,MATCH(C9,LISTE!$B$2:$B$100,0),4))) | F9: =IF(ISERROR(D9*E9),"",D9*E9)
B10: =IF(ISERROR(INDEX(LISTE!$A$2:$D$1000,MATCH(C10,LISTE!$B$2:$B$100,0),1)),"",(INDEX(LISTE!$A$2:$D$1000,MATCH(C10,LISTE!$B$2:$B$100,0),1))) | E10: =IF(ISERROR(INDEX(LISTE!$A$2:$D$1000,MATCH(C10,LISTE!$B$2:$B$100,0),4)),"",(INDEX(LISTE!$A$2:$D$1000,MATCH(C10,LISTE!$B$2:$B$100,0),4))) | F10: =IF(ISERROR(D10*E10),"",D10*E10)
B11: =IF(ISERROR(INDEX(LISTE!$A$2:$D$1000,MATCH(C11,LISTE!$B$2:$B$100,0),1)),"",(INDEX(LISTE!$A$2:$D$1000,MATCH(C11,LISTE!$B$2:$B$100,0),1))) | E11: =IF(ISERROR(INDEX(LISTE!$A$2:$D$1000,MATCH(C11,LISTE!$B$2:$B$100,0),4)),"",(INDEX(LISTE!$A$2:$D$1000,MATCH(C11,LISTE!$B$2:$B$100,0),4))) | F11: =IF(ISERROR(D11*E11),"",D11*E11)
B12: =IF(ISERROR(INDEX(LISTE!$A$2:$D$1000,MATCH(C12,LISTE!$B$2:$B$100,0),1)),"",(INDEX(LISTE!$A$2:$D$1000,MATCH(C12,LISTE!$B$2:$B$100,0),1))) | E12: =IF(ISERROR(INDEX(LISTE!$A$2:$D$1000,MATCH(C12,LISTE!$B$2:$B$100,0),4)),"",(INDEX(LISTE!$A$2:$D$1000,MATCH(C12,LISTE!$B$2:$B$100,0),4))) | F12: =IF(ISERROR(D12*E12),"",D12*E12)
B13: =IF(ISERROR(INDEX(LISTE!$A$2:$D$1000,MATCH(C13,LISTE!$B$2:$B$100,0),1)),"",(INDEX(LISTE!$A$2:$D$1000,MATCH(C13,LISTE!$B$2:$B$100,0),1))) | E13: =IF(ISERROR(INDEX(LISTE!$A$2:$D$1000,MATCH(C13,LISTE!$B$2:$B$100,0),4)),"",(INDEX(LISTE!$A$2:$D$1000,MATCH(C13,LISTE!$B$2:$B$100,0),4))) | F13: =IF(ISERROR(D13*E13),"",D13*E13)
B14: =IF(ISERROR(INDEX(LISTE!$A$2:$D$1000,MATCH(C14,LISTE!$B$2:$B$100,0),1)),"",(INDEX(LISTE!$A$2:$D$1000,MATCH(C14,LISTE!$B$2:$B$100,0),1))) | E14: =IF(ISERROR(INDEX(LISTE!$A$2:$D$1000,MATCH(C14,LISTE!$B$2:$B$100,0),4)),"",(INDEX(LISTE!$A$2:$D$1000,MATCH(C14,LISTE!$B$2:$B$100,0),4))) | F14: =IF(ISERROR(D14*E14),"",D14*E14)
B15: =IF(ISERROR(INDEX(LISTE!$A$2:$D$1000,MATCH(C15,LISTE!$B$2:$B$100,0),1)),"",(INDEX(LISTE!$A$2:$D$1000,MATCH(C15,LISTE!$B$2:$B$100,0),1))) | E15: =IF(ISERROR(INDEX(LISTE!$A$2:$D$1000,MATCH(C15,LISTE!$B$2:$B$100,0),4)),"",(INDEX(LISTE!$A$2:$D$1000,MATCH(C15,LISTE!$B$2:$B$100,0),4))) | F15: =IF(ISERROR(D15*E15),"",D15*E15)
B16: =IF(ISERROR(INDEX(LISTE!$A$2:$D$1000,MATCH(C16,LISTE!$B$2:$B$100,0),1)),"",(INDEX(LISTE!$A$2:$D$1000,MATCH(C16,LISTE!$B$2:$B$100,0),1))) | E16: =IF(ISERROR(INDEX(LISTE!$A$2:$D$1000,MATCH(C16,LISTE!$B$2:$B$100,0),4)),"",(INDEX(LISTE!$A$2:$D$1000,MATCH(C16,LISTE!$B$2:$B$100,0),4))) | F16: =IF(ISERROR(D16*E16),"",D16*E16)
B17: =IF(ISERROR(INDEX(LISTE!$A$2:$D$1000,MATCH(C17,LISTE!$B$2:$B$100,0),1)),"",(INDEX(LISTE!$A$2:$D$1000,MATCH(C17,LISTE!$B$2:$B$100,0),1))) | E17: =IF(ISERROR(INDEX(LISTE!$A$2:$D$1000,MATCH(C17,LISTE!$B$2:$B$100,0),4)),"",(INDEX(LISTE!$A$2:$D$1000,MATCH(C17,LISTE!$B$2:$B$100,0),4)))
B18: =IF(ISERROR(INDEX(LISTE!$A$2:$D$1000,MATCH(C18,LISTE!$B$2:$B$100,0),1)),"",(INDEX(LISTE!$A$2:$D$1000,MATCH(C18,LISTE!$B$2:$B$100,0),1)))
B19: =IF(ISERROR(INDEX(LISTE!$A$2:$D$1000,MATCH(C19,LISTE!$B$2:$B$100,0),1)),"",(INDEX(LISTE!$A$2:$D$1000,MATCH(C19,LISTE!$B$2:$B$100,0),1)))
B20: =IF(ISERROR(INDEX(LISTE!$A$2:$D$1000,MATCH(C20,LISTE!$B$2:$B$100,0),1)),"",(INDEX(LISTE!$A$2:$D$1000,MATCH(C20,LISTE!$B$2:$B$100,0),1)))
B21: =IF(ISERROR(INDEX(LISTE!$A$2:$D$1000,MATCH(C21,LISTE!$B$2:$B$100,0),1)),"",(INDEX(LISTE!$A$2:$D$1000,MATCH(C21,LISTE!$B$2:$B$100,0),1)))

Sheet MENUI
A1: Date | B1: Désignation | C1: Code | D1: Nbr | E1: Prix unitaire | F1: Prix total
A2: 43031 | B2: =IF(ISERROR(INDEX(LISTE!$A$2:$D$8,MATCH(C2,LISTE!$B$2:$B$100,0),1)),"",(INDEX(LISTE!$A$2:$D$8,MATCH(C2,LISTE!$B$2:$B$100,0),1))) -> GANTS ANTI COUPURE | C2: 9760 | D2: 4 | E2: =IF(ISERROR(INDEX(LISTE!$A$2:$D$8,MATCH(C2,LISTE!$B$2:$B$100,0),4)),"",(INDEX(LISTE!$A$2:$D$8,MATCH(C2,LISTE!$B$2:$B$100,0),4))) -> 12.45 | F2: =IF(ISERROR(D2*E2),"",D2*E2) -> 49.8
A3: 43031 | B3: =IF(ISERROR(INDEX(LISTE!$A$2:$D$8,MATCH(C3,LISTE!$B$2:$B$100,0),1)),"",(INDEX(LISTE!$A$2:$D$8,MATCH(C3,LISTE!$B$2:$B$100,0),1))) -> VISIERE | C3: 12340 | D3: 2 | E3: =IF(ISERROR(INDEX(LISTE!$A$2:$D$8,MATCH(C3,LISTE!$B$2:$B$100,0),4)),"",(INDEX(LISTE!$A$2:$D$8,MATCH(C3,LISTE!$B$2:$B$100,0),4))) -> 6.9 | F3: =IF(ISERROR(D3*E3),"",D3*E3) -> 13.8
A4: 43031 | B4: =IF(ISERROR(INDEX(LISTE!$A$2:$D$8,MATCH(C4,LISTE!$B$2:$B$100,0),1)),"",(INDEX(LISTE!$A$2:$D$8,MATCH(C4,LISTE!$B$2:$B$100,0),1))) -> CASQUE | C4: 23540 | D4: 3 | E4: =IF(ISERROR(INDEX(LISTE!$A$2:$D$8,MATCH(C4,LISTE!$B$2:$B$100,0),4)),"",(INDEX(LISTE!$A$2:$D$8,MATCH(C4,LISTE!$B$2:$B$100,0),4))) -> 11.4 | F4: =IF(ISERROR(D4*E4),"",D4*E4) -> 34.2
B5: =IF(ISERROR(INDEX(LISTE!$A$2:$D$8,MATCH(C5,LISTE!$B$2:$B$100,0),1)),"",(INDEX(LISTE!$A$2:$D$8,MATCH(C5,LISTE!$B$2:$B$100,0),1))) | E5: =IF(ISERROR(INDEX(LISTE!$A$2:$D$8,MATCH(C5,LISTE!$B$2:$B$100,0),4)),"",(INDEX(LISTE!$A$2:$D$8,MATCH(C5,LISTE!$B$2:$B$100,0),4))) | F5: =IF(ISERROR(D5*E5),"",D5*E5)
B6: =IF(ISERROR(INDEX(LISTE!$A$2:$D$8,MATCH(C6,LISTE!$B$2:$B$100,0),1)),"",(INDEX(LISTE!$A$2:$D$8,MATCH(C6,LISTE!$B$2:$B$100,0),1))) | E6: =IF(ISERROR(INDEX(LISTE!$A$2:$D$8,MATCH(C6,LISTE!$B$2:$B$100,0),4)),"",(INDEX(LISTE!$A$2:$D$8,MATCH(C6,LISTE!$B$2:$B$100,0),4))) | F6: =IF(ISERROR(D6*E6),"",D6*E6)
B7: =IF(ISERROR(INDEX(LISTE!$A$2:$D$8,MATCH(C7,LISTE!$B$2:$B$100,0),1)),"",(INDEX(LISTE!$A$2:$D$8,MATCH(C7,LISTE!$B$2:$B$100,0),1))) | E7: =IF(ISERROR(INDEX(LISTE!$A$2:$D$8,MATCH(C7,LISTE!$B$2:$B$100,0),4)),"",(INDEX(LISTE!$A$2:$D$8,MATCH(C7,LISTE!$B$2:$B$100,0),4))) | F7: =IF(ISERROR(D7*E7),"",D7*E7)
B8: =IF(ISERROR(INDEX(LISTE!$A$2:$D$8,MATCH(C8,LISTE!$B$2:$B$100,0),1)),"",(INDEX(LISTE!$A$2:$D$8,MATCH(C8,LISTE!$B$2:$B$100,0),1))) | E8: =IF(ISERROR(INDEX(LISTE!$A$2:$D$8,MATCH(C8,LISTE!$B$2:$B$100,0),4)),"",(INDEX(LISTE!$A$2:$D$8,MATCH(C8,LISTE!$B$2:$B$100,0),4))) | F8: =IF(ISERROR(D8*E8),"",D8*E8)
B9: =IF(ISERROR(INDEX(LISTE!$A$2:$D$8,MATCH(C9,LISTE!$B$2:$B$100,0),1)),"",(INDEX(LISTE!$A$2:$D$8,MATCH(C9,LISTE!$B$2:$B$100,0),1))) | E9: =IF(ISERROR(INDEX(LISTE!$A$2:$D$8,MATCH(C9,LISTE!$B$2:$B$100,0),4)),"",(INDEX(LISTE!$A$2:$D$8,MATCH(C9,LISTE!$B$2:$B$100,0),4))) | F9: =IF(ISERROR(D9*E9),"",D9*E9)
B10: =IF(ISERROR(INDEX(LISTE!$A$2:$D$8,MATCH(C10,LISTE!$B$2:$B$100,0),1)),"",(INDEX(LISTE!$A$2:$D$8,MATCH(C10,LISTE!$B$2:$B$100,0),1))) | E10: =IF(ISERROR(INDEX(LISTE!$A$2:$D$8,MATCH(C10,LISTE!$B$2:$B$100,0),4)),"",(INDEX(LISTE!$A$2:$D$8,MATCH(C10,LISTE!$B$2:$B$100,0),4))) | F10: =IF(ISERROR(D10*E10),"",D10*E10)
B11: =IF(ISERROR(INDEX(LISTE!$A$2:$D$8,MATCH(C11,LISTE!$B$2:$B$100,0),1)),"",(INDEX(LISTE!$A$2:$D$8,MATCH(C11,LISTE!$B$2:$B$100,0),1))) | E11: =IF(ISERROR(INDEX(LISTE!$A$2:$D$8,MATCH(C11,LISTE!$B$2:$B$100,0),4)),"",(INDEX(LISTE!$A$2:$D$8,MATCH(C11,LISTE!$B$2:$B$100,0),4))) | F11: =IF(ISERROR(D11*E11),"",D11*E11)

Sheet LISTE
A1: Désignation | B1: Code | C1: EN STOCK | D1: Prix unitaire | E1: STOCK LIMITE
A2: GANTS ANTI COUPURE | B2: 9760 | C2: 50 | D2: 12.45 | E2: 10
A3: VISIERE | B3: 12340 | C3: 40 | D3: 6.9 | E3: 10
A4: CASQUE | B4: 23540 | C4: 50 | D4: 11.4 | E4: 10
A5: PANTALON TRAVAIL | B5: 23660 | C5: 60 | D5: 23 | E5: 15
A6: VESTE TRAVAIL | B6: 23650 | C6: 20 | D6: 26 | E6: 5
A7: GANT ANTI CHALEUR | B7: 8902 | C7: 40 | D7: 8.95 | E7: 10
A8: GANTS ANTI VIBRATION | B8: 5678 | C8: 20 | D8: 10.6 | E8: 5
A9: BOUCHONS OREILLES 25DB | B9: 3560 | C9: 25 | D9: 15 | E9: 5
A10: CASQUE ANTI BRUITS | B10: 25400 | C10: 10 | D10: 12.3 | E10: 5
