Workbook
Name FERIES: Accueil!$A$2:$A$25
Name PERS: Accueil!$H$2:$H$21

Sheet Accueil
E1: 2017 | H1: PERSONNEL
A2: =DATE(E1,1,1) -> 42736 | B2: Premier de l'an | H2: A
A3: =A13+1 -> 42842 | B3: Lundi de Pâques | H3: Z
A4: =DATE(E1,5,1) -> 42856 | B4: Fête du travail | H4: E
A5: =DATE(E1,5,8) -> 42863 | B5: Victoire de 1945 | H5: R
A6: =A13+39 -> 42880 | B6: Ascension | H6: T
A7: =A13+50 -> 42891 | B7: Pentecôte | H7: Y
A8: =DATE(E1,7,14) -> 42930 | B8: Fête nationale | H8: U
A9: =DATE(E1,8,15) -> 42962 | B9: Assomption
A10: =DATE(E1,11,1) -> 43040 | B10: Toussaint
A11: =DATE(E1,11,11) -> 43050 | B11: Armistice
A12: =DATE(E1,12,25) -> 43094 | B12: Noël
A13: =DATE(E1,IF((25-MOD((11*MOD(E1-1900,19)+4-INT((7*MOD(E1-1900,19)+1)/19)),29)-MOD(E1-1900+INT((E1-1900)/4)+31-MOD((11*MOD(E1-1900,19)+4-INT((7*MOD(E1-1900,19)+1)/19)),29),7))>0,4,3),IF((25-MOD((11*MOD(E1-1900,19)+4-INT((7*MOD(E1-1900,19)+1)/19)),29)-MOD(E1-1900+INT((E1-1900)/4)+31-MOD((11*MOD(E1-1900,19)+4-INT((7*MOD(E1-1900,19)+1)/19)),29),7))>0,(25-MOD((11*MOD(E1-1900,19)+4-INT((7*MOD(E1-1900,19)+1)/19)),29)-MOD(E1-1900+INT((E1-1900)/4)+31-MOD((11*MOD(E1-1900,19)+4-INT((7*MOD(E1-1900,19)+1)/19)),29),7)),31+(25-MOD((11*MOD(E1-1900,19)+4-INT((7*MOD(E1-1900,19)+1)/19)),29)-MOD(E1-1900+INT((E1-1900)/4)+31-MOD((11*MOD(E1-1900,19)+4-INT((7*MOD(E1-1900,19)+1)/19)),29),7)))) -> 42841 | B13: Pâques
B14: PCP
B15: PCP
B16: PCP
B17: PCP
B18: PCP
B19: PCP
B20: LOCAL
B21: LOCAL
B22: LOCAL
B23: LOCAL
A24: -
A25: -
B44: RELIQUAT DECEMBRE N-1
D46: =(Jan!D37) -> A | E46: =(Jan!E37) -> Z | F46: =(Jan!F37) -> E | G46: =(Jan!G37) -> R | H46: =(Jan!H37) -> T | I46: =(Jan!I37) -> Y | J46: =(Jan!J37) -> U | K46: =(Jan!K37) -> _ | ... V46: =(Jan!V37) -> _
C47: Lun/Mar
C48: Mer/Ven
C49: jeudi
C50: Samedi
C51: Dimanche
C52: Fériés
C53: Total | D53: =SUM(D47:D52) -> 0 | E53: =SUM(E47:E52) -> 0 | F53: =SUM(F47:F52) -> 0 | G53: =SUM(G47:G52) -> 0 | H53: =SUM(H47:H52) -> 0 | I53: =SUM(I47:I52) -> 0 | J53: =SUM(J47:J52) -> 0 | K53: =SUM(K47:K52) -> 0 | ... V53: =SUM(V47:V52) -> 0

Sheet Jan
A1: =DATE(Accueil!E1,1,1) -> 42736 | B1: DATE | C1: GRADE - NOM | D1: A | E1: Z | F1: E | G1: R | H1: T | I1: Y | J1: U | K1: _ | L1: _ | M1: _ | N1: _ | O1: _ | P1: _ | Q1: _ | R1: _ | S1: _ | T1: _ | U1: _ | V1: _ | W1: Récap
A2: =DATE(Accueil!E1,1,1) -> 42736 | B2: =DATE(Accueil!E1,1,1) -> 42736 | C2: A | D2: =IF($C2=D$1,1,"0") -> 1 | E2: =IF($C2=E$1,1,"0") -> 0 | F2: =IF($C2=F$1,1,"0") -> 0 | G2: =IF($C2=G$1,1,"0") -> 0 | H2: =IF($C2=H$1,1,"0") -> 0 | I2: =IF($C2=I$1,1,"0") -> 0 | J2: =IF($C2=J$1,1,"0") -> 0 | K2: =IF($C2=K$1,1,"0") -> 0 | ... V2: =IF($C2=V$1,1,"0") -> 0 | W2: =SUM(D2:V2) -> 1
A3: =(A2+1) -> 42737 | B3: =(B2+1) -> 42737 | C3: E | D3: =IF($C3=D$1,1,"0") -> 0 | E3: =IF($C3=E$1,1,"0") -> 0 | F3: =IF($C3=F$1,1,"0") -> 1 | G3: =IF($C3=G$1,1,"0") -> 0 | H3: =IF($C3=H$1,1,"0") -> 0 | I3: =IF($C3=I$1,1,"0") -> 0 | J3: =IF($C3=J$1,1,"0") -> 0 | K3: =IF($C3=K$1,1,"0") -> 0 | ... V3: =IF($C3=V$1,1,"0") -> 0 | W3: =SUM(D3:V3) -> 1
A4: =(A3+1) -> 42738 | B4: =(B3+1) -> 42738 | D4: =IF($C4=D$1,1,"0") -> 0 | E4: =IF($C4=E$1,1,"0") -> 0 | F4: =IF($C4=F$1,1,"0") -> 0 | G4: =IF($C4=G$1,1,"0") -> 0 | H4: =IF($C4=H$1,1,"0") -> 0 | I4: =IF($C4=I$1,1,"0") -> 0 | J4: =IF($C4=J$1,1,"0") -> 0 | K4: =IF($C4=K$1,1,"0") -> 0 | ... V4: =IF($C4=V$1,1,"0") -> 0 | W4: =SUM(D4:V4) -> 0
A5: =(A4+1) -> 42739 | B5: =(B4+1) -> 42739 | D5: =IF($C5=D$1,1,"0") -> 0 | E5: =IF($C5=E$1,1,"0") -> 0 | F5: =IF($C5=F$1,1,"0") -> 0 | G5: =IF($C5=G$1,1,"0") -> 0 | H5: =IF($C5=H$1,1,"0") -> 0 | I5: =IF($C5=I$1,1,"0") -> 0 | J5: =IF($C5=J$1,1,"0") -> 0 | K5: =IF($C5=K$1,1,"0") -> 0 | ... V5: =IF($C5=V$1,1,"0") -> 0 | W5: =SUM(D5:V5) -> 0
A6: =(A5+1) -> 42740 | B6: =(B5+1) -> 42740 | D6: =IF($C6=D$1,1,"0") -> 0 | E6: =IF($C6=E$1,1,"0") -> 0 | F6: =IF($C6=F$1,1,"0") -> 0 | G6: =IF($C6=G$1,1,"0") -> 0 | H6: =IF($C6=H$1,1,"0") -> 0 | I6: =IF($C6=I$1,1,"0") -> 0 | J6: =IF($C6=J$1,1,"0") -> 0 | K6: =IF($C6=K$1,1,"0") -> 0 | ... V6: =IF($C6=V$1,1,"0") -> 0 | W6: =SUM(D6:V6) -> 0
A7: =(A6+1) -> 42741 | B7: =(B6+1) -> 42741 | D7: =IF($C7=D$1,1,"0") -> 0 | E7: =IF($C7=E$1,1,"0") -> 0 | F7: =IF($C7=F$1,1,"0") -> 0 | G7: =IF($C7=G$1,1,"0") -> 0 | H7: =IF($C7=H$1,1,"0") -> 0 | I7: =IF($C7=I$1,1,"0") -> 0 | J7: =IF($C7=J$1,1,"0") -> 0 | K7: =IF($C7=K$1,1,"0") -> 0 | ... V7: =IF($C7=V$1,1,"0") -> 0 | W7: =SUM(D7:V7) -> 0
A8: =(A7+1) -> 42742 | B8: =(B7+1) -> 42742 | C8: Z | D8: =IF($C8=D$1,1,"0") -> 0 | E8: =IF($C8=E$1,1,"0") -> 1 | F8: =IF($C8=F$1,1,"0") -> 0 | G8: =IF($C8=G$1,1,"0") -> 0 | H8: =IF($C8=H$1,1,"0") -> 0 | I8: =IF($C8=I$1,1,"0") -> 0 | J8: =IF($C8=J$1,1,"0") -> 0 | K8: =IF($C8=K$1,1,"0") -> 0 | ... V8: =IF($C8=V$1,1,"0") -> 0 | W8: =SUM(D8:V8) -> 1
A9: =(A8+1) -> 42743 | B9: =(B8+1) -> 42743 | D9: =IF($C9=D$1,1,"0") -> 0 | E9: =IF($C9=E$1,1,"0") -> 0 | F9: =IF($C9=F$1,1,"0") -> 0 | G9: =IF($C9=G$1,1,"0") -> 0 | H9: =IF($C9=H$1,1,"0") -> 0 | I9: =IF($C9=I$1,1,"0") -> 0 | J9: =IF($C9=J$1,1,"0") -> 0 | K9: =IF($C9=K$1,1,"0") -> 0 | ... V9: =IF($C9=V$1,1,"0") -> 0 | W9: =SUM(D9:V9) -> 0
A10: =(A9+1) -> 42744 | B10: =(B9+1) -> 42744 | D10: =IF($C10=D$1,1,"0") -> 0 | E10: =IF($C10=E$1,1,"0") -> 0 | F10: =IF($C10=F$1,1,"0") -> 0 | G10: =IF($C10=G$1,1,"0") -> 0 | H10: =IF($C10=H$1,1,"0") -> 0 | I10: =IF($C10=I$1,1,"0") -> 0 | J10: =IF($C10=J$1,1,"0") -> 0 | K10: =IF($C10=K$1,1,"0") -> 0 | ... V10: =IF($C10=V$1,1,"0") -> 0 | W10: =SUM(D10:V10) -> 0
A11: =(A10+1) -> 42745 | B11: =(B10+1) -> 42745 | D11: =IF($C11=D$1,1,"0") -> 0 | E11: =IF($C11=E$1,1,"0") -> 0 | F11: =IF($C11=F$1,1,"0") -> 0 | G11: =IF($C11=G$1,1,"0") -> 0 | H11: =IF($C11=H$1,1,"0") -> 0 | I11: =IF($C11=I$1,1,"0") -> 0 | J11: =IF($C11=J$1,1,"0") -> 0 | K11: =IF($C11=K$1,1,"0") -> 0 | ... V11: =IF($C11=V$1,1,"0") -> 0 | W11: =SUM(D11:V11) -> 0
A12: =(A11+1) -> 42746 | B12: =(B11+1) -> 42746 | D12: =IF($C12=D$1,1,"0") -> 0 | E12: =IF($C12=E$1,1,"0") -> 0 | F12: =IF($C12=F$1,1,"0") -> 0 | G12: =IF($C12=G$1,1,"0") -> 0 | H12: =IF($C12=H$1,1,"0") -> 0 | I12: =IF($C12=I$1,1,"0") -> 0 | J12: =IF($C12=J$1,1,"0") -> 0 | K12: =IF($C12=K$1,1,"0") -> 0 | ... V12: =IF($C12=V$1,1,"0") -> 0 | W12: =SUM(D12:V12) -> 0
A13: =(A12+1) -> 42747 | B13: =(B12+1) -> 42747 | D13: =IF($C13=D$1,1,"0") -> 0 | E13: =IF($C13=E$1,1,"0") -> 0 | F13: =IF($C13=F$1,1,"0") -> 0 | G13: =IF($C13=G$1,1,"0") -> 0 | H13: =IF($C13=H$1,1,"0") -> 0 | I13: =IF($C13=I$1,1,"0") -> 0 | J13: =IF($C13=J$1,1,"0") -> 0 | K13: =IF($C13=K$1,1,"0") -> 0 | ... V13: =IF($C13=V$1,1,"0") -> 0 | W13: =SUM(D13:V13) -> 0
A14: =(A13+1) -> 42748 | B14: =(B13+1) -> 42748 | D14: =IF($C14=D$1,1,"0") -> 0 | E14: =IF($C14=E$1,1,"0") -> 0 | F14: =IF($C14=F$1,1,"0") -> 0 | G14: =IF($C14=G$1,1,"0") -> 0 | H14: =IF($C14=H$1,1,"0") -> 0 | I14: =IF($C14=I$1,1,"0") -> 0 | J14: =IF($C14=J$1,1,"0") -> 0 | K14: =IF($C14=K$1,1,"0") -> 0 | ... V14: =IF($C14=V$1,1,"0") -> 0 | W14: =SUM(D14:V14) -> 0
A15: =(A14+1) -> 42749 | B15: =(B14+1) -> 42749 | D15: =IF($C15=D$1,1,"0") -> 0 | E15: =IF($C15=E$1,1,"0") -> 0 | F15: =IF($C15=F$1,1,"0") -> 0 | G15: =IF($C15=G$1,1,"0") -> 0 | H15: =IF($C15=H$1,1,"0") -> 0 | I15: =IF($C15=I$1,1,"0") -> 0 | J15: =IF($C15=J$1,1,"0") -> 0 | K15: =IF($C15=K$1,1,"0") -> 0 | ... V15: =IF($C15=V$1,1,"0") -> 0 | W15: =SUM(D15:V15) -> 0
A16: =(A15+1) -> 42750 | B16: =(B15+1) -> 42750 | D16: =IF($C16=D$1,1,"0") -> 0 | E16: =IF($C16=E$1,1,"0") -> 0 | F16: =IF($C16=F$1,1,"0") -> 0 | G16: =IF($C16=G$1,1,"0") -> 0 | H16: =IF($C16=H$1,1,"0") -> 0 | I16: =IF($C16=I$1,1,"0") -> 0 | J16: =IF($C16=J$1,1,"0") -> 0 | K16: =IF($C16=K$1,1,"0") -> 0 | ... V16: =IF($C16=V$1,1,"0") -> 0 | W16: =SUM(D16:V16) -> 0
A17: =(A16+1) -> 42751 | B17: =(B16+1) -> 42751 | D17: =IF($C17=D$1,1,"0") -> 0 | E17: =IF($C17=E$1,1,"0") -> 0 | F17: =IF($C17=F$1,1,"0") -> 0 | G17: =IF($C17=G$1,1,"0") -> 0 | H17: =IF($C17=H$1,1,"0") -> 0 | I17: =IF($C17=I$1,1,"0") -> 0 | J17: =IF($C17=J$1,1,"0") -> 0 | K17: =IF($C17=K$1,1,"0") -> 0 | ... V17: =IF($C17=V$1,1,"0") -> 0 | W17: =SUM(D17:V17) -> 0
A18: =(A17+1) -> 42752 | B18: =(B17+1) -> 42752 | D18: =IF($C18=D$1,1,"0") -> 0 | E18: =IF($C18=E$1,1,"0") -> 0 | F18: =IF($C18=F$1,1,"0") -> 0 | G18: =IF($C18=G$1,1,"0") -> 0 | H18: =IF($C18=H$1,1,"0") -> 0 | I18: =IF($C18=I$1,1,"0") -> 0 | J18: =IF($C18=J$1,1,"0") -> 0 | K18: =IF($C18=K$1,1,"0") -> 0 | ... V18: =IF($C18=V$1,1,"0") -> 0 | W18: =SUM(D18:V18) -> 0
A19: =(A18+1) -> 42753 | B19: =(B18+1) -> 42753 | D19: =IF($C19=D$1,1,"0") -> 0 | E19: =IF($C19=E$1,1,"0") -> 0 | F19: =IF($C19=F$1,1,"0") -> 0 | G19: =IF($C19=G$1,1,"0") -> 0 | H19: =IF($C19=H$1,1,"0") -> 0 | I19: =IF($C19=I$1,1,"0") -> 0 | J19: =IF($C19=J$1,1,"0") -> 0 | K19: =IF($C19=K$1,1,"0") -> 0 | ... V19: =IF($C19=V$1,1,"0") -> 0 | W19: =SUM(D19:V19) -> 0
A20: =(A19+1) -> 42754 | B20: =(B19+1) -> 42754 | D20: =IF($C20=D$1,1,"0") -> 0 | E20: =IF($C20=E$1,1,"0") -> 0 | F20: =IF($C20=F$1,1,"0") -> 0 | G20: =IF($C20=G$1,1,"0") -> 0 | H20: =IF($C20=H$1,1,"0") -> 0 | I20: =IF($C20=I$1,1,"0") -> 0 | J20: =IF($C20=J$1,1,"0") -> 0 | K20: =IF($C20=K$1,1,"0") -> 0 | ... V20: =IF($C20=V$1,1,"0") -> 0 | W20: =SUM(D20:V20) -> 0
... A32: =(A31+1) -> 42766 | B32: =(B31+1) -> 42766 | D32: =IF($C32=D$1,1,"0") -> 0 | E32: =IF($C32=E$1,1,"0") -> 0 | F32: =IF($C32=F$1,1,"0") -> 0 | G32: =IF($C32=G$1,1,"0") -> 0 | H32: =IF($C32=H$1,1,"0") -> 0 | I32: =IF($C32=I$1,1,"0") -> 0 | J32: =IF($C32=J$1,1,"0") -> 0 | K32: =IF($C32=K$1,1,"0") -> 0 | ... V32: =IF($C32=V$1,1,"0") -> 0 | W32: =SUM(D32:V32) -> 0
D33: =SUM(D2:D32) -> 1 | E33: =SUM(E2:E32) -> 1 | F33: =SUM(F2:F32) -> 1 | G33: =SUM(G2:G32) -> 0 | H33: =SUM(H2:H32) -> 0 | I33: =SUM(I2:I32) -> 0 | J33: =SUM(J2:J32) -> 0 | K33: =SUM(K2:K32) -> 0 | ... W33: =SUM(W2:W32) -> 3
D37: =(D1) -> A | E37: =(E1) -> Z | F37: =(F1) -> E | G37: =(G1) -> R | H37: =(H1) -> T | I37: =(I1) -> Y | J37: =(J1) -> U | K37: =(K1) -> _ | ... V37: =(V1) -> _
C38: lundi | D38: =SUMPRODUCT((WEEKDAY($A$2:$A$32,2)=ROWS($38:38))*(COUNTIF(FERIES,$A$2:$A$32)=0)*($C$2:$C$32=D$37)) -> 0 | E38: =SUMPRODUCT((WEEKDAY($A$2:$A$32,2)=ROWS($38:38))*(COUNTIF(FERIES,$A$2:$A$32)=0)*($C$2:$C$32=E$37)) -> 0 | F38: =SUMPRODUCT((WEEKDAY($A$2:$A$32,2)=ROWS($38:38))*(COUNTIF(FERIES,$A$2:$A$32)=0)*($C$2:$C$32=F$37)) -> 1 | G38: =SUMPRODUCT((WEEKDAY($A$2:$A$32,2)=ROWS($38:38))*(COUNTIF(FERIES,$A$2:$A$32)=0)*($C$2:$C$32=G$37)) -> 0 | H38: =SUMPRODUCT((WEEKDAY($A$2:$A$32,2)=ROWS($38:38))*(COUNTIF(FERIES,$A$2:$A$32)=0)*($C$2:$C$32=H$37)) -> 0 | I38: =SUMPRODUCT((WEEKDAY($A$2:$A$32,2)=ROWS($38:38))*(COUNTIF(FERIES,$A$2:$A$32)=0)*($C$2:$C$32=I$37)) -> 0 | J38: =SUMPRODUCT((WEEKDAY($A$2:$A$32,2)=ROWS($38:38))*(COUNTIF(FERIES,$A$2:$A$32)=0)*($C$2:$C$32=J$37)) -> 0 | K38: =SUMPRODUCT((WEEKDAY($A$2:$A$32,2)=ROWS($38:38))*(COUNTIF(FERIES,$A$2:$A$32)=0)*($C$2:$C$32=K$37)) -> 0 | ... V38: =SUMPRODUCT((WEEKDAY($A$2:$A$32,2)=ROWS($38:38))*(COUNTIF(FERIES,$A$2:$A$32)=0)*($C$2:$C$32=V$37)) -> 0
C39: mardi | D39: =SUMPRODUCT((WEEKDAY($A$2:$A$32,2)=ROWS($38:39))*(COUNTIF(FERIES,$A$2:$A$32)=0)*($C$2:$C$32=D$37)) -> 0 | E39: =SUMPRODUCT((WEEKDAY($A$2:$A$32,2)=ROWS($38:39))*(COUNTIF(FERIES,$A$2:$A$32)=0)*($C$2:$C$32=E$37)) -> 0 | F39: =SUMPRODUCT((WEEKDAY($A$2:$A$32,2)=ROWS($38:39))*(COUNTIF(FERIES,$A$2:$A$32)=0)*($C$2:$C$32=F$37)) -> 0 | G39: =SUMPRODUCT((WEEKDAY($A$2:$A$32,2)=ROWS($38:39))*(COUNTIF(FERIES,$A$2:$A$32)=0)*($C$2:$C$32=G$37)) -> 0 | H39: =SUMPRODUCT((WEEKDAY($A$2:$A$32,2)=ROWS($38:39))*(COUNTIF(FERIES,$A$2:$A$32)=0)*($C$2:$C$32=H$37)) -> 0 | I39: =SUMPRODUCT((WEEKDAY($A$2:$A$32,2)=ROWS($38:39))*(COUNTIF(FERIES,$A$2:$A$32)=0)*($C$2:$C$32=I$37)) -> 0 | J39: =SUMPRODUCT((WEEKDAY($A$2:$A$32,2)=ROWS($38:39))*(COUNTIF(FERIES,$A$2:$A$32)=0)*($C$2:$C$32=J$37)) -> 0 | K39: =SUMPRODUCT((WEEKDAY($A$2:$A$32,2)=ROWS($38:39))*(COUNTIF(FERIES,$A$2:$A$32)=0)*($C$2:$C$32=K$37)) -> 0 | ... V39: =SUMPRODUCT((WEEKDAY($A$2:$A$32,2)=ROWS($38:39))*(COUNTIF(FERIES,$A$2:$A$32)=0)*($C$2:$C$32=V$37)) -> 0
C40: mercredi | D40: =SUMPRODUCT((WEEKDAY($A$2:$A$32,2)=ROWS($38:40))*(COUNTIF(FERIES,$A$2:$A$32)=0)*($C$2:$C$32=D$37)) -> 0 | E40: =SUMPRODUCT((WEEKDAY($A$2:$A$32,2)=ROWS($38:40))*(COUNTIF(FERIES,$A$2:$A$32)=0)*($C$2:$C$32=E$37)) -> 0 | F40: =SUMPRODUCT((WEEKDAY($A$2:$A$32,2)=ROWS($38:40))*(COUNTIF(FERIES,$A$2:$A$32)=0)*($C$2:$C$32=F$37)) -> 0 | G40: =SUMPRODUCT((WEEKDAY($A$2:$A$32,2)=ROWS($38:40))*(COUNTIF(FERIES,$A$2:$A$32)=0)*($C$2:$C$32=G$37)) -> 0 | H40: =SUMPRODUCT((WEEKDAY($A$2:$A$32,2)=ROWS($38:40))*(COUNTIF(FERIES,$A$2:$A$32)=0)*($C$2:$C$32=H$37)) -> 0 | I40: =SUMPRODUCT((WEEKDAY($A$2:$A$32,2)=ROWS($38:40))*(COUNTIF(FERIES,$A$2:$A$32)=0)*($C$2:$C$32=I$37)) -> 0 | J40: =SUMPRODUCT((WEEKDAY($A$2:$A$32,2)=ROWS($38:40))*(COUNTIF(FERIES,$A$2:$A$32)=0)*($C$2:$C$32=J$37)) -> 0 | K40: =SUMPRODUCT((WEEKDAY($A$2:$A$32,2)=ROWS($38:40))*(COUNTIF(FERIES,$A$2:$A$32)=0)*($C$2:$C$32=K$37)) -> 0 | ... V40: =SUMPRODUCT((WEEKDAY($A$2:$A$32,2)=ROWS($38:40))*(COUNTIF(FERIES,$A$2:$A$32)=0)*($C$2:$C$32=V$37)) -> 0
C41: jeudi | D41: =SUMPRODUCT((WEEKDAY($A$2:$A$32,2)=ROWS($38:41))*(COUNTIF(FERIES,$A$2:$A$32)=0)*($C$2:$C$32=D$37)) -> 0 | E41: =SUMPRODUCT((WEEKDAY($A$2:$A$32,2)=ROWS($38:41))*(COUNTIF(FERIES,$A$2:$A$32)=0)*($C$2:$C$32=E$37)) -> 0 | F41: =SUMPRODUCT((WEEKDAY($A$2:$A$32,2)=ROWS($38:41))*(COUNTIF(FERIES,$A$2:$A$32)=0)*($C$2:$C$32=F$37)) -> 0 | G41: =SUMPRODUCT((WEEKDAY($A$2:$A$32,2)=ROWS($38:41))*(COUNTIF(FERIES,$A$2:$A$32)=0)*($C$2:$C$32=G$37)) -> 0 | H41: =SUMPRODUCT((WEEKDAY($A$2:$A$32,2)=ROWS($38:41))*(COUNTIF(FERIES,$A$2:$A$32)=0)*($C$2:$C$32=H$37)) -> 0 | I41: =SUMPRODUCT((WEEKDAY($A$2:$A$32,2)=ROWS($38:41))*(COUNTIF(FERIES,$A$2:$A$32)=0)*($C$2:$C$32=I$37)) -> 0 | J41: =SUMPRODUCT((WEEKDAY($A$2:$A$32,2)=ROWS($38:41))*(COUNTIF(FERIES,$A$2:$A$32)=0)*($C$2:$C$32=J$37)) -> 0 | K41: =SUMPRODUCT((WEEKDAY($A$2:$A$32,2)=ROWS($38:41))*(COUNTIF(FERIES,$A$2:$A$32)=0)*($C$2:$C$32=K$37)) -> 0 | ... V41: =SUMPRODUCT((WEEKDAY($A$2:$A$32,2)=ROWS($38:41))*(COUNTIF(FERIES,$A$2:$A$32)=0)*($C$2:$C$32=V$37)) -> 0
C42: vendredi | D42: =SUMPRODUCT((WEEKDAY($A$2:$A$32,2)=ROWS($38:42))*(COUNTIF(FERIES,$A$2:$A$32)=0)*($C$2:$C$32=D$37)) -> 0 | E42: =SUMPRODUCT((WEEKDAY($A$2:$A$32,2)=ROWS($38:42))*(COUNTIF(FERIES,$A$2:$A$32)=0)*($C$2:$C$32=E$37)) -> 0 | F42: =SUMPRODUCT((WEEKDAY($A$2:$A$32,2)=ROWS($38:42))*(COUNTIF(FERIES,$A$2:$A$32)=0)*($C$2:$C$32=F$37)) -> 0 | G42: =SUMPRODUCT((WEEKDAY($A$2:$A$32,2)=ROWS($38:42))*(COUNTIF(FERIES,$A$2:$A$32)=0)*($C$2:$C$32=G$37)) -> 0 | H42: =SUMPRODUCT((WEEKDAY($A$2:$A$32,2)=ROWS($38:42))*(COUNTIF(FERIES,$A$2:$A$32)=0)*($C$2:$C$32=H$37)) -> 0 | I42: =SUMPRODUCT((WEEKDAY($A$2:$A$32,2)=ROWS($38:42))*(COUNTIF(FERIES,$A$2:$A$32)=0)*($C$2:$C$32=I$37)) -> 0 | J42: =SUMPRODUCT((WEEKDAY($A$2:$A$32,2)=ROWS($38:42))*(COUNTIF(FERIES,$A$2:$A$32)=0)*($C$2:$C$32=J$37)) -> 0 | K42: =SUMPRODUCT((WEEKDAY($A$2:$A$32,2)=ROWS($38:42))*(COUNTIF(FERIES,$A$2:$A$32)=0)*($C$2:$C$32=K$37)) -> 0 | ... V42: =SUMPRODUCT((WEEKDAY($A$2:$A$32,2)=ROWS($38:42))*(COUNTIF(FERIES,$A$2:$A$32)=0)*($C$2:$C$32=V$37)) -> 0
C43: samedi | D43: =SUMPRODUCT((WEEKDAY($A$2:$A$32,2)=ROWS($38:43))*(COUNTIF(FERIES,$A$2:$A$32)=0)*($C$2:$C$32=D$37)) -> 0 | E43: =SUMPRODUCT((WEEKDAY($A$2:$A$32,2)=ROWS($38:43))*(COUNTIF(FERIES,$A$2:$A$32)=0)*($C$2:$C$32=E$37)) -> 1 | F43: =SUMPRODUCT((WEEKDAY($A$2:$A$32,2)=ROWS($38:43))*(COUNTIF(FERIES,$A$2:$A$32)=0)*($C$2:$C$32=F$37)) -> 0 | G43: =SUMPRODUCT((WEEKDAY($A$2:$A$32,2)=ROWS($38:43))*(COUNTIF(FERIES,$A$2:$A$32)=0)*($C$2:$C$32=G$37)) -> 0 | H43: =SUMPRODUCT((WEEKDAY($A$2:$A$32,2)=ROWS($38:43))*(COUNTIF(FERIES,$A$2:$A$32)=0)*($C$2:$C$32=H$37)) -> 0 | I43: =SUMPRODUCT((WEEKDAY($A$2:$A$32,2)=ROWS($38:43))*(COUNTIF(FERIES,$A$2:$A$32)=0)*($C$2:$C$32=I$37)) -> 0 | J43: =SUMPRODUCT((WEEKDAY($A$2:$A$32,2)=ROWS($38:43))*(COUNTIF(FERIES,$A$2:$A$32)=0)*($C$2:$C$32=J$37)) -> 0 | K43: =SUMPRODUCT((WEEKDAY($A$2:$A$32,2)=ROWS($38:43))*(COUNTIF(FERIES,$A$2:$A$32)=0)*($C$2:$C$32=K$37)) -> 0 | ... V43: =SUMPRODUCT((WEEKDAY($A$2:$A$32,2)=ROWS($38:43))*(COUNTIF(FERIES,$A$2:$A$32)=0)*($C$2:$C$32=V$37)) -> 0
C44: dimanche | D44: =SUMPRODUCT((WEEKDAY($A$2:$A$32,2)=ROWS($38:44))*(COUNTIF(FERIES,$A$2:$A$32)=0)*($C$2:$C$32=D$37)) -> 0 | E44: =SUMPRODUCT((WEEKDAY($A$2:$A$32,2)=ROWS($38:44))*(COUNTIF(FERIES,$A$2:$A$32)=0)*($C$2:$C$32=E$37)) -> 0 | F44: =SUMPRODUCT((WEEKDAY($A$2:$A$32,2)=ROWS($38:44))*(COUNTIF(FERIES,$A$2:$A$32)=0)*($C$2:$C$32=F$37)) -> 0 | G44: =SUMPRODUCT((WEEKDAY($A$2:$A$32,2)=ROWS($38:44))*(COUNTIF(FERIES,$A$2:$A$32)=0)*($C$2:$C$32=G$37)) -> 0 | H44: =SUMPRODUCT((WEEKDAY($A$2:$A$32,2)=ROWS($38:44))*(COUNTIF(FERIES,$A$2:$A$32)=0)*($C$2:$C$32=H$37)) -> 0 | I44: =SUMPRODUCT((WEEKDAY($A$2:$A$32,2)=ROWS($38:44))*(COUNTIF(FERIES,$A$2:$A$32)=0)*($C$2:$C$32=I$37)) -> 0 | J44: =SUMPRODUCT((WEEKDAY($A$2:$A$32,2)=ROWS($38:44))*(COUNTIF(FERIES,$A$2:$A$32)=0)*($C$2:$C$32=J$37)) -> 0 | K44: =SUMPRODUCT((WEEKDAY($A$2:$A$32,2)=ROWS($38:44))*(COUNTIF(FERIES,$A$2:$A$32)=0)*($C$2:$C$32=K$37)) -> 0 | ... V44: =SUMPRODUCT((WEEKDAY($A$2:$A$32,2)=ROWS($38:44))*(COUNTIF(FERIES,$A$2:$A$32)=0)*($C$2:$C$32=V$37)) -> 0
C45: FERIES | D45: =SUMPRODUCT(COUNTIF(FERIES,$A$2:$A$32)*($C$2:$C$32=D37)) -> 1 | E45: =SUMPRODUCT(COUNTIF(FERIES,$A$2:$A$32)*($C$2:$C$32=E37)) -> 0 | F45: =SUMPRODUCT(COUNTIF(FERIES,$A$2:$A$32)*($C$2:$C$32=F37)) -> 0 | G45: =SUMPRODUCT(COUNTIF(FERIES,$A$2:$A$32)*($C$2:$C$32=G37)) -> 0 | H45: =SUMPRODUCT(COUNTIF(FERIES,$A$2:$A$32)*($C$2:$C$32=H37)) -> 0 | I45: =SUMPRODUCT(COUNTIF(FERIES,$A$2:$A$32)*($C$2:$C$32=I37)) -> 0 | J45: =SUMPRODUCT(COUNTIF(FERIES,$A$2:$A$32)*($C$2:$C$32=J37)) -> 0 | K45: =SUMPRODUCT(COUNTIF(FERIES,$A$2:$A$32)*($C$2:$C$32=K37)) -> 0 | ... V45: =SUMPRODUCT(COUNTIF(FERIES,$A$2:$A$32)*($C$2:$C$32=V37)) -> 0
C47: Lun/Mar | D47: =SUM(D38:D39) -> 0 | E47: =SUM(E38:E39) -> 0 | F47: =SUM(F38:F39) -> 1 | G47: =SUM(G38:G39) -> 0 | H47: =SUM(H38:H39) -> 0 | I47: =SUM(I38:I39) -> 0 | J47: =SUM(J38:J39) -> 0 | K47: =SUM(K38:K39) -> 0 | ... V47: =SUM(V38:V39) -> 0
C48: Mer/Ven | D48: =SUM(D40+D42) -> 0 | E48: =SUM(E40+E42) -> 0 | F48: =SUM(F40+F42) -> 0 | G48: =SUM(G40+G42) -> 0 | H48: =SUM(H40+H42) -> 0 | I48: =SUM(I40+I42) -> 0 | J48: =SUM(J40+J42) -> 0 | K48: =SUM(K40+K42) -> 0 | ... V48: =SUM(V40+V42) -> 0
C49: jeudi | D49: =SUM(D41) -> 0 | E49: =SUM(E41) -> 0 | F49: =SUM(F41) -> 0 | G49: =SUM(G41) -> 0 | H49: =SUM(H41) -> 0 | I49: =SUM(I41) -> 0 | J49: =SUM(J41) -> 0 | K49: =SUM(K41) -> 0 | ... V49: =SUM(V41) -> 0
C50: Samedi | D50: =SUM(D43) -> 0 | E50: =SUM(E43) -> 1 | F50: =SUM(F43) -> 0 | G50: =SUM(G43) -> 0 | H50: =SUM(H43) -> 0 | I50: =SUM(I43) -> 0 | J50: =SUM(J43) -> 0 | K50: =SUM(K43) -> 0 | ... V50: =SUM(V43) -> 0
C51: Dimanche | D51: =SUM(D44) -> 0 | E51: =SUM(E44) -> 0 | F51: =SUM(F44) -> 0 | G51: =SUM(G44) -> 0 | H51: =SUM(H44) -> 0 | I51: =SUM(I44) -> 0 | J51: =SUM(J44) -> 0 | K51: =SUM(K44) -> 0 | ... V51: =SUM(V44) -> 0
C52: Fériés | D52: =SUM(D45) -> 1 | E52: =SUM(E45) -> 0 | F52: =SUM(F45) -> 0 | G52: =SUM(G45) -> 0 | H52: =SUM(H45) -> 0 | I52: =SUM(I45) -> 0 | J52: =SUM(J45) -> 0 | K52: =SUM(K45) -> 0 | ... V52: =SUM(V45) -> 0
C55: Lun/Mar | D55: =SUM(Accueil:Dec!D47) -> 0 | E55: =SUM(Accueil:Dec!E47) -> 0 | F55: =SUM(Accueil:Dec!F47) -> 1 | G55: =SUM(Accueil:Dec!G47) -> 0 | H55: =SUM(Accueil:Dec!H47) -> 0 | I55: =SUM(Accueil:Dec!I47) -> 0 | J55: =SUM(Accueil:Dec!J47) -> 0 | K55: =SUM(Accueil:Dec!K47) -> 0 | ... V55: =SUM(Accueil:Dec!V47) -> 0
C56: Mer/Ven | D56: =SUM(Accueil:Dec!D48) -> 1 | E56: =SUM(Accueil:Dec!E48) -> 0 | F56: =SUM(Accueil:Dec!F48) -> 0 | G56: =SUM(Accueil:Dec!G48) -> 0 | H56: =SUM(Accueil:Dec!H48) -> 0 | I56: =SUM(Accueil:Dec!I48) -> 0 | J56: =SUM(Accueil:Dec!J48) -> 0 | K56: =SUM(Accueil:Dec!K48) -> 0 | ... V56: =SUM(Accueil:Dec!V48) -> 0
C57: jeudi | D57: =SUM(Accueil:Dec!D49) -> 0 | E57: =SUM(Accueil:Dec!E49) -> 0 | F57: =SUM(Accueil:Dec!F49) -> 0 | G57: =SUM(Accueil:Dec!G49) -> 0 | H57: =SUM(Accueil:Dec!H49) -> 0 | I57: =SUM(Accueil:Dec!I49) -> 0 | J57: =SUM(Accueil:Dec!J49) -> 0 | K57: =SUM(Accueil:Dec!K49) -> 0 | ... V57: =SUM(Accueil:Dec!V49) -> 0
C58: Samedi | D58: =SUM(Accueil:Dec!D50) -> 0 | E58: =SUM(Accueil:Dec!E50) -> 1 | F58: =SUM(Accueil:Dec!F50) -> 0 | G58: =SUM(Accueil:Dec!G50) -> 0 | H58: =SUM(Accueil:Dec!H50) -> 0 | I58: =SUM(Accueil:Dec!I50) -> 0 | J58: =SUM(Accueil:Dec!J50) -> 0 | K58: =SUM(Accueil:Dec!K50) -> 0 | ... V58: =SUM(Accueil:Dec!V50) -> 0
C59: Dimanche | D59: =SUM(Accueil:Dec!D51) -> 0 | E59: =SUM(Accueil:Dec!E51) -> 0 | F59: =SUM(Accueil:Dec!F51) -> 0 | G59: =SUM(Accueil:Dec!G51) -> 0 | H59: =SUM(Accueil:Dec!H51) -> 0 | I59: =SUM(Accueil:Dec!I51) -> 0 | J59: =SUM(Accueil:Dec!J51) -> 0 | K59: =SUM(Accueil:Dec!K51) -> 0 | ... V59: =SUM(Accueil:Dec!V51) -> 0
C60: Fériés | D60: =SUM(Accueil:Dec!D52) -> 1 | E60: =SUM(Accueil:Dec!E52) -> 0 | F60: =SUM(Accueil:Dec!F52) -> 0 | G60: =SUM(Accueil:Dec!G52) -> 0 | H60: =SUM(Accueil:Dec!H52) -> 0 | I60: =SUM(Accueil:Dec!I52) -> 0 | J60: =SUM(Accueil:Dec!J52) -> 0 | K60: =SUM(Accueil:Dec!K52) -> 0 | ... V60: =SUM(Accueil:Dec!V52) -> 0
C61: Total | D61: =SUM(D55:D60) -> 2 | E61: =SUM(E55:E60) -> 1 | F61: =SUM(F55:F60) -> 1 | G61: =SUM(G55:G60) -> 0 | H61: =SUM(H55:H60) -> 0 | I61: =SUM(I55:I60) -> 0 | J61: =SUM(J55:J60) -> 0 | K61: =SUM(K55:K60) -> 0 | ... V61: =SUM(V55:V60) -> 0

Sheet Fev
A1: =DATE(Accueil!E1,2,1) -> 42767 | B1: DATE | C1: GRADE - NOM | D1: A | E1: Z | F1: E | G1: R | H1: T | I1: Y | J1: U | K1: - | L1: - | M1: - | N1: - | O1: - | P1: - | Q1: - | R1: - | S1: _ | T1: _ | U1: _ | V1: _ | W1: Récap
A2: =DATE(Accueil!E1,2,1) -> 42767 | B2: =DATE(Accueil!E1,2,1) -> 42767 | C2: A | D2: =IF($C2=D$1,1,"0") -> 1 | E2: =IF($C2=E$1,1,"0") -> 0 | F2: =IF($C2=F$1,1,"0") -> 0 | G2: =IF($C2=G$1,1,"0") -> 0 | H2: =IF($C2=H$1,1,"0") -> 0 | I2: =IF($C2=I$1,1,"0") -> 0 | J2: =IF($C2=J$1,1,"0") -> 0 | K2: =IF($C2=K$1,1,"0") -> 0 | ... V2: =IF($C2=V$1,1,"0") -> 0 | W2: =SUM(D2:V2) -> 1
A3: =(A2+1) -> 42768 | B3: =(B2+1) -> 42768 | C3: R | D3: =IF($C3=D$1,1,"0") -> 0 | E3: =IF($C3=E$1,1,"0") -> 0 | F3: =IF($C3=F$1,1,"0") -> 0 | G3: =IF($C3=G$1,1,"0") -> 1 | H3: =IF($C3=H$1,1,"0") -> 0 | I3: =IF($C3=I$1,1,"0") -> 0 | J3: =IF($C3=J$1,1,"0") -> 0 | K3: =IF($C3=K$1,1,"0") -> 0 | ... V3: =IF($C3=V$1,1,"0") -> 0 | W3: =SUM(D3:V3) -> 1
A4: =(A3+1) -> 42769 | B4: =(B3+1) -> 42769 | C4: U | D4: =IF($C4=D$1,1,"0") -> 0 | E4: =IF($C4=E$1,1,"0") -> 0 | F4: =IF($C4=F$1,1,"0") -> 0 | G4: =IF($C4=G$1,1,"0") -> 0 | H4: =IF($C4=H$1,1,"0") -> 0 | I4: =IF($C4=I$1,1,"0") -> 0 | J4: =IF($C4=J$1,1,"0") -> 1 | K4: =IF($C4=K$1,1,"0") -> 0 | ... V4: =IF($C4=V$1,1,"0") -> 0 | W4: =SUM(D4:V4) -> 1
A5: =(A4+1) -> 42770 | B5: =(B4+1) -> 42770 | C5: R | D5: =IF($C5=D$1,1,"0") -> 0 | E5: =IF($C5=E$1,1,"0") -> 0 | F5: =IF($C5=F$1,1,"0") -> 0 | G5: =IF($C5=G$1,1,"0") -> 1 | H5: =IF($C5=H$1,1,"0") -> 0 | I5: =IF($C5=I$1,1,"0") -> 0 | J5: =IF($C5=J$1,1,"0") -> 0 | K5: =IF($C5=K$1,1,"0") -> 0 | ... V5: =IF($C5=V$1,1,"0") -> 0 | W5: =SUM(D5:V5) -> 1
A6: =(A5+1) -> 42771 | B6: =(B5+1) -> 42771 | C6: Z | D6: =IF($C6=D$1,1,"0") -> 0 | E6: =IF($C6=E$1,1,"0") -> 1 | F6: =IF($C6=F$1,1,"0") -> 0 | G6: =IF($C6=G$1,1,"0") -> 0 | H6: =IF($C6=H$1,1,"0") -> 0 | I6: =IF($C6=I$1,1,"0") -> 0 | J6: =IF($C6=J$1,1,"0") -> 0 | K6: =IF($C6=K$1,1,"0") -> 0 | ... V6: =IF($C6=V$1,1,"0") -> 0 | W6: =SUM(D6:V6) -> 1
A7: =(A6+1) -> 42772 | B7: =(B6+1) -> 42772 | C7: E | D7: =IF($C7=D$1,1,"0") -> 0 | E7: =IF($C7=E$1,1,"0") -> 0 | F7: =IF($C7=F$1,1,"0") -> 1 | G7: =IF($C7=G$1,1,"0") -> 0 | H7: =IF($C7=H$1,1,"0") -> 0 | I7: =IF($C7=I$1,1,"0") -> 0 | J7: =IF($C7=J$1,1,"0") -> 0 | K7: =IF($C7=K$1,1,"0") -> 0 | ... V7: =IF($C7=V$1,1,"0") -> 0 | W7: =SUM(D7:V7) -> 1
A8: =(A7+1) -> 42773 | B8: =(B7+1) -> 42773 | C8: R | D8: =IF($C8=D$1,1,"0") -> 0 | E8: =IF($C8=E$1,1,"0") -> 0 | F8: =IF($C8=F$1,1,"0") -> 0 | G8: =IF($C8=G$1,1,"0") -> 1 | H8: =IF($C8=H$1,1,"0") -> 0 | I8: =IF($C8=I$1,1,"0") -> 0 | J8: =IF($C8=J$1,1,"0") -> 0 | K8: =IF($C8=K$1,1,"0") -> 0 | ... V8: =IF($C8=V$1,1,"0") -> 0 | W8: =SUM(D8:V8) -> 1
A9: =(A8+1) -> 42774 | B9: =(B8+1) -> 42774 | C9: T | D9: =IF($C9=D$1,1,"0") -> 0 | E9: =IF($C9=E$1,1,"0") -> 0 | F9: =IF($C9=F$1,1,"0") -> 0 | G9: =IF($C9=G$1,1,"0") -> 0 | H9: =IF($C9=H$1,1,"0") -> 1 | I9: =IF($C9=I$1,1,"0") -> 0 | J9: =IF($C9=J$1,1,"0") -> 0 | K9: =IF($C9=K$1,1,"0") -> 0 | ... V9: =IF($C9=V$1,1,"0") -> 0 | W9: =SUM(D9:V9) -> 1
A10: =(A9+1) -> 42775 | B10: =(B9+1) -> 42775 | C10: Y | D10: =IF($C10=D$1,1,"0") -> 0 | E10: =IF($C10=E$1,1,"0") -> 0 | F10: =IF($C10=F$1,1,"0") -> 0 | G10: =IF($C10=G$1,1,"0") -> 0 | H10: =IF($C10=H$1,1,"0") -> 0 | I10: =IF($C10=I$1,1,"0") -> 1 | J10: =IF($C10=J$1,1,"0") -> 0 | K10: =IF($C10=K$1,1,"0") -> 0 | ... V10: =IF($C10=V$1,1,"0") -> 0 | W10: =SUM(D10:V10) -> 1
A11: =(A10+1) -> 42776 | B11: =(B10+1) -> 42776 | C11: Z | D11: =IF($C11=D$1,1,"0") -> 0 | E11: =IF($C11=E$1,1,"0") -> 1 | F11: =IF($C11=F$1,1,"0") -> 0 | G11: =IF($C11=G$1,1,"0") -> 0 | H11: =IF($C11=H$1,1,"0") -> 0 | I11: =IF($C11=I$1,1,"0") -> 0 | J11: =IF($C11=J$1,1,"0") -> 0 | K11: =IF($C11=K$1,1,"0") -> 0 | ... V11: =IF($C11=V$1,1,"0") -> 0 | W11: =SUM(D11:V11) -> 1
A12: =(A11+1) -> 42777 | B12: =(B11+1) -> 42777 | C12: R | D12: =IF($C12=D$1,1,"0") -> 0 | E12: =IF($C12=E$1,1,"0") -> 0 | F12: =IF($C12=F$1,1,"0") -> 0 | G12: =IF($C12=G$1,1,"0") -> 1 | H12: =IF($C12=H$1,1,"0") -> 0 | I12: =IF($C12=I$1,1,"0") -> 0 | J12: =IF($C12=J$1,1,"0") -> 0 | K12: =IF($C12=K$1,1,"0") -> 0 | ... V12: =IF($C12=V$1,1,"0") -> 0 | W12: =SUM(D12:V12) -> 1
A13: =(A12+1) -> 42778 | B13: =(B12+1) -> 42778 | C13: U | D13: =IF($C13=D$1,1,"0") -> 0 | E13: =IF($C13=E$1,1,"0") -> 0 | F13: =IF($C13=F$1,1,"0") -> 0 | G13: =IF($C13=G$1,1,"0") -> 0 | H13: =IF($C13=H$1,1,"0") -> 0 | I13: =IF($C13=I$1,1,"0") -> 0 | J13: =IF($C13=J$1,1,"0") -> 1 | K13: =IF($C13=K$1,1,"0") -> 0 | ... V13: =IF($C13=V$1,1,"0") -> 0 | W13: =SUM(D13:V13) -> 1
A14: =(A13+1) -> 42779 | B14: =(B13+1) -> 42779 | D14: =IF($C14=D$1,1,"0") -> 0 | E14: =IF($C14=E$1,1,"0") -> 0 | F14: =IF($C14=F$1,1,"0") -> 0 | G14: =IF($C14=G$1,1,"0") -> 0 | H14: =IF($C14=H$1,1,"0") -> 0 | I14: =IF($C14=I$1,1,"0") -> 0 | J14: =IF($C14=J$1,1,"0") -> 0 | K14: =IF($C14=K$1,1,"0") -> 0 | ... V14: =IF($C14=V$1,1,"0") -> 0 | W14: =SUM(D14:V14) -> 0
A15: =(A14+1) -> 42780 | B15: =(B14+1) -> 42780 | D15: =IF($C15=D$1,1,"0") -> 0 | E15: =IF($C15=E$1,1,"0") -> 0 | F15: =IF($C15=F$1,1,"0") -> 0 | G15: =IF($C15=G$1,1,"0") -> 0 | H15: =IF($C15=H$1,1,"0") -> 0 | I15: =IF($C15=I$1,1,"0") -> 0 | J15: =IF($C15=J$1,1,"0") -> 0 | K15: =IF($C15=K$1,1,"0") -> 0 | ... V15: =IF($C15=V$1,1,"0") -> 0 | W15: =SUM(D15:V15) -> 0
A16: =(A15+1) -> 42781 | B16: =(B15+1) -> 42781 | D16: =IF($C16=D$1,1,"0") -> 0 | E16: =IF($C16=E$1,1,"0") -> 0 | F16: =IF($C16=F$1,1,"0") -> 0 | G16: =IF($C16=G$1,1,"0") -> 0 | H16: =IF($C16=H$1,1,"0") -> 0 | I16: =IF($C16=I$1,1,"0") -> 0 | J16: =IF($C16=J$1,1,"0") -> 0 | K16: =IF($C16=K$1,1,"0") -> 0 | ... V16: =IF($C16=V$1,1,"0") -> 0 | W16: =SUM(D16:V16) -> 0
A17: =(A16+1) -> 42782 | B17: =(B16+1) -> 42782 | D17: =IF($C17=D$1,1,"0") -> 0 | E17: =IF($C17=E$1,1,"0") -> 0 | F17: =IF($C17=F$1,1,"0") -> 0 | G17: =IF($C17=G$1,1,"0") -> 0 | H17: =IF($C17=H$1,1,"0") -> 0 | I17: =IF($C17=I$1,1,"0") -> 0 | J17: =IF($C17=J$1,1,"0") -> 0 | K17: =IF($C17=K$1,1,"0") -> 0 | ... V17: =IF($C17=V$1,1,"0") -> 0 | W17: =SUM(D17:V17) -> 0
A18: =(A17+1) -> 42783 | B18: =(B17+1) -> 42783 | D18: =IF($C18=D$1,1,"0") -> 0 | E18: =IF($C18=E$1,1,"0") -> 0 | F18: =IF($C18=F$1,1,"0") -> 0 | G18: =IF($C18=G$1,1,"0") -> 0 | H18: =IF($C18=H$1,1,"0") -> 0 | I18: =IF($C18=I$1,1,"0") -> 0 | J18: =IF($C18=J$1,1,"0") -> 0 | K18: =IF($C18=K$1,1,"0") -> 0 | ... V18: =IF($C18=V$1,1,"0") -> 0 | W18: =SUM(D18:V18) -> 0
A19: =(A18+1) -> 42784 | B19: =(B18+1) -> 42784 | D19: =IF($C19=D$1,1,"0") -> 0 | E19: =IF($C19=E$1,1,"0") -> 0 | F19: =IF($C19=F$1,1,"0") -> 0 | G19: =IF($C19=G$1,1,"0") -> 0 | H19: =IF($C19=H$1,1,"0") -> 0 | I19: =IF($C19=I$1,1,"0") -> 0 | J19: =IF($C19=J$1,1,"0") -> 0 | K19: =IF($C19=K$1,1,"0") -> 0 | ... V19: =IF($C19=V$1,1,"0") -> 0 | W19: =SUM(D19:V19) -> 0
A20: =(A19+1) -> 42785 | B20: =(B19+1) -> 42785 | D20: =IF($C20=D$1,1,"0") -> 0 | E20: =IF($C20=E$1,1,"0") -> 0 | F20: =IF($C20=F$1,1,"0") -> 0 | G20: =IF($C20=G$1,1,"0") -> 0 | H20: =IF($C20=H$1,1,"0") -> 0 | I20: =IF($C20=I$1,1,"0") -> 0 | J20: =IF($C20=J$1,1,"0") -> 0 | K20: =IF($C20=K$1,1,"0") -> 0 | ... V20: =IF($C20=V$1,1,"0") -> 0 | W20: =SUM(D20:V20) -> 0
A21: =(A20+1) -> 42786 | B21: =(B20+1) -> 42786 | D21: =IF($C21=D$1,1,"0") -> 0 | E21: =IF($C21=E$1,1,"0") -> 0 | F21: =IF($C21=F$1,1,"0") -> 0 | G21: =IF($C21=G$1,1,"0") -> 0 | H21: =IF($C21=H$1,1,"0") -> 0 | I21: =IF($C21=I$1,1,"0") -> 0 | J21: =IF($C21=J$1,1,"0") -> 0 | K21: =IF($C21=K$1,1,"0") -> 0 | ... V21: =IF($C21=V$1,1,"0") -> 0 | W21: =SUM(D21:V21) -> 0
A22: =(A21+1) -> 42787 | B22: =(B21+1) -> 42787 | D22: =IF($C22=D$1,1,"0") -> 0 | E22: =IF($C22=E$1,1,"0") -> 0 | F22: =IF($C22=F$1,1,"0") -> 0 | G22: =IF($C22=G$1,1,"0") -> 0 | H22: =IF($C22=H$1,1,"0") -> 0 | I22: =IF($C22=I$1,1,"0") -> 0 | J22: =IF($C22=J$1,1,"0") -> 0 | K22: =IF($C22=K$1,1,"0") -> 0 | ... V22: =IF($C22=V$1,1,"0") -> 0 | W22: =SUM(D22:V22) -> 0
A23: =(A22+1) -> 42788 | B23: =(B22+1) -> 42788 | D23: =IF($C23=D$1,1,"0") -> 0 | E23: =IF($C23=E$1,1,"0") -> 0 | F23: =IF($C23=F$1,1,"0") -> 0 | G23: =IF($C23=G$1,1,"0") -> 0 | H23: =IF($C23=H$1,1,"0") -> 0 | I23: =IF($C23=I$1,1,"0") -> 0 | J23: =IF($C23=J$1,1,"0") -> 0 | K23: =IF($C23=K$1,1,"0") -> 0 | ... V23: =IF($C23=V$1,1,"0") -> 0 | W23: =SUM(D23:V23) -> 0
A24: =(A23+1) -> 42789 | B24: =(B23+1) -> 42789 | D24: =IF($C24=D$1,1,"0") -> 0 | E24: =IF($C24=E$1,1,"0") -> 0 | F24: =IF($C24=F$1,1,"0") -> 0 | G24: =IF($C24=G$1,1,"0") -> 0 | H24: =IF($C24=H$1,1,"0") -> 0 | I24: =IF($C24=I$1,1,"0") -> 0 | J24: =IF($C24=J$1,1,"0") -> 0 | K24: =IF($C24=K$1,1,"0") -> 0 | ... V24: =IF($C24=V$1,1,"0") -> 0 | W24: =SUM(D24:V24) -> 0
A25: =(A24+1) -> 42790 | B25: =(B24+1) -> 42790 | D25: =IF($C25=D$1,1,"0") -> 0 | E25: =IF($C25=E$1,1,"0") -> 0 | F25: =IF($C25=F$1,1,"0") -> 0 | G25: =IF($C25=G$1,1,"0") -> 0 | H25: =IF($C25=H$1,1,"0") -> 0 | I25: =IF($C25=I$1,1,"0") -> 0 | J25: =IF($C25=J$1,1,"0") -> 0 | K25: =IF($C25=K$1,1,"0") -> 0 | ... V25: =IF($C25=V$1,1,"0") -> 0 | W25: =SUM(D25:V25) -> 0
... A29: =(A28+1) -> 42794 | B29: =(B28+1) -> 42794 | D29: =IF($C29=D$1,1,"0") -> 0 | E29: =IF($C29=E$1,1,"0") -> 0 | F29: =IF($C29=F$1,1,"0") -> 0 | G29: =IF($C29=G$1,1,"0") -> 0 | H29: =IF($C29=H$1,1,"0") -> 0 | I29: =IF($C29=I$1,1,"0") -> 0 | J29: =IF($C29=J$1,1,"0") -> 0 | K29: =IF($C29=K$1,1,"0") -> 0 | ... V29: =IF($C29=V$1,1,"0") -> 0 | W29: =SUM(D29:V29) -> 0
A30: =IF(A29="","",IF(MONTH(A29+1)<>MONTH(A29),"",A29+1)) | B30: =IF(B29="","",IF(MONTH(B29+1)<>MONTH(B29),"",B29+1)) | D30: =IF($C30=D$1,1,"0") -> 0 | E30: =IF($C30=E$1,1,"0") -> 0 | F30: =IF($C30=F$1,1,"0") -> 0 | G30: =IF($C30=G$1,1,"0") -> 0 | H30: =IF($C30=H$1,1,"0") -> 0 | I30: =IF($C30=I$1,1,"0") -> 0 | J30: =IF($C30=J$1,1,"0") -> 0 | K30: =IF($C30=K$1,1,"0") -> 0 | ... V30: =IF($C30=V$1,1,"0") -> 0 | W30: =SUM(D30:V30) -> 0
W31: =SUM(D31:V31) -> 0
W32: =SUM(D32:V32) -> 0
D33: =SUM(D2:D32) -> 1 | E33: =SUM(E2:E32) -> 2 | F33: =SUM(F2:F32) -> 1 | G33: =SUM(G2:G32) -> 4 | H33: =SUM(H2:H32) -> 1 | I33: =SUM(I2:I32) -> 1 | J33: =SUM(J2:J32) -> 2 | K33: =SUM(K2:K32) -> 0 | ... W33: =SUM(W2:W32) -> 12
D37: =(D1) -> A | E37: =(E1) -> Z | F37: =(F1) -> E | G37: =(G1) -> R | H37: =(H1) -> T | I37: =(I1) -> Y | J37: =(J1) -> U | K37: =(K1) -> - | ... V37: =(V1) -> _
C38: lundi | D38: {=(IFERROR(WEEKDAY($A$2:$A$32,2),0)=ROWS($38:38))*(COUNTIF(FERIES,$A$2:$A$32)=0)*($C$2:$C$32=D$37)} -> 0 | E38: {=(IFERROR(WEEKDAY($A$2:$A$32,2),0)=ROWS($38:38))*(COUNTIF(FERIES,$A$2:$A$32)=0)*($C$2:$C$32=E$37)} -> 0 | F38: {=(IFERROR(WEEKDAY($A$2:$A$32,2),0)=ROWS($38:38))*(COUNTIF(FERIES,$A$2:$A$32)=0)*($C$2:$C$32=F$37)} -> 0 | G38: {=(IFERROR(WEEKDAY($A$2:$A$32,2),0)=ROWS($38:38))*(COUNTIF(FERIES,$A$2:$A$32)=0)*($C$2:$C$32=G$37)} -> 0 | H38: {=(IFERROR(WEEKDAY($A$2:$A$32,2),0)=ROWS($38:38))*(COUNTIF(FERIES,$A$2:$A$32)=0)*($C$2:$C$32=H$37)} -> 0 | I38: {=(IFERROR(WEEKDAY($A$2:$A$32,2),0)=ROWS($38:38))*(COUNTIF(FERIES,$A$2:$A$32)=0)*($C$2:$C$32=I$37)} -> 0 | J38: {=(IFERROR(WEEKDAY($A$2:$A$32,2),0)=ROWS($38:38))*(COUNTIF(FERIES,$A$2:$A$32)=0)*($C$2:$C$32=J$37)} -> 0 | K38: {=(IFERROR(WEEKDAY($A$2:$A$32,2),0)=ROWS($38:38))*(COUNTIF(FERIES,$A$2:$A$32)=0)*($C$2:$C$32=K$37)} -> 0 | ... V38: {=(IFERROR(WEEKDAY($A$2:$A$32,2),0)=ROWS($38:38))*(COUNTIF(FERIES,$A$2:$A$32)=0)*($C$2:$C$32=V$37)} -> 0
C39: mardi | D39: {=(IFERROR(WEEKDAY($A$2:$A$32,2),0)=ROWS($38:39))*(COUNTIF(FERIES,$A$2:$A$32)=0)*($C$2:$C$32=D$37)} -> 0 | E39: {=(IFERROR(WEEKDAY($A$2:$A$32,2),0)=ROWS($38:39))*(COUNTIF(FERIES,$A$2:$A$32)=0)*($C$2:$C$32=E$37)} -> 0 | F39: {=(IFERROR(WEEKDAY($A$2:$A$32,2),0)=ROWS($38:39))*(COUNTIF(FERIES,$A$2:$A$32)=0)*($C$2:$C$32=F$37)} -> 0 | G39: {=(IFERROR(WEEKDAY($A$2:$A$32,2),0)=ROWS($38:39))*(COUNTIF(FERIES,$A$2:$A$32)=0)*($C$2:$C$32=G$37)} -> 0 | H39: {=(IFERROR(WEEKDAY($A$2:$A$32,2),0)=ROWS($38:39))*(COUNTIF(FERIES,$A$2:$A$32)=0)*($C$2:$C$32=H$37)} -> 0 | I39: {=(IFERROR(WEEKDAY($A$2:$A$32,2),0)=ROWS($38:39))*(COUNTIF(FERIES,$A$2:$A$32)=0)*($C$2:$C$32=I$37)} -> 0 | J39: {=(IFERROR(WEEKDAY($A$2:$A$32,2),0)=ROWS($38:39))*(COUNTIF(FERIES,$A$2:$A$32)=0)*($C$2:$C$32=J$37)} -> 0 | K39: {=(IFERROR(WEEKDAY($A$2:$A$32,2),0)=ROWS($38:39))*(COUNTIF(FERIES,$A$2:$A$32)=0)*($C$2:$C$32=K$37)} -> 0 | ... V39: {=(IFERROR(WEEKDAY($A$2:$A$32,2),0)=ROWS($38:39))*(COUNTIF(FERIES,$A$2:$A$32)=0)*($C$2:$C$32=V$37)} -> 0
C40: mercredi | D40: {=(IFERROR(WEEKDAY($A$2:$A$32,2),0)=ROWS($38:40))*(COUNTIF(FERIES,$A$2:$A$32)=0)*($C$2:$C$32=D$37)} -> 1 | E40: {=(IFERROR(WEEKDAY($A$2:$A$32,2),0)=ROWS($38:40))*(COUNTIF(FERIES,$A$2:$A$32)=0)*($C$2:$C$32=E$37)} -> 0 | F40: {=(IFERROR(WEEKDAY($A$2:$A$32,2),0)=ROWS($38:40))*(COUNTIF(FERIES,$A$2:$A$32)=0)*($C$2:$C$32=F$37)} -> 0 | G40: {=(IFERROR(WEEKDAY($A$2:$A$32,2),0)=ROWS($38:40))*(COUNTIF(FERIES,$A$2:$A$32)=0)*($C$2:$C$32=G$37)} -> 0 | H40: {=(IFERROR(WEEKDAY($A$2:$A$32,2),0)=ROWS($38:40))*(COUNTIF(FERIES,$A$2:$A$32)=0)*($C$2:$C$32=H$37)} -> 0 | I40: {=(IFERROR(WEEKDAY($A$2:$A$32,2),0)=ROWS($38:40))*(COUNTIF(FERIES,$A$2:$A$32)=0)*($C$2:$C$32=I$37)} -> 0 | J40: {=(IFERROR(WEEKDAY($A$2:$A$32,2),0)=ROWS($38:40))*(COUNTIF(FERIES,$A$2:$A$32)=0)*($C$2:$C$32=J$37)} -> 0 | K40: {=(IFERROR(WEEKDAY($A$2:$A$32,2),0)=ROWS($38:40))*(COUNTIF(FERIES,$A$2:$A$32)=0)*($C$2:$C$32=K$37)} -> 0 | ... V40: {=(IFERROR(WEEKDAY($A$2:$A$32,2),0)=ROWS($38:40))*(COUNTIF(FERIES,$A$2:$A$32)=0)*($C$2:$C$32=V$37)} -> 0
C41: jeudi | D41: {=(IFERROR(WEEKDAY($A$2:$A$32,2),0)=ROWS($38:41))*(COUNTIF(FERIES,$A$2:$A$32)=0)*($C$2:$C$32=D$37)} -> 0 | E41: {=(IFERROR(WEEKDAY($A$2:$A$32,2),0)=ROWS($38:41))*(COUNTIF(FERIES,$A$2:$A$32)=0)*($C$2:$C$32=E$37)} -> 0 | F41: {=(IFERROR(WEEKDAY($A$2:$A$32,2),0)=ROWS($38:41))*(COUNTIF(FERIES,$A$2:$A$32)=0)*($C$2:$C$32=F$37)} -> 0 | G41: {=(IFERROR(WEEKDAY($A$2:$A$32,2),0)=ROWS($38:41))*(COUNTIF(FERIES,$A$2:$A$32)=0)*($C$2:$C$32=G$37)} -> 0 | H41: {=(IFERROR(WEEKDAY($A$2:$A$32,2),0)=ROWS($38:41))*(COUNTIF(FERIES,$A$2:$A$32)=0)*($C$2:$C$32=H$37)} -> 0 | I41: {=(IFERROR(WEEKDAY($A$2:$A$32,2),0)=ROWS($38:41))*(COUNTIF(FERIES,$A$2:$A$32)=0)*($C$2:$C$32=I$37)} -> 0 | J41: {=(IFERROR(WEEKDAY($A$2:$A$32,2),0)=ROWS($38:41))*(COUNTIF(FERIES,$A$2:$A$32)=0)*($C$2:$C$32=J$37)} -> 0 | K41: {=(IFERROR(WEEKDAY($A$2:$A$32,2),0)=ROWS($38:41))*(COUNTIF(FERIES,$A$2:$A$32)=0)*($C$2:$C$32=K$37)} -> 0 | ... V41: {=(IFERROR(WEEKDAY($A$2:$A$32,2),0)=ROWS($38:41))*(COUNTIF(FERIES,$A$2:$A$32)=0)*($C$2:$C$32=V$37)} -> 0
C42: vendredi | D42: {=(IFERROR(WEEKDAY($A$2:$A$32,2),0)=ROWS($38:42))*(COUNTIF(FERIES,$A$2:$A$32)=0)*($C$2:$C$32=D$37)} -> 0 | E42: {=(IFERROR(WEEKDAY($A$2:$A$32,2),0)=ROWS($38:42))*(COUNTIF(FERIES,$A$2:$A$32)=0)*($C$2:$C$32=E$37)} -> 0 | F42: {=(IFERROR(WEEKDAY($A$2:$A$32,2),0)=ROWS($38:42))*(COUNTIF(FERIES,$A$2:$A$32)=0)*($C$2:$C$32=F$37)} -> 0 | G42: {=(IFERROR(WEEKDAY($A$2:$A$32,2),0)=ROWS($38:42))*(COUNTIF(FERIES,$A$2:$A$32)=0)*($C$2:$C$32=G$37)} -> 0 | H42: {=(IFERROR(WEEKDAY($A$2:$A$32,2),0)=ROWS($38:42))*(COUNTIF(FERIES,$A$2:$A$32)=0)*($C$2:$C$32=H$37)} -> 0 | I42: {=(IFERROR(WEEKDAY($A$2:$A$32,2),0)=ROWS($38:42))*(COUNTIF(FERIES,$A$2:$A$32)=0)*($C$2:$C$32=I$37)} -> 0 | J42: {=(IFERROR(WEEKDAY($A$2:$A$32,2),0)=ROWS($38:42))*(COUNTIF(FERIES,$A$2:$A$32)=0)*($C$2:$C$32=J$37)} -> 0 | K42: {=(IFERROR(WEEKDAY($A$2:$A$32,2),0)=ROWS($38:42))*(COUNTIF(FERIES,$A$2:$A$32)=0)*($C$2:$C$32=K$37)} -> 0 | ... V42: {=(IFERROR(WEEKDAY($A$2:$A$32,2),0)=ROWS($38:42))*(COUNTIF(FERIES,$A$2:$A$32)=0)*($C$2:$C$32=V$37)} -> 0
C43: samedi | D43: {=(IFERROR(WEEKDAY($A$2:$A$32,2),0)=ROWS($38:43))*(COUNTIF(FERIES,$A$2:$A$32)=0)*($C$2:$C$32=D$37)} -> 0 | E43: {=(IFERROR(WEEKDAY($A$2:$A$32,2),0)=ROWS($38:43))*(COUNTIF(FERIES,$A$2:$A$32)=0)*($C$2:$C$32=E$37)} -> 0 | F43: {=(IFERROR(WEEKDAY($A$2:$A$32,2),0)=ROWS($38:43))*(COUNTIF(FERIES,$A$2:$A$32)=0)*($C$2:$C$32=F$37)} -> 0 | G43: {=(IFERROR(WEEKDAY($A$2:$A$32,2),0)=ROWS($38:43))*(COUNTIF(FERIES,$A$2:$A$32)=0)*($C$2:$C$32=G$37)} -> 0 | H43: {=(IFERROR(WEEKDAY($A$2:$A$32,2),0)=ROWS($38:43))*(COUNTIF(FERIES,$A$2:$A$32)=0)*($C$2:$C$32=H$37)} -> 0 | I43: {=(IFERROR(WEEKDAY($A$2:$A$32,2),0)=ROWS($38:43))*(COUNTIF(FERIES,$A$2:$A$32)=0)*($C$2:$C$32=I$37)} -> 0 | J43: {=(IFERROR(WEEKDAY($A$2:$A$32,2),0)=ROWS($38:43))*(COUNTIF(FERIES,$A$2:$A$32)=0)*($C$2:$C$32=J$37)} -> 0 | K43: {=(IFERROR(WEEKDAY($A$2:$A$32,2),0)=ROWS($38:43))*(COUNTIF(FERIES,$A$2:$A$32)=0)*($C$2:$C$32=K$37)} -> 0 | ... V43: {=(IFERROR(WEEKDAY($A$2:$A$32,2),0)=ROWS($38:43))*(COUNTIF(FERIES,$A$2:$A$32)=0)*($C$2:$C$32=V$37)} -> 0
C44: dimanche | D44: {=(IFERROR(WEEKDAY($A$2:$A$32,2),0)=ROWS($38:44))*(COUNTIF(FERIES,$A$2:$A$32)=0)*($C$2:$C$32=D$37)} -> 0 | E44: {=(IFERROR(WEEKDAY($A$2:$A$32,2),0)=ROWS($38:44))*(COUNTIF(FERIES,$A$2:$A$32)=0)*($C$2:$C$32=E$37)} -> 0 | F44: {=(IFERROR(WEEKDAY($A$2:$A$32,2),0)=ROWS($38:44))*(COUNTIF(FERIES,$A$2:$A$32)=0)*($C$2:$C$32=F$37)} -> 0 | G44: {=(IFERROR(WEEKDAY($A$2:$A$32,2),0)=ROWS($38:44))*(COUNTIF(FERIES,$A$2:$A$32)=0)*($C$2:$C$32=G$37)} -> 0 | H44: {=(IFERROR(WEEKDAY($A$2:$A$32,2),0)=ROWS($38:44))*(COUNTIF(FERIES,$A$2:$A$32)=0)*($C$2:$C$32=H$37)} -> 0 | I44: {=(IFERROR(WEEKDAY($A$2:$A$32,2),0)=ROWS($38:44))*(COUNTIF(FERIES,$A$2:$A$32)=0)*($C$2:$C$32=I$37)} -> 0 | J44: {=(IFERROR(WEEKDAY($A$2:$A$32,2),0)=ROWS($38:44))*(COUNTIF(FERIES,$A$2:$A$32)=0)*($C$2:$C$32=J$37)} -> 0 | K44: {=(IFERROR(WEEKDAY($A$2:$A$32,2),0)=ROWS($38:44))*(COUNTIF(FERIES,$A$2:$A$32)=0)*($C$2:$C$32=K$37)} -> 0 | ... V44: {=(IFERROR(WEEKDAY($A$2:$A$32,2),0)=ROWS($38:44))*(COUNTIF(FERIES,$A$2:$A$32)=0)*($C$2:$C$32=V$37)} -> 0
C45: FERIES | D45: =SUMPRODUCT(COUNTIF(FERIES,$A$2:$A$32)*($C$2:$C$32=D37)) -> 0 | E45: =SUMPRODUCT(COUNTIF(FERIES,$A$2:$A$32)*($C$2:$C$32=E37)) -> 0 | F45: =SUMPRODUCT(COUNTIF(FERIES,$A$2:$A$32)*($C$2:$C$32=F37)) -> 0 | G45: =SUMPRODUCT(COUNTIF(FERIES,$A$2:$A$32)*($C$2:$C$32=G37)) -> 0 | H45: =SUMPRODUCT(COUNTIF(FERIES,$A$2:$A$32)*($C$2:$C$32=H37)) -> 0 | I45: =SUMPRODUCT(COUNTIF(FERIES,$A$2:$A$32)*($C$2:$C$32=I37)) -> 0 | J45: =SUMPRODUCT(COUNTIF(FERIES,$A$2:$A$32)*($C$2:$C$32=J37)) -> 0 | K45: =SUMPRODUCT(COUNTIF(FERIES,$A$2:$A$32)*($C$2:$C$32=K37)) -> 0 | ... V45: =SUMPRODUCT(COUNTIF(FERIES,$A$2:$A$32)*($C$2:$C$32=V37)) -> 0
C47: Lun/Mar | D47: =SUM(D38:D39) -> 0 | E47: =SUM(E38:E39) -> 0 | F47: =SUM(F38:F39) -> 0 | G47: =SUM(G38:G39) -> 0 | H47: =SUM(H38:H39) -> 0 | I47: =SUM(I38:I39) -> 0 | J47: =SUM(J38:J39) -> 0 | K47: =SUM(K38:K39) -> 0 | ... V47: =SUM(V38:V39) -> 0
C48: Mer/Ven | D48: =SUM(D40+D42) -> 1 | E48: =SUM(E40+E42) -> 0 | F48: =SUM(F40+F42) -> 0 | G48: =SUM(G40+G42) -> 0 | H48: =SUM(H40+H42) -> 0 | I48: =SUM(I40+I42) -> 0 | J48: =SUM(J40+J42) -> 0 | K48: =SUM(K40+K42) -> 0 | ... V48: =SUM(V40+V42) -> 0
C49: jeudi | D49: =SUM(D41) -> 0 | E49: =SUM(E41) -> 0 | F49: =SUM(F41) -> 0 | G49: =SUM(G41) -> 0 | H49: =SUM(H41) -> 0 | I49: =SUM(I41) -> 0 | J49: =SUM(J41) -> 0 | K49: =SUM(K41) -> 0 | ... V49: =SUM(V41) -> 0
C50: Samedi | D50: =SUM(D43) -> 0 | E50: =SUM(E43) -> 0 | F50: =SUM(F43) -> 0 | G50: =SUM(G43) -> 0 | H50: =SUM(H43) -> 0 | I50: =SUM(I43) -> 0 | J50: =SUM(J43) -> 0 | K50: =SUM(K43) -> 0 | ... V50: =SUM(V43) -> 0
C51: Dimanche | D51: =SUM(D44) -> 0 | E51: =SUM(E44) -> 0 | F51: =SUM(F44) -> 0 | G51: =SUM(G44) -> 0 | H51: =SUM(H44) -> 0 | I51: =SUM(I44) -> 0 | J51: =SUM(J44) -> 0 | K51: =SUM(K44) -> 0 | ... V51: =SUM(V44) -> 0
C52: Fériés | D52: =SUM(D45) -> 0 | E52: =SUM(E45) -> 0 | F52: =SUM(F45) -> 0 | G52: =SUM(G45) -> 0 | H52: =SUM(H45) -> 0 | I52: =SUM(I45) -> 0 | J52: =SUM(J45) -> 0 | K52: =SUM(K45) -> 0 | ... V52: =SUM(V45) -> 0
C55: Lun/Mar | D55: =SUM(Jan:Dec!D47) -> 0 | E55: =SUM(Jan:Dec!E47) -> 0 | F55: =SUM(Jan:Dec!F47) -> 1 | G55: =SUM(Jan:Dec!G47) -> 0 | H55: =SUM(Jan:Dec!H47) -> 0 | I55: =SUM(Jan:Dec!I47) -> 0 | J55: =SUM(Jan:Dec!J47) -> 0 | K55: =SUM(Jan:Dec!K47) -> 0 | ... V55: =SUM(Jan:Dec!V47) -> 0
C56: Mer/Ven | D56: =SUM(Jan:Dec!D48) -> 1 | E56: =SUM(Jan:Dec!E48) -> 0 | F56: =SUM(Jan:Dec!F48) -> 0 | G56: =SUM(Jan:Dec!G48) -> 0 | H56: =SUM(Jan:Dec!H48) -> 0 | I56: =SUM(Jan:Dec!I48) -> 0 | J56: =SUM(Jan:Dec!J48) -> 0 | K56: =SUM(Jan:Dec!K48) -> 0 | ... V56: =SUM(Jan:Dec!V48) -> 0
C57: jeudi | D57: =SUM(Jan:Dec!D49) -> 0 | E57: =SUM(Jan:Dec!E49) -> 0 | F57: =SUM(Jan:Dec!F49) -> 0 | G57: =SUM(Jan:Dec!G49) -> 0 | H57: =SUM(Jan:Dec!H49) -> 0 | I57: =SUM(Jan:Dec!I49) -> 0 | J57: =SUM(Jan:Dec!J49) -> 0 | K57: =SUM(Jan:Dec!K49) -> 0 | ... V57: =SUM(Jan:Dec!V49) -> 0
C58: Samedi | D58: =SUM(Jan:Dec!D50) -> 0 | E58: =SUM(Jan:Dec!E50) -> 1 | F58: =SUM(Jan:Dec!F50) -> 0 | G58: =SUM(Jan:Dec!G50) -> 0 | H58: =SUM(Jan:Dec!H50) -> 0 | I58: =SUM(Jan:Dec!I50) -> 0 | J58: =SUM(Jan:Dec!J50) -> 0 | K58: =SUM(Jan:Dec!K50) -> 0 | ... V58: =SUM(Jan:Dec!V50) -> 0
C59: Dimanche | D59: =SUM(Jan:Dec!D51) -> 0 | E59: =SUM(Jan:Dec!E51) -> 0 | F59: =SUM(Jan:Dec!F51) -> 0 | G59: =SUM(Jan:Dec!G51) -> 0 | H59: =SUM(Jan:Dec!H51) -> 0 | I59: =SUM(Jan:Dec!I51) -> 0 | J59: =SUM(Jan:Dec!J51) -> 0 | K59: =SUM(Jan:Dec!K51) -> 0 | ... V59: =SUM(Jan:Dec!V51) -> 0
C60: Fériés | D60: =SUM(Jan:Dec!D52) -> 1 | E60: =SUM(Jan:Dec!E52) -> 0 | F60: =SUM(Jan:Dec!F52) -> 0 | G60: =SUM(Jan:Dec!G52) -> 0 | H60: =SUM(Jan:Dec!H52) -> 0 | I60: =SUM(Jan:Dec!I52) -> 0 | J60: =SUM(Jan:Dec!J52) -> 0 | K60: =SUM(Jan:Dec!K52) -> 0 | ... V60: =SUM(Jan:Dec!V52) -> 0
C61: Total | D61: =SUM(D55:D60) -> 2 | E61: =SUM(E55:E60) -> 1 | F61: =SUM(F55:F60) -> 1 | G61: =SUM(G55:G60) -> 0 | H61: =SUM(H55:H60) -> 0 | I61: =SUM(I55:I60) -> 0 | J61: =SUM(J55:J60) -> 0 | K61: =SUM(K55:K60) -> 0 | ... V61: =SUM(V55:V60) -> 0

Sheet Mar
A1: =DATE(Accueil!E1,3,1) -> 42795 | B1: DATE | C1: GRADE - NOM | D1: - | E1: - | F1: - | G1: - | H1: - | I1: - | J1: - | K1: - | L1: - | M1: - | N1: - | O1: - | P1: - | Q1: - | R1: - | S1: - | T1: - | U1: =-Avr:Dec!D1 -> #REF! | V1: _ | W1: Récap
A2: =DATE(Accueil!E1,3,1) -> 42795 | B2: =DATE(Accueil!E1,3,1) -> 42795 | D2: =IF($C2=D$1,1,"0") -> 0 | E2: =IF($C2=E$1,1,"0") -> 0 | F2: =IF($C2=F$1,1,"0") -> 0 | G2: =IF($C2=G$1,1,"0") -> 0 | H2: =IF($C2=H$1,1,"0") -> 0 | I2: =IF($C2=I$1,1,"0") -> 0 | J2: =IF($C2=J$1,1,"0") -> 0 | K2: =IF($C2=K$1,1,"0") -> 0 | ... V2: =IF($C2=V$1,1,"0") -> 0 | W2: =SUM(D2:V2) -> #REF!
A3: =(A2+1) -> 42796 | B3: =(B2+1) -> 42796 | D3: =IF($C3=D$1,1,"0") -> 0 | E3: =IF($C3=E$1,1,"0") -> 0 | F3: =IF($C3=F$1,1,"0") -> 0 | G3: =IF($C3=G$1,1,"0") -> 0 | H3: =IF($C3=H$1,1,"0") -> 0 | I3: =IF($C3=I$1,1,"0") -> 0 | J3: =IF($C3=J$1,1,"0") -> 0 | K3: =IF($C3=K$1,1,"0") -> 0 | ... V3: =IF($C3=V$1,1,"0") -> 0 | W3: =SUM(D3:V3) -> #REF!
A4: =(A3+1) -> 42797 | B4: =(B3+1) -> 42797 | D4: =IF($C4=D$1,1,"0") -> 0 | E4: =IF($C4=E$1,1,"0") -> 0 | F4: =IF($C4=F$1,1,"0") -> 0 | G4: =IF($C4=G$1,1,"0") -> 0 | H4: =IF($C4=H$1,1,"0") -> 0 | I4: =IF($C4=I$1,1,"0") -> 0 | J4: =IF($C4=J$1,1,"0") -> 0 | K4: =IF($C4=K$1,1,"0") -> 0 | ... V4: =IF($C4=V$1,1,"0") -> 0 | W4: =SUM(D4:V4) -> #REF!
A5: =(A4+1) -> 42798 | B5: =(B4+1) -> 42798 | D5: =IF($C5=D$1,1,"0") -> 0 | E5: =IF($C5=E$1,1,"0") -> 0 | F5: =IF($C5=F$1,1,"0") -> 0 | G5: =IF($C5=G$1,1,"0") -> 0 | H5: =IF($C5=H$1,1,"0") -> 0 | I5: =IF($C5=I$1,1,"0") -> 0 | J5: =IF($C5=J$1,1,"0") -> 0 | K5: =IF($C5=K$1,1,"0") -> 0 | ... V5: =IF($C5=V$1,1,"0") -> 0 | W5: =SUM(D5:V5) -> #REF!
A6: =(A5+1) -> 42799 | B6: =(B5+1) -> 42799 | D6: =IF($C6=D$1,1,"0") -> 0 | E6: =IF($C6=E$1,1,"0") -> 0 | F6: =IF($C6=F$1,1,"0") -> 0 | G6: =IF($C6=G$1,1,"0") -> 0 | H6: =IF($C6=H$1,1,"0") -> 0 | I6: =IF($C6=I$1,1,"0") -> 0 | J6: =IF($C6=J$1,1,"0") -> 0 | K6: =IF($C6=K$1,1,"0") -> 0 | ... V6: =IF($C6=V$1,1,"0") -> 0 | W6: =SUM(D6:V6) -> #REF!
A7: =(A6+1) -> 42800 | B7: =(B6+1) -> 42800 | D7: =IF($C7=D$1,1,"0") -> 0 | E7: =IF($C7=E$1,1,"0") -> 0 | F7: =IF($C7=F$1,1,"0") -> 0 | G7: =IF($C7=G$1,1,"0") -> 0 | H7: =IF($C7=H$1,1,"0") -> 0 | I7: =IF($C7=I$1,1,"0") -> 0 | J7: =IF($C7=J$1,1,"0") -> 0 | K7: =IF($C7=K$1,1,"0") -> 0 | ... V7: =IF($C7=V$1,1,"0") -> 0 | W7: =SUM(D7:V7) -> #REF!
A8: =(A7+1) -> 42801 | B8: =(B7+1) -> 42801 | D8: =IF($C8=D$1,1,"0") -> 0 | E8: =IF($C8=E$1,1,"0") -> 0 | F8: =IF($C8=F$1,1,"0") -> 0 | G8: =IF($C8=G$1,1,"0") -> 0 | H8: =IF($C8=H$1,1,"0") -> 0 | I8: =IF($C8=I$1,1,"0") -> 0 | J8: =IF($C8=J$1,1,"0") -> 0 | K8: =IF($C8=K$1,1,"0") -> 0 | ... V8: =IF($C8=V$1,1,"0") -> 0 | W8: =SUM(D8:V8) -> #REF!
A9: =(A8+1) -> 42802 | B9: =(B8+1) -> 42802 | D9: =IF($C9=D$1,1,"0") -> 0 | E9: =IF($C9=E$1,1,"0") -> 0 | F9: =IF($C9=F$1,1,"0") -> 0 | G9: =IF($C9=G$1,1,"0") -> 0 | H9: =IF($C9=H$1,1,"0") -> 0 | I9: =IF($C9=I$1,1,"0") -> 0 | J9: =IF($C9=J$1,1,"0") -> 0 | K9: =IF($C9=K$1,1,"0") -> 0 | ... V9: =IF($C9=V$1,1,"0") -> 0 | W9: =SUM(D9:V9) -> #REF!
A10: =(A9+1) -> 42803 | B10: =(B9+1) -> 42803 | D10: =IF($C10=D$1,1,"0") -> 0 | E10: =IF($C10=E$1,1,"0") -> 0 | F10: =IF($C10=F$1,1,"0") -> 0 | G10: =IF($C10=G$1,1,"0") -> 0 | H10: =IF($C10=H$1,1,"0") -> 0 | I10: =IF($C10=I$1,1,"0") -> 0 | J10: =IF($C10=J$1,1,"0") -> 0 | K10: =IF($C10=K$1,1,"0") -> 0 | ... V10: =IF($C10=V$1,1,"0") -> 0 | W10: =SUM(D10:V10) -> #REF!
A11: =(A10+1) -> 42804 | B11: =(B10+1) -> 42804 | D11: =IF($C11=D$1,1,"0") -> 0 | E11: =IF($C11=E$1,1,"0") -> 0 | F11: =IF($C11=F$1,1,"0") -> 0 | G11: =IF($C11=G$1,1,"0") -> 0 | H11: =IF($C11=H$1,1,"0") -> 0 | I11: =IF($C11=I$1,1,"0") -> 0 | J11: =IF($C11=J$1,1,"0") -> 0 | K11: =IF($C11=K$1,1,"0") -> 0 | ... V11: =IF($C11=V$1,1,"0") -> 0 | W11: =SUM(D11:V11) -> #REF!
A12: =(A11+1) -> 42805 | B12: =(B11+1) -> 42805 | D12: =IF($C12=D$1,1,"0") -> 0 | E12: =IF($C12=E$1,1,"0") -> 0 | F12: =IF($C12=F$1,1,"0") -> 0 | G12: =IF($C12=G$1,1,"0") -> 0 | H12: =IF($C12=H$1,1,"0") -> 0 | I12: =IF($C12=I$1,1,"0") -> 0 | J12: =IF($C12=J$1,1,"0") -> 0 | K12: =IF($C12=K$1,1,"0") -> 0 | ... V12: =IF($C12=V$1,1,"0") -> 0 | W12: =SUM(D12:V12) -> #REF!
A13: =(A12+1) -> 42806 | B13: =(B12+1) -> 42806 | D13: =IF($C13=D$1,1,"0") -> 0 | E13: =IF($C13=E$1,1,"0") -> 0 | F13: =IF($C13=F$1,1,"0") -> 0 | G13: =IF($C13=G$1,1,"0") -> 0 | H13: =IF($C13=H$1,1,"0") -> 0 | I13: =IF($C13=I$1,1,"0") -> 0 | J13: =IF($C13=J$1,1,"0") -> 0 | K13: =IF($C13=K$1,1,"0") -> 0 | ... V13: =IF($C13=V$1,1,"0") -> 0 | W13: =SUM(D13:V13) -> #REF!
A14: =(A13+1) -> 42807 | B14: =(B13+1) -> 42807 | D14: =IF($C14=D$1,1,"0") -> 0 | E14: =IF($C14=E$1,1,"0") -> 0 | F14: =IF($C14=F$1,1,"0") -> 0 | G14: =IF($C14=G$1,1,"0") -> 0 | H14: =IF($C14=H$1,1,"0") -> 0 | I14: =IF($C14=I$1,1,"0") -> 0 | J14: =IF($C14=J$1,1,"0") -> 0 | K14: =IF($C14=K$1,1,"0") -> 0 | ... V14: =IF($C14=V$1,1,"0") -> 0 | W14: =SUM(D14:V14) -> #REF!
... A32: =(A31+1) -> 42825 | B32: =(B31+1) -> 42825 | D32: =IF($C32=D$1,1,"0") -> 0 | E32: =IF($C32=E$1,1,"0") -> 0 | F32: =IF($C32=F$1,1,"0") -> 0 | G32: =IF($C32=G$1,1,"0") -> 0 | H32: =IF($C32=H$1,1,"0") -> 0 | I32: =IF($C32=I$1,1,"0") -> 0 | J32: =IF($C32=J$1,1,"0") -> 0 | K32: =IF($C32=K$1,1,"0") -> 0 | ... V32: =IF($C32=V$1,1,"0") -> 0 | W32: =SUM(D32:V32) -> #REF!
D33: =SUM(D2:D32) -> 0 | E33: =SUM(E2:E32) -> 0 | F33: =SUM(F2:F32) -> 0 | G33: =SUM(G2:G32) -> 0 | H33: =SUM(H2:H32) -> 0 | I33: =SUM(I2:I32) -> 0 | J33: =SUM(J2:J32) -> 0 | K33: =SUM(K2:K32) -> 0 | ... W33: =SUM(W2:W32) -> #REF!
D37: =(D1) -> - | E37: =(E1) -> - | F37: =(F1) -> - | G37: =(G1) -> - | H37: =(H1) -> - | I37: =(I1) -> - | J37: =(J1) -> - | K37: =(K1) -> - | ... V37: =(V1) -> _
C38: lundi | D38: =SUMPRODUCT((WEEKDAY($A$2:$A$32,2)=ROWS($38:38))*(COUNTIF(FERIES,$A$2:$A$32)=0)*($C$2:$C$32=D$37)) -> 0 | E38: =SUMPRODUCT((WEEKDAY($A$2:$A$32,2)=ROWS($38:38))*(COUNTIF(FERIES,$A$2:$A$32)=0)*($C$2:$C$32=E$37)) -> 0 | F38: =SUMPRODUCT((WEEKDAY($A$2:$A$32,2)=ROWS($38:38))*(COUNTIF(FERIES,$A$2:$A$32)=0)*($C$2:$C$32=F$37)) -> 0 | G38: =SUMPRODUCT((WEEKDAY($A$2:$A$32,2)=ROWS($38:38))*(COUNTIF(FERIES,$A$2:$A$32)=0)*($C$2:$C$32=G$37)) -> 0 | H38: =SUMPRODUCT((WEEKDAY($A$2:$A$32,2)=ROWS($38:38))*(COUNTIF(FERIES,$A$2:$A$32)=0)*($C$2:$C$32=H$37)) -> 0 | I38: =SUMPRODUCT((WEEKDAY($A$2:$A$32,2)=ROWS($38:38))*(COUNTIF(FERIES,$A$2:$A$32)=0)*($C$2:$C$32=I$37)) -> 0 | J38: =SUMPRODUCT((WEEKDAY($A$2:$A$32,2)=ROWS($38:38))*(COUNTIF(FERIES,$A$2:$A$32)=0)*($C$2:$C$32=J$37)) -> 0 | K38: =SUMPRODUCT((WEEKDAY($A$2:$A$32,2)=ROWS($38:38))*(COUNTIF(FERIES,$A$2:$A$32)=0)*($C$2:$C$32=K$37)) -> 0 | ... V38: =SUMPRODUCT((WEEKDAY($A$2:$A$32,2)=ROWS($38:38))*(COUNTIF(FERIES,$A$2:$A$32)=0)*($C$2:$C$32=V$37)) -> 0
C39: mardi | D39: =SUMPRODUCT((WEEKDAY($A$2:$A$32,2)=ROWS($38:39))*(COUNTIF(FERIES,$A$2:$A$32)=0)*($C$2:$C$32=D$37)) -> 0 | E39: =SUMPRODUCT((WEEKDAY($A$2:$A$32,2)=ROWS($38:39))*(COUNTIF(FERIES,$A$2:$A$32)=0)*($C$2:$C$32=E$37)) -> 0 | F39: =SUMPRODUCT((WEEKDAY($A$2:$A$32,2)=ROWS($38:39))*(COUNTIF(FERIES,$A$2:$A$32)=0)*($C$2:$C$32=F$37)) -> 0 | G39: =SUMPRODUCT((WEEKDAY($A$2:$A$32,2)=ROWS($38:39))*(COUNTIF(FERIES,$A$2:$A$32)=0)*($C$2:$C$32=G$37)) -> 0 | H39: =SUMPRODUCT((WEEKDAY($A$2:$A$32,2)=ROWS($38:39))*(COUNTIF(FERIES,$A$2:$A$32)=0)*($C$2:$C$32=H$37)) -> 0 | I39: =SUMPRODUCT((WEEKDAY($A$2:$A$32,2)=ROWS($38:39))*(COUNTIF(FERIES,$A$2:$A$32)=0)*($C$2:$C$32=I$37)) -> 0 | J39: =SUMPRODUCT((WEEKDAY($A$2:$A$32,2)=ROWS($38:39))*(COUNTIF(FERIES,$A$2:$A$32)=0)*($C$2:$C$32=J$37)) -> 0 | K39: =SUMPRODUCT((WEEKDAY($A$2:$A$32,2)=ROWS($38:39))*(COUNTIF(FERIES,$A$2:$A$32)=0)*($C$2:$C$32=K$37)) -> 0 | ... V39: =SUMPRODUCT((WEEKDAY($A$2:$A$32,2)=ROWS($38:39))*(COUNTIF(FERIES,$A$2:$A$32)=0)*($C$2:$C$32=V$37)) -> 0
C40: mercredi | D40: =SUMPRODUCT((WEEKDAY($A$2:$A$32,2)=ROWS($38:40))*(COUNTIF(FERIES,$A$2:$A$32)=0)*($C$2:$C$32=D$37)) -> 0 | E40: =SUMPRODUCT((WEEKDAY($A$2:$A$32,2)=ROWS($38:40))*(COUNTIF(FERIES,$A$2:$A$32)=0)*($C$2:$C$32=E$37)) -> 0 | F40: =SUMPRODUCT((WEEKDAY($A$2:$A$32,2)=ROWS($38:40))*(COUNTIF(FERIES,$A$2:$A$32)=0)*($C$2:$C$32=F$37)) -> 0 | G40: =SUMPRODUCT((WEEKDAY($A$2:$A$32,2)=ROWS($38:40))*(COUNTIF(FERIES,$A$2:$A$32)=0)*($C$2:$C$32=G$37)) -> 0 | H40: =SUMPRODUCT((WEEKDAY($A$2:$A$32,2)=ROWS($38:40))*(COUNTIF(FERIES,$A$2:$A$32)=0)*($C$2:$C$32=H$37)) -> 0 | I40: =SUMPRODUCT((WEEKDAY($A$2:$A$32,2)=ROWS($38:40))*(COUNTIF(FERIES,$A$2:$A$32)=0)*($C$2:$C$32=I$37)) -> 0 | J40: =SUMPRODUCT((WEEKDAY($A$2:$A$32,2)=ROWS($38:40))*(COUNTIF(FERIES,$A$2:$A$32)=0)*($C$2:$C$32=J$37)) -> 0 | K40: =SUMPRODUCT((WEEKDAY($A$2:$A$32,2)=ROWS($38:40))*(COUNTIF(FERIES,$A$2:$A$32)=0)*($C$2:$C$32=K$37)) -> 0 | ... V40: =SUMPRODUCT((WEEKDAY($A$2:$A$32,2)=ROWS($38:40))*(COUNTIF(FERIES,$A$2:$A$32)=0)*($C$2:$C$32=V$37)) -> 0
C41: jeudi | D41: =SUMPRODUCT((WEEKDAY($A$2:$A$32,2)=ROWS($38:41))*(COUNTIF(FERIES,$A$2:$A$32)=0)*($C$2:$C$32=D$37)) -> 0 | E41: =SUMPRODUCT((WEEKDAY($A$2:$A$32,2)=ROWS($38:41))*(COUNTIF(FERIES,$A$2:$A$32)=0)*($C$2:$C$32=E$37)) -> 0 | F41: =SUMPRODUCT((WEEKDAY($A$2:$A$32,2)=ROWS($38:41))*(COUNTIF(FERIES,$A$2:$A$32)=0)*($C$2:$C$32=F$37)) -> 0 | G41: =SUMPRODUCT((WEEKDAY($A$2:$A$32,2)=ROWS($38:41))*(COUNTIF(FERIES,$A$2:$A$32)=0)*($C$2:$C$32=G$37)) -> 0 | H41: =SUMPRODUCT((WEEKDAY($A$2:$A$32,2)=ROWS($38:41))*(COUNTIF(FERIES,$A$2:$A$32)=0)*($C$2:$C$32=H$37)) -> 0 | I41: =SUMPRODUCT((WEEKDAY($A$2:$A$32,2)=ROWS($38:41))*(COUNTIF(FERIES,$A$2:$A$32)=0)*($C$2:$C$32=I$37)) -> 0 | J41: =SUMPRODUCT((WEEKDAY($A$2:$A$32,2)=ROWS($38:41))*(COUNTIF(FERIES,$A$2:$A$32)=0)*($C$2:$C$32=J$37)) -> 0 | K41: =SUMPRODUCT((WEEKDAY($A$2:$A$32,2)=ROWS($38:41))*(COUNTIF(FERIES,$A$2:$A$32)=0)*($C$2:$C$32=K$37)) -> 0 | ... V41: =SUMPRODUCT((WEEKDAY($A$2:$A$32,2)=ROWS($38:41))*(COUNTIF(FERIES,$A$2:$A$32)=0)*($C$2:$C$32=V$37)) -> 0
C42: vendredi | D42: =SUMPRODUCT((WEEKDAY($A$2:$A$32,2)=ROWS($38:42))*(COUNTIF(FERIES,$A$2:$A$32)=0)*($C$2:$C$32=D$37)) -> 0 | E42: =SUMPRODUCT((WEEKDAY($A$2:$A$32,2)=ROWS($38:42))*(COUNTIF(FERIES,$A$2:$A$32)=0)*($C$2:$C$32=E$37)) -> 0 | F42: =SUMPRODUCT((WEEKDAY($A$2:$A$32,2)=ROWS($38:42))*(COUNTIF(FERIES,$A$2:$A$32)=0)*($C$2:$C$32=F$37)) -> 0 | G42: =SUMPRODUCT((WEEKDAY($A$2:$A$32,2)=ROWS($38:42))*(COUNTIF(FERIES,$A$2:$A$32)=0)*($C$2:$C$32=G$37)) -> 0 | H42: =SUMPRODUCT((WEEKDAY($A$2:$A$32,2)=ROWS($38:42))*(COUNTIF(FERIES,$A$2:$A$32)=0)*($C$2:$C$32=H$37)) -> 0 | I42: =SUMPRODUCT((WEEKDAY($A$2:$A$32,2)=ROWS($38:42))*(COUNTIF(FERIES,$A$2:$A$32)=0)*($C$2:$C$32=I$37)) -> 0 | J42: =SUMPRODUCT((WEEKDAY($A$2:$A$32,2)=ROWS($38:42))*(COUNTIF(FERIES,$A$2:$A$32)=0)*($C$2:$C$32=J$37)) -> 0 | K42: =SUMPRODUCT((WEEKDAY($A$2:$A$32,2)=ROWS($38:42))*(COUNTIF(FERIES,$A$2:$A$32)=0)*($C$2:$C$32=K$37)) -> 0 | ... V42: =SUMPRODUCT((WEEKDAY($A$2:$A$32,2)=ROWS($38:42))*(COUNTIF(FERIES,$A$2:$A$32)=0)*($C$2:$C$32=V$37)) -> 0
C43: samedi | D43: =SUMPRODUCT((WEEKDAY($A$2:$A$32,2)=ROWS($38:43))*(COUNTIF(FERIES,$A$2:$A$32)=0)*($C$2:$C$32=D$37)) -> 0 | E43: =SUMPRODUCT((WEEKDAY($A$2:$A$32,2)=ROWS($38:43))*(COUNTIF(FERIES,$A$2:$A$32)=0)*($C$2:$C$32=E$37)) -> 0 | F43: =SUMPRODUCT((WEEKDAY($A$2:$A$32,2)=ROWS($38:43))*(COUNTIF(FERIES,$A$2:$A$32)=0)*($C$2:$C$32=F$37)) -> 0 | G43: =SUMPRODUCT((WEEKDAY($A$2:$A$32,2)=ROWS($38:43))*(COUNTIF(FERIES,$A$2:$A$32)=0)*($C$2:$C$32=G$37)) -> 0 | H43: =SUMPRODUCT((WEEKDAY($A$2:$A$32,2)=ROWS($38:43))*(COUNTIF(FERIES,$A$2:$A$32)=0)*($C$2:$C$32=H$37)) -> 0 | I43: =SUMPRODUCT((WEEKDAY($A$2:$A$32,2)=ROWS($38:43))*(COUNTIF(FERIES,$A$2:$A$32)=0)*($C$2:$C$32=I$37)) -> 0 | J43: =SUMPRODUCT((WEEKDAY($A$2:$A$32,2)=ROWS($38:43))*(COUNTIF(FERIES,$A$2:$A$32)=0)*($C$2:$C$32=J$37)) -> 0 | K43: =SUMPRODUCT((WEEKDAY($A$2:$A$32,2)=ROWS($38:43))*(COUNTIF(FERIES,$A$2:$A$32)=0)*($C$2:$C$32=K$37)) -> 0 | ... V43: =SUMPRODUCT((WEEKDAY($A$2:$A$32,2)=ROWS($38:43))*(COUNTIF(FERIES,$A$2:$A$32)=0)*($C$2:$C$32=V$37)) -> 0
C44: dimanche | D44: =SUMPRODUCT((WEEKDAY($A$2:$A$32,2)=ROWS($38:44))*(COUNTIF(FERIES,$A$2:$A$32)=0)*($C$2:$C$32=D$37)) -> 0 | E44: =SUMPRODUCT((WEEKDAY($A$2:$A$32,2)=ROWS($38:44))*(COUNTIF(FERIES,$A$2:$A$32)=0)*($C$2:$C$32=E$37)) -> 0 | F44: =SUMPRODUCT((WEEKDAY($A$2:$A$32,2)=ROWS($38:44))*(COUNTIF(FERIES,$A$2:$A$32)=0)*($C$2:$C$32=F$37)) -> 0 | G44: =SUMPRODUCT((WEEKDAY($A$2:$A$32,2)=ROWS($38:44))*(COUNTIF(FERIES,$A$2:$A$32)=0)*($C$2:$C$32=G$37)) -> 0 | H44: =SUMPRODUCT((WEEKDAY($A$2:$A$32,2)=ROWS($38:44))*(COUNTIF(FERIES,$A$2:$A$32)=0)*($C$2:$C$32=H$37)) -> 0 | I44: =SUMPRODUCT((WEEKDAY($A$2:$A$32,2)=ROWS($38:44))*(COUNTIF(FERIES,$A$2:$A$32)=0)*($C$2:$C$32=I$37)) -> 0 | J44: =SUMPRODUCT((WEEKDAY($A$2:$A$32,2)=ROWS($38:44))*(COUNTIF(FERIES,$A$2:$A$32)=0)*($C$2:$C$32=J$37)) -> 0 | K44: =SUMPRODUCT((WEEKDAY($A$2:$A$32,2)=ROWS($38:44))*(COUNTIF(FERIES,$A$2:$A$32)=0)*($C$2:$C$32=K$37)) -> 0 | ... V44: =SUMPRODUCT((WEEKDAY($A$2:$A$32,2)=ROWS($38:44))*(COUNTIF(FERIES,$A$2:$A$32)=0)*($C$2:$C$32=V$37)) -> 0
C45: FERIES | D45: =SUMPRODUCT(COUNTIF(FERIES,$A$2:$A$32)*($C$2:$C$32=D37)) -> 0 | E45: =SUMPRODUCT(COUNTIF(FERIES,$A$2:$A$32)*($C$2:$C$32=E37)) -> 0 | F45: =SUMPRODUCT(COUNTIF(FERIES,$A$2:$A$32)*($C$2:$C$32=F37)) -> 0 | G45: =SUMPRODUCT(COUNTIF(FERIES,$A$2:$A$32)*($C$2:$C$32=G37)) -> 0 | H45: =SUMPRODUCT(COUNTIF(FERIES,$A$2:$A$32)*($C$2:$C$32=H37)) -> 0 | I45: =SUMPRODUCT(COUNTIF(FERIES,$A$2:$A$32)*($C$2:$C$32=I37)) -> 0 | J45: =SUMPRODUCT(COUNTIF(FERIES,$A$2:$A$32)*($C$2:$C$32=J37)) -> 0 | K45: =SUMPRODUCT(COUNTIF(FERIES,$A$2:$A$32)*($C$2:$C$32=K37)) -> 0 | ... V45: =SUMPRODUCT(COUNTIF(FERIES,$A$2:$A$32)*($C$2:$C$32=V37)) -> 0
C47: Lun/Mar | D47: =SUM(D38:D39) -> 0 | E47: =SUM(E38:E39) -> 0 | F47: =SUM(F38:F39) -> 0 | G47: =SUM(G38:G39) -> 0 | H47: =SUM(H38:H39) -> 0 | I47: =SUM(I38:I39) -> 0 | J47: =SUM(J38:J39) -> 0 | K47: =SUM(K38:K39) -> 0 | ... V47: =SUM(V38:V39) -> 0
C48: Mer/Ven | D48: =SUM(D40+D42) -> 0 | E48: =SUM(E40+E42) -> 0 | F48: =SUM(F40+F42) -> 0 | G48: =SUM(G40+G42) -> 0 | H48: =SUM(H40+H42) -> 0 | I48: =SUM(I40+I42) -> 0 | J48: =SUM(J40+J42) -> 0 | K48: =SUM(K40+K42) -> 0 | ... V48: =SUM(V40+V42) -> 0
C49: jeudi | D49: =SUM(D41) -> 0 | E49: =SUM(E41) -> 0 | F49: =SUM(F41) -> 0 | G49: =SUM(G41) -> 0 | H49: =SUM(H41) -> 0 | I49: =SUM(I41) -> 0 | J49: =SUM(J41) -> 0 | K49: =SUM(K41) -> 0 | ... V49: =SUM(V41) -> 0
C50: Samedi | D50: =SUM(D43) -> 0 | E50: =SUM(E43) -> 0 | F50: =SUM(F43) -> 0 | G50: =SUM(G43) -> 0 | H50: =SUM(H43) -> 0 | I50: =SUM(I43) -> 0 | J50: =SUM(J43) -> 0 | K50: =SUM(K43) -> 0 | ... V50: =SUM(V43) -> 0
C51: Dimanche | D51: =SUM(D44) -> 0 | E51: =SUM(E44) -> 0 | F51: =SUM(F44) -> 0 | G51: =SUM(G44) -> 0 | H51: =SUM(H44) -> 0 | I51: =SUM(I44) -> 0 | J51: =SUM(J44) -> 0 | K51: =SUM(K44) -> 0 | ... V51: =SUM(V44) -> 0
C52: Fériés | D52: =SUM(D45) -> 0 | E52: =SUM(E45) -> 0 | F52: =SUM(F45) -> 0 | G52: =SUM(G45) -> 0 | H52: =SUM(H45) -> 0 | I52: =SUM(I45) -> 0 | J52: =SUM(J45) -> 0 | K52: =SUM(K45) -> 0 | ... V52: =SUM(V45) -> 0
C55: Lun/Mar | D55: =SUM(Jan:Dec!D47) -> 0 | E55: =SUM(Jan:Dec!E47) -> 0 | F55: =SUM(Jan:Dec!F47) -> 1 | G55: =SUM(Jan:Dec!G47) -> 0 | H55: =SUM(Jan:Dec!H47) -> 0 | I55: =SUM(Jan:Dec!I47) -> 0 | J55: =SUM(Jan:Dec!J47) -> 0 | K55: =SUM(Jan:Dec!K47) -> 0 | ... V55: =SUM(Jan:Dec!V47) -> 0
C56: Mer/Ven | D56: =SUM(Jan:Dec!D48) -> 1 | E56: =SUM(Jan:Dec!E48) -> 0 | F56: =SUM(Jan:Dec!F48) -> 0 | G56: =SUM(Jan:Dec!G48) -> 0 | H56: =SUM(Jan:Dec!H48) -> 0 | I56: =SUM(Jan:Dec!I48) -> 0 | J56: =SUM(Jan:Dec!J48) -> 0 | K56: =SUM(Jan:Dec!K48) -> 0 | ... V56: =SUM(Jan:Dec!V48) -> 0
C57: jeudi | D57: =SUM(Jan:Dec!D49) -> 0 | E57: =SUM(Jan:Dec!E49) -> 0 | F57: =SUM(Jan:Dec!F49) -> 0 | G57: =SUM(Jan:Dec!G49) -> 0 | H57: =SUM(Jan:Dec!H49) -> 0 | I57: =SUM(Jan:Dec!I49) -> 0 | J57: =SUM(Jan:Dec!J49) -> 0 | K57: =SUM(Jan:Dec!K49) -> 0 | ... V57: =SUM(Jan:Dec!V49) -> 0
C58: Samedi | D58: =SUM(Jan:Dec!D50) -> 0 | E58: =SUM(Jan:Dec!E50) -> 1 | F58: =SUM(Jan:Dec!F50) -> 0 | G58: =SUM(Jan:Dec!G50) -> 0 | H58: =SUM(Jan:Dec!H50) -> 0 | I58: =SUM(Jan:Dec!I50) -> 0 | J58: =SUM(Jan:Dec!J50) -> 0 | K58: =SUM(Jan:Dec!K50) -> 0 | ... V58: =SUM(Jan:Dec!V50) -> 0
C59: Dimanche | D59: =SUM(Jan:Dec!D51) -> 0 | E59: =SUM(Jan:Dec!E51) -> 0 | F59: =SUM(Jan:Dec!F51) -> 0 | G59: =SUM(Jan:Dec!G51) -> 0 | H59: =SUM(Jan:Dec!H51) -> 0 | I59: =SUM(Jan:Dec!I51) -> 0 | J59: =SUM(Jan:Dec!J51) -> 0 | K59: =SUM(Jan:Dec!K51) -> 0 | ... V59: =SUM(Jan:Dec!V51) -> 0
C60: Fériés | D60: =SUM(Jan:Dec!D52) -> 1 | E60: =SUM(Jan:Dec!E52) -> 0 | F60: =SUM(Jan:Dec!F52) -> 0 | G60: =SUM(Jan:Dec!G52) -> 0 | H60: =SUM(Jan:Dec!H52) -> 0 | I60: =SUM(Jan:Dec!I52) -> 0 | J60: =SUM(Jan:Dec!J52) -> 0 | K60: =SUM(Jan:Dec!K52) -> 0 | ... V60: =SUM(Jan:Dec!V52) -> 0
C61: Total | D61: =SUM(D55:D60) -> 2 | E61: =SUM(E55:E60) -> 1 | F61: =SUM(F55:F60) -> 1 | G61: =SUM(G55:G60) -> 0 | H61: =SUM(H55:H60) -> 0 | I61: =SUM(I55:I60) -> 0 | J61: =SUM(J55:J60) -> 0 | K61: =SUM(K55:K60) -> 0 | ... V61: =SUM(V55:V60) -> 0

Sheet Avr
A1: =DATE(Accueil!E1,4,1) -> 42826 | B1: DATE | C1: GRADE - NOM | D1: - | E1: - | F1: - | G1: - | H1: - | I1: - | J1: - | K1: - | L1: - | M1: - | N1: - | O1: - | P1: - | Q1: - | R1: - | S1: _ | T1: _ | U1: _ | V1: _ | W1: Récap
A2: =DATE(Accueil!E1,4,1) -> 42826 | B2: =DATE(Accueil!E1,4,1) -> 42826 | D2: =IF($C2=D$1,1,"0") -> 0 | E2: =IF($C2=E$1,1,"0") -> 0 | F2: =IF($C2=F$1,1,"0") -> 0 | G2: =IF($C2=G$1,1,"0") -> 0 | H2: =IF($C2=H$1,1,"0") -> 0 | I2: =IF($C2=I$1,1,"0") -> 0 | J2: =IF($C2=J$1,1,"0") -> 0 | K2: =IF($C2=K$1,1,"0") -> 0 | ... V2: =IF($C2=V$1,1,"0") -> 0 | W2: =SUM(D2:V2) -> 0
A3: =(A2+1) -> 42827 | B3: =(B2+1) -> 42827 | D3: =IF($C3=D$1,1,"0") -> 0 | E3: =IF($C3=E$1,1,"0") -> 0 | F3: =IF($C3=F$1,1,"0") -> 0 | G3: =IF($C3=G$1,1,"0") -> 0 | H3: =IF($C3=H$1,1,"0") -> 0 | I3: =IF($C3=I$1,1,"0") -> 0 | J3: =IF($C3=J$1,1,"0") -> 0 | K3: =IF($C3=K$1,1,"0") -> 0 | ... V3: =IF($C3=V$1,1,"0") -> 0 | W3: =SUM(D3:V3) -> 0
A4: =(A3+1) -> 42828 | B4: =(B3+1) -> 42828 | D4: =IF($C4=D$1,1,"0") -> 0 | E4: =IF($C4=E$1,1,"0") -> 0 | F4: =IF($C4=F$1,1,"0") -> 0 | G4: =IF($C4=G$1,1,"0") -> 0 | H4: =IF($C4=H$1,1,"0") -> 0 | I4: =IF($C4=I$1,1,"0") -> 0 | J4: =IF($C4=J$1,1,"0") -> 0 | K4: =IF($C4=K$1,1,"0") -> 0 | ... V4: =IF($C4=V$1,1,"0") -> 0 | W4: =SUM(D4:V4) -> 0
A5: =(A4+1) -> 42829 | B5: =(B4+1) -> 42829 | D5: =IF($C5=D$1,1,"0") -> 0 | E5: =IF($C5=E$1,1,"0") -> 0 | F5: =IF($C5=F$1,1,"0") -> 0 | G5: =IF($C5=G$1,1,"0") -> 0 | H5: =IF($C5=H$1,1,"0") -> 0 | I5: =IF($C5=I$1,1,"0") -> 0 | J5: =IF($C5=J$1,1,"0") -> 0 | K5: =IF($C5=K$1,1,"0") -> 0 | ... V5: =IF($C5=V$1,1,"0") -> 0 | W5: =SUM(D5:V5) -> 0
A6: =(A5+1) -> 42830 | B6: =(B5+1) -> 42830 | D6: =IF($C6=D$1,1,"0") -> 0 | E6: =IF($C6=E$1,1,"0") -> 0 | F6: =IF($C6=F$1,1,"0") -> 0 | G6: =IF($C6=G$1,1,"0") -> 0 | H6: =IF($C6=H$1,1,"0") -> 0 | I6: =IF($C6=I$1,1,"0") -> 0 | J6: =IF($C6=J$1,1,"0") -> 0 | K6: =IF($C6=K$1,1,"0") -> 0 | ... V6: =IF($C6=V$1,1,"0") -> 0 | W6: =SUM(D6:V6) -> 0
A7: =(A6+1) -> 42831 | B7: =(B6+1) -> 42831 | D7: =IF($C7=D$1,1,"0") -> 0 | E7: =IF($C7=E$1,1,"0") -> 0 | F7: =IF($C7=F$1,1,"0") -> 0 | G7: =IF($C7=G$1,1,"0") -> 0 | H7: =IF($C7=H$1,1,"0") -> 0 | I7: =IF($C7=I$1,1,"0") -> 0 | J7: =IF($C7=J$1,1,"0") -> 0 | K7: =IF($C7=K$1,1,"0") -> 0 | ... V7: =IF($C7=V$1,1,"0") -> 0 | W7: =SUM(D7:V7) -> 0
A8: =(A7+1) -> 42832 | B8: =(B7+1) -> 42832 | D8: =IF($C8=D$1,1,"0") -> 0 | E8: =IF($C8=E$1,1,"0") -> 0 | F8: =IF($C8=F$1,1,"0") -> 0 | G8: =IF($C8=G$1,1,"0") -> 0 | H8: =IF($C8=H$1,1,"0") -> 0 | I8: =IF($C8=I$1,1,"0") -> 0 | J8: =IF($C8=J$1,1,"0") -> 0 | K8: =IF($C8=K$1,1,"0") -> 0 | ... V8: =IF($C8=V$1,1,"0") -> 0 | W8: =SUM(D8:V8) -> 0
A9: =(A8+1) -> 42833 | B9: =(B8+1) -> 42833 | D9: =IF($C9=D$1,1,"0") -> 0 | E9: =IF($C9=E$1,1,"0") -> 0 | F9: =IF($C9=F$1,1,"0") -> 0 | G9: =IF($C9=G$1,1,"0") -> 0 | H9: =IF($C9=H$1,1,"0") -> 0 | I9: =IF($C9=I$1,1,"0") -> 0 | J9: =IF($C9=J$1,1,"0") -> 0 | K9: =IF($C9=K$1,1,"0") -> 0 | ... V9: =IF($C9=V$1,1,"0") -> 0 | W9: =SUM(D9:V9) -> 0
A10: =(A9+1) -> 42834 | B10: =(B9+1) -> 42834 | D10: =IF($C10=D$1,1,"0") -> 0 | E10: =IF($C10=E$1,1,"0") -> 0 | F10: =IF($C10=F$1,1,"0") -> 0 | G10: =IF($C10=G$1,1,"0") -> 0 | H10: =IF($C10=H$1,1,"0") -> 0 | I10: =IF($C10=I$1,1,"0") -> 0 | J10: =IF($C10=J$1,1,"0") -> 0 | K10: =IF($C10=K$1,1,"0") -> 0 | ... V10: =IF($C10=V$1,1,"0") -> 0 | W10: =SUM(D10:V10) -> 0
A11: =(A10+1) -> 42835 | B11: =(B10+1) -> 42835 | D11: =IF($C11=D$1,1,"0") -> 0 | E11: =IF($C11=E$1,1,"0") -> 0 | F11: =IF($C11=F$1,1,"0") -> 0 | G11: =IF($C11=G$1,1,"0") -> 0 | H11: =IF($C11=H$1,1,"0") -> 0 | I11: =IF($C11=I$1,1,"0") -> 0 | J11: =IF($C11=J$1,1,"0") -> 0 | K11: =IF($C11=K$1,1,"0") -> 0 | ... V11: =IF($C11=V$1,1,"0") -> 0 | W11: =SUM(D11:V11) -> 0
A12: =(A11+1) -> 42836 | B12: =(B11+1) -> 42836 | D12: =IF($C12=D$1,1,"0") -> 0 | E12: =IF($C12=E$1,1,"0") -> 0 | F12: =IF($C12=F$1,1,"0") -> 0 | G12: =IF($C12=G$1,1,"0") -> 0 | H12: =IF($C12=H$1,1,"0") -> 0 | I12: =IF($C12=I$1,1,"0") -> 0 | J12: =IF($C12=J$1,1,"0") -> 0 | K12: =IF($C12=K$1,1,"0") -> 0 | ... V12: =IF($C12=V$1,1,"0") -> 0 | W12: =SUM(D12:V12) -> 0
A13: =(A12+1) -> 42837 | B13: =(B12+1) -> 42837 | D13: =IF($C13=D$1,1,"0") -> 0 | E13: =IF($C13=E$1,1,"0") -> 0 | F13: =IF($C13=F$1,1,"0") -> 0 | G13: =IF($C13=G$1,1,"0") -> 0 | H13: =IF($C13=H$1,1,"0") -> 0 | I13: =IF($C13=I$1,1,"0") -> 0 | J13: =IF($C13=J$1,1,"0") -> 0 | K13: =IF($C13=K$1,1,"0") -> 0 | ... V13: =IF($C13=V$1,1,"0") -> 0 | W13: =SUM(D13:V13) -> 0
A14: =(A13+1) -> 42838 | B14: =(B13+1) -> 42838 | D14: =IF($C14=D$1,1,"0") -> 0 | E14: =IF($C14=E$1,1,"0") -> 0 | F14: =IF($C14=F$1,1,"0") -> 0 | G14: =IF($C14=G$1,1,"0") -> 0 | H14: =IF($C14=H$1,1,"0") -> 0 | I14: =IF($C14=I$1,1,"0") -> 0 | J14: =IF($C14=J$1,1,"0") -> 0 | K14: =IF($C14=K$1,1,"0") -> 0 | ... V14: =IF($C14=V$1,1,"0") -> 0 | W14: =SUM(D14:V14) -> 0
... A31: =(A30+1) -> 42855 | B31: =(B30+1) -> 42855 | D31: =IF($C31=D$1,1,"0") -> 0 | E31: =IF($C31=E$1,1,"0") -> 0 | F31: =IF($C31=F$1,1,"0") -> 0 | G31: =IF($C31=G$1,1,"0") -> 0 | H31: =IF($C31=H$1,1,"0") -> 0 | I31: =IF($C31=I$1,1,"0") -> 0 | J31: =IF($C31=J$1,1,"0") -> 0 | K31: =IF($C31=K$1,1,"0") -> 0 | ... V31: =IF($C31=V$1,1,"0") -> 0 | W31: =SUM(D31:V31) -> 0
D33: =SUM(D2:D32) -> 0 | E33: =SUM(E2:E32) -> 0 | F33: =SUM(F2:F32) -> 0 | G33: =SUM(G2:G32) -> 0 | H33: =SUM(H2:H32) -> 0 | I33: =SUM(I2:I32) -> 0 | J33: =SUM(J2:J32) -> 0 | K33: =SUM(K2:K32) -> 0 | ... W33: =SUM(W2:W32) -> 0
D37: =(D1) -> - | E37: =(E1) -> - | F37: =(F1) -> - | G37: =(G1) -> - | H37: =(H1) -> - | I37: =(I1) -> - | J37: =(J1) -> - | K37: =(K1) -> - | ... V37: =(V1) -> _
C38: lundi | D38: =SUMPRODUCT((WEEKDAY($A$2:$A$32,2)=ROWS($38:38))*(COUNTIF(FERIES,$A$2:$A$32)=0)*($C$2:$C$32=D$37)) -> 0 | E38: =SUMPRODUCT((WEEKDAY($A$2:$A$32,2)=ROWS($38:38))*(COUNTIF(FERIES,$A$2:$A$32)=0)*($C$2:$C$32=E$37)) -> 0 | F38: =SUMPRODUCT((WEEKDAY($A$2:$A$32,2)=ROWS($38:38))*(COUNTIF(FERIES,$A$2:$A$32)=0)*($C$2:$C$32=F$37)) -> 0 | G38: =SUMPRODUCT((WEEKDAY($A$2:$A$32,2)=ROWS($38:38))*(COUNTIF(FERIES,$A$2:$A$32)=0)*($C$2:$C$32=G$37)) -> 0 | H38: =SUMPRODUCT((WEEKDAY($A$2:$A$32,2)=ROWS($38:38))*(COUNTIF(FERIES,$A$2:$A$32)=0)*($C$2:$C$32=H$37)) -> 0 | I38: =SUMPRODUCT((WEEKDAY($A$2:$A$32,2)=ROWS($38:38))*(COUNTIF(FERIES,$A$2:$A$32)=0)*($C$2:$C$32=I$37)) -> 0 | J38: =SUMPRODUCT((WEEKDAY($A$2:$A$32,2)=ROWS($38:38))*(COUNTIF(FERIES,$A$2:$A$32)=0)*($C$2:$C$32=J$37)) -> 0 | K38: =SUMPRODUCT((WEEKDAY($A$2:$A$32,2)=ROWS($38:38))*(COUNTIF(FERIES,$A$2:$A$32)=0)*($C$2:$C$32=K$37)) -> 0 | ... V38: =SUMPRODUCT((WEEKDAY($A$2:$A$32,2)=ROWS($38:38))*(COUNTIF(FERIES,$A$2:$A$32)=0)*($C$2:$C$32=V$37)) -> 0
C39: mardi | D39: =SUMPRODUCT((WEEKDAY($A$2:$A$32,2)=ROWS($38:39))*(COUNTIF(FERIES,$A$2:$A$32)=0)*($C$2:$C$32=D$37)) -> 0 | E39: =SUMPRODUCT((WEEKDAY($A$2:$A$32,2)=ROWS($38:39))*(COUNTIF(FERIES,$A$2:$A$32)=0)*($C$2:$C$32=E$37)) -> 0 | F39: =SUMPRODUCT((WEEKDAY($A$2:$A$32,2)=ROWS($38:39))*(COUNTIF(FERIES,$A$2:$A$32)=0)*($C$2:$C$32=F$37)) -> 0 | G39: =SUMPRODUCT((WEEKDAY($A$2:$A$32,2)=ROWS($38:39))*(COUNTIF(FERIES,$A$2:$A$32)=0)*($C$2:$C$32=G$37)) -> 0 | H39: =SUMPRODUCT((WEEKDAY($A$2:$A$32,2)=ROWS($38:39))*(COUNTIF(FERIES,$A$2:$A$32)=0)*($C$2:$C$32=H$37)) -> 0 | I39: =SUMPRODUCT((WEEKDAY($A$2:$A$32,2)=ROWS($38:39))*(COUNTIF(FERIES,$A$2:$A$32)=0)*($C$2:$C$32=I$37)) -> 0 | J39: =SUMPRODUCT((WEEKDAY($A$2:$A$32,2)=ROWS($38:39))*(COUNTIF(FERIES,$A$2:$A$32)=0)*($C$2:$C$32=J$37)) -> 0 | K39: =SUMPRODUCT((WEEKDAY($A$2:$A$32,2)=ROWS($38:39))*(COUNTIF(FERIES,$A$2:$A$32)=0)*($C$2:$C$32=K$37)) -> 0 | ... V39: =SUMPRODUCT((WEEKDAY($A$2:$A$32,2)=ROWS($38:39))*(COUNTIF(FERIES,$A$2:$A$32)=0)*($C$2:$C$32=V$37)) -> 0
C40: mercredi | D40: =SUMPRODUCT((WEEKDAY($A$2:$A$32,2)=ROWS($38:40))*(COUNTIF(FERIES,$A$2:$A$32)=0)*($C$2:$C$32=D$37)) -> 0 | E40: =SUMPRODUCT((WEEKDAY($A$2:$A$32,2)=ROWS($38:40))*(COUNTIF(FERIES,$A$2:$A$32)=0)*($C$2:$C$32=E$37)) -> 0 | F40: =SUMPRODUCT((WEEKDAY($A$2:$A$32,2)=ROWS($38:40))*(COUNTIF(FERIES,$A$2:$A$32)=0)*($C$2:$C$32=F$37)) -> 0 | G40: =SUMPRODUCT((WEEKDAY($A$2:$A$32,2)=ROWS($38:40))*(COUNTIF(FERIES,$A$2:$A$32)=0)*($C$2:$C$32=G$37)) -> 0 | H40: =SUMPRODUCT((WEEKDAY($A$2:$A$32,2)=ROWS($38:40))*(COUNTIF(FERIES,$A$2:$A$32)=0)*($C$2:$C$32=H$37)) -> 0 | I40: =SUMPRODUCT((WEEKDAY($A$2:$A$32,2)=ROWS($38:40))*(COUNTIF(FERIES,$A$2:$A$32)=0)*($C$2:$C$32=I$37)) -> 0 | J40: =SUMPRODUCT((WEEKDAY($A$2:$A$32,2)=ROWS($38:40))*(COUNTIF(FERIES,$A$2:$A$32)=0)*($C$2:$C$32=J$37)) -> 0 | K40: =SUMPRODUCT((WEEKDAY($A$2:$A$32,2)=ROWS($38:40))*(COUNTIF(FERIES,$A$2:$A$32)=0)*($C$2:$C$32=K$37)) -> 0 | ... V40: =SUMPRODUCT((WEEKDAY($A$2:$A$32,2)=ROWS($38:40))*(COUNTIF(FERIES,$A$2:$A$32)=0)*($C$2:$C$32=V$37)) -> 0
C41: jeudi | D41: =SUMPRODUCT((WEEKDAY($A$2:$A$32,2)=ROWS($38:41))*(COUNTIF(FERIES,$A$2:$A$32)=0)*($C$2:$C$32=D$37)) -> 0 | E41: =SUMPRODUCT((WEEKDAY($A$2:$A$32,2)=ROWS($38:41))*(COUNTIF(FERIES,$A$2:$A$32)=0)*($C$2:$C$32=E$37)) -> 0 | F41: =SUMPRODUCT((WEEKDAY($A$2:$A$32,2)=ROWS($38:41))*(COUNTIF(FERIES,$A$2:$A$32)=0)*($C$2:$C$32=F$37)) -> 0 | G41: =SUMPRODUCT((WEEKDAY($A$2:$A$32,2)=ROWS($38:41))*(COUNTIF(FERIES,$A$2:$A$32)=0)*($C$2:$C$32=G$37)) -> 0 | H41: =SUMPRODUCT((WEEKDAY($A$2:$A$32,2)=ROWS($38:41))*(COUNTIF(FERIES,$A$2:$A$32)=0)*($C$2:$C$32=H$37)) -> 0 | I41: =SUMPRODUCT((WEEKDAY($A$2:$A$32,2)=ROWS($38:41))*(COUNTIF(FERIES,$A$2:$A$32)=0)*($C$2:$C$32=I$37)) -> 0 | J41: =SUMPRODUCT((WEEKDAY($A$2:$A$32,2)=ROWS($38:41))*(COUNTIF(FERIES,$A$2:$A$32)=0)*($C$2:$C$32=J$37)) -> 0 | K41: =SUMPRODUCT((WEEKDAY($A$2:$A$32,2)=ROWS($38:41))*(COUNTIF(FERIES,$A$2:$A$32)=0)*($C$2:$C$32=K$37)) -> 0 | ... V41: =SUMPRODUCT((WEEKDAY($A$2:$A$32,2)=ROWS($38:41))*(COUNTIF(FERIES,$A$2:$A$32)=0)*($C$2:$C$32=V$37)) -> 0
C42: vendredi | D42: =SUMPRODUCT((WEEKDAY($A$2:$A$32,2)=ROWS($38:42))*(COUNTIF(FERIES,$A$2:$A$32)=0)*($C$2:$C$32=D$37)) -> 0 | E42: =SUMPRODUCT((WEEKDAY($A$2:$A$32,2)=ROWS($38:42))*(COUNTIF(FERIES,$A$2:$A$32)=0)*($C$2:$C$32=E$37)) -> 0 | F42: =SUMPRODUCT((WEEKDAY($A$2:$A$32,2)=ROWS($38:42))*(COUNTIF(FERIES,$A$2:$A$32)=0)*($C$2:$C$32=F$37)) -> 0 | G42: =SUMPRODUCT((WEEKDAY($A$2:$A$32,2)=ROWS($38:42))*(COUNTIF(FERIES,$A$2:$A$32)=0)*($C$2:$C$32=G$37)) -> 0 | H42: =SUMPRODUCT((WEEKDAY($A$2:$A$32,2)=ROWS($38:42))*(COUNTIF(FERIES,$A$2:$A$32)=0)*($C$2:$C$32=H$37)) -> 0 | I42: =SUMPRODUCT((WEEKDAY($A$2:$A$32,2)=ROWS($38:42))*(COUNTIF(FERIES,$A$2:$A$32)=0)*($C$2:$C$32=I$37)) -> 0 | J42: =SUMPRODUCT((WEEKDAY($A$2:$A$32,2)=ROWS($38:42))*(COUNTIF(FERIES,$A$2:$A$32)=0)*($C$2:$C$32=J$37)) -> 0 | K42: =SUMPRODUCT((WEEKDAY($A$2:$A$32,2)=ROWS($38:42))*(COUNTIF(FERIES,$A$2:$A$32)=0)*($C$2:$C$32=K$37)) -> 0 | ... V42: =SUMPRODUCT((WEEKDAY($A$2:$A$32,2)=ROWS($38:42))*(COUNTIF(FERIES,$A$2:$A$32)=0)*($C$2:$C$32=V$37)) -> 0
C43: samedi | D43: =SUMPRODUCT((WEEKDAY($A$2:$A$32,2)=ROWS($38:43))*(COUNTIF(FERIES,$A$2:$A$32)=0)*($C$2:$C$32=D$37)) -> 0 | E43: =SUMPRODUCT((WEEKDAY($A$2:$A$32,2)=ROWS($38:43))*(COUNTIF(FERIES,$A$2:$A$32)=0)*($C$2:$C$32=E$37)) -> 0 | F43: =SUMPRODUCT((WEEKDAY($A$2:$A$32,2)=ROWS($38:43))*(COUNTIF(FERIES,$A$2:$A$32)=0)*($C$2:$C$32=F$37)) -> 0 | G43: =SUMPRODUCT((WEEKDAY($A$2:$A$32,2)=ROWS($38:43))*(COUNTIF(FERIES,$A$2:$A$32)=0)*($C$2:$C$32=G$37)) -> 0 | H43: =SUMPRODUCT((WEEKDAY($A$2:$A$32,2)=ROWS($38:43))*(COUNTIF(FERIES,$A$2:$A$32)=0)*($C$2:$C$32=H$37)) -> 0 | I43: =SUMPRODUCT((WEEKDAY($A$2:$A$32,2)=ROWS($38:43))*(COUNTIF(FERIES,$A$2:$A$32)=0)*($C$2:$C$32=I$37)) -> 0 | J43: =SUMPRODUCT((WEEKDAY($A$2:$A$32,2)=ROWS($38:43))*(COUNTIF(FERIES,$A$2:$A$32)=0)*($C$2:$C$32=J$37)) -> 0 | K43: =SUMPRODUCT((WEEKDAY($A$2:$A$32,2)=ROWS($38:43))*(COUNTIF(FERIES,$A$2:$A$32)=0)*($C$2:$C$32=K$37)) -> 0 | ... V43: =SUMPRODUCT((WEEKDAY($A$2:$A$32,2)=ROWS($38:43))*(COUNTIF(FERIES,$A$2:$A$32)=0)*($C$2:$C$32=V$37)) -> 0
C44: dimanche | D44: =SUMPRODUCT((WEEKDAY($A$2:$A$32,2)=ROWS($38:44))*(COUNTIF(FERIES,$A$2:$A$32)=0)*($C$2:$C$32=D$37)) -> 0 | E44: =SUMPRODUCT((WEEKDAY($A$2:$A$32,2)=ROWS($38:44))*(COUNTIF(FERIES,$A$2:$A$32)=0)*($C$2:$C$32=E$37)) -> 0 | F44: =SUMPRODUCT((WEEKDAY($A$2:$A$32,2)=ROWS($38:44))*(COUNTIF(FERIES,$A$2:$A$32)=0)*($C$2:$C$32=F$37)) -> 0 | G44: =SUMPRODUCT((WEEKDAY($A$2:$A$32,2)=ROWS($38:44))*(COUNTIF(FERIES,$A$2:$A$32)=0)*($C$2:$C$32=G$37)) -> 0 | H44: =SUMPRODUCT((WEEKDAY($A$2:$A$32,2)=ROWS($38:44))*(COUNTIF(FERIES,$A$2:$A$32)=0)*($C$2:$C$32=H$37)) -> 0 | I44: =SUMPRODUCT((WEEKDAY($A$2:$A$32,2)=ROWS($38:44))*(COUNTIF(FERIES,$A$2:$A$32)=0)*($C$2:$C$32=I$37)) -> 0 | J44: =SUMPRODUCT((WEEKDAY($A$2:$A$32,2)=ROWS($38:44))*(COUNTIF(FERIES,$A$2:$A$32)=0)*($C$2:$C$32=J$37)) -> 0 | K44: =SUMPRODUCT((WEEKDAY($A$2:$A$32,2)=ROWS($38:44))*(COUNTIF(FERIES,$A$2:$A$32)=0)*($C$2:$C$32=K$37)) -> 0 | ... V44: =SUMPRODUCT((WEEKDAY($A$2:$A$32,2)=ROWS($38:44))*(COUNTIF(FERIES,$A$2:$A$32)=0)*($C$2:$C$32=V$37)) -> 0
C45: FERIES | D45: =SUMPRODUCT(COUNTIF(FERIES,$A$2:$A$32)*($C$2:$C$32=D37)) -> 0 | E45: =SUMPRODUCT(COUNTIF(FERIES,$A$2:$A$32)*($C$2:$C$32=E37)) -> 0 | F45: =SUMPRODUCT(COUNTIF(FERIES,$A$2:$A$32)*($C$2:$C$32=F37)) -> 0 | G45: =SUMPRODUCT(COUNTIF(FERIES,$A$2:$A$32)*($C$2:$C$32=G37)) -> 0 | H45: =SUMPRODUCT(COUNTIF(FERIES,$A$2:$A$32)*($C$2:$C$32=H37)) -> 0 | I45: =SUMPRODUCT(COUNTIF(FERIES,$A$2:$A$32)*($C$2:$C$32=I37)) -> 0 | J45: =SUMPRODUCT(COUNTIF(FERIES,$A$2:$A$32)*($C$2:$C$32=J37)) -> 0 | K45: =SUMPRODUCT(COUNTIF(FERIES,$A$2:$A$32)*($C$2:$C$32=K37)) -> 0 | ... V45: =SUMPRODUCT(COUNTIF(FERIES,$A$2:$A$32)*($C$2:$C$32=V37)) -> 0
C47: Lun/Mar | D47: =SUM(D38:D39) -> 0 | E47: =SUM(E38:E39) -> 0 | F47: =SUM(F38:F39) -> 0 | G47: =SUM(G38:G39) -> 0 | H47: =SUM(H38:H39) -> 0 | I47: =SUM(I38:I39) -> 0 | J47: =SUM(J38:J39) -> 0 | K47: =SUM(K38:K39) -> 0 | ... V47: =SUM(V38:V39) -> 0
C48: Mer/Ven | D48: =SUM(D40+D42) -> 0 | E48: =SUM(E40+E42) -> 0 | F48: =SUM(F40+F42) -> 0 | G48: =SUM(G40+G42) -> 0 | H48: =SUM(H40+H42) -> 0 | I48: =SUM(I40+I42) -> 0 | J48: =SUM(J40+J42) -> 0 | K48: =SUM(K40+K42) -> 0 | ... V48: =SUM(V40+V42) -> 0
C49: jeudi | D49: =SUM(D41) -> 0 | E49: =SUM(E41) -> 0 | F49: =SUM(F41) -> 0 | G49: =SUM(G41) -> 0 | H49: =SUM(H41) -> 0 | I49: =SUM(I41) -> 0 | J49: =SUM(J41) -> 0 | K49: =SUM(K41) -> 0 | ... V49: =SUM(V41) -> 0
C50: Samedi | D50: =SUM(D43) -> 0 | E50: =SUM(E43) -> 0 | F50: =SUM(F43) -> 0 | G50: =SUM(G43) -> 0 | H50: =SUM(H43) -> 0 | I50: =SUM(I43) -> 0 | J50: =SUM(J43) -> 0 | K50: =SUM(K43) -> 0 | ... V50: =SUM(V43) -> 0
C51: Dimanche | D51: =SUM(D44) -> 0 | E51: =SUM(E44) -> 0 | F51: =SUM(F44) -> 0 | G51: =SUM(G44) -> 0 | H51: =SUM(H44) -> 0 | I51: =SUM(I44) -> 0 | J51: =SUM(J44) -> 0 | K51: =SUM(K44) -> 0 | ... V51: =SUM(V44) -> 0
C52: Fériés | D52: =SUM(D45) -> 0 | E52: =SUM(E45) -> 0 | F52: =SUM(F45) -> 0 | G52: =SUM(G45) -> 0 | H52: =SUM(H45) -> 0 | I52: =SUM(I45) -> 0 | J52: =SUM(J45) -> 0 | K52: =SUM(K45) -> 0 | ... V52: =SUM(V45) -> 0
C55: Lun/Mar | D55: =SUM(Jan:Dec!D47) -> 0 | E55: =SUM(Jan:Dec!E47) -> 0 | F55: =SUM(Jan:Dec!F47) -> 1 | G55: =SUM(Jan:Dec!G47) -> 0 | H55: =SUM(Jan:Dec!H47) -> 0 | I55: =SUM(Jan:Dec!I47) -> 0 | J55: =SUM(Jan:Dec!J47) -> 0 | K55: =SUM(Jan:Dec!K47) -> 0 | ... V55: =SUM(Jan:Dec!V47) -> 0
C56: Mer/Ven | D56: =SUM(Jan:Dec!D48) -> 1 | E56: =SUM(Jan:Dec!E48) -> 0 | F56: =SUM(Jan:Dec!F48) -> 0 | G56: =SUM(Jan:Dec!G48) -> 0 | H56: =SUM(Jan:Dec!H48) -> 0 | I56: =SUM(Jan:Dec!I48) -> 0 | J56: =SUM(Jan:Dec!J48) -> 0 | K56: =SUM(Jan:Dec!K48) -> 0 | ... V56: =SUM(Jan:Dec!V48) -> 0
C57: jeudi | D57: =SUM(Jan:Dec!D49) -> 0 | E57: =SUM(Jan:Dec!E49) -> 0 | F57: =SUM(Jan:Dec!F49) -> 0 | G57: =SUM(Jan:Dec!G49) -> 0 | H57: =SUM(Jan:Dec!H49) -> 0 | I57: =SUM(Jan:Dec!I49) -> 0 | J57: =SUM(Jan:Dec!J49) -> 0 | K57: =SUM(Jan:Dec!K49) -> 0 | ... V57: =SUM(Jan:Dec!V49) -> 0
C58: Samedi | D58: =SUM(Jan:Dec!D50) -> 0 | E58: =SUM(Jan:Dec!E50) -> 1 | F58: =SUM(Jan:Dec!F50) -> 0 | G58: =SUM(Jan:Dec!G50) -> 0 | H58: =SUM(Jan:Dec!H50) -> 0 | I58: =SUM(Jan:Dec!I50) -> 0 | J58: =SUM(Jan:Dec!J50) -> 0 | K58: =SUM(Jan:Dec!K50) -> 0 | ... V58: =SUM(Jan:Dec!V50) -> 0
C59: Dimanche | D59: =SUM(Jan:Dec!D51) -> 0 | E59: =SUM(Jan:Dec!E51) -> 0 | F59: =SUM(Jan:Dec!F51) -> 0 | G59: =SUM(Jan:Dec!G51) -> 0 | H59: =SUM(Jan:Dec!H51) -> 0 | I59: =SUM(Jan:Dec!I51) -> 0 | J59: =SUM(Jan:Dec!J51) -> 0 | K59: =SUM(Jan:Dec!K51) -> 0 | ... V59: =SUM(Jan:Dec!V51) -> 0
C60: Fériés | D60: =SUM(Jan:Dec!D52) -> 1 | E60: =SUM(Jan:Dec!E52) -> 0 | F60: =SUM(Jan:Dec!F52) -> 0 | G60: =SUM(Jan:Dec!G52) -> 0 | H60: =SUM(Jan:Dec!H52) -> 0 | I60: =SUM(Jan:Dec!I52) -> 0 | J60: =SUM(Jan:Dec!J52) -> 0 | K60: =SUM(Jan:Dec!K52) -> 0 | ... V60: =SUM(Jan:Dec!V52) -> 0
C61: Total | D61: =SUM(D55:D60) -> 2 | E61: =SUM(E55:E60) -> 1 | F61: =SUM(F55:F60) -> 1 | G61: =SUM(G55:G60) -> 0 | H61: =SUM(H55:H60) -> 0 | I61: =SUM(I55:I60) -> 0 | J61: =SUM(J55:J60) -> 0 | K61: =SUM(K55:K60) -> 0 | ... V61: =SUM(V55:V60) -> 0

Sheet Mai
A1: =DATE(Accueil!E1,5,1) -> 42856 | B1: DATE | C1: GRADE - NOM | D1: - | E1: - | F1: - | G1: - | H1: - | I1: - | J1: - | K1: - | L1: - | M1: - | N1: - | O1: - | P1: - | Q1: - | R1: - | S1: _ | T1: _ | U1: _ | V1: _ | W1: Récap
A2: =DATE(Accueil!E1,5,1) -> 42856 | B2: =DATE(Accueil!E1,5,1) -> 42856 | D2: =IF($C2=D$1,1,"0") -> 0 | E2: =IF($C2=E$1,1,"0") -> 0 | F2: =IF($C2=F$1,1,"0") -> 0 | G2: =IF($C2=G$1,1,"0") -> 0 | H2: =IF($C2=H$1,1,"0") -> 0 | I2: =IF($C2=I$1,1,"0") -> 0 | J2: =IF($C2=J$1,1,"0") -> 0 | K2: =IF($C2=K$1,1,"0") -> 0 | ... V2: =IF($C2=V$1,1,"0") -> 0 | W2: =SUM(D2:V2) -> 0
A3: =(A2+1) -> 42857 | B3: =(B2+1) -> 42857 | D3: =IF($C3=D$1,1,"0") -> 0 | E3: =IF($C3=E$1,1,"0") -> 0 | F3: =IF($C3=F$1,1,"0") -> 0 | G3: =IF($C3=G$1,1,"0") -> 0 | H3: =IF($C3=H$1,1,"0") -> 0 | I3: =IF($C3=I$1,1,"0") -> 0 | J3: =IF($C3=J$1,1,"0") -> 0 | K3: =IF($C3=K$1,1,"0") -> 0 | ... V3: =IF($C3=V$1,1,"0") -> 0 | W3: =SUM(D3:V3) -> 0
A4: =(A3+1) -> 42858 | B4: =(B3+1) -> 42858 | D4: =IF($C4=D$1,1,"0") -> 0 | E4: =IF($C4=E$1,1,"0") -> 0 | F4: =IF($C4=F$1,1,"0") -> 0 | G4: =IF($C4=G$1,1,"0") -> 0 | H4: =IF($C4=H$1,1,"0") -> 0 | I4: =IF($C4=I$1,1,"0") -> 0 | J4: =IF($C4=J$1,1,"0") -> 0 | K4: =IF($C4=K$1,1,"0") -> 0 | ... V4: =IF($C4=V$1,1,"0") -> 0 | W4: =SUM(D4:V4) -> 0
A5: =(A4+1) -> 42859 | B5: =(B4+1) -> 42859 | D5: =IF($C5=D$1,1,"0") -> 0 | E5: =IF($C5=E$1,1,"0") -> 0 | F5: =IF($C5=F$1,1,"0") -> 0 | G5: =IF($C5=G$1,1,"0") -> 0 | H5: =IF($C5=H$1,1,"0") -> 0 | I5: =IF($C5=I$1,1,"0") -> 0 | J5: =IF($C5=J$1,1,"0") -> 0 | K5: =IF($C5=K$1,1,"0") -> 0 | ... V5: =IF($C5=V$1,1,"0") -> 0 | W5: =SUM(D5:V5) -> 0
A6: =(A5+1) -> 42860 | B6: =(B5+1) -> 42860 | D6: =IF($C6=D$1,1,"0") -> 0 | E6: =IF($C6=E$1,1,"0") -> 0 | F6: =IF($C6=F$1,1,"0") -> 0 | G6: =IF($C6=G$1,1,"0") -> 0 | H6: =IF($C6=H$1,1,"0") -> 0 | I6: =IF($C6=I$1,1,"0") -> 0 | J6: =IF($C6=J$1,1,"0") -> 0 | K6: =IF($C6=K$1,1,"0") -> 0 | ... V6: =IF($C6=V$1,1,"0") -> 0 | W6: =SUM(D6:V6) -> 0
A7: =(A6+1) -> 42861 | B7: =(B6+1) -> 42861 | D7: =IF($C7=D$1,1,"0") -> 0 | E7: =IF($C7=E$1,1,"0") -> 0 | F7: =IF($C7=F$1,1,"0") -> 0 | G7: =IF($C7=G$1,1,"0") -> 0 | H7: =IF($C7=H$1,1,"0") -> 0 | I7: =IF($C7=I$1,1,"0") -> 0 | J7: =IF($C7=J$1,1,"0") -> 0 | K7: =IF($C7=K$1,1,"0") -> 0 | ... V7: =IF($C7=V$1,1,"0") -> 0 | W7: =SUM(D7:V7) -> 0
A8: =(A7+1) -> 42862 | B8: =(B7+1) -> 42862 | D8: =IF($C8=D$1,1,"0") -> 0 | E8: =IF($C8=E$1,1,"0") -> 0 | F8: =IF($C8=F$1,1,"0") -> 0 | G8: =IF($C8=G$1,1,"0") -> 0 | H8: =IF($C8=H$1,1,"0") -> 0 | I8: =IF($C8=I$1,1,"0") -> 0 | J8: =IF($C8=J$1,1,"0") -> 0 | K8: =IF($C8=K$1,1,"0") -> 0 | ... V8: =IF($C8=V$1,1,"0") -> 0 | W8: =SUM(D8:V8) -> 0
A9: =(A8+1) -> 42863 | B9: =(B8+1) -> 42863 | D9: =IF($C9=D$1,1,"0") -> 0 | E9: =IF($C9=E$1,1,"0") -> 0 | F9: =IF($C9=F$1,1,"0") -> 0 | G9: =IF($C9=G$1,1,"0") -> 0 | H9: =IF($C9=H$1,1,"0") -> 0 | I9: =IF($C9=I$1,1,"0") -> 0 | J9: =IF($C9=J$1,1,"0") -> 0 | K9: =IF($C9=K$1,1,"0") -> 0 | ... V9: =IF($C9=V$1,1,"0") -> 0 | W9: =SUM(D9:V9) -> 0
A10: =(A9+1) -> 42864 | B10: =(B9+1) -> 42864 | D10: =IF($C10=D$1,1,"0") -> 0 | E10: =IF($C10=E$1,1,"0") -> 0 | F10: =IF($C10=F$1,1,"0") -> 0 | G10: =IF($C10=G$1,1,"0") -> 0 | H10: =IF($C10=H$1,1,"0") -> 0 | I10: =IF($C10=I$1,1,"0") -> 0 | J10: =IF($C10=J$1,1,"0") -> 0 | K10: =IF($C10=K$1,1,"0") -> 0 | ... V10: =IF($C10=V$1,1,"0") -> 0 | W10: =SUM(D10:V10) -> 0
A11: =(A10+1) -> 42865 | B11: =(B10+1) -> 42865 | D11: =IF($C11=D$1,1,"0") -> 0 | E11: =IF($C11=E$1,1,"0") -> 0 | F11: =IF($C11=F$1,1,"0") -> 0 | G11: =IF($C11=G$1,1,"0") -> 0 | H11: =IF($C11=H$1,1,"0") -> 0 | I11: =IF($C11=I$1,1,"0") -> 0 | J11: =IF($C11=J$1,1,"0") -> 0 | K11: =IF($C11=K$1,1,"0") -> 0 | ... V11: =IF($C11=V$1,1,"0") -> 0 | W11: =SUM(D11:V11) -> 0
A12: =(A11+1) -> 42866 | B12: =(B11+1) -> 42866 | D12: =IF($C12=D$1,1,"0") -> 0 | E12: =IF($C12=E$1,1,"0") -> 0 | F12: =IF($C12=F$1,1,"0") -> 0 | G12: =IF($C12=G$1,1,"0") -> 0 | H12: =IF($C12=H$1,1,"0") -> 0 | I12: =IF($C12=I$1,1,"0") -> 0 | J12: =IF($C12=J$1,1,"0") -> 0 | K12: =IF($C12=K$1,1,"0") -> 0 | ... V12: =IF($C12=V$1,1,"0") -> 0 | W12: =SUM(D12:V12) -> 0
A13: =(A12+1) -> 42867 | B13: =(B12+1) -> 42867 | D13: =IF($C13=D$1,1,"0") -> 0 | E13: =IF($C13=E$1,1,"0") -> 0 | F13: =IF($C13=F$1,1,"0") -> 0 | G13: =IF($C13=G$1,1,"0") -> 0 | H13: =IF($C13=H$1,1,"0") -> 0 | I13: =IF($C13=I$1,1,"0") -> 0 | J13: =IF($C13=J$1,1,"0") -> 0 | K13: =IF($C13=K$1,1,"0") -> 0 | ... V13: =IF($C13=V$1,1,"0") -> 0 | W13: =SUM(D13:V13) -> 0
A14: =(A13+1) -> 42868 | B14: =(B13+1) -> 42868 | D14: =IF($C14=D$1,1,"0") -> 0 | E14: =IF($C14=E$1,1,"0") -> 0 | F14: =IF($C14=F$1,1,"0") -> 0 | G14: =IF($C14=G$1,1,"0") -> 0 | H14: =IF($C14=H$1,1,"0") -> 0 | I14: =IF($C14=I$1,1,"0") -> 0 | J14: =IF($C14=J$1,1,"0") -> 0 | K14: =IF($C14=K$1,1,"0") -> 0 | ... V14: =IF($C14=V$1,1,"0") -> 0 | W14: =SUM(D14:V14) -> 0
... A32: =(A31+1) -> 42886 | B32: =(B31+1) -> 42886 | D32: =IF($C32=D$1,1,"0") -> 0 | E32: =IF($C32=E$1,1,"0") -> 0 | F32: =IF($C32=F$1,1,"0") -> 0 | G32: =IF($C32=G$1,1,"0") -> 0 | H32: =IF($C32=H$1,1,"0") -> 0 | I32: =IF($C32=I$1,1,"0") -> 0 | J32: =IF($C32=J$1,1,"0") -> 0 | K32: =IF($C32=K$1,1,"0") -> 0 | ... V32: =IF($C32=V$1,1,"0") -> 0 | W32: =SUM(D32:V32) -> 0
D33: =SUM(D2:D32) -> 0 | E33: =SUM(E2:E32) -> 0 | F33: =SUM(F2:F32) -> 0 | G33: =SUM(G2:G32) -> 0 | H33: =SUM(H2:H32) -> 0 | I33: =SUM(I2:I32) -> 0 | J33: =SUM(J2:J32) -> 0 | K33: =SUM(K2:K32) -> 0 | ... W33: =SUM(W2:W32) -> 0
D37: =(D1) -> - | E37: =(E1) -> - | F37: =(F1) -> - | G37: =(G1) -> - | H37: =(H1) -> - | I37: =(I1) -> - | J37: =(J1) -> - | K37: =(K1) -> - | ... V37: =(V1) -> _
C38: lundi | D38: =SUMPRODUCT((WEEKDAY($A$2:$A$32,2)=ROWS($38:38))*(COUNTIF(FERIES,$A$2:$A$32)=0)*($C$2:$C$32=D$37)) -> 0 | E38: =SUMPRODUCT((WEEKDAY($A$2:$A$32,2)=ROWS($38:38))*(COUNTIF(FERIES,$A$2:$A$32)=0)*($C$2:$C$32=E$37)) -> 0 | F38: =SUMPRODUCT((WEEKDAY($A$2:$A$32,2)=ROWS($38:38))*(COUNTIF(FERIES,$A$2:$A$32)=0)*($C$2:$C$32=F$37)) -> 0 | G38: =SUMPRODUCT((WEEKDAY($A$2:$A$32,2)=ROWS($38:38))*(COUNTIF(FERIES,$A$2:$A$32)=0)*($C$2:$C$32=G$37)) -> 0 | H38: =SUMPRODUCT((WEEKDAY($A$2:$A$32,2)=ROWS($38:38))*(COUNTIF(FERIES,$A$2:$A$32)=0)*($C$2:$C$32=H$37)) -> 0 | I38: =SUMPRODUCT((WEEKDAY($A$2:$A$32,2)=ROWS($38:38))*(COUNTIF(FERIES,$A$2:$A$32)=0)*($C$2:$C$32=I$37)) -> 0 | J38: =SUMPRODUCT((WEEKDAY($A$2:$A$32,2)=ROWS($38:38))*(COUNTIF(FERIES,$A$2:$A$32)=0)*($C$2:$C$32=J$37)) -> 0 | K38: =SUMPRODUCT((WEEKDAY($A$2:$A$32,2)=ROWS($38:38))*(COUNTIF(FERIES,$A$2:$A$32)=0)*($C$2:$C$32=K$37)) -> 0 | ... V38: =SUMPRODUCT((WEEKDAY($A$2:$A$32,2)=ROWS($38:38))*(COUNTIF(FERIES,$A$2:$A$32)=0)*($C$2:$C$32=V$37)) -> 0
C39: mardi | D39: =SUMPRODUCT((WEEKDAY($A$2:$A$32,2)=ROWS($38:39))*(COUNTIF(FERIES,$A$2:$A$32)=0)*($C$2:$C$32=D$37)) -> 0 | E39: =SUMPRODUCT((WEEKDAY($A$2:$A$32,2)=ROWS($38:39))*(COUNTIF(FERIES,$A$2:$A$32)=0)*($C$2:$C$32=E$37)) -> 0 | F39: =SUMPRODUCT((WEEKDAY($A$2:$A$32,2)=ROWS($38:39))*(COUNTIF(FERIES,$A$2:$A$32)=0)*($C$2:$C$32=F$37)) -> 0 | G39: =SUMPRODUCT((WEEKDAY($A$2:$A$32,2)=ROWS($38:39))*(COUNTIF(FERIES,$A$2:$A$32)=0)*($C$2:$C$32=G$37)) -> 0 | H39: =SUMPRODUCT((WEEKDAY($A$2:$A$32,2)=ROWS($38:39))*(COUNTIF(FERIES,$A$2:$A$32)=0)*($C$2:$C$32=H$37)) -> 0 | I39: =SUMPRODUCT((WEEKDAY($A$2:$A$32,2)=ROWS($38:39))*(COUNTIF(FERIES,$A$2:$A$32)=0)*($C$2:$C$32=I$37)) -> 0 | J39: =SUMPRODUCT((WEEKDAY($A$2:$A$32,2)=ROWS($38:39))*(COUNTIF(FERIES,$A$2:$A$32)=0)*($C$2:$C$32=J$37)) -> 0 | K39: =SUMPRODUCT((WEEKDAY($A$2:$A$32,2)=ROWS($38:39))*(COUNTIF(FERIES,$A$2:$A$32)=0)*($C$2:$C$32=K$37)) -> 0 | ... V39: =SUMPRODUCT((WEEKDAY($A$2:$A$32,2)=ROWS($38:39))*(COUNTIF(FERIES,$A$2:$A$32)=0)*($C$2:$C$32=V$37)) -> 0
C40: mercredi | D40: =SUMPRODUCT((WEEKDAY($A$2:$A$32,2)=ROWS($38:40))*(COUNTIF(FERIES,$A$2:$A$32)=0)*($C$2:$C$32=D$37)) -> 0 | E40: =SUMPRODUCT((WEEKDAY($A$2:$A$32,2)=ROWS($38:40))*(COUNTIF(FERIES,$A$2:$A$32)=0)*($C$2:$C$32=E$37)) -> 0 | F40: =SUMPRODUCT((WEEKDAY($A$2:$A$32,2)=ROWS($38:40))*(COUNTIF(FERIES,$A$2:$A$32)=0)*($C$2:$C$32=F$37)) -> 0 | G40: =SUMPRODUCT((WEEKDAY($A$2:$A$32,2)=ROWS($38:40))*(COUNTIF(FERIES,$A$2:$A$32)=0)*($C$2:$C$32=G$37)) -> 0 | H40: =SUMPRODUCT((WEEKDAY($A$2:$A$32,2)=ROWS($38:40))*(COUNTIF(FERIES,$A$2:$A$32)=0)*($C$2:$C$32=H$37)) -> 0 | I40: =SUMPRODUCT((WEEKDAY($A$2:$A$32,2)=ROWS($38:40))*(COUNTIF(FERIES,$A$2:$A$32)=0)*($C$2:$C$32=I$37)) -> 0 | J40: =SUMPRODUCT((WEEKDAY($A$2:$A$32,2)=ROWS($38:40))*(COUNTIF(FERIES,$A$2:$A$32)=0)*($C$2:$C$32=J$37)) -> 0 | K40: =SUMPRODUCT((WEEKDAY($A$2:$A$32,2)=ROWS($38:40))*(COUNTIF(FERIES,$A$2:$A$32)=0)*($C$2:$C$32=K$37)) -> 0 | ... V40: =SUMPRODUCT((WEEKDAY($A$2:$A$32,2)=ROWS($38:40))*(COUNTIF(FERIES,$A$2:$A$32)=0)*($C$2:$C$32=V$37)) -> 0
C41: jeudi | D41: =SUMPRODUCT((WEEKDAY($A$2:$A$32,2)=ROWS($38:41))*(COUNTIF(FERIES,$A$2:$A$32)=0)*($C$2:$C$32=D$37)) -> 0 | E41: =SUMPRODUCT((WEEKDAY($A$2:$A$32,2)=ROWS($38:41))*(COUNTIF(FERIES,$A$2:$A$32)=0)*($C$2:$C$32=E$37)) -> 0 | F41: =SUMPRODUCT((WEEKDAY($A$2:$A$32,2)=ROWS($38:41))*(COUNTIF(FERIES,$A$2:$A$32)=0)*($C$2:$C$32=F$37)) -> 0 | G41: =SUMPRODUCT((WEEKDAY($A$2:$A$32,2)=ROWS($38:41))*(COUNTIF(FERIES,$A$2:$A$32)=0)*($C$2:$C$32=G$37)) -> 0 | H41: =SUMPRODUCT((WEEKDAY($A$2:$A$32,2)=ROWS($38:41))*(COUNTIF(FERIES,$A$2:$A$32)=0)*($C$2:$C$32=H$37)) -> 0 | I41: =SUMPRODUCT((WEEKDAY($A$2:$A$32,2)=ROWS($38:41))*(COUNTIF(FERIES,$A$2:$A$32)=0)*($C$2:$C$32=I$37)) -> 0 | J41: =SUMPRODUCT((WEEKDAY($A$2:$A$32,2)=ROWS($38:41))*(COUNTIF(FERIES,$A$2:$A$32)=0)*($C$2:$C$32=J$37)) -> 0 | K41: =SUMPRODUCT((WEEKDAY($A$2:$A$32,2)=ROWS($38:41))*(COUNTIF(FERIES,$A$2:$A$32)=0)*($C$2:$C$32=K$37)) -> 0 | ... V41: =SUMPRODUCT((WEEKDAY($A$2:$A$32,2)=ROWS($38:41))*(COUNTIF(FERIES,$A$2:$A$32)=0)*($C$2:$C$32=V$37)) -> 0
C42: vendredi | D42: =SUMPRODUCT((WEEKDAY($A$2:$A$32,2)=ROWS($38:42))*(COUNTIF(FERIES,$A$2:$A$32)=0)*($C$2:$C$32=D$37)) -> 0 | E42: =SUMPRODUCT((WEEKDAY($A$2:$A$32,2)=ROWS($38:42))*(COUNTIF(FERIES,$A$2:$A$32)=0)*($C$2:$C$32=E$37)) -> 0 | F42: =SUMPRODUCT((WEEKDAY($A$2:$A$32,2)=ROWS($38:42))*(COUNTIF(FERIES,$A$2:$A$32)=0)*($C$2:$C$32=F$37)) -> 0 | G42: =SUMPRODUCT((WEEKDAY($A$2:$A$32,2)=ROWS($38:42))*(COUNTIF(FERIES,$A$2:$A$32)=0)*($C$2:$C$32=G$37)) -> 0 | H42: =SUMPRODUCT((WEEKDAY($A$2:$A$32,2)=ROWS($38:42))*(COUNTIF(FERIES,$A$2:$A$32)=0)*($C$2:$C$32=H$37)) -> 0 | I42: =SUMPRODUCT((WEEKDAY($A$2:$A$32,2)=ROWS($38:42))*(COUNTIF(FERIES,$A$2:$A$32)=0)*($C$2:$C$32=I$37)) -> 0 | J42: =SUMPRODUCT((WEEKDAY($A$2:$A$32,2)=ROWS($38:42))*(COUNTIF(FERIES,$A$2:$A$32)=0)*($C$2:$C$32=J$37)) -> 0 | K42: =SUMPRODUCT((WEEKDAY($A$2:$A$32,2)=ROWS($38:42))*(COUNTIF(FERIES,$A$2:$A$32)=0)*($C$2:$C$32=K$37)) -> 0 | ... V42: =SUMPRODUCT((WEEKDAY($A$2:$A$32,2)=ROWS($38:42))*(COUNTIF(FERIES,$A$2:$A$32)=0)*($C$2:$C$32=V$37)) -> 0
C43: samedi | D43: =SUMPRODUCT((WEEKDAY($A$2:$A$32,2)=ROWS($38:43))*(COUNTIF(FERIES,$A$2:$A$32)=0)*($C$2:$C$32=D$37)) -> 0 | E43: =SUMPRODUCT((WEEKDAY($A$2:$A$32,2)=ROWS($38:43))*(COUNTIF(FERIES,$A$2:$A$32)=0)*($C$2:$C$32=E$37)) -> 0 | F43: =SUMPRODUCT((WEEKDAY($A$2:$A$32,2)=ROWS($38:43))*(COUNTIF(FERIES,$A$2:$A$32)=0)*($C$2:$C$32=F$37)) -> 0 | G43: =SUMPRODUCT((WEEKDAY($A$2:$A$32,2)=ROWS($38:43))*(COUNTIF(FERIES,$A$2:$A$32)=0)*($C$2:$C$32=G$37)) -> 0 | H43: =SUMPRODUCT((WEEKDAY($A$2:$A$32,2)=ROWS($38:43))*(COUNTIF(FERIES,$A$2:$A$32)=0)*($C$2:$C$32=H$37)) -> 0 | I43: =SUMPRODUCT((WEEKDAY($A$2:$A$32,2)=ROWS($38:43))*(COUNTIF(FERIES,$A$2:$A$32)=0)*($C$2:$C$32=I$37)) -> 0 | J43: =SUMPRODUCT((WEEKDAY($A$2:$A$32,2)=ROWS($38:43))*(COUNTIF(FERIES,$A$2:$A$32)=0)*($C$2:$C$32=J$37)) -> 0 | K43: =SUMPRODUCT((WEEKDAY($A$2:$A$32,2)=ROWS($38:43))*(COUNTIF(FERIES,$A$2:$A$32)=0)*($C$2:$C$32=K$37)) -> 0 | ... V43: =SUMPRODUCT((WEEKDAY($A$2:$A$32,2)=ROWS($38:43))*(COUNTIF(FERIES,$A$2:$A$32)=0)*($C$2:$C$32=V$37)) -> 0
C44: dimanche | D44: =SUMPRODUCT((WEEKDAY($A$2:$A$32,2)=ROWS($38:44))*(COUNTIF(FERIES,$A$2:$A$32)=0)*($C$2:$C$32=D$37)) -> 0 | E44: =SUMPRODUCT((WEEKDAY($A$2:$A$32,2)=ROWS($38:44))*(COUNTIF(FERIES,$A$2:$A$32)=0)*($C$2:$C$32=E$37)) -> 0 | F44: =SUMPRODUCT((WEEKDAY($A$2:$A$32,2)=ROWS($38:44))*(COUNTIF(FERIES,$A$2:$A$32)=0)*($C$2:$C$32=F$37)) -> 0 | G44: =SUMPRODUCT((WEEKDAY($A$2:$A$32,2)=ROWS($38:44))*(COUNTIF(FERIES,$A$2:$A$32)=0)*($C$2:$C$32=G$37)) -> 0 | H44: =SUMPRODUCT((WEEKDAY($A$2:$A$32,2)=ROWS($38:44))*(COUNTIF(FERIES,$A$2:$A$32)=0)*($C$2:$C$32=H$37)) -> 0 | I44: =SUMPRODUCT((WEEKDAY($A$2:$A$32,2)=ROWS($38:44))*(COUNTIF(FERIES,$A$2:$A$32)=0)*($C$2:$C$32=I$37)) -> 0 | J44: =SUMPRODUCT((WEEKDAY($A$2:$A$32,2)=ROWS($38:44))*(COUNTIF(FERIES,$A$2:$A$32)=0)*($C$2:$C$32=J$37)) -> 0 | K44: =SUMPRODUCT((WEEKDAY($A$2:$A$32,2)=ROWS($38:44))*(COUNTIF(FERIES,$A$2:$A$32)=0)*($C$2:$C$32=K$37)) -> 0 | ... V44: =SUMPRODUCT((WEEKDAY($A$2:$A$32,2)=ROWS($38:44))*(COUNTIF(FERIES,$A$2:$A$32)=0)*($C$2:$C$32=V$37)) -> 0
C45: FERIES | D45: =SUMPRODUCT(COUNTIF(FERIES,$A$2:$A$32)*($C$2:$C$32=D37)) -> 0 | E45: =SUMPRODUCT(COUNTIF(FERIES,$A$2:$A$32)*($C$2:$C$32=E37)) -> 0 | F45: =SUMPRODUCT(COUNTIF(FERIES,$A$2:$A$32)*($C$2:$C$32=F37)) -> 0 | G45: =SUMPRODUCT(COUNTIF(FERIES,$A$2:$A$32)*($C$2:$C$32=G37)) -> 0 | H45: =SUMPRODUCT(COUNTIF(FERIES,$A$2:$A$32)*($C$2:$C$32=H37)) -> 0 | I45: =SUMPRODUCT(COUNTIF(FERIES,$A$2:$A$32)*($C$2:$C$32=I37)) -> 0 | J45: =SUMPRODUCT(COUNTIF(FERIES,$A$2:$A$32)*($C$2:$C$32=J37)) -> 0 | K45: =SUMPRODUCT(COUNTIF(FERIES,$A$2:$A$32)*($C$2:$C$32=K37)) -> 0 | ... V45: =SUMPRODUCT(COUNTIF(FERIES,$A$2:$A$32)*($C$2:$C$32=V37)) -> 0
C47: Lun/Mar | D47: =SUM(D38:D39) -> 0 | E47: =SUM(E38:E39) -> 0 | F47: =SUM(F38:F39) -> 0 | G47: =SUM(G38:G39) -> 0 | H47: =SUM(H38:H39) -> 0 | I47: =SUM(I38:I39) -> 0 | J47: =SUM(J38:J39) -> 0 | K47: =SUM(K38:K39) -> 0 | ... V47: =SUM(V38:V39) -> 0
C48: Mer/Ven | D48: =SUM(D40+D42) -> 0 | E48: =SUM(E40+E42) -> 0 | F48: =SUM(F40+F42) -> 0 | G48: =SUM(G40+G42) -> 0 | H48: =SUM(H40+H42) -> 0 | I48: =SUM(I40+I42) -> 0 | J48: =SUM(J40+J42) -> 0 | K48: =SUM(K40+K42) -> 0 | ... V48: =SUM(V40+V42) -> 0
C49: jeudi | D49: =SUM(D41) -> 0 | E49: =SUM(E41) -> 0 | F49: =SUM(F41) -> 0 | G49: =SUM(G41) -> 0 | H49: =SUM(H41) -> 0 | I49: =SUM(I41) -> 0 | J49: =SUM(J41) -> 0 | K49: =SUM(K41) -> 0 | ... V49: =SUM(V41) -> 0
C50: Samedi | D50: =SUM(D43) -> 0 | E50: =SUM(E43) -> 0 | F50: =SUM(F43) -> 0 | G50: =SUM(G43) -> 0 | H50: =SUM(H43) -> 0 | I50: =SUM(I43) -> 0 | J50: =SUM(J43) -> 0 | K50: =SUM(K43) -> 0 | ... V50: =SUM(V43) -> 0
C51: Dimanche | D51: =SUM(D44) -> 0 | E51: =SUM(E44) -> 0 | F51: =SUM(F44) -> 0 | G51: =SUM(G44) -> 0 | H51: =SUM(H44) -> 0 | I51: =SUM(I44) -> 0 | J51: =SUM(J44) -> 0 | K51: =SUM(K44) -> 0 | ... V51: =SUM(V44) -> 0
C52: Fériés | D52: =SUM(D45) -> 0 | E52: =SUM(E45) -> 0 | F52: =SUM(F45) -> 0 | G52: =SUM(G45) -> 0 | H52: =SUM(H45) -> 0 | I52: =SUM(I45) -> 0 | J52: =SUM(J45) -> 0 | K52: =SUM(K45) -> 0 | ... V52: =SUM(V45) -> 0
C55: Lun/Mar | D55: =SUM(Jan:Dec!D47) -> 0 | E55: =SUM(Jan:Dec!E47) -> 0 | F55: =SUM(Jan:Dec!F47) -> 1 | G55: =SUM(Jan:Dec!G47) -> 0 | H55: =SUM(Jan:Dec!H47) -> 0 | I55: =SUM(Jan:Dec!I47) -> 0 | J55: =SUM(Jan:Dec!J47) -> 0 | K55: =SUM(Jan:Dec!K47) -> 0 | ... V55: =SUM(Jan:Dec!V47) -> 0
C56: Mer/Ven | D56: =SUM(Jan:Dec!D48) -> 1 | E56: =SUM(Jan:Dec!E48) -> 0 | F56: =SUM(Jan:Dec!F48) -> 0 | G56: =SUM(Jan:Dec!G48) -> 0 | H56: =SUM(Jan:Dec!H48) -> 0 | I56: =SUM(Jan:Dec!I48) -> 0 | J56: =SUM(Jan:Dec!J48) -> 0 | K56: =SUM(Jan:Dec!K48) -> 0 | ... V56: =SUM(Jan:Dec!V48) -> 0
C57: jeudi | D57: =SUM(Jan:Dec!D49) -> 0 | E57: =SUM(Jan:Dec!E49) -> 0 | F57: =SUM(Jan:Dec!F49) -> 0 | G57: =SUM(Jan:Dec!G49) -> 0 | H57: =SUM(Jan:Dec!H49) -> 0 | I57: =SUM(Jan:Dec!I49) -> 0 | J57: =SUM(Jan:Dec!J49) -> 0 | K57: =SUM(Jan:Dec!K49) -> 0 | ... V57: =SUM(Jan:Dec!V49) -> 0
C58: Samedi | D58: =SUM(Jan:Dec!D50) -> 0 | E58: =SUM(Jan:Dec!E50) -> 1 | F58: =SUM(Jan:Dec!F50) -> 0 | G58: =SUM(Jan:Dec!G50) -> 0 | H58: =SUM(Jan:Dec!H50) -> 0 | I58: =SUM(Jan:Dec!I50) -> 0 | J58: =SUM(Jan:Dec!J50) -> 0 | K58: =SUM(Jan:Dec!K50) -> 0 | ... V58: =SUM(Jan:Dec!V50) -> 0
C59: Dimanche | D59: =SUM(Jan:Dec!D51) -> 0 | E59: =SUM(Jan:Dec!E51) -> 0 | F59: =SUM(Jan:Dec!F51) -> 0 | G59: =SUM(Jan:Dec!G51) -> 0 | H59: =SUM(Jan:Dec!H51) -> 0 | I59: =SUM(Jan:Dec!I51) -> 0 | J59: =SUM(Jan:Dec!J51) -> 0 | K59: =SUM(Jan:Dec!K51) -> 0 | ... V59: =SUM(Jan:Dec!V51) -> 0
C60: Fériés | D60: =SUM(Jan:Dec!D52) -> 1 | E60: =SUM(Jan:Dec!E52) -> 0 | F60: =SUM(Jan:Dec!F52) -> 0 | G60: =SUM(Jan:Dec!G52) -> 0 | H60: =SUM(Jan:Dec!H52) -> 0 | I60: =SUM(Jan:Dec!I52) -> 0 | J60: =SUM(Jan:Dec!J52) -> 0 | K60: =SUM(Jan:Dec!K52) -> 0 | ... V60: =SUM(Jan:Dec!V52) -> 0
C61: Total | D61: =SUM(D55:D60) -> 2 | E61: =SUM(E55:E60) -> 1 | F61: =SUM(F55:F60) -> 1 | G61: =SUM(G55:G60) -> 0 | H61: =SUM(H55:H60) -> 0 | I61: =SUM(I55:I60) -> 0 | J61: =SUM(J55:J60) -> 0 | K61: =SUM(K55:K60) -> 0 | ... V61: =SUM(V55:V60) -> 0

Sheet Juin
A1: =DATE(Accueil!E1,6,1) -> 42887 | B1: DATE | C1: GRADE - NOM | D1: - | E1: - | F1: - | G1: - | H1: - | I1: - | J1: - | K1: - | L1: - | M1: - | N1: - | O1: - | P1: - | Q1: - | R1: - | S1: _ | T1: _ | U1: _ | V1: _ | W1: Récap
A2: =DATE(Accueil!E1,6,1) -> 42887 | B2: =DATE(Accueil!E1,6,1) -> 42887 | D2: =IF($C2=D$1,1,"0") -> 0 | E2: =IF($C2=E$1,1,"0") -> 0 | F2: =IF($C2=F$1,1,"0") -> 0 | G2: =IF($C2=G$1,1,"0") -> 0 | H2: =IF($C2=H$1,1,"0") -> 0 | I2: =IF($C2=I$1,1,"0") -> 0 | J2: =IF($C2=J$1,1,"0") -> 0 | K2: =IF($C2=K$1,1,"0") -> 0 | ... V2: =IF($C2=V$1,1,"0") -> 0 | W2: =SUM(D2:V2) -> 0
A3: =(A2+1) -> 42888 | B3: =(B2+1) -> 42888 | D3: =IF($C3=D$1,1,"0") -> 0 | E3: =IF($C3=E$1,1,"0") -> 0 | F3: =IF($C3=F$1,1,"0") -> 0 | G3: =IF($C3=G$1,1,"0") -> 0 | H3: =IF($C3=H$1,1,"0") -> 0 | I3: =IF($C3=I$1,1,"0") -> 0 | J3: =IF($C3=J$1,1,"0") -> 0 | K3: =IF($C3=K$1,1,"0") -> 0 | ... V3: =IF($C3=V$1,1,"0") -> 0 | W3: =SUM(D3:V3) -> 0
A4: =(A3+1) -> 42889 | B4: =(B3+1) -> 42889 | D4: =IF($C4=D$1,1,"0") -> 0 | E4: =IF($C4=E$1,1,"0") -> 0 | F4: =IF($C4=F$1,1,"0") -> 0 | G4: =IF($C4=G$1,1,"0") -> 0 | H4: =IF($C4=H$1,1,"0") -> 0 | I4: =IF($C4=I$1,1,"0") -> 0 | J4: =IF($C4=J$1,1,"0") -> 0 | K4: =IF($C4=K$1,1,"0") -> 0 | ... V4: =IF($C4=V$1,1,"0") -> 0 | W4: =SUM(D4:V4) -> 0
A5: =(A4+1) -> 42890 | B5: =(B4+1) -> 42890 | D5: =IF($C5=D$1,1,"0") -> 0 | E5: =IF($C5=E$1,1,"0") -> 0 | F5: =IF($C5=F$1,1,"0") -> 0 | G5: =IF($C5=G$1,1,"0") -> 0 | H5: =IF($C5=H$1,1,"0") -> 0 | I5: =IF($C5=I$1,1,"0") -> 0 | J5: =IF($C5=J$1,1,"0") -> 0 | K5: =IF($C5=K$1,1,"0") -> 0 | ... V5: =IF($C5=V$1,1,"0") -> 0 | W5: =SUM(D5:V5) -> 0
A6: =(A5+1) -> 42891 | B6: =(B5+1) -> 42891 | D6: =IF($C6=D$1,1,"0") -> 0 | E6: =IF($C6=E$1,1,"0") -> 0 | F6: =IF($C6=F$1,1,"0") -> 0 | G6: =IF($C6=G$1,1,"0") -> 0 | H6: =IF($C6=H$1,1,"0") -> 0 | I6: =IF($C6=I$1,1,"0") -> 0 | J6: =IF($C6=J$1,1,"0") -> 0 | K6: =IF($C6=K$1,1,"0") -> 0 | ... V6: =IF($C6=V$1,1,"0") -> 0 | W6: =SUM(D6:V6) -> 0
A7: =(A6+1) -> 42892 | B7: =(B6+1) -> 42892 | D7: =IF($C7=D$1,1,"0") -> 0 | E7: =IF($C7=E$1,1,"0") -> 0 | F7: =IF($C7=F$1,1,"0") -> 0 | G7: =IF($C7=G$1,1,"0") -> 0 | H7: =IF($C7=H$1,1,"0") -> 0 | I7: =IF($C7=I$1,1,"0") -> 0 | J7: =IF($C7=J$1,1,"0") -> 0 | K7: =IF($C7=K$1,1,"0") -> 0 | ... V7: =IF($C7=V$1,1,"0") -> 0 | W7: =SUM(D7:V7) -> 0
A8: =(A7+1) -> 42893 | B8: =(B7+1) -> 42893 | D8: =IF($C8=D$1,1,"0") -> 0 | E8: =IF($C8=E$1,1,"0") -> 0 | F8: =IF($C8=F$1,1,"0") -> 0 | G8: =IF($C8=G$1,1,"0") -> 0 | H8: =IF($C8=H$1,1,"0") -> 0 | I8: =IF($C8=I$1,1,"0") -> 0 | J8: =IF($C8=J$1,1,"0") -> 0 | K8: =IF($C8=K$1,1,"0") -> 0 | ... V8: =IF($C8=V$1,1,"0") -> 0 | W8: =SUM(D8:V8) -> 0
A9: =(A8+1) -> 42894 | B9: =(B8+1) -> 42894 | D9: =IF($C9=D$1,1,"0") -> 0 | E9: =IF($C9=E$1,1,"0") -> 0 | F9: =IF($C9=F$1,1,"0") -> 0 | G9: =IF($C9=G$1,1,"0") -> 0 | H9: =IF($C9=H$1,1,"0") -> 0 | I9: =IF($C9=I$1,1,"0") -> 0 | J9: =IF($C9=J$1,1,"0") -> 0 | K9: =IF($C9=K$1,1,"0") -> 0 | ... V9: =IF($C9=V$1,1,"0") -> 0 | W9: =SUM(D9:V9) -> 0
A10: =(A9+1) -> 42895 | B10: =(B9+1) -> 42895 | D10: =IF($C10=D$1,1,"0") -> 0 | E10: =IF($C10=E$1,1,"0") -> 0 | F10: =IF($C10=F$1,1,"0") -> 0 | G10: =IF($C10=G$1,1,"0") -> 0 | H10: =IF($C10=H$1,1,"0") -> 0 | I10: =IF($C10=I$1,1,"0") -> 0 | J10: =IF($C10=J$1,1,"0") -> 0 | K10: =IF($C10=K$1,1,"0") -> 0 | ... V10: =IF($C10=V$1,1,"0") -> 0 | W10: =SUM(D10:V10) -> 0
A11: =(A10+1) -> 42896 | B11: =(B10+1) -> 42896 | D11: =IF($C11=D$1,1,"0") -> 0 | E11: =IF($C11=E$1,1,"0") -> 0 | F11: =IF($C11=F$1,1,"0") -> 0 | G11: =IF($C11=G$1,1,"0") -> 0 | H11: =IF($C11=H$1,1,"0") -> 0 | I11: =IF($C11=I$1,1,"0") -> 0 | J11: =IF($C11=J$1,1,"0") -> 0 | K11: =IF($C11=K$1,1,"0") -> 0 | ... V11: =IF($C11=V$1,1,"0") -> 0 | W11: =SUM(D11:V11) -> 0
A12: =(A11+1) -> 42897 | B12: =(B11+1) -> 42897 | D12: =IF($C12=D$1,1,"0") -> 0 | E12: =IF($C12=E$1,1,"0") -> 0 | F12: =IF($C12=F$1,1,"0") -> 0 | G12: =IF($C12=G$1,1,"0") -> 0 | H12: =IF($C12=H$1,1,"0") -> 0 | I12: =IF($C12=I$1,1,"0") -> 0 | J12: =IF($C12=J$1,1,"0") -> 0 | K12: =IF($C12=K$1,1,"0") -> 0 | ... V12: =IF($C12=V$1,1,"0") -> 0 | W12: =SUM(D12:V12) -> 0
A13: =(A12+1) -> 42898 | B13: =(B12+1) -> 42898 | D13: =IF($C13=D$1,1,"0") -> 0 | E13: =IF($C13=E$1,1,"0") -> 0 | F13: =IF($C13=F$1,1,"0") -> 0 | G13: =IF($C13=G$1,1,"0") -> 0 | H13: =IF($C13=H$1,1,"0") -> 0 | I13: =IF($C13=I$1,1,"0") -> 0 | J13: =IF($C13=J$1,1,"0") -> 0 | K13: =IF($C13=K$1,1,"0") -> 0 | ... V13: =IF($C13=V$1,1,"0") -> 0 | W13: =SUM(D13:V13) -> 0
A14: =(A13+1) -> 42899 | B14: =(B13+1) -> 42899 | D14: =IF($C14=D$1,1,"0") -> 0 | E14: =IF($C14=E$1,1,"0") -> 0 | F14: =IF($C14=F$1,1,"0") -> 0 | G14: =IF($C14=G$1,1,"0") -> 0 | H14: =IF($C14=H$1,1,"0") -> 0 | I14: =IF($C14=I$1,1,"0") -> 0 | J14: =IF($C14=J$1,1,"0") -> 0 | K14: =IF($C14=K$1,1,"0") -> 0 | ... V14: =IF($C14=V$1,1,"0") -> 0 | W14: =SUM(D14:V14) -> 0
... A31: =(A30+1) -> 42916 | B31: =(B30+1) -> 42916 | D31: =IF($C31=D$1,1,"0") -> 0 | E31: =IF($C31=E$1,1,"0") -> 0 | F31: =IF($C31=F$1,1,"0") -> 0 | G31: =IF($C31=G$1,1,"0") -> 0 | H31: =IF($C31=H$1,1,"0") -> 0 | I31: =IF($C31=I$1,1,"0") -> 0 | J31: =IF($C31=J$1,1,"0") -> 0 | K31: =IF($C31=K$1,1,"0") -> 0 | ... V31: =IF($C31=V$1,1,"0") -> 0 | W31: =SUM(D31:V31) -> 0
D33: =SUM(D2:D32) -> 0 | E33: =SUM(E2:E32) -> 0 | F33: =SUM(F2:F32) -> 0 | G33: =SUM(G2:G32) -> 0 | H33: =SUM(H2:H32) -> 0 | I33: =SUM(I2:I32) -> 0 | J33: =SUM(J2:J32) -> 0 | K33: =SUM(K2:K32) -> 0 | ... W33: =SUM(W2:W32) -> 0
D37: =(D1) -> - | E37: =(E1) -> - | F37: =(F1) -> - | G37: =(G1) -> - | H37: =(H1) -> - | I37: =(I1) -> - | J37: =(J1) -> - | K37: =(K1) -> - | ... V37: =(V1) -> _
C38: lundi | D38: =SUMPRODUCT((WEEKDAY($A$2:$A$32,2)=ROWS($38:38))*(COUNTIF(FERIES,$A$2:$A$32)=0)*($C$2:$C$32=D$37)) -> 0 | E38: =SUMPRODUCT((WEEKDAY($A$2:$A$32,2)=ROWS($38:38))*(COUNTIF(FERIES,$A$2:$A$32)=0)*($C$2:$C$32=E$37)) -> 0 | F38: =SUMPRODUCT((WEEKDAY($A$2:$A$32,2)=ROWS($38:38))*(COUNTIF(FERIES,$A$2:$A$32)=0)*($C$2:$C$32=F$37)) -> 0 | G38: =SUMPRODUCT((WEEKDAY($A$2:$A$32,2)=ROWS($38:38))*(COUNTIF(FERIES,$A$2:$A$32)=0)*($C$2:$C$32=G$37)) -> 0 | H38: =SUMPRODUCT((WEEKDAY($A$2:$A$32,2)=ROWS($38:38))*(COUNTIF(FERIES,$A$2:$A$32)=0)*($C$2:$C$32=H$37)) -> 0 | I38: =SUMPRODUCT((WEEKDAY($A$2:$A$32,2)=ROWS($38:38))*(COUNTIF(FERIES,$A$2:$A$32)=0)*($C$2:$C$32=I$37)) -> 0 | J38: =SUMPRODUCT((WEEKDAY($A$2:$A$32,2)=ROWS($38:38))*(COUNTIF(FERIES,$A$2:$A$32)=0)*($C$2:$C$32=J$37)) -> 0 | K38: =SUMPRODUCT((WEEKDAY($A$2:$A$32,2)=ROWS($38:38))*(COUNTIF(FERIES,$A$2:$A$32)=0)*($C$2:$C$32=K$37)) -> 0 | ... V38: =SUMPRODUCT((WEEKDAY($A$2:$A$32,2)=ROWS($38:38))*(COUNTIF(FERIES,$A$2:$A$32)=0)*($C$2:$C$32=V$37)) -> 0
C39: mardi | D39: =SUMPRODUCT((WEEKDAY($A$2:$A$32,2)=ROWS($38:39))*(COUNTIF(FERIES,$A$2:$A$32)=0)*($C$2:$C$32=D$37)) -> 0 | E39: =SUMPRODUCT((WEEKDAY($A$2:$A$32,2)=ROWS($38:39))*(COUNTIF(FERIES,$A$2:$A$32)=0)*($C$2:$C$32=E$37)) -> 0 | F39: =SUMPRODUCT((WEEKDAY($A$2:$A$32,2)=ROWS($38:39))*(COUNTIF(FERIES,$A$2:$A$32)=0)*($C$2:$C$32=F$37)) -> 0 | G39: =SUMPRODUCT((WEEKDAY($A$2:$A$32,2)=ROWS($38:39))*(COUNTIF(FERIES,$A$2:$A$32)=0)*($C$2:$C$32=G$37)) -> 0 | H39: =SUMPRODUCT((WEEKDAY($A$2:$A$32,2)=ROWS($38:39))*(COUNTIF(FERIES,$A$2:$A$32)=0)*($C$2:$C$32=H$37)) -> 0 | I39: =SUMPRODUCT((WEEKDAY($A$2:$A$32,2)=ROWS($38:39))*(COUNTIF(FERIES,$A$2:$A$32)=0)*($C$2:$C$32=I$37)) -> 0 | J39: =SUMPRODUCT((WEEKDAY($A$2:$A$32,2)=ROWS($38:39))*(COUNTIF(FERIES,$A$2:$A$32)=0)*($C$2:$C$32=J$37)) -> 0 | K39: =SUMPRODUCT((WEEKDAY($A$2:$A$32,2)=ROWS($38:39))*(COUNTIF(FERIES,$A$2:$A$32)=0)*($C$2:$C$32=K$37)) -> 0 | ... V39: =SUMPRODUCT((WEEKDAY($A$2:$A$32,2)=ROWS($38:39))*(COUNTIF(FERIES,$A$2:$A$32)=0)*($C$2:$C$32=V$37)) -> 0
C40: mercredi | D40: =SUMPRODUCT((WEEKDAY($A$2:$A$32,2)=ROWS($38:40))*(COUNTIF(FERIES,$A$2:$A$32)=0)*($C$2:$C$32=D$37)) -> 0 | E40: =SUMPRODUCT((WEEKDAY($A$2:$A$32,2)=ROWS($38:40))*(COUNTIF(FERIES,$A$2:$A$32)=0)*($C$2:$C$32=E$37)) -> 0 | F40: =SUMPRODUCT((WEEKDAY($A$2:$A$32,2)=ROWS($38:40))*(COUNTIF(FERIES,$A$2:$A$32)=0)*($C$2:$C$32=F$37)) -> 0 | G40: =SUMPRODUCT((WEEKDAY($A$2:$A$32,2)=ROWS($38:40))*(COUNTIF(FERIES,$A$2:$A$32)=0)*($C$2:$C$32=G$37)) -> 0 | H40: =SUMPRODUCT((WEEKDAY($A$2:$A$32,2)=ROWS($38:40))*(COUNTIF(FERIES,$A$2:$A$32)=0)*($C$2:$C$32=H$37)) -> 0 | I40: =SUMPRODUCT((WEEKDAY($A$2:$A$32,2)=ROWS($38:40))*(COUNTIF(FERIES,$A$2:$A$32)=0)*($C$2:$C$32=I$37)) -> 0 | J40: =SUMPRODUCT((WEEKDAY($A$2:$A$32,2)=ROWS($38:40))*(COUNTIF(FERIES,$A$2:$A$32)=0)*($C$2:$C$32=J$37)) -> 0 | K40: =SUMPRODUCT((WEEKDAY($A$2:$A$32,2)=ROWS($38:40))*(COUNTIF(FERIES,$A$2:$A$32)=0)*($C$2:$C$32=K$37)) -> 0 | ... V40: =SUMPRODUCT((WEEKDAY($A$2:$A$32,2)=ROWS($38:40))*(COUNTIF(FERIES,$A$2:$A$32)=0)*($C$2:$C$32=V$37)) -> 0
C41: jeudi | D41: =SUMPRODUCT((WEEKDAY($A$2:$A$32,2)=ROWS($38:41))*(COUNTIF(FERIES,$A$2:$A$32)=0)*($C$2:$C$32=D$37)) -> 0 | E41: =SUMPRODUCT((WEEKDAY($A$2:$A$32,2)=ROWS($38:41))*(COUNTIF(FERIES,$A$2:$A$32)=0)*($C$2:$C$32=E$37)) -> 0 | F41: =SUMPRODUCT((WEEKDAY($A$2:$A$32,2)=ROWS($38:41))*(COUNTIF(FERIES,$A$2:$A$32)=0)*($C$2:$C$32=F$37)) -> 0 | G41: =SUMPRODUCT((WEEKDAY($A$2:$A$32,2)=ROWS($38:41))*(COUNTIF(FERIES,$A$2:$A$32)=0)*($C$2:$C$32=G$37)) -> 0 | H41: =SUMPRODUCT((WEEKDAY($A$2:$A$32,2)=ROWS($38:41))*(COUNTIF(FERIES,$A$2:$A$32)=0)*($C$2:$C$32=H$37)) -> 0 | I41: =SUMPRODUCT((WEEKDAY($A$2:$A$32,2)=ROWS($38:41))*(COUNTIF(FERIES,$A$2:$A$32)=0)*($C$2:$C$32=I$37)) -> 0 | J41: =SUMPRODUCT((WEEKDAY($A$2:$A$32,2)=ROWS($38:41))*(COUNTIF(FERIES,$A$2:$A$32)=0)*($C$2:$C$32=J$37)) -> 0 | K41: =SUMPRODUCT((WEEKDAY($A$2:$A$32,2)=ROWS($38:41))*(COUNTIF(FERIES,$A$2:$A$32)=0)*($C$2:$C$32=K$37)) -> 0 | ... V41: =SUMPRODUCT((WEEKDAY($A$2:$A$32,2)=ROWS($38:41))*(COUNTIF(FERIES,$A$2:$A$32)=0)*($C$2:$C$32=V$37)) -> 0
C42: vendredi | D42: =SUMPRODUCT((WEEKDAY($A$2:$A$32,2)=ROWS($38:42))*(COUNTIF(FERIES,$A$2:$A$32)=0)*($C$2:$C$32=D$37)) -> 0 | E42: =SUMPRODUCT((WEEKDAY($A$2:$A$32,2)=ROWS($38:42))*(COUNTIF(FERIES,$A$2:$A$32)=0)*($C$2:$C$32=E$37)) -> 0 | F42: =SUMPRODUCT((WEEKDAY($A$2:$A$32,2)=ROWS($38:42))*(COUNTIF(FERIES,$A$2:$A$32)=0)*($C$2:$C$32=F$37)) -> 0 | G42: =SUMPRODUCT((WEEKDAY($A$2:$A$32,2)=ROWS($38:42))*(COUNTIF(FERIES,$A$2:$A$32)=0)*($C$2:$C$32=G$37)) -> 0 | H42: =SUMPRODUCT((WEEKDAY($A$2:$A$32,2)=ROWS($38:42))*(COUNTIF(FERIES,$A$2:$A$32)=0)*($C$2:$C$32=H$37)) -> 0 | I42: =SUMPRODUCT((WEEKDAY($A$2:$A$32,2)=ROWS($38:42))*(COUNTIF(FERIES,$A$2:$A$32)=0)*($C$2:$C$32=I$37)) -> 0 | J42: =SUMPRODUCT((WEEKDAY($A$2:$A$32,2)=ROWS($38:42))*(COUNTIF(FERIES,$A$2:$A$32)=0)*($C$2:$C$32=J$37)) -> 0 | K42: =SUMPRODUCT((WEEKDAY($A$2:$A$32,2)=ROWS($38:42))*(COUNTIF(FERIES,$A$2:$A$32)=0)*($C$2:$C$32=K$37)) -> 0 | ... V42: =SUMPRODUCT((WEEKDAY($A$2:$A$32,2)=ROWS($38:42))*(COUNTIF(FERIES,$A$2:$A$32)=0)*($C$2:$C$32=V$37)) -> 0
C43: samedi | D43: =SUMPRODUCT((WEEKDAY($A$2:$A$32,2)=ROWS($38:43))*(COUNTIF(FERIES,$A$2:$A$32)=0)*($C$2:$C$32=D$37)) -> 0 | E43: =SUMPRODUCT((WEEKDAY($A$2:$A$32,2)=ROWS($38:43))*(COUNTIF(FERIES,$A$2:$A$32)=0)*($C$2:$C$32=E$37)) -> 0 | F43: =SUMPRODUCT((WEEKDAY($A$2:$A$32,2)=ROWS($38:43))*(COUNTIF(FERIES,$A$2:$A$32)=0)*($C$2:$C$32=F$37)) -> 0 | G43: =SUMPRODUCT((WEEKDAY($A$2:$A$32,2)=ROWS($38:43))*(COUNTIF(FERIES,$A$2:$A$32)=0)*($C$2:$C$32=G$37)) -> 0 | H43: =SUMPRODUCT((WEEKDAY($A$2:$A$32,2)=ROWS($38:43))*(COUNTIF(FERIES,$A$2:$A$32)=0)*($C$2:$C$32=H$37)) -> 0 | I43: =SUMPRODUCT((WEEKDAY($A$2:$A$32,2)=ROWS($38:43))*(COUNTIF(FERIES,$A$2:$A$32)=0)*($C$2:$C$32=I$37)) -> 0 | J43: =SUMPRODUCT((WEEKDAY($A$2:$A$32,2)=ROWS($38:43))*(COUNTIF(FERIES,$A$2:$A$32)=0)*($C$2:$C$32=J$37)) -> 0 | K43: =SUMPRODUCT((WEEKDAY($A$2:$A$32,2)=ROWS($38:43))*(COUNTIF(FERIES,$A$2:$A$32)=0)*($C$2:$C$32=K$37)) -> 0 | ... V43: =SUMPRODUCT((WEEKDAY($A$2:$A$32,2)=ROWS($38:43))*(COUNTIF(FERIES,$A$2:$A$32)=0)*($C$2:$C$32=V$37)) -> 0
C44: dimanche | D44: =SUMPRODUCT((WEEKDAY($A$2:$A$32,2)=ROWS($38:44))*(COUNTIF(FERIES,$A$2:$A$32)=0)*($C$2:$C$32=D$37)) -> 0 | E44: =SUMPRODUCT((WEEKDAY($A$2:$A$32,2)=ROWS($38:44))*(COUNTIF(FERIES,$A$2:$A$32)=0)*($C$2:$C$32=E$37)) -> 0 | F44: =SUMPRODUCT((WEEKDAY($A$2:$A$32,2)=ROWS($38:44))*(COUNTIF(FERIES,$A$2:$A$32)=0)*($C$2:$C$32=F$37)) -> 0 | G44: =SUMPRODUCT((WEEKDAY($A$2:$A$32,2)=ROWS($38:44))*(COUNTIF(FERIES,$A$2:$A$32)=0)*($C$2:$C$32=G$37)) -> 0 | H44: =SUMPRODUCT((WEEKDAY($A$2:$A$32,2)=ROWS($38:44))*(COUNTIF(FERIES,$A$2:$A$32)=0)*($C$2:$C$32=H$37)) -> 0 | I44: =SUMPRODUCT((WEEKDAY($A$2:$A$32,2)=ROWS($38:44))*(COUNTIF(FERIES,$A$2:$A$32)=0)*($C$2:$C$32=I$37)) -> 0 | J44: =SUMPRODUCT((WEEKDAY($A$2:$A$32,2)=ROWS($38:44))*(COUNTIF(FERIES,$A$2:$A$32)=0)*($C$2:$C$32=J$37)) -> 0 | K44: =SUMPRODUCT((WEEKDAY($A$2:$A$32,2)=ROWS($38:44))*(COUNTIF(FERIES,$A$2:$A$32)=0)*($C$2:$C$32=K$37)) -> 0 | ... V44: =SUMPRODUCT((WEEKDAY($A$2:$A$32,2)=ROWS($38:44))*(COUNTIF(FERIES,$A$2:$A$32)=0)*($C$2:$C$32=V$37)) -> 0
C45: FERIES | D45: =SUMPRODUCT(COUNTIF(FERIES,$A$2:$A$32)*($C$2:$C$32=D37)) -> 0 | E45: =SUMPRODUCT(COUNTIF(FERIES,$A$2:$A$32)*($C$2:$C$32=E37)) -> 0 | F45: =SUMPRODUCT(COUNTIF(FERIES,$A$2:$A$32)*($C$2:$C$32=F37)) -> 0 | G45: =SUMPRODUCT(COUNTIF(FERIES,$A$2:$A$32)*($C$2:$C$32=G37)) -> 0 | H45: =SUMPRODUCT(COUNTIF(FERIES,$A$2:$A$32)*($C$2:$C$32=H37)) -> 0 | I45: =SUMPRODUCT(COUNTIF(FERIES,$A$2:$A$32)*($C$2:$C$32=I37)) -> 0 | J45: =SUMPRODUCT(COUNTIF(FERIES,$A$2:$A$32)*($C$2:$C$32=J37)) -> 0 | K45: =SUMPRODUCT(COUNTIF(FERIES,$A$2:$A$32)*($C$2:$C$32=K37)) -> 0 | ... V45: =SUMPRODUCT(COUNTIF(FERIES,$A$2:$A$32)*($C$2:$C$32=V37)) -> 0
C47: Lun/Mar | D47: =SUM(D38:D39) -> 0 | E47: =SUM(E38:E39) -> 0 | F47: =SUM(F38:F39) -> 0 | G47: =SUM(G38:G39) -> 0 | H47: =SUM(H38:H39) -> 0 | I47: =SUM(I38:I39) -> 0 | J47: =SUM(J38:J39) -> 0 | K47: =SUM(K38:K39) -> 0 | ... V47: =SUM(V38:V39) -> 0
C48: Mer/Ven | D48: =SUM(D40+D42) -> 0 | E48: =SUM(E40+E42) -> 0 | F48: =SUM(F40+F42) -> 0 | G48: =SUM(G40+G42) -> 0 | H48: =SUM(H40+H42) -> 0 | I48: =SUM(I40+I42) -> 0 | J48: =SUM(J40+J42) -> 0 | K48: =SUM(K40+K42) -> 0 | ... V48: =SUM(V40+V42) -> 0
C49: jeudi | D49: =SUM(D41) -> 0 | E49: =SUM(E41) -> 0 | F49: =SUM(F41) -> 0 | G49: =SUM(G41) -> 0 | H49: =SUM(H41) -> 0 | I49: =SUM(I41) -> 0 | J49: =SUM(J41) -> 0 | K49: =SUM(K41) -> 0 | ... V49: =SUM(V41) -> 0
C50: Samedi | D50: =SUM(D43) -> 0 | E50: =SUM(E43) -> 0 | F50: =SUM(F43) -> 0 | G50: =SUM(G43) -> 0 | H50: =SUM(H43) -> 0 | I50: =SUM(I43) -> 0 | J50: =SUM(J43) -> 0 | K50: =SUM(K43) -> 0 | ... V50: =SUM(V43) -> 0
C51: Dimanche | D51: =SUM(D44) -> 0 | E51: =SUM(E44) -> 0 | F51: =SUM(F44) -> 0 | G51: =SUM(G44) -> 0 | H51: =SUM(H44) -> 0 | I51: =SUM(I44) -> 0 | J51: =SUM(J44) -> 0 | K51: =SUM(K44) -> 0 | ... V51: =SUM(V44) -> 0
C52: Fériés | D52: =SUM(D45) -> 0 | E52: =SUM(E45) -> 0 | F52: =SUM(F45) -> 0 | G52: =SUM(G45) -> 0 | H52: =SUM(H45) -> 0 | I52: =SUM(I45) -> 0 | J52: =SUM(J45) -> 0 | K52: =SUM(K45) -> 0 | ... V52: =SUM(V45) -> 0
C55: Lun/Mar | D55: =SUM(Jan:Dec!D47) -> 0 | E55: =SUM(Jan:Dec!E47) -> 0 | F55: =SUM(Jan:Dec!F47) -> 1 | G55: =SUM(Jan:Dec!G47) -> 0 | H55: =SUM(Jan:Dec!H47) -> 0 | I55: =SUM(Jan:Dec!I47) -> 0 | J55: =SUM(Jan:Dec!J47) -> 0 | K55: =SUM(Jan:Dec!K47) -> 0 | ... V55: =SUM(Jan:Dec!V47) -> 0
C56: Mer/Ven | D56: =SUM(Jan:Dec!D48) -> 1 | E56: =SUM(Jan:Dec!E48) -> 0 | F56: =SUM(Jan:Dec!F48) -> 0 | G56: =SUM(Jan:Dec!G48) -> 0 | H56: =SUM(Jan:Dec!H48) -> 0 | I56: =SUM(Jan:Dec!I48) -> 0 | J56: =SUM(Jan:Dec!J48) -> 0 | K56: =SUM(Jan:Dec!K48) -> 0 | ... V56: =SUM(Jan:Dec!V48) -> 0
C57: jeudi | D57: =SUM(Jan:Dec!D49) -> 0 | E57: =SUM(Jan:Dec!E49) -> 0 | F57: =SUM(Jan:Dec!F49) -> 0 | G57: =SUM(Jan:Dec!G49) -> 0 | H57: =SUM(Jan:Dec!H49) -> 0 | I57: =SUM(Jan:Dec!I49) -> 0 | J57: =SUM(Jan:Dec!J49) -> 0 | K57: =SUM(Jan:Dec!K49) -> 0 | ... V57: =SUM(Jan:Dec!V49) -> 0
C58: Samedi | D58: =SUM(Jan:Dec!D50) -> 0 | E58: =SUM(Jan:Dec!E50) -> 1 | F58: =SUM(Jan:Dec!F50) -> 0 | G58: =SUM(Jan:Dec!G50) -> 0 | H58: =SUM(Jan:Dec!H50) -> 0 | I58: =SUM(Jan:Dec!I50) -> 0 | J58: =SUM(Jan:Dec!J50) -> 0 | K58: =SUM(Jan:Dec!K50) -> 0 | ... V58: =SUM(Jan:Dec!V50) -> 0
C59: Dimanche | D59: =SUM(Jan:Dec!D51) -> 0 | E59: =SUM(Jan:Dec!E51) -> 0 | F59: =SUM(Jan:Dec!F51) -> 0 | G59: =SUM(Jan:Dec!G51) -> 0 | H59: =SUM(Jan:Dec!H51) -> 0 | I59: =SUM(Jan:Dec!I51) -> 0 | J59: =SUM(Jan:Dec!J51) -> 0 | K59: =SUM(Jan:Dec!K51) -> 0 | ... V59: =SUM(Jan:Dec!V51) -> 0
C60: Fériés | D60: =SUM(Jan:Dec!D52) -> 1 | E60: =SUM(Jan:Dec!E52) -> 0 | F60: =SUM(Jan:Dec!F52) -> 0 | G60: =SUM(Jan:Dec!G52) -> 0 | H60: =SUM(Jan:Dec!H52) -> 0 | I60: =SUM(Jan:Dec!I52) -> 0 | J60: =SUM(Jan:Dec!J52) -> 0 | K60: =SUM(Jan:Dec!K52) -> 0 | ... V60: =SUM(Jan:Dec!V52) -> 0
C61: Total | D61: =SUM(D55:D60) -> 2 | E61: =SUM(E55:E60) -> 1 | F61: =SUM(F55:F60) -> 1 | G61: =SUM(G55:G60) -> 0 | H61: =SUM(H55:H60) -> 0 | I61: =SUM(I55:I60) -> 0 | J61: =SUM(J55:J60) -> 0 | K61: =SUM(K55:K60) -> 0 | ... V61: =SUM(V55:V60) -> 0

Sheet Jui
A1: =DATE(Accueil!E1,7,1) -> 42917 | B1: DATE | C1: GRADE - NOM | D1: - | E1: - | F1: - | G1: - | H1: - | I1: - | J1: - | K1: - | L1: - | M1: - | N1: - | O1: - | P1: - | Q1: - | R1: - | S1: _ | T1: _ | U1: _ | V1: _ | W1: Récap
A2: =DATE(Accueil!E1,7,1) -> 42917 | B2: =DATE(Accueil!E1,7,1) -> 42917 | D2: =IF($C2=D$1,1,"0") -> 0 | E2: =IF($C2=E$1,1,"0") -> 0 | F2: =IF($C2=F$1,1,"0") -> 0 | G2: =IF($C2=G$1,1,"0") -> 0 | H2: =IF($C2=H$1,1,"0") -> 0 | I2: =IF($C2=I$1,1,"0") -> 0 | J2: =IF($C2=J$1,1,"0") -> 0 | K2: =IF($C2=K$1,1,"0") -> 0 | ... V2: =IF($C2=V$1,1,"0") -> 0 | W2: =SUM(D2:V2) -> 0
A3: =(A2+1) -> 42918 | B3: =(B2+1) -> 42918 | D3: =IF($C3=D$1,1,"0") -> 0 | E3: =IF($C3=E$1,1,"0") -> 0 | F3: =IF($C3=F$1,1,"0") -> 0 | G3: =IF($C3=G$1,1,"0") -> 0 | H3: =IF($C3=H$1,1,"0") -> 0 | I3: =IF($C3=I$1,1,"0") -> 0 | J3: =IF($C3=J$1,1,"0") -> 0 | K3: =IF($C3=K$1,1,"0") -> 0 | ... V3: =IF($C3=V$1,1,"0") -> 0 | W3: =SUM(D3:V3) -> 0
A4: =(A3+1) -> 42919 | B4: =(B3+1) -> 42919 | D4: =IF($C4=D$1,1,"0") -> 0 | E4: =IF($C4=E$1,1,"0") -> 0 | F4: =IF($C4=F$1,1,"0") -> 0 | G4: =IF($C4=G$1,1,"0") -> 0 | H4: =IF($C4=H$1,1,"0") -> 0 | I4: =IF($C4=I$1,1,"0") -> 0 | J4: =IF($C4=J$1,1,"0") -> 0 | K4: =IF($C4=K$1,1,"0") -> 0 | ... V4: =IF($C4=V$1,1,"0") -> 0 | W4: =SUM(D4:V4) -> 0
A5: =(A4+1) -> 42920 | B5: =(B4+1) -> 42920 | D5: =IF($C5=D$1,1,"0") -> 0 | E5: =IF($C5=E$1,1,"0") -> 0 | F5: =IF($C5=F$1,1,"0") -> 0 | G5: =IF($C5=G$1,1,"0") -> 0 | H5: =IF($C5=H$1,1,"0") -> 0 | I5: =IF($C5=I$1,1,"0") -> 0 | J5: =IF($C5=J$1,1,"0") -> 0 | K5: =IF($C5=K$1,1,"0") -> 0 | ... V5: =IF($C5=V$1,1,"0") -> 0 | W5: =SUM(D5:V5) -> 0
A6: =(A5+1) -> 42921 | B6: =(B5+1) -> 42921 | D6: =IF($C6=D$1,1,"0") -> 0 | E6: =IF($C6=E$1,1,"0") -> 0 | F6: =IF($C6=F$1,1,"0") -> 0 | G6: =IF($C6=G$1,1,"0") -> 0 | H6: =IF($C6=H$1,1,"0") -> 0 | I6: =IF($C6=I$1,1,"0") -> 0 | J6: =IF($C6=J$1,1,"0") -> 0 | K6: =IF($C6=K$1,1,"0") -> 0 | ... V6: =IF($C6=V$1,1,"0") -> 0 | W6: =SUM(D6:V6) -> 0
A7: =(A6+1) -> 42922 | B7: =(B6+1) -> 42922 | D7: =IF($C7=D$1,1,"0") -> 0 | E7: =IF($C7=E$1,1,"0") -> 0 | F7: =IF($C7=F$1,1,"0") -> 0 | G7: =IF($C7=G$1,1,"0") -> 0 | H7: =IF($C7=H$1,1,"0") -> 0 | I7: =IF($C7=I$1,1,"0") -> 0 | J7: =IF($C7=J$1,1,"0") -> 0 | K7: =IF($C7=K$1,1,"0") -> 0 | ... V7: =IF($C7=V$1,1,"0") -> 0 | W7: =SUM(D7:V7) -> 0
A8: =(A7+1) -> 42923 | B8: =(B7+1) -> 42923 | D8: =IF($C8=D$1,1,"0") -> 0 | E8: =IF($C8=E$1,1,"0") -> 0 | F8: =IF($C8=F$1,1,"0") -> 0 | G8: =IF($C8=G$1,1,"0") -> 0 | H8: =IF($C8=H$1,1,"0") -> 0 | I8: =IF($C8=I$1,1,"0") -> 0 | J8: =IF($C8=J$1,1,"0") -> 0 | K8: =IF($C8=K$1,1,"0") -> 0 | ... V8: =IF($C8=V$1,1,"0") -> 0 | W8: =SUM(D8:V8) -> 0
A9: =(A8+1) -> 42924 | B9: =(B8+1) -> 42924 | D9: =IF($C9=D$1,1,"0") -> 0 | E9: =IF($C9=E$1,1,"0") -> 0 | F9: =IF($C9=F$1,1,"0") -> 0 | G9: =IF($C9=G$1,1,"0") -> 0 | H9: =IF($C9=H$1,1,"0") -> 0 | I9: =IF($C9=I$1,1,"0") -> 0 | J9: =IF($C9=J$1,1,"0") -> 0 | K9: =IF($C9=K$1,1,"0") -> 0 | ... V9: =IF($C9=V$1,1,"0") -> 0 | W9: =SUM(D9:V9) -> 0
A10: =(A9+1) -> 42925 | B10: =(B9+1) -> 42925 | D10: =IF($C10=D$1,1,"0") -> 0 | E10: =IF($C10=E$1,1,"0") -> 0 | F10: =IF($C10=F$1,1,"0") -> 0 | G10: =IF($C10=G$1,1,"0") -> 0 | H10: =IF($C10=H$1,1,"0") -> 0 | I10: =IF($C10=I$1,1,"0") -> 0 | J10: =IF($C10=J$1,1,"0") -> 0 | K10: =IF($C10=K$1,1,"0") -> 0 | ... V10: =IF($C10=V$1,1,"0") -> 0 | W10: =SUM(D10:V10) -> 0
A11: =(A10+1) -> 42926 | B11: =(B10+1) -> 42926 | D11: =IF($C11=D$1,1,"0") -> 0 | E11: =IF($C11=E$1,1,"0") -> 0 | F11: =IF($C11=F$1,1,"0") -> 0 | G11: =IF($C11=G$1,1,"0") -> 0 | H11: =IF($C11=H$1,1,"0") -> 0 | I11: =IF($C11=I$1,1,"0") -> 0 | J11: =IF($C11=J$1,1,"0") -> 0 | K11: =IF($C11=K$1,1,"0") -> 0 | ... V11: =IF($C11=V$1,1,"0") -> 0 | W11: =SUM(D11:V11) -> 0
A12: =(A11+1) -> 42927 | B12: =(B11+1) -> 42927 | D12: =IF($C12=D$1,1,"0") -> 0 | E12: =IF($C12=E$1,1,"0") -> 0 | F12: =IF($C12=F$1,1,"0") -> 0 | G12: =IF($C12=G$1,1,"0") -> 0 | H12: =IF($C12=H$1,1,"0") -> 0 | I12: =IF($C12=I$1,1,"0") -> 0 | J12: =IF($C12=J$1,1,"0") -> 0 | K12: =IF($C12=K$1,1,"0") -> 0 | ... V12: =IF($C12=V$1,1,"0") -> 0 | W12: =SUM(D12:V12) -> 0
A13: =(A12+1) -> 42928 | B13: =(B12+1) -> 42928 | D13: =IF($C13=D$1,1,"0") -> 0 | E13: =IF($C13=E$1,1,"0") -> 0 | F13: =IF($C13=F$1,1,"0") -> 0 | G13: =IF($C13=G$1,1,"0") -> 0 | H13: =IF($C13=H$1,1,"0") -> 0 | I13: =IF($C13=I$1,1,"0") -> 0 | J13: =IF($C13=J$1,1,"0") -> 0 | K13: =IF($C13=K$1,1,"0") -> 0 | ... V13: =IF($C13=V$1,1,"0") -> 0 | W13: =SUM(D13:V13) -> 0
A14: =(A13+1) -> 42929 | B14: =(B13+1) -> 42929 | D14: =IF($C14=D$1,1,"0") -> 0 | E14: =IF($C14=E$1,1,"0") -> 0 | F14: =IF($C14=F$1,1,"0") -> 0 | G14: =IF($C14=G$1,1,"0") -> 0 | H14: =IF($C14=H$1,1,"0") -> 0 | I14: =IF($C14=I$1,1,"0") -> 0 | J14: =IF($C14=J$1,1,"0") -> 0 | K14: =IF($C14=K$1,1,"0") -> 0 | ... V14: =IF($C14=V$1,1,"0") -> 0 | W14: =SUM(D14:V14) -> 0
... A32: =(A31+1) -> 42947 | B32: =(B31+1) -> 42947 | D32: =IF($C32=D$1,1,"0") -> 0 | E32: =IF($C32=E$1,1,"0") -> 0 | F32: =IF($C32=F$1,1,"0") -> 0 | G32: =IF($C32=G$1,1,"0") -> 0 | H32: =IF($C32=H$1,1,"0") -> 0 | I32: =IF($C32=I$1,1,"0") -> 0 | J32: =IF($C32=J$1,1,"0") -> 0 | K32: =IF($C32=K$1,1,"0") -> 0 | ... V32: =IF($C32=V$1,1,"0") -> 0 | W32: =SUM(D32:V32) -> 0
D33: =SUM(D2:D32) -> 0 | E33: =SUM(E2:E32) -> 0 | F33: =SUM(F2:F32) -> 0 | G33: =SUM(G2:G32) -> 0 | H33: =SUM(H2:H32) -> 0 | I33: =SUM(I2:I32) -> 0 | J33: =SUM(J2:J32) -> 0 | K33: =SUM(K2:K32) -> 0 | ... W33: =SUM(W2:W32) -> 0
D37: =(D1) -> - | E37: =(E1) -> - | F37: =(F1) -> - | G37: =(G1) -> - | H37: =(H1) -> - | I37: =(I1) -> - | J37: =(J1) -> - | K37: =(K1) -> - | ... V37: =(V1) -> _
C38: lundi | D38: =SUMPRODUCT((WEEKDAY($A$2:$A$32,2)=ROWS($38:38))*(COUNTIF(FERIES,$A$2:$A$32)=0)*($C$2:$C$32=D$37)) -> 0 | E38: =SUMPRODUCT((WEEKDAY($A$2:$A$32,2)=ROWS($38:38))*(COUNTIF(FERIES,$A$2:$A$32)=0)*($C$2:$C$32=E$37)) -> 0 | F38: =SUMPRODUCT((WEEKDAY($A$2:$A$32,2)=ROWS($38:38))*(COUNTIF(FERIES,$A$2:$A$32)=0)*($C$2:$C$32=F$37)) -> 0 | G38: =SUMPRODUCT((WEEKDAY($A$2:$A$32,2)=ROWS($38:38))*(COUNTIF(FERIES,$A$2:$A$32)=0)*($C$2:$C$32=G$37)) -> 0 | H38: =SUMPRODUCT((WEEKDAY($A$2:$A$32,2)=ROWS($38:38))*(COUNTIF(FERIES,$A$2:$A$32)=0)*($C$2:$C$32=H$37)) -> 0 | I38: =SUMPRODUCT((WEEKDAY($A$2:$A$32,2)=ROWS($38:38))*(COUNTIF(FERIES,$A$2:$A$32)=0)*($C$2:$C$32=I$37)) -> 0 | J38: =SUMPRODUCT((WEEKDAY($A$2:$A$32,2)=ROWS($38:38))*(COUNTIF(FERIES,$A$2:$A$32)=0)*($C$2:$C$32=J$37)) -> 0 | K38: =SUMPRODUCT((WEEKDAY($A$2:$A$32,2)=ROWS($38:38))*(COUNTIF(FERIES,$A$2:$A$32)=0)*($C$2:$C$32=K$37)) -> 0 | ... V38: =SUMPRODUCT((WEEKDAY($A$2:$A$32,2)=ROWS($38:38))*(COUNTIF(FERIES,$A$2:$A$32)=0)*($C$2:$C$32=V$37)) -> 0
C39: mardi | D39: =SUMPRODUCT((WEEKDAY($A$2:$A$32,2)=ROWS($38:39))*(COUNTIF(FERIES,$A$2:$A$32)=0)*($C$2:$C$32=D$37)) -> 0 | E39: =SUMPRODUCT((WEEKDAY($A$2:$A$32,2)=ROWS($38:39))*(COUNTIF(FERIES,$A$2:$A$32)=0)*($C$2:$C$32=E$37)) -> 0 | F39: =SUMPRODUCT((WEEKDAY($A$2:$A$32,2)=ROWS($38:39))*(COUNTIF(FERIES,$A$2:$A$32)=0)*($C$2:$C$32=F$37)) -> 0 | G39: =SUMPRODUCT((WEEKDAY($A$2:$A$32,2)=ROWS($38:39))*(COUNTIF(FERIES,$A$2:$A$32)=0)*($C$2:$C$32=G$37)) -> 0 | H39: =SUMPRODUCT((WEEKDAY($A$2:$A$32,2)=ROWS($38:39))*(COUNTIF(FERIES,$A$2:$A$32)=0)*($C$2:$C$32=H$37)) -> 0 | I39: =SUMPRODUCT((WEEKDAY($A$2:$A$32,2)=ROWS($38:39))*(COUNTIF(FERIES,$A$2:$A$32)=0)*($C$2:$C$32=I$37)) -> 0 | J39: =SUMPRODUCT((WEEKDAY($A$2:$A$32,2)=ROWS($38:39))*(COUNTIF(FERIES,$A$2:$A$32)=0)*($C$2:$C$32=J$37)) -> 0 | K39: =SUMPRODUCT((WEEKDAY($A$2:$A$32,2)=ROWS($38:39))*(COUNTIF(FERIES,$A$2:$A$32)=0)*($C$2:$C$32=K$37)) -> 0 | ... V39: =SUMPRODUCT((WEEKDAY($A$2:$A$32,2)=ROWS($38:39))*(COUNTIF(FERIES,$A$2:$A$32)=0)*($C$2:$C$32=V$37)) -> 0
C40: mercredi | D40: =SUMPRODUCT((WEEKDAY($A$2:$A$32,2)=ROWS($38:40))*(COUNTIF(FERIES,$A$2:$A$32)=0)*($C$2:$C$32=D$37)) -> 0 | E40: =SUMPRODUCT((WEEKDAY($A$2:$A$32,2)=ROWS($38:40))*(COUNTIF(FERIES,$A$2:$A$32)=0)*($C$2:$C$32=E$37)) -> 0 | F40: =SUMPRODUCT((WEEKDAY($A$2:$A$32,2)=ROWS($38:40))*(COUNTIF(FERIES,$A$2:$A$32)=0)*($C$2:$C$32=F$37)) -> 0 | G40: =SUMPRODUCT((WEEKDAY($A$2:$A$32,2)=ROWS($38:40))*(COUNTIF(FERIES,$A$2:$A$32)=0)*($C$2:$C$32=G$37)) -> 0 | H40: =SUMPRODUCT((WEEKDAY($A$2:$A$32,2)=ROWS($38:40))*(COUNTIF(FERIES,$A$2:$A$32)=0)*($C$2:$C$32=H$37)) -> 0 | I40: =SUMPRODUCT((WEEKDAY($A$2:$A$32,2)=ROWS($38:40))*(COUNTIF(FERIES,$A$2:$A$32)=0)*($C$2:$C$32=I$37)) -> 0 | J40: =SUMPRODUCT((WEEKDAY($A$2:$A$32,2)=ROWS($38:40))*(COUNTIF(FERIES,$A$2:$A$32)=0)*($C$2:$C$32=J$37)) -> 0 | K40: =SUMPRODUCT((WEEKDAY($A$2:$A$32,2)=ROWS($38:40))*(COUNTIF(FERIES,$A$2:$A$32)=0)*($C$2:$C$32=K$37)) -> 0 | ... V40: =SUMPRODUCT((WEEKDAY($A$2:$A$32,2)=ROWS($38:40))*(COUNTIF(FERIES,$A$2:$A$32)=0)*($C$2:$C$32=V$37)) -> 0
C41: jeudi | D41: =SUMPRODUCT((WEEKDAY($A$2:$A$32,2)=ROWS($38:41))*(COUNTIF(FERIES,$A$2:$A$32)=0)*($C$2:$C$32=D$37)) -> 0 | E41: =SUMPRODUCT((WEEKDAY($A$2:$A$32,2)=ROWS($38:41))*(COUNTIF(FERIES,$A$2:$A$32)=0)*($C$2:$C$32=E$37)) -> 0 | F41: =SUMPRODUCT((WEEKDAY($A$2:$A$32,2)=ROWS($38:41))*(COUNTIF(FERIES,$A$2:$A$32)=0)*($C$2:$C$32=F$37)) -> 0 | G41: =SUMPRODUCT((WEEKDAY($A$2:$A$32,2)=ROWS($38:41))*(COUNTIF(FERIES,$A$2:$A$32)=0)*($C$2:$C$32=G$37)) -> 0 | H41: =SUMPRODUCT((WEEKDAY($A$2:$A$32,2)=ROWS($38:41))*(COUNTIF(FERIES,$A$2:$A$32)=0)*($C$2:$C$32=H$37)) -> 0 | I41: =SUMPRODUCT((WEEKDAY($A$2:$A$32,2)=ROWS($38:41))*(COUNTIF(FERIES,$A$2:$A$32)=0)*($C$2:$C$32=I$37)) -> 0 | J41: =SUMPRODUCT((WEEKDAY($A$2:$A$32,2)=ROWS($38:41))*(COUNTIF(FERIES,$A$2:$A$32)=0)*($C$2:$C$32=J$37)) -> 0 | K41: =SUMPRODUCT((WEEKDAY($A$2:$A$32,2)=ROWS($38:41))*(COUNTIF(FERIES,$A$2:$A$32)=0)*($C$2:$C$32=K$37)) -> 0 | ... V41: =SUMPRODUCT((WEEKDAY($A$2:$A$32,2)=ROWS($38:41))*(COUNTIF(FERIES,$A$2:$A$32)=0)*($C$2:$C$32=V$37)) -> 0
C42: vendredi | D42: =SUMPRODUCT((WEEKDAY($A$2:$A$32,2)=ROWS($38:42))*(COUNTIF(FERIES,$A$2:$A$32)=0)*($C$2:$C$32=D$37)) -> 0 | E42: =SUMPRODUCT((WEEKDAY($A$2:$A$32,2)=ROWS($38:42))*(COUNTIF(FERIES,$A$2:$A$32)=0)*($C$2:$C$32=E$37)) -> 0 | F42: =SUMPRODUCT((WEEKDAY($A$2:$A$32,2)=ROWS($38:42))*(COUNTIF(FERIES,$A$2:$A$32)=0)*($C$2:$C$32=F$37)) -> 0 | G42: =SUMPRODUCT((WEEKDAY($A$2:$A$32,2)=ROWS($38:42))*(COUNTIF(FERIES,$A$2:$A$32)=0)*($C$2:$C$32=G$37)) -> 0 | H42: =SUMPRODUCT((WEEKDAY($A$2:$A$32,2)=ROWS($38:42))*(COUNTIF(FERIES,$A$2:$A$32)=0)*($C$2:$C$32=H$37)) -> 0 | I42: =SUMPRODUCT((WEEKDAY($A$2:$A$32,2)=ROWS($38:42))*(COUNTIF(FERIES,$A$2:$A$32)=0)*($C$2:$C$32=I$37)) -> 0 | J42: =SUMPRODUCT((WEEKDAY($A$2:$A$32,2)=ROWS($38:42))*(COUNTIF(FERIES,$A$2:$A$32)=0)*($C$2:$C$32=J$37)) -> 0 | K42: =SUMPRODUCT((WEEKDAY($A$2:$A$32,2)=ROWS($38:42))*(COUNTIF(FERIES,$A$2:$A$32)=0)*($C$2:$C$32=K$37)) -> 0 | ... V42: =SUMPRODUCT((WEEKDAY($A$2:$A$32,2)=ROWS($38:42))*(COUNTIF(FERIES,$A$2:$A$32)=0)*($C$2:$C$32=V$37)) -> 0
C43: samedi | D43: =SUMPRODUCT((WEEKDAY($A$2:$A$32,2)=ROWS($38:43))*(COUNTIF(FERIES,$A$2:$A$32)=0)*($C$2:$C$32=D$37)) -> 0 | E43: =SUMPRODUCT((WEEKDAY($A$2:$A$32,2)=ROWS($38:43))*(COUNTIF(FERIES,$A$2:$A$32)=0)*($C$2:$C$32=E$37)) -> 0 | F43: =SUMPRODUCT((WEEKDAY($A$2:$A$32,2)=ROWS($38:43))*(COUNTIF(FERIES,$A$2:$A$32)=0)*($C$2:$C$32=F$37)) -> 0 | G43: =SUMPRODUCT((WEEKDAY($A$2:$A$32,2)=ROWS($38:43))*(COUNTIF(FERIES,$A$2:$A$32)=0)*($C$2:$C$32=G$37)) -> 0 | H43: =SUMPRODUCT((WEEKDAY($A$2:$A$32,2)=ROWS($38:43))*(COUNTIF(FERIES,$A$2:$A$32)=0)*($C$2:$C$32=H$37)) -> 0 | I43: =SUMPRODUCT((WEEKDAY($A$2:$A$32,2)=ROWS($38:43))*(COUNTIF(FERIES,$A$2:$A$32)=0)*($C$2:$C$32=I$37)) -> 0 | J43: =SUMPRODUCT((WEEKDAY($A$2:$A$32,2)=ROWS($38:43))*(COUNTIF(FERIES,$A$2:$A$32)=0)*($C$2:$C$32=J$37)) -> 0 | K43: =SUMPRODUCT((WEEKDAY($A$2:$A$32,2)=ROWS($38:43))*(COUNTIF(FERIES,$A$2:$A$32)=0)*($C$2:$C$32=K$37)) -> 0 | ... V43: =SUMPRODUCT((WEEKDAY($A$2:$A$32,2)=ROWS($38:43))*(COUNTIF(FERIES,$A$2:$A$32)=0)*($C$2:$C$32=V$37)) -> 0
C44: dimanche | D44: =SUMPRODUCT((WEEKDAY($A$2:$A$32,2)=ROWS($38:44))*(COUNTIF(FERIES,$A$2:$A$32)=0)*($C$2:$C$32=D$37)) -> 0 | E44: =SUMPRODUCT((WEEKDAY($A$2:$A$32,2)=ROWS($38:44))*(COUNTIF(FERIES,$A$2:$A$32)=0)*($C$2:$C$32=E$37)) -> 0 | F44: =SUMPRODUCT((WEEKDAY($A$2:$A$32,2)=ROWS($38:44))*(COUNTIF(FERIES,$A$2:$A$32)=0)*($C$2:$C$32=F$37)) -> 0 | G44: =SUMPRODUCT((WEEKDAY($A$2:$A$32,2)=ROWS($38:44))*(COUNTIF(FERIES,$A$2:$A$32)=0)*($C$2:$C$32=G$37)) -> 0 | H44: =SUMPRODUCT((WEEKDAY($A$2:$A$32,2)=ROWS($38:44))*(COUNTIF(FERIES,$A$2:$A$32)=0)*($C$2:$C$32=H$37)) -> 0 | I44: =SUMPRODUCT((WEEKDAY($A$2:$A$32,2)=ROWS($38:44))*(COUNTIF(FERIES,$A$2:$A$32)=0)*($C$2:$C$32=I$37)) -> 0 | J44: =SUMPRODUCT((WEEKDAY($A$2:$A$32,2)=ROWS($38:44))*(COUNTIF(FERIES,$A$2:$A$32)=0)*($C$2:$C$32=J$37)) -> 0 | K44: =SUMPRODUCT((WEEKDAY($A$2:$A$32,2)=ROWS($38:44))*(COUNTIF(FERIES,$A$2:$A$32)=0)*($C$2:$C$32=K$37)) -> 0 | ... V44: =SUMPRODUCT((WEEKDAY($A$2:$A$32,2)=ROWS($38:44))*(COUNTIF(FERIES,$A$2:$A$32)=0)*($C$2:$C$32=V$37)) -> 0
C45: FERIES | D45: =SUMPRODUCT(COUNTIF(FERIES,$A$2:$A$32)*($C$2:$C$32=D37)) -> 0 | E45: =SUMPRODUCT(COUNTIF(FERIES,$A$2:$A$32)*($C$2:$C$32=E37)) -> 0 | F45: =SUMPRODUCT(COUNTIF(FERIES,$A$2:$A$32)*($C$2:$C$32=F37)) -> 0 | G45: =SUMPRODUCT(COUNTIF(FERIES,$A$2:$A$32)*($C$2:$C$32=G37)) -> 0 | H45: =SUMPRODUCT(COUNTIF(FERIES,$A$2:$A$32)*($C$2:$C$32=H37)) -> 0 | I45: =SUMPRODUCT(COUNTIF(FERIES,$A$2:$A$32)*($C$2:$C$32=I37)) -> 0 | J45: =SUMPRODUCT(COUNTIF(FERIES,$A$2:$A$32)*($C$2:$C$32=J37)) -> 0 | K45: =SUMPRODUCT(COUNTIF(FERIES,$A$2:$A$32)*($C$2:$C$32=K37)) -> 0 | ... V45: =SUMPRODUCT(COUNTIF(FERIES,$A$2:$A$32)*($C$2:$C$32=V37)) -> 0
C47: Lun/Mar | D47: =SUM(D38:D39) -> 0 | E47: =SUM(E38:E39) -> 0 | F47: =SUM(F38:F39) -> 0 | G47: =SUM(G38:G39) -> 0 | H47: =SUM(H38:H39) -> 0 | I47: =SUM(I38:I39) -> 0 | J47: =SUM(J38:J39) -> 0 | K47: =SUM(K38:K39) -> 0 | ... V47: =SUM(V38:V39) -> 0
C48: Mer/Ven | D48: =SUM(D40+D42) -> 0 | E48: =SUM(E40+E42) -> 0 | F48: =SUM(F40+F42) -> 0 | G48: =SUM(G40+G42) -> 0 | H48: =SUM(H40+H42) -> 0 | I48: =SUM(I40+I42) -> 0 | J48: =SUM(J40+J42) -> 0 | K48: =SUM(K40+K42) -> 0 | ... V48: =SUM(V40+V42) -> 0
C49: jeudi | D49: =SUM(D41) -> 0 | E49: =SUM(E41) -> 0 | F49: =SUM(F41) -> 0 | G49: =SUM(G41) -> 0 | H49: =SUM(H41) -> 0 | I49: =SUM(I41) -> 0 | J49: =SUM(J41) -> 0 | K49: =SUM(K41) -> 0 | ... V49: =SUM(V41) -> 0
C50: Samedi | D50: =SUM(D43) -> 0 | E50: =SUM(E43) -> 0 | F50: =SUM(F43) -> 0 | G50: =SUM(G43) -> 0 | H50: =SUM(H43) -> 0 | I50: =SUM(I43) -> 0 | J50: =SUM(J43) -> 0 | K50: =SUM(K43) -> 0 | ... V50: =SUM(V43) -> 0
C51: Dimanche | D51: =SUM(D44) -> 0 | E51: =SUM(E44) -> 0 | F51: =SUM(F44) -> 0 | G51: =SUM(G44) -> 0 | H51: =SUM(H44) -> 0 | I51: =SUM(I44) -> 0 | J51: =SUM(J44) -> 0 | K51: =SUM(K44) -> 0 | ... V51: =SUM(V44) -> 0
C52: Fériés | D52: =SUM(D45) -> 0 | E52: =SUM(E45) -> 0 | F52: =SUM(F45) -> 0 | G52: =SUM(G45) -> 0 | H52: =SUM(H45) -> 0 | I52: =SUM(I45) -> 0 | J52: =SUM(J45) -> 0 | K52: =SUM(K45) -> 0 | ... V52: =SUM(V45) -> 0
C55: Lun/Mar | D55: =SUM(Jan:Dec!D47) -> 0 | E55: =SUM(Jan:Dec!E47) -> 0 | F55: =SUM(Jan:Dec!F47) -> 1 | G55: =SUM(Jan:Dec!G47) -> 0 | H55: =SUM(Jan:Dec!H47) -> 0 | I55: =SUM(Jan:Dec!I47) -> 0 | J55: =SUM(Jan:Dec!J47) -> 0 | K55: =SUM(Jan:Dec!K47) -> 0 | ... V55: =SUM(Jan:Dec!V47) -> 0
C56: Mer/Ven | D56: =SUM(Jan:Dec!D48) -> 1 | E56: =SUM(Jan:Dec!E48) -> 0 | F56: =SUM(Jan:Dec!F48) -> 0 | G56: =SUM(Jan:Dec!G48) -> 0 | H56: =SUM(Jan:Dec!H48) -> 0 | I56: =SUM(Jan:Dec!I48) -> 0 | J56: =SUM(Jan:Dec!J48) -> 0 | K56: =SUM(Jan:Dec!K48) -> 0 | ... V56: =SUM(Jan:Dec!V48) -> 0
C57: jeudi | D57: =SUM(Jan:Dec!D49) -> 0 | E57: =SUM(Jan:Dec!E49) -> 0 | F57: =SUM(Jan:Dec!F49) -> 0 | G57: =SUM(Jan:Dec!G49) -> 0 | H57: =SUM(Jan:Dec!H49) -> 0 | I57: =SUM(Jan:Dec!I49) -> 0 | J57: =SUM(Jan:Dec!J49) -> 0 | K57: =SUM(Jan:Dec!K49) -> 0 | ... V57: =SUM(Jan:Dec!V49) -> 0
C58: Samedi | D58: =SUM(Jan:Dec!D50) -> 0 | E58: =SUM(Jan:Dec!E50) -> 1 | F58: =SUM(Jan:Dec!F50) -> 0 | G58: =SUM(Jan:Dec!G50) -> 0 | H58: =SUM(Jan:Dec!H50) -> 0 | I58: =SUM(Jan:Dec!I50) -> 0 | J58: =SUM(Jan:Dec!J50) -> 0 | K58: =SUM(Jan:Dec!K50) -> 0 | ... V58: =SUM(Jan:Dec!V50) -> 0
C59: Dimanche | D59: =SUM(Jan:Dec!D51) -> 0 | E59: =SUM(Jan:Dec!E51) -> 0 | F59: =SUM(Jan:Dec!F51) -> 0 | G59: =SUM(Jan:Dec!G51) -> 0 | H59: =SUM(Jan:Dec!H51) -> 0 | I59: =SUM(Jan:Dec!I51) -> 0 | J59: =SUM(Jan:Dec!J51) -> 0 | K59: =SUM(Jan:Dec!K51) -> 0 | ... V59: =SUM(Jan:Dec!V51) -> 0
C60: Fériés | D60: =SUM(Jan:Dec!D52) -> 1 | E60: =SUM(Jan:Dec!E52) -> 0 | F60: =SUM(Jan:Dec!F52) -> 0 | G60: =SUM(Jan:Dec!G52) -> 0 | H60: =SUM(Jan:Dec!H52) -> 0 | I60: =SUM(Jan:Dec!I52) -> 0 | J60: =SUM(Jan:Dec!J52) -> 0 | K60: =SUM(Jan:Dec!K52) -> 0 | ... V60: =SUM(Jan:Dec!V52) -> 0
C61: Total | D61: =SUM(D55:D60) -> 2 | E61: =SUM(E55:E60) -> 1 | F61: =SUM(F55:F60) -> 1 | G61: =SUM(G55:G60) -> 0 | H61: =SUM(H55:H60) -> 0 | I61: =SUM(I55:I60) -> 0 | J61: =SUM(J55:J60) -> 0 | K61: =SUM(K55:K60) -> 0 | ... V61: =SUM(V55:V60) -> 0

Sheet Aou
A1: =DATE(Accueil!E1,8,1) -> 42948 | B1: DATE | C1: GRADE - NOM | D1: - | E1: - | F1: - | G1: - | H1: - | I1: - | J1: - | K1: - | L1: - | M1: - | N1: - | O1: - | P1: - | Q1: - | R1: - | S1: _ | T1: _ | U1: _ | V1: _ | W1: Récap
A2: =DATE(Accueil!E1,8,1) -> 42948 | B2: =DATE(Accueil!E1,8,1) -> 42948 | D2: =IF($C2=D$1,1,"0") -> 0 | E2: =IF($C2=E$1,1,"0") -> 0 | F2: =IF($C2=F$1,1,"0") -> 0 | G2: =IF($C2=G$1,1,"0") -> 0 | H2: =IF($C2=H$1,1,"0") -> 0 | I2: =IF($C2=I$1,1,"0") -> 0 | J2: =IF($C2=J$1,1,"0") -> 0 | K2: =IF($C2=K$1,1,"0") -> 0 | ... V2: =IF($C2=V$1,1,"0") -> 0 | W2: =SUM(D2:V2) -> 0
A3: =(A2+1) -> 42949 | B3: =(B2+1) -> 42949 | D3: =IF($C3=D$1,1,"0") -> 0 | E3: =IF($C3=E$1,1,"0") -> 0 | F3: =IF($C3=F$1,1,"0") -> 0 | G3: =IF($C3=G$1,1,"0") -> 0 | H3: =IF($C3=H$1,1,"0") -> 0 | I3: =IF($C3=I$1,1,"0") -> 0 | J3: =IF($C3=J$1,1,"0") -> 0 | K3: =IF($C3=K$1,1,"0") -> 0 | ... V3: =IF($C3=V$1,1,"0") -> 0 | W3: =SUM(D3:V3) -> 0
A4: =(A3+1) -> 42950 | B4: =(B3+1) -> 42950 | D4: =IF($C4=D$1,1,"0") -> 0 | E4: =IF($C4=E$1,1,"0") -> 0 | F4: =IF($C4=F$1,1,"0") -> 0 | G4: =IF($C4=G$1,1,"0") -> 0 | H4: =IF($C4=H$1,1,"0") -> 0 | I4: =IF($C4=I$1,1,"0") -> 0 | J4: =IF($C4=J$1,1,"0") -> 0 | K4: =IF($C4=K$1,1,"0") -> 0 | ... V4: =IF($C4=V$1,1,"0") -> 0 | W4: =SUM(D4:V4) -> 0
A5: =(A4+1) -> 42951 | B5: =(B4+1) -> 42951 | D5: =IF($C5=D$1,1,"0") -> 0 | E5: =IF($C5=E$1,1,"0") -> 0 | F5: =IF($C5=F$1,1,"0") -> 0 | G5: =IF($C5=G$1,1,"0") -> 0 | H5: =IF($C5=H$1,1,"0") -> 0 | I5: =IF($C5=I$1,1,"0") -> 0 | J5: =IF($C5=J$1,1,"0") -> 0 | K5: =IF($C5=K$1,1,"0") -> 0 | ... V5: =IF($C5=V$1,1,"0") -> 0 | W5: =SUM(D5:V5) -> 0
A6: =(A5+1) -> 42952 | B6: =(B5+1) -> 42952 | D6: =IF($C6=D$1,1,"0") -> 0 | E6: =IF($C6=E$1,1,"0") -> 0 | F6: =IF($C6=F$1,1,"0") -> 0 | G6: =IF($C6=G$1,1,"0") -> 0 | H6: =IF($C6=H$1,1,"0") -> 0 | I6: =IF($C6=I$1,1,"0") -> 0 | J6: =IF($C6=J$1,1,"0") -> 0 | K6: =IF($C6=K$1,1,"0") -> 0 | ... V6: =IF($C6=V$1,1,"0") -> 0 | W6: =SUM(D6:V6) -> 0
A7: =(A6+1) -> 42953 | B7: =(B6+1) -> 42953 | D7: =IF($C7=D$1,1,"0") -> 0 | E7: =IF($C7=E$1,1,"0") -> 0 | F7: =IF($C7=F$1,1,"0") -> 0 | G7: =IF($C7=G$1,1,"0") -> 0 | H7: =IF($C7=H$1,1,"0") -> 0 | I7: =IF($C7=I$1,1,"0") -> 0 | J7: =IF($C7=J$1,1,"0") -> 0 | K7: =IF($C7=K$1,1,"0") -> 0 | ... V7: =IF($C7=V$1,1,"0") -> 0 | W7: =SUM(D7:V7) -> 0
A8: =(A7+1) -> 42954 | B8: =(B7+1) -> 42954 | D8: =IF($C8=D$1,1,"0") -> 0 | E8: =IF($C8=E$1,1,"0") -> 0 | F8: =IF($C8=F$1,1,"0") -> 0 | G8: =IF($C8=G$1,1,"0") -> 0 | H8: =IF($C8=H$1,1,"0") -> 0 | I8: =IF($C8=I$1,1,"0") -> 0 | J8: =IF($C8=J$1,1,"0") -> 0 | K8: =IF($C8=K$1,1,"0") -> 0 | ... V8: =IF($C8=V$1,1,"0") -> 0 | W8: =SUM(D8:V8) -> 0
A9: =(A8+1) -> 42955 | B9: =(B8+1) -> 42955 | D9: =IF($C9=D$1,1,"0") -> 0 | E9: =IF($C9=E$1,1,"0") -> 0 | F9: =IF($C9=F$1,1,"0") -> 0 | G9: =IF($C9=G$1,1,"0") -> 0 | H9: =IF($C9=H$1,1,"0") -> 0 | I9: =IF($C9=I$1,1,"0") -> 0 | J9: =IF($C9=J$1,1,"0") -> 0 | K9: =IF($C9=K$1,1,"0") -> 0 | ... V9: =IF($C9=V$1,1,"0") -> 0 | W9: =SUM(D9:V9) -> 0
A10: =(A9+1) -> 42956 | B10: =(B9+1) -> 42956 | D10: =IF($C10=D$1,1,"0") -> 0 | E10: =IF($C10=E$1,1,"0") -> 0 | F10: =IF($C10=F$1,1,"0") -> 0 | G10: =IF($C10=G$1,1,"0") -> 0 | H10: =IF($C10=H$1,1,"0") -> 0 | I10: =IF($C10=I$1,1,"0") -> 0 | J10: =IF($C10=J$1,1,"0") -> 0 | K10: =IF($C10=K$1,1,"0") -> 0 | ... V10: =IF($C10=V$1,1,"0") -> 0 | W10: =SUM(D10:V10) -> 0
A11: =(A10+1) -> 42957 | B11: =(B10+1) -> 42957 | D11: =IF($C11=D$1,1,"0") -> 0 | E11: =IF($C11=E$1,1,"0") -> 0 | F11: =IF($C11=F$1,1,"0") -> 0 | G11: =IF($C11=G$1,1,"0") -> 0 | H11: =IF($C11=H$1,1,"0") -> 0 | I11: =IF($C11=I$1,1,"0") -> 0 | J11: =IF($C11=J$1,1,"0") -> 0 | K11: =IF($C11=K$1,1,"0") -> 0 | ... V11: =IF($C11=V$1,1,"0") -> 0 | W11: =SUM(D11:V11) -> 0
A12: =(A11+1) -> 42958 | B12: =(B11+1) -> 42958 | D12: =IF($C12=D$1,1,"0") -> 0 | E12: =IF($C12=E$1,1,"0") -> 0 | F12: =IF($C12=F$1,1,"0") -> 0 | G12: =IF($C12=G$1,1,"0") -> 0 | H12: =IF($C12=H$1,1,"0") -> 0 | I12: =IF($C12=I$1,1,"0") -> 0 | J12: =IF($C12=J$1,1,"0") -> 0 | K12: =IF($C12=K$1,1,"0") -> 0 | ... V12: =IF($C12=V$1,1,"0") -> 0 | W12: =SUM(D12:V12) -> 0
A13: =(A12+1) -> 42959 | B13: =(B12+1) -> 42959 | D13: =IF($C13=D$1,1,"0") -> 0 | E13: =IF($C13=E$1,1,"0") -> 0 | F13: =IF($C13=F$1,1,"0") -> 0 | G13: =IF($C13=G$1,1,"0") -> 0 | H13: =IF($C13=H$1,1,"0") -> 0 | I13: =IF($C13=I$1,1,"0") -> 0 | J13: =IF($C13=J$1,1,"0") -> 0 | K13: =IF($C13=K$1,1,"0") -> 0 | ... V13: =IF($C13=V$1,1,"0") -> 0 | W13: =SUM(D13:V13) -> 0
A14: =(A13+1) -> 42960 | B14: =(B13+1) -> 42960 | D14: =IF($C14=D$1,1,"0") -> 0 | E14: =IF($C14=E$1,1,"0") -> 0 | F14: =IF($C14=F$1,1,"0") -> 0 | G14: =IF($C14=G$1,1,"0") -> 0 | H14: =IF($C14=H$1,1,"0") -> 0 | I14: =IF($C14=I$1,1,"0") -> 0 | J14: =IF($C14=J$1,1,"0") -> 0 | K14: =IF($C14=K$1,1,"0") -> 0 | ... V14: =IF($C14=V$1,1,"0") -> 0 | W14: =SUM(D14:V14) -> 0
... A32: =(A31+1) -> 42978 | B32: =(B31+1) -> 42978 | D32: =IF($C32=D$1,1,"0") -> 0 | E32: =IF($C32=E$1,1,"0") -> 0 | F32: =IF($C32=F$1,1,"0") -> 0 | G32: =IF($C32=G$1,1,"0") -> 0 | H32: =IF($C32=H$1,1,"0") -> 0 | I32: =IF($C32=I$1,1,"0") -> 0 | J32: =IF($C32=J$1,1,"0") -> 0 | K32: =IF($C32=K$1,1,"0") -> 0 | ... V32: =IF($C32=V$1,1,"0") -> 0 | W32: =SUM(D32:V32) -> 0
D33: =SUM(D2:D32) -> 0 | E33: =SUM(E2:E32) -> 0 | F33: =SUM(F2:F32) -> 0 | G33: =SUM(G2:G32) -> 0 | H33: =SUM(H2:H32) -> 0 | I33: =SUM(I2:I32) -> 0 | J33: =SUM(J2:J32) -> 0 | K33: =SUM(K2:K32) -> 0 | ... W33: =SUM(W2:W32) -> 0
D37: =(D1) -> - | E37: =(E1) -> - | F37: =(F1) -> - | G37: =(G1) -> - | H37: =(H1) -> - | I37: =(I1) -> - | J37: =(J1) -> - | K37: =(K1) -> - | ... V37: =(V1) -> _
C38: lundi | D38: =SUMPRODUCT((WEEKDAY($A$2:$A$32,2)=ROWS($38:38))*(COUNTIF(FERIES,$A$2:$A$32)=0)*($C$2:$C$32=D$37)) -> 0 | E38: =SUMPRODUCT((WEEKDAY($A$2:$A$32,2)=ROWS($38:38))*(COUNTIF(FERIES,$A$2:$A$32)=0)*($C$2:$C$32=E$37)) -> 0 | F38: =SUMPRODUCT((WEEKDAY($A$2:$A$32,2)=ROWS($38:38))*(COUNTIF(FERIES,$A$2:$A$32)=0)*($C$2:$C$32=F$37)) -> 0 | G38: =SUMPRODUCT((WEEKDAY($A$2:$A$32,2)=ROWS($38:38))*(COUNTIF(FERIES,$A$2:$A$32)=0)*($C$2:$C$32=G$37)) -> 0 | H38: =SUMPRODUCT((WEEKDAY($A$2:$A$32,2)=ROWS($38:38))*(COUNTIF(FERIES,$A$2:$A$32)=0)*($C$2:$C$32=H$37)) -> 0 | I38: =SUMPRODUCT((WEEKDAY($A$2:$A$32,2)=ROWS($38:38))*(COUNTIF(FERIES,$A$2:$A$32)=0)*($C$2:$C$32=I$37)) -> 0 | J38: =SUMPRODUCT((WEEKDAY($A$2:$A$32,2)=ROWS($38:38))*(COUNTIF(FERIES,$A$2:$A$32)=0)*($C$2:$C$32=J$37)) -> 0 | K38: =SUMPRODUCT((WEEKDAY($A$2:$A$32,2)=ROWS($38:38))*(COUNTIF(FERIES,$A$2:$A$32)=0)*($C$2:$C$32=K$37)) -> 0 | ... V38: =SUMPRODUCT((WEEKDAY($A$2:$A$32,2)=ROWS($38:38))*(COUNTIF(FERIES,$A$2:$A$32)=0)*($C$2:$C$32=V$37)) -> 0
C39: mardi | D39: =SUMPRODUCT((WEEKDAY($A$2:$A$32,2)=ROWS($38:39))*(COUNTIF(FERIES,$A$2:$A$32)=0)*($C$2:$C$32=D$37)) -> 0 | E39: =SUMPRODUCT((WEEKDAY($A$2:$A$32,2)=ROWS($38:39))*(COUNTIF(FERIES,$A$2:$A$32)=0)*($C$2:$C$32=E$37)) -> 0 | F39: =SUMPRODUCT((WEEKDAY($A$2:$A$32,2)=ROWS($38:39))*(COUNTIF(FERIES,$A$2:$A$32)=0)*($C$2:$C$32=F$37)) -> 0 | G39: =SUMPRODUCT((WEEKDAY($A$2:$A$32,2)=ROWS($38:39))*(COUNTIF(FERIES,$A$2:$A$32)=0)*($C$2:$C$32=G$37)) -> 0 | H39: =SUMPRODUCT((WEEKDAY($A$2:$A$32,2)=ROWS($38:39))*(COUNTIF(FERIES,$A$2:$A$32)=0)*($C$2:$C$32=H$37)) -> 0 | I39: =SUMPRODUCT((WEEKDAY($A$2:$A$32,2)=ROWS($38:39))*(COUNTIF(FERIES,$A$2:$A$32)=0)*($C$2:$C$32=I$37)) -> 0 | J39: =SUMPRODUCT((WEEKDAY($A$2:$A$32,2)=ROWS($38:39))*(COUNTIF(FERIES,$A$2:$A$32)=0)*($C$2:$C$32=J$37)) -> 0 | K39: =SUMPRODUCT((WEEKDAY($A$2:$A$32,2)=ROWS($38:39))*(COUNTIF(FERIES,$A$2:$A$32)=0)*($C$2:$C$32=K$37)) -> 0 | ... V39: =SUMPRODUCT((WEEKDAY($A$2:$A$32,2)=ROWS($38:39))*(COUNTIF(FERIES,$A$2:$A$32)=0)*($C$2:$C$32=V$37)) -> 0
C40: mercredi | D40: =SUMPRODUCT((WEEKDAY($A$2:$A$32,2)=ROWS($38:40))*(COUNTIF(FERIES,$A$2:$A$32)=0)*($C$2:$C$32=D$37)) -> 0 | E40: =SUMPRODUCT((WEEKDAY($A$2:$A$32,2)=ROWS($38:40))*(COUNTIF(FERIES,$A$2:$A$32)=0)*($C$2:$C$32=E$37)) -> 0 | F40: =SUMPRODUCT((WEEKDAY($A$2:$A$32,2)=ROWS($38:40))*(COUNTIF(FERIES,$A$2:$A$32)=0)*($C$2:$C$32=F$37)) -> 0 | G40: =SUMPRODUCT((WEEKDAY($A$2:$A$32,2)=ROWS($38:40))*(COUNTIF(FERIES,$A$2:$A$32)=0)*($C$2:$C$32=G$37)) -> 0 | H40: =SUMPRODUCT((WEEKDAY($A$2:$A$32,2)=ROWS($38:40))*(COUNTIF(FERIES,$A$2:$A$32)=0)*($C$2:$C$32=H$37)) -> 0 | I40: =SUMPRODUCT((WEEKDAY($A$2:$A$32,2)=ROWS($38:40))*(COUNTIF(FERIES,$A$2:$A$32)=0)*($C$2:$C$32=I$37)) -> 0 | J40: =SUMPRODUCT((WEEKDAY($A$2:$A$32,2)=ROWS($38:40))*(COUNTIF(FERIES,$A$2:$A$32)=0)*($C$2:$C$32=J$37)) -> 0 | K40: =SUMPRODUCT((WEEKDAY($A$2:$A$32,2)=ROWS($38:40))*(COUNTIF(FERIES,$A$2:$A$32)=0)*($C$2:$C$32=K$37)) -> 0 | ... V40: =SUMPRODUCT((WEEKDAY($A$2:$A$32,2)=ROWS($38:40))*(COUNTIF(FERIES,$A$2:$A$32)=0)*($C$2:$C$32=V$37)) -> 0
C41: jeudi | D41: =SUMPRODUCT((WEEKDAY($A$2:$A$32,2)=ROWS($38:41))*(COUNTIF(FERIES,$A$2:$A$32)=0)*($C$2:$C$32=D$37)) -> 0 | E41: =SUMPRODUCT((WEEKDAY($A$2:$A$32,2)=ROWS($38:41))*(COUNTIF(FERIES,$A$2:$A$32)=0)*($C$2:$C$32=E$37)) -> 0 | F41: =SUMPRODUCT((WEEKDAY($A$2:$A$32,2)=ROWS($38:41))*(COUNTIF(FERIES,$A$2:$A$32)=0)*($C$2:$C$32=F$37)) -> 0 | G41: =SUMPRODUCT((WEEKDAY($A$2:$A$32,2)=ROWS($38:41))*(COUNTIF(FERIES,$A$2:$A$32)=0)*($C$2:$C$32=G$37)) -> 0 | H41: =SUMPRODUCT((WEEKDAY($A$2:$A$32,2)=ROWS($38:41))*(COUNTIF(FERIES,$A$2:$A$32)=0)*($C$2:$C$32=H$37)) -> 0 | I41: =SUMPRODUCT((WEEKDAY($A$2:$A$32,2)=ROWS($38:41))*(COUNTIF(FERIES,$A$2:$A$32)=0)*($C$2:$C$32=I$37)) -> 0 | J41: =SUMPRODUCT((WEEKDAY($A$2:$A$32,2)=ROWS($38:41))*(COUNTIF(FERIES,$A$2:$A$32)=0)*($C$2:$C$32=J$37)) -> 0 | K41: =SUMPRODUCT((WEEKDAY($A$2:$A$32,2)=ROWS($38:41))*(COUNTIF(FERIES,$A$2:$A$32)=0)*($C$2:$C$32=K$37)) -> 0 | ... V41: =SUMPRODUCT((WEEKDAY($A$2:$A$32,2)=ROWS($38:41))*(COUNTIF(FERIES,$A$2:$A$32)=0)*($C$2:$C$32=V$37)) -> 0
C42: vendredi | D42: =SUMPRODUCT((WEEKDAY($A$2:$A$32,2)=ROWS($38:42))*(COUNTIF(FERIES,$A$2:$A$32)=0)*($C$2:$C$32=D$37)) -> 0 | E42: =SUMPRODUCT((WEEKDAY($A$2:$A$32,2)=ROWS($38:42))*(COUNTIF(FERIES,$A$2:$A$32)=0)*($C$2:$C$32=E$37)) -> 0 | F42: =SUMPRODUCT((WEEKDAY($A$2:$A$32,2)=ROWS($38:42))*(COUNTIF(FERIES,$A$2:$A$32)=0)*($C$2:$C$32=F$37)) -> 0 | G42: =SUMPRODUCT((WEEKDAY($A$2:$A$32,2)=ROWS($38:42))*(COUNTIF(FERIES,$A$2:$A$32)=0)*($C$2:$C$32=G$37)) -> 0 | H42: =SUMPRODUCT((WEEKDAY($A$2:$A$32,2)=ROWS($38:42))*(COUNTIF(FERIES,$A$2:$A$32)=0)*($C$2:$C$32=H$37)) -> 0 | I42: =SUMPRODUCT((WEEKDAY($A$2:$A$32,2)=ROWS($38:42))*(COUNTIF(FERIES,$A$2:$A$32)=0)*($C$2:$C$32=I$37)) -> 0 | J42: =SUMPRODUCT((WEEKDAY($A$2:$A$32,2)=ROWS($38:42))*(COUNTIF(FERIES,$A$2:$A$32)=0)*($C$2:$C$32=J$37)) -> 0 | K42: =SUMPRODUCT((WEEKDAY($A$2:$A$32,2)=ROWS($38:42))*(COUNTIF(FERIES,$A$2:$A$32)=0)*($C$2:$C$32=K$37)) -> 0 | ... V42: =SUMPRODUCT((WEEKDAY($A$2:$A$32,2)=ROWS($38:42))*(COUNTIF(FERIES,$A$2:$A$32)=0)*($C$2:$C$32=V$37)) -> 0
C43: samedi | D43: =SUMPRODUCT((WEEKDAY($A$2:$A$32,2)=ROWS($38:43))*(COUNTIF(FERIES,$A$2:$A$32)=0)*($C$2:$C$32=D$37)) -> 0 | E43: =SUMPRODUCT((WEEKDAY($A$2:$A$32,2)=ROWS($38:43))*(COUNTIF(FERIES,$A$2:$A$32)=0)*($C$2:$C$32=E$37)) -> 0 | F43: =SUMPRODUCT((WEEKDAY($A$2:$A$32,2)=ROWS($38:43))*(COUNTIF(FERIES,$A$2:$A$32)=0)*($C$2:$C$32=F$37)) -> 0 | G43: =SUMPRODUCT((WEEKDAY($A$2:$A$32,2)=ROWS($38:43))*(COUNTIF(FERIES,$A$2:$A$32)=0)*($C$2:$C$32=G$37)) -> 0 | H43: =SUMPRODUCT((WEEKDAY($A$2:$A$32,2)=ROWS($38:43))*(COUNTIF(FERIES,$A$2:$A$32)=0)*($C$2:$C$32=H$37)) -> 0 | I43: =SUMPRODUCT((WEEKDAY($A$2:$A$32,2)=ROWS($38:43))*(COUNTIF(FERIES,$A$2:$A$32)=0)*($C$2:$C$32=I$37)) -> 0 | J43: =SUMPRODUCT((WEEKDAY($A$2:$A$32,2)=ROWS($38:43))*(COUNTIF(FERIES,$A$2:$A$32)=0)*($C$2:$C$32=J$37)) -> 0 | K43: =SUMPRODUCT((WEEKDAY($A$2:$A$32,2)=ROWS($38:43))*(COUNTIF(FERIES,$A$2:$A$32)=0)*($C$2:$C$32=K$37)) -> 0 | ... V43: =SUMPRODUCT((WEEKDAY($A$2:$A$32,2)=ROWS($38:43))*(COUNTIF(FERIES,$A$2:$A$32)=0)*($C$2:$C$32=V$37)) -> 0
C44: dimanche | D44: =SUMPRODUCT((WEEKDAY($A$2:$A$32,2)=ROWS($38:44))*(COUNTIF(FERIES,$A$2:$A$32)=0)*($C$2:$C$32=D$37)) -> 0 | E44: =SUMPRODUCT((WEEKDAY($A$2:$A$32,2)=ROWS($38:44))*(COUNTIF(FERIES,$A$2:$A$32)=0)*($C$2:$C$32=E$37)) -> 0 | F44: =SUMPRODUCT((WEEKDAY($A$2:$A$32,2)=ROWS($38:44))*(COUNTIF(FERIES,$A$2:$A$32)=0)*($C$2:$C$32=F$37)) -> 0 | G44: =SUMPRODUCT((WEEKDAY($A$2:$A$32,2)=ROWS($38:44))*(COUNTIF(FERIES,$A$2:$A$32)=0)*($C$2:$C$32=G$37)) -> 0 | H44: =SUMPRODUCT((WEEKDAY($A$2:$A$32,2)=ROWS($38:44))*(COUNTIF(FERIES,$A$2:$A$32)=0)*($C$2:$C$32=H$37)) -> 0 | I44: =SUMPRODUCT((WEEKDAY($A$2:$A$32,2)=ROWS($38:44))*(COUNTIF(FERIES,$A$2:$A$32)=0)*($C$2:$C$32=I$37)) -> 0 | J44: =SUMPRODUCT((WEEKDAY($A$2:$A$32,2)=ROWS($38:44))*(COUNTIF(FERIES,$A$2:$A$32)=0)*($C$2:$C$32=J$37)) -> 0 | K44: =SUMPRODUCT((WEEKDAY($A$2:$A$32,2)=ROWS($38:44))*(COUNTIF(FERIES,$A$2:$A$32)=0)*($C$2:$C$32=K$37)) -> 0 | ... V44: =SUMPRODUCT((WEEKDAY($A$2:$A$32,2)=ROWS($38:44))*(COUNTIF(FERIES,$A$2:$A$32)=0)*($C$2:$C$32=V$37)) -> 0
C45: FERIES | D45: =SUMPRODUCT(COUNTIF(FERIES,$A$2:$A$32)*($C$2:$C$32=D37)) -> 0 | E45: =SUMPRODUCT(COUNTIF(FERIES,$A$2:$A$32)*($C$2:$C$32=E37)) -> 0 | F45: =SUMPRODUCT(COUNTIF(FERIES,$A$2:$A$32)*($C$2:$C$32=F37)) -> 0 | G45: =SUMPRODUCT(COUNTIF(FERIES,$A$2:$A$32)*($C$2:$C$32=G37)) -> 0 | H45: =SUMPRODUCT(COUNTIF(FERIES,$A$2:$A$32)*($C$2:$C$32=H37)) -> 0 | I45: =SUMPRODUCT(COUNTIF(FERIES,$A$2:$A$32)*($C$2:$C$32=I37)) -> 0 | J45: =SUMPRODUCT(COUNTIF(FERIES,$A$2:$A$32)*($C$2:$C$32=J37)) -> 0 | K45: =SUMPRODUCT(COUNTIF(FERIES,$A$2:$A$32)*($C$2:$C$32=K37)) -> 0 | ... V45: =SUMPRODUCT(COUNTIF(FERIES,$A$2:$A$32)*($C$2:$C$32=V37)) -> 0
C47: Lun/Mar | D47: =SUM(D38:D39) -> 0 | E47: =SUM(E38:E39) -> 0 | F47: =SUM(F38:F39) -> 0 | G47: =SUM(G38:G39) -> 0 | H47: =SUM(H38:H39) -> 0 | I47: =SUM(I38:I39) -> 0 | J47: =SUM(J38:J39) -> 0 | K47: =SUM(K38:K39) -> 0 | ... V47: =SUM(V38:V39) -> 0
C48: Mer/Ven | D48: =SUM(D40+D42) -> 0 | E48: =SUM(E40+E42) -> 0 | F48: =SUM(F40+F42) -> 0 | G48: =SUM(G40+G42) -> 0 | H48: =SUM(H40+H42) -> 0 | I48: =SUM(I40+I42) -> 0 | J48: =SUM(J40+J42) -> 0 | K48: =SUM(K40+K42) -> 0 | ... V48: =SUM(V40+V42) -> 0
C49: jeudi | D49: =SUM(D41) -> 0 | E49: =SUM(E41) -> 0 | F49: =SUM(F41) -> 0 | G49: =SUM(G41) -> 0 | H49: =SUM(H41) -> 0 | I49: =SUM(I41) -> 0 | J49: =SUM(J41) -> 0 | K49: =SUM(K41) -> 0 | ... V49: =SUM(V41) -> 0
C50: Samedi | D50: =SUM(D43) -> 0 | E50: =SUM(E43) -> 0 | F50: =SUM(F43) -> 0 | G50: =SUM(G43) -> 0 | H50: =SUM(H43) -> 0 | I50: =SUM(I43) -> 0 | J50: =SUM(J43) -> 0 | K50: =SUM(K43) -> 0 | ... V50: =SUM(V43) -> 0
C51: Dimanche | D51: =SUM(D44) -> 0 | E51: =SUM(E44) -> 0 | F51: =SUM(F44) -> 0 | G51: =SUM(G44) -> 0 | H51: =SUM(H44) -> 0 | I51: =SUM(I44) -> 0 | J51: =SUM(J44) -> 0 | K51: =SUM(K44) -> 0 | ... V51: =SUM(V44) -> 0
C52: Fériés | D52: =SUM(D45) -> 0 | E52: =SUM(E45) -> 0 | F52: =SUM(F45) -> 0 | G52: =SUM(G45) -> 0 | H52: =SUM(H45) -> 0 | I52: =SUM(I45) -> 0 | J52: =SUM(J45) -> 0 | K52: =SUM(K45) -> 0 | ... V52: =SUM(V45) -> 0
C55: Lun/Mar | D55: =SUM(Jan:Dec!D47) -> 0 | E55: =SUM(Jan:Dec!E47) -> 0 | F55: =SUM(Jan:Dec!F47) -> 1 | G55: =SUM(Jan:Dec!G47) -> 0 | H55: =SUM(Jan:Dec!H47) -> 0 | I55: =SUM(Jan:Dec!I47) -> 0 | J55: =SUM(Jan:Dec!J47) -> 0 | K55: =SUM(Jan:Dec!K47) -> 0 | ... V55: =SUM(Jan:Dec!V47) -> 0
C56: Mer/Ven | D56: =SUM(Jan:Dec!D48) -> 1 | E56: =SUM(Jan:Dec!E48) -> 0 | F56: =SUM(Jan:Dec!F48) -> 0 | G56: =SUM(Jan:Dec!G48) -> 0 | H56: =SUM(Jan:Dec!H48) -> 0 | I56: =SUM(Jan:Dec!I48) -> 0 | J56: =SUM(Jan:Dec!J48) -> 0 | K56: =SUM(Jan:Dec!K48) -> 0 | ... V56: =SUM(Jan:Dec!V48) -> 0
C57: jeudi | D57: =SUM(Jan:Dec!D49) -> 0 | E57: =SUM(Jan:Dec!E49) -> 0 | F57: =SUM(Jan:Dec!F49) -> 0 | G57: =SUM(Jan:Dec!G49) -> 0 | H57: =SUM(Jan:Dec!H49) -> 0 | I57: =SUM(Jan:Dec!I49) -> 0 | J57: =SUM(Jan:Dec!J49) -> 0 | K57: =SUM(Jan:Dec!K49) -> 0 | ... V57: =SUM(Jan:Dec!V49) -> 0
C58: Samedi | D58: =SUM(Jan:Dec!D50) -> 0 | E58: =SUM(Jan:Dec!E50) -> 1 | F58: =SUM(Jan:Dec!F50) -> 0 | G58: =SUM(Jan:Dec!G50) -> 0 | H58: =SUM(Jan:Dec!H50) -> 0 | I58: =SUM(Jan:Dec!I50) -> 0 | J58: =SUM(Jan:Dec!J50) -> 0 | K58: =SUM(Jan:Dec!K50) -> 0 | ... V58: =SUM(Jan:Dec!V50) -> 0
C59: Dimanche | D59: =SUM(Jan:Dec!D51) -> 0 | E59: =SUM(Jan:Dec!E51) -> 0 | F59: =SUM(Jan:Dec!F51) -> 0 | G59: =SUM(Jan:Dec!G51) -> 0 | H59: =SUM(Jan:Dec!H51) -> 0 | I59: =SUM(Jan:Dec!I51) -> 0 | J59: =SUM(Jan:Dec!J51) -> 0 | K59: =SUM(Jan:Dec!K51) -> 0 | ... V59: =SUM(Jan:Dec!V51) -> 0
C60: Fériés | D60: =SUM(Jan:Dec!D52) -> 1 | E60: =SUM(Jan:Dec!E52) -> 0 | F60: =SUM(Jan:Dec!F52) -> 0 | G60: =SUM(Jan:Dec!G52) -> 0 | H60: =SUM(Jan:Dec!H52) -> 0 | I60: =SUM(Jan:Dec!I52) -> 0 | J60: =SUM(Jan:Dec!J52) -> 0 | K60: =SUM(Jan:Dec!K52) -> 0 | ... V60: =SUM(Jan:Dec!V52) -> 0
C61: Total | D61: =SUM(D55:D60) -> 2 | E61: =SUM(E55:E60) -> 1 | F61: =SUM(F55:F60) -> 1 | G61: =SUM(G55:G60) -> 0 | H61: =SUM(H55:H60) -> 0 | I61: =SUM(I55:I60) -> 0 | J61: =SUM(J55:J60) -> 0 | K61: =SUM(K55:K60) -> 0 | ... V61: =SUM(V55:V60) -> 0

Sheet Sep
A1: =DATE(Accueil!E1,9,1) -> 42979 | B1: DATE | C1: GRADE - NOM | D1: - | E1: - | F1: - | G1: - | H1: - | I1: - | J1: - | K1: - | L1: - | M1: - | N1: - | O1: - | P1: - | Q1: - | R1: - | S1: _ | T1: _ | U1: _ | V1: _ | W1: Récap
A2: =DATE(Accueil!E1,9,1) -> 42979 | B2: =DATE(Accueil!E1,9,1) -> 42979 | D2: =IF($C2=D$1,1,"0") -> 0 | E2: =IF($C2=E$1,1,"0") -> 0 | F2: =IF($C2=F$1,1,"0") -> 0 | G2: =IF($C2=G$1,1,"0") -> 0 | H2: =IF($C2=H$1,1,"0") -> 0 | I2: =IF($C2=I$1,1,"0") -> 0 | J2: =IF($C2=J$1,1,"0") -> 0 | K2: =IF($C2=K$1,1,"0") -> 0 | ... V2: =IF($C2=V$1,1,"0") -> 0 | W2: =SUM(D2:V2) -> 0
A3: =(A2+1) -> 42980 | B3: =(B2+1) -> 42980 | D3: =IF($C3=D$1,1,"0") -> 0 | E3: =IF($C3=E$1,1,"0") -> 0 | F3: =IF($C3=F$1,1,"0") -> 0 | G3: =IF($C3=G$1,1,"0") -> 0 | H3: =IF($C3=H$1,1,"0") -> 0 | I3: =IF($C3=I$1,1,"0") -> 0 | J3: =IF($C3=J$1,1,"0") -> 0 | K3: =IF($C3=K$1,1,"0") -> 0 | ... V3: =IF($C3=V$1,1,"0") -> 0 | W3: =SUM(D3:V3) -> 0
A4: =(A3+1) -> 42981 | B4: =(B3+1) -> 42981 | D4: =IF($C4=D$1,1,"0") -> 0 | E4: =IF($C4=E$1,1,"0") -> 0 | F4: =IF($C4=F$1,1,"0") -> 0 | G4: =IF($C4=G$1,1,"0") -> 0 | H4: =IF($C4=H$1,1,"0") -> 0 | I4: =IF($C4=I$1,1,"0") -> 0 | J4: =IF($C4=J$1,1,"0") -> 0 | K4: =IF($C4=K$1,1,"0") -> 0 | ... V4: =IF($C4=V$1,1,"0") -> 0 | W4: =SUM(D4:V4) -> 0
A5: =(A4+1) -> 42982 | B5: =(B4+1) -> 42982 | D5: =IF($C5=D$1,1,"0") -> 0 | E5: =IF($C5=E$1,1,"0") -> 0 | F5: =IF($C5=F$1,1,"0") -> 0 | G5: =IF($C5=G$1,1,"0") -> 0 | H5: =IF($C5=H$1,1,"0") -> 0 | I5: =IF($C5=I$1,1,"0") -> 0 | J5: =IF($C5=J$1,1,"0") -> 0 | K5: =IF($C5=K$1,1,"0") -> 0 | ... V5: =IF($C5=V$1,1,"0") -> 0 | W5: =SUM(D5:V5) -> 0
A6: =(A5+1) -> 42983 | B6: =(B5+1) -> 42983 | D6: =IF($C6=D$1,1,"0") -> 0 | E6: =IF($C6=E$1,1,"0") -> 0 | F6: =IF($C6=F$1,1,"0") -> 0 | G6: =IF($C6=G$1,1,"0") -> 0 | H6: =IF($C6=H$1,1,"0") -> 0 | I6: =IF($C6=I$1,1,"0") -> 0 | J6: =IF($C6=J$1,1,"0") -> 0 | K6: =IF($C6=K$1,1,"0") -> 0 | ... V6: =IF($C6=V$1,1,"0") -> 0 | W6: =SUM(D6:V6) -> 0
A7: =(A6+1) -> 42984 | B7: =(B6+1) -> 42984 | D7: =IF($C7=D$1,1,"0") -> 0 | E7: =IF($C7=E$1,1,"0") -> 0 | F7: =IF($C7=F$1,1,"0") -> 0 | G7: =IF($C7=G$1,1,"0") -> 0 | H7: =IF($C7=H$1,1,"0") -> 0 | I7: =IF($C7=I$1,1,"0") -> 0 | J7: =IF($C7=J$1,1,"0") -> 0 | K7: =IF($C7=K$1,1,"0") -> 0 | ... V7: =IF($C7=V$1,1,"0") -> 0 | W7: =SUM(D7:V7) -> 0
A8: =(A7+1) -> 42985 | B8: =(B7+1) -> 42985 | D8: =IF($C8=D$1,1,"0") -> 0 | E8: =IF($C8=E$1,1,"0") -> 0 | F8: =IF($C8=F$1,1,"0") -> 0 | G8: =IF($C8=G$1,1,"0") -> 0 | H8: =IF($C8=H$1,1,"0") -> 0 | I8: =IF($C8=I$1,1,"0") -> 0 | J8: =IF($C8=J$1,1,"0") -> 0 | K8: =IF($C8=K$1,1,"0") -> 0 | ... V8: =IF($C8=V$1,1,"0") -> 0 | W8: =SUM(D8:V8) -> 0
A9: =(A8+1) -> 42986 | B9: =(B8+1) -> 42986 | D9: =IF($C9=D$1,1,"0") -> 0 | E9: =IF($C9=E$1,1,"0") -> 0 | F9: =IF($C9=F$1,1,"0") -> 0 | G9: =IF($C9=G$1,1,"0") -> 0 | H9: =IF($C9=H$1,1,"0") -> 0 | I9: =IF($C9=I$1,1,"0") -> 0 | J9: =IF($C9=J$1,1,"0") -> 0 | K9: =IF($C9=K$1,1,"0") -> 0 | ... V9: =IF($C9=V$1,1,"0") -> 0 | W9: =SUM(D9:V9) -> 0
A10: =(A9+1) -> 42987 | B10: =(B9+1) -> 42987 | D10: =IF($C10=D$1,1,"0") -> 0 | E10: =IF($C10=E$1,1,"0") -> 0 | F10: =IF($C10=F$1,1,"0") -> 0 | G10: =IF($C10=G$1,1,"0") -> 0 | H10: =IF($C10=H$1,1,"0") -> 0 | I10: =IF($C10=I$1,1,"0") -> 0 | J10: =IF($C10=J$1,1,"0") -> 0 | K10: =IF($C10=K$1,1,"0") -> 0 | ... V10: =IF($C10=V$1,1,"0") -> 0 | W10: =SUM(D10:V10) -> 0
A11: =(A10+1) -> 42988 | B11: =(B10+1) -> 42988 | D11: =IF($C11=D$1,1,"0") -> 0 | E11: =IF($C11=E$1,1,"0") -> 0 | F11: =IF($C11=F$1,1,"0") -> 0 | G11: =IF($C11=G$1,1,"0") -> 0 | H11: =IF($C11=H$1,1,"0") -> 0 | I11: =IF($C11=I$1,1,"0") -> 0 | J11: =IF($C11=J$1,1,"0") -> 0 | K11: =IF($C11=K$1,1,"0") -> 0 | ... V11: =IF($C11=V$1,1,"0") -> 0 | W11: =SUM(D11:V11) -> 0
A12: =(A11+1) -> 42989 | B12: =(B11+1) -> 42989 | D12: =IF($C12=D$1,1,"0") -> 0 | E12: =IF($C12=E$1,1,"0") -> 0 | F12: =IF($C12=F$1,1,"0") -> 0 | G12: =IF($C12=G$1,1,"0") -> 0 | H12: =IF($C12=H$1,1,"0") -> 0 | I12: =IF($C12=I$1,1,"0") -> 0 | J12: =IF($C12=J$1,1,"0") -> 0 | K12: =IF($C12=K$1,1,"0") -> 0 | ... V12: =IF($C12=V$1,1,"0") -> 0 | W12: =SUM(D12:V12) -> 0
A13: =(A12+1) -> 42990 | B13: =(B12+1) -> 42990 | D13: =IF($C13=D$1,1,"0") -> 0 | E13: =IF($C13=E$1,1,"0") -> 0 | F13: =IF($C13=F$1,1,"0") -> 0 | G13: =IF($C13=G$1,1,"0") -> 0 | H13: =IF($C13=H$1,1,"0") -> 0 | I13: =IF($C13=I$1,1,"0") -> 0 | J13: =IF($C13=J$1,1,"0") -> 0 | K13: =IF($C13=K$1,1,"0") -> 0 | ... V13: =IF($C13=V$1,1,"0") -> 0 | W13: =SUM(D13:V13) -> 0
A14: =(A13+1) -> 42991 | B14: =(B13+1) -> 42991 | D14: =IF($C14=D$1,1,"0") -> 0 | E14: =IF($C14=E$1,1,"0") -> 0 | F14: =IF($C14=F$1,1,"0") -> 0 | G14: =IF($C14=G$1,1,"0") -> 0 | H14: =IF($C14=H$1,1,"0") -> 0 | I14: =IF($C14=I$1,1,"0") -> 0 | J14: =IF($C14=J$1,1,"0") -> 0 | K14: =IF($C14=K$1,1,"0") -> 0 | ... V14: =IF($C14=V$1,1,"0") -> 0 | W14: =SUM(D14:V14) -> 0
... A31: =(A30+1) -> 43008 | B31: =(B30+1) -> 43008 | D31: =IF($C31=D$1,1,"0") -> 0 | E31: =IF($C31=E$1,1,"0") -> 0 | F31: =IF($C31=F$1,1,"0") -> 0 | G31: =IF($C31=G$1,1,"0") -> 0 | H31: =IF($C31=H$1,1,"0") -> 0 | I31: =IF($C31=I$1,1,"0") -> 0 | J31: =IF($C31=J$1,1,"0") -> 0 | K31: =IF($C31=K$1,1,"0") -> 0 | ... V31: =IF($C31=V$1,1,"0") -> 0 | W31: =SUM(D31:V31) -> 0
D33: =SUM(D2:D32) -> 0 | E33: =SUM(E2:E32) -> 0 | F33: =SUM(F2:F32) -> 0 | G33: =SUM(G2:G32) -> 0 | H33: =SUM(H2:H32) -> 0 | I33: =SUM(I2:I32) -> 0 | J33: =SUM(J2:J32) -> 0 | K33: =SUM(K2:K32) -> 0 | ... W33: =SUM(W2:W32) -> 0
D37: =(D1) -> - | E37: =(E1) -> - | F37: =(F1) -> - | G37: =(G1) -> - | H37: =(H1) -> - | I37: =(I1) -> - | J37: =(J1) -> - | K37: =(K1) -> - | ... V37: =(V1) -> _
C38: lundi | D38: =SUMPRODUCT((WEEKDAY($A$2:$A$32,2)=ROWS($38:38))*(COUNTIF(FERIES,$A$2:$A$32)=0)*($C$2:$C$32=D$37)) -> 0 | E38: =SUMPRODUCT((WEEKDAY($A$2:$A$32,2)=ROWS($38:38))*(COUNTIF(FERIES,$A$2:$A$32)=0)*($C$2:$C$32=E$37)) -> 0 | F38: =SUMPRODUCT((WEEKDAY($A$2:$A$32,2)=ROWS($38:38))*(COUNTIF(FERIES,$A$2:$A$32)=0)*($C$2:$C$32=F$37)) -> 0 | G38: =SUMPRODUCT((WEEKDAY($A$2:$A$32,2)=ROWS($38:38))*(COUNTIF(FERIES,$A$2:$A$32)=0)*($C$2:$C$32=G$37)) -> 0 | H38: =SUMPRODUCT((WEEKDAY($A$2:$A$32,2)=ROWS($38:38))*(COUNTIF(FERIES,$A$2:$A$32)=0)*($C$2:$C$32=H$37)) -> 0 | I38: =SUMPRODUCT((WEEKDAY($A$2:$A$32,2)=ROWS($38:38))*(COUNTIF(FERIES,$A$2:$A$32)=0)*($C$2:$C$32=I$37)) -> 0 | J38: =SUMPRODUCT((WEEKDAY($A$2:$A$32,2)=ROWS($38:38))*(COUNTIF(FERIES,$A$2:$A$32)=0)*($C$2:$C$32=J$37)) -> 0 | K38: =SUMPRODUCT((WEEKDAY($A$2:$A$32,2)=ROWS($38:38))*(COUNTIF(FERIES,$A$2:$A$32)=0)*($C$2:$C$32=K$37)) -> 0 | ... V38: =SUMPRODUCT((WEEKDAY($A$2:$A$32,2)=ROWS($38:38))*(COUNTIF(FERIES,$A$2:$A$32)=0)*($C$2:$C$32=V$37)) -> 0
C39: mardi | D39: =SUMPRODUCT((WEEKDAY($A$2:$A$32,2)=ROWS($38:39))*(COUNTIF(FERIES,$A$2:$A$32)=0)*($C$2:$C$32=D$37)) -> 0 | E39: =SUMPRODUCT((WEEKDAY($A$2:$A$32,2)=ROWS($38:39))*(COUNTIF(FERIES,$A$2:$A$32)=0)*($C$2:$C$32=E$37)) -> 0 | F39: =SUMPRODUCT((WEEKDAY($A$2:$A$32,2)=ROWS($38:39))*(COUNTIF(FERIES,$A$2:$A$32)=0)*($C$2:$C$32=F$37)) -> 0 | G39: =SUMPRODUCT((WEEKDAY($A$2:$A$32,2)=ROWS($38:39))*(COUNTIF(FERIES,$A$2:$A$32)=0)*($C$2:$C$32=G$37)) -> 0 | H39: =SUMPRODUCT((WEEKDAY($A$2:$A$32,2)=ROWS($38:39))*(COUNTIF(FERIES,$A$2:$A$32)=0)*($C$2:$C$32=H$37)) -> 0 | I39: =SUMPRODUCT((WEEKDAY($A$2:$A$32,2)=ROWS($38:39))*(COUNTIF(FERIES,$A$2:$A$32)=0)*($C$2:$C$32=I$37)) -> 0 | J39: =SUMPRODUCT((WEEKDAY($A$2:$A$32,2)=ROWS($38:39))*(COUNTIF(FERIES,$A$2:$A$32)=0)*($C$2:$C$32=J$37)) -> 0 | K39: =SUMPRODUCT((WEEKDAY($A$2:$A$32,2)=ROWS($38:39))*(COUNTIF(FERIES,$A$2:$A$32)=0)*($C$2:$C$32=K$37)) -> 0 | ... V39: =SUMPRODUCT((WEEKDAY($A$2:$A$32,2)=ROWS($38:39))*(COUNTIF(FERIES,$A$2:$A$32)=0)*($C$2:$C$32=V$37)) -> 0
C40: mercredi | D40: =SUMPRODUCT((WEEKDAY($A$2:$A$32,2)=ROWS($38:40))*(COUNTIF(FERIES,$A$2:$A$32)=0)*($C$2:$C$32=D$37)) -> 0 | E40: =SUMPRODUCT((WEEKDAY($A$2:$A$32,2)=ROWS($38:40))*(COUNTIF(FERIES,$A$2:$A$32)=0)*($C$2:$C$32=E$37)) -> 0 | F40: =SUMPRODUCT((WEEKDAY($A$2:$A$32,2)=ROWS($38:40))*(COUNTIF(FERIES,$A$2:$A$32)=0)*($C$2:$C$32=F$37)) -> 0 | G40: =SUMPRODUCT((WEEKDAY($A$2:$A$32,2)=ROWS($38:40))*(COUNTIF(FERIES,$A$2:$A$32)=0)*($C$2:$C$32=G$37)) -> 0 | H40: =SUMPRODUCT((WEEKDAY($A$2:$A$32,2)=ROWS($38:40))*(COUNTIF(FERIES,$A$2:$A$32)=0)*($C$2:$C$32=H$37)) -> 0 | I40: =SUMPRODUCT((WEEKDAY($A$2:$A$32,2)=ROWS($38:40))*(COUNTIF(FERIES,$A$2:$A$32)=0)*($C$2:$C$32=I$37)) -> 0 | J40: =SUMPRODUCT((WEEKDAY($A$2:$A$32,2)=ROWS($38:40))*(COUNTIF(FERIES,$A$2:$A$32)=0)*($C$2:$C$32=J$37)) -> 0 | K40: =SUMPRODUCT((WEEKDAY($A$2:$A$32,2)=ROWS($38:40))*(COUNTIF(FERIES,$A$2:$A$32)=0)*($C$2:$C$32=K$37)) -> 0 | ... V40: =SUMPRODUCT((WEEKDAY($A$2:$A$32,2)=ROWS($38:40))*(COUNTIF(FERIES,$A$2:$A$32)=0)*($C$2:$C$32=V$37)) -> 0
C41: jeudi | D41: =SUMPRODUCT((WEEKDAY($A$2:$A$32,2)=ROWS($38:41))*(COUNTIF(FERIES,$A$2:$A$32)=0)*($C$2:$C$32=D$37)) -> 0 | E41: =SUMPRODUCT((WEEKDAY($A$2:$A$32,2)=ROWS($38:41))*(COUNTIF(FERIES,$A$2:$A$32)=0)*($C$2:$C$32=E$37)) -> 0 | F41: =SUMPRODUCT((WEEKDAY($A$2:$A$32,2)=ROWS($38:41))*(COUNTIF(FERIES,$A$2:$A$32)=0)*($C$2:$C$32=F$37)) -> 0 | G41: =SUMPRODUCT((WEEKDAY($A$2:$A$32,2)=ROWS($38:41))*(COUNTIF(FERIES,$A$2:$A$32)=0)*($C$2:$C$32=G$37)) -> 0 | H41: =SUMPRODUCT((WEEKDAY($A$2:$A$32,2)=ROWS($38:41))*(COUNTIF(FERIES,$A$2:$A$32)=0)*($C$2:$C$32=H$37)) -> 0 | I41: =SUMPRODUCT((WEEKDAY($A$2:$A$32,2)=ROWS($38:41))*(COUNTIF(FERIES,$A$2:$A$32)=0)*($C$2:$C$32=I$37)) -> 0 | J41: =SUMPRODUCT((WEEKDAY($A$2:$A$32,2)=ROWS($38:41))*(COUNTIF(FERIES,$A$2:$A$32)=0)*($C$2:$C$32=J$37)) -> 0 | K41: =SUMPRODUCT((WEEKDAY($A$2:$A$32,2)=ROWS($38:41))*(COUNTIF(FERIES,$A$2:$A$32)=0)*($C$2:$C$32=K$37)) -> 0 | ... V41: =SUMPRODUCT((WEEKDAY($A$2:$A$32,2)=ROWS($38:41))*(COUNTIF(FERIES,$A$2:$A$32)=0)*($C$2:$C$32=V$37)) -> 0
C42: vendredi | D42: =SUMPRODUCT((WEEKDAY($A$2:$A$32,2)=ROWS($38:42))*(COUNTIF(FERIES,$A$2:$A$32)=0)*($C$2:$C$32=D$37)) -> 0 | E42: =SUMPRODUCT((WEEKDAY($A$2:$A$32,2)=ROWS($38:42))*(COUNTIF(FERIES,$A$2:$A$32)=0)*($C$2:$C$32=E$37)) -> 0 | F42: =SUMPRODUCT((WEEKDAY($A$2:$A$32,2)=ROWS($38:42))*(COUNTIF(FERIES,$A$2:$A$32)=0)*($C$2:$C$32=F$37)) -> 0 | G42: =SUMPRODUCT((WEEKDAY($A$2:$A$32,2)=ROWS($38:42))*(COUNTIF(FERIES,$A$2:$A$32)=0)*($C$2:$C$32=G$37)) -> 0 | H42: =SUMPRODUCT((WEEKDAY($A$2:$A$32,2)=ROWS($38:42))*(COUNTIF(FERIES,$A$2:$A$32)=0)*($C$2:$C$32=H$37)) -> 0 | I42: =SUMPRODUCT((WEEKDAY($A$2:$A$32,2)=ROWS($38:42))*(COUNTIF(FERIES,$A$2:$A$32)=0)*($C$2:$C$32=I$37)) -> 0 | J42: =SUMPRODUCT((WEEKDAY($A$2:$A$32,2)=ROWS($38:42))*(COUNTIF(FERIES,$A$2:$A$32)=0)*($C$2:$C$32=J$37)) -> 0 | K42: =SUMPRODUCT((WEEKDAY($A$2:$A$32,2)=ROWS($38:42))*(COUNTIF(FERIES,$A$2:$A$32)=0)*($C$2:$C$32=K$37)) -> 0 | ... V42: =SUMPRODUCT((WEEKDAY($A$2:$A$32,2)=ROWS($38:42))*(COUNTIF(FERIES,$A$2:$A$32)=0)*($C$2:$C$32=V$37)) -> 0
C43: samedi | D43: =SUMPRODUCT((WEEKDAY($A$2:$A$32,2)=ROWS($38:43))*(COUNTIF(FERIES,$A$2:$A$32)=0)*($C$2:$C$32=D$37)) -> 0 | E43: =SUMPRODUCT((WEEKDAY($A$2:$A$32,2)=ROWS($38:43))*(COUNTIF(FERIES,$A$2:$A$32)=0)*($C$2:$C$32=E$37)) -> 0 | F43: =SUMPRODUCT((WEEKDAY($A$2:$A$32,2)=ROWS($38:43))*(COUNTIF(FERIES,$A$2:$A$32)=0)*($C$2:$C$32=F$37)) -> 0 | G43: =SUMPRODUCT((WEEKDAY($A$2:$A$32,2)=ROWS($38:43))*(COUNTIF(FERIES,$A$2:$A$32)=0)*($C$2:$C$32=G$37)) -> 0 | H43: =SUMPRODUCT((WEEKDAY($A$2:$A$32,2)=ROWS($38:43))*(COUNTIF(FERIES,$A$2:$A$32)=0)*($C$2:$C$32=H$37)) -> 0 | I43: =SUMPRODUCT((WEEKDAY($A$2:$A$32,2)=ROWS($38:43))*(COUNTIF(FERIES,$A$2:$A$32)=0)*($C$2:$C$32=I$37)) -> 0 | J43: =SUMPRODUCT((WEEKDAY($A$2:$A$32,2)=ROWS($38:43))*(COUNTIF(FERIES,$A$2:$A$32)=0)*($C$2:$C$32=J$37)) -> 0 | K43: =SUMPRODUCT((WEEKDAY($A$2:$A$32,2)=ROWS($38:43))*(COUNTIF(FERIES,$A$2:$A$32)=0)*($C$2:$C$32=K$37)) -> 0 | ... V43: =SUMPRODUCT((WEEKDAY($A$2:$A$32,2)=ROWS($38:43))*(COUNTIF(FERIES,$A$2:$A$32)=0)*($C$2:$C$32=V$37)) -> 0
C44: dimanche | D44: =SUMPRODUCT((WEEKDAY($A$2:$A$32,2)=ROWS($38:44))*(COUNTIF(FERIES,$A$2:$A$32)=0)*($C$2:$C$32=D$37)) -> 0 | E44: =SUMPRODUCT((WEEKDAY($A$2:$A$32,2)=ROWS($38:44))*(COUNTIF(FERIES,$A$2:$A$32)=0)*($C$2:$C$32=E$37)) -> 0 | F44: =SUMPRODUCT((WEEKDAY($A$2:$A$32,2)=ROWS($38:44))*(COUNTIF(FERIES,$A$2:$A$32)=0)*($C$2:$C$32=F$37)) -> 0 | G44: =SUMPRODUCT((WEEKDAY($A$2:$A$32,2)=ROWS($38:44))*(COUNTIF(FERIES,$A$2:$A$32)=0)*($C$2:$C$32=G$37)) -> 0 | H44: =SUMPRODUCT((WEEKDAY($A$2:$A$32,2)=ROWS($38:44))*(COUNTIF(FERIES,$A$2:$A$32)=0)*($C$2:$C$32=H$37)) -> 0 | I44: =SUMPRODUCT((WEEKDAY($A$2:$A$32,2)=ROWS($38:44))*(COUNTIF(FERIES,$A$2:$A$32)=0)*($C$2:$C$32=I$37)) -> 0 | J44: =SUMPRODUCT((WEEKDAY($A$2:$A$32,2)=ROWS($38:44))*(COUNTIF(FERIES,$A$2:$A$32)=0)*($C$2:$C$32=J$37)) -> 0 | K44: =SUMPRODUCT((WEEKDAY($A$2:$A$32,2)=ROWS($38:44))*(COUNTIF(FERIES,$A$2:$A$32)=0)*($C$2:$C$32=K$37)) -> 0 | ... V44: =SUMPRODUCT((WEEKDAY($A$2:$A$32,2)=ROWS($38:44))*(COUNTIF(FERIES,$A$2:$A$32)=0)*($C$2:$C$32=V$37)) -> 0
C45: FERIES | D45: =SUMPRODUCT(COUNTIF(FERIES,$A$2:$A$32)*($C$2:$C$32=D37)) -> 0 | E45: =SUMPRODUCT(COUNTIF(FERIES,$A$2:$A$32)*($C$2:$C$32=E37)) -> 0 | F45: =SUMPRODUCT(COUNTIF(FERIES,$A$2:$A$32)*($C$2:$C$32=F37)) -> 0 | G45: =SUMPRODUCT(COUNTIF(FERIES,$A$2:$A$32)*($C$2:$C$32=G37)) -> 0 | H45: =SUMPRODUCT(COUNTIF(FERIES,$A$2:$A$32)*($C$2:$C$32=H37)) -> 0 | I45: =SUMPRODUCT(COUNTIF(FERIES,$A$2:$A$32)*($C$2:$C$32=I37)) -> 0 | J45: =SUMPRODUCT(COUNTIF(FERIES,$A$2:$A$32)*($C$2:$C$32=J37)) -> 0 | K45: =SUMPRODUCT(COUNTIF(FERIES,$A$2:$A$32)*($C$2:$C$32=K37)) -> 0 | ... V45: =SUMPRODUCT(COUNTIF(FERIES,$A$2:$A$32)*($C$2:$C$32=V37)) -> 0
C47: Lun/Mar | D47: =SUM(D38:D39) -> 0 | E47: =SUM(E38:E39) -> 0 | F47: =SUM(F38:F39) -> 0 | G47: =SUM(G38:G39) -> 0 | H47: =SUM(H38:H39) -> 0 | I47: =SUM(I38:I39) -> 0 | J47: =SUM(J38:J39) -> 0 | K47: =SUM(K38:K39) -> 0 | ... V47: =SUM(V38:V39) -> 0
C48: Mer/Ven | D48: =SUM(D40+D42) -> 0 | E48: =SUM(E40+E42) -> 0 | F48: =SUM(F40+F42) -> 0 | G48: =SUM(G40+G42) -> 0 | H48: =SUM(H40+H42) -> 0 | I48: =SUM(I40+I42) -> 0 | J48: =SUM(J40+J42) -> 0 | K48: =SUM(K40+K42) -> 0 | ... V48: =SUM(V40+V42) -> 0
C49: jeudi | D49: =SUM(D41) -> 0 | E49: =SUM(E41) -> 0 | F49: =SUM(F41) -> 0 | G49: =SUM(G41) -> 0 | H49: =SUM(H41) -> 0 | I49: =SUM(I41) -> 0 | J49: =SUM(J41) -> 0 | K49: =SUM(K41) -> 0 | ... V49: =SUM(V41) -> 0
C50: Samedi | D50: =SUM(D43) -> 0 | E50: =SUM(E43) -> 0 | F50: =SUM(F43) -> 0 | G50: =SUM(G43) -> 0 | H50: =SUM(H43) -> 0 | I50: =SUM(I43) -> 0 | J50: =SUM(J43) -> 0 | K50: =SUM(K43) -> 0 | ... V50: =SUM(V43) -> 0
C51: Dimanche | D51: =SUM(D44) -> 0 | E51: =SUM(E44) -> 0 | F51: =SUM(F44) -> 0 | G51: =SUM(G44) -> 0 | H51: =SUM(H44) -> 0 | I51: =SUM(I44) -> 0 | J51: =SUM(J44) -> 0 | K51: =SUM(K44) -> 0 | ... V51: =SUM(V44) -> 0
C52: Fériés | D52: =SUM(D45) -> 0 | E52: =SUM(E45) -> 0 | F52: =SUM(F45) -> 0 | G52: =SUM(G45) -> 0 | H52: =SUM(H45) -> 0 | I52: =SUM(I45) -> 0 | J52: =SUM(J45) -> 0 | K52: =SUM(K45) -> 0 | ... V52: =SUM(V45) -> 0
C55: Lun/Mar | D55: =SUM(Jan:Dec!D47) -> 0 | E55: =SUM(Jan:Dec!E47) -> 0 | F55: =SUM(Jan:Dec!F47) -> 1 | G55: =SUM(Jan:Dec!G47) -> 0 | H55: =SUM(Jan:Dec!H47) -> 0 | I55: =SUM(Jan:Dec!I47) -> 0 | J55: =SUM(Jan:Dec!J47) -> 0 | K55: =SUM(Jan:Dec!K47) -> 0 | ... V55: =SUM(Jan:Dec!V47) -> 0
C56: Mer/Ven | D56: =SUM(Jan:Dec!D48) -> 1 | E56: =SUM(Jan:Dec!E48) -> 0 | F56: =SUM(Jan:Dec!F48) -> 0 | G56: =SUM(Jan:Dec!G48) -> 0 | H56: =SUM(Jan:Dec!H48) -> 0 | I56: =SUM(Jan:Dec!I48) -> 0 | J56: =SUM(Jan:Dec!J48) -> 0 | K56: =SUM(Jan:Dec!K48) -> 0 | ... V56: =SUM(Jan:Dec!V48) -> 0
C57: jeudi | D57: =SUM(Jan:Dec!D49) -> 0 | E57: =SUM(Jan:Dec!E49) -> 0 | F57: =SUM(Jan:Dec!F49) -> 0 | G57: =SUM(Jan:Dec!G49) -> 0 | H57: =SUM(Jan:Dec!H49) -> 0 | I57: =SUM(Jan:Dec!I49) -> 0 | J57: =SUM(Jan:Dec!J49) -> 0 | K57: =SUM(Jan:Dec!K49) -> 0 | ... V57: =SUM(Jan:Dec!V49) -> 0
C58: Samedi | D58: =SUM(Jan:Dec!D50) -> 0 | E58: =SUM(Jan:Dec!E50) -> 1 | F58: =SUM(Jan:Dec!F50) -> 0 | G58: =SUM(Jan:Dec!G50) -> 0 | H58: =SUM(Jan:Dec!H50) -> 0 | I58: =SUM(Jan:Dec!I50) -> 0 | J58: =SUM(Jan:Dec!J50) -> 0 | K58: =SUM(Jan:Dec!K50) -> 0 | ... V58: =SUM(Jan:Dec!V50) -> 0
C59: Dimanche | D59: =SUM(Jan:Dec!D51) -> 0 | E59: =SUM(Jan:Dec!E51) -> 0 | F59: =SUM(Jan:Dec!F51) -> 0 | G59: =SUM(Jan:Dec!G51) -> 0 | H59: =SUM(Jan:Dec!H51) -> 0 | I59: =SUM(Jan:Dec!I51) -> 0 | J59: =SUM(Jan:Dec!J51) -> 0 | K59: =SUM(Jan:Dec!K51) -> 0 | ... V59: =SUM(Jan:Dec!V51) -> 0
C60: Fériés | D60: =SUM(Jan:Dec!D52) -> 1 | E60: =SUM(Jan:Dec!E52) -> 0 | F60: =SUM(Jan:Dec!F52) -> 0 | G60: =SUM(Jan:Dec!G52) -> 0 | H60: =SUM(Jan:Dec!H52) -> 0 | I60: =SUM(Jan:Dec!I52) -> 0 | J60: =SUM(Jan:Dec!J52) -> 0 | K60: =SUM(Jan:Dec!K52) -> 0 | ... V60: =SUM(Jan:Dec!V52) -> 0
C61: Total | D61: =SUM(D55:D60) -> 2 | E61: =SUM(E55:E60) -> 1 | F61: =SUM(F55:F60) -> 1 | G61: =SUM(G55:G60) -> 0 | H61: =SUM(H55:H60) -> 0 | I61: =SUM(I55:I60) -> 0 | J61: =SUM(J55:J60) -> 0 | K61: =SUM(K55:K60) -> 0 | ... V61: =SUM(V55:V60) -> 0

Sheet Oct
A1: =DATE(Accueil!E1,10,1) -> 43009 | B1: DATE | C1: GRADE - NOM | D1: - | E1: - | F1: - | G1: - | H1: - | I1: - | J1: - | K1: - | L1: - | M1: - | N1: - | O1: - | P1: - | Q1: - | R1: - | S1: _ | T1: _ | U1: _ | V1: _ | W1: Récap
A2: =DATE(Accueil!E1,10,1) -> 43009 | B2: =DATE(Accueil!E1,10,1) -> 43009 | D2: =IF($C2=D$1,1,"0") -> 0 | E2: =IF($C2=E$1,1,"0") -> 0 | F2: =IF($C2=F$1,1,"0") -> 0 | G2: =IF($C2=G$1,1,"0") -> 0 | H2: =IF($C2=H$1,1,"0") -> 0 | I2: =IF($C2=I$1,1,"0") -> 0 | J2: =IF($C2=J$1,1,"0") -> 0 | K2: =IF($C2=K$1,1,"0") -> 0 | ... V2: =IF($C2=V$1,1,"0") -> 0 | W2: =SUM(D2:V2) -> 0
A3: =(A2+1) -> 43010 | B3: =(B2+1) -> 43010 | D3: =IF($C3=D$1,1,"0") -> 0 | E3: =IF($C3=E$1,1,"0") -> 0 | F3: =IF($C3=F$1,1,"0") -> 0 | G3: =IF($C3=G$1,1,"0") -> 0 | H3: =IF($C3=H$1,1,"0") -> 0 | I3: =IF($C3=I$1,1,"0") -> 0 | J3: =IF($C3=J$1,1,"0") -> 0 | K3: =IF($C3=K$1,1,"0") -> 0 | ... V3: =IF($C3=V$1,1,"0") -> 0 | W3: =SUM(D3:V3) -> 0
A4: =(A3+1) -> 43011 | B4: =(B3+1) -> 43011 | D4: =IF($C4=D$1,1,"0") -> 0 | E4: =IF($C4=E$1,1,"0") -> 0 | F4: =IF($C4=F$1,1,"0") -> 0 | G4: =IF($C4=G$1,1,"0") -> 0 | H4: =IF($C4=H$1,1,"0") -> 0 | I4: =IF($C4=I$1,1,"0") -> 0 | J4: =IF($C4=J$1,1,"0") -> 0 | K4: =IF($C4=K$1,1,"0") -> 0 | ... V4: =IF($C4=V$1,1,"0") -> 0 | W4: =SUM(D4:V4) -> 0
A5: =(A4+1) -> 43012 | B5: =(B4+1) -> 43012 | D5: =IF($C5=D$1,1,"0") -> 0 | E5: =IF($C5=E$1,1,"0") -> 0 | F5: =IF($C5=F$1,1,"0") -> 0 | G5: =IF($C5=G$1,1,"0") -> 0 | H5: =IF($C5=H$1,1,"0") -> 0 | I5: =IF($C5=I$1,1,"0") -> 0 | J5: =IF($C5=J$1,1,"0") -> 0 | K5: =IF($C5=K$1,1,"0") -> 0 | ... V5: =IF($C5=V$1,1,"0") -> 0 | W5: =SUM(D5:V5) -> 0
A6: =(A5+1) -> 43013 | B6: =(B5+1) -> 43013 | D6: =IF($C6=D$1,1,"0") -> 0 | E6: =IF($C6=E$1,1,"0") -> 0 | F6: =IF($C6=F$1,1,"0") -> 0 | G6: =IF($C6=G$1,1,"0") -> 0 | H6: =IF($C6=H$1,1,"0") -> 0 | I6: =IF($C6=I$1,1,"0") -> 0 | J6: =IF($C6=J$1,1,"0") -> 0 | K6: =IF($C6=K$1,1,"0") -> 0 | ... V6: =IF($C6=V$1,1,"0") -> 0 | W6: =SUM(D6:V6) -> 0
A7: =(A6+1) -> 43014 | B7: =(B6+1) -> 43014 | D7: =IF($C7=D$1,1,"0") -> 0 | E7: =IF($C7=E$1,1,"0") -> 0 | F7: =IF($C7=F$1,1,"0") -> 0 | G7: =IF($C7=G$1,1,"0") -> 0 | H7: =IF($C7=H$1,1,"0") -> 0 | I7: =IF($C7=I$1,1,"0") -> 0 | J7: =IF($C7=J$1,1,"0") -> 0 | K7: =IF($C7=K$1,1,"0") -> 0 | ... V7: =IF($C7=V$1,1,"0") -> 0 | W7: =SUM(D7:V7) -> 0
A8: =(A7+1) -> 43015 | B8: =(B7+1) -> 43015 | D8: =IF($C8=D$1,1,"0") -> 0 | E8: =IF($C8=E$1,1,"0") -> 0 | F8: =IF($C8=F$1,1,"0") -> 0 | G8: =IF($C8=G$1,1,"0") -> 0 | H8: =IF($C8=H$1,1,"0") -> 0 | I8: =IF($C8=I$1,1,"0") -> 0 | J8: =IF($C8=J$1,1,"0") -> 0 | K8: =IF($C8=K$1,1,"0") -> 0 | ... V8: =IF($C8=V$1,1,"0") -> 0 | W8: =SUM(D8:V8) -> 0
A9: =(A8+1) -> 43016 | B9: =(B8+1) -> 43016 | D9: =IF($C9=D$1,1,"0") -> 0 | E9: =IF($C9=E$1,1,"0") -> 0 | F9: =IF($C9=F$1,1,"0") -> 0 | G9: =IF($C9=G$1,1,"0") -> 0 | H9: =IF($C9=H$1,1,"0") -> 0 | I9: =IF($C9=I$1,1,"0") -> 0 | J9: =IF($C9=J$1,1,"0") -> 0 | K9: =IF($C9=K$1,1,"0") -> 0 | ... V9: =IF($C9=V$1,1,"0") -> 0 | W9: =SUM(D9:V9) -> 0
A10: =(A9+1) -> 43017 | B10: =(B9+1) -> 43017 | D10: =IF($C10=D$1,1,"0") -> 0 | E10: =IF($C10=E$1,1,"0") -> 0 | F10: =IF($C10=F$1,1,"0") -> 0 | G10: =IF($C10=G$1,1,"0") -> 0 | H10: =IF($C10=H$1,1,"0") -> 0 | I10: =IF($C10=I$1,1,"0") -> 0 | J10: =IF($C10=J$1,1,"0") -> 0 | K10: =IF($C10=K$1,1,"0") -> 0 | ... V10: =IF($C10=V$1,1,"0") -> 0 | W10: =SUM(D10:V10) -> 0
A11: =(A10+1) -> 43018 | B11: =(B10+1) -> 43018 | D11: =IF($C11=D$1,1,"0") -> 0 | E11: =IF($C11=E$1,1,"0") -> 0 | F11: =IF($C11=F$1,1,"0") -> 0 | G11: =IF($C11=G$1,1,"0") -> 0 | H11: =IF($C11=H$1,1,"0") -> 0 | I11: =IF($C11=I$1,1,"0") -> 0 | J11: =IF($C11=J$1,1,"0") -> 0 | K11: =IF($C11=K$1,1,"0") -> 0 | ... V11: =IF($C11=V$1,1,"0") -> 0 | W11: =SUM(D11:V11) -> 0
A12: =(A11+1) -> 43019 | B12: =(B11+1) -> 43019 | D12: =IF($C12=D$1,1,"0") -> 0 | E12: =IF($C12=E$1,1,"0") -> 0 | F12: =IF($C12=F$1,1,"0") -> 0 | G12: =IF($C12=G$1,1,"0") -> 0 | H12: =IF($C12=H$1,1,"0") -> 0 | I12: =IF($C12=I$1,1,"0") -> 0 | J12: =IF($C12=J$1,1,"0") -> 0 | K12: =IF($C12=K$1,1,"0") -> 0 | ... V12: =IF($C12=V$1,1,"0") -> 0 | W12: =SUM(D12:V12) -> 0
A13: =(A12+1) -> 43020 | B13: =(B12+1) -> 43020 | D13: =IF($C13=D$1,1,"0") -> 0 | E13: =IF($C13=E$1,1,"0") -> 0 | F13: =IF($C13=F$1,1,"0") -> 0 | G13: =IF($C13=G$1,1,"0") -> 0 | H13: =IF($C13=H$1,1,"0") -> 0 | I13: =IF($C13=I$1,1,"0") -> 0 | J13: =IF($C13=J$1,1,"0") -> 0 | K13: =IF($C13=K$1,1,"0") -> 0 | ... V13: =IF($C13=V$1,1,"0") -> 0 | W13: =SUM(D13:V13) -> 0
A14: =(A13+1) -> 43021 | B14: =(B13+1) -> 43021 | D14: =IF($C14=D$1,1,"0") -> 0 | E14: =IF($C14=E$1,1,"0") -> 0 | F14: =IF($C14=F$1,1,"0") -> 0 | G14: =IF($C14=G$1,1,"0") -> 0 | H14: =IF($C14=H$1,1,"0") -> 0 | I14: =IF($C14=I$1,1,"0") -> 0 | J14: =IF($C14=J$1,1,"0") -> 0 | K14: =IF($C14=K$1,1,"0") -> 0 | ... V14: =IF($C14=V$1,1,"0") -> 0 | W14: =SUM(D14:V14) -> 0
... A32: =(A31+1) -> 43039 | B32: =(B31+1) -> 43039 | D32: =IF($C32=D$1,1,"0") -> 0 | E32: =IF($C32=E$1,1,"0") -> 0 | F32: =IF($C32=F$1,1,"0") -> 0 | G32: =IF($C32=G$1,1,"0") -> 0 | H32: =IF($C32=H$1,1,"0") -> 0 | I32: =IF($C32=I$1,1,"0") -> 0 | J32: =IF($C32=J$1,1,"0") -> 0 | K32: =IF($C32=K$1,1,"0") -> 0 | ... V32: =IF($C32=V$1,1,"0") -> 0 | W32: =SUM(D32:V32) -> 0
D33: =SUM(D2:D32) -> 0 | E33: =SUM(E2:E32) -> 0 | F33: =SUM(F2:F32) -> 0 | G33: =SUM(G2:G32) -> 0 | H33: =SUM(H2:H32) -> 0 | I33: =SUM(I2:I32) -> 0 | J33: =SUM(J2:J32) -> 0 | K33: =SUM(K2:K32) -> 0 | ... W33: =SUM(W2:W32) -> 0
D37: =(D1) -> - | E37: =(E1) -> - | F37: =(F1) -> - | G37: =(G1) -> - | H37: =(H1) -> - | I37: =(I1) -> - | J37: =(J1) -> - | K37: =(K1) -> - | ... V37: =(V1) -> _
C38: lundi | D38: =SUMPRODUCT((WEEKDAY($A$2:$A$32,2)=ROWS($38:38))*(COUNTIF(FERIES,$A$2:$A$32)=0)*($C$2:$C$32=D$37)) -> 0 | E38: =SUMPRODUCT((WEEKDAY($A$2:$A$32,2)=ROWS($38:38))*(COUNTIF(FERIES,$A$2:$A$32)=0)*($C$2:$C$32=E$37)) -> 0 | F38: =SUMPRODUCT((WEEKDAY($A$2:$A$32,2)=ROWS($38:38))*(COUNTIF(FERIES,$A$2:$A$32)=0)*($C$2:$C$32=F$37)) -> 0 | G38: =SUMPRODUCT((WEEKDAY($A$2:$A$32,2)=ROWS($38:38))*(COUNTIF(FERIES,$A$2:$A$32)=0)*($C$2:$C$32=G$37)) -> 0 | H38: =SUMPRODUCT((WEEKDAY($A$2:$A$32,2)=ROWS($38:38))*(COUNTIF(FERIES,$A$2:$A$32)=0)*($C$2:$C$32=H$37)) -> 0 | I38: =SUMPRODUCT((WEEKDAY($A$2:$A$32,2)=ROWS($38:38))*(COUNTIF(FERIES,$A$2:$A$32)=0)*($C$2:$C$32=I$37)) -> 0 | J38: =SUMPRODUCT((WEEKDAY($A$2:$A$32,2)=ROWS($38:38))*(COUNTIF(FERIES,$A$2:$A$32)=0)*($C$2:$C$32=J$37)) -> 0 | K38: =SUMPRODUCT((WEEKDAY($A$2:$A$32,2)=ROWS($38:38))*(COUNTIF(FERIES,$A$2:$A$32)=0)*($C$2:$C$32=K$37)) -> 0 | ... V38: =SUMPRODUCT((WEEKDAY($A$2:$A$32,2)=ROWS($38:38))*(COUNTIF(FERIES,$A$2:$A$32)=0)*($C$2:$C$32=V$37)) -> 0
C39: mardi | D39: =SUMPRODUCT((WEEKDAY($A$2:$A$32,2)=ROWS($38:39))*(COUNTIF(FERIES,$A$2:$A$32)=0)*($C$2:$C$32=D$37)) -> 0 | E39: =SUMPRODUCT((WEEKDAY($A$2:$A$32,2)=ROWS($38:39))*(COUNTIF(FERIES,$A$2:$A$32)=0)*($C$2:$C$32=E$37)) -> 0 | F39: =SUMPRODUCT((WEEKDAY($A$2:$A$32,2)=ROWS($38:39))*(COUNTIF(FERIES,$A$2:$A$32)=0)*($C$2:$C$32=F$37)) -> 0 | G39: =SUMPRODUCT((WEEKDAY($A$2:$A$32,2)=ROWS($38:39))*(COUNTIF(FERIES,$A$2:$A$32)=0)*($C$2:$C$32=G$37)) -> 0 | H39: =SUMPRODUCT((WEEKDAY($A$2:$A$32,2)=ROWS($38:39))*(COUNTIF(FERIES,$A$2:$A$32)=0)*($C$2:$C$32=H$37)) -> 0 | I39: =SUMPRODUCT((WEEKDAY($A$2:$A$32,2)=ROWS($38:39))*(COUNTIF(FERIES,$A$2:$A$32)=0)*($C$2:$C$32=I$37)) -> 0 | J39: =SUMPRODUCT((WEEKDAY($A$2:$A$32,2)=ROWS($38:39))*(COUNTIF(FERIES,$A$2:$A$32)=0)*($C$2:$C$32=J$37)) -> 0 | K39: =SUMPRODUCT((WEEKDAY($A$2:$A$32,2)=ROWS($38:39))*(COUNTIF(FERIES,$A$2:$A$32)=0)*($C$2:$C$32=K$37)) -> 0 | ... V39: =SUMPRODUCT((WEEKDAY($A$2:$A$32,2)=ROWS($38:39))*(COUNTIF(FERIES,$A$2:$A$32)=0)*($C$2:$C$32=V$37)) -> 0
C40: mercredi | D40: =SUMPRODUCT((WEEKDAY($A$2:$A$32,2)=ROWS($38:40))*(COUNTIF(FERIES,$A$2:$A$32)=0)*($C$2:$C$32=D$37)) -> 0 | E40: =SUMPRODUCT((WEEKDAY($A$2:$A$32,2)=ROWS($38:40))*(COUNTIF(FERIES,$A$2:$A$32)=0)*($C$2:$C$32=E$37)) -> 0 | F40: =SUMPRODUCT((WEEKDAY($A$2:$A$32,2)=ROWS($38:40))*(COUNTIF(FERIES,$A$2:$A$32)=0)*($C$2:$C$32=F$37)) -> 0 | G40: =SUMPRODUCT((WEEKDAY($A$2:$A$32,2)=ROWS($38:40))*(COUNTIF(FERIES,$A$2:$A$32)=0)*($C$2:$C$32=G$37)) -> 0 | H40: =SUMPRODUCT((WEEKDAY($A$2:$A$32,2)=ROWS($38:40))*(COUNTIF(FERIES,$A$2:$A$32)=0)*($C$2:$C$32=H$37)) -> 0 | I40: =SUMPRODUCT((WEEKDAY($A$2:$A$32,2)=ROWS($38:40))*(COUNTIF(FERIES,$A$2:$A$32)=0)*($C$2:$C$32=I$37)) -> 0 | J40: =SUMPRODUCT((WEEKDAY($A$2:$A$32,2)=ROWS($38:40))*(COUNTIF(FERIES,$A$2:$A$32)=0)*($C$2:$C$32=J$37)) -> 0 | K40: =SUMPRODUCT((WEEKDAY($A$2:$A$32,2)=ROWS($38:40))*(COUNTIF(FERIES,$A$2:$A$32)=0)*($C$2:$C$32=K$37)) -> 0 | ... V40: =SUMPRODUCT((WEEKDAY($A$2:$A$32,2)=ROWS($38:40))*(COUNTIF(FERIES,$A$2:$A$32)=0)*($C$2:$C$32=V$37)) -> 0
C41: jeudi | D41: =SUMPRODUCT((WEEKDAY($A$2:$A$32,2)=ROWS($38:41))*(COUNTIF(FERIES,$A$2:$A$32)=0)*($C$2:$C$32=D$37)) -> 0 | E41: =SUMPRODUCT((WEEKDAY($A$2:$A$32,2)=ROWS($38:41))*(COUNTIF(FERIES,$A$2:$A$32)=0)*($C$2:$C$32=E$37)) -> 0 | F41: =SUMPRODUCT((WEEKDAY($A$2:$A$32,2)=ROWS($38:41))*(COUNTIF(FERIES,$A$2:$A$32)=0)*($C$2:$C$32=F$37)) -> 0 | G41: =SUMPRODUCT((WEEKDAY($A$2:$A$32,2)=ROWS($38:41))*(COUNTIF(FERIES,$A$2:$A$32)=0)*($C$2:$C$32=G$37)) -> 0 | H41: =SUMPRODUCT((WEEKDAY($A$2:$A$32,2)=ROWS($38:41))*(COUNTIF(FERIES,$A$2:$A$32)=0)*($C$2:$C$32=H$37)) -> 0 | I41: =SUMPRODUCT((WEEKDAY($A$2:$A$32,2)=ROWS($38:41))*(COUNTIF(FERIES,$A$2:$A$32)=0)*($C$2:$C$32=I$37)) -> 0 | J41: =SUMPRODUCT((WEEKDAY($A$2:$A$32,2)=ROWS($38:41))*(COUNTIF(FERIES,$A$2:$A$32)=0)*($C$2:$C$32=J$37)) -> 0 | K41: =SUMPRODUCT((WEEKDAY($A$2:$A$32,2)=ROWS($38:41))*(COUNTIF(FERIES,$A$2:$A$32)=0)*($C$2:$C$32=K$37)) -> 0 | ... V41: =SUMPRODUCT((WEEKDAY($A$2:$A$32,2)=ROWS($38:41))*(COUNTIF(FERIES,$A$2:$A$32)=0)*($C$2:$C$32=V$37)) -> 0
C42: vendredi | D42: =SUMPRODUCT((WEEKDAY($A$2:$A$32,2)=ROWS($38:42))*(COUNTIF(FERIES,$A$2:$A$32)=0)*($C$2:$C$32=D$37)) -> 0 | E42: =SUMPRODUCT((WEEKDAY($A$2:$A$32,2)=ROWS($38:42))*(COUNTIF(FERIES,$A$2:$A$32)=0)*($C$2:$C$32=E$37)) -> 0 | F42: =SUMPRODUCT((WEEKDAY($A$2:$A$32,2)=ROWS($38:42))*(COUNTIF(FERIES,$A$2:$A$32)=0)*($C$2:$C$32=F$37)) -> 0 | G42: =SUMPRODUCT((WEEKDAY($A$2:$A$32,2)=ROWS($38:42))*(COUNTIF(FERIES,$A$2:$A$32)=0)*($C$2:$C$32=G$37)) -> 0 | H42: =SUMPRODUCT((WEEKDAY($A$2:$A$32,2)=ROWS($38:42))*(COUNTIF(FERIES,$A$2:$A$32)=0)*($C$2:$C$32=H$37)) -> 0 | I42: =SUMPRODUCT((WEEKDAY($A$2:$A$32,2)=ROWS($38:42))*(COUNTIF(FERIES,$A$2:$A$32)=0)*($C$2:$C$32=I$37)) -> 0 | J42: =SUMPRODUCT((WEEKDAY($A$2:$A$32,2)=ROWS($38:42))*(COUNTIF(FERIES,$A$2:$A$32)=0)*($C$2:$C$32=J$37)) -> 0 | K42: =SUMPRODUCT((WEEKDAY($A$2:$A$32,2)=ROWS($38:42))*(COUNTIF(FERIES,$A$2:$A$32)=0)*($C$2:$C$32=K$37)) -> 0 | ... V42: =SUMPRODUCT((WEEKDAY($A$2:$A$32,2)=ROWS($38:42))*(COUNTIF(FERIES,$A$2:$A$32)=0)*($C$2:$C$32=V$37)) -> 0
C43: samedi | D43: =SUMPRODUCT((WEEKDAY($A$2:$A$32,2)=ROWS($38:43))*(COUNTIF(FERIES,$A$2:$A$32)=0)*($C$2:$C$32=D$37)) -> 0 | E43: =SUMPRODUCT((WEEKDAY($A$2:$A$32,2)=ROWS($38:43))*(COUNTIF(FERIES,$A$2:$A$32)=0)*($C$2:$C$32=E$37)) -> 0 | F43: =SUMPRODUCT((WEEKDAY($A$2:$A$32,2)=ROWS($38:43))*(COUNTIF(FERIES,$A$2:$A$32)=0)*($C$2:$C$32=F$37)) -> 0 | G43: =SUMPRODUCT((WEEKDAY($A$2:$A$32,2)=ROWS($38:43))*(COUNTIF(FERIES,$A$2:$A$32)=0)*($C$2:$C$32=G$37)) -> 0 | H43: =SUMPRODUCT((WEEKDAY($A$2:$A$32,2)=ROWS($38:43))*(COUNTIF(FERIES,$A$2:$A$32)=0)*($C$2:$C$32=H$37)) -> 0 | I43: =SUMPRODUCT((WEEKDAY($A$2:$A$32,2)=ROWS($38:43))*(COUNTIF(FERIES,$A$2:$A$32)=0)*($C$2:$C$32=I$37)) -> 0 | J43: =SUMPRODUCT((WEEKDAY($A$2:$A$32,2)=ROWS($38:43))*(COUNTIF(FERIES,$A$2:$A$32)=0)*($C$2:$C$32=J$37)) -> 0 | K43: =SUMPRODUCT((WEEKDAY($A$2:$A$32,2)=ROWS($38:43))*(COUNTIF(FERIES,$A$2:$A$32)=0)*($C$2:$C$32=K$37)) -> 0 | ... V43: =SUMPRODUCT((WEEKDAY($A$2:$A$32,2)=ROWS($38:43))*(COUNTIF(FERIES,$A$2:$A$32)=0)*($C$2:$C$32=V$37)) -> 0
C44: dimanche | D44: =SUMPRODUCT((WEEKDAY($A$2:$A$32,2)=ROWS($38:44))*(COUNTIF(FERIES,$A$2:$A$32)=0)*($C$2:$C$32=D$37)) -> 0 | E44: =SUMPRODUCT((WEEKDAY($A$2:$A$32,2)=ROWS($38:44))*(COUNTIF(FERIES,$A$2:$A$32)=0)*($C$2:$C$32=E$37)) -> 0 | F44: =SUMPRODUCT((WEEKDAY($A$2:$A$32,2)=ROWS($38:44))*(COUNTIF(FERIES,$A$2:$A$32)=0)*($C$2:$C$32=F$37)) -> 0 | G44: =SUMPRODUCT((WEEKDAY($A$2:$A$32,2)=ROWS($38:44))*(COUNTIF(FERIES,$A$2:$A$32)=0)*($C$2:$C$32=G$37)) -> 0 | H44: =SUMPRODUCT((WEEKDAY($A$2:$A$32,2)=ROWS($38:44))*(COUNTIF(FERIES,$A$2:$A$32)=0)*($C$2:$C$32=H$37)) -> 0 | I44: =SUMPRODUCT((WEEKDAY($A$2:$A$32,2)=ROWS($38:44))*(COUNTIF(FERIES,$A$2:$A$32)=0)*($C$2:$C$32=I$37)) -> 0 | J44: =SUMPRODUCT((WEEKDAY($A$2:$A$32,2)=ROWS($38:44))*(COUNTIF(FERIES,$A$2:$A$32)=0)*($C$2:$C$32=J$37)) -> 0 | K44: =SUMPRODUCT((WEEKDAY($A$2:$A$32,2)=ROWS($38:44))*(COUNTIF(FERIES,$A$2:$A$32)=0)*($C$2:$C$32=K$37)) -> 0 | ... V44: =SUMPRODUCT((WEEKDAY($A$2:$A$32,2)=ROWS($38:44))*(COUNTIF(FERIES,$A$2:$A$32)=0)*($C$2:$C$32=V$37)) -> 0
C45: FERIES | D45: =SUMPRODUCT(COUNTIF(FERIES,$A$2:$A$32)*($C$2:$C$32=D37)) -> 0 | E45: =SUMPRODUCT(COUNTIF(FERIES,$A$2:$A$32)*($C$2:$C$32=E37)) -> 0 | F45: =SUMPRODUCT(COUNTIF(FERIES,$A$2:$A$32)*($C$2:$C$32=F37)) -> 0 | G45: =SUMPRODUCT(COUNTIF(FERIES,$A$2:$A$32)*($C$2:$C$32=G37)) -> 0 | H45: =SUMPRODUCT(COUNTIF(FERIES,$A$2:$A$32)*($C$2:$C$32=H37)) -> 0 | I45: =SUMPRODUCT(COUNTIF(FERIES,$A$2:$A$32)*($C$2:$C$32=I37)) -> 0 | J45: =SUMPRODUCT(COUNTIF(FERIES,$A$2:$A$32)*($C$2:$C$32=J37)) -> 0 | K45: =SUMPRODUCT(COUNTIF(FERIES,$A$2:$A$32)*($C$2:$C$32=K37)) -> 0 | ... V45: =SUMPRODUCT(COUNTIF(FERIES,$A$2:$A$32)*($C$2:$C$32=V37)) -> 0
C47: Lun/Mar | D47: =SUM(D38:D39) -> 0 | E47: =SUM(E38:E39) -> 0 | F47: =SUM(F38:F39) -> 0 | G47: =SUM(G38:G39) -> 0 | H47: =SUM(H38:H39) -> 0 | I47: =SUM(I38:I39) -> 0 | J47: =SUM(J38:J39) -> 0 | K47: =SUM(K38:K39) -> 0 | ... V47: =SUM(V38:V39) -> 0
C48: Mer/Ven | D48: =SUM(D40+D42) -> 0 | E48: =SUM(E40+E42) -> 0 | F48: =SUM(F40+F42) -> 0 | G48: =SUM(G40+G42) -> 0 | H48: =SUM(H40+H42) -> 0 | I48: =SUM(I40+I42) -> 0 | J48: =SUM(J40+J42) -> 0 | K48: =SUM(K40+K42) -> 0 | ... V48: =SUM(V40+V42) -> 0
C49: jeudi | D49: =SUM(D41) -> 0 | E49: =SUM(E41) -> 0 | F49: =SUM(F41) -> 0 | G49: =SUM(G41) -> 0 | H49: =SUM(H41) -> 0 | I49: =SUM(I41) -> 0 | J49: =SUM(J41) -> 0 | K49: =SUM(K41) -> 0 | ... V49: =SUM(V41) -> 0
C50: Samedi | D50: =SUM(D43) -> 0 | E50: =SUM(E43) -> 0 | F50: =SUM(F43) -> 0 | G50: =SUM(G43) -> 0 | H50: =SUM(H43) -> 0 | I50: =SUM(I43) -> 0 | J50: =SUM(J43) -> 0 | K50: =SUM(K43) -> 0 | ... V50: =SUM(V43) -> 0
C51: Dimanche | D51: =SUM(D44) -> 0 | E51: =SUM(E44) -> 0 | F51: =SUM(F44) -> 0 | G51: =SUM(G44) -> 0 | H51: =SUM(H44) -> 0 | I51: =SUM(I44) -> 0 | J51: =SUM(J44) -> 0 | K51: =SUM(K44) -> 0 | ... V51: =SUM(V44) -> 0
C52: Fériés | D52: =SUM(D45) -> 0 | E52: =SUM(E45) -> 0 | F52: =SUM(F45) -> 0 | G52: =SUM(G45) -> 0 | H52: =SUM(H45) -> 0 | I52: =SUM(I45) -> 0 | J52: =SUM(J45) -> 0 | K52: =SUM(K45) -> 0 | ... V52: =SUM(V45) -> 0
C55: Lun/Mar | D55: =SUM(Jan:Dec!D47) -> 0 | E55: =SUM(Jan:Dec!E47) -> 0 | F55: =SUM(Jan:Dec!F47) -> 1 | G55: =SUM(Jan:Dec!G47) -> 0 | H55: =SUM(Jan:Dec!H47) -> 0 | I55: =SUM(Jan:Dec!I47) -> 0 | J55: =SUM(Jan:Dec!J47) -> 0 | K55: =SUM(Jan:Dec!K47) -> 0 | ... V55: =SUM(Jan:Dec!V47) -> 0
C56: Mer/Ven | D56: =SUM(Jan:Dec!D48) -> 1 | E56: =SUM(Jan:Dec!E48) -> 0 | F56: =SUM(Jan:Dec!F48) -> 0 | G56: =SUM(Jan:Dec!G48) -> 0 | H56: =SUM(Jan:Dec!H48) -> 0 | I56: =SUM(Jan:Dec!I48) -> 0 | J56: =SUM(Jan:Dec!J48) -> 0 | K56: =SUM(Jan:Dec!K48) -> 0 | ... V56: =SUM(Jan:Dec!V48) -> 0
C57: jeudi | D57: =SUM(Jan:Dec!D49) -> 0 | E57: =SUM(Jan:Dec!E49) -> 0 | F57: =SUM(Jan:Dec!F49) -> 0 | G57: =SUM(Jan:Dec!G49) -> 0 | H57: =SUM(Jan:Dec!H49) -> 0 | I57: =SUM(Jan:Dec!I49) -> 0 | J57: =SUM(Jan:Dec!J49) -> 0 | K57: =SUM(Jan:Dec!K49) -> 0 | ... V57: =SUM(Jan:Dec!V49) -> 0
C58: Samedi | D58: =SUM(Jan:Dec!D50) -> 0 | E58: =SUM(Jan:Dec!E50) -> 1 | F58: =SUM(Jan:Dec!F50) -> 0 | G58: =SUM(Jan:Dec!G50) -> 0 | H58: =SUM(Jan:Dec!H50) -> 0 | I58: =SUM(Jan:Dec!I50) -> 0 | J58: =SUM(Jan:Dec!J50) -> 0 | K58: =SUM(Jan:Dec!K50) -> 0 | ... V58: =SUM(Jan:Dec!V50) -> 0
C59: Dimanche | D59: =SUM(Jan:Dec!D51) -> 0 | E59: =SUM(Jan:Dec!E51) -> 0 | F59: =SUM(Jan:Dec!F51) -> 0 | G59: =SUM(Jan:Dec!G51) -> 0 | H59: =SUM(Jan:Dec!H51) -> 0 | I59: =SUM(Jan:Dec!I51) -> 0 | J59: =SUM(Jan:Dec!J51) -> 0 | K59: =SUM(Jan:Dec!K51) -> 0 | ... V59: =SUM(Jan:Dec!V51) -> 0
C60: Fériés | D60: =SUM(Jan:Dec!D52) -> 1 | E60: =SUM(Jan:Dec!E52) -> 0 | F60: =SUM(Jan:Dec!F52) -> 0 | G60: =SUM(Jan:Dec!G52) -> 0 | H60: =SUM(Jan:Dec!H52) -> 0 | I60: =SUM(Jan:Dec!I52) -> 0 | J60: =SUM(Jan:Dec!J52) -> 0 | K60: =SUM(Jan:Dec!K52) -> 0 | ... V60: =SUM(Jan:Dec!V52) -> 0
C61: Total | D61: =SUM(D55:D60) -> 2 | E61: =SUM(E55:E60) -> 1 | F61: =SUM(F55:F60) -> 1 | G61: =SUM(G55:G60) -> 0 | H61: =SUM(H55:H60) -> 0 | I61: =SUM(I55:I60) -> 0 | J61: =SUM(J55:J60) -> 0 | K61: =SUM(K55:K60) -> 0 | ... V61: =SUM(V55:V60) -> 0

Sheet Nov
A1: =DATE(Accueil!E1,11,1) -> 43040 | B1: DATE | C1: GRADE - NOM | D1: - | E1: - | F1: - | G1: - | H1: - | I1: - | J1: - | K1: - | L1: - | M1: - | N1: - | O1: - | P1: - | Q1: - | R1: - | S1: _ | T1: _ | U1: _ | V1: _ | W1: Récap
A2: =DATE(Accueil!E1,11,1) -> 43040 | B2: =DATE(Accueil!E1,11,1) -> 43040 | D2: =IF($C2=D$1,1,"0") -> 0 | E2: =IF($C2=E$1,1,"0") -> 0 | F2: =IF($C2=F$1,1,"0") -> 0 | G2: =IF($C2=G$1,1,"0") -> 0 | H2: =IF($C2=H$1,1,"0") -> 0 | I2: =IF($C2=I$1,1,"0") -> 0 | J2: =IF($C2=J$1,1,"0") -> 0 | K2: =IF($C2=K$1,1,"0") -> 0 | ... V2: =IF($C2=V$1,1,"0") -> 0 | W2: =SUM(D2:V2) -> 0
A3: =(A2+1) -> 43041 | B3: =(B2+1) -> 43041 | D3: =IF($C3=D$1,1,"0") -> 0 | E3: =IF($C3=E$1,1,"0") -> 0 | F3: =IF($C3=F$1,1,"0") -> 0 | G3: =IF($C3=G$1,1,"0") -> 0 | H3: =IF($C3=H$1,1,"0") -> 0 | I3: =IF($C3=I$1,1,"0") -> 0 | J3: =IF($C3=J$1,1,"0") -> 0 | K3: =IF($C3=K$1,1,"0") -> 0 | ... V3: =IF($C3=V$1,1,"0") -> 0 | W3: =SUM(D3:V3) -> 0
A4: =(A3+1) -> 43042 | B4: =(B3+1) -> 43042 | D4: =IF($C4=D$1,1,"0") -> 0 | E4: =IF($C4=E$1,1,"0") -> 0 | F4: =IF($C4=F$1,1,"0") -> 0 | G4: =IF($C4=G$1,1,"0") -> 0 | H4: =IF($C4=H$1,1,"0") -> 0 | I4: =IF($C4=I$1,1,"0") -> 0 | J4: =IF($C4=J$1,1,"0") -> 0 | K4: =IF($C4=K$1,1,"0") -> 0 | ... V4: =IF($C4=V$1,1,"0") -> 0 | W4: =SUM(D4:V4) -> 0
A5: =(A4+1) -> 43043 | B5: =(B4+1) -> 43043 | D5: =IF($C5=D$1,1,"0") -> 0 | E5: =IF($C5=E$1,1,"0") -> 0 | F5: =IF($C5=F$1,1,"0") -> 0 | G5: =IF($C5=G$1,1,"0") -> 0 | H5: =IF($C5=H$1,1,"0") -> 0 | I5: =IF($C5=I$1,1,"0") -> 0 | J5: =IF($C5=J$1,1,"0") -> 0 | K5: =IF($C5=K$1,1,"0") -> 0 | ... V5: =IF($C5=V$1,1,"0") -> 0 | W5: =SUM(D5:V5) -> 0
A6: =(A5+1) -> 43044 | B6: =(B5+1) -> 43044 | D6: =IF($C6=D$1,1,"0") -> 0 | E6: =IF($C6=E$1,1,"0") -> 0 | F6: =IF($C6=F$1,1,"0") -> 0 | G6: =IF($C6=G$1,1,"0") -> 0 | H6: =IF($C6=H$1,1,"0") -> 0 | I6: =IF($C6=I$1,1,"0") -> 0 | J6: =IF($C6=J$1,1,"0") -> 0 | K6: =IF($C6=K$1,1,"0") -> 0 | ... V6: =IF($C6=V$1,1,"0") -> 0 | W6: =SUM(D6:V6) -> 0
A7: =(A6+1) -> 43045 | B7: =(B6+1) -> 43045 | D7: =IF($C7=D$1,1,"0") -> 0 | E7: =IF($C7=E$1,1,"0") -> 0 | F7: =IF($C7=F$1,1,"0") -> 0 | G7: =IF($C7=G$1,1,"0") -> 0 | H7: =IF($C7=H$1,1,"0") -> 0 | I7: =IF($C7=I$1,1,"0") -> 0 | J7: =IF($C7=J$1,1,"0") -> 0 | K7: =IF($C7=K$1,1,"0") -> 0 | ... V7: =IF($C7=V$1,1,"0") -> 0 | W7: =SUM(D7:V7) -> 0
A8: =(A7+1) -> 43046 | B8: =(B7+1) -> 43046 | D8: =IF($C8=D$1,1,"0") -> 0 | E8: =IF($C8=E$1,1,"0") -> 0 | F8: =IF($C8=F$1,1,"0") -> 0 | G8: =IF($C8=G$1,1,"0") -> 0 | H8: =IF($C8=H$1,1,"0") -> 0 | I8: =IF($C8=I$1,1,"0") -> 0 | J8: =IF($C8=J$1,1,"0") -> 0 | K8: =IF($C8=K$1,1,"0") -> 0 | ... V8: =IF($C8=V$1,1,"0") -> 0 | W8: =SUM(D8:V8) -> 0
A9: =(A8+1) -> 43047 | B9: =(B8+1) -> 43047 | D9: =IF($C9=D$1,1,"0") -> 0 | E9: =IF($C9=E$1,1,"0") -> 0 | F9: =IF($C9=F$1,1,"0") -> 0 | G9: =IF($C9=G$1,1,"0") -> 0 | H9: =IF($C9=H$1,1,"0") -> 0 | I9: =IF($C9=I$1,1,"0") -> 0 | J9: =IF($C9=J$1,1,"0") -> 0 | K9: =IF($C9=K$1,1,"0") -> 0 | ... V9: =IF($C9=V$1,1,"0") -> 0 | W9: =SUM(D9:V9) -> 0
A10: =(A9+1) -> 43048 | B10: =(B9+1) -> 43048 | D10: =IF($C10=D$1,1,"0") -> 0 | E10: =IF($C10=E$1,1,"0") -> 0 | F10: =IF($C10=F$1,1,"0") -> 0 | G10: =IF($C10=G$1,1,"0") -> 0 | H10: =IF($C10=H$1,1,"0") -> 0 | I10: =IF($C10=I$1,1,"0") -> 0 | J10: =IF($C10=J$1,1,"0") -> 0 | K10: =IF($C10=K$1,1,"0") -> 0 | ... V10: =IF($C10=V$1,1,"0") -> 0 | W10: =SUM(D10:V10) -> 0
A11: =(A10+1) -> 43049 | B11: =(B10+1) -> 43049 | D11: =IF($C11=D$1,1,"0") -> 0 | E11: =IF($C11=E$1,1,"0") -> 0 | F11: =IF($C11=F$1,1,"0") -> 0 | G11: =IF($C11=G$1,1,"0") -> 0 | H11: =IF($C11=H$1,1,"0") -> 0 | I11: =IF($C11=I$1,1,"0") -> 0 | J11: =IF($C11=J$1,1,"0") -> 0 | K11: =IF($C11=K$1,1,"0") -> 0 | ... V11: =IF($C11=V$1,1,"0") -> 0 | W11: =SUM(D11:V11) -> 0
A12: =(A11+1) -> 43050 | B12: =(B11+1) -> 43050 | D12: =IF($C12=D$1,1,"0") -> 0 | E12: =IF($C12=E$1,1,"0") -> 0 | F12: =IF($C12=F$1,1,"0") -> 0 | G12: =IF($C12=G$1,1,"0") -> 0 | H12: =IF($C12=H$1,1,"0") -> 0 | I12: =IF($C12=I$1,1,"0") -> 0 | J12: =IF($C12=J$1,1,"0") -> 0 | K12: =IF($C12=K$1,1,"0") -> 0 | ... V12: =IF($C12=V$1,1,"0") -> 0 | W12: =SUM(D12:V12) -> 0
A13: =(A12+1) -> 43051 | B13: =(B12+1) -> 43051 | D13: =IF($C13=D$1,1,"0") -> 0 | E13: =IF($C13=E$1,1,"0") -> 0 | F13: =IF($C13=F$1,1,"0") -> 0 | G13: =IF($C13=G$1,1,"0") -> 0 | H13: =IF($C13=H$1,1,"0") -> 0 | I13: =IF($C13=I$1,1,"0") -> 0 | J13: =IF($C13=J$1,1,"0") -> 0 | K13: =IF($C13=K$1,1,"0") -> 0 | ... V13: =IF($C13=V$1,1,"0") -> 0 | W13: =SUM(D13:V13) -> 0
A14: =(A13+1) -> 43052 | B14: =(B13+1) -> 43052 | D14: =IF($C14=D$1,1,"0") -> 0 | E14: =IF($C14=E$1,1,"0") -> 0 | F14: =IF($C14=F$1,1,"0") -> 0 | G14: =IF($C14=G$1,1,"0") -> 0 | H14: =IF($C14=H$1,1,"0") -> 0 | I14: =IF($C14=I$1,1,"0") -> 0 | J14: =IF($C14=J$1,1,"0") -> 0 | K14: =IF($C14=K$1,1,"0") -> 0 | ... V14: =IF($C14=V$1,1,"0") -> 0 | W14: =SUM(D14:V14) -> 0
... A32: =(A31+1) -> 43070 | B32: =(B31+1) -> 43070 | D32: =IF($C32=D$1,1,"0") -> 0 | E32: =IF($C32=E$1,1,"0") -> 0 | F32: =IF($C32=F$1,1,"0") -> 0 | G32: =IF($C32=G$1,1,"0") -> 0 | H32: =IF($C32=H$1,1,"0") -> 0 | I32: =IF($C32=I$1,1,"0") -> 0 | J32: =IF($C32=J$1,1,"0") -> 0 | K32: =IF($C32=K$1,1,"0") -> 0 | ... V32: =IF($C32=V$1,1,"0") -> 0 | W32: =SUM(D32:V32) -> 0
D33: =SUM(D2:D32) -> 0 | E33: =SUM(E2:E32) -> 0 | F33: =SUM(F2:F32) -> 0 | G33: =SUM(G2:G32) -> 0 | H33: =SUM(H2:H32) -> 0 | I33: =SUM(I2:I32) -> 0 | J33: =SUM(J2:J32) -> 0 | K33: =SUM(K2:K32) -> 0 | ... W33: =SUM(W2:W32) -> 0
D37: =(D1) -> - | E37: =(E1) -> - | F37: =(F1) -> - | G37: =(G1) -> - | H37: =(H1) -> - | I37: =(I1) -> - | J37: =(J1) -> - | K37: =(K1) -> - | ... V37: =(V1) -> _
C38: lundi | D38: =SUMPRODUCT((WEEKDAY($A$2:$A$32,2)=ROWS($38:38))*(COUNTIF(FERIES,$A$2:$A$32)=0)*($C$2:$C$32=D$37)) -> 0 | E38: =SUMPRODUCT((WEEKDAY($A$2:$A$32,2)=ROWS($38:38))*(COUNTIF(FERIES,$A$2:$A$32)=0)*($C$2:$C$32=E$37)) -> 0 | F38: =SUMPRODUCT((WEEKDAY($A$2:$A$32,2)=ROWS($38:38))*(COUNTIF(FERIES,$A$2:$A$32)=0)*($C$2:$C$32=F$37)) -> 0 | G38: =SUMPRODUCT((WEEKDAY($A$2:$A$32,2)=ROWS($38:38))*(COUNTIF(FERIES,$A$2:$A$32)=0)*($C$2:$C$32=G$37)) -> 0 | H38: =SUMPRODUCT((WEEKDAY($A$2:$A$32,2)=ROWS($38:38))*(COUNTIF(FERIES,$A$2:$A$32)=0)*($C$2:$C$32=H$37)) -> 0 | I38: =SUMPRODUCT((WEEKDAY($A$2:$A$32,2)=ROWS($38:38))*(COUNTIF(FERIES,$A$2:$A$32)=0)*($C$2:$C$32=I$37)) -> 0 | J38: =SUMPRODUCT((WEEKDAY($A$2:$A$32,2)=ROWS($38:38))*(COUNTIF(FERIES,$A$2:$A$32)=0)*($C$2:$C$32=J$37)) -> 0 | K38: =SUMPRODUCT((WEEKDAY($A$2:$A$32,2)=ROWS($38:38))*(COUNTIF(FERIES,$A$2:$A$32)=0)*($C$2:$C$32=K$37)) -> 0 | ... V38: =SUMPRODUCT((WEEKDAY($A$2:$A$32,2)=ROWS($38:38))*(COUNTIF(FERIES,$A$2:$A$32)=0)*($C$2:$C$32=V$37)) -> 0
C39: mardi | D39: =SUMPRODUCT((WEEKDAY($A$2:$A$32,2)=ROWS($38:39))*(COUNTIF(FERIES,$A$2:$A$32)=0)*($C$2:$C$32=D$37)) -> 0 | E39: =SUMPRODUCT((WEEKDAY($A$2:$A$32,2)=ROWS($38:39))*(COUNTIF(FERIES,$A$2:$A$32)=0)*($C$2:$C$32=E$37)) -> 0 | F39: =SUMPRODUCT((WEEKDAY($A$2:$A$32,2)=ROWS($38:39))*(COUNTIF(FERIES,$A$2:$A$32)=0)*($C$2:$C$32=F$37)) -> 0 | G39: =SUMPRODUCT((WEEKDAY($A$2:$A$32,2)=ROWS($38:39))*(COUNTIF(FERIES,$A$2:$A$32)=0)*($C$2:$C$32=G$37)) -> 0 | H39: =SUMPRODUCT((WEEKDAY($A$2:$A$32,2)=ROWS($38:39))*(COUNTIF(FERIES,$A$2:$A$32)=0)*($C$2:$C$32=H$37)) -> 0 | I39: =SUMPRODUCT((WEEKDAY($A$2:$A$32,2)=ROWS($38:39))*(COUNTIF(FERIES,$A$2:$A$32)=0)*($C$2:$C$32=I$37)) -> 0 | J39: =SUMPRODUCT((WEEKDAY($A$2:$A$32,2)=ROWS($38:39))*(COUNTIF(FERIES,$A$2:$A$32)=0)*($C$2:$C$32=J$37)) -> 0 | K39: =SUMPRODUCT((WEEKDAY($A$2:$A$32,2)=ROWS($38:39))*(COUNTIF(FERIES,$A$2:$A$32)=0)*($C$2:$C$32=K$37)) -> 0 | ... V39: =SUMPRODUCT((WEEKDAY($A$2:$A$32,2)=ROWS($38:39))*(COUNTIF(FERIES,$A$2:$A$32)=0)*($C$2:$C$32=V$37)) -> 0
C40: mercredi | D40: =SUMPRODUCT((WEEKDAY($A$2:$A$32,2)=ROWS($38:40))*(COUNTIF(FERIES,$A$2:$A$32)=0)*($C$2:$C$32=D$37)) -> 0 | E40: =SUMPRODUCT((WEEKDAY($A$2:$A$32,2)=ROWS($38:40))*(COUNTIF(FERIES,$A$2:$A$32)=0)*($C$2:$C$32=E$37)) -> 0 | F40: =SUMPRODUCT((WEEKDAY($A$2:$A$32,2)=ROWS($38:40))*(COUNTIF(FERIES,$A$2:$A$32)=0)*($C$2:$C$32=F$37)) -> 0 | G40: =SUMPRODUCT((WEEKDAY($A$2:$A$32,2)=ROWS($38:40))*(COUNTIF(FERIES,$A$2:$A$32)=0)*($C$2:$C$32=G$37)) -> 0 | H40: =SUMPRODUCT((WEEKDAY($A$2:$A$32,2)=ROWS($38:40))*(COUNTIF(FERIES,$A$2:$A$32)=0)*($C$2:$C$32=H$37)) -> 0 | I40: =SUMPRODUCT((WEEKDAY($A$2:$A$32,2)=ROWS($38:40))*(COUNTIF(FERIES,$A$2:$A$32)=0)*($C$2:$C$32=I$37)) -> 0 | J40: =SUMPRODUCT((WEEKDAY($A$2:$A$32,2)=ROWS($38:40))*(COUNTIF(FERIES,$A$2:$A$32)=0)*($C$2:$C$32=J$37)) -> 0 | K40: =SUMPRODUCT((WEEKDAY($A$2:$A$32,2)=ROWS($38:40))*(COUNTIF(FERIES,$A$2:$A$32)=0)*($C$2:$C$32=K$37)) -> 0 | ... V40: =SUMPRODUCT((WEEKDAY($A$2:$A$32,2)=ROWS($38:40))*(COUNTIF(FERIES,$A$2:$A$32)=0)*($C$2:$C$32=V$37)) -> 0
C41: jeudi | D41: =SUMPRODUCT((WEEKDAY($A$2:$A$32,2)=ROWS($38:41))*(COUNTIF(FERIES,$A$2:$A$32)=0)*($C$2:$C$32=D$37)) -> 0 | E41: =SUMPRODUCT((WEEKDAY($A$2:$A$32,2)=ROWS($38:41))*(COUNTIF(FERIES,$A$2:$A$32)=0)*($C$2:$C$32=E$37)) -> 0 | F41: =SUMPRODUCT((WEEKDAY($A$2:$A$32,2)=ROWS($38:41))*(COUNTIF(FERIES,$A$2:$A$32)=0)*($C$2:$C$32=F$37)) -> 0 | G41: =SUMPRODUCT((WEEKDAY($A$2:$A$32,2)=ROWS($38:41))*(COUNTIF(FERIES,$A$2:$A$32)=0)*($C$2:$C$32=G$37)) -> 0 | H41: =SUMPRODUCT((WEEKDAY($A$2:$A$32,2)=ROWS($38:41))*(COUNTIF(FERIES,$A$2:$A$32)=0)*($C$2:$C$32=H$37)) -> 0 | I41: =SUMPRODUCT((WEEKDAY($A$2:$A$32,2)=ROWS($38:41))*(COUNTIF(FERIES,$A$2:$A$32)=0)*($C$2:$C$32=I$37)) -> 0 | J41: =SUMPRODUCT((WEEKDAY($A$2:$A$32,2)=ROWS($38:41))*(COUNTIF(FERIES,$A$2:$A$32)=0)*($C$2:$C$32=J$37)) -> 0 | K41: =SUMPRODUCT((WEEKDAY($A$2:$A$32,2)=ROWS($38:41))*(COUNTIF(FERIES,$A$2:$A$32)=0)*($C$2:$C$32=K$37)) -> 0 | ... V41: =SUMPRODUCT((WEEKDAY($A$2:$A$32,2)=ROWS($38:41))*(COUNTIF(FERIES,$A$2:$A$32)=0)*($C$2:$C$32=V$37)) -> 0
C42: vendredi | D42: =SUMPRODUCT((WEEKDAY($A$2:$A$32,2)=ROWS($38:42))*(COUNTIF(FERIES,$A$2:$A$32)=0)*($C$2:$C$32=D$37)) -> 0 | E42: =SUMPRODUCT((WEEKDAY($A$2:$A$32,2)=ROWS($38:42))*(COUNTIF(FERIES,$A$2:$A$32)=0)*($C$2:$C$32=E$37)) -> 0 | F42: =SUMPRODUCT((WEEKDAY($A$2:$A$32,2)=ROWS($38:42))*(COUNTIF(FERIES,$A$2:$A$32)=0)*($C$2:$C$32=F$37)) -> 0 | G42: =SUMPRODUCT((WEEKDAY($A$2:$A$32,2)=ROWS($38:42))*(COUNTIF(FERIES,$A$2:$A$32)=0)*($C$2:$C$32=G$37)) -> 0 | H42: =SUMPRODUCT((WEEKDAY($A$2:$A$32,2)=ROWS($38:42))*(COUNTIF(FERIES,$A$2:$A$32)=0)*($C$2:$C$32=H$37)) -> 0 | I42: =SUMPRODUCT((WEEKDAY($A$2:$A$32,2)=ROWS($38:42))*(COUNTIF(FERIES,$A$2:$A$32)=0)*($C$2:$C$32=I$37)) -> 0 | J42: =SUMPRODUCT((WEEKDAY($A$2:$A$32,2)=ROWS($38:42))*(COUNTIF(FERIES,$A$2:$A$32)=0)*($C$2:$C$32=J$37)) -> 0 | K42: =SUMPRODUCT((WEEKDAY($A$2:$A$32,2)=ROWS($38:42))*(COUNTIF(FERIES,$A$2:$A$32)=0)*($C$2:$C$32=K$37)) -> 0 | ... V42: =SUMPRODUCT((WEEKDAY($A$2:$A$32,2)=ROWS($38:42))*(COUNTIF(FERIES,$A$2:$A$32)=0)*($C$2:$C$32=V$37)) -> 0
C43: samedi | D43: =SUMPRODUCT((WEEKDAY($A$2:$A$32,2)=ROWS($38:43))*(COUNTIF(FERIES,$A$2:$A$32)=0)*($C$2:$C$32=D$37)) -> 0 | E43: =SUMPRODUCT((WEEKDAY($A$2:$A$32,2)=ROWS($38:43))*(COUNTIF(FERIES,$A$2:$A$32)=0)*($C$2:$C$32=E$37)) -> 0 | F43: =SUMPRODUCT((WEEKDAY($A$2:$A$32,2)=ROWS($38:43))*(COUNTIF(FERIES,$A$2:$A$32)=0)*($C$2:$C$32=F$37)) -> 0 | G43: =SUMPRODUCT((WEEKDAY($A$2:$A$32,2)=ROWS($38:43))*(COUNTIF(FERIES,$A$2:$A$32)=0)*($C$2:$C$32=G$37)) -> 0 | H43: =SUMPRODUCT((WEEKDAY($A$2:$A$32,2)=ROWS($38:43))*(COUNTIF(FERIES,$A$2:$A$32)=0)*($C$2:$C$32=H$37)) -> 0 | I43: =SUMPRODUCT((WEEKDAY($A$2:$A$32,2)=ROWS($38:43))*(COUNTIF(FERIES,$A$2:$A$32)=0)*($C$2:$C$32=I$37)) -> 0 | J43: =SUMPRODUCT((WEEKDAY($A$2:$A$32,2)=ROWS($38:43))*(COUNTIF(FERIES,$A$2:$A$32)=0)*($C$2:$C$32=J$37)) -> 0 | K43: =SUMPRODUCT((WEEKDAY($A$2:$A$32,2)=ROWS($38:43))*(COUNTIF(FERIES,$A$2:$A$32)=0)*($C$2:$C$32=K$37)) -> 0 | ... V43: =SUMPRODUCT((WEEKDAY($A$2:$A$32,2)=ROWS($38:43))*(COUNTIF(FERIES,$A$2:$A$32)=0)*($C$2:$C$32=V$37)) -> 0
C44: dimanche | D44: =SUMPRODUCT((WEEKDAY($A$2:$A$32,2)=ROWS($38:44))*(COUNTIF(FERIES,$A$2:$A$32)=0)*($C$2:$C$32=D$37)) -> 0 | E44: =SUMPRODUCT((WEEKDAY($A$2:$A$32,2)=ROWS($38:44))*(COUNTIF(FERIES,$A$2:$A$32)=0)*($C$2:$C$32=E$37)) -> 0 | F44: =SUMPRODUCT((WEEKDAY($A$2:$A$32,2)=ROWS($38:44))*(COUNTIF(FERIES,$A$2:$A$32)=0)*($C$2:$C$32=F$37)) -> 0 | G44: =SUMPRODUCT((WEEKDAY($A$2:$A$32,2)=ROWS($38:44))*(COUNTIF(FERIES,$A$2:$A$32)=0)*($C$2:$C$32=G$37)) -> 0 | H44: =SUMPRODUCT((WEEKDAY($A$2:$A$32,2)=ROWS($38:44))*(COUNTIF(FERIES,$A$2:$A$32)=0)*($C$2:$C$32=H$37)) -> 0 | I44: =SUMPRODUCT((WEEKDAY($A$2:$A$32,2)=ROWS($38:44))*(COUNTIF(FERIES,$A$2:$A$32)=0)*($C$2:$C$32=I$37)) -> 0 | J44: =SUMPRODUCT((WEEKDAY($A$2:$A$32,2)=ROWS($38:44))*(COUNTIF(FERIES,$A$2:$A$32)=0)*($C$2:$C$32=J$37)) -> 0 | K44: =SUMPRODUCT((WEEKDAY($A$2:$A$32,2)=ROWS($38:44))*(COUNTIF(FERIES,$A$2:$A$32)=0)*($C$2:$C$32=K$37)) -> 0 | ... V44: =SUMPRODUCT((WEEKDAY($A$2:$A$32,2)=ROWS($38:44))*(COUNTIF(FERIES,$A$2:$A$32)=0)*($C$2:$C$32=V$37)) -> 0
C45: FERIES | D45: =SUMPRODUCT(COUNTIF(FERIES,$A$2:$A$32)*($C$2:$C$32=D37)) -> 0 | E45: =SUMPRODUCT(COUNTIF(FERIES,$A$2:$A$32)*($C$2:$C$32=E37)) -> 0 | F45: =SUMPRODUCT(COUNTIF(FERIES,$A$2:$A$32)*($C$2:$C$32=F37)) -> 0 | G45: =SUMPRODUCT(COUNTIF(FERIES,$A$2:$A$32)*($C$2:$C$32=G37)) -> 0 | H45: =SUMPRODUCT(COUNTIF(FERIES,$A$2:$A$32)*($C$2:$C$32=H37)) -> 0 | I45: =SUMPRODUCT(COUNTIF(FERIES,$A$2:$A$32)*($C$2:$C$32=I37)) -> 0 | J45: =SUMPRODUCT(COUNTIF(FERIES,$A$2:$A$32)*($C$2:$C$32=J37)) -> 0 | K45: =SUMPRODUCT(COUNTIF(FERIES,$A$2:$A$32)*($C$2:$C$32=K37)) -> 0 | ... V45: =SUMPRODUCT(COUNTIF(FERIES,$A$2:$A$32)*($C$2:$C$32=V37)) -> 0
C47: Lun/Mar | D47: =SUM(D38:D39) -> 0 | E47: =SUM(E38:E39) -> 0 | F47: =SUM(F38:F39) -> 0 | G47: =SUM(G38:G39) -> 0 | H47: =SUM(H38:H39) -> 0 | I47: =SUM(I38:I39) -> 0 | J47: =SUM(J38:J39) -> 0 | K47: =SUM(K38:K39) -> 0 | ... V47: =SUM(V38:V39) -> 0
C48: Mer/Ven | D48: =SUM(D40+D42) -> 0 | E48: =SUM(E40+E42) -> 0 | F48: =SUM(F40+F42) -> 0 | G48: =SUM(G40+G42) -> 0 | H48: =SUM(H40+H42) -> 0 | I48: =SUM(I40+I42) -> 0 | J48: =SUM(J40+J42) -> 0 | K48: =SUM(K40+K42) -> 0 | ... V48: =SUM(V40+V42) -> 0
C49: jeudi | D49: =SUM(D41) -> 0 | E49: =SUM(E41) -> 0 | F49: =SUM(F41) -> 0 | G49: =SUM(G41) -> 0 | H49: =SUM(H41) -> 0 | I49: =SUM(I41) -> 0 | J49: =SUM(J41) -> 0 | K49: =SUM(K41) -> 0 | ... V49: =SUM(V41) -> 0
C50: Samedi | D50: =SUM(D43) -> 0 | E50: =SUM(E43) -> 0 | F50: =SUM(F43) -> 0 | G50: =SUM(G43) -> 0 | H50: =SUM(H43) -> 0 | I50: =SUM(I43) -> 0 | J50: =SUM(J43) -> 0 | K50: =SUM(K43) -> 0 | ... V50: =SUM(V43) -> 0
C51: Dimanche | D51: =SUM(D44) -> 0 | E51: =SUM(E44) -> 0 | F51: =SUM(F44) -> 0 | G51: =SUM(G44) -> 0 | H51: =SUM(H44) -> 0 | I51: =SUM(I44) -> 0 | J51: =SUM(J44) -> 0 | K51: =SUM(K44) -> 0 | ... V51: =SUM(V44) -> 0
C52: Fériés | D52: =SUM(D45) -> 0 | E52: =SUM(E45) -> 0 | F52: =SUM(F45) -> 0 | G52: =SUM(G45) -> 0 | H52: =SUM(H45) -> 0 | I52: =SUM(I45) -> 0 | J52: =SUM(J45) -> 0 | K52: =SUM(K45) -> 0 | ... V52: =SUM(V45) -> 0
C55: Lun/Mar | D55: =SUM(Jan:Dec!D47) -> 0 | E55: =SUM(Jan:Dec!E47) -> 0 | F55: =SUM(Jan:Dec!F47) -> 1 | G55: =SUM(Jan:Dec!G47) -> 0 | H55: =SUM(Jan:Dec!H47) -> 0 | I55: =SUM(Jan:Dec!I47) -> 0 | J55: =SUM(Jan:Dec!J47) -> 0 | K55: =SUM(Jan:Dec!K47) -> 0 | ... V55: =SUM(Jan:Dec!V47) -> 0
C56: Mer/Ven | D56: =SUM(Jan:Dec!D48) -> 1 | E56: =SUM(Jan:Dec!E48) -> 0 | F56: =SUM(Jan:Dec!F48) -> 0 | G56: =SUM(Jan:Dec!G48) -> 0 | H56: =SUM(Jan:Dec!H48) -> 0 | I56: =SUM(Jan:Dec!I48) -> 0 | J56: =SUM(Jan:Dec!J48) -> 0 | K56: =SUM(Jan:Dec!K48) -> 0 | ... V56: =SUM(Jan:Dec!V48) -> 0
C57: jeudi | D57: =SUM(Jan:Dec!D49) -> 0 | E57: =SUM(Jan:Dec!E49) -> 0 | F57: =SUM(Jan:Dec!F49) -> 0 | G57: =SUM(Jan:Dec!G49) -> 0 | H57: =SUM(Jan:Dec!H49) -> 0 | I57: =SUM(Jan:Dec!I49) -> 0 | J57: =SUM(Jan:Dec!J49) -> 0 | K57: =SUM(Jan:Dec!K49) -> 0 | ... V57: =SUM(Jan:Dec!V49) -> 0
C58: Samedi | D58: =SUM(Jan:Dec!D50) -> 0 | E58: =SUM(Jan:Dec!E50) -> 1 | F58: =SUM(Jan:Dec!F50) -> 0 | G58: =SUM(Jan:Dec!G50) -> 0 | H58: =SUM(Jan:Dec!H50) -> 0 | I58: =SUM(Jan:Dec!I50) -> 0 | J58: =SUM(Jan:Dec!J50) -> 0 | K58: =SUM(Jan:Dec!K50) -> 0 | ... V58: =SUM(Jan:Dec!V50) -> 0
C59: Dimanche | D59: =SUM(Jan:Dec!D51) -> 0 | E59: =SUM(Jan:Dec!E51) -> 0 | F59: =SUM(Jan:Dec!F51) -> 0 | G59: =SUM(Jan:Dec!G51) -> 0 | H59: =SUM(Jan:Dec!H51) -> 0 | I59: =SUM(Jan:Dec!I51) -> 0 | J59: =SUM(Jan:Dec!J51) -> 0 | K59: =SUM(Jan:Dec!K51) -> 0 | ... V59: =SUM(Jan:Dec!V51) -> 0
C60: Fériés | D60: =SUM(Jan:Dec!D52) -> 1 | E60: =SUM(Jan:Dec!E52) -> 0 | F60: =SUM(Jan:Dec!F52) -> 0 | G60: =SUM(Jan:Dec!G52) -> 0 | H60: =SUM(Jan:Dec!H52) -> 0 | I60: =SUM(Jan:Dec!I52) -> 0 | J60: =SUM(Jan:Dec!J52) -> 0 | K60: =SUM(Jan:Dec!K52) -> 0 | ... V60: =SUM(Jan:Dec!V52) -> 0
C61: Total | D61: =SUM(D55:D60) -> 2 | E61: =SUM(E55:E60) -> 1 | F61: =SUM(F55:F60) -> 1 | G61: =SUM(G55:G60) -> 0 | H61: =SUM(H55:H60) -> 0 | I61: =SUM(I55:I60) -> 0 | J61: =SUM(J55:J60) -> 0 | K61: =SUM(K55:K60) -> 0 | ... V61: =SUM(V55:V60) -> 0

Sheet Dec
A1: =DATE(Accueil!E1,12,1) -> 43070 | B1: DATE | C1: GRADE - NOM | D1: - | E1: - | F1: - | G1: - | H1: - | I1: - | J1: - | K1: - | L1: - | M1: - | N1: - | O1: - | P1: - | Q1: - | R1: - | S1: _ | T1: _ | U1: _ | V1: _ | W1: Récap
A2: =DATE(Accueil!E1,12,1) -> 43070 | B2: =DATE(Accueil!E1,12,1) -> 43070 | D2: =IF($C2=D$1,1,"0") -> 0 | E2: =IF($C2=E$1,1,"0") -> 0 | F2: =IF($C2=F$1,1,"0") -> 0 | G2: =IF($C2=G$1,1,"0") -> 0 | H2: =IF($C2=H$1,1,"0") -> 0 | I2: =IF($C2=I$1,1,"0") -> 0 | J2: =IF($C2=J$1,1,"0") -> 0 | K2: =IF($C2=K$1,1,"0") -> 0 | ... V2: =IF($C2=V$1,1,"0") -> 0 | W2: =SUM(D2:V2) -> 0
A3: =(A2+1) -> 43071 | B3: =(B2+1) -> 43071 | D3: =IF($C3=D$1,1,"0") -> 0 | E3: =IF($C3=E$1,1,"0") -> 0 | F3: =IF($C3=F$1,1,"0") -> 0 | G3: =IF($C3=G$1,1,"0") -> 0 | H3: =IF($C3=H$1,1,"0") -> 0 | I3: =IF($C3=I$1,1,"0") -> 0 | J3: =IF($C3=J$1,1,"0") -> 0 | K3: =IF($C3=K$1,1,"0") -> 0 | ... V3: =IF($C3=V$1,1,"0") -> 0 | W3: =SUM(D3:V3) -> 0
A4: =(A3+1) -> 43072 | B4: =(B3+1) -> 43072 | D4: =IF($C4=D$1,1,"0") -> 0 | E4: =IF($C4=E$1,1,"0") -> 0 | F4: =IF($C4=F$1,1,"0") -> 0 | G4: =IF($C4=G$1,1,"0") -> 0 | H4: =IF($C4=H$1,1,"0") -> 0 | I4: =IF($C4=I$1,1,"0") -> 0 | J4: =IF($C4=J$1,1,"0") -> 0 | K4: =IF($C4=K$1,1,"0") -> 0 | ... V4: =IF($C4=V$1,1,"0") -> 0 | W4: =SUM(D4:V4) -> 0
A5: =(A4+1) -> 43073 | B5: =(B4+1) -> 43073 | D5: =IF($C5=D$1,1,"0") -> 0 | E5: =IF($C5=E$1,1,"0") -> 0 | F5: =IF($C5=F$1,1,"0") -> 0 | G5: =IF($C5=G$1,1,"0") -> 0 | H5: =IF($C5=H$1,1,"0") -> 0 | I5: =IF($C5=I$1,1,"0") -> 0 | J5: =IF($C5=J$1,1,"0") -> 0 | K5: =IF($C5=K$1,1,"0") -> 0 | ... V5: =IF($C5=V$1,1,"0") -> 0 | W5: =SUM(D5:V5) -> 0
A6: =(A5+1) -> 43074 | B6: =(B5+1) -> 43074 | D6: =IF($C6=D$1,1,"0") -> 0 | E6: =IF($C6=E$1,1,"0") -> 0 | F6: =IF($C6=F$1,1,"0") -> 0 | G6: =IF($C6=G$1,1,"0") -> 0 | H6: =IF($C6=H$1,1,"0") -> 0 | I6: =IF($C6=I$1,1,"0") -> 0 | J6: =IF($C6=J$1,1,"0") -> 0 | K6: =IF($C6=K$1,1,"0") -> 0 | ... V6: =IF($C6=V$1,1,"0") -> 0 | W6: =SUM(D6:V6) -> 0
A7: =(A6+1) -> 43075 | B7: =(B6+1) -> 43075 | D7: =IF($C7=D$1,1,"0") -> 0 | E7: =IF($C7=E$1,1,"0") -> 0 | F7: =IF($C7=F$1,1,"0") -> 0 | G7: =IF($C7=G$1,1,"0") -> 0 | H7: =IF($C7=H$1,1,"0") -> 0 | I7: =IF($C7=I$1,1,"0") -> 0 | J7: =IF($C7=J$1,1,"0") -> 0 | K7: =IF($C7=K$1,1,"0") -> 0 | ... V7: =IF($C7=V$1,1,"0") -> 0 | W7: =SUM(D7:V7) -> 0
A8: =(A7+1) -> 43076 | B8: =(B7+1) -> 43076 | D8: =IF($C8=D$1,1,"0") -> 0 | E8: =IF($C8=E$1,1,"0") -> 0 | F8: =IF($C8=F$1,1,"0") -> 0 | G8: =IF($C8=G$1,1,"0") -> 0 | H8: =IF($C8=H$1,1,"0") -> 0 | I8: =IF($C8=I$1,1,"0") -> 0 | J8: =IF($C8=J$1,1,"0") -> 0 | K8: =IF($C8=K$1,1,"0") -> 0 | ... V8: =IF($C8=V$1,1,"0") -> 0 | W8: =SUM(D8:V8) -> 0
A9: =(A8+1) -> 43077 | B9: =(B8+1) -> 43077 | D9: =IF($C9=D$1,1,"0") -> 0 | E9: =IF($C9=E$1,1,"0") -> 0 | F9: =IF($C9=F$1,1,"0") -> 0 | G9: =IF($C9=G$1,1,"0") -> 0 | H9: =IF($C9=H$1,1,"0") -> 0 | I9: =IF($C9=I$1,1,"0") -> 0 | J9: =IF($C9=J$1,1,"0") -> 0 | K9: =IF($C9=K$1,1,"0") -> 0 | ... V9: =IF($C9=V$1,1,"0") -> 0 | W9: =SUM(D9:V9) -> 0
A10: =(A9+1) -> 43078 | B10: =(B9+1) -> 43078 | D10: =IF($C10=D$1,1,"0") -> 0 | E10: =IF($C10=E$1,1,"0") -> 0 | F10: =IF($C10=F$1,1,"0") -> 0 | G10: =IF($C10=G$1,1,"0") -> 0 | H10: =IF($C10=H$1,1,"0") -> 0 | I10: =IF($C10=I$1,1,"0") -> 0 | J10: =IF($C10=J$1,1,"0") -> 0 | K10: =IF($C10=K$1,1,"0") -> 0 | ... V10: =IF($C10=V$1,1,"0") -> 0 | W10: =SUM(D10:V10) -> 0
A11: =(A10+1) -> 43079 | B11: =(B10+1) -> 43079 | D11: =IF($C11=D$1,1,"0") -> 0 | E11: =IF($C11=E$1,1,"0") -> 0 | F11: =IF($C11=F$1,1,"0") -> 0 | G11: =IF($C11=G$1,1,"0") -> 0 | H11: =IF($C11=H$1,1,"0") -> 0 | I11: =IF($C11=I$1,1,"0") -> 0 | J11: =IF($C11=J$1,1,"0") -> 0 | K11: =IF($C11=K$1,1,"0") -> 0 | ... V11: =IF($C11=V$1,1,"0") -> 0 | W11: =SUM(D11:V11) -> 0
A12: =(A11+1) -> 43080 | B12: =(B11+1) -> 43080 | D12: =IF($C12=D$1,1,"0") -> 0 | E12: =IF($C12=E$1,1,"0") -> 0 | F12: =IF($C12=F$1,1,"0") -> 0 | G12: =IF($C12=G$1,1,"0") -> 0 | H12: =IF($C12=H$1,1,"0") -> 0 | I12: =IF($C12=I$1,1,"0") -> 0 | J12: =IF($C12=J$1,1,"0") -> 0 | K12: =IF($C12=K$1,1,"0") -> 0 | ... V12: =IF($C12=V$1,1,"0") -> 0 | W12: =SUM(D12:V12) -> 0
A13: =(A12+1) -> 43081 | B13: =(B12+1) -> 43081 | D13: =IF($C13=D$1,1,"0") -> 0 | E13: =IF($C13=E$1,1,"0") -> 0 | F13: =IF($C13=F$1,1,"0") -> 0 | G13: =IF($C13=G$1,1,"0") -> 0 | H13: =IF($C13=H$1,1,"0") -> 0 | I13: =IF($C13=I$1,1,"0") -> 0 | J13: =IF($C13=J$1,1,"0") -> 0 | K13: =IF($C13=K$1,1,"0") -> 0 | ... V13: =IF($C13=V$1,1,"0") -> 0 | W13: =SUM(D13:V13) -> 0
A14: =(A13+1) -> 43082 | B14: =(B13+1) -> 43082 | D14: =IF($C14=D$1,1,"0") -> 0 | E14: =IF($C14=E$1,1,"0") -> 0 | F14: =IF($C14=F$1,1,"0") -> 0 | G14: =IF($C14=G$1,1,"0") -> 0 | H14: =IF($C14=H$1,1,"0") -> 0 | I14: =IF($C14=I$1,1,"0") -> 0 | J14: =IF($C14=J$1,1,"0") -> 0 | K14: =IF($C14=K$1,1,"0") -> 0 | ... V14: =IF($C14=V$1,1,"0") -> 0 | W14: =SUM(D14:V14) -> 0
... A32: =(A31+1) -> 43100 | B32: =(B31+1) -> 43100 | D32: =IF($C32=D$1,1,"0") -> 0 | E32: =IF($C32=E$1,1,"0") -> 0 | F32: =IF($C32=F$1,1,"0") -> 0 | G32: =IF($C32=G$1,1,"0") -> 0 | H32: =IF($C32=H$1,1,"0") -> 0 | I32: =IF($C32=I$1,1,"0") -> 0 | J32: =IF($C32=J$1,1,"0") -> 0 | K32: =IF($C32=K$1,1,"0") -> 0 | ... V32: =IF($C32=V$1,1,"0") -> 0 | W32: =SUM(D32:V32) -> 0
D33: =SUM(D2:D32) -> 0 | E33: =SUM(E2:E32) -> 0 | F33: =SUM(F2:F32) -> 0 | G33: =SUM(G2:G32) -> 0 | H33: =SUM(H2:H32) -> 0 | I33: =SUM(I2:I32) -> 0 | J33: =SUM(J2:J32) -> 0 | K33: =SUM(K2:K32) -> 0 | ... W33: =SUM(W2:W32) -> 0
D37: =(D1) -> - | E37: =(E1) -> - | F37: =(F1) -> - | G37: =(G1) -> - | H37: =(H1) -> - | I37: =(I1) -> - | J37: =(J1) -> - | K37: =(K1) -> - | ... V37: =(V1) -> _
C38: lundi | D38: =SUMPRODUCT((WEEKDAY($A$2:$A$32,2)=ROWS($38:38))*(COUNTIF(FERIES,$A$2:$A$32)=0)*($C$2:$C$32=D$37)) -> 0 | E38: =SUMPRODUCT((WEEKDAY($A$2:$A$32,2)=ROWS($38:38))*(COUNTIF(FERIES,$A$2:$A$32)=0)*($C$2:$C$32=E$37)) -> 0 | F38: =SUMPRODUCT((WEEKDAY($A$2:$A$32,2)=ROWS($38:38))*(COUNTIF(FERIES,$A$2:$A$32)=0)*($C$2:$C$32=F$37)) -> 0 | G38: =SUMPRODUCT((WEEKDAY($A$2:$A$32,2)=ROWS($38:38))*(COUNTIF(FERIES,$A$2:$A$32)=0)*($C$2:$C$32=G$37)) -> 0 | H38: =SUMPRODUCT((WEEKDAY($A$2:$A$32,2)=ROWS($38:38))*(COUNTIF(FERIES,$A$2:$A$32)=0)*($C$2:$C$32=H$37)) -> 0 | I38: =SUMPRODUCT((WEEKDAY($A$2:$A$32,2)=ROWS($38:38))*(COUNTIF(FERIES,$A$2:$A$32)=0)*($C$2:$C$32=I$37)) -> 0 | J38: =SUMPRODUCT((WEEKDAY($A$2:$A$32,2)=ROWS($38:38))*(COUNTIF(FERIES,$A$2:$A$32)=0)*($C$2:$C$32=J$37)) -> 0 | K38: =SUMPRODUCT((WEEKDAY($A$2:$A$32,2)=ROWS($38:38))*(COUNTIF(FERIES,$A$2:$A$32)=0)*($C$2:$C$32=K$37)) -> 0 | ... V38: =SUMPRODUCT((WEEKDAY($A$2:$A$32,2)=ROWS($38:38))*(COUNTIF(FERIES,$A$2:$A$32)=0)*($C$2:$C$32=V$37)) -> 0
