Workbook

Sheet Tableau 1
A1: VALIDATION DES MOIS DE SUIVI DE JANVIER-FEVRIER-MARS et AVRIL 2012
B3: N° ind | C3: NOM | D3: Engagement | E3: date de sortie | F3: motif de la sortie | G3: Janvier | H3: Février | I3: Mars | J3: Avril | L3: Commentaires
A4: 1 | B4: 1 | C4: Maurice | D4: 40679 | G4: =IF(AND(VLOOKUP(G$3,Base!$J:$J,1)=G$3,VLOOKUP($C4,Base!$B:$B,1,FALSE)=$C4,VLOOKUP($C4,Base!$B:$G,6,FALSE)="Suivi Participant - Entretien physique",VLOOKUP($C4,Base!$B:$I,8,FALSE)="Présence"),VLOOKUP($C4,Base!$B:$F,5,FALSE),"pas d'entretien") -> pas d'entretien | H4: =IF(AND(VLOOKUP(H$3,Base!$J:$J,1)=H$3,VLOOKUP($C4,Base!$B:$B,1,FALSE)=$C4,VLOOKUP($C4,Base!$B:$G,6,FALSE)="Suivi Participant - Entretien physique",VLOOKUP($C4,Base!$B:$I,8,FALSE)="Présence"),VLOOKUP($C4,Base!$B:$F,5,FALSE),"pas d'entretien") -> 10/01/2012 | I4: =IF(AND(VLOOKUP(I$3,Base!$J:$J,1)=I$3,VLOOKUP($C4,Base!$B:$B,1,FALSE)=$C4,VLOOKUP($C4,Base!$B:$G,6,FALSE)="Suivi Participant - Entretien physique",VLOOKUP($C4,Base!$B:$I,8,FALSE)="Présence"),VLOOKUP($C4,Base!$B:$F,5,FALSE),"pas d'entretien") -> pas d'entretien | J4: =IF(AND(VLOOKUP(J$3,Base!$J:$J,1)=J$3,VLOOKUP($C4,Base!$B:$B,1,FALSE)=$C4,VLOOKUP($C4,Base!$B:$G,6,FALSE)="Suivi Participant - Entretien physique",VLOOKUP($C4,Base!$B:$I,8,FALSE)="Présence"),VLOOKUP($C4,Base!$B:$F,5,FALSE),"pas d'entretien") -> 10/01/2012 | K4: =COUNTA(G4:J4) -> 4
A5: 2 | B5: 2 | C5: Paul | D5: 40255 | G5: =IF(AND(VLOOKUP(G$3,Base!$J:$J,1)=G$3,VLOOKUP($C5,Base!$B:$B,1,FALSE)=$C5,VLOOKUP($C5,Base!$B:$G,6,FALSE)="Suivi Participant - Entretien physique",VLOOKUP($C5,Base!$B:$I,8,FALSE)="Présence"),VLOOKUP($C5,Base!$B:$F,5,FALSE),"pas d'entretien") -> pas d'entretien | H5: =IF(AND(VLOOKUP(H$3,Base!$J:$J,1)=H$3,VLOOKUP($C5,Base!$B:$B,1,FALSE)=$C5,VLOOKUP($C5,Base!$B:$G,6,FALSE)="Suivi Participant - Entretien physique",VLOOKUP($C5,Base!$B:$I,8,FALSE)="Présence"),VLOOKUP($C5,Base!$B:$F,5,FALSE),"pas d'entretien") -> pas d'entretien | I5: =IF(AND(VLOOKUP(I$3,Base!$J:$J,1)=I$3,VLOOKUP($C5,Base!$B:$B,1,FALSE)=$C5,VLOOKUP($C5,Base!$B:$G,6,FALSE)="Suivi Participant - Entretien physique",VLOOKUP($C5,Base!$B:$I,8,FALSE)="Présence"),VLOOKUP($C5,Base!$B:$F,5,FALSE),"pas d'entretien") -> pas d'entretien | J5: =IF(AND(VLOOKUP(J$3,Base!$J:$J,1)=J$3,VLOOKUP($C5,Base!$B:$B,1,FALSE)=$C5,VLOOKUP($C5,Base!$B:$G,6,FALSE)="Suivi Participant - Entretien physique",VLOOKUP($C5,Base!$B:$I,8,FALSE)="Présence"),VLOOKUP($C5,Base!$B:$F,5,FALSE),"pas d'entretien") -> pas d'entretien | K5: =COUNTA(G5:J5) -> 4
A6: 3 | B6: 3 | C6: Jaques | D6: 40799 | G6: =IF(AND(VLOOKUP(G$3,Base!$J:$J,1)=G$3,VLOOKUP($C6,Base!$B:$B,1,FALSE)=$C6,VLOOKUP($C6,Base!$B:$G,6,FALSE)="Suivi Participant - Entretien physique",VLOOKUP($C6,Base!$B:$I,8,FALSE)="Présence"),VLOOKUP($C6,Base!$B:$F,5,FALSE),"pas d'entretien") -> pas d'entretien | H6: =IF(AND(VLOOKUP(H$3,Base!$J:$J,1)=H$3,VLOOKUP($C6,Base!$B:$B,1,FALSE)=$C6,VLOOKUP($C6,Base!$B:$G,6,FALSE)="Suivi Participant - Entretien physique",VLOOKUP($C6,Base!$B:$I,8,FALSE)="Présence"),VLOOKUP($C6,Base!$B:$F,5,FALSE),"pas d'entretien") -> pas d'entretien | I6: =IF(AND(VLOOKUP(I$3,Base!$J:$J,1)=I$3,VLOOKUP($C6,Base!$B:$B,1,FALSE)=$C6,VLOOKUP($C6,Base!$B:$G,6,FALSE)="Suivi Participant - Entretien physique",VLOOKUP($C6,Base!$B:$I,8,FALSE)="Présence"),VLOOKUP($C6,Base!$B:$F,5,FALSE),"pas d'entretien") -> pas d'entretien | J6: =IF(AND(VLOOKUP(J$3,Base!$J:$J,1)=J$3,VLOOKUP($C6,Base!$B:$B,1,FALSE)=$C6,VLOOKUP($C6,Base!$B:$G,6,FALSE)="Suivi Participant - Entretien physique",VLOOKUP($C6,Base!$B:$I,8,FALSE)="Présence"),VLOOKUP($C6,Base!$B:$F,5,FALSE),"pas d'entretien") -> pas d'entretien | K6: =COUNTA(G6:J6) -> 4
A7: 4 | B7: 4 | C7: patricia | D7: 40259 | G7: =IF(AND(VLOOKUP(G$3,Base!$J:$J,1)=G$3,VLOOKUP($C7,Base!$B:$B,1,FALSE)=$C7,VLOOKUP($C7,Base!$B:$G,6,FALSE)="Suivi Participant - Entretien physique",VLOOKUP($C7,Base!$B:$I,8,FALSE)="Présence"),VLOOKUP($C7,Base!$B:$F,5,FALSE),"pas d'entretien") -> pas d'entretien | H7: =IF(AND(VLOOKUP(H$3,Base!$J:$J,1)=H$3,VLOOKUP($C7,Base!$B:$B,1,FALSE)=$C7,VLOOKUP($C7,Base!$B:$G,6,FALSE)="Suivi Participant - Entretien physique",VLOOKUP($C7,Base!$B:$I,8,FALSE)="Présence"),VLOOKUP($C7,Base!$B:$F,5,FALSE),"pas d'entretien") -> pas d'entretien | I7: =IF(AND(VLOOKUP(I$3,Base!$J:$J,1)=I$3,VLOOKUP($C7,Base!$B:$B,1,FALSE)=$C7,VLOOKUP($C7,Base!$B:$G,6,FALSE)="Suivi Participant - Entretien physique",VLOOKUP($C7,Base!$B:$I,8,FALSE)="Présence"),VLOOKUP($C7,Base!$B:$F,5,FALSE),"pas d'entretien") -> pas d'entretien | J7: =IF(AND(VLOOKUP(J$3,Base!$J:$J,1)=J$3,VLOOKUP($C7,Base!$B:$B,1,FALSE)=$C7,VLOOKUP($C7,Base!$B:$G,6,FALSE)="Suivi Participant - Entretien physique",VLOOKUP($C7,Base!$B:$I,8,FALSE)="Présence"),VLOOKUP($C7,Base!$B:$F,5,FALSE),"pas d'entretien") -> pas d'entretien | K7: =COUNTA(G7:J7) -> 4
G8: =COUNTA(G4:G7) -> 4 | H8: =COUNTA(H4:H7) -> 4 | I8: =COUNTA(I4:I7) -> 4 | J8: =COUNTA(J4:J7) -> 4
H10: Total des mois de suivis validés | J10: =SUM(G8:J8) -> 16
J12: =5*70 -> 350

Sheet Base
A1: Récapitulatif des suivis par participant pour un référent entre le 01/01/2012 et le 30/04/2012 (Population : Total )
A2: Accompagnement : Plie
A3: Structure : CPVA
A4: N° | B4: Participants | C4: Sexe | D4: Adresse | E4: Age | F4: Date | G4: Type d'évènement | H4: Durée (minute) | I4: Réalisé
A5: 1 | B5: Maurice | C5: M | E5: 52 | F5: 10/01/2012 | G5: Suivi Participant - Entretien physique | I5: Présence | J5: =TEXT(F5,"mmmm") -> janvier
A6: 1 | B6: Maurice | C6: M | E6: 52 | F6: 01/02/2012 | G6: Suivi Participant - Entretien physique | I6: Présence | J6: =TEXT(F6,"mmmm") -> février
A7: 1 | B7: Maurice | C7: M | E7: 52 | F7: 05/03/2012 | G7: Suivi Participant - Entretien Téléphonique | J7: =TEXT(F7,"mmmm") -> mars
A8: 1 | B8: Maurice | C8: M | E8: 52 | F8: 28/03/2012 | G8: Suivi Participant - Entretien physique | I8: Présence | J8: =TEXT(F8,"mmmm") -> mars
A9: 1 | B9: Maurice | C9: M | E9: 52 | F9: 11/04/2012 | G9: Suivi Participant - Entretien Téléphonique | J9: =TEXT(F9,"mmmm") -> avril
G10: Durée totale | I10: 3 | J10: =TEXT(F10,"mmmm") -> janvier
A11: 2 | B11: Paul | C11: M | E11: 36 | F11: 13/01/2012 | G11: Suivi Participant - Entretien Téléphonique | J11: =TEXT(F11,"mmmm") -> janvier
A12: 2 | B12: Paul | C12: M | E12: 36 | F12: 24/01/2012 | G12: Courrier | J12: =TEXT(F12,"mmmm") -> janvier
A13: 2 | B13: Paul | C13: M | E13: 36 | F13: 13/02/2012 | G13: Mail | J13: =TEXT(F13,"mmmm") -> février
A14: 2 | B14: Paul | C14: M | E14: 36 | F14: 01/03/2012 | G14: Mail | J14: =TEXT(F14,"mmmm") -> mars
A15: 2 | B15: Paul | C15: M | E15: 36 | F15: 05/03/2012 | G15: Suivi Participant - Entretien physique | I15: Présence | J15: =TEXT(F15,"mmmm") -> mars
A16: 2 | B16: Paul | C16: M | E16: 36 | F16: 16/04/2012 | G16: Suivi Participant - Entretien physique | I16: Présence | J16: =TEXT(F16,"mmmm") -> avril
G17: Durée totale | I17: 2 | J17: =TEXT(F17,"mmmm") -> janvier
A18: 3 | B18: Jaques | C18: M | E18: 26 | F18: 03/01/2012 | G18: Administratif | J18: =TEXT(F18,"mmmm") -> janvier
A19: 3 | B19: Jaques | C19: M | E19: 26 | F19: 13/01/2012 | G19: Suivi Participant - Entretien physique | I19: Absence non justifiée | J19: =TEXT(F19,"mmmm") -> janvier
A20: 3 | B20: Jaques | C20: M | E20: 26 | F20: 23/01/2012 | G20: Suivi Participant - Entretien physique | I20: Absence non justifiée | J20: =TEXT(F20,"mmmm") -> janvier
A21: 3 | B21: Jaques | C21: M | E21: 26 | F21: 08/02/2012 | G21: Suivi Participant - Entretien physique | I21: Absence non justifiée | J21: =TEXT(F21,"mmmm") -> février
G22: Durée totale | I22: 0 | J22: =TEXT(F22,"mmmm") -> janvier
A23: 4 | B23: patricia | C23: M | E23: 30 | F23: 07/02/2012 | G23: Courrier | J23: =TEXT(F23,"mmmm") -> février
A24: 4 | B24: patricia | C24: M | E24: 30 | F24: 28/02/2012 | G24: Suivi Participant - Entretien physique | I24: Présence | J24: =TEXT(F24,"mmmm") -> février
A25: 4 | B25: patricia | C25: M | E25: 30 | F25: 08/03/2012 | G25: Suivi Participant - Entretien physique | I25: Absence justifiée | J25: =TEXT(F25,"mmmm") -> mars
A26: 4 | B26: patricia | C26: M | E26: 30 | F26: 12/03/2012 | G26: Suivi Participant - Entretien physique | I26: Absence non justifiée | J26: =TEXT(F26,"mmmm") -> mars
A27: 4 | B27: patricia | C27: M | E27: 30 | F27: 22/03/2012 | G27: Suivi Participant - Entretien physique | I27: Absence non justifiée | J27: =TEXT(F27,"mmmm") -> mars
A28: 4 | B28: patricia | C28: M | E28: 30 | F28: 06/04/2012 | G28: Suivi Participant - Entretien physique | I28: Absence non justifiée | J28: =TEXT(F28,"mmmm") -> avril
