Workbook

Sheet Feuil1
A1: Liste de "phrase" | C1: Liste de mots 1 | D1: Liste de mots 2 | G1: Résultat
A2: achat de camion rouge | C2: avion | D2: bleu | G2: Couple de mots | H2: Nb d'occurrence | I2: mot1 | J2: mot2
A3: prendre un avion blanc | C3: camion | D3: blanc | G3: Camion Rouge | H3: 2 | I3: =LEFT(G3,SEARCH(" ",G3)-1) -> Camion | J3: =MID(G3,SEARCH(" ",G3)+1,100) -> Rouge | K3: =COUNTIFS($C$2:$C$6,I3,$D$2:$D$6,J3) -> 0
A4: Voiture blanche | C4: voiture | D4: rouge | G4: Avion Blanc | H4: 1
A5: voiture rouge | C5: vélo | D5: blanche | G5: Voiture Blanche | H5: 1
A6: doubler un camion rouge | G6: Voiture Rouge | H6: 1

Sheet Mots 1
A1: Liste de "phrase" | B1: avion | C1: camion | D1: voiture | E1: vélo | F1: Résultats
A2: achat de camion rouge | B2: =IF(ISERR(SEARCH(B$1,$A2)),0,1) -> 0 | C2: =IF(ISERR(SEARCH(C$1,$A2)),0,1) -> 1 | D2: =IF(ISERR(SEARCH(D$1,$A2)),0,1) -> 0 | E2: =IF(ISERR(SEARCH(E$1,$A2)),0,1) -> 0 | F2: =IF(SUM(B2:E2)=1,LOOKUP(1,B2:E2,$B$1:$E$1),"") -> camion
A3: prendre un avion blanc | B3: =IF(ISERR(SEARCH(B$1,$A3)),0,1) -> 1 | C3: =IF(ISERR(SEARCH(C$1,$A3)),0,1) -> 0 | D3: =IF(ISERR(SEARCH(D$1,$A3)),0,1) -> 0 | E3: =IF(ISERR(SEARCH(E$1,$A3)),0,1) -> 0 | F3: =IF(SUM(B3:E3)=1,LOOKUP(1,B3:E3,$B$1:$E$1),"") -> vélo
A4: Voiture blanche | B4: =IF(ISERR(SEARCH(B$1,$A4)),0,1) -> 0 | C4: =IF(ISERR(SEARCH(C$1,$A4)),0,1) -> 0 | D4: =IF(ISERR(SEARCH(D$1,$A4)),0,1) -> 1 | E4: =IF(ISERR(SEARCH(E$1,$A4)),0,1) -> 0 | F4: =IF(SUM(B4:E4)=1,LOOKUP(1,B4:E4,$B$1:$E$1),"") -> voiture
A5: voiture rouge | B5: =IF(ISERR(SEARCH(B$1,$A5)),0,1) -> 0 | C5: =IF(ISERR(SEARCH(C$1,$A5)),0,1) -> 0 | D5: =IF(ISERR(SEARCH(D$1,$A5)),0,1) -> 1 | E5: =IF(ISERR(SEARCH(E$1,$A5)),0,1) -> 0 | F5: =IF(SUM(B5:E5)=1,LOOKUP(1,B5:E5,$B$1:$E$1),"") -> voiture
A6: doubler un camion rouge | B6: =IF(ISERR(SEARCH(B$1,$A6)),0,1) -> 0 | C6: =IF(ISERR(SEARCH(C$1,$A6)),0,1) -> 1 | D6: =IF(ISERR(SEARCH(D$1,$A6)),0,1) -> 0 | E6: =IF(ISERR(SEARCH(E$1,$A6)),0,1) -> 0 | F6: =IF(SUM(B6:E6)=1,LOOKUP(1,B6:E6,$B$1:$E$1),"") -> camion
A7: Voiture rouge double camion blanc | B7: =IF(ISERR(SEARCH(B$1,$A7)),0,1) -> 0 | C7: =IF(ISERR(SEARCH(C$1,$A7)),0,1) -> 1 | D7: =IF(ISERR(SEARCH(D$1,$A7)),0,1) -> 1 | E7: =IF(ISERR(SEARCH(E$1,$A7)),0,1) -> 0 | F7: =IF(SUM(B7:E7)=1,LOOKUP(1,B7:E7,$B$1:$E$1),"") | G7: LIMITE2

Sheet Mots 2
A1: Liste de "phrase" | B1: bleu | C1: blanc | D1: rouge | E1: blanche | F1: Résultat
A2: ='Mots 1'!A2 -> achat de camion rouge | B2: =IF(ISERR(SEARCH(B$1,$A2)),0,1) -> 0 | C2: =IF(ISERR(SEARCH(C$1,$A2)),0,1) -> 0 | D2: =IF(ISERR(SEARCH(D$1,$A2)),0,1) -> 1 | E2: =IF(ISERR(SEARCH(E$1,$A2)),0,1) -> 0 | F2: =IF(SUM(B2:E2)=1,LOOKUP(1,B2:E2,$B$1:$E$1),"") -> rouge
A3: ='Mots 1'!A3 -> prendre un avion blanc | B3: =IF(ISERR(SEARCH(B$1,$A3)),0,1) -> 0 | C3: =IF(ISERR(SEARCH(C$1,$A3)),0,1) -> 1 | D3: =IF(ISERR(SEARCH(D$1,$A3)),0,1) -> 0 | E3: =IF(ISERR(SEARCH(E$1,$A3)),0,1) -> 0 | F3: =IF(SUM(B3:E3)=1,LOOKUP(1,B3:E3,$B$1:$E$1),"") -> blanc
A4: ='Mots 1'!A4 -> Voiture blanche | B4: =IF(ISERR(SEARCH(B$1,$A4)),0,1) -> 0 | C4: =IF(ISERR(SEARCH(C$1,$A4)),0,1) -> 1 | D4: =IF(ISERR(SEARCH(D$1,$A4)),0,1) -> 0 | E4: =IF(ISERR(SEARCH(E$1,$A4)),0,1) -> 1 | F4: =IF(SUM(B4:E4)=1,LOOKUP(1,B4:E4,$B$1:$E$1),"") | G4: LIMITATION 1
A5: ='Mots 1'!A5 -> voiture rouge | B5: =IF(ISERR(SEARCH(B$1,$A5)),0,1) -> 0 | C5: =IF(ISERR(SEARCH(C$1,$A5)),0,1) -> 0 | D5: =IF(ISERR(SEARCH(D$1,$A5)),0,1) -> 1 | E5: =IF(ISERR(SEARCH(E$1,$A5)),0,1) -> 0 | F5: =IF(SUM(B5:E5)=1,LOOKUP(1,B5:E5,$B$1:$E$1),"") -> rouge
A6: ='Mots 1'!A6 -> doubler un camion rouge | B6: =IF(ISERR(SEARCH(B$1,$A6)),0,1) -> 0 | C6: =IF(ISERR(SEARCH(C$1,$A6)),0,1) -> 0 | D6: =IF(ISERR(SEARCH(D$1,$A6)),0,1) -> 1 | E6: =IF(ISERR(SEARCH(E$1,$A6)),0,1) -> 0 | F6: =IF(SUM(B6:E6)=1,LOOKUP(1,B6:E6,$B$1:$E$1),"") -> rouge
A7: ='Mots 1'!A7 -> Voiture rouge double camion blanc | B7: =IF(ISERR(SEARCH(B$1,$A7)),0,1) -> 0 | C7: =IF(ISERR(SEARCH(C$1,$A7)),0,1) -> 1 | D7: =IF(ISERR(SEARCH(D$1,$A7)),0,1) -> 1 | E7: =IF(ISERR(SEARCH(E$1,$A7)),0,1) -> 0 | F7: =IF(SUM(B7:E7)=1,LOOKUP(1,B7:E7,$B$1:$E$1),"") | G7: LIMITATION 2

Sheet Résultats
A1: Listes de "Phrases" | B1: Résultat
A2: ='Mots 1'!A2 -> achat de camion rouge | B2: =IF(AND('Mots 1'!F2<>"",'Mots 2'!F2<>""),'Mots 1'!F2&" "&'Mots 2'!F2,"") -> camion rouge
A3: ='Mots 1'!A3 -> prendre un avion blanc | B3: =IF(AND('Mots 1'!F3<>"",'Mots 2'!F3<>""),'Mots 1'!F3&" "&'Mots 2'!F3,"") -> vélo blanc
A4: ='Mots 1'!A4 -> Voiture blanche | B4: =IF(AND('Mots 1'!F4<>"",'Mots 2'!F4<>""),'Mots 1'!F4&" "&'Mots 2'!F4,"")
A5: ='Mots 1'!A5 -> voiture rouge | B5: =IF(AND('Mots 1'!F5<>"",'Mots 2'!F5<>""),'Mots 1'!F5&" "&'Mots 2'!F5,"") -> voiture rouge
A6: ='Mots 1'!A6 -> doubler un camion rouge | B6: =IF(AND('Mots 1'!F6<>"",'Mots 2'!F6<>""),'Mots 1'!F6&" "&'Mots 2'!F6,"") -> camion rouge
