Workbook

Sheet janv
A1: Dir/Cpte | B1: carburant | C1: loyer | D1: Irsa | E1: préavis | F1: OMIT | G1: OMSi
A2: DAF | C2: 2500 | D2: 3500 | F2: 7800
A3: DCM | C3: 7500 | D3: 2500
A4: DES | C4: 20 | D4: 0 | F4: 500
A5: DEV | C5: 800 | D5: 10 | F5: 400
A6: DGL | C6: 800 | D6: 50 | F6: 30
A7: DPF | C7: 8500 | D7: 7500 | F7: 300
A8: DTE | C8: 0 | D8: 50 | F8: 4500

Sheet fév
A1: Dir/Cpte | B1: carburant | C1: loyer | D1: Irsa | E1: OMIT | F1: Préavis | G1: Omsi
A2: DAF | B2: 12000 | C2: 2500 | D2: 3500 | E2: 7800 | F2: 800 | G2: 500
A3: DCM | B3: 15000 | C3: 7500 | D3: 2500 | F3: 0 | G3: 0
A4: DEV | B4: 500 | C4: 800 | D4: 10 | E4: 400 | F4: 800 | G4: 500
A5: DGL | B5: 750 | C5: 800 | D5: 50 | E5: 30 | F5: 800 | G5: 500
A6: DTE | B6: 500 | C6: 0 | D6: 50 | E6: 4500 | F6: 900 | G6: 350

Sheet mars
A1: Dir/Cpte | B1: carburant | C1: loyer | D1: Irsa | E1: OMIT | F1: Préavis | G1: Omsi
A2: DAF | B2: 12000 | C2: 2500 | D2: 3500 | G2: 500
A3: DCM | B3: 15000 | C3: 7500 | D3: 2500 | G3: 0
A4: DEV | B4: 500 | C4: 800 | D4: 10 | G4: 500
A5: DGL | B5: 750 | C5: 800 | D5: 50 | G5: 500
A6: DPF | B6: 800 | C6: 3500 | D6: 1000 | G6: 0
A7: DTE | B7: 900 | C7: 1500 | D7: 500 | G7: 50

Sheet reporting
A1: Dir/Cpte | B1: carburant | C1: loyer | D1: Irsa | E1: préavis | F1: OMIT | G1: OMSi
A2: DAF | B2: =SUMIF(janv!$A1:$A8,$A2,janv!B1:B8)+SUMIF(fév!$A1:$A6,$A2,fév!B1:B6)+SUMIF(mars!$A1:$A7,$A2,mars!B1:B7) -> 24000 | C2: =SUMIF(janv!$A1:$A8,$A2,janv!C1:C8)+SUMIF(fév!$A1:$A6,$A2,fév!C1:C6)+SUMIF(mars!$A1:$A7,$A2,mars!C1:C7) -> 7500 | D2: =SUMIF(janv!$A1:$A8,$A2,janv!D1:D8)+SUMIF(fév!$A1:$A6,$A2,fév!D1:D6)+SUMIF(mars!$A1:$A7,$A2,mars!D1:D7) -> 10500 | E2: =SUMIF(janv!$A1:$A8,$A2,janv!E1:E8)+SUMIF(fév!$A1:$A6,$A2,fév!E1:E6)+SUMIF(mars!$A1:$A7,$A2,mars!E1:E7) -> 7800 | F2: =SUMIF(janv!$A1:$A8,$A2,janv!F1:F8)+SUMIF(fév!$A1:$A6,$A2,fév!F1:F6)+SUMIF(mars!$A1:$A7,$A2,mars!F1:F7) -> 8600 | G2: =SUMIF(janv!$A1:$A8,$A2,janv!G1:G8)+SUMIF(fév!$A1:$A6,$A2,fév!G1:G6)+SUMIF(mars!$A1:$A7,$A2,mars!G1:G7) -> 1000
A3: DCM | B3: =SUMIF(janv!$A2:$A9,$A3,janv!B2:B9)+SUMIF(fév!$A2:$A7,$A3,fév!B2:B7)+SUMIF(mars!$A2:$A8,$A3,mars!B2:B8) -> 30000 | C3: =SUMIF(janv!$A2:$A9,$A3,janv!C2:C9)+SUMIF(fév!$A2:$A7,$A3,fév!C2:C7)+SUMIF(mars!$A2:$A8,$A3,mars!C2:C8) -> 22500 | D3: =SUMIF(janv!$A2:$A9,$A3,janv!D2:D9)+SUMIF(fév!$A2:$A7,$A3,fév!D2:D7)+SUMIF(mars!$A2:$A8,$A3,mars!D2:D8) -> 7500 | E3: =SUMIF(janv!$A2:$A9,$A3,janv!E2:E9)+SUMIF(fév!$A2:$A7,$A3,fév!E2:E7)+SUMIF(mars!$A2:$A8,$A3,mars!E2:E8) -> 0 | F3: =SUMIF(janv!$A2:$A9,$A3,janv!F2:F9)+SUMIF(fév!$A2:$A7,$A3,fév!F2:F7)+SUMIF(mars!$A2:$A8,$A3,mars!F2:F8) -> 0 | G3: =SUMIF(janv!$A2:$A9,$A3,janv!G2:G9)+SUMIF(fév!$A2:$A7,$A3,fév!G2:G7)+SUMIF(mars!$A2:$A8,$A3,mars!G2:G8) -> 0
A4: DES | B4: =SUMIF(janv!$A3:$A10,$A4,janv!B3:B10)+SUMIF(fév!$A3:$A8,$A4,fév!B3:B8)+SUMIF(mars!$A3:$A9,$A4,mars!B3:B9) -> 0 | C4: =SUMIF(janv!$A3:$A10,$A4,janv!C3:C10)+SUMIF(fév!$A3:$A8,$A4,fév!C3:C8)+SUMIF(mars!$A3:$A9,$A4,mars!C3:C9) -> 20 | D4: =SUMIF(janv!$A3:$A10,$A4,janv!D3:D10)+SUMIF(fév!$A3:$A8,$A4,fév!D3:D8)+SUMIF(mars!$A3:$A9,$A4,mars!D3:D9) -> 0 | E4: =SUMIF(janv!$A3:$A10,$A4,janv!E3:E10)+SUMIF(fév!$A3:$A8,$A4,fév!E3:E8)+SUMIF(mars!$A3:$A9,$A4,mars!E3:E9) -> 0 | F4: =SUMIF(janv!$A3:$A10,$A4,janv!F3:F10)+SUMIF(fév!$A3:$A8,$A4,fév!F3:F8)+SUMIF(mars!$A3:$A9,$A4,mars!F3:F9) -> 500 | G4: =SUMIF(janv!$A3:$A10,$A4,janv!G3:G10)+SUMIF(fév!$A3:$A8,$A4,fév!G3:G8)+SUMIF(mars!$A3:$A9,$A4,mars!G3:G9) -> 0
A5: DEV | B5: =SUMIF(janv!$A4:$A11,$A5,janv!B4:B11)+SUMIF(fév!$A4:$A9,$A5,fév!B4:B9)+SUMIF(mars!$A4:$A10,$A5,mars!B4:B10) -> 1000 | C5: =SUMIF(janv!$A4:$A11,$A5,janv!C4:C11)+SUMIF(fév!$A4:$A9,$A5,fév!C4:C9)+SUMIF(mars!$A4:$A10,$A5,mars!C4:C10) -> 2400 | D5: =SUMIF(janv!$A4:$A11,$A5,janv!D4:D11)+SUMIF(fév!$A4:$A9,$A5,fév!D4:D9)+SUMIF(mars!$A4:$A10,$A5,mars!D4:D10) -> 30 | E5: =SUMIF(janv!$A4:$A11,$A5,janv!E4:E11)+SUMIF(fév!$A4:$A9,$A5,fév!E4:E9)+SUMIF(mars!$A4:$A10,$A5,mars!E4:E10) -> 400 | F5: =SUMIF(janv!$A4:$A11,$A5,janv!F4:F11)+SUMIF(fév!$A4:$A9,$A5,fév!F4:F9)+SUMIF(mars!$A4:$A10,$A5,mars!F4:F10) -> 1200 | G5: =SUMIF(janv!$A4:$A11,$A5,janv!G4:G11)+SUMIF(fév!$A4:$A9,$A5,fév!G4:G9)+SUMIF(mars!$A4:$A10,$A5,mars!G4:G10) -> 1000
A6: DGL | B6: =SUMIF(janv!$A5:$A12,$A6,janv!B5:B12)+SUMIF(fév!$A5:$A10,$A6,fév!B5:B10)+SUMIF(mars!$A5:$A11,$A6,mars!B5:B11) -> 1500 | C6: =SUMIF(janv!$A5:$A12,$A6,janv!C5:C12)+SUMIF(fév!$A5:$A10,$A6,fév!C5:C10)+SUMIF(mars!$A5:$A11,$A6,mars!C5:C11) -> 2400 | D6: =SUMIF(janv!$A5:$A12,$A6,janv!D5:D12)+SUMIF(fév!$A5:$A10,$A6,fév!D5:D10)+SUMIF(mars!$A5:$A11,$A6,mars!D5:D11) -> 150 | E6: =SUMIF(janv!$A5:$A12,$A6,janv!E5:E12)+SUMIF(fév!$A5:$A10,$A6,fév!E5:E10)+SUMIF(mars!$A5:$A11,$A6,mars!E5:E11) -> 30 | F6: =SUMIF(janv!$A5:$A12,$A6,janv!F5:F12)+SUMIF(fév!$A5:$A10,$A6,fév!F5:F10)+SUMIF(mars!$A5:$A11,$A6,mars!F5:F11) -> 830 | G6: =SUMIF(janv!$A5:$A12,$A6,janv!G5:G12)+SUMIF(fév!$A5:$A10,$A6,fév!G5:G10)+SUMIF(mars!$A5:$A11,$A6,mars!G5:G11) -> 1000
A7: DPF | B7: =SUMIF(janv!$A6:$A13,$A7,janv!B6:B13)+SUMIF(fév!$A6:$A11,$A7,fév!B6:B11)+SUMIF(mars!$A6:$A12,$A7,mars!B6:B12) -> 800 | C7: =SUMIF(janv!$A6:$A13,$A7,janv!C6:C13)+SUMIF(fév!$A6:$A11,$A7,fév!C6:C11)+SUMIF(mars!$A6:$A12,$A7,mars!C6:C12) -> 12000 | D7: =SUMIF(janv!$A6:$A13,$A7,janv!D6:D13)+SUMIF(fév!$A6:$A11,$A7,fév!D6:D11)+SUMIF(mars!$A6:$A12,$A7,mars!D6:D12) -> 8500 | E7: =SUMIF(janv!$A6:$A13,$A7,janv!E6:E13)+SUMIF(fév!$A6:$A11,$A7,fév!E6:E11)+SUMIF(mars!$A6:$A12,$A7,mars!E6:E12) -> 0 | F7: =SUMIF(janv!$A6:$A13,$A7,janv!F6:F13)+SUMIF(fév!$A6:$A11,$A7,fév!F6:F11)+SUMIF(mars!$A6:$A12,$A7,mars!F6:F12) -> 300 | G7: =SUMIF(janv!$A6:$A13,$A7,janv!G6:G13)+SUMIF(fév!$A6:$A11,$A7,fév!G6:G11)+SUMIF(mars!$A6:$A12,$A7,mars!G6:G12) -> 0
A8: DTE | B8: =SUMIF(janv!$A7:$A14,$A8,janv!B7:B14)+SUMIF(fév!$A7:$A12,$A8,fév!B7:B12)+SUMIF(mars!$A7:$A13,$A8,mars!B7:B13) -> 900 | C8: =SUMIF(janv!$A7:$A14,$A8,janv!C7:C14)+SUMIF(fév!$A7:$A12,$A8,fév!C7:C12)+SUMIF(mars!$A7:$A13,$A8,mars!C7:C13) -> 1500 | D8: =SUMIF(janv!$A7:$A14,$A8,janv!D7:D14)+SUMIF(fév!$A7:$A12,$A8,fév!D7:D12)+SUMIF(mars!$A7:$A13,$A8,mars!D7:D13) -> 550 | E8: =SUMIF(janv!$A7:$A14,$A8,janv!E7:E14)+SUMIF(fév!$A7:$A12,$A8,fév!E7:E12)+SUMIF(mars!$A7:$A13,$A8,mars!E7:E13) -> 0 | F8: =SUMIF(janv!$A7:$A14,$A8,janv!F7:F14)+SUMIF(fév!$A7:$A12,$A8,fév!F7:F12)+SUMIF(mars!$A7:$A13,$A8,mars!F7:F13) -> 4500 | G8: =SUMIF(janv!$A7:$A14,$A8,janv!G7:G14)+SUMIF(fév!$A7:$A12,$A8,fév!G7:G12)+SUMIF(mars!$A7:$A13,$A8,mars!G7:G13) -> 50
