Workbook
Name CC_52: #REF!
Name CECS_52: #REF!
Name Chauffage_271: #REF!
Name Chauffage_52: #REF!
Name CI_52: #REF!
Name CM_52: #REF!
Name CV_52: #REF!
Name Difficulté_Chauffage259: #REF!
Name Difficulté_Chauffage271: #REF!
Name Difficulté_Chauffage278: #REF!
Name Difficulté_Chauffage305: #REF!
Name Difficulté_Chauffage333: #REF!
Name Difficulté_Chauffage464: #REF!
Name Difficulté_Chauffage525: #REF!
Name Difficulté_Chauffage533: #REF!
Name Difficulté_Chauffage557: #REF!
Name Difficulté_ECS259: #REF!
Name Difficulté_ECS271: #REF!
Name Difficulté_ECS278: #REF!
Name Difficulté_ECS464: #REF!
Name Difficulté_Menuiseries305: #REF!
Name Difficulté_Menuiseries333: #REF!
Name Difficulté_Menuiseries525: #REF!
Name Difficulté_Menuiseries533: #REF!
Name Difficulté_Menuiseries557: #REF!
Name ECS_271: #REF!
Name ECS_52: #REF!
Name Isolation_52: #REF!
Name Menuiseries_52: #REF!
Name Ventilation_52: #REF!

Sheet ventes
A1: Priorité | B1: grpe | C1: Groupe | D1: Commune | E1: =#REF! -> #REF! | F1: Accord Communes | G1: NMH | H1: =#REF! -> #REF! | I1: =#REF! -> #REF! | J1: Avis Domaines | K1: =#REF! -> #REF! | L1: Nb logts restants à vendre | M1: Nb logts vacants | N1: dont réservés à la vente | O1: Travaux ( coût par logement HT) | T1: Coût par logement HT | U1: DPE obtenu après TX | V1: Coût total HT | W1: Prix moyen domaines | X1: % prix domaine | Y1: PV moyen | Z1: % PV | AA1: Marge | AB1: Valeur Nette Comptable | AC1: Capital Restant Dû | AD1: Commentaires
O2: Menuiseries | P2: Chauffage | Q2: Isolation | R2: Ventilation | S2: ECS
B3: 52 | C3: LES MINIERES - rue Maurice Emmanuel | D3: BAR SUR AUBE | E3: non reçu | F3: A demander | H3: E | I3: 2 | J3: 40924 | K3: EC | L3: 12 | M3: 3 | N3: 1 | W3: 52000 | Y3: 57200
B4: 81 | C4: BEL AIR route de Nozay | D4: ARCIS SUR AUBE | E4: non reçu | F4: A demander | G4: Cde 02avril | H4: D | I4: 0 | J4: 40480 | K4: EC | L4: 16 | M4: 4 | N4: 4 | W4: 43325 | Y4: 47657.5 | AD4: Bail Emphitéotique
B5: 88 | C5: 0088 RUE SAINTE FONTAINE | D5: BAR SUR SEINE | E5: 34976 | F5: A demander | G5: 40119 | H5: G | I5: 0 | J5: 40326 | L5: 11 | M5: 1 | N5: 1 | W5: 44000 | Y5: 48400
B6: 149 | C6: RUE DU STADE | D6: CHAVANGES | E6: 40982 | F6: A demander | G6: 40732 | H6: D | I6: 0 | J6: 40613 | L6: 12 | M6: 9 | N6: 9 | W6: 33500 | Y6: 36850
B7: 238 | C7: 0238 ZUP | D7: LES NOES PRES TROYES | E7: 35073 | F7: 37691 | G7: 40696 | H7: F | I7: 0 | J7: 40402 | L7: 10 | M7: 0 | N7: 0 | W7: 75600 | Y7: 83160
B8: 259 | C8: 0259 RUE NOUVELLE | D8: CHAVANGES | E8: refus le 29/02/2012 | F8: A demander | G8: 40687 | H8: F | I8: 3 | J8: 40938 | L8: 4 | M8: 1 | N8: 1 | P8: =#REF! -> #REF! | T8: =SUM(O8:S8) -> #REF! | U8: =#REF! -> #REF! | V8: =T8*L8 -> #REF! | W8: 85250 | X8: =T8/W8 -> #REF! | Y8: 93775 | Z8: =T8/Y8 -> #REF! | AD8: Dégats des eaux
P9: =#REF! -> #REF! | S9: =#REF! -> #REF! | T9: =S9+R9+Q9+P9+O9 -> #REF! | U9: C | V9: =T9*L8 -> #REF! | X9: =T9/W8 -> #REF! | Z9: =T9/Y8 -> #REF!
B10: 271 | C10: 0271 LES ADROITS | D10: PLAINES SAINT LANGE | F10: A demander | G10: 40693 | H10: G | I10: 3 | J10: EC | L10: 4 | M10: 0 | N10: 0 | P10: =#REF! -> #REF! | T10: =SUM(O10:S10) -> #REF! | U10: =#REF! -> #REF! | V10: =T10*L10 -> #REF!
P11: =#REF! -> #REF! | S11: =#REF! -> #REF! | T11: =O11+P11+Q11+R11+S11 -> #REF! | U11: =#REF! -> #REF! | V11: =T11*L10 -> #REF!
B12: 278 | C12: 0278 OSSEY LES TROIS MAISONS | D12: OSSEY LES TROIS MAISONS | E12: refus le 07/02/2012 | F12: A demander | G12: 40695 | H12: F | I12: 3 | J12: 40781 | L12: 6 | M12: 1 | N12: 0 | P12: =#REF! -> #REF! | T12: =SUM(O12:S12) -> #REF! | U12: =#REF! -> #REF! | V12: =T12*L12 -> #REF! | W12: 102042 | X12: =T12/W12 -> #REF! | Y12: 112246 | Z12: =T12/Y12 -> #REF!
P13: =#REF! -> #REF! | S13: =#REF! -> #REF! | T13: =O13+P13+Q13+R13+S13 -> #REF! | U13: =#REF! -> #REF! | V13: =T13*L12 -> #REF! | X13: =T13/W12 -> #REF! | Z13: =T13/Y12 -> #REF!
B14: 305 | C14: 0305 VIREY SS BAR 2 | D14: VIREY SOUS BAR | E14: refus le 29/02/2012 | F14: A demander | G14: 40687 | H14: F | I14: 3 | J14: 40840 | L14: 12 | M14: 0 | N14: 0 | O14: =#REF! -> #REF! | P14: =#REF! -> #REF! | T14: =SUM(O14:S14) -> #REF! | U14: C | V14: =T14*L14 -> #REF!
B15: 345 | C15: 0345 LE CARDINAL | D15: NOGENT SUR SEINE | E15: 40291 | F15: 40976 | G15: 40148 | H15: F | I15: 0 | J15: 40892 | L15: 16 | M15: 3 | N15: 3 | W15: 103562.5 | Y15: 113918.75
B16: 464 | C16: 0464 LA COTE DES VIGNES | D16: CHAVANGES | E16: refus le 29/02/2012 | F16: A demander | G16: 40687 | H16: F | I16: 3 | J16: 40938 | L16: 3 | M16: 1 | N16: 1 | P16: =#REF! -> #REF! | T16: =SUM(O16:S16) -> #REF! | U16: =#REF! -> #REF! | V16: =T16*L16 -> #REF! | W16: 76000 | X16: =T16/W16 -> #REF! | Y16: 83600 | Z16: =T16/Y16 -> #REF!
P17: =#REF! -> #REF! | S17: =#REF! -> #REF! | T17: =S17+R17+Q17+P17+O17 -> #REF! | U17: =#REF! -> #REF! | V17: =T17*L16 -> #REF! | X17: =T17/W16 -> #REF! | Z17: =T17/Y16 -> #REF!
B18: 609 | C18: 0609 ILOT PAUL BERT | D18: ROMILLY SUR SEINE | E18: refus le 15/03/2012 | F18: A demander | G18: 40694 | H18: E | I18: 2 | J18: 40836 | L18: 8 | M18: 2 | N18: 2 | W18: 52125 | Y18: 57337.5
B19: 901 | C19: 0901 25 RUE SARRAIL | D19: ARCIS SUR AUBE | F19: A demander | G19: 40687 | H19: G | I19: 0 | J19: EC | L19: 1 | M19: 0 | N19: 0 | W19: 44000 | Y19: 48400
B20: 909 | C20: 0909 RUE SAINT REMY | D20: ARCIS SUR AUBE | F20: A demander | G20: 40687 | H20: G | I20: 2 | J20: 40998 | L20: 8 | M20: 0 | N20: 0 | W20: 48750 | Y20: 53625
B21: 927 | C21: 2 avenue Général Leclerc / LA LISIERE - BREVIANDES / ST JULIEN LES VILLAS | D21: BREVIANDES | F21: A demander | G21: 40687 | H21: C | I21: 0 | J21: EC | K21: EC | L21: 52 | M21: 2 | N21: 0 | AD21: Vu France Domaine
B22: 987 | C22: 0987 DIENVILLE " LE NOSROT " | D22: DIENVILLE | F22: A demander | G22: 40696 | H22: F | I22: 1 | J22: EC | L22: 7 | M22: 2 | N22: 1
B23: 13 | C23: 0013 DOCTEUR ROUX | D23: ROMILLY SUR SEINE | E23: non reçu | F23: A demander | G23: 40694 | H23: E | I23: 1 | J23: EC | L23: 32 | M23: 1 | N23: 0
B24: 119 | C24: 0119 LOCARNO | E24: accord tacite (pas de réponse) | F24: A demander | G24: à cder à la signature d'un comprmis | I24: 0 | J24: 40932 | L24: 1 | M24: 1 | N24: 1 | W24: 30000 | Y24: 33000 | AD24: FH
B25: 313 | C25: 0313 CLEMENCEAU | D25: VILLENAUXE LA GRANDE | F25: A demander | H25: G | I25: 1 | J25: 40919 | L25: 5 | M25: 4 | N25: 4 | W25: 32900 | Y25: 36190
B26: 333 | C26: 0333 LA SAULSOTTE | D26: LA SAULSOTTE | E26: refus le 15/02/2012 | F26: A demander | G26: 40695 | H26: F | I26: 3 | J26: 40781 | L26: 10 | M26: 0 | N26: 0 | O26: =#REF! -> #REF! | T26: =SUM(O26:S26) -> #REF! | U26: =#REF! -> #REF! | V26: =T26*L26 -> #REF! | W26: 131662 | Y26: 144828
O27: =#REF! -> #REF! | P27: =#REF! -> #REF! | T27: =SUM(O27:S27) -> #REF! | U27: =#REF! -> #REF! | V27: =T27*L26 -> #REF!
B28: 436 | C28: 0436 VICTOR HUGO | D28: ESTISSAC | F28: A demander | G28: 40687 | H28: D | I28: 0 | J28: EC | L28: 2 | M28: 0 | N28: 0
B29: 525 | C29: 0525 BEAULUREY | D29: MOUSSEY | F29: A demander | G29: 40694 | H29: F | I29: 3 | J29: EC | L29: 1 | M29: 0 | N29: 0 | O29: =#REF! -> #REF! | T29: =SUM(O29:S29) -> #REF! | U29: =#REF! -> #REF! | V29: =T29*L29 -> #REF! | W29: 128000 | X29: =T29/W29 -> #REF! | Y29: 140800 | Z29: =T29/Y29 -> #REF!
O30: =#REF! -> #REF! | P30: =#REF! -> #REF! | T30: =S30+R30+Q30+P30+O30 -> #REF! | U30: =#REF! -> #REF! | V30: =T30*L29 -> #REF! | X30: =T30/W29 -> #REF! | Z30: =T30/Y29 -> #REF!
B31: 533 | C31: 0533 14 RUE DE LA NOUE AUX LOUPS | D31: MESNIL SAINT PÈRE | H31: F | I31: 3 | L31: 1 | O31: =#REF! -> #REF! | T31: =SUM(O31:S31) -> #REF! | U31: =#REF! -> #REF! | V31: =T31*L31 -> #REF!
O32: =#REF! -> #REF! | P32: =#REF! -> #REF! | T32: =S32+R32+Q32+P32+O32 -> #REF! | U32: =#REF! -> #REF! | V32: =T32*L31 -> #REF!
B33: 534 | C33: 0534 LA RUELLE | D33: SOMMEVAL | F33: A demander | G33: 40694 | H33: G | I33: 1 | J33: EC | L33: 2 | M33: 0 | N33: 0 | AD33: Aucun client interressé
B34: 557 | C34: 0557 12 RUE DE LA NOUE AUX LOUPS | D34: MESNIL SAINT PÈRE | H34: F | I34: 3 | L34: 1 | O34: =#REF! -> #REF! | T34: =SUM(O34:S34) -> #REF! | U34: =#REF! -> #REF! | V34: =T34*L34 -> #REF!
O35: =#REF! -> #REF! | P35: =#REF! -> #REF! | T35: =S35+R35+Q35+P35+O35 -> #REF! | U35: =#REF! -> #REF! | V35: =T35*L34 -> #REF!
B36: 935 | C36: 0935 RUE DU GILLARD | D36: CHAVANGES | F36: A demander | I36: 0 | J36: EC | L36: 1 | M36: 1 | N36: 1 | AD36: A voir Maison abandon à confirmer
B37: 947 | C37: 0947 FORGES ST BERNARD | D37: VILLE SOUS LA FERTE | E37: refus le 15/02/2012 | F37: A demander | G37: à cder à la signature d'un comprmis | H37: F | I37: 2 | J37: 39637 | L37: 47 | M37: 6 | N37: 6
B38: 949 | C38: 0949 CHAMPFLEURY " LE VILLAGE " | D38: CHAMPFLEURY | E38: ddé le 18/01/2012 | F38: 40945 | G38: 40696 | H38: G | I38: 0 | J38: 40932 | L38: 1 | M38: 0 | N38: 0 | W38: 105000 | Y38: 155500
B39: 959 | C39: 0959 CLAIRVAUX " LA NOUEROIE " | D39: VILLE SOUS LA FERTE | E39: refus le 15/02/2012 | F39: A demander | G39: 40694 | H39: F | I39: 2 | J39: 40633 | L39: 1 | M39: 0 | N39: 0 | W39: 95000 | Y39: 104500
B40: 963 | C40: 0963 3 IMPASSE DE LA GARENNE | D40: ROMILLY SUR SEINE | E40: accord tacite (pas de réponse) | F40: A demander | G40: à cder à la signature d'un comprmis | H40: G | I40: 0 | J40: 40932 | L40: 1 | M40: 1 | N40: 1 | W40: 31000 | Y40: 34100
...

Sheet AGS
A1: Priorité | B1: grpe | C1: Groupe | D1: Commune | E1: DPE | F1: AGS | G1: Nb logts restants à vendre | H1: Nb logts vacants | I1: dont réservés à la vente | J1: Travaux ( coût par logement HT) | O1: Coût par logement HT | P1: DPE obtenu après TX | Q1: Coût total HT | R1: Prix moyen domaines | S1: % prix domaine | T1: PV moyen | U1: % PV | V1: Marge | W1: Valeur Nette Comptable | X1: Capital Restant Dû | Y1: Commentaires
J2: Menuiseries | K2: Chauffage | L2: Isolation | M2: Ventilation | N2: ECS
A3: =ventes!A3 -> 0 | B3: =ventes!B3 -> 52 | C3: =ventes!C3 -> LES MINIERES - rue Maurice Emmanuel | D3: =ventes!D3 -> BAR SUR AUBE | E3: =ventes!H3 -> E | F3: =ventes!I3 -> 2 | G3: =ventes!L3 -> 12 | H3: =ventes!M3 -> 3 | I3: =ventes!N3 -> 1 | J3: =ventes!O3 -> 0 | K3: =ventes!P3 -> 0 | L3: =ventes!Q3 -> 0 | M3: =ventes!R3 -> 0 | N3: =ventes!S3 -> 0 | ... Y3: =ventes!AD3 -> 0
A4: =ventes!A4 -> 0 | B4: =ventes!B4 -> 81 | C4: =ventes!C4 -> BEL AIR route de Nozay | D4: =ventes!D4 -> ARCIS SUR AUBE | E4: =ventes!H4 -> D | F4: =ventes!I4 -> 0 | G4: =ventes!L4 -> 16 | H4: =ventes!M4 -> 4 | I4: =ventes!N4 -> 4 | J4: =ventes!O4 -> 0 | K4: =ventes!P4 -> 0 | L4: =ventes!Q4 -> 0 | M4: =ventes!R4 -> 0 | N4: =ventes!S4 -> 0 | ... Y4: =ventes!AD4 -> Bail Emphitéotique
A5: =ventes!A5 -> 0 | B5: =ventes!B5 -> 88 | C5: =ventes!C5 -> 0088 RUE SAINTE FONTAINE | D5: =ventes!D5 -> BAR SUR SEINE | E5: =ventes!H5 -> G | F5: =ventes!I5 -> 0 | G5: =ventes!L5 -> 11 | H5: =ventes!M5 -> 1 | I5: =ventes!N5 -> 1 | J5: =ventes!O5 -> 0 | K5: =ventes!P5 -> 0 | L5: =ventes!Q5 -> 0 | M5: =ventes!R5 -> 0 | N5: =ventes!S5 -> 0 | ... Y5: =ventes!AD5 -> 0
A6: =ventes!A6 -> 0 | B6: =ventes!B6 -> 149 | C6: =ventes!C6 -> RUE DU STADE | D6: =ventes!D6 -> CHAVANGES | E6: =ventes!H6 -> D | F6: =ventes!I6 -> 0 | G6: =ventes!L6 -> 12 | H6: =ventes!M6 -> 9 | I6: =ventes!N6 -> 9 | J6: =ventes!O6 -> 0 | K6: =ventes!P6 -> 0 | L6: =ventes!Q6 -> 0 | M6: =ventes!R6 -> 0 | N6: =ventes!S6 -> 0 | ... Y6: =ventes!AD6 -> 0
A7: =ventes!A7 -> 0 | B7: =ventes!B7 -> 238 | C7: =ventes!C7 -> 0238 ZUP | D7: =ventes!D7 -> LES NOES PRES TROYES | E7: =ventes!H7 -> F | F7: =ventes!I7 -> 0 | G7: =ventes!L7 -> 10 | H7: =ventes!M7 -> 0 | I7: =ventes!N7 -> 0 | J7: =ventes!O7 -> 0 | K7: =ventes!P7 -> 0 | L7: =ventes!Q7 -> 0 | M7: =ventes!R7 -> 0 | N7: =ventes!S7 -> 0 | ... Y7: =ventes!AD7 -> 0
A8: =ventes!A8 -> 0 | B8: =ventes!B8 -> 259 | C8: =ventes!C8 -> 0259 RUE NOUVELLE | D8: =ventes!D8 -> CHAVANGES | E8: =ventes!H8 -> F | F8: =ventes!I8 -> 3 | G8: =ventes!L8 -> 4 | H8: =ventes!M8 -> 1 | I8: =ventes!N8 -> 1 | J8: =ventes!O8 -> 0 | K8: =ventes!P8 -> #REF! | L8: =ventes!Q8 -> 0 | M8: =ventes!R8 -> 0 | N8: =ventes!S8 -> 0 | ... Y8: =ventes!AD8 -> Dégats des eaux
A9: =ventes!A9 -> 0 | B9: =ventes!B9 -> 0 | C9: =ventes!C9 -> 0 | D9: =ventes!D9 -> 0 | E9: =ventes!H9 -> 0 | F9: =ventes!I9 -> 0 | G9: =ventes!L9 -> 0 | H9: =ventes!M9 -> 0 | I9: =ventes!N9 -> 0 | J9: =ventes!O9 -> 0 | K9: =ventes!P9 -> #REF! | L9: =ventes!Q9 -> 0 | M9: =ventes!R9 -> 0 | N9: =ventes!S9 -> #REF! | ... Y9: =ventes!AD9 -> 0
A10: =ventes!A10 -> 0 | B10: =ventes!B10 -> 271 | C10: =ventes!C10 -> 0271 LES ADROITS | D10: =ventes!D10 -> PLAINES SAINT LANGE | E10: =ventes!H10 -> G | F10: =ventes!I10 -> 3 | G10: =ventes!L10 -> 4 | H10: =ventes!M10 -> 0 | I10: =ventes!N10 -> 0 | J10: =ventes!O10 -> 0 | K10: =ventes!P10 -> #REF! | L10: =ventes!Q10 -> 0 | M10: =ventes!R10 -> 0 | N10: =ventes!S10 -> 0 | ... Y10: =ventes!AD10 -> 0
A11: =ventes!A11 -> 0 | B11: =ventes!B11 -> 0 | C11: =ventes!C11 -> 0 | D11: =ventes!D11 -> 0 | E11: =ventes!H11 -> 0 | F11: =ventes!I11 -> 0 | G11: =ventes!L11 -> 0 | H11: =ventes!M11 -> 0 | I11: =ventes!N11 -> 0 | J11: =ventes!O11 -> 0 | K11: =ventes!P11 -> #REF! | L11: =ventes!Q11 -> 0 | M11: =ventes!R11 -> 0 | N11: =ventes!S11 -> #REF! | ... Y11: =ventes!AD11 -> 0
A12: =ventes!A12 -> 0 | B12: =ventes!B12 -> 278 | C12: =ventes!C12 -> 0278 OSSEY LES TROIS MAISONS | D12: =ventes!D12 -> OSSEY LES TROIS MAISONS | E12: =ventes!H12 -> F | F12: =ventes!I12 -> 3 | G12: =ventes!L12 -> 6 | H12: =ventes!M12 -> 1 | I12: =ventes!N12 -> 0 | J12: =ventes!O12 -> 0 | K12: =ventes!P12 -> #REF! | L12: =ventes!Q12 -> 0 | M12: =ventes!R12 -> 0 | N12: =ventes!S12 -> 0 | ... Y12: =ventes!AD12 -> 0
A13: =ventes!A13 -> 0 | B13: =ventes!B13 -> 0 | C13: =ventes!C13 -> 0 | D13: =ventes!D13 -> 0 | E13: =ventes!H13 -> 0 | F13: =ventes!I13 -> 0 | G13: =ventes!L13 -> 0 | H13: =ventes!M13 -> 0 | I13: =ventes!N13 -> 0 | J13: =ventes!O13 -> 0 | K13: =ventes!P13 -> #REF! | L13: =ventes!Q13 -> 0 | M13: =ventes!R13 -> 0 | N13: =ventes!S13 -> #REF! | ... Y13: =ventes!AD13 -> 0
A14: =ventes!A14 -> 0 | B14: =ventes!B14 -> 305 | C14: =ventes!C14 -> 0305 VIREY SS BAR 2 | D14: =ventes!D14 -> VIREY SOUS BAR | E14: =ventes!H14 -> F | F14: =ventes!I14 -> 3 | G14: =ventes!L14 -> 12 | H14: =ventes!M14 -> 0 | I14: =ventes!N14 -> 0 | J14: =ventes!O14 -> #REF! | K14: =ventes!P14 -> #REF! | L14: =ventes!Q14 -> 0 | M14: =ventes!R14 -> 0 | N14: =ventes!S14 -> 0 | ... Y14: =ventes!AD14 -> 0
... A25: =ventes!A25 -> 0 | B25: =ventes!B25 -> 313 | C25: =ventes!C25 -> 0313 CLEMENCEAU | D25: =ventes!D25 -> VILLENAUXE LA GRANDE | E25: =ventes!H25 -> G | F25: =ventes!I25 -> 1 | G25: =ventes!L25 -> 5 | H25: =ventes!M25 -> 4 | I25: =ventes!N25 -> 4 | J25: =ventes!O25 -> 0 | K25: =ventes!P25 -> 0 | L25: =ventes!Q25 -> 0 | M25: =ventes!R25 -> 0 | N25: =ventes!S25 -> 0 | ... Y25: =ventes!AD25 -> 0
A26: =ventes!A27 -> 0 | B26: =ventes!B26 -> 333 | C26: =ventes!C26 -> 0333 LA SAULSOTTE | D26: =ventes!D26 -> LA SAULSOTTE | E26: =ventes!H26 -> F | F26: =ventes!I26 -> 3 | G26: =ventes!L26 -> 10 | H26: =ventes!M26 -> 0 | I26: =ventes!N26 -> 0 | J26: =ventes!O27 -> #REF! | K26: =ventes!P27 -> #REF! | L26: =ventes!Q27 -> 0 | M26: =ventes!R27 -> 0 | N26: =ventes!S27 -> 0 | O26: =ventes!T27 -> #REF! | P26: =ventes!U27 -> #REF! | Q26: =ventes!V27 -> #REF! | R26: =ventes!W26 -> 131662 | S26: =ventes!X27 -> 0 | T26: =ventes!Y26 -> 144828 | U26: =ventes!Z27 -> 0 | V26: =ventes!AA27 -> 0 | W26: =ventes!AB27 -> 0 | X26: =ventes!AC27 -> 0 | Y26: =ventes!AD27 -> 0
A27: =ventes!A28 -> 0 | B27: =ventes!B28 -> 436 | C27: =ventes!C28 -> 0436 VICTOR HUGO | D27: =ventes!D28 -> ESTISSAC | E27: =ventes!H28 -> D | F27: =ventes!I28 -> 0 | G27: =ventes!L28 -> 2 | H27: =ventes!M28 -> 0 | I27: =ventes!N28 -> 0 | J27: =ventes!O28 -> 0 | K27: =ventes!P28 -> 0 | L27: =ventes!Q28 -> 0 | M27: =ventes!R28 -> 0 | N27: =ventes!S28 -> 0 | ... Y27: =ventes!AD28 -> 0
A28: =ventes!A29 -> 0 | B28: =ventes!B29 -> 525 | C28: =ventes!C29 -> 0525 BEAULUREY | D28: =ventes!D29 -> MOUSSEY | E28: =ventes!H29 -> F | F28: =ventes!I29 -> 3 | G28: =ventes!L29 -> 1 | H28: =ventes!M29 -> 0 | I28: =ventes!N29 -> 0 | J28: =ventes!O29 -> #REF! | K28: =ventes!P29 -> 0 | L28: =ventes!Q29 -> 0 | M28: =ventes!R29 -> 0 | N28: =ventes!S29 -> 0 | ... Y28: =ventes!AD29 -> 0
A29: =ventes!A30 -> 0 | B29: =ventes!B30 -> 0 | C29: =ventes!C30 -> 0 | D29: =ventes!D30 -> 0 | E29: =ventes!H30 -> 0 | F29: =ventes!I30 -> 0 | G29: =ventes!L30 -> 0 | H29: =ventes!M30 -> 0 | I29: =ventes!N30 -> 0 | J29: =ventes!O30 -> #REF! | K29: =ventes!P30 -> #REF! | L29: =ventes!Q30 -> 0 | M29: =ventes!R30 -> 0 | N29: =ventes!S30 -> 0 | ... Y29: =ventes!AD30 -> 0
A30: =ventes!A31 -> 0 | B30: =ventes!B31 -> 533 | C30: =ventes!C31 -> 0533 14 RUE DE LA NOUE AUX LOUPS | D30: =ventes!D31 -> MESNIL SAINT PÈRE | E30: =ventes!H31 -> F | F30: =ventes!I31 -> 3 | G30: =ventes!L31 -> 1 | H30: =ventes!M31 -> 0 | I30: =ventes!N31 -> 0 | J30: =ventes!O31 -> #REF! | K30: =ventes!P31 -> 0 | L30: =ventes!Q31 -> 0 | M30: =ventes!R31 -> 0 | N30: =ventes!S31 -> 0 | ... Y30: =ventes!AD31 -> 0
A31: =ventes!A32 -> 0 | B31: =ventes!B32 -> 0 | C31: =ventes!C32 -> 0 | D31: =ventes!D32 -> 0 | E31: =ventes!H32 -> 0 | F31: =ventes!I32 -> 0 | G31: =ventes!L32 -> 0 | H31: =ventes!M32 -> 0 | I31: =ventes!N32 -> 0 | J31: =ventes!O32 -> #REF! | K31: =ventes!P32 -> #REF! | L31: =ventes!Q32 -> 0 | M31: =ventes!R32 -> 0 | N31: =ventes!S32 -> 0 | ... Y31: =ventes!AD32 -> 0
A32: =ventes!A33 -> 0 | B32: =ventes!B33 -> 534 | C32: =ventes!C33 -> 0534 LA RUELLE | D32: =ventes!D33 -> SOMMEVAL | E32: =ventes!H33 -> G | F32: =ventes!I33 -> 1 | G32: =ventes!L33 -> 2 | H32: =ventes!M33 -> 0 | I32: =ventes!N33 -> 0 | J32: =ventes!O33 -> 0 | K32: =ventes!P33 -> 0 | L32: =ventes!Q33 -> 0 | M32: =ventes!R33 -> 0 | N32: =ventes!S33 -> 0 | ... Y32: =ventes!AD33 -> Aucun client interressé
A33: =ventes!A34 -> 0 | B33: =ventes!B34 -> 557 | C33: =ventes!C34 -> 0557 12 RUE DE LA NOUE AUX LOUPS | D33: =ventes!D34 -> MESNIL SAINT PÈRE | E33: =ventes!H34 -> F | F33: =ventes!I34 -> 3 | G33: =ventes!L34 -> 1 | H33: =ventes!M34 -> 0 | I33: =ventes!N34 -> 0 | J33: =ventes!O34 -> #REF! | K33: =ventes!P34 -> 0 | L33: =ventes!Q34 -> 0 | M33: =ventes!R34 -> 0 | N33: =ventes!S34 -> 0 | ... Y33: =ventes!AD34 -> 0
A34: =ventes!A35 -> 0 | B34: =ventes!B35 -> 0 | C34: =ventes!C35 -> 0 | D34: =ventes!D35 -> 0 | E34: =ventes!H35 -> 0 | F34: =ventes!I35 -> 0 | G34: =ventes!L35 -> 0 | H34: =ventes!M35 -> 0 | I34: =ventes!N35 -> 0 | J34: =ventes!O35 -> #REF! | K34: =ventes!P35 -> #REF! | L34: =ventes!Q35 -> 0 | M34: =ventes!R35 -> 0 | N34: =ventes!S35 -> 0 | ... Y34: =ventes!AD35 -> 0
A35: =ventes!A36 -> 0 | B35: =ventes!B36 -> 935 | C35: =ventes!C36 -> 0935 RUE DU GILLARD | D35: =ventes!D36 -> CHAVANGES | E35: =ventes!H36 | F35: =ventes!I36 -> 0 | G35: =ventes!L36 -> 1 | H35: =ventes!M36 -> 1 | I35: =ventes!N36 -> 1 | J35: =ventes!O36 -> 0 | K35: =ventes!P36 -> 0 | L35: =ventes!Q36 -> 0 | M35: =ventes!R36 -> 0 | N35: =ventes!S36 -> 0 | ... Y35: =ventes!AD36 -> A voir Maison abandon à confirmer
A36: =ventes!A37 -> 0 | B36: =ventes!B37 -> 947 | C36: =ventes!C37 -> 0947 FORGES ST BERNARD | D36: =ventes!D37 -> VILLE SOUS LA FERTE | E36: =ventes!H37 -> F | F36: =ventes!I37 -> 2 | G36: =ventes!L37 -> 47 | H36: =ventes!M37 -> 6 | I36: =ventes!N37 -> 6 | J36: =ventes!O37 -> 0 | K36: =ventes!P37 -> 0 | L36: =ventes!Q37 -> 0 | M36: =ventes!R37 -> 0 | N36: =ventes!S37 -> 0 | ... Y36: =ventes!AD37 -> 0
A37: =ventes!A38 -> 0 | B37: =ventes!B38 -> 949 | C37: =ventes!C38 -> 0949 CHAMPFLEURY " LE VILLAGE " | D37: =ventes!D38 -> CHAMPFLEURY | E37: =ventes!H38 -> G | F37: =ventes!I38 -> 0 | G37: =ventes!L38 -> 1 | H37: =ventes!M38 -> 0 | I37: =ventes!N38 -> 0 | J37: =ventes!O38 -> 0 | K37: =ventes!P38 -> 0 | L37: =ventes!Q38 -> 0 | M37: =ventes!R38 -> 0 | N37: =ventes!S38 -> 0 | ... Y37: =ventes!AD38 -> 0
A38: =ventes!A39 -> 0 | B38: =ventes!B39 -> 959 | C38: =ventes!C39 -> 0959 CLAIRVAUX " LA NOUEROIE " | D38: =ventes!D39 -> VILLE SOUS LA FERTE | E38: =ventes!H39 -> F | F38: =ventes!I39 -> 2 | G38: =ventes!L39 -> 1 | H38: =ventes!M39 -> 0 | I38: =ventes!N39 -> 0 | J38: =ventes!O39 -> 0 | K38: =ventes!P39 -> 0 | L38: =ventes!Q39 -> 0 | M38: =ventes!R39 -> 0 | N38: =ventes!S39 -> 0 | ... Y38: =ventes!AD39 -> 0
... A53: =ventes!A54 -> 0 | B53: =ventes!B54 -> 982 | C53: =ventes!C54 -> 0982 ST-JULIEN - RUE L. GRAVELLE | D53: =ventes!D54 -> ST JULIEN LES VILLAS | E53: =ventes!H54 -> E | F53: =ventes!I54 -> 1 | G53: =ventes!L54 -> 1 | H53: =ventes!M54 -> 0 | I53: =ventes!N54 -> 0 | J53: =ventes!O54 -> 0 | K53: =ventes!P54 -> 0 | L53: =ventes!Q54 -> 0 | M53: =ventes!R54 -> 0 | N53: =ventes!S54 -> 0 | ... Y53: =ventes!AD54 -> 0
