Workbook

Sheet Données
C7: Nuit de dimanche à Lundi | H7: Lundi
C8: 40909 | H8: 40909
C9: Tâche | D9: Début | E9: Fin | F9: durée | H9: Tâche | I9: Début | J9: Fin | K9: durée
C10: Outillage | D10: 0.125 | E10: 0.16666667 | F10: 0.083333333 | H10: Déjeuner | I10: 0.041666667 | J10: 0.083333333 | K10: 0.041666667

Sheet Planning
D3: 40909 | ER3: 40941
D7: 0 | E7: =D7+(1/(24*6)) -> 0.0069444444 | F7: =E7+(1/(24*6)) -> 0.013888889 | G7: =F7+(1/(24*6)) -> 0.020833333 | H7: =G7+(1/(24*6)) -> 0.027777778 | I7: =H7+(1/(24*6)) -> 0.034722222 | J7: =I7+(1/(24*6)) -> 0.041666667 | K7: =J7+(1/(24*6)) -> 0.048611111 | L7: =K7+(1/(24*6)) -> 0.055555556 | ... EQ7: =EP7+(1/(24*6)) -> 0.99305556 | ER7: 0 | ES7: =ER7+(1/(24*6)) -> 0.0069444444 | ET7: =ES7+(1/(24*6)) -> 0.013888889 | EU7: =ET7+(1/(24*6)) -> 0.020833333 | EV7: =EU7+(1/(24*6)) -> 0.027777778 | EW7: =EV7+(1/(24*6)) -> 0.034722222 | EX7: =EW7+(1/(24*6)) -> 0.041666667 | EY7: =EX7+(1/(24*6)) -> 0.048611111 | EZ7: =EY7+(1/(24*6)) -> 0.055555556 | ... KE7: =KD7+(1/(24*6)) -> 0.99305556
A8: Outillage | D8: =IF($D$3=Données!$C$8,IF((D7>=Données!$D$10)*(D7<=Données!$E$10),1,0),0) -> 0 | E8: =IF($D$3=Données!$C$8,IF((E7>=Données!$D$10)*(E7<=Données!$E$10),1,0),0) -> 0 | F8: =IF($D$3=Données!$C$8,IF((F7>=Données!$D$10)*(F7<=Données!$E$10),1,0),0) -> 0 | G8: =IF($D$3=Données!$C$8,IF((G7>=Données!$D$10)*(G7<=Données!$E$10),1,0),0) -> 0 | H8: =IF($D$3=Données!$C$8,IF((H7>=Données!$D$10)*(H7<=Données!$E$10),1,0),0) -> 0 | I8: =IF($D$3=Données!$C$8,IF((I7>=Données!$D$10)*(I7<=Données!$E$10),1,0),0) -> 0 | J8: =IF($D$3=Données!$C$8,IF((J7>=Données!$D$10)*(J7<=Données!$E$10),1,0),0) -> 0 | K8: =IF($D$3=Données!$C$8,IF((K7>=Données!$D$10)*(K7<=Données!$E$10),1,0),0) -> 0 | ... EQ8: =IF($D$3=Données!$C$8,IF((EQ7>=Données!$D$10)*(EQ7<=Données!$E$10),1,0),0) -> 0 | ER8: =IF($ER$3=Données!$C$8,IF((ER7>=Données!$D$10)*(ER7<=Données!$E$10),1,0),0) -> 0 | ES8: =IF($ER$3=Données!$C$8,IF((ES7>=Données!$D$10)*(ES7<=Données!$E$10),1,0),0) -> 0 | ET8: =IF($ER$3=Données!$C$8,IF((ET7>=Données!$D$10)*(ET7<=Données!$E$10),1,0),0) -> 0 | EU8: =IF($ER$3=Données!$C$8,IF((EU7>=Données!$D$10)*(EU7<=Données!$E$10),1,0),0) -> 0 | EV8: =IF($ER$3=Données!$C$8,IF((EV7>=Données!$D$10)*(EV7<=Données!$E$10),1,0),0) -> 0 | EW8: =IF($ER$3=Données!$C$8,IF((EW7>=Données!$D$10)*(EW7<=Données!$E$10),1,0),0) -> 0 | EX8: =IF($ER$3=Données!$C$8,IF((EX7>=Données!$D$10)*(EX7<=Données!$E$10),1,0),0) -> 0 | EY8: =IF($ER$3=Données!$C$8,IF((EY7>=Données!$D$10)*(EY7<=Données!$E$10),1,0),0) -> 0 | ... KE8: =IF($ER$3=Données!$C$8,IF((KE7>=Données!$D$10)*(KE7<=Données!$E$10),1,0),0) -> 0
A9: Déjeuner | D9: =IF($D$3=Données!$H$8,IF((D7>=Données!$I$10)*(D7<=Données!$J$10),1,0),0) -> 0 | E9: =IF($D$3=Données!$H$8,IF((E7>=Données!$I$10)*(E7<=Données!$J$10),1,0),0) -> 0 | F9: =IF($D$3=Données!$H$8,IF((F7>=Données!$I$10)*(F7<=Données!$J$10),1,0),0) -> 0 | G9: =IF($D$3=Données!$H$8,IF((G7>=Données!$I$10)*(G7<=Données!$J$10),1,0),0) -> 0 | H9: =IF($D$3=Données!$H$8,IF((H7>=Données!$I$10)*(H7<=Données!$J$10),1,0),0) -> 0 | I9: =IF($D$3=Données!$H$8,IF((I7>=Données!$I$10)*(I7<=Données!$J$10),1,0),0) -> 0 | J9: =IF($D$3=Données!$H$8,IF((J7>=Données!$I$10)*(J7<=Données!$J$10),1,0),0) -> 1 | K9: =IF($D$3=Données!$H$8,IF((K7>=Données!$I$10)*(K7<=Données!$J$10),1,0),0) -> 1 | ... EQ9: =IF($D$3=Données!$H$8,IF((EQ7>=Données!$I$10)*(EQ7<=Données!$J$10),1,0),0) -> 0 | ER9: =IF(ER3=Données!$H$8,IF((ER7>=Données!$I$10)*(ER7<=Données!$J$10),1,0),0) -> 0 | ES9: =IF(ES3=Données!$H$8,IF((ES7>=Données!$I$10)*(ES7<=Données!$J$10),1,0),0) -> 0 | ET9: =IF(ET3=Données!$H$8,IF((ET7>=Données!$I$10)*(ET7<=Données!$J$10),1,0),0) -> 0 | EU9: =IF(EU3=Données!$H$8,IF((EU7>=Données!$I$10)*(EU7<=Données!$J$10),1,0),0) -> 0 | EV9: =IF(EV3=Données!$H$8,IF((EV7>=Données!$I$10)*(EV7<=Données!$J$10),1,0),0) -> 0 | EW9: =IF(EW3=Données!$H$8,IF((EW7>=Données!$I$10)*(EW7<=Données!$J$10),1,0),0) -> 0 | EX9: =IF(EX3=Données!$H$8,IF((EX7>=Données!$I$10)*(EX7<=Données!$J$10),1,0),0) -> 0 | EY9: =IF(EY3=Données!$H$8,IF((EY7>=Données!$I$10)*(EY7<=Données!$J$10),1,0),0) -> 0 | ... KE9: =IF(KE3=Données!$H$8,IF((KE7>=Données!$I$10)*(KE7<=Données!$J$10),1,0),0) -> 0

Sheet Feuil3
