Workbook
Name an: [1]Accueil!$C$1
Name an: Accueil!$C$1
Name Année: [1]Accueil!$L$2:$L$7
Name Année: Accueil!$L$2:$L$7
Name fériés: [1]Accueil!$N$2:$N$15
Name fériés: Accueil!$N$2:$N$15
Name Jours: bdd!#REF!
Name Jours: Accueil!$J$2:$J$8
Name Mois: bdd!#REF!
Name Mois: Accueil!$K$1:$K$12
Name saisie1: #REF!,#REF!,#REF!,#REF!,#REF!,#REF!,#REF!,#REF!,#REF!,#REF!,#REF!,#REF!,#REF!,#REF!,#REF!,#REF!,#REF!,#REF!,#REF!,#REF!,#REF!,#REF!,#REF!,#REF!,#REF!,#REF!,#REF!
Name saisie2: #REF!,#REF!,#REF!,#REF!,#REF!,#REF!,#REF!,#REF!,#REF!,#REF!,#REF!,#REF!,#REF!,#REF!,#REF!,#REF!,#REF!,#REF!,#REF!,#REF!,#REF!,#REF!,#REF!,#REF!,#REF!,#REF!

Sheet Accueil
A1: Accueil | C1: 2012 | J1: Jours | K1: Janvier | L1: Années
J2: D | K2: Février | L2: 2011 | M2: Jour de l'an | N2: =DATE(C1,1,1) -> 40909
J3: L | K3: Mars | L3: 2012 | M3: Pâques | N3: =FLOOR(DATE(C1,5,DAY(MINUTE(C1/38)/2+56)),7)-34+7*(C1=2079) -> 41007
J4: M | K4: Avril | L4: 2013 | M4: Lundi de Pâques | N4: =N3+1 -> 41008
J5: Me | K5: Mai | L5: 2014 | M5: Fête du travail | N5: =DATE(C1,5,1) -> 41030
J6: J | K6: Juin | L6: 2015 | M6: Armistice 1945 | N6: =DATE(C1,5,8) -> 41037
J7: V | K7: Juillet | L7: 2016 | M7: Ascension | N7: =N3+39 -> 41046
J8: S | K8: Août | M8: Pentecôte | N8: =N3+49 -> 41056
K9: Septembre | M9: Lundi de Pentecote | N9: =N8+1 -> 41057
K10: Octobre | M10: Fête nationale | N10: =DATE(C1,7,14) -> 41104
K11: Novembre | M11: Assomption | N11: =DATE(C1,8,15) -> 41136
K12: Décembre | M12: Toussaint | N12: =DATE(C1,11,1) -> 41214
M13: Armistice 1918 | N13: =DATE(C1,11,11) -> 41224
M14: NOEL | N14: =DATE(C1,12,25) -> 41268
M15: 1er an an suivante | N15: =N14+7 -> 41275

Sheet bdd
A1: ETP | B1: Atelier Référence | C1: Moniteur Référent | D1: NOM Prénom | E1: Lundi | I1: Mardi | M1: Mercredi | Q1: Jeudi | U1: Vendredi
A2: 1 | B2: ELECTRICITE | C2: MARIE-JO | D2: utilisateur1 | E2: 1 | F2: 2 | G2: 3 | H2: 4 | I2: 5 | J2: 6 | K2: 7 | L2: 8 | M2: 9 | N2: 10 | O2: 11 | P2: 12 | Q2: 13 | R2: 14 | S2: 15 | T2: 16 | U2: 17 | V2: 18 | W2: 19 | X2: 20
A3: 0.786 | B3: PASTEL | C3: CORINNE | D3: utilisateur2 | E3: 21 | F3: 22 | G3: 23 | H3: 24 | I3: 25 | J3: 26 | K3: 27 | L3: 28 | M3: 29 | N3: 30 | O3: 31 | P3: 32 | Q3: 33 | R3: 34 | S3: 35 | T3: 36 | U3: 37 | V3: 38 | W3: 39 | X3: 40
A4: 1 | B4: ALTIA | C4: VINCENT | D4: utilisateur3 | E4: 31 | F4: 32 | G4: 33 | H4: 34 | I4: 35 | J4: 36 | K4: 37 | L4: 38 | M4: 39 | N4: 40 | O4: 41 | P4: 42 | Q4: 43 | R4: 44 | S4: 45 | T4: 46 | U4: 47 | V4: 48 | W4: 49 | X4: 50
A5: 0.3 | B5: MAILING | C5: FLORENCE | D5: utilisateur4 | E5: 41 | F5: 48.666667 | G5: 56.333333 | H5: 64 | I5: 71.666667 | J5: 79.333333 | K5: 87 | L5: 94.666667 | M5: 102.33333 | N5: 110 | O5: 117.66667 | P5: 125.33333 | Q5: 133 | R5: 140.66667 | S5: 148.33333 | T5: 156 | U5: 163.66667 | V5: 171.33333 | W5: 179 | X5: 186.66667
A6: 0.793 | B6: THIPH | C6: NATHALIE | D6: utilisateur5 | E6: 51 | F6: 63.666667 | G6: 76.333333 | H6: 89 | I6: 101.66667 | J6: 114.33333 | K6: 127 | L6: 139.66667 | M6: 152.33333 | N6: 165 | O6: 177.66667 | P6: 190.33333 | Q6: 203 | R6: 215.66667 | S6: 228.33333 | T6: 241 | U6: 253.66667 | V6: 266.33333 | W6: 279 | X6: 291.66667
A7: 1 | B7: ALTIA | C7: VINCENT | D7: utilisateur6 | E7: 61 | F7: 78.666667 | G7: 96.333333 | H7: 114 | I7: 131.66667 | J7: 149.33333 | K7: 167 | L7: 184.66667 | M7: 202.33333 | N7: 220 | O7: 237.66667 | P7: 255.33333 | Q7: 273 | R7: 290.66667 | S7: 308.33333 | T7: 326 | U7: 343.66667 | V7: 361.33333 | W7: 379 | X7: 396.66667
A8: 0.729 | B8: MAILING | C8: FLORENCE | D8: utilisateur7 | E8: 71 | F8: 93.666667 | G8: 116.33333 | H8: 139 | I8: 161.66667 | J8: 184.33333 | K8: 207 | L8: 229.66667 | M8: 252.33333 | N8: 275 | O8: 297.66667 | P8: 320.33333 | Q8: 343 | R8: 365.66667 | S8: 388.33333 | T8: 411 | U8: 433.66667 | V8: 456.33333 | W8: 479 | X8: 501.66667
A9: 1 | B9: EV | C9: DAVID | D9: utilisateur8 | E9: 81 | F9: 108.66667 | G9: 136.33333 | H9: 164 | I9: 191.66667 | J9: 219.33333 | K9: 247 | L9: 274.66667 | M9: 302.33333 | N9: 330 | O9: 357.66667 | P9: 385.33333 | Q9: 413 | R9: 440.66667 | S9: 468.33333 | T9: 496 | U9: 523.66667 | V9: 551.33333 | W9: 579 | X9: 606.66667
A10: 1 | B10: THIPH | C10: NATHALIE | D10: utilisateur9 | E10: 91 | F10: 123.66667 | G10: 156.33333 | H10: 189 | I10: 221.66667 | J10: 254.33333 | K10: 287 | L10: 319.66667 | M10: 352.33333 | N10: 385 | O10: 417.66667 | P10: 450.33333 | Q10: 483 | R10: 515.66667 | S10: 548.33333 | T10: 581 | U10: 613.66667 | V10: 646.33333 | W10: 679 | X10: 711.66667
A11: 1 | B11: RESTAURATION | C11: CHRISTOPHE | D11: utilisateur10 | E11: 101 | F11: 138.66667 | G11: 176.33333 | H11: 214 | I11: 251.66667 | J11: 289.33333 | K11: 327 | L11: 364.66667 | M11: 402.33333 | N11: 440 | O11: 477.66667 | P11: 515.33333 | Q11: 553 | R11: 590.66667 | S11: 628.33333 | T11: 666 | U11: 703.66667 | V11: 741.33333 | W11: 779 | X11: 816.66667
A12: 1 | B12: INFORMATIQUE | C12: GILLES | D12: utilisateur11 | E12: 111 | F12: 153.66667 | G12: 196.33333 | H12: 239 | I12: 281.66667 | J12: 324.33333 | K12: 367 | L12: 409.66667 | M12: 452.33333 | N12: 495 | O12: 537.66667 | P12: 580.33333 | Q12: 623 | R12: 665.66667 | S12: 708.33333 | T12: 751 | U12: 793.66667 | V12: 836.33333 | W12: 879 | X12: 921.66667
A13: 1 | B13: INFORMATIQUE | C13: GILLES | D13: utilisateur12 | E13: 121 | F13: 168.66667 | G13: 216.33333 | H13: 264 | I13: 311.66667 | J13: 359.33333 | K13: 407 | L13: 454.66667 | M13: 502.33333 | N13: 550 | O13: 597.66667 | P13: 645.33333 | Q13: 693 | R13: 740.66667 | S13: 788.33333 | T13: 836 | U13: 883.66667 | V13: 931.33333 | W13: 979 | X13: 1026.6667
... A108: 0.729 | B108: MAILING | C108: FLORENCE | D108: utilisateur107 | E108: 0.375 | F108: 0.5 | G108: 0.54166667 | H108: 0.6875 | I108: 0.34375 | J108: 0.5 | K108: 0.54166667 | L108: 0.6875 | M108: 0.34375 | N108: 0.5 | O108: 0.54166667 | P108: 0.6875 | Q108: 0.34375 | R108: 0.5 | S108: 0.54166667 | T108: 0.6875 | U108: 0.34375 | V108: 0.5 | W108: 0.54166667 | X108: 0.66666667
A109: 0.893 | B109: THIPH | C109: NATHALIE | D109: utilisateur108 | E109: 0.375 | F109: 0.5 | G109: 0.54166667 | H109: 0.6875 | K109: 0.54166667 | L109: 0.6875 | M109: 0.34375 | N109: 0.5 | O109: 0.54166667 | P109: 0.6875 | Q109: 0.34375 | R109: 0.5 | S109: 0.54166667 | T109: 0.6875 | U109: 0.34375 | V109: 0.5 | W109: 0.54166667 | X109: 0.66666667
A110: 1 | B110: MAILING | C110: FLORENCE | D110: utilisateur109 | E110: 0.375 | F110: 0.5 | G110: 0.54166667 | H110: 0.6875 | I110: 0.34375 | J110: 0.5 | K110: 0.54166667 | L110: 0.6875 | M110: 0.34375 | N110: 0.5 | O110: 0.54166667 | P110: 0.6875 | Q110: 0.34375 | R110: 0.5 | S110: 0.54166667 | T110: 0.6875 | U110: 0.34375 | V110: 0.5 | W110: 0.54166667 | X110: 0.66666667
A111: 1 | B111: ALTIA | C111: VINCENT | D111: utilisateur110 | E111: 0.375 | F111: 0.51041667 | G111: 0.54166667 | H111: 0.6875 | I111: 0.34375 | J111: 0.51041667 | K111: 0.54166667 | L111: 0.6875 | M111: 0.34375 | N111: 0.51041667 | O111: 0.54166667 | P111: 0.6875 | Q111: 0.34375 | R111: 0.51041667 | S111: 0.54166667 | T111: 0.6875 | U111: 0.34375 | V111: 0.51041667 | W111: 0.54166667 | X111: 0.66666667
A112: 0.457 | B112: ELECTRICITE | C112: MARIE-JO | D112: utilisateur111 | E112: 0.39583333 | F112: 0.5 | G112: 0.54166667 | H112: 0.6875 | I112: 0 | J112: 0 | K112: 0.54166667 | L112: 0.6875 | M112: 0.39583333 | N112: 0.5 | O112: 0.54166667 | P112: 0.6875 | Q112: 0 | R112: 0 | S112: 0.54166667 | T112: 0.6875 | U112: 0.39583333 | V112: 0.5 | W112: 0.54166667 | X112: 0.66666667
A113: 0.793 | B113: STANDARD | C113: CORINNE | D113: utilisateur112 | E113: 0.375 | F113: 0.5 | G113: 0.54166667 | H113: 0.6875 | I113: 0.34375 | J113: 0.5 | K113: 0.54166667 | L113: 0.6875 | M113: 0 | N113: 0 | O113: 0.54166667 | P113: 0.6875 | Q113: 0.34375 | R113: 0.5 | S113: 0.54166667 | T113: 0.6875 | U113: 0.34375 | V113: 0.5 | W113: 0.54166667 | X113: 0.66666667
A114: 1 | B114: THIPH | C114: NATHALIE | D114: utilisateur113 | E114: 0.375 | F114: 0.5 | G114: 0.54166667 | H114: 0.6875 | I114: 0.34375 | J114: 0.5 | K114: 0.54166667 | L114: 0.6875 | M114: 0.34375 | N114: 0.5 | O114: 0.54166667 | P114: 0.6875 | Q114: 0.34375 | R114: 0.5 | S114: 0.54166667 | T114: 0.6875 | U114: 0.34375 | V114: 0.5 | W114: 0.54166667 | X114: 0.66666667
A115: 1 | B115: EV | C115: HELENE | D115: utilisateur114 | E115: 0.375 | F115: 0.51041667 | G115: 0.54166667 | H115: 0.6875 | I115: 0.34375 | J115: 0.51041667 | K115: 0.54166667 | L115: 0.6875 | M115: 0.34375 | N115: 0.51041667 | O115: 0.54166667 | P115: 0.6875 | Q115: 0.34375 | R115: 0.51041667 | S115: 0.54166667 | T115: 0.6875 | U115: 0.34375 | V115: 0.51041667 | W115: 0.54166667 | X115: 0.66666667
A116: 0.514 | B116: ELECTRICITE | C116: MARIE-JO | D116: utilisateur115 | E116: 0.375 | F116: 0.5 | G116: 0.54166667 | H116: 0.6875 | I116: 0.34375 | J116: 0.5 | K116: 0.54166667 | L116: 0.6875 | M116: 0.34375 | N116: 0.5 | O116: 0.54166667 | P116: 0.6875 | Q116: 0.34375 | R116: 0.5 | S116: 0.54166667 | T116: 0.6875 | U116: 0.34375 | V116: 0.5 | W116: 0.54166667 | X116: 0.66666667
A117: 1 | B117: INFORMATIQUE | C117: GILLES | D117: utilisateur116 | E117: 0.375 | F117: 0.5 | G117: 0.54166667 | H117: 0.6875 | I117: 0.34375 | J117: 0.5 | K117: 0.54166667 | L117: 0.6875 | M117: 0.34375 | N117: 0.5 | O117: 0.54166667 | P117: 0.6875 | Q117: 0.34375 | R117: 0.5 | S117: 0.54166667 | T117: 0.6875 | U117: 0.34375 | V117: 0.5 | W117: 0.54166667 | X117: 0.66666667
A118: 1 | B118: RESTAURATION | C118: CHRISTOPHE | D118: utilisateur117 | E118: 0.375 | F118: 0.5 | G118: 0.54166667 | H118: 0.6875 | I118: 0.34375 | J118: 0.5 | K118: 0.54166667 | L118: 0.6875 | M118: 0.34375 | N118: 0.5 | O118: 0.54166667 | P118: 0.6875 | Q118: 0.34375 | R118: 0.5 | S118: 0.54166667 | T118: 0.6875 | U118: 0.34375 | V118: 0.5 | W118: 0.54166667 | X118: 0.66666667
A119: 1 | B119: THIPH | C119: NATHALIE | D119: utilisateur118 | E119: 0.375 | F119: 0.5 | G119: 0.54166667 | H119: 0.6875 | I119: 0.34375 | J119: 0.5 | K119: 0.54166667 | L119: 0.6875 | M119: 0.34375 | N119: 0.5 | O119: 0.54166667 | P119: 0.6875 | Q119: 0.34375 | R119: 0.5 | S119: 0.54166667 | T119: 0.6875 | U119: 0.34375 | V119: 0.5 | W119: 0.54166667 | X119: 0.66666667
A120: 1 | B120: ELECTRICITE | C120: MARIE-JO | D120: utilisateur119 | E120: 0.375 | F120: 0.5 | G120: 0.54166667 | H120: 0.6875 | I120: 0.34375 | J120: 0.5 | K120: 0.54166667 | L120: 0.6875 | M120: 0.34375 | N120: 0.5 | O120: 0.54166667 | P120: 0.6875 | Q120: 0.34375 | R120: 0.5 | S120: 0.54166667 | T120: 0.6875 | U120: 0.34375 | V120: 0.5 | W120: 0.54166667 | X120: 0.66666667
A121: 0.807 | B121: MAILING | C121: FLORENCE | D121: utilisateur120 | E121: 0.375 | F121: 0.5 | G121: 0.54166667 | H121: 0.6875 | I121: 0.34375 | J121: 0.5 | K121: 0.54166667 | L121: 0.6875 | M121: 0.34375 | N121: 0.5 | O121: 0.54166667 | P121: 0.6875 | Q121: 0.34375 | R121: 0.5 | S121: 0.54166667 | T121: 0.6875 | U121: 0 | V121: 0 | W121: 0.54166667 | X121: 0.66666667
... A127: 0.514 | B127: ELECTRICITE | C127: MARIE-JO | D127: utilisateur126 | E127: 0.41666667 | F127: 0.5 | G127: 0.54166667 | H127: 0.6875 | I127: 0.41666667 | J127: 0.5 | K127: 0.54166667 | L127: 0.6875 | M127: 0.34375 | N127: 0.5 | O127: 0.54166667 | P127: 0.6875 | Q127: 0.41666667 | R127: 0.5 | S127: 0.54166667 | T127: 0.6875 | U127: 0.41666667 | V127: 0.5 | W127: 0.54166667 | X127: 0.66666667
D128: utilisateur127
D129: utilisateur128
D130: utilisateur129
D131: utilisateur130
D132: utilisateur131
D133: utilisateur132
D134: utilisateur133
D135: utilisateur134
D136: utilisateur135
D137: utilisateur136
D138: utilisateur137
D139: utilisateur138
...

Sheet janv
A1: =DATE(YEAR(A2),MONTH(A2)+1,0) -> 41305
A2: 41275
E5: =INT((A2-SUM(MOD(DATE(YEAR(A2-MOD(A2-2,7)+3),1,2),{1E+99;7})*{1;-1})+5)/7) -> 1 | Y5: =E5+1 -> 2 | AS5: =Y5+1 -> 3 | BM5: =AS5+1 -> 4 | CG5: =BM5+1 -> 5
A6: ETP | B6: Atelier Référence | C6: Moniteur Référent | D6: NOM Prénom | E6: =IF(MONTH(7*$E5+DATE(an,1,3)-WEEKDAY(DATE(an,1,3))-5+INT(COLUMNS($E6:E6)/4))<>MONTH($U6),"",DATE(an,1,1)+7*(E5-(MOD(DATE(an,1,6),7)<4))-MOD(DATE(an,1,6),7)) -> 40910 | I6: =IF(MONTH(7*$E5+DATE(an,1,3)-WEEKDAY(DATE(an,1,3))-5+INT(COLUMNS($E6:I6)/4))<>MONTH($U6),"",7*$E5+DATE(an,1,3)-WEEKDAY(DATE(an,1,3))-5+INT(COLUMNS($E6:I6)/4)) -> 40911 | M6: =IF(MONTH(7*$E5+DATE(an,1,3)-WEEKDAY(DATE(an,1,3))-5+INT(COLUMNS($E6:M6)/4))<>MONTH($U6),"",7*$E5+DATE(an,1,3)-WEEKDAY(DATE(an,1,3))-5+INT(COLUMNS($E6:M6)/4)) -> 40912 | Q6: =IF(MONTH(7*$E5+DATE(an,1,3)-WEEKDAY(DATE(an,1,3))-5+INT(COLUMNS($E6:Q6)/4))<>MONTH($U6),"",7*$E5+DATE(an,1,3)-WEEKDAY(DATE(an,1,3))-5+INT(COLUMNS($E6:Q6)/4)) -> 40913 | U6: =7*$E5+DATE(an,1,3)-WEEKDAY(DATE(an,1,3))-5+INT(COLUMNS($E6:U6)/4) -> 40914 | Y6: =7*Y5+DATE(an,1,3)-WEEKDAY(DATE(an,1,3))-5 -> 40917 | AC6: =Y6+1 -> 40918 | AG6: =AC6+1 -> 40919 | AK6: =AG6+1 -> 40920 | AO6: =AK6+1 -> 40921 | AS6: =7*AS5+DATE(an,1,3)-WEEKDAY(DATE(an,1,3))-5 -> 40924 | AW6: =AS6+1 -> 40925 | BA6: =AW6+1 -> 40926 | BE6: =BA6+1 -> 40927 | BI6: =BE6+1 -> 40928 | BM6: =7*BM5+DATE(an,1,3)-WEEKDAY(DATE(an,1,3))-5 -> 40931 | BQ6: =BM6+1 -> 40932 | BU6: =BQ6+1 -> 40933 | BY6: =BU6+1 -> 40934 | CC6: =IF(MONTH(7*$BM5+DATE(2013,1,3)-WEEKDAY(DATE(2013,1,3))-5+INT(COLUMNS($BM6:CC6)/4))<>MONTH($BM6),"",7*$BM5+DATE(2013,1,3)-WEEKDAY(DATE(2013,1,3))-5+INT(COLUMNS($BM6:CC6)/4)) -> 41299 | CG6: =7*$CG5+DATE(2013,1,3)-WEEKDAY(DATE(2013,1,3))-5+INT(COLUMNS($CG6:CG6)/4) -> 41302 | CK6: =IF(MONTH(7*$CG5+DATE(2013,1,3)-WEEKDAY(DATE(2013,1,3))-5+INT(COLUMNS($CG6:CK6)/4))<>MONTH($CG6),"",7*$CG5+DATE(2013,1,3)-WEEKDAY(DATE(2013,1,3))-5+INT(COLUMNS($CG6:CK6)/4)) -> 41303 | CO6: =IF(MONTH(7*$CG5+DATE(2013,1,3)-WEEKDAY(DATE(2013,1,3))-5+INT(COLUMNS($CG6:CO6)/4))<>MONTH($CG6),"",7*$CG5+DATE(2013,1,3)-WEEKDAY(DATE(2013,1,3))-5+INT(COLUMNS($CG6:CO6)/4)) -> 41304 | CS6: =IF(MONTH(7*$CG5+DATE(2013,1,3)-WEEKDAY(DATE(2013,1,3))-5+INT(COLUMNS($CG6:CS6)/4))<>MONTH($CG6),"",7*$CG5+DATE(2013,1,3)-WEEKDAY(DATE(2013,1,3))-5+INT(COLUMNS($CG6:CS6)/4)) -> 41305 | CW6: =IF(MONTH(7*$CG5+DATE(2013,1,3)-WEEKDAY(DATE(2013,1,3))-5+INT(COLUMNS($CG6:CW6)/4))<>MONTH($CG6),"",7*$CG5+DATE(2013,1,3)-WEEKDAY(DATE(2013,1,3))-5+INT(COLUMNS($CG6:CW6)/4)) | DC6: ABSENCE | DD6: =A1 -> 41305
DA7: Total
A8: =INDIRECT("bdd!A"&(ROW(bdd!2:2)/2+1)) -> 1 | B8: =INDIRECT("bdd!B"&(ROW(bdd!2:2)/2+1)) -> ELECTRICITE | C8: =INDIRECT("bdd!C"&(ROW(bdd!2:2)/2+1)) -> MARIE-JO | D8: =INDIRECT("bdd!D"&(ROW(bdd!2:2)/2+1)) -> utilisateur1 | E8: =IF(OR(COUNTIF(fériés,E$6),E$6=""),"",bdd!E2) -> 1 | F8: =IF(OR(COUNTIF(fériés,E$6),E$6=""),"",bdd!F2) -> 2 | I8: =IF(OR(COUNTIF(fériés,I$6),I$6=""),"",bdd!I2) -> 5 | J8: =IF(OR(COUNTIF(fériés,I$6),I$6=""),"",bdd!J2) -> 6 | M8: =IF(OR(COUNTIF(fériés,M$6),M$6=""),"",bdd!M2) -> 9 | N8: =IF(OR(COUNTIF(fériés,M$6),M$6=""),"",bdd!N2) -> 10 | Q8: =IF(OR(COUNTIF(fériés,Q$6),Q$6=""),"",bdd!Q2) -> 13 | R8: =IF(OR(COUNTIF(fériés,Q$6),Q$6=""),"",bdd!R2) -> 14 | U8: =IF(OR(COUNTIF(fériés,U$6),U$6=""),"",bdd!U2) -> 17 | V8: =IF(OR(COUNTIF(fériés,U$6),U$6=""),"",bdd!V2) -> 18 | Y8: =IF(OR(COUNTIF(fériés,Y$6),Y$6=""),"",bdd!$E$2) -> 1 | Z8: =IF(OR(COUNTIF(fériés,Y$6),Y$6=""),"",bdd!$F$2) -> 2 | AC8: =IF(OR(COUNTIF(fériés,AC$6),AC$6=""),"",bdd!$I$2) -> 5 | AD8: =IF(OR(COUNTIF(fériés,AC$6),AC$6=""),"",bdd!$J$2) -> 6 | AG8: =IF(OR(COUNTIF(fériés,AG$6),AG$6=""),"",bdd!$M$2) -> 9 | AH8: =IF(OR(COUNTIF(fériés,AG$6),AG$6=""),"",bdd!$N$2) -> 10 | AK8: =IF(OR(COUNTIF(fériés,AK$6),AK$6=""),"",bdd!$Q$2) -> 13 | AL8: =IF(OR(COUNTIF(fériés,AK$6),AK$6=""),"",bdd!$R$2) -> 14 | AO8: =IF(OR(COUNTIF(fériés,AO$6),AO$6=""),"",bdd!$U$2) -> 17 | AP8: =IF(OR(COUNTIF(fériés,AO$6),AO$6=""),"",bdd!$V$2) -> 18 | AS8: =IF(OR(COUNTIF(fériés,AS$6),AS$6=""),"",bdd!$E2) -> 1 | AT8: =IF(OR(COUNTIF(fériés,AS$6),AS$6=""),"",bdd!$F2) -> 2 | AW8: =IF(OR(COUNTIF(fériés,AW$6),AW$6=""),"",bdd!$I$2) -> 5 | AX8: =IF(OR(COUNTIF(fériés,AW$6),AW$6=""),"",bdd!$J$2) -> 6 | BA8: =IF(OR(COUNTIF(fériés,BA$6),BA$6=""),"",bdd!$M$2) -> 9 | BB8: =IF(OR(COUNTIF(fériés,BA$6),BA$6=""),"",bdd!$N$2) -> 10 | BE8: =IF(OR(COUNTIF(fériés,BE$6),BE$6=""),"",bdd!$Q$2) -> 13 | BF8: =IF(OR(COUNTIF(fériés,BE$6),BE$6=""),"",bdd!$R$2) -> 14 | BI8: =IF(OR(COUNTIF(fériés,BI$6),BI$6=""),"",bdd!$U$2) -> 17 | BJ8: =IF(OR(COUNTIF(fériés,BI$6),BI$6=""),"",bdd!$V$2) -> 18 | BM8: =IF(OR(COUNTIF(fériés,BM$6),BM$6=""),"",bdd!$E$2) -> 1 | BN8: =IF(OR(COUNTIF(fériés,BM$6),BM$6=""),"",bdd!$F$2) -> 2 | BQ8: =IF(OR(COUNTIF(fériés,BQ$6),BQ$6=""),"",bdd!$I$2) -> 5 | BR8: =IF(OR(COUNTIF(fériés,BQ$6),BQ$6=""),"",bdd!$J$2) -> 6 | BU8: =IF(OR(COUNTIF(fériés,BU$6),BU$6=""),"",bdd!$M$2) -> 9 | BV8: =IF(OR(COUNTIF(fériés,BU$6),BU$6=""),"",bdd!$N$2) -> 10 | BY8: =IF(OR(COUNTIF(fériés,BY$6),BY$6=""),"",bdd!$Q$2) -> 13 | BZ8: =IF(OR(COUNTIF(fériés,BY$6),BY$6=""),"",bdd!$R$2) -> 14 | CC8: =IF(OR(COUNTIF(fériés,CC$6),CC$6=""),"",bdd!$U$2) -> 17 | CD8: =IF(OR(COUNTIF(fériés,CC$6),CC$6=""),"",bdd!$V$2) -> 18 | CG8: =IF(OR(COUNTIF(fériés,CG$6),CG$6=""),"",bdd!$E$2) -> 1 | CH8: =IF(OR(COUNTIF(fériés,CG$6),CG$6=""),"",bdd!$F$2) -> 2 | CK8: =IF(OR(COUNTIF(fériés,CK$6),CK$6=""),"",bdd!$I$2) -> 5 | CL8: =IF(OR(COUNTIF(fériés,CK$6),CK$6=""),"",bdd!$J$2) -> 6 | CO8: =IF(OR(COUNTIF(fériés,CO$6),CO$6=""),"",bdd!$M$2) -> 9 | CP8: =IF(OR(COUNTIF(fériés,CO$6),CO$6=""),"",bdd!$N$2) -> 10 | CS8: =IF(OR(COUNTIF(fériés,CS$6),CS$6=""),"",bdd!$Q$2) -> 13 | CT8: =IF(OR(COUNTIF(fériés,CS$6),CS$6=""),"",bdd!$R$2) -> 14 | CW8: =IF(OR(COUNTIF(fériés,CW$6),CW$6=""),"",bdd!$U$2) | CX8: =IF(OR(COUNTIF(fériés,CW$6),CW$6=""),"",bdd!$V$2) | DA8: =SUM(H8+H9+L8+L9+P8+P9+T8+T9+X8+X9+AB8+AB9+AF8+AF9+AJ8+AJ9+AN8+AN9+AR8+AR9+AV8+AV9+AZ8+AZ9+BD8+BD9+BH8+BH9+BL8+BL9+BP8+BP9+BT8+BT9+BX8+BX9+CB8+CB9+CF8+CF9+CJ8+CJ9+CN8+CN9+CR8+CR9+CV8+CV9+CZ8+CZ9) -> 0 | DB8: =DA8 -> 0 | DC8: =$B$1 -> 0 | DD8: =$B$2 -> 0 | DE8: =$B$3 -> 0 | DF8: =$B$4 -> 0 | DG8: =$B$5 -> 0
E9: =IF(OR(COUNTIF(fériés,E$6),E$6=""),"",bdd!G2) -> 3 | F9: =IF(OR(COUNTIF(fériés,E$6),E$6=""),"",bdd!H2) -> 4 | I9: =IF(OR(COUNTIF(fériés,I$6),I$6=""),"",bdd!K2) -> 7 | J9: =IF(OR(COUNTIF(fériés,I$6),I$6=""),"",bdd!L2) -> 8 | M9: =IF(OR(COUNTIF(fériés,M$6),M$6=""),"",bdd!O2) -> 11 | N9: =IF(OR(COUNTIF(fériés,M$6),M$6=""),"",bdd!P2) -> 12 | Q9: =IF(OR(COUNTIF(fériés,Q$6),Q$6=""),"",bdd!S2) -> 15 | R9: =IF(OR(COUNTIF(fériés,Q$6),Q$6=""),"",bdd!T2) -> 16 | U9: =IF(OR(COUNTIF(fériés,U$6),U$6=""),"",bdd!W2) -> 19 | V9: =IF(OR(COUNTIF(fériés,U$6),U$6=""),"",bdd!X2) -> 20 | Y9: =IF(OR(COUNTIF(fériés,Y$6),Y$6=""),"",bdd!$G$2) -> 3 | Z9: =IF(OR(COUNTIF(fériés,Y$6),Y$6=""),"",bdd!$H$2) -> 4 | AC9: =IF(OR(COUNTIF(fériés,AC$6),AC$6=""),"",bdd!$K$2) -> 7 | AD9: =IF(OR(COUNTIF(fériés,AC$6),AC$6=""),"",bdd!$L$2) -> 8 | AG9: =IF(OR(COUNTIF(fériés,AG$6),AG$6=""),"",bdd!$O$2) -> 11 | AH9: =IF(OR(COUNTIF(fériés,AG$6),AG$6=""),"",bdd!$P$2) -> 12 | AK9: =IF(OR(COUNTIF(fériés,AK$6),AK$6=""),"",bdd!$S$2) -> 15 | AL9: =IF(OR(COUNTIF(fériés,AK$6),AK$6=""),"",bdd!$T$2) -> 16 | AO9: =IF(OR(COUNTIF(fériés,AO$6),AO$6=""),"",bdd!$W$2) -> 19 | AP9: =IF(OR(COUNTIF(fériés,AO$6),AO$6=""),"",bdd!$X$2) -> 20 | AS9: =IF(OR(COUNTIF(fériés,AS$6),AS$6=""),"",bdd!$G2) -> 3 | AT9: =IF(OR(COUNTIF(fériés,AS$6),AS$6=""),"",bdd!$H2) -> 4 | AW9: =IF(OR(COUNTIF(fériés,AW$6),AW$6=""),"",bdd!$K$2) -> 7 | AX9: =IF(OR(COUNTIF(fériés,AW$6),AW$6=""),"",bdd!$L$2) -> 8 | BA9: =IF(OR(COUNTIF(fériés,BA$6),BA$6=""),"",bdd!$O$2) -> 11 | BB9: =IF(OR(COUNTIF(fériés,BA$6),BA$6=""),"",bdd!$P$2) -> 12 | BE9: =IF(OR(COUNTIF(fériés,BE$6),BE$6=""),"",bdd!$S$2) -> 15 | BF9: =IF(OR(COUNTIF(fériés,BE$6),BE$6=""),"",bdd!$T$2) -> 16 | BI9: =IF(OR(COUNTIF(fériés,BI$6),BI$6=""),"",bdd!$W$2) -> 19 | BJ9: =IF(OR(COUNTIF(fériés,BI$6),BI$6=""),"",bdd!$X$2) -> 20 | BM9: =IF(OR(COUNTIF(fériés,BM$6),BM$6=""),"",bdd!$G$2) -> 3 | BN9: =IF(OR(COUNTIF(fériés,BM$6),BM$6=""),"",bdd!$H$2) -> 4 | BQ9: =IF(OR(COUNTIF(fériés,BQ$6),BQ$6=""),"",bdd!$K$2) -> 7 | BR9: =IF(OR(COUNTIF(fériés,BQ$6),BQ$6=""),"",bdd!$L$2) -> 8 | BU9: =IF(OR(COUNTIF(fériés,BU$6),BU$6=""),"",bdd!$O$2) -> 11 | BV9: =IF(OR(COUNTIF(fériés,BU$6),BU$6=""),"",bdd!$P$2) -> 12 | BY9: =IF(OR(COUNTIF(fériés,BY$6),BY$6=""),"",bdd!$S$2) -> 15 | BZ9: =IF(OR(COUNTIF(fériés,BY$6),BY$6=""),"",bdd!$T$2) -> 16 | CC9: =IF(OR(COUNTIF(fériés,CC$6),CC$6=""),"",bdd!$W$2) -> 19 | CD9: =IF(OR(COUNTIF(fériés,CC$6),CC$6=""),"",bdd!$X$2) -> 20 | CG9: =IF(OR(COUNTIF(fériés,CG$6),CG$6=""),"",bdd!$G$2) -> 3 | CH9: =IF(OR(COUNTIF(fériés,CG$6),CG$6=""),"",bdd!$H$2) -> 4 | CK9: =IF(OR(COUNTIF(fériés,CK$6),CK$6=""),"",bdd!$K$2) -> 7 | CL9: =IF(OR(COUNTIF(fériés,CK$6),CK$6=""),"",bdd!$L$2) -> 8 | CO9: =IF(OR(COUNTIF(fériés,CO$6),CO$6=""),"",bdd!$O$2) -> 11 | CP9: =IF(OR(COUNTIF(fériés,CO$6),CO$6=""),"",bdd!$P$2) -> 12 | CS9: =IF(OR(COUNTIF(fériés,CS$6),CS$6=""),"",bdd!$S$2) -> 15 | CT9: =IF(OR(COUNTIF(fériés,CS$6),CS$6=""),"",bdd!$T$2) -> 16 | CW9: =IF(OR(COUNTIF(fériés,CW$6),CW$6=""),"",bdd!$W$2) | CX9: =IF(OR(COUNTIF(fériés,CW$6),CW$6=""),"",bdd!$X$2) | DB9: =DA8 -> 0 | DC9: =SUM(H8:H9,L8:L9,P8:P9,T8:T9,X8:X9) -> 0 | DD9: =SUM(AB8:AB9,AF8:AF9,AJ8:AJ9,AN8:AN9,AR8:AR9) -> 0 | DE9: =SUM(AV8:AV9,AZ8:AZ9,BD8:BD9,BH8:BH9,BL8:BL9) -> 0 | DF9: =SUM(BP8:BP9,BT8:BT9,BX8:BX9,CB8:CB9,CF8:CF9) -> 0 | DG9: =SUM(CJ8:CJ9,CN8:CN9,CR8:CR9,CV8:CV9,CZ8:CZ9) -> 0
A10: =INDIRECT("bdd!A"&(ROW(bdd!4:4)/2+1)) -> 0.786 | B10: =INDIRECT("bdd!B"&(ROW(bdd!4:4)/2+1)) -> PASTEL | C10: =INDIRECT("bdd!C"&(ROW(bdd!4:4)/2+1)) -> CORINNE | D10: =INDIRECT("bdd!D"&(ROW(bdd!4:4)/2+1)) -> utilisateur2 | DA10: =SUM(H10+H11+L10+L11+P10+P11+T10+T11+X10+X11+AB10+AB11+AF10+AF11+AJ10+AJ11+AN10+AN11+AR10+AR11+AV10+AV11+AZ10+AZ11+BD10+BD11+BH10+BH11+BL10+BL11+BP10+BP11+BT10+BT11+BX10+BX11+CB10+CB11+CF10+CF11+CJ10+CJ11+CN10+CN11+CR10+CR11+CV10+CV11+CZ10+CZ11) -> 0 | DB10: =DA10 -> 0 | DC10: =$B$1 -> 0 | DD10: =$B$2 -> 0 | DE10: =$B$3 -> 0 | DF10: =$B$4 -> 0 | DG10: =$B$5 -> 0
DB11: =DA10 -> 0 | DC11: =SUM(H10:H11,L10:L11,P10:P11,T10:T11,X10:X11) -> 0 | DD11: =SUM(AB10:AB11,AF10:AF11,AJ10:AJ11,AN10:AN11,AR10:AR11) -> 0 | DE11: =SUM(AV10:AV11,AZ10:AZ11,BD10:BD11,BH10:BH11,BL10:BL11) -> 0 | DF11: =SUM(BP10:BP11,BT10:BT11,BX10:BX11,CB10:CB11,CF10:CF11) -> 0 | DG11: =SUM(CJ10:CJ11,CN10:CN11,CR10:CR11,CV10:CV11,CZ10:CZ11) -> 0
A12: =INDIRECT("bdd!A"&(ROW(bdd!6:6)/2+1)) -> 1 | B12: =INDIRECT("bdd!B"&(ROW(bdd!6:6)/2+1)) -> ALTIA | C12: =INDIRECT("bdd!C"&(ROW(bdd!6:6)/2+1)) -> VINCENT | D12: =INDIRECT("bdd!D"&(ROW(bdd!6:6)/2+1)) -> utilisateur3 | DA12: =SUM(H12+H13+L12+L13+P12+P13+T12+T13+X12+X13+AB12+AB13+AF12+AF13+AJ12+AJ13+AN12+AN13+AR12+AR13+AV12+AV13+AZ12+AZ13+BD12+BD13+BH12+BH13+BL12+BL13+BP12+BP13+BT12+BT13+BX12+BX13+CB12+CB13+CF12+CF13+CJ12+CJ13+CN12+CN13+CR12+CR13+CV12+CV13+CZ12+CZ13) -> 0 | DB12: =DA12 -> 0 | DC12: =$B$1 -> 0 | DD12: =$B$2 -> 0 | DE12: =$B$3 -> 0 | DF12: =$B$4 -> 0 | DG12: =$B$5 -> 0
DB13: =DA12 -> 0 | DC13: =SUM(H12:H13,L12:L13,P12:P13,T12:T13,X12:X13) -> 0 | DD13: =SUM(AB12:AB13,AF12:AF13,AJ12:AJ13,AN12:AN13,AR12:AR13) -> 0 | DE13: =SUM(AV12:AV13,AZ12:AZ13,BD12:BD13,BH12:BH13,BL12:BL13) -> 0 | DF13: =SUM(BP12:BP13,BT12:BT13,BX12:BX13,CB12:CB13,CF12:CF13) -> 0 | DG13: =SUM(CJ12:CJ13,CN12:CN13,CR12:CR13,CV12:CV13,CZ12:CZ13) -> 0
A14: =INDIRECT("bdd!A"&(ROW(bdd!8:8)/2+1)) -> 0.3 | B14: =INDIRECT("bdd!B"&(ROW(bdd!8:8)/2+1)) -> MAILING | C14: =INDIRECT("bdd!C"&(ROW(bdd!8:8)/2+1)) -> FLORENCE | D14: =INDIRECT("bdd!D"&(ROW(bdd!8:8)/2+1)) -> utilisateur4 | DA14: =SUM(H14+H15+L14+L15+P14+P15+T14+T15+X14+X15+AB14+AB15+AF14+AF15+AJ14+AJ15+AN14+AN15+AR14+AR15+AV14+AV15+AZ14+AZ15+BD14+BD15+BH14+BH15+BL14+BL15+BP14+BP15+BT14+BT15+BX14+BX15+CB14+CB15+CF14+CF15+CJ14+CJ15+CN14+CN15+CR14+CR15+CV14+CV15+CZ14+CZ15) -> 0 | DB14: =DA14 -> 0 | DC14: =$B$1 -> 0 | DD14: =$B$2 -> 0 | DE14: =$B$3 -> 0 | DF14: =$B$4 -> 0 | DG14: =$B$5 -> 0
DB15: =DA14 -> 0 | DC15: =SUM(H14:H15,L14:L15,P14:P15,T14:T15,X14:X15) -> 0 | DD15: =SUM(AB14:AB15,AF14:AF15,AJ14:AJ15,AN14:AN15,AR14:AR15) -> 0 | DE15: =SUM(AV14:AV15,AZ14:AZ15,BD14:BD15,BH14:BH15,BL14:BL15) -> 0 | DF15: =SUM(BP14:BP15,BT14:BT15,BX14:BX15,CB14:CB15,CF14:CF15) -> 0 | DG15: =SUM(CJ14:CJ15,CN14:CN15,CR14:CR15,CV14:CV15,CZ14:CZ15) -> 0
A16: =INDIRECT("bdd!A"&(ROW(bdd!10:10)/2+1)) -> 0.793 | B16: =INDIRECT("bdd!B"&(ROW(bdd!10:10)/2+1)) -> THIPH | C16: =INDIRECT("bdd!C"&(ROW(bdd!10:10)/2+1)) -> NATHALIE | D16: =INDIRECT("bdd!D"&(ROW(bdd!10:10)/2+1)) -> utilisateur5 | DA16: =SUM(H16+H17+L16+L17+P16+P17+T16+T17+X16+X17+AB16+AB17+AF16+AF17+AJ16+AJ17+AN16+AN17+AR16+AR17+AV16+AV17+AZ16+AZ17+BD16+BD17+BH16+BH17+BL16+BL17+BP16+BP17+BT16+BT17+BX16+BX17+CB16+CB17+CF16+CF17+CJ16+CJ17+CN16+CN17+CR16+CR17+CV16+CV17+CZ16+CZ17) -> 0 | DB16: =DA16 -> 0 | DC16: =$B$1 -> 0 | DD16: =$B$2 -> 0 | DE16: =$B$3 -> 0 | DF16: =$B$4 -> 0 | DG16: =$B$5 -> 0
DB17: =DA16 -> 0 | DC17: =SUM(H16:H17,L16:L17,P16:P17,T16:T17,X16:X17) -> 0 | DD17: =SUM(AB16:AB17,AF16:AF17,AJ16:AJ17,AN16:AN17,AR16:AR17) -> 0 | DE17: =SUM(AV16:AV17,AZ16:AZ17,BD16:BD17,BH16:BH17,BL16:BL17) -> 0 | DF17: =SUM(BP16:BP17,BT16:BT17,BX16:BX17,CB16:CB17,CF16:CF17) -> 0 | DG17: =SUM(CJ16:CJ17,CN16:CN17,CR16:CR17,CV16:CV17,CZ16:CZ17) -> 0
A18: =INDIRECT("bdd!A"&(ROW(bdd!12:12)/2+1)) -> 1 | B18: =INDIRECT("bdd!B"&(ROW(bdd!12:12)/2+1)) -> ALTIA | C18: =INDIRECT("bdd!C"&(ROW(bdd!12:12)/2+1)) -> VINCENT | D18: =INDIRECT("bdd!D"&(ROW(bdd!12:12)/2+1)) -> utilisateur6 | DA18: =SUM(H18+H19+L18+L19+P18+P19+T18+T19+X18+X19+AB18+AB19+AF18+AF19+AJ18+AJ19+AN18+AN19+AR18+AR19+AV18+AV19+AZ18+AZ19+BD18+BD19+BH18+BH19+BL18+BL19+BP18+BP19+BT18+BT19+BX18+BX19+CB18+CB19+CF18+CF19+CJ18+CJ19+CN18+CN19+CR18+CR19+CV18+CV19+CZ18+CZ19) -> 0 | DB18: =DA18 -> 0 | DC18: =$B$1 -> 0 | DD18: =$B$2 -> 0 | DE18: =$B$3 -> 0 | DF18: =$B$4 -> 0 | DG18: =$B$5 -> 0
DB19: =DA18 -> 0 | DC19: =SUM(H18:H19,L18:L19,P18:P19,T18:T19,X18:X19) -> 0 | DD19: =SUM(AB18:AB19,AF18:AF19,AJ18:AJ19,AN18:AN19,AR18:AR19) -> 0 | DE19: =SUM(AV18:AV19,AZ18:AZ19,BD18:BD19,BH18:BH19,BL18:BL19) -> 0 | DF19: =SUM(BP18:BP19,BT18:BT19,BX18:BX19,CB18:CB19,CF18:CF19) -> 0 | DG19: =SUM(CJ18:CJ19,CN18:CN19,CR18:CR19,CV18:CV19,CZ18:CZ19) -> 0
A20: =INDIRECT("bdd!A"&(ROW(bdd!14:14)/2+1)) -> 0.729 | B20: =INDIRECT("bdd!B"&(ROW(bdd!14:14)/2+1)) -> MAILING | C20: =INDIRECT("bdd!C"&(ROW(bdd!14:14)/2+1)) -> FLORENCE | D20: =INDIRECT("bdd!D"&(ROW(bdd!14:14)/2+1)) -> utilisateur7 | DA20: =SUM(H20+H21+L20+L21+P20+P21+T20+T21+X20+X21+AB20+AB21+AF20+AF21+AJ20+AJ21+AN20+AN21+AR20+AR21+AV20+AV21+AZ20+AZ21+BD20+BD21+BH20+BH21+BL20+BL21+BP20+BP21+BT20+BT21+BX20+BX21+CB20+CB21+CF20+CF21+CJ20+CJ21+CN20+CN21+CR20+CR21+CV20+CV21+CZ20+CZ21) -> 0 | DB20: =DA20 -> 0 | DC20: =$B$1 -> 0 | DD20: =$B$2 -> 0 | DE20: =$B$3 -> 0 | DF20: =$B$4 -> 0 | DG20: =$B$5 -> 0
DB21: =DA20 -> 0 | DC21: =SUM(H20:H21,L20:L21,P20:P21,T20:T21,X20:X21) -> 0 | DD21: =SUM(AB20:AB21,AF20:AF21,AJ20:AJ21,AN20:AN21,AR20:AR21) -> 0 | DE21: =SUM(AV20:AV21,AZ20:AZ21,BD20:BD21,BH20:BH21,BL20:BL21) -> 0 | DF21: =SUM(BP20:BP21,BT20:BT21,BX20:BX21,CB20:CB21,CF20:CF21) -> 0 | DG21: =SUM(CJ20:CJ21,CN20:CN21,CR20:CR21,CV20:CV21,CZ20:CZ21) -> 0
A22: =INDIRECT("bdd!A"&(ROW(bdd!16:16)/2+1)) -> 1 | B22: =INDIRECT("bdd!B"&(ROW(bdd!16:16)/2+1)) -> EV | C22: =INDIRECT("bdd!C"&(ROW(bdd!16:16)/2+1)) -> DAVID | D22: =INDIRECT("bdd!D"&(ROW(bdd!16:16)/2+1)) -> utilisateur8 | DA22: =SUM(H22+H23+L22+L23+P22+P23+T22+T23+X22+X23+AB22+AB23+AF22+AF23+AJ22+AJ23+AN22+AN23+AR22+AR23+AV22+AV23+AZ22+AZ23+BD22+BD23+BH22+BH23+BL22+BL23+BP22+BP23+BT22+BT23+BX22+BX23+CB22+CB23+CF22+CF23+CJ22+CJ23+CN22+CN23+CR22+CR23+CV22+CV23+CZ22+CZ23) -> 0 | DB22: =DA22 -> 0 | DC22: =$B$1 -> 0 | DD22: =$B$2 -> 0 | DE22: =$B$3 -> 0 | DF22: =$B$4 -> 0 | DG22: =$B$5 -> 0
DB23: =DA22 -> 0 | DC23: =SUM(H22:H23,L22:L23,P22:P23,T22:T23,X22:X23) -> 0 | DD23: =SUM(AB22:AB23,AF22:AF23,AJ22:AJ23,AN22:AN23,AR22:AR23) -> 0 | DE23: =SUM(AV22:AV23,AZ22:AZ23,BD22:BD23,BH22:BH23,BL22:BL23) -> 0 | DF23: =SUM(BP22:BP23,BT22:BT23,BX22:BX23,CB22:CB23,CF22:CF23) -> 0 | DG23: =SUM(CJ22:CJ23,CN22:CN23,CR22:CR23,CV22:CV23,CZ22:CZ23) -> 0
A24: =INDIRECT("bdd!A"&(ROW(bdd!18:18)/2+1)) -> 1 | B24: =INDIRECT("bdd!B"&(ROW(bdd!18:18)/2+1)) -> THIPH | C24: =INDIRECT("bdd!C"&(ROW(bdd!18:18)/2+1)) -> NATHALIE | D24: =INDIRECT("bdd!D"&(ROW(bdd!18:18)/2+1)) -> utilisateur9 | DA24: =SUM(H24+H25+L24+L25+P24+P25+T24+T25+X24+X25+AB24+AB25+AF24+AF25+AJ24+AJ25+AN24+AN25+AR24+AR25+AV24+AV25+AZ24+AZ25+BD24+BD25+BH24+BH25+BL24+BL25+BP24+BP25+BT24+BT25+BX24+BX25+CB24+CB25+CF24+CF25+CJ24+CJ25+CN24+CN25+CR24+CR25+CV24+CV25+CZ24+CZ25) -> 0 | DB24: =DA24 -> 0 | DC24: =$B$1 -> 0 | DD24: =$B$2 -> 0 | DE24: =$B$3 -> 0 | DF24: =$B$4 -> 0 | DG24: =$B$5 -> 0
DB25: =DA24 -> 0 | DC25: =SUM(H24:H25,L24:L25,P24:P25,T24:T25,X24:X25) -> 0 | DD25: =SUM(AB24:AB25,AF24:AF25,AJ24:AJ25,AN24:AN25,AR24:AR25) -> 0 | DE25: =SUM(AV24:AV25,AZ24:AZ25,BD24:BD25,BH24:BH25,BL24:BL25) -> 0 | DF25: =SUM(BP24:BP25,BT24:BT25,BX24:BX25,CB24:CB25,CF24:CF25) -> 0 | DG25: =SUM(CJ24:CJ25,CN24:CN25,CR24:CR25,CV24:CV25,CZ24:CZ25) -> 0
A26: =INDIRECT("bdd!A"&(ROW(bdd!20:20)/2+1)) -> 1 | B26: =INDIRECT("bdd!B"&(ROW(bdd!20:20)/2+1)) -> RESTAURATION | C26: =INDIRECT("bdd!C"&(ROW(bdd!20:20)/2+1)) -> CHRISTOPHE | D26: =INDIRECT("bdd!D"&(ROW(bdd!20:20)/2+1)) -> utilisateur10 | DA26: =SUM(H26+H27+L26+L27+P26+P27+T26+T27+X26+X27+AB26+AB27+AF26+AF27+AJ26+AJ27+AN26+AN27+AR26+AR27+AV26+AV27+AZ26+AZ27+BD26+BD27+BH26+BH27+BL26+BL27+BP26+BP27+BT26+BT27+BX26+BX27+CB26+CB27+CF26+CF27+CJ26+CJ27+CN26+CN27+CR26+CR27+CV26+CV27+CZ26+CZ27) -> 0 | DB26: =DA26 -> 0 | DC26: =$B$1 -> 0 | DD26: =$B$2 -> 0 | DE26: =$B$3 -> 0 | DF26: =$B$4 -> 0 | DG26: =$B$5 -> 0
DB27: =DA26 -> 0 | DC27: =SUM(H26:H27,L26:L27,P26:P27,T26:T27,X26:X27) -> 0 | DD27: =SUM(AB26:AB27,AF26:AF27,AJ26:AJ27,AN26:AN27,AR26:AR27) -> 0 | DE27: =SUM(AV26:AV27,AZ26:AZ27,BD26:BD27,BH26:BH27,BL26:BL27) -> 0 | DF27: =SUM(BP26:BP27,BT26:BT27,BX26:BX27,CB26:CB27,CF26:CF27) -> 0 | DG27: =SUM(CJ26:CJ27,CN26:CN27,CR26:CR27,CV26:CV27,CZ26:CZ27) -> 0
A28: =INDIRECT("bdd!A"&(ROW(bdd!22:22)/2+1)) -> 1 | B28: =INDIRECT("bdd!B"&(ROW(bdd!22:22)/2+1)) -> INFORMATIQUE | C28: =INDIRECT("bdd!C"&(ROW(bdd!22:22)/2+1)) -> GILLES | D28: =INDIRECT("bdd!D"&(ROW(bdd!22:22)/2+1)) -> utilisateur11 | DA28: =SUM(H28+H29+L28+L29+P28+P29+T28+T29+X28+X29+AB28+AB29+AF28+AF29+AJ28+AJ29+AN28+AN29+AR28+AR29+AV28+AV29+AZ28+AZ29+BD28+BD29+BH28+BH29+BL28+BL29+BP28+BP29+BT28+BT29+BX28+BX29+CB28+CB29+CF28+CF29+CJ28+CJ29+CN28+CN29+CR28+CR29+CV28+CV29+CZ28+CZ29) -> 0 | DB28: =DA28 -> 0 | DC28: =$B$1 -> 0 | DD28: =$B$2 -> 0 | DE28: =$B$3 -> 0 | DF28: =$B$4 -> 0 | DG28: =$B$5 -> 0
DB29: =DA28 -> 0 | DC29: =SUM(H28:H29,L28:L29,P28:P29,T28:T29,X28:X29) -> 0 | DD29: =SUM(AB28:AB29,AF28:AF29,AJ28:AJ29,AN28:AN29,AR28:AR29) -> 0 | DE29: =SUM(AV28:AV29,AZ28:AZ29,BD28:BD29,BH28:BH29,BL28:BL29) -> 0 | DF29: =SUM(BP28:BP29,BT28:BT29,BX28:BX29,CB28:CB29,CF28:CF29) -> 0 | DG29: =SUM(CJ28:CJ29,CN28:CN29,CR28:CR29,CV28:CV29,CZ28:CZ29) -> 0
A30: =INDIRECT("bdd!A"&(ROW(bdd!24:24)/2+1)) -> 1 | B30: =INDIRECT("bdd!B"&(ROW(bdd!24:24)/2+1)) -> INFORMATIQUE | C30: =INDIRECT("bdd!C"&(ROW(bdd!24:24)/2+1)) -> GILLES | D30: =INDIRECT("bdd!D"&(ROW(bdd!24:24)/2+1)) -> utilisateur12 | DA30: =SUM(H30+H31+L30+L31+P30+P31+T30+T31+X30+X31+AB30+AB31+AF30+AF31+AJ30+AJ31+AN30+AN31+AR30+AR31+AV30+AV31+AZ30+AZ31+BD30+BD31+BH30+BH31+BL30+BL31+BP30+BP31+BT30+BT31+BX30+BX31+CB30+CB31+CF30+CF31+CJ30+CJ31+CN30+CN31+CR30+CR31+CV30+CV31+CZ30+CZ31) -> 0 | DB30: =DA30 -> 0 | DC30: =$B$1 -> 0 | DD30: =$B$2 -> 0 | DE30: =$B$3 -> 0 | DF30: =$B$4 -> 0 | DG30: =$B$5 -> 0
DB31: =DA30 -> 0 | DC31: =SUM(H30:H31,L30:L31,P30:P31,T30:T31,X30:X31) -> 0 | DD31: =SUM(AB30:AB31,AF30:AF31,AJ30:AJ31,AN30:AN31,AR30:AR31) -> 0 | DE31: =SUM(AV30:AV31,AZ30:AZ31,BD30:BD31,BH30:BH31,BL30:BL31) -> 0 | DF31: =SUM(BP30:BP31,BT30:BT31,BX30:BX31,CB30:CB31,CF30:CF31) -> 0 | DG31: =SUM(CJ30:CJ31,CN30:CN31,CR30:CR31,CV30:CV31,CZ30:CZ31) -> 0
A32: =INDIRECT("bdd!A"&(ROW(bdd!26:26)/2+1)) -> 1 | B32: =INDIRECT("bdd!B"&(ROW(bdd!26:26)/2+1)) -> ALTIA | C32: =INDIRECT("bdd!C"&(ROW(bdd!26:26)/2+1)) -> VINCENT | D32: =INDIRECT("bdd!D"&(ROW(bdd!26:26)/2+1)) -> utilisateur13 | DA32: =SUM(H32+H33+L32+L33+P32+P33+T32+T33+X32+X33+AB32+AB33+AF32+AF33+AJ32+AJ33+AN32+AN33+AR32+AR33+AV32+AV33+AZ32+AZ33+BD32+BD33+BH32+BH33+BL32+BL33+BP32+BP33+BT32+BT33+BX32+BX33+CB32+CB33+CF32+CF33+CJ32+CJ33+CN32+CN33+CR32+CR33+CV32+CV33+CZ32+CZ33) -> 0 | DB32: =DA32 -> 0 | DC32: =$B$1 -> 0 | DD32: =$B$2 -> 0 | DE32: =$B$3 -> 0 | DF32: =$B$4 -> 0 | DG32: =$B$5 -> 0
DB33: =DA32 -> 0 | DC33: =SUM(H32:H33,L32:L33,P32:P33,T32:T33,X32:X33) -> 0 | DD33: =SUM(AB32:AB33,AF32:AF33,AJ32:AJ33,AN32:AN33,AR32:AR33) -> 0 | DE33: =SUM(AV32:AV33,AZ32:AZ33,BD32:BD33,BH32:BH33,BL32:BL33) -> 0 | DF33: =SUM(BP32:BP33,BT32:BT33,BX32:BX33,CB32:CB33,CF32:CF33) -> 0 | DG33: =SUM(CJ32:CJ33,CN32:CN33,CR32:CR33,CV32:CV33,CZ32:CZ33) -> 0
A34: =INDIRECT("bdd!A"&(ROW(bdd!28:28)/2+1)) -> 1 | B34: =INDIRECT("bdd!B"&(ROW(bdd!28:28)/2+1)) -> EV | C34: =INDIRECT("bdd!C"&(ROW(bdd!28:28)/2+1)) -> HELENE | D34: =INDIRECT("bdd!D"&(ROW(bdd!28:28)/2+1)) -> utilisateur14 | DA34: =SUM(H34+H35+L34+L35+P34+P35+T34+T35+X34+X35+AB34+AB35+AF34+AF35+AJ34+AJ35+AN34+AN35+AR34+AR35+AV34+AV35+AZ34+AZ35+BD34+BD35+BH34+BH35+BL34+BL35+BP34+BP35+BT34+BT35+BX34+BX35+CB34+CB35+CF34+CF35+CJ34+CJ35+CN34+CN35+CR34+CR35+CV34+CV35+CZ34+CZ35) -> 0 | DB34: =DA34 -> 0 | DC34: =$B$1 -> 0 | DD34: =$B$2 -> 0 | DE34: =$B$3 -> 0 | DF34: =$B$4 -> 0 | DG34: =$B$5 -> 0
DB35: =DA34 -> 0 | DC35: =SUM(H34:H35,L34:L35,P34:P35,T34:T35,X34:X35) -> 0 | DD35: =SUM(AB34:AB35,AF34:AF35,AJ34:AJ35,AN34:AN35,AR34:AR35) -> 0 | DE35: =SUM(AV34:AV35,AZ34:AZ35,BD34:BD35,BH34:BH35,BL34:BL35) -> 0 | DF35: =SUM(BP34:BP35,BT34:BT35,BX34:BX35,CB34:CB35,CF34:CF35) -> 0 | DG35: =SUM(CJ34:CJ35,CN34:CN35,CR34:CR35,CV34:CV35,CZ34:CZ35) -> 0
A36: =INDIRECT("bdd!A"&(ROW(bdd!30:30)/2+1)) -> 0.514 | B36: =INDIRECT("bdd!B"&(ROW(bdd!30:30)/2+1)) -> THIPH | C36: =INDIRECT("bdd!C"&(ROW(bdd!30:30)/2+1)) -> NATHALIE | D36: =INDIRECT("bdd!D"&(ROW(bdd!30:30)/2+1)) -> utilisateur15 | DA36: =SUM(H36+H37+L36+L37+P36+P37+T36+T37+X36+X37+AB36+AB37+AF36+AF37+AJ36+AJ37+AN36+AN37+AR36+AR37+AV36+AV37+AZ36+AZ37+BD36+BD37+BH36+BH37+BL36+BL37+BP36+BP37+BT36+BT37+BX36+BX37+CB36+CB37+CF36+CF37+CJ36+CJ37+CN36+CN37+CR36+CR37+CV36+CV37+CZ36+CZ37) -> 0 | DB36: =DA36 -> 0 | DC36: =$B$1 -> 0 | DD36: =$B$2 -> 0 | DE36: =$B$3 -> 0 | DF36: =$B$4 -> 0 | DG36: =$B$5 -> 0
DB37: =DA36 -> 0 | DC37: =SUM(H36:H37,L36:L37,P36:P37,T36:T37,X36:X37) -> 0 | DD37: =SUM(AB36:AB37,AF36:AF37,AJ36:AJ37,AN36:AN37,AR36:AR37) -> 0 | DE37: =SUM(AV36:AV37,AZ36:AZ37,BD36:BD37,BH36:BH37,BL36:BL37) -> 0 | DF37: =SUM(BP36:BP37,BT36:BT37,BX36:BX37,CB36:CB37,CF36:CF37) -> 0 | DG37: =SUM(CJ36:CJ37,CN36:CN37,CR36:CR37,CV36:CV37,CZ36:CZ37) -> 0
A38: =INDIRECT("bdd!A"&(ROW(bdd!32:32)/2+1)) -> 0.793 | DA38: =SUM(H38+H39+L38+L39+P38+P39+T38+T39+X38+X39+AB38+AB39+AF38+AF39+AJ38+AJ39+AN38+AN39+AR38+AR39+AV38+AV39+AZ38+AZ39+BD38+BD39+BH38+BH39+BL38+BL39+BP38+BP39+BT38+BT39+BX38+BX39+CB38+CB39+CF38+CF39+CJ38+CJ39+CN38+CN39+CR38+CR39+CV38+CV39+CZ38+CZ39) -> 0 | DB38: =DA38 -> 0 | DC38: =$B$1 -> 0 | DD38: =$B$2 -> 0 | DE38: =$B$3 -> 0 | DF38: =$B$4 -> 0 | DG38: =$B$5 -> 0
DB39: =DA38 -> 0 | DC39: =SUM(H38:H39,L38:L39,P38:P39,T38:T39,X38:X39) -> 0 | DD39: =SUM(AB38:AB39,AF38:AF39,AJ38:AJ39,AN38:AN39,AR38:AR39) -> 0 | DE39: =SUM(AV38:AV39,AZ38:AZ39,BD38:BD39,BH38:BH39,BL38:BL39) -> 0 | DF39: =SUM(BP38:BP39,BT38:BT39,BX38:BX39,CB38:CB39,CF38:CF39) -> 0 | DG39: =SUM(CJ38:CJ39,CN38:CN39,CR38:CR39,CV38:CV39,CZ38:CZ39) -> 0
DA40: =SUM(H40+H41+L40+L41+P40+P41+T40+T41+X40+X41+AB40+AB41+AF40+AF41+AJ40+AJ41+AN40+AN41+AR40+AR41+AV40+AV41+AZ40+AZ41+BD40+BD41+BH40+BH41+BL40+BL41+BP40+BP41+BT40+BT41+BX40+BX41+CB40+CB41+CF40+CF41+CJ40+CJ41+CN40+CN41+CR40+CR41+CV40+CV41+CZ40+CZ41) -> 0 | DB40: =DA40 -> 0 | DC40: =$B$1 -> 0 | DD40: =$B$2 -> 0 | DE40: =$B$3 -> 0 | DF40: =$B$4 -> 0 | DG40: =$B$5 -> 0
DB41: =DA40 -> 0 | DC41: =SUM(H40:H41,L40:L41,P40:P41,T40:T41,X40:X41) -> 0 | DD41: =SUM(AB40:AB41,AF40:AF41,AJ40:AJ41,AN40:AN41,AR40:AR41) -> 0 | DE41: =SUM(AV40:AV41,AZ40:AZ41,BD40:BD41,BH40:BH41,BL40:BL41) -> 0 | DF41: =SUM(BP40:BP41,BT40:BT41,BX40:BX41,CB40:CB41,CF40:CF41) -> 0 | DG41: =SUM(CJ40:CJ41,CN40:CN41,CR40:CR41,CV40:CV41,CZ40:CZ41) -> 0
DA42: =SUM(H42+H43+L42+L43+P42+P43+T42+T43+X42+X43+AB42+AB43+AF42+AF43+AJ42+AJ43+AN42+AN43+AR42+AR43+AV42+AV43+AZ42+AZ43+BD42+BD43+BH42+BH43+BL42+BL43+BP42+BP43+BT42+BT43+BX42+BX43+CB42+CB43+CF42+CF43+CJ42+CJ43+CN42+CN43+CR42+CR43+CV42+CV43+CZ42+CZ43) -> 0 | DB42: =DA42 -> 0 | DC42: =$B$1 -> 0 | DD42: =$B$2 -> 0 | DE42: =$B$3 -> 0 | DF42: =$B$4 -> 0 | DG42: =$B$5 -> 0
...
