Workbook

Sheet Janvier
A1: N° INFOHOST | B1: Filet de saumon en 125gr. | D1: Prix | E1: Cdment | F1: Stock | G1: Valeur stock
A2: 15000002 | D2: 1.5 | E2: KG | F2: =SUM(B6:B50)-SUM(D6:D50) -> 25 | G2: =F2*D2 -> 37.5
A3: N°Fournisseur | D3: Fournisseur
A4: 661245 | D4: Pieters
A5: Dates | B5: Entrées | C5: Traçabilités | D5: Sorties | F5: Traçabilités | G5: Prix
A6: 40909 | B6: 20 | C6: 1111 | G6: =(D6*D2) -> 0
A7: 40915 | B7: 30 | C7: 1171 | G7: =(D7*D2) -> 0
A8: 40916 | D8: 20 | F8: 1111 | G8: =(D8*D2) -> 30
A9: 40919 | B9: 10 | C9: 1211 | G9: =(D9*D2) -> 0
A10: 40920 | D10: 30 | F10: 1171 | G10: =(D10*D2) -> 45
A11: 40922 | B11: 100 | C11: 1511 | G11: =(D11*D2) -> 0
A12: 40923 | D12: 5 | F12: 1211 | G12: =(D12*D2) -> 7.5
A13: 40924 | B13: 10 | C13: 1711 | D13: 90 | F13: 1511 | G13: =(D13*D2) -> 135
G14: =(D14*D2) -> 0
G15: =(D15*D2) -> 0
G16: =(D16*D2) -> 0
G17: =(D17*D2) -> 0
G18: =(D18*D2) -> 0
G19: =(D19*D2) -> 0
G20: =(D20*D2) -> 0
G21: =(D21*D2) -> 0
G22: =(D22*D2) -> 0
G23: =(D23*D2) -> 0
G24: =(D24*D2) -> 0
G25: =(D25*D2) -> 0
G26: =(D26*D2) -> 0
G27: =(D27*D2) -> 0
G28: =(D28*D2) -> 0
G29: =(D29*D2) -> 0
G30: =(D30*D2) -> 0
G31: =(D31*D2) -> 0
G32: =(D32*D2) -> 0
G33: =(D33*D2) -> 0
G34: =(D34*D2) -> 0
G35: =(D35*D2) -> 0
G36: =(D36*D2) -> 0
G37: =(D37*D2) -> 0
G38: =(D38*D2) -> 0
G39: =(D39*D2) -> 0
G40: =(D40*D2) -> 0
...

Sheet Février
A1: N° INFOHOST | B1: Filet de saumon en 125gr. | D1: Prix | E1: Cdment | F1: Stock | G1: Valeur stock
A2: 15000002 | D2: 1.5 | E2: KG | F2: =SUM(B6:B50)-SUM(D6:D50)+Janvier!F2 -> 35 | G2: =F2*D2 -> 52.5
A3: N°Fournisseur | D3: Fournisseur
A4: 661245 | D4: Pieters
A5: Dates | B5: Entrées | C5: Traçabilités | D5: Sorties | F5: Traçabilités | G5: Prix
A6: 40940 | B6: 100 | C6: 2111 | G6: =D6*D2 -> 0
A7: 40951 | B7: 10 | C7: 2122 | G7: =D7*D2 -> 0
A8: 40959 | D8: 90 | F8: 2111 | G8: =D8*D2 -> 135
A9: 40960 | D9: 10 | F9: 2122 | G9: =D9*D2 -> 15
G10: =D10*D2 -> 0
G11: =D11*D2 -> 0
G12: =D12*D2 -> 0
G13: =D13*D2 -> 0
G14: =D14*D2 -> 0
G15: =D15*D2 -> 0
G16: =D16*D2 -> 0
G17: =D17*D2 -> 0
G18: =D18*D2 -> 0
G19: =D19*D2 -> 0
G20: =D20*D2 -> 0
G21: =D21*D2 -> 0
G22: =D22*D2 -> 0
G23: =D23*D2 -> 0
G24: =D24*D2 -> 0
G25: =D25*D2 -> 0
G26: =D26*D2 -> 0
G27: =D27*D2 -> 0
G28: =D28*D2 -> 0
G29: =D29*D2 -> 0
G30: =D30*D2 -> 0
G31: =D31*D2 -> 0
G32: =D32*D2 -> 0
G33: =D33*D2 -> 0
G34: =D34*D2 -> 0
G35: =D35*D2 -> 0
G36: =D36*D2 -> 0
G37: =D37*D2 -> 0
G38: =D38*D2 -> 0
G39: =D39*D2 -> 0
G40: =D40*D2 -> 0
...

Sheet Mars
A1: N° INFOHOST | B1: Filet de saumon en 125gr. | D1: Prix | E1: Cdment | F1: Stock | G1: Valeur stock
A2: 15000002 | D2: 1.5 | E2: KG | F2: =SUM(B6:B50)-SUM(D6:D50)+Février!F2 -> 35 | G2: =F2*D2 -> 52.5
A3: N°Fournisseur | D3: Fournisseur
A4: 661245 | D4: Pieters
A5: Dates | B5: Entrées | C5: Traçabilités | D5: Sorties | F5: Traçabilités | G5: Prix
G6: =D6*D2 -> 0
G7: =D7*D2 -> 0
G8: =D8*D2 -> 0
G9: =D9*D2 -> 0
G10: =D10*D2 -> 0
G11: =D11*D2 -> 0
G12: =D12*D2 -> 0
G13: =D13*D2 -> 0
G14: =D14*D2 -> 0
G15: =D15*D2 -> 0
G16: =D16*D2 -> 0
G17: =D17*D2 -> 0
G18: =D18*D2 -> 0
G19: =D19*D2 -> 0
G20: =D20*D2 -> 0
G21: =D21*D2 -> 0
G22: =D22*D2 -> 0
G23: =D23*D2 -> 0
G24: =D24*D2 -> 0
G25: =D25*D2 -> 0
G26: =D26*D2 -> 0
G27: =D27*D2 -> 0
G28: =D28*D2 -> 0
G29: =D29*D2 -> 0
G30: =D30*D2 -> 0
G31: =D31*D2 -> 0
G32: =D32*D2 -> 0
G33: =D33*D2 -> 0
G34: =D34*D2 -> 0
G35: =D35*D2 -> 0
G36: =D36*D2 -> 0
G37: =D37*D2 -> 0
G38: =D38*D2 -> 0
G39: =D39*D2 -> 0
G40: =D40*D2 -> 0
...

Sheet Avril
A1: N° INFOHOST | B1: Filet de saumon en 125gr. | D1: Prix | E1: Cdment | F1: Stock | G1: Valeur stock
A2: 15000002 | D2: 1.5 | E2: KG | F2: =SUM(B6:B50)-SUM(D6:D50)+Mars!F2 -> 35 | G2: =F2*D2 -> 52.5
A3: N°Fournisseur | D3: Fournisseur
A4: 661245 | D4: Pieters
A5: Dates | B5: Entrées | C5: Traçabilités | D5: Sorties | F5: Traçabilités | G5: Prix
G6: =D6*D2 -> 0
G7: =D7*D2 -> 0
G8: =D8*D2 -> 0
G9: =D9*D2 -> 0
G10: =D10*D2 -> 0
G11: =D11*D2 -> 0
G12: =D12*D2 -> 0
G13: =D13*D2 -> 0
G14: =D14*D2 -> 0
G15: =D15*D2 -> 0
G16: =D16*D2 -> 0
G17: =D17*D2 -> 0
G18: =D18*D2 -> 0
G19: =D19*D2 -> 0
G20: =D20*D2 -> 0
G21: =D21*D2 -> 0
G22: =D22*D2 -> 0
G23: =D23*D2 -> 0
G24: =D24*D2 -> 0
G25: =D25*D2 -> 0
G26: =D26*D2 -> 0
G27: =D27*D2 -> 0
G28: =D28*D2 -> 0
G29: =D29*D2 -> 0
G30: =D30*D2 -> 0
G31: =D31*D2 -> 0
G32: =D32*D2 -> 0
G33: =D33*D2 -> 0
G34: =D34*D2 -> 0
G35: =D35*D2 -> 0
G36: =D36*D2 -> 0
G37: =D37*D2 -> 0
G38: =D38*D2 -> 0
G39: =D39*D2 -> 0
G40: =D40*D2 -> 0
...

Sheet Mai
A1: N° INFOHOST | B1: Filet de saumon en 125gr. | D1: Prix | E1: Cdment | F1: Stock | G1: Valeur stock
A2: 15000002 | D2: 1.5 | E2: KG | F2: =SUM(B6:B50)-SUM(D6:D50)+Avril!F2 -> 35 | G2: =F2*D2 -> 52.5
A3: N°Fournisseur | D3: Fournisseur
A4: 661245 | D4: Pieters
A5: Dates | B5: Entrées | C5: Traçabilités | D5: Sorties | F5: Traçabilités | G5: Prix
G6: =D6*D2 -> 0
G7: =D7*D2 -> 0
G8: =D8*D2 -> 0
G9: =D9*D2 -> 0
G10: =D10*D2 -> 0
G11: =D11*D2 -> 0
G12: =D12*D2 -> 0
G13: =D13*D2 -> 0
G14: =D14*D2 -> 0
G15: =D15*D2 -> 0
G16: =D16*D2 -> 0
G17: =D17*D2 -> 0
G18: =D18*D2 -> 0
G19: =D19*D2 -> 0
G20: =D20*D2 -> 0
G21: =D21*D2 -> 0
G22: =D22*D2 -> 0
G23: =D23*D2 -> 0
G24: =D24*D2 -> 0
G25: =D25*D2 -> 0
G26: =D26*D2 -> 0
G27: =D27*D2 -> 0
G28: =D28*D2 -> 0
G29: =D29*D2 -> 0
G30: =D30*D2 -> 0
G31: =D31*D2 -> 0
G32: =D32*D2 -> 0
G33: =D33*D2 -> 0
G34: =D34*D2 -> 0
G35: =D35*D2 -> 0
G36: =D36*D2 -> 0
G37: =D37*D2 -> 0
G38: =D38*D2 -> 0
G39: =D39*D2 -> 0
G40: =D40*D2 -> 0
...

Sheet Juin
A1: N° INFOHOST | B1: Filet de saumon en 125gr. | D1: Prix | E1: Cdment | F1: Stock | G1: Valeur stock
A2: 15000002 | D2: 1.5 | E2: KG | F2: =SUM(B6:B50)-SUM(D6:D50)+Mai!F2 -> 35 | G2: =F2*D2 -> 52.5
A3: N°Fournisseur | D3: Fournisseur
A4: 661245 | D4: Pieters
A5: Dates | B5: Entrées | C5: Traçabilités | D5: Sorties | F5: Traçabilités | G5: Prix
G6: =D6*D2 -> 0
G7: =D7*D2 -> 0
G8: =D8*D2 -> 0
G9: =D9*D2 -> 0
G10: =D10*D2 -> 0
G11: =D11*D2 -> 0
G12: =D12*D2 -> 0
G13: =D13*D2 -> 0
G14: =D14*D2 -> 0
G15: =D15*D2 -> 0
G16: =D16*D2 -> 0
G17: =D17*D2 -> 0
G18: =D18*D2 -> 0
G19: =D19*D2 -> 0
G20: =D20*D2 -> 0
G21: =D21*D2 -> 0
G22: =D22*D2 -> 0
G23: =D23*D2 -> 0
G24: =D24*D2 -> 0
G25: =D25*D2 -> 0
G26: =D26*D2 -> 0
G27: =D27*D2 -> 0
G28: =D28*D2 -> 0
G29: =D29*D2 -> 0
G30: =D30*D2 -> 0
G31: =D31*D2 -> 0
G32: =D32*D2 -> 0
G33: =D33*D2 -> 0
G34: =D34*D2 -> 0
G35: =D35*D2 -> 0
G36: =D36*D2 -> 0
G37: =D37*D2 -> 0
G38: =D38*D2 -> 0
G39: =D39*D2 -> 0
G40: =D40*D2 -> 0
...

Sheet Juillet
A1: N° INFOHOST | B1: Filet de saumon en 125gr. | D1: Prix | E1: Cdment | F1: Stock | G1: Valeur stock
A2: 15000002 | D2: 1.5 | E2: KG | F2: =SUM(B6:B50)-SUM(D6:D50)+Juin!F2 -> 35 | G2: =F2*D2 -> 52.5
A3: N°Fournisseur | D3: Fournisseur
A4: 661245 | D4: Pieters
A5: Dates | B5: Entrées | C5: Traçabilités | D5: Sorties | F5: Traçabilités | G5: Prix
G6: =D6*D2 -> 0
G7: =D7*D2 -> 0
G8: =D8*D2 -> 0
G9: =D9*D2 -> 0
G10: =D10*D2 -> 0
G11: =D11*D2 -> 0
G12: =D12*D2 -> 0
G13: =D13*D2 -> 0
G14: =D14*D2 -> 0
G15: =D15*D2 -> 0
G16: =D16*D2 -> 0
G17: =D17*D2 -> 0
G18: =D18*D2 -> 0
G19: =D19*D2 -> 0
G20: =D20*D2 -> 0
G21: =D21*D2 -> 0
G22: =D22*D2 -> 0
G23: =D23*D2 -> 0
G24: =D24*D2 -> 0
G25: =D25*D2 -> 0
G26: =D26*D2 -> 0
G27: =D27*D2 -> 0
G28: =D28*D2 -> 0
G29: =D29*D2 -> 0
G30: =D30*D2 -> 0
G31: =D31*D2 -> 0
G32: =D32*D2 -> 0
G33: =D33*D2 -> 0
G34: =D34*D2 -> 0
G35: =D35*D2 -> 0
G36: =D36*D2 -> 0
G37: =D37*D2 -> 0
G38: =D38*D2 -> 0
G39: =D39*D2 -> 0
G40: =D40*D2 -> 0
...

Sheet Août
A1: N° INFOHOST | B1: Filet de saumon en 125gr. | D1: Prix | E1: Cdment | F1: Stock | G1: Valeur stock
A2: 15000002 | D2: 1.5 | E2: KG | F2: =SUM(B6:B50)-SUM(D6:D50)+Juillet!F2 -> 35 | G2: =F2*D2 -> 52.5
A3: N°Fournisseur | D3: Fournisseur
A4: 661245 | D4: Pieters
A5: Dates | B5: Entrées | C5: Traçabilités | D5: Sorties | F5: Traçabilités | G5: Prix
G6: =D6*D2 -> 0
G7: =D7*D2 -> 0
G8: =D8*D2 -> 0
G9: =D9*D2 -> 0
G10: =D10*D2 -> 0
G11: =D11*D2 -> 0
G12: =D12*D2 -> 0
G13: =D13*D2 -> 0
G14: =D14*D2 -> 0
G15: =D15*D2 -> 0
G16: =D16*D2 -> 0
G17: =D17*D2 -> 0
G18: =D18*D2 -> 0
G19: =D19*D2 -> 0
G20: =D20*D2 -> 0
G21: =D21*D2 -> 0
G22: =D22*D2 -> 0
G23: =D23*D2 -> 0
G24: =D24*D2 -> 0
G25: =D25*D2 -> 0
G26: =D26*D2 -> 0
G27: =D27*D2 -> 0
G28: =D28*D2 -> 0
G29: =D29*D2 -> 0
G30: =D30*D2 -> 0
G31: =D31*D2 -> 0
G32: =D32*D2 -> 0
G33: =D33*D2 -> 0
G34: =D34*D2 -> 0
G35: =D35*D2 -> 0
G36: =D36*D2 -> 0
G37: =D37*D2 -> 0
G38: =D38*D2 -> 0
G39: =D39*D2 -> 0
G40: =D40*D2 -> 0
...

Sheet Septembre
A1: N° INFOHOST | B1: Filet de saumon en 125gr. | D1: Prix | E1: Cdment | F1: Stock | G1: Valeur stock
A2: 15000002 | D2: 1.5 | E2: KG | F2: =SUM(B6:B50)-SUM(D6:D50)+Août!F2 -> 35 | G2: =F2*D2 -> 52.5
A3: N°Fournisseur | D3: Fournisseur
A4: 661245 | D4: Pieters
A5: Dates | B5: Entrées | C5: Traçabilités | D5: Sorties | F5: Traçabilités | G5: Prix
G6: =D6*D2 -> 0
G7: =D7*D2 -> 0
G8: =D8*D2 -> 0
G9: =D9*D2 -> 0
G10: =D10*D2 -> 0
G11: =D11*D2 -> 0
G12: =D12*D2 -> 0
G13: =D13*D2 -> 0
G14: =D14*D2 -> 0
G15: =D15*D2 -> 0
G16: =D16*D2 -> 0
G17: =D17*D2 -> 0
G18: =D18*D2 -> 0
G19: =D19*D2 -> 0
G20: =D20*D2 -> 0
G21: =D21*D2 -> 0
G22: =D22*D2 -> 0
G23: =D23*D2 -> 0
G24: =D24*D2 -> 0
G25: =D25*D2 -> 0
G26: =D26*D2 -> 0
G27: =D27*D2 -> 0
G28: =D28*D2 -> 0
G29: =D29*D2 -> 0
G30: =D30*D2 -> 0
G31: =D31*D2 -> 0
G32: =D32*D2 -> 0
G33: =D33*D2 -> 0
G34: =D34*D2 -> 0
G35: =D35*D2 -> 0
G36: =D36*D2 -> 0
G37: =D37*D2 -> 0
G38: =D38*D2 -> 0
G39: =D39*D2 -> 0
G40: =D40*D2 -> 0
...

Sheet Octobre
A1: N° INFOHOST | B1: Filet de saumon en 125gr. | D1: Prix | E1: Cdment | F1: Stock | G1: Valeur stock
A2: 15000002 | D2: 1.5 | E2: KG | F2: =SUM(B6:B50)-SUM(D6:D50)+Septembre!F2 -> 35 | G2: =F2*D2 -> 52.5
A3: N°Fournisseur | D3: Fournisseur
A4: 661245 | D4: Pieters
A5: Dates | B5: Entrées | C5: Traçabilités | D5: Sorties | F5: Traçabilités | G5: Prix
G6: =D6*D2 -> 0
G7: =D7*D2 -> 0
G8: =D8*D2 -> 0
G9: =D9*D2 -> 0
G10: =D10*D2 -> 0
G11: =D11*D2 -> 0
G12: =D12*D2 -> 0
G13: =D13*D2 -> 0
G14: =D14*D2 -> 0
G15: =D15*D2 -> 0
G16: =D16*D2 -> 0
G17: =D17*D2 -> 0
G18: =D18*D2 -> 0
G19: =D19*D2 -> 0
G20: =D20*D2 -> 0
G21: =D21*D2 -> 0
G22: =D22*D2 -> 0
G23: =D23*D2 -> 0
G24: =D24*D2 -> 0
G25: =D25*D2 -> 0
G26: =D26*D2 -> 0
G27: =D27*D2 -> 0
G28: =D28*D2 -> 0
G29: =D29*D2 -> 0
G30: =D30*D2 -> 0
G31: =D31*D2 -> 0
G32: =D32*D2 -> 0
G33: =D33*D2 -> 0
G34: =D34*D2 -> 0
G35: =D35*D2 -> 0
G36: =D36*D2 -> 0
G37: =D37*D2 -> 0
G38: =D38*D2 -> 0
G39: =D39*D2 -> 0
G40: =D40*D2 -> 0
...

Sheet Novembre
A1: N° INFOHOST | B1: Filet de saumon en 125gr. | D1: Prix | E1: Cdment | F1: Stock | G1: Valeur stock
A2: 15000002 | D2: 1.5 | E2: KG | F2: =SUM(B6:B50)-SUM(D6:D50)+Octobre!F2 -> 35 | G2: =F2*D2 -> 52.5
A3: N°Fournisseur | D3: Fournisseur
A4: 661245 | D4: Pieters
A5: Dates | B5: Entrées | C5: Traçabilités | D5: Sorties | F5: Traçabilités | G5: Prix
G6: =D6*D2 -> 0
G7: =D7*D2 -> 0
G8: =D8*D2 -> 0
G9: =D9*D2 -> 0
G10: =D10*D2 -> 0
G11: =D11*D2 -> 0
G12: =D12*D2 -> 0
G13: =D13*D2 -> 0
G14: =D14*D2 -> 0
G15: =D15*D2 -> 0
G16: =D16*D2 -> 0
G17: =D17*D2 -> 0
G18: =D18*D2 -> 0
G19: =D19*D2 -> 0
G20: =D20*D2 -> 0
G21: =D21*D2 -> 0
G22: =D22*D2 -> 0
G23: =D23*D2 -> 0
G24: =D24*D2 -> 0
G25: =D25*D2 -> 0
G26: =D26*D2 -> 0
G27: =D27*D2 -> 0
G28: =D28*D2 -> 0
G29: =D29*D2 -> 0
G30: =D30*D2 -> 0
G31: =D31*D2 -> 0
G32: =D32*D2 -> 0
G33: =D33*D2 -> 0
G34: =D34*D2 -> 0
G35: =D35*D2 -> 0
G36: =D36*D2 -> 0
G37: =D37*D2 -> 0
G38: =D38*D2 -> 0
G39: =D39*D2 -> 0
G40: =D40*D2 -> 0
...

Sheet Décembre
A1: N° INFOHOST | B1: Filet de saumon en 125gr. | D1: Prix | E1: Cdment | F1: Stock | G1: Valeur stock
A2: 15000002 | D2: 1.5 | E2: KG | F2: =SUM(B6:B50)-SUM(D6:D50)+Novembre!F2 -> 35 | G2: =F2*D2 -> 52.5
A3: N°Fournisseur | D3: Fournisseur
A4: 661245 | D4: Pieters
A5: Dates | B5: Entrées | C5: Traçabilités | D5: Sorties | F5: Traçabilités | G5: Prix
G6: =D6*D2 -> 0
G7: =D7*D2 -> 0
G8: =D8*D2 -> 0
G9: =D9*D2 -> 0
G10: =D10*D2 -> 0
G11: =D11*D2 -> 0
G12: =D12*D2 -> 0
G13: =D13*D2 -> 0
G14: =D14*D2 -> 0
G15: =D15*D2 -> 0
G16: =D16*D2 -> 0
G17: =D17*D2 -> 0
G18: =D18*D2 -> 0
G19: =D19*D2 -> 0
G20: =D20*D2 -> 0
G21: =D21*D2 -> 0
G22: =D22*D2 -> 0
G23: =D23*D2 -> 0
G24: =D24*D2 -> 0
G25: =D25*D2 -> 0
G26: =D26*D2 -> 0
G27: =D27*D2 -> 0
G28: =D28*D2 -> 0
G29: =D29*D2 -> 0
G30: =D30*D2 -> 0
G31: =D31*D2 -> 0
G32: =D32*D2 -> 0
G33: =D33*D2 -> 0
G34: =D34*D2 -> 0
G35: =D35*D2 -> 0
G36: =D36*D2 -> 0
G37: =D37*D2 -> 0
G38: =D38*D2 -> 0
G39: =D39*D2 -> 0
G40: =D40*D2 -> 0
...

Sheet Annuel
A1: N° INFOHOST | B1: Filet de saumon en 125gr. | D1: Prix | E1: Cdment | F1: Stock | G1: Valeur stock
A2: 15000002 | D2: 1.5 | E2: KG | F2: =Décembre!F2 -> 35 | G2: =F2*D2 -> 52.5
A3: N°Fournisseur | D3: Fournisseur
A4: 661245 | D4: Pieters
B7: ENTREES | C7: SORTIES | F7: VALEURS DES ENTREES | G7: VALEURS DES SORTIES
A9: Janvier | B9: =Janvier!$B$52 -> 170 | C9: =Janvier!$D$52 -> 145 | D9: ,,,,,,,,,,,,,, | E9: ,,,,,,,,,,,,,, | F9: =B9*D2 -> 255 | G9: =C9*D2 -> 217.5
A10: Février | B10: =Février!$B$52 -> 110 | C10: =Février!$D$52 -> 100 | D10: ,,,,,,,,,,,,,, | E10: ,,,,,,,,,,,,,, | F10: =B10*D2 -> 165 | G10: =C10*D2 -> 150
A11: Mars | B11: =Mars!$B$52 -> 0 | C11: =Mars!$D$52 -> 0 | D11: ,,,,,,,,,,,,,, | E11: ,,,,,,,,,,,,,, | F11: =B11*D2 -> 0 | G11: =C11*D2 -> 0
A12: Avril | B12: =Avril!$B$52 -> 0 | C12: =Avril!$D$52 -> 0 | D12: ,,,,,,,,,,,,,, | E12: ,,,,,,,,,,,,,, | F12: =B12*D2 -> 0 | G12: =C12*D2 -> 0
A13: Mai | B13: =Mai!$B$52 -> 0 | C13: =Mai!$D$52 -> 0 | D13: ,,,,,,,,,,,,,, | E13: ,,,,,,,,,,,,,, | F13: =B13*D2 -> 0 | G13: =C13*D2 -> 0
A14: Juin | B14: =Juin!$B$52 -> 0 | C14: =Juin!$D$52 -> 0 | D14: ,,,,,,,,,,,,,, | E14: ,,,,,,,,,,,,,, | F14: =B14*D2 -> 0 | G14: =C14*D2 -> 0
A15: Juillet | B15: =Juillet!$B$52 -> 0 | C15: =Juillet!$D$52 -> 0 | D15: ,,,,,,,,,,,,,, | E15: ,,,,,,,,,,,,,, | F15: =B15*D2 -> 0 | G15: =C15*D2 -> 0
A16: Août | B16: =Août!$B$52 -> 0 | C16: =Août!$D$52 -> 0 | D16: ,,,,,,,,,,,,,, | E16: ,,,,,,,,,,,,,, | F16: =B16*D2 -> 0 | G16: =C16*D2 -> 0
A17: Septembre | B17: =Septembre!$B$52 -> 0 | C17: =Septembre!$D$52 -> 0 | D17: ,,,,,,,,,,,,,, | E17: ,,,,,,,,,,,,,, | F17: =B17*D2 -> 0 | G17: =C17*D2 -> 0
A18: Octobre | B18: =Octobre!$B$52 -> 0 | C18: =Octobre!$D$52 -> 0 | D18: ,,,,,,,,,,,,,, | E18: ,,,,,,,,,,,,,, | F18: =B18*D2 -> 0 | G18: =C18*D2 -> 0
A19: Novembre | B19: =Novembre!$B$52 -> 0 | C19: =Novembre!$D$52 -> 0 | D19: ,,,,,,,,,,,,,, | E19: ,,,,,,,,,,,,,, | F19: =B19*D2 -> 0 | G19: =C19*D2 -> 0
A20: Décembre | B20: =Décembre!$B$52 -> 0 | C20: =Décembre!$D$52 -> 0 | D20: ,,,,,,,,,,,,,, | E20: ,,,,,,,,,,,,,, | F20: =B20*D2 -> 0 | G20: =C20*D2 -> 0
A22: TOTAUX : | B22: =SUM(B9:B20) -> 280 | C22: =SUM(C9:C20) -> 245 | D22: ….... | F22: =SUM(F9:F20) -> 420 | G22: =SUM(G9:G20) -> 367.5
