Workbook
Name Matricules: OFFSET(Liste!$A$2,,,COUNTA(Liste!$A:$A)-1)

Sheet Liste
A1: Matricule | B1: Code
A2: FRA000630 | B2: 543F33
A3: FRA000630 | B3: 543F33
A4: FRA000630 | B4: 543F33
A5: FRA000630 | B5: 543F33
A6: FRA000630 | B6: 543F33
A7: FRA000630 | B7: 543F33
A8: FRA000630 | B8: 543F33
A9: FRA000630 | B9: 543F33
A10: FRA000630 | B10: 543F33
A11: FRA000630 | B11: 543F33
A12: FRA000630 | B12: 543F33
... A45: FRA007297 | B45: 478C08
A46: FRA000000

Sheet Liste sans doublons
A1: Matricule | B1: Code
A2: {=INDEX(Liste!$A:$A,MIN(IF(Matricules<>"",IF(COUNTIF(A$1:A1,Matricules)=0,ROW(Matricules),ROWS(Matricules)+2))))} -> FRA000630 | B2: =IFERROR(INDEX(Liste!$A$2:$B$500,MATCH(A2,Liste!$A$2:$A$500,0),2),"") -> 543F33
A3: {=INDEX(Liste!$A:$A,MIN(IF(Matricules<>"",IF(COUNTIF(A$1:A2,Matricules)=0,ROW(Matricules),ROWS(Matricules)+2))))} -> FRA007297 | B3: =IFERROR(INDEX(Liste!$A$2:$B$500,MATCH(A3,Liste!$A$2:$A$500,0),2),"") -> 478C08
A4: {=INDEX(Liste!$A:$A,MIN(IF(Matricules<>"",IF(COUNTIF(A$1:A3,Matricules)=0,ROW(Matricules),ROWS(Matricules)+2))))} -> FRA000000 | B4: =IFERROR(INDEX(Liste!$A$2:$B$500,MATCH(A4,Liste!$A$2:$A$500,0),2),"") -> 0
A5: {=INDEX(Liste!$A:$A,MIN(IF(Matricules<>"",IF(COUNTIF(A$1:A4,Matricules)=0,ROW(Matricules),ROWS(Matricules)+2))))} -> 0 | B5: =IFERROR(INDEX(Liste!$A$2:$B$500,MATCH(A5,Liste!$A$2:$A$500,0),2),"")
A6: {=INDEX(Liste!$A:$A,MIN(IF(Matricules<>"",IF(COUNTIF(A$1:A5,Matricules)=0,ROW(Matricules),ROWS(Matricules)+2))))} -> 0 | B6: =IFERROR(INDEX(Liste!$A$2:$B$500,MATCH(A6,Liste!$A$2:$A$500,0),2),"")
A7: {=INDEX(Liste!$A:$A,MIN(IF(Matricules<>"",IF(COUNTIF(A$1:A6,Matricules)=0,ROW(Matricules),ROWS(Matricules)+2))))} -> 0 | B7: =IFERROR(INDEX(Liste!$A$2:$B$500,MATCH(A7,Liste!$A$2:$A$500,0),2),"")
A8: {=INDEX(Liste!$A:$A,MIN(IF(Matricules<>"",IF(COUNTIF(A$1:A7,Matricules)=0,ROW(Matricules),ROWS(Matricules)+2))))} -> 0 | B8: =IFERROR(INDEX(Liste!$A$2:$B$500,MATCH(A8,Liste!$A$2:$A$500,0),2),"")
A9: {=INDEX(Liste!$A:$A,MIN(IF(Matricules<>"",IF(COUNTIF(A$1:A8,Matricules)=0,ROW(Matricules),ROWS(Matricules)+2))))} -> 0 | B9: =IFERROR(INDEX(Liste!$A$2:$B$500,MATCH(A9,Liste!$A$2:$A$500,0),2),"")
A10: {=INDEX(Liste!$A:$A,MIN(IF(Matricules<>"",IF(COUNTIF(A$1:A9,Matricules)=0,ROW(Matricules),ROWS(Matricules)+2))))} -> 0 | B10: =IFERROR(INDEX(Liste!$A$2:$B$500,MATCH(A10,Liste!$A$2:$A$500,0),2),"")
A11: {=INDEX(Liste!$A:$A,MIN(IF(Matricules<>"",IF(COUNTIF(A$1:A10,Matricules)=0,ROW(Matricules),ROWS(Matricules)+2))))} -> 0 | B11: =IFERROR(INDEX(Liste!$A$2:$B$500,MATCH(A11,Liste!$A$2:$A$500,0),2),"")
A12: {=INDEX(Liste!$A:$A,MIN(IF(Matricules<>"",IF(COUNTIF(A$1:A11,Matricules)=0,ROW(Matricules),ROWS(Matricules)+2))))} -> 0 | B12: =IFERROR(INDEX(Liste!$A$2:$B$500,MATCH(A12,Liste!$A$2:$A$500,0),2),"")
A13: {=INDEX(Liste!$A:$A,MIN(IF(Matricules<>"",IF(COUNTIF(A$1:A12,Matricules)=0,ROW(Matricules),ROWS(Matricules)+2))))} -> 0 | B13: =IFERROR(INDEX(Liste!$A$2:$B$500,MATCH(A13,Liste!$A$2:$A$500,0),2),"")
... A101: {=INDEX(Liste!$A:$A,MIN(IF(Matricules<>"",IF(COUNTIF(A$1:A100,Matricules)=0,ROW(Matricules),ROWS(Matricules)+2))))} -> 0 | B101: =IFERROR(INDEX(Liste!$A$2:$B$500,MATCH(A101,Liste!$A$2:$A$500,0),2),"")

Sheet Feuil3
