Workbook
Name Date_Equip: Feuil1!$A$2:$B$130
Name EQUIPMENT: Feuil1!$B$2:$B$130
Name MEASURE_DATE: Feuil1!$A$2:$A$130

Sheet Feuil1
A1: MEASURE_DATE | B1: EQUIPMENT | C1: EVENT | D1: PARAMETER | E1: TYPE | F1: LCL_EVOL | G1: UCL_EVOL | H1: LPL_EVOL | I1: UPL_EVOL | J1: VALUE1
A2: 42477.553 | B2: TOOL3 | G2: 0.11 | I2: DELTA to Check | J2: 0.116
A3: 42477.529 | B3: TOOL21 | G3: 0.03 | I3: DELTA to Check | J3: 0.0323
A4: 42477.472 | B4: TOOL3 | G4: 0.035 | I4: DELTA to Check | J4: 0.0392
A5: 42477.442 | B5: TOOL6 | G5: 0.07 | I5: DELTA to Check | J5: 0.0884
A6: 42477.431 | B6: TOOL19 | G6: 0.012 | I6: DELTA to Check | J6: 0.012
A7: 42477.426 | B7: TOOL14 | G7: 0.025 | I7: DELTA to Check | J7: 0.0256
A8: 42477.402 | B8: TOOL14 | G8: 0.03 | I8: DELTA to Check | J8: 0.0306
A9: 42477.352 | B9: TOOL10 | G9: 0.007 | I9: DELTA to Check | J9: 0.0078
A10: 42477.284 | B10: TOOL10 | G10: 0.007 | I10: DELTA to Check | J10: 0.0372
A11: 42477.185 | B11: TOOL14 | G11: 0.018 | I11: DELTA to Check | J11: 0.0206
A12: 42477.168 | B12: TOOL9 | G12: 0.052 | I12: DELTA to Check | J12: 0.0551
A13: 42477.07 | B13: TOOL15 | G13: 0.024 | I13: DELTA to Check | J13: 0.0245
... A130: 42470.004 | B130: TOOL22 | G130: 0.04 | I130: DELTA to Check | J130: 0.0429

Sheet Feuil2
A1: Equipement | B1: Nb Détect | C1: Matrice ligne | E1: Liste des équipements
A2: Tool1 | B2: =COUNTIF(EQUIPMENT,A2) -> 3 | C2: =(B2>0)*ROW() -> 2 | E2: =IFERROR(INDEX($A$2:$A$123,SMALL($C$2:$C$123,COUNTIF($C$2:$C$123,0)+ROW()-1)-1,1),"") -> Tool1
A3: Tool2 | B3: =COUNTIF(EQUIPMENT,A3) -> 1 | C3: =(B3>0)*ROW() -> 3 | E3: =IFERROR(INDEX($A$2:$A$123,SMALL($C$2:$C$123,COUNTIF($C$2:$C$123,0)+ROW()-1)-1,1),"") -> Tool2
A4: Tool3 | B4: =COUNTIF(EQUIPMENT,A4) -> 6 | C4: =(B4>0)*ROW() -> 4 | E4: =IFERROR(INDEX($A$2:$A$123,SMALL($C$2:$C$123,COUNTIF($C$2:$C$123,0)+ROW()-1)-1,1),"") -> Tool3
A5: Tool4 | B5: =COUNTIF(EQUIPMENT,A5) -> 2 | C5: =(B5>0)*ROW() -> 5 | E5: =IFERROR(INDEX($A$2:$A$123,SMALL($C$2:$C$123,COUNTIF($C$2:$C$123,0)+ROW()-1)-1,1),"") -> Tool4
A6: Tool5 | B6: =COUNTIF(EQUIPMENT,A6) -> 2 | C6: =(B6>0)*ROW() -> 6 | E6: =IFERROR(INDEX($A$2:$A$123,SMALL($C$2:$C$123,COUNTIF($C$2:$C$123,0)+ROW()-1)-1,1),"") -> Tool5
A7: Tool6 | B7: =COUNTIF(EQUIPMENT,A7) -> 9 | C7: =(B7>0)*ROW() -> 7 | E7: =IFERROR(INDEX($A$2:$A$123,SMALL($C$2:$C$123,COUNTIF($C$2:$C$123,0)+ROW()-1)-1,1),"") -> Tool6
A8: Tool7 | B8: =COUNTIF(EQUIPMENT,A8) -> 0 | C8: =(B8>0)*ROW() -> 0 | E8: =IFERROR(INDEX($A$2:$A$123,SMALL($C$2:$C$123,COUNTIF($C$2:$C$123,0)+ROW()-1)-1,1),"") -> Tool8
A9: Tool8 | B9: =COUNTIF(EQUIPMENT,A9) -> 6 | C9: =(B9>0)*ROW() -> 9 | E9: =IFERROR(INDEX($A$2:$A$123,SMALL($C$2:$C$123,COUNTIF($C$2:$C$123,0)+ROW()-1)-1,1),"") -> Tool9
A10: Tool9 | B10: =COUNTIF(EQUIPMENT,A10) -> 4 | C10: =(B10>0)*ROW() -> 10 | E10: =IFERROR(INDEX($A$2:$A$123,SMALL($C$2:$C$123,COUNTIF($C$2:$C$123,0)+ROW()-1)-1,1),"") -> Tool10
A11: Tool10 | B11: =COUNTIF(EQUIPMENT,A11) -> 16 | C11: =(B11>0)*ROW() -> 11 | E11: =IFERROR(INDEX($A$2:$A$123,SMALL($C$2:$C$123,COUNTIF($C$2:$C$123,0)+ROW()-1)-1,1),"") -> Tool11
A12: Tool11 | B12: =COUNTIF(EQUIPMENT,A12) -> 4 | C12: =(B12>0)*ROW() -> 12 | E12: =IFERROR(INDEX($A$2:$A$123,SMALL($C$2:$C$123,COUNTIF($C$2:$C$123,0)+ROW()-1)-1,1),"") -> Tool12
A13: Tool12 | B13: =COUNTIF(EQUIPMENT,A13) -> 6 | C13: =(B13>0)*ROW() -> 13 | E13: =IFERROR(INDEX($A$2:$A$123,SMALL($C$2:$C$123,COUNTIF($C$2:$C$123,0)+ROW()-1)-1,1),"") -> Tool13
... A123: Tool122 | B123: =COUNTIF(EQUIPMENT,A123) -> 0 | C123: =(B123>0)*ROW() -> 0 | E123: =IFERROR(INDEX($A$2:$A$123,SMALL($C$2:$C$123,COUNTIF($C$2:$C$123,0)+ROW()-1)-1,1),"")

Sheet Feuil3
A1: =Feuil2!$E2 -> Tool1 | C1: =Feuil2!E3 -> Tool2 | E1: =Feuil2!E4 -> Tool3 | G1: =Feuil2!E5 -> Tool4 | I1: =Feuil2!$E6 -> Tool5 | K1: =Feuil2!$E7 -> Tool6 | M1: =Feuil2!$E8 -> Tool8 | O1: =Feuil2!$E9 -> Tool9 | Q1: =Feuil2!$E10 -> Tool10 | S1: =Feuil2!$E11 -> Tool11 | U1: =Feuil2!$E12 -> Tool12 | W1: =Feuil2!$E13 -> Tool13 | Y1: =Feuil2!$E14 -> Tool14 | AA1: =Feuil2!$E15 -> Tool15 | AC1: =Feuil2!$E16 -> Tool16 | AE1: =Feuil2!$E17 -> Tool17 | AG1: =Feuil2!$E18 -> Tool18 | AI1: =Feuil2!$E19 -> Tool19 | AK1: =Feuil2!$E20 -> Tool20 | AM1: =Feuil2!$E21 -> Tool21 | AO1: =Feuil2!$E22 -> Tool22 | AQ1: =Feuil2!$E23 | AS1: =Feuil2!$E24 | AU1: =Feuil2!$E25 | AW1: =Feuil2!$E26 | AY1: =Feuil2!$E27 | BA1: =Feuil2!$E28 | BC1: =Feuil2!$E29 | BE1: =Feuil2!$E30
A2: =IFERROR(INDEX(Date_Equip,SMALL(B$2:B$130,COUNTIF(B$2:B$130,0)+ROW()-1),1),"") -> 42475.089 | B2: =(A$1=Feuil1!$B2)*ROW() -> 0 | C2: =IFERROR(INDEX(Date_Equip,SMALL(D$2:D$130,COUNTIF(D$2:D$130,0)+ROW()-1),1),"") -> 42470.614 | D2: =(C$1=Feuil1!$B2)*ROW() -> 0 | E2: =IFERROR(INDEX(Date_Equip,SMALL(F$2:F$130,COUNTIF(F$2:F$130,0)+ROW()-1),1),"") -> 42477.529 | F2: =(E$1=Feuil1!$B2)*ROW() -> 2 | G2: =IFERROR(INDEX(Date_Equip,SMALL(H$2:H$130,COUNTIF(H$2:H$130,0)+ROW()-1),1),"") -> 42475.761 | H2: =(G$1=Feuil1!$B2)*ROW() -> 0 | I2: =IFERROR(INDEX(Date_Equip,SMALL(J$2:J$130,COUNTIF(J$2:J$130,0)+ROW()-1),1),"") -> 42471.438 | J2: =(I$1=Feuil1!$B2)*ROW() -> 0 | K2: =IFERROR(INDEX(Date_Equip,SMALL(L$2:L$130,COUNTIF(L$2:L$130,0)+ROW()-1),1),"") -> 42477.431 | L2: =(K$1=Feuil1!$B2)*ROW() -> 0 | M2: =IFERROR(INDEX(Date_Equip,SMALL(N$2:N$130,COUNTIF(N$2:N$130,0)+ROW()-1),1),"") -> 42474.064 | N2: =(M$1=Feuil1!$B2)*ROW() -> 0 | O2: =IFERROR(INDEX(Date_Equip,SMALL(P$2:P$130,COUNTIF(P$2:P$130,0)+ROW()-1),1),"") -> 42477.07 | P2: =(O$1=Feuil1!$B2)*ROW() -> 0 | Q2: =IFERROR(INDEX(Date_Equip,SMALL(R$2:R$130,COUNTIF(R$2:R$130,0)+ROW()-1),1),"") -> 42477.284 | R2: =(Q$1=Feuil1!$B2)*ROW() -> 0 | S2: =IFERROR(INDEX(Date_Equip,SMALL(T$2:T$130,COUNTIF(T$2:T$130,0)+ROW()-1),1),"") -> 42475.452 | T2: =(S$1=Feuil1!$B2)*ROW() -> 0 | U2: =IFERROR(INDEX(Date_Equip,SMALL(V$2:V$130,COUNTIF(V$2:V$130,0)+ROW()-1),1),"") -> 42476.284 | V2: =(U$1=Feuil1!$B2)*ROW() -> 0 | W2: =IFERROR(INDEX(Date_Equip,SMALL(X$2:X$130,COUNTIF(X$2:X$130,0)+ROW()-1),1),"") -> 42475.38 | X2: =(W$1=Feuil1!$B2)*ROW() -> 0 | Y2: =IFERROR(INDEX(Date_Equip,SMALL(Z$2:Z$130,COUNTIF(Z$2:Z$130,0)+ROW()-1),1),"") -> 42477.402 | Z2: =(Y$1=Feuil1!$B2)*ROW() -> 0 | AA2: =IFERROR(INDEX(Date_Equip,SMALL(AB$2:AB$130,COUNTIF(AB$2:AB$130,0)+ROW()-1),1),"") -> 42477.049 | AB2: =(AA$1=Feuil1!$B2)*ROW() -> 0 | AC2: =IFERROR(INDEX(Date_Equip,SMALL(AD$2:AD$130,COUNTIF(AD$2:AD$130,0)+ROW()-1),1),"") -> 42476.639 | AD2: =(AC$1=Feuil1!$B2)*ROW() -> 0 | AE2: =IFERROR(INDEX(Date_Equip,SMALL(AF$2:AF$130,COUNTIF(AF$2:AF$130,0)+ROW()-1),1),"") -> 42472.057 | AF2: =(AE$1=Feuil1!$B2)*ROW() -> 0 | AG2: =IFERROR(INDEX(Date_Equip,SMALL(AH$2:AH$130,COUNTIF(AH$2:AH$130,0)+ROW()-1),1),"") -> 42471.741 | AH2: =(AG$1=Feuil1!$B2)*ROW() -> 0 | AI2: =IFERROR(INDEX(Date_Equip,SMALL(AJ$2:AJ$130,COUNTIF(AJ$2:AJ$130,0)+ROW()-1),1),"") -> 42477.426 | AJ2: =(AI$1=Feuil1!$B2)*ROW() -> 0 | AK2: =IFERROR(INDEX(Date_Equip,SMALL(AL$2:AL$130,COUNTIF(AL$2:AL$130,0)+ROW()-1),1),"") -> 42475.296 | AL2: =(AK$1=Feuil1!$B2)*ROW() -> 0 | AM2: =IFERROR(INDEX(Date_Equip,SMALL(AN$2:AN$130,COUNTIF(AN$2:AN$130,0)+ROW()-1),1),"") -> 42477.472 | AN2: =(AM$1=Feuil1!$B2)*ROW() -> 0 | AO2: =IFERROR(INDEX(Date_Equip,SMALL(AP$2:AP$130,COUNTIF(AP$2:AP$130,0)+ROW()-1),1),"") -> 42476.279 | AP2: =(AO$1=Feuil1!$B2)*ROW() -> 0 | AQ2: =IFERROR(INDEX(Date_Equip,SMALL(AR$2:AR$130,COUNTIF(AR$2:AR$130,0)+ROW()-1),1),"") | AR2: =(AQ$1=Feuil1!$B2)*ROW() -> 0 | AS2: =IFERROR(INDEX(Date_Equip,SMALL(AT$2:AT$130,COUNTIF(AT$2:AT$130,0)+ROW()-1),1),"") | AT2: =(AS$1=Feuil1!$B2)*ROW() -> 0 | AU2: =IFERROR(INDEX(Date_Equip,SMALL(AV$2:AV$130,COUNTIF(AV$2:AV$130,0)+ROW()-1),1),"") | AV2: =(AU$1=Feuil1!$B2)*ROW() -> 0 | AW2: =IFERROR(INDEX(Date_Equip,SMALL(AX$2:AX$130,COUNTIF(AX$2:AX$130,0)+ROW()-1),1),"") | AX2: =(AW$1=Feuil1!$B2)*ROW() -> 0 | AY2: =IFERROR(INDEX(Date_Equip,SMALL(AZ$2:AZ$130,COUNTIF(AZ$2:AZ$130,0)+ROW()-1),1),"") | AZ2: =(AY$1=Feuil1!$B2)*ROW() -> 0 | BA2: =IFERROR(INDEX(Date_Equip,SMALL(BB$2:BB$130,COUNTIF(BB$2:BB$130,0)+ROW()-1),1),"") | BB2: =(BA$1=Feuil1!$B2)*ROW() -> 0 | BC2: =IFERROR(INDEX(Date_Equip,SMALL(BD$2:BD$130,COUNTIF(BD$2:BD$130,0)+ROW()-1),1),"") | BD2: =(BC$1=Feuil1!$B2)*ROW() -> 0 | BE2: =IFERROR(INDEX(Date_Equip,SMALL(BF$2:BF$130,COUNTIF(BF$2:BF$130,0)+ROW()-1),1),"") | BF2: =(BE$1=Feuil1!$B2)*ROW() -> 0
A3: =IFERROR(INDEX(Date_Equip,SMALL(B$2:B$130,COUNTIF(B$2:B$130,0)+ROW()-1),1),"") -> 42474.964 | B3: =(A$1=Feuil1!$B3)*ROW() -> 0 | C3: =IFERROR(INDEX(Date_Equip,SMALL(D$2:D$130,COUNTIF(D$2:D$130,0)+ROW()-1),1),"") | D3: =(C$1=Feuil1!$B3)*ROW() -> 0 | E3: =IFERROR(INDEX(Date_Equip,SMALL(F$2:F$130,COUNTIF(F$2:F$130,0)+ROW()-1),1),"") -> 42477.442 | F3: =(E$1=Feuil1!$B3)*ROW() -> 0 | G3: =IFERROR(INDEX(Date_Equip,SMALL(H$2:H$130,COUNTIF(H$2:H$130,0)+ROW()-1),1),"") -> 42475.334 | H3: =(G$1=Feuil1!$B3)*ROW() -> 0 | I3: =IFERROR(INDEX(Date_Equip,SMALL(J$2:J$130,COUNTIF(J$2:J$130,0)+ROW()-1),1),"") -> 42470.119 | J3: =(I$1=Feuil1!$B3)*ROW() -> 0 | K3: =IFERROR(INDEX(Date_Equip,SMALL(L$2:L$130,COUNTIF(L$2:L$130,0)+ROW()-1),1),"") -> 42475.822 | L3: =(K$1=Feuil1!$B3)*ROW() -> 0 | M3: =IFERROR(INDEX(Date_Equip,SMALL(N$2:N$130,COUNTIF(N$2:N$130,0)+ROW()-1),1),"") -> 42473.37 | N3: =(M$1=Feuil1!$B3)*ROW() -> 0 | O3: =IFERROR(INDEX(Date_Equip,SMALL(P$2:P$130,COUNTIF(P$2:P$130,0)+ROW()-1),1),"") -> 42477.044 | P3: =(O$1=Feuil1!$B3)*ROW() -> 0 | Q3: =IFERROR(INDEX(Date_Equip,SMALL(R$2:R$130,COUNTIF(R$2:R$130,0)+ROW()-1),1),"") -> 42477.185 | R3: =(Q$1=Feuil1!$B3)*ROW() -> 0 | S3: =IFERROR(INDEX(Date_Equip,SMALL(T$2:T$130,COUNTIF(T$2:T$130,0)+ROW()-1),1),"") -> 42472.174 | T3: =(S$1=Feuil1!$B3)*ROW() -> 0 | U3: =IFERROR(INDEX(Date_Equip,SMALL(V$2:V$130,COUNTIF(V$2:V$130,0)+ROW()-1),1),"") -> 42475.92 | V3: =(U$1=Feuil1!$B3)*ROW() -> 0 | W3: =IFERROR(INDEX(Date_Equip,SMALL(X$2:X$130,COUNTIF(X$2:X$130,0)+ROW()-1),1),"") | X3: =(W$1=Feuil1!$B3)*ROW() -> 0 | Y3: =IFERROR(INDEX(Date_Equip,SMALL(Z$2:Z$130,COUNTIF(Z$2:Z$130,0)+ROW()-1),1),"") -> 42477.352 | Z3: =(Y$1=Feuil1!$B3)*ROW() -> 0 | AA3: =IFERROR(INDEX(Date_Equip,SMALL(AB$2:AB$130,COUNTIF(AB$2:AB$130,0)+ROW()-1),1),"") -> 42475.399 | AB3: =(AA$1=Feuil1!$B3)*ROW() -> 0 | AC3: =IFERROR(INDEX(Date_Equip,SMALL(AD$2:AD$130,COUNTIF(AD$2:AD$130,0)+ROW()-1),1),"") -> 42476.616 | AD3: =(AC$1=Feuil1!$B3)*ROW() -> 0 | AE3: =IFERROR(INDEX(Date_Equip,SMALL(AF$2:AF$130,COUNTIF(AF$2:AF$130,0)+ROW()-1),1),"") -> 42470.301 | AF3: =(AE$1=Feuil1!$B3)*ROW() -> 0 | AG3: =IFERROR(INDEX(Date_Equip,SMALL(AH$2:AH$130,COUNTIF(AH$2:AH$130,0)+ROW()-1),1),"") | AH3: =(AG$1=Feuil1!$B3)*ROW() -> 0 | AI3: =IFERROR(INDEX(Date_Equip,SMALL(AJ$2:AJ$130,COUNTIF(AJ$2:AJ$130,0)+ROW()-1),1),"") -> 42476.897 | AJ3: =(AI$1=Feuil1!$B3)*ROW() -> 0 | AK3: =IFERROR(INDEX(Date_Equip,SMALL(AL$2:AL$130,COUNTIF(AL$2:AL$130,0)+ROW()-1),1),"") -> 42474.829 | AL3: =(AK$1=Feuil1!$B3)*ROW() -> 0 | AM3: =IFERROR(INDEX(Date_Equip,SMALL(AN$2:AN$130,COUNTIF(AN$2:AN$130,0)+ROW()-1),1),"") -> 42475.399 | AN3: =(AM$1=Feuil1!$B3)*ROW() -> 3 | AO3: =IFERROR(INDEX(Date_Equip,SMALL(AP$2:AP$130,COUNTIF(AP$2:AP$130,0)+ROW()-1),1),"") -> 42476.214 | AP3: =(AO$1=Feuil1!$B3)*ROW() -> 0 | AQ3: =IFERROR(INDEX(Date_Equip,SMALL(AR$2:AR$130,COUNTIF(AR$2:AR$130,0)+ROW()-1),1),"") | AR3: =(AQ$1=Feuil1!$B3)*ROW() -> 0 | AS3: =IFERROR(INDEX(Date_Equip,SMALL(AT$2:AT$130,COUNTIF(AT$2:AT$130,0)+ROW()-1),1),"") | AT3: =(AS$1=Feuil1!$B3)*ROW() -> 0 | AU3: =IFERROR(INDEX(Date_Equip,SMALL(AV$2:AV$130,COUNTIF(AV$2:AV$130,0)+ROW()-1),1),"") | AV3: =(AU$1=Feuil1!$B3)*ROW() -> 0 | AW3: =IFERROR(INDEX(Date_Equip,SMALL(AX$2:AX$130,COUNTIF(AX$2:AX$130,0)+ROW()-1),1),"") | AX3: =(AW$1=Feuil1!$B3)*ROW() -> 0 | AY3: =IFERROR(INDEX(Date_Equip,SMALL(AZ$2:AZ$130,COUNTIF(AZ$2:AZ$130,0)+ROW()-1),1),"") | AZ3: =(AY$1=Feuil1!$B3)*ROW() -> 0 | BA3: =IFERROR(INDEX(Date_Equip,SMALL(BB$2:BB$130,COUNTIF(BB$2:BB$130,0)+ROW()-1),1),"") | BB3: =(BA$1=Feuil1!$B3)*ROW() -> 0 | BC3: =IFERROR(INDEX(Date_Equip,SMALL(BD$2:BD$130,COUNTIF(BD$2:BD$130,0)+ROW()-1),1),"") | BD3: =(BC$1=Feuil1!$B3)*ROW() -> 0 | BE3: =IFERROR(INDEX(Date_Equip,SMALL(BF$2:BF$130,COUNTIF(BF$2:BF$130,0)+ROW()-1),1),"") | BF3: =(BE$1=Feuil1!$B3)*ROW() -> 0
A4: =IFERROR(INDEX(Date_Equip,SMALL(B$2:B$130,COUNTIF(B$2:B$130,0)+ROW()-1),1),"") -> 42470.593 | B4: =(A$1=Feuil1!$B4)*ROW() -> 0 | C4: =IFERROR(INDEX(Date_Equip,SMALL(D$2:D$130,COUNTIF(D$2:D$130,0)+ROW()-1),1),"") | D4: =(C$1=Feuil1!$B4)*ROW() -> 0 | E4: =IFERROR(INDEX(Date_Equip,SMALL(F$2:F$130,COUNTIF(F$2:F$130,0)+ROW()-1),1),"") -> 42475.696 | F4: =(E$1=Feuil1!$B4)*ROW() -> 4 | G4: =IFERROR(INDEX(Date_Equip,SMALL(H$2:H$130,COUNTIF(H$2:H$130,0)+ROW()-1),1),"") | H4: =(G$1=Feuil1!$B4)*ROW() -> 0 | I4: =IFERROR(INDEX(Date_Equip,SMALL(J$2:J$130,COUNTIF(J$2:J$130,0)+ROW()-1),1),"") | J4: =(I$1=Feuil1!$B4)*ROW() -> 0 | K4: =IFERROR(INDEX(Date_Equip,SMALL(L$2:L$130,COUNTIF(L$2:L$130,0)+ROW()-1),1),"") -> 42475.71 | L4: =(K$1=Feuil1!$B4)*ROW() -> 0 | M4: =IFERROR(INDEX(Date_Equip,SMALL(N$2:N$130,COUNTIF(N$2:N$130,0)+ROW()-1),1),"") -> 42473.368 | N4: =(M$1=Feuil1!$B4)*ROW() -> 0 | O4: =IFERROR(INDEX(Date_Equip,SMALL(P$2:P$130,COUNTIF(P$2:P$130,0)+ROW()-1),1),"") -> 42475.936 | P4: =(O$1=Feuil1!$B4)*ROW() -> 0 | Q4: =IFERROR(INDEX(Date_Equip,SMALL(R$2:R$130,COUNTIF(R$2:R$130,0)+ROW()-1),1),"") -> 42476.889 | R4: =(Q$1=Feuil1!$B4)*ROW() -> 0 | S4: =IFERROR(INDEX(Date_Equip,SMALL(T$2:T$130,COUNTIF(T$2:T$130,0)+ROW()-1),1),"") -> 42471.811 | T4: =(S$1=Feuil1!$B4)*ROW() -> 0 | U4: =IFERROR(INDEX(Date_Equip,SMALL(V$2:V$130,COUNTIF(V$2:V$130,0)+ROW()-1),1),"") -> 42473.739 | V4: =(U$1=Feuil1!$B4)*ROW() -> 0 | W4: =IFERROR(INDEX(Date_Equip,SMALL(X$2:X$130,COUNTIF(X$2:X$130,0)+ROW()-1),1),"") | X4: =(W$1=Feuil1!$B4)*ROW() -> 0 | Y4: =IFERROR(INDEX(Date_Equip,SMALL(Z$2:Z$130,COUNTIF(Z$2:Z$130,0)+ROW()-1),1),"") -> 42477.168 | Z4: =(Y$1=Feuil1!$B4)*ROW() -> 0 | AA4: =IFERROR(INDEX(Date_Equip,SMALL(AB$2:AB$130,COUNTIF(AB$2:AB$130,0)+ROW()-1),1),"") -> 42475.392 | AB4: =(AA$1=Feuil1!$B4)*ROW() -> 0 | AC4: =IFERROR(INDEX(Date_Equip,SMALL(AD$2:AD$130,COUNTIF(AD$2:AD$130,0)+ROW()-1),1),"") -> 42475.742 | AD4: =(AC$1=Feuil1!$B4)*ROW() -> 0 | AE4: =IFERROR(INDEX(Date_Equip,SMALL(AF$2:AF$130,COUNTIF(AF$2:AF$130,0)+ROW()-1),1),"") | AF4: =(AE$1=Feuil1!$B4)*ROW() -> 0 | AG4: =IFERROR(INDEX(Date_Equip,SMALL(AH$2:AH$130,COUNTIF(AH$2:AH$130,0)+ROW()-1),1),"") | AH4: =(AG$1=Feuil1!$B4)*ROW() -> 0 | AI4: =IFERROR(INDEX(Date_Equip,SMALL(AJ$2:AJ$130,COUNTIF(AJ$2:AJ$130,0)+ROW()-1),1),"") -> 42474.877 | AJ4: =(AI$1=Feuil1!$B4)*ROW() -> 0 | AK4: =IFERROR(INDEX(Date_Equip,SMALL(AL$2:AL$130,COUNTIF(AL$2:AL$130,0)+ROW()-1),1),"") -> 42473.302 | AL4: =(AK$1=Feuil1!$B4)*ROW() -> 0 | AM4: =IFERROR(INDEX(Date_Equip,SMALL(AN$2:AN$130,COUNTIF(AN$2:AN$130,0)+ROW()-1),1),"") -> 42475.299 | AN4: =(AM$1=Feuil1!$B4)*ROW() -> 0 | AO4: =IFERROR(INDEX(Date_Equip,SMALL(AP$2:AP$130,COUNTIF(AP$2:AP$130,0)+ROW()-1),1),"") -> 42475.742 | AP4: =(AO$1=Feuil1!$B4)*ROW() -> 0 | AQ4: =IFERROR(INDEX(Date_Equip,SMALL(AR$2:AR$130,COUNTIF(AR$2:AR$130,0)+ROW()-1),1),"") | AR4: =(AQ$1=Feuil1!$B4)*ROW() -> 0 | AS4: =IFERROR(INDEX(Date_Equip,SMALL(AT$2:AT$130,COUNTIF(AT$2:AT$130,0)+ROW()-1),1),"") | AT4: =(AS$1=Feuil1!$B4)*ROW() -> 0 | AU4: =IFERROR(INDEX(Date_Equip,SMALL(AV$2:AV$130,COUNTIF(AV$2:AV$130,0)+ROW()-1),1),"") | AV4: =(AU$1=Feuil1!$B4)*ROW() -> 0 | AW4: =IFERROR(INDEX(Date_Equip,SMALL(AX$2:AX$130,COUNTIF(AX$2:AX$130,0)+ROW()-1),1),"") | AX4: =(AW$1=Feuil1!$B4)*ROW() -> 0 | AY4: =IFERROR(INDEX(Date_Equip,SMALL(AZ$2:AZ$130,COUNTIF(AZ$2:AZ$130,0)+ROW()-1),1),"") | AZ4: =(AY$1=Feuil1!$B4)*ROW() -> 0 | BA4: =IFERROR(INDEX(Date_Equip,SMALL(BB$2:BB$130,COUNTIF(BB$2:BB$130,0)+ROW()-1),1),"") | BB4: =(BA$1=Feuil1!$B4)*ROW() -> 0 | BC4: =IFERROR(INDEX(Date_Equip,SMALL(BD$2:BD$130,COUNTIF(BD$2:BD$130,0)+ROW()-1),1),"") | BD4: =(BC$1=Feuil1!$B4)*ROW() -> 0 | BE4: =IFERROR(INDEX(Date_Equip,SMALL(BF$2:BF$130,COUNTIF(BF$2:BF$130,0)+ROW()-1),1),"") | BF4: =(BE$1=Feuil1!$B4)*ROW() -> 0
A5: =IFERROR(INDEX(Date_Equip,SMALL(B$2:B$130,COUNTIF(B$2:B$130,0)+ROW()-1),1),"") | B5: =(A$1=Feuil1!$B5)*ROW() -> 0 | C5: =IFERROR(INDEX(Date_Equip,SMALL(D$2:D$130,COUNTIF(D$2:D$130,0)+ROW()-1),1),"") | D5: =(C$1=Feuil1!$B5)*ROW() -> 0 | E5: =IFERROR(INDEX(Date_Equip,SMALL(F$2:F$130,COUNTIF(F$2:F$130,0)+ROW()-1),1),"") -> 42475.463 | F5: =(E$1=Feuil1!$B5)*ROW() -> 0 | G5: =IFERROR(INDEX(Date_Equip,SMALL(H$2:H$130,COUNTIF(H$2:H$130,0)+ROW()-1),1),"") | H5: =(G$1=Feuil1!$B5)*ROW() -> 0 | I5: =IFERROR(INDEX(Date_Equip,SMALL(J$2:J$130,COUNTIF(J$2:J$130,0)+ROW()-1),1),"") | J5: =(I$1=Feuil1!$B5)*ROW() -> 0 | K5: =IFERROR(INDEX(Date_Equip,SMALL(L$2:L$130,COUNTIF(L$2:L$130,0)+ROW()-1),1),"") -> 42474.464 | L5: =(K$1=Feuil1!$B5)*ROW() -> 5 | M5: =IFERROR(INDEX(Date_Equip,SMALL(N$2:N$130,COUNTIF(N$2:N$130,0)+ROW()-1),1),"") -> 42472.998 | N5: =(M$1=Feuil1!$B5)*ROW() -> 0 | O5: =IFERROR(INDEX(Date_Equip,SMALL(P$2:P$130,COUNTIF(P$2:P$130,0)+ROW()-1),1),"") -> 42474.179 | P5: =(O$1=Feuil1!$B5)*ROW() -> 0 | Q5: =IFERROR(INDEX(Date_Equip,SMALL(R$2:R$130,COUNTIF(R$2:R$130,0)+ROW()-1),1),"") -> 42476.128 | R5: =(Q$1=Feuil1!$B5)*ROW() -> 0 | S5: =IFERROR(INDEX(Date_Equip,SMALL(T$2:T$130,COUNTIF(T$2:T$130,0)+ROW()-1),1),"") -> 42470.261 | T5: =(S$1=Feuil1!$B5)*ROW() -> 0 | U5: =IFERROR(INDEX(Date_Equip,SMALL(V$2:V$130,COUNTIF(V$2:V$130,0)+ROW()-1),1),"") -> 42472.514 | V5: =(U$1=Feuil1!$B5)*ROW() -> 0 | W5: =IFERROR(INDEX(Date_Equip,SMALL(X$2:X$130,COUNTIF(X$2:X$130,0)+ROW()-1),1),"") | X5: =(W$1=Feuil1!$B5)*ROW() -> 0 | Y5: =IFERROR(INDEX(Date_Equip,SMALL(Z$2:Z$130,COUNTIF(Z$2:Z$130,0)+ROW()-1),1),"") -> 42476.598 | Z5: =(Y$1=Feuil1!$B5)*ROW() -> 0 | AA5: =IFERROR(INDEX(Date_Equip,SMALL(AB$2:AB$130,COUNTIF(AB$2:AB$130,0)+ROW()-1),1),"") -> 42474.028 | AB5: =(AA$1=Feuil1!$B5)*ROW() -> 0 | AC5: =IFERROR(INDEX(Date_Equip,SMALL(AD$2:AD$130,COUNTIF(AD$2:AD$130,0)+ROW()-1),1),"") -> 42474.694 | AD5: =(AC$1=Feuil1!$B5)*ROW() -> 0 | AE5: =IFERROR(INDEX(Date_Equip,SMALL(AF$2:AF$130,COUNTIF(AF$2:AF$130,0)+ROW()-1),1),"") | AF5: =(AE$1=Feuil1!$B5)*ROW() -> 0 | AG5: =IFERROR(INDEX(Date_Equip,SMALL(AH$2:AH$130,COUNTIF(AH$2:AH$130,0)+ROW()-1),1),"") | AH5: =(AG$1=Feuil1!$B5)*ROW() -> 0 | AI5: =IFERROR(INDEX(Date_Equip,SMALL(AJ$2:AJ$130,COUNTIF(AJ$2:AJ$130,0)+ROW()-1),1),"") -> 42473.56 | AJ5: =(AI$1=Feuil1!$B5)*ROW() -> 0 | AK5: =IFERROR(INDEX(Date_Equip,SMALL(AL$2:AL$130,COUNTIF(AL$2:AL$130,0)+ROW()-1),1),"") -> 42472.427 | AL5: =(AK$1=Feuil1!$B5)*ROW() -> 0 | AM5: =IFERROR(INDEX(Date_Equip,SMALL(AN$2:AN$130,COUNTIF(AN$2:AN$130,0)+ROW()-1),1),"") -> 42472.114 | AN5: =(AM$1=Feuil1!$B5)*ROW() -> 0 | AO5: =IFERROR(INDEX(Date_Equip,SMALL(AP$2:AP$130,COUNTIF(AP$2:AP$130,0)+ROW()-1),1),"") -> 42474.865 | AP5: =(AO$1=Feuil1!$B5)*ROW() -> 0 | AQ5: =IFERROR(INDEX(Date_Equip,SMALL(AR$2:AR$130,COUNTIF(AR$2:AR$130,0)+ROW()-1),1),"") | AR5: =(AQ$1=Feuil1!$B5)*ROW() -> 0 | AS5: =IFERROR(INDEX(Date_Equip,SMALL(AT$2:AT$130,COUNTIF(AT$2:AT$130,0)+ROW()-1),1),"") | AT5: =(AS$1=Feuil1!$B5)*ROW() -> 0 | AU5: =IFERROR(INDEX(Date_Equip,SMALL(AV$2:AV$130,COUNTIF(AV$2:AV$130,0)+ROW()-1),1),"") | AV5: =(AU$1=Feuil1!$B5)*ROW() -> 0 | AW5: =IFERROR(INDEX(Date_Equip,SMALL(AX$2:AX$130,COUNTIF(AX$2:AX$130,0)+ROW()-1),1),"") | AX5: =(AW$1=Feuil1!$B5)*ROW() -> 0 | AY5: =IFERROR(INDEX(Date_Equip,SMALL(AZ$2:AZ$130,COUNTIF(AZ$2:AZ$130,0)+ROW()-1),1),"") | AZ5: =(AY$1=Feuil1!$B5)*ROW() -> 0 | BA5: =IFERROR(INDEX(Date_Equip,SMALL(BB$2:BB$130,COUNTIF(BB$2:BB$130,0)+ROW()-1),1),"") | BB5: =(BA$1=Feuil1!$B5)*ROW() -> 0 | BC5: =IFERROR(INDEX(Date_Equip,SMALL(BD$2:BD$130,COUNTIF(BD$2:BD$130,0)+ROW()-1),1),"") | BD5: =(BC$1=Feuil1!$B5)*ROW() -> 0 | BE5: =IFERROR(INDEX(Date_Equip,SMALL(BF$2:BF$130,COUNTIF(BF$2:BF$130,0)+ROW()-1),1),"") | BF5: =(BE$1=Feuil1!$B5)*ROW() -> 0
A6: =IFERROR(INDEX(Date_Equip,SMALL(B$2:B$130,COUNTIF(B$2:B$130,0)+ROW()-1),1),"") | B6: =(A$1=Feuil1!$B6)*ROW() -> 0 | C6: =IFERROR(INDEX(Date_Equip,SMALL(D$2:D$130,COUNTIF(D$2:D$130,0)+ROW()-1),1),"") | D6: =(C$1=Feuil1!$B6)*ROW() -> 0 | E6: =IFERROR(INDEX(Date_Equip,SMALL(F$2:F$130,COUNTIF(F$2:F$130,0)+ROW()-1),1),"") -> 42473.559 | F6: =(E$1=Feuil1!$B6)*ROW() -> 0 | G6: =IFERROR(INDEX(Date_Equip,SMALL(H$2:H$130,COUNTIF(H$2:H$130,0)+ROW()-1),1),"") | H6: =(G$1=Feuil1!$B6)*ROW() -> 0 | I6: =IFERROR(INDEX(Date_Equip,SMALL(J$2:J$130,COUNTIF(J$2:J$130,0)+ROW()-1),1),"") | J6: =(I$1=Feuil1!$B6)*ROW() -> 0 | K6: =IFERROR(INDEX(Date_Equip,SMALL(L$2:L$130,COUNTIF(L$2:L$130,0)+ROW()-1),1),"") -> 42472.961 | L6: =(K$1=Feuil1!$B6)*ROW() -> 0 | M6: =IFERROR(INDEX(Date_Equip,SMALL(N$2:N$130,COUNTIF(N$2:N$130,0)+ROW()-1),1),"") -> 42471.853 | N6: =(M$1=Feuil1!$B6)*ROW() -> 0 | O6: =IFERROR(INDEX(Date_Equip,SMALL(P$2:P$130,COUNTIF(P$2:P$130,0)+ROW()-1),1),"") | P6: =(O$1=Feuil1!$B6)*ROW() -> 0 | Q6: =IFERROR(INDEX(Date_Equip,SMALL(R$2:R$130,COUNTIF(R$2:R$130,0)+ROW()-1),1),"") -> 42474.556 | R6: =(Q$1=Feuil1!$B6)*ROW() -> 0 | S6: =IFERROR(INDEX(Date_Equip,SMALL(T$2:T$130,COUNTIF(T$2:T$130,0)+ROW()-1),1),"") | T6: =(S$1=Feuil1!$B6)*ROW() -> 0 | U6: =IFERROR(INDEX(Date_Equip,SMALL(V$2:V$130,COUNTIF(V$2:V$130,0)+ROW()-1),1),"") -> 42471.61 | V6: =(U$1=Feuil1!$B6)*ROW() -> 0 | W6: =IFERROR(INDEX(Date_Equip,SMALL(X$2:X$130,COUNTIF(X$2:X$130,0)+ROW()-1),1),"") | X6: =(W$1=Feuil1!$B6)*ROW() -> 0 | Y6: =IFERROR(INDEX(Date_Equip,SMALL(Z$2:Z$130,COUNTIF(Z$2:Z$130,0)+ROW()-1),1),"") -> 42476.433 | Z6: =(Y$1=Feuil1!$B6)*ROW() -> 0 | AA6: =IFERROR(INDEX(Date_Equip,SMALL(AB$2:AB$130,COUNTIF(AB$2:AB$130,0)+ROW()-1),1),"") -> 42473.919 | AB6: =(AA$1=Feuil1!$B6)*ROW() -> 0 | AC6: =IFERROR(INDEX(Date_Equip,SMALL(AD$2:AD$130,COUNTIF(AD$2:AD$130,0)+ROW()-1),1),"") -> 42474.64 | AD6: =(AC$1=Feuil1!$B6)*ROW() -> 0 | AE6: =IFERROR(INDEX(Date_Equip,SMALL(AF$2:AF$130,COUNTIF(AF$2:AF$130,0)+ROW()-1),1),"") | AF6: =(AE$1=Feuil1!$B6)*ROW() -> 0 | AG6: =IFERROR(INDEX(Date_Equip,SMALL(AH$2:AH$130,COUNTIF(AH$2:AH$130,0)+ROW()-1),1),"") | AH6: =(AG$1=Feuil1!$B6)*ROW() -> 0 | AI6: =IFERROR(INDEX(Date_Equip,SMALL(AJ$2:AJ$130,COUNTIF(AJ$2:AJ$130,0)+ROW()-1),1),"") -> 42472.948 | AJ6: =(AI$1=Feuil1!$B6)*ROW() -> 6 | AK6: =IFERROR(INDEX(Date_Equip,SMALL(AL$2:AL$130,COUNTIF(AL$2:AL$130,0)+ROW()-1),1),"") -> 42471.6 | AL6: =(AK$1=Feuil1!$B6)*ROW() -> 0 | AM6: =IFERROR(INDEX(Date_Equip,SMALL(AN$2:AN$130,COUNTIF(AN$2:AN$130,0)+ROW()-1),1),"") -> 42471.361 | AN6: =(AM$1=Feuil1!$B6)*ROW() -> 0 | AO6: =IFERROR(INDEX(Date_Equip,SMALL(AP$2:AP$130,COUNTIF(AP$2:AP$130,0)+ROW()-1),1),"") -> 42474.773 | AP6: =(AO$1=Feuil1!$B6)*ROW() -> 0 | AQ6: =IFERROR(INDEX(Date_Equip,SMALL(AR$2:AR$130,COUNTIF(AR$2:AR$130,0)+ROW()-1),1),"") | AR6: =(AQ$1=Feuil1!$B6)*ROW() -> 0 | AS6: =IFERROR(INDEX(Date_Equip,SMALL(AT$2:AT$130,COUNTIF(AT$2:AT$130,0)+ROW()-1),1),"") | AT6: =(AS$1=Feuil1!$B6)*ROW() -> 0 | AU6: =IFERROR(INDEX(Date_Equip,SMALL(AV$2:AV$130,COUNTIF(AV$2:AV$130,0)+ROW()-1),1),"") | AV6: =(AU$1=Feuil1!$B6)*ROW() -> 0 | AW6: =IFERROR(INDEX(Date_Equip,SMALL(AX$2:AX$130,COUNTIF(AX$2:AX$130,0)+ROW()-1),1),"") | AX6: =(AW$1=Feuil1!$B6)*ROW() -> 0 | AY6: =IFERROR(INDEX(Date_Equip,SMALL(AZ$2:AZ$130,COUNTIF(AZ$2:AZ$130,0)+ROW()-1),1),"") | AZ6: =(AY$1=Feuil1!$B6)*ROW() -> 0 | BA6: =IFERROR(INDEX(Date_Equip,SMALL(BB$2:BB$130,COUNTIF(BB$2:BB$130,0)+ROW()-1),1),"") | BB6: =(BA$1=Feuil1!$B6)*ROW() -> 0 | BC6: =IFERROR(INDEX(Date_Equip,SMALL(BD$2:BD$130,COUNTIF(BD$2:BD$130,0)+ROW()-1),1),"") | BD6: =(BC$1=Feuil1!$B6)*ROW() -> 0 | BE6: =IFERROR(INDEX(Date_Equip,SMALL(BF$2:BF$130,COUNTIF(BF$2:BF$130,0)+ROW()-1),1),"") | BF6: =(BE$1=Feuil1!$B6)*ROW() -> 0
A7: =IFERROR(INDEX(Date_Equip,SMALL(B$2:B$130,COUNTIF(B$2:B$130,0)+ROW()-1),1),"") | B7: =(A$1=Feuil1!$B7)*ROW() -> 0 | C7: =IFERROR(INDEX(Date_Equip,SMALL(D$2:D$130,COUNTIF(D$2:D$130,0)+ROW()-1),1),"") | D7: =(C$1=Feuil1!$B7)*ROW() -> 0 | E7: =IFERROR(INDEX(Date_Equip,SMALL(F$2:F$130,COUNTIF(F$2:F$130,0)+ROW()-1),1),"") -> 42472.35 | F7: =(E$1=Feuil1!$B7)*ROW() -> 0 | G7: =IFERROR(INDEX(Date_Equip,SMALL(H$2:H$130,COUNTIF(H$2:H$130,0)+ROW()-1),1),"") | H7: =(G$1=Feuil1!$B7)*ROW() -> 0 | I7: =IFERROR(INDEX(Date_Equip,SMALL(J$2:J$130,COUNTIF(J$2:J$130,0)+ROW()-1),1),"") | J7: =(I$1=Feuil1!$B7)*ROW() -> 0 | K7: =IFERROR(INDEX(Date_Equip,SMALL(L$2:L$130,COUNTIF(L$2:L$130,0)+ROW()-1),1),"") -> 42472.908 | L7: =(K$1=Feuil1!$B7)*ROW() -> 0 | M7: =IFERROR(INDEX(Date_Equip,SMALL(N$2:N$130,COUNTIF(N$2:N$130,0)+ROW()-1),1),"") -> 42470.605 | N7: =(M$1=Feuil1!$B7)*ROW() -> 0 | O7: =IFERROR(INDEX(Date_Equip,SMALL(P$2:P$130,COUNTIF(P$2:P$130,0)+ROW()-1),1),"") | P7: =(O$1=Feuil1!$B7)*ROW() -> 0 | Q7: =IFERROR(INDEX(Date_Equip,SMALL(R$2:R$130,COUNTIF(R$2:R$130,0)+ROW()-1),1),"") -> 42473.811 | R7: =(Q$1=Feuil1!$B7)*ROW() -> 0 | S7: =IFERROR(INDEX(Date_Equip,SMALL(T$2:T$130,COUNTIF(T$2:T$130,0)+ROW()-1),1),"") | T7: =(S$1=Feuil1!$B7)*ROW() -> 0 | U7: =IFERROR(INDEX(Date_Equip,SMALL(V$2:V$130,COUNTIF(V$2:V$130,0)+ROW()-1),1),"") -> 42470.655 | V7: =(U$1=Feuil1!$B7)*ROW() -> 0 | W7: =IFERROR(INDEX(Date_Equip,SMALL(X$2:X$130,COUNTIF(X$2:X$130,0)+ROW()-1),1),"") | X7: =(W$1=Feuil1!$B7)*ROW() -> 0 | Y7: =IFERROR(INDEX(Date_Equip,SMALL(Z$2:Z$130,COUNTIF(Z$2:Z$130,0)+ROW()-1),1),"") -> 42475.35 | Z7: =(Y$1=Feuil1!$B7)*ROW() -> 7 | AA7: =IFERROR(INDEX(Date_Equip,SMALL(AB$2:AB$130,COUNTIF(AB$2:AB$130,0)+ROW()-1),1),"") -> 42471.618 | AB7: =(AA$1=Feuil1!$B7)*ROW() -> 0 | AC7: =IFERROR(INDEX(Date_Equip,SMALL(AD$2:AD$130,COUNTIF(AD$2:AD$130,0)+ROW()-1),1),"") -> 42471.624 | AD7: =(AC$1=Feuil1!$B7)*ROW() -> 0 | AE7: =IFERROR(INDEX(Date_Equip,SMALL(AF$2:AF$130,COUNTIF(AF$2:AF$130,0)+ROW()-1),1),"") | AF7: =(AE$1=Feuil1!$B7)*ROW() -> 0 | AG7: =IFERROR(INDEX(Date_Equip,SMALL(AH$2:AH$130,COUNTIF(AH$2:AH$130,0)+ROW()-1),1),"") | AH7: =(AG$1=Feuil1!$B7)*ROW() -> 0 | AI7: =IFERROR(INDEX(Date_Equip,SMALL(AJ$2:AJ$130,COUNTIF(AJ$2:AJ$130,0)+ROW()-1),1),"") -> 42470.182 | AJ7: =(AI$1=Feuil1!$B7)*ROW() -> 0 | AK7: =IFERROR(INDEX(Date_Equip,SMALL(AL$2:AL$130,COUNTIF(AL$2:AL$130,0)+ROW()-1),1),"") -> 42471.593 | AL7: =(AK$1=Feuil1!$B7)*ROW() -> 0 | AM7: =IFERROR(INDEX(Date_Equip,SMALL(AN$2:AN$130,COUNTIF(AN$2:AN$130,0)+ROW()-1),1),"") -> 42470.808 | AN7: =(AM$1=Feuil1!$B7)*ROW() -> 0 | AO7: =IFERROR(INDEX(Date_Equip,SMALL(AP$2:AP$130,COUNTIF(AP$2:AP$130,0)+ROW()-1),1),"") -> 42473.884 | AP7: =(AO$1=Feuil1!$B7)*ROW() -> 0 | AQ7: =IFERROR(INDEX(Date_Equip,SMALL(AR$2:AR$130,COUNTIF(AR$2:AR$130,0)+ROW()-1),1),"") | AR7: =(AQ$1=Feuil1!$B7)*ROW() -> 0 | AS7: =IFERROR(INDEX(Date_Equip,SMALL(AT$2:AT$130,COUNTIF(AT$2:AT$130,0)+ROW()-1),1),"") | AT7: =(AS$1=Feuil1!$B7)*ROW() -> 0 | AU7: =IFERROR(INDEX(Date_Equip,SMALL(AV$2:AV$130,COUNTIF(AV$2:AV$130,0)+ROW()-1),1),"") | AV7: =(AU$1=Feuil1!$B7)*ROW() -> 0 | AW7: =IFERROR(INDEX(Date_Equip,SMALL(AX$2:AX$130,COUNTIF(AX$2:AX$130,0)+ROW()-1),1),"") | AX7: =(AW$1=Feuil1!$B7)*ROW() -> 0 | AY7: =IFERROR(INDEX(Date_Equip,SMALL(AZ$2:AZ$130,COUNTIF(AZ$2:AZ$130,0)+ROW()-1),1),"") | AZ7: =(AY$1=Feuil1!$B7)*ROW() -> 0 | BA7: =IFERROR(INDEX(Date_Equip,SMALL(BB$2:BB$130,COUNTIF(BB$2:BB$130,0)+ROW()-1),1),"") | BB7: =(BA$1=Feuil1!$B7)*ROW() -> 0 | BC7: =IFERROR(INDEX(Date_Equip,SMALL(BD$2:BD$130,COUNTIF(BD$2:BD$130,0)+ROW()-1),1),"") | BD7: =(BC$1=Feuil1!$B7)*ROW() -> 0 | BE7: =IFERROR(INDEX(Date_Equip,SMALL(BF$2:BF$130,COUNTIF(BF$2:BF$130,0)+ROW()-1),1),"") | BF7: =(BE$1=Feuil1!$B7)*ROW() -> 0
A8: =IFERROR(INDEX(Date_Equip,SMALL(B$2:B$130,COUNTIF(B$2:B$130,0)+ROW()-1),1),"") | B8: =(A$1=Feuil1!$B8)*ROW() -> 0 | C8: =IFERROR(INDEX(Date_Equip,SMALL(D$2:D$130,COUNTIF(D$2:D$130,0)+ROW()-1),1),"") | D8: =(C$1=Feuil1!$B8)*ROW() -> 0 | E8: =IFERROR(INDEX(Date_Equip,SMALL(F$2:F$130,COUNTIF(F$2:F$130,0)+ROW()-1),1),"") | F8: =(E$1=Feuil1!$B8)*ROW() -> 0 | G8: =IFERROR(INDEX(Date_Equip,SMALL(H$2:H$130,COUNTIF(H$2:H$130,0)+ROW()-1),1),"") | H8: =(G$1=Feuil1!$B8)*ROW() -> 0 | I8: =IFERROR(INDEX(Date_Equip,SMALL(J$2:J$130,COUNTIF(J$2:J$130,0)+ROW()-1),1),"") | J8: =(I$1=Feuil1!$B8)*ROW() -> 0 | K8: =IFERROR(INDEX(Date_Equip,SMALL(L$2:L$130,COUNTIF(L$2:L$130,0)+ROW()-1),1),"") -> 42472.647 | L8: =(K$1=Feuil1!$B8)*ROW() -> 0 | M8: =IFERROR(INDEX(Date_Equip,SMALL(N$2:N$130,COUNTIF(N$2:N$130,0)+ROW()-1),1),"") | N8: =(M$1=Feuil1!$B8)*ROW() -> 0 | O8: =IFERROR(INDEX(Date_Equip,SMALL(P$2:P$130,COUNTIF(P$2:P$130,0)+ROW()-1),1),"") | P8: =(O$1=Feuil1!$B8)*ROW() -> 0 | Q8: =IFERROR(INDEX(Date_Equip,SMALL(R$2:R$130,COUNTIF(R$2:R$130,0)+ROW()-1),1),"") -> 42473.714 | R8: =(Q$1=Feuil1!$B8)*ROW() -> 0 | S8: =IFERROR(INDEX(Date_Equip,SMALL(T$2:T$130,COUNTIF(T$2:T$130,0)+ROW()-1),1),"") | T8: =(S$1=Feuil1!$B8)*ROW() -> 0 | U8: =IFERROR(INDEX(Date_Equip,SMALL(V$2:V$130,COUNTIF(V$2:V$130,0)+ROW()-1),1),"") | V8: =(U$1=Feuil1!$B8)*ROW() -> 0 | W8: =IFERROR(INDEX(Date_Equip,SMALL(X$2:X$130,COUNTIF(X$2:X$130,0)+ROW()-1),1),"") | X8: =(W$1=Feuil1!$B8)*ROW() -> 0 | Y8: =IFERROR(INDEX(Date_Equip,SMALL(Z$2:Z$130,COUNTIF(Z$2:Z$130,0)+ROW()-1),1),"") -> 42475.23 | Z8: =(Y$1=Feuil1!$B8)*ROW() -> 8 | AA8: =IFERROR(INDEX(Date_Equip,SMALL(AB$2:AB$130,COUNTIF(AB$2:AB$130,0)+ROW()-1),1),"") | AB8: =(AA$1=Feuil1!$B8)*ROW() -> 0 | AC8: =IFERROR(INDEX(Date_Equip,SMALL(AD$2:AD$130,COUNTIF(AD$2:AD$130,0)+ROW()-1),1),"") -> 42470.673 | AD8: =(AC$1=Feuil1!$B8)*ROW() -> 0 | AE8: =IFERROR(INDEX(Date_Equip,SMALL(AF$2:AF$130,COUNTIF(AF$2:AF$130,0)+ROW()-1),1),"") | AF8: =(AE$1=Feuil1!$B8)*ROW() -> 0 | AG8: =IFERROR(INDEX(Date_Equip,SMALL(AH$2:AH$130,COUNTIF(AH$2:AH$130,0)+ROW()-1),1),"") | AH8: =(AG$1=Feuil1!$B8)*ROW() -> 0 | AI8: =IFERROR(INDEX(Date_Equip,SMALL(AJ$2:AJ$130,COUNTIF(AJ$2:AJ$130,0)+ROW()-1),1),"") | AJ8: =(AI$1=Feuil1!$B8)*ROW() -> 0 | AK8: =IFERROR(INDEX(Date_Equip,SMALL(AL$2:AL$130,COUNTIF(AL$2:AL$130,0)+ROW()-1),1),"") -> 42471.48 | AL8: =(AK$1=Feuil1!$B8)*ROW() -> 0 | AM8: =IFERROR(INDEX(Date_Equip,SMALL(AN$2:AN$130,COUNTIF(AN$2:AN$130,0)+ROW()-1),1),"") | AN8: =(AM$1=Feuil1!$B8)*ROW() -> 0 | AO8: =IFERROR(INDEX(Date_Equip,SMALL(AP$2:AP$130,COUNTIF(AP$2:AP$130,0)+ROW()-1),1),"") -> 42473.847 | AP8: =(AO$1=Feuil1!$B8)*ROW() -> 0 | AQ8: =IFERROR(INDEX(Date_Equip,SMALL(AR$2:AR$130,COUNTIF(AR$2:AR$130,0)+ROW()-1),1),"") | AR8: =(AQ$1=Feuil1!$B8)*ROW() -> 0 | AS8: =IFERROR(INDEX(Date_Equip,SMALL(AT$2:AT$130,COUNTIF(AT$2:AT$130,0)+ROW()-1),1),"") | AT8: =(AS$1=Feuil1!$B8)*ROW() -> 0 | AU8: =IFERROR(INDEX(Date_Equip,SMALL(AV$2:AV$130,COUNTIF(AV$2:AV$130,0)+ROW()-1),1),"") | AV8: =(AU$1=Feuil1!$B8)*ROW() -> 0 | AW8: =IFERROR(INDEX(Date_Equip,SMALL(AX$2:AX$130,COUNTIF(AX$2:AX$130,0)+ROW()-1),1),"") | AX8: =(AW$1=Feuil1!$B8)*ROW() -> 0 | AY8: =IFERROR(INDEX(Date_Equip,SMALL(AZ$2:AZ$130,COUNTIF(AZ$2:AZ$130,0)+ROW()-1),1),"") | AZ8: =(AY$1=Feuil1!$B8)*ROW() -> 0 | BA8: =IFERROR(INDEX(Date_Equip,SMALL(BB$2:BB$130,COUNTIF(BB$2:BB$130,0)+ROW()-1),1),"") | BB8: =(BA$1=Feuil1!$B8)*ROW() -> 0 | BC8: =IFERROR(INDEX(Date_Equip,SMALL(BD$2:BD$130,COUNTIF(BD$2:BD$130,0)+ROW()-1),1),"") | BD8: =(BC$1=Feuil1!$B8)*ROW() -> 0 | BE8: =IFERROR(INDEX(Date_Equip,SMALL(BF$2:BF$130,COUNTIF(BF$2:BF$130,0)+ROW()-1),1),"") | BF8: =(BE$1=Feuil1!$B8)*ROW() -> 0
A9: =IFERROR(INDEX(Date_Equip,SMALL(B$2:B$130,COUNTIF(B$2:B$130,0)+ROW()-1),1),"") | B9: =(A$1=Feuil1!$B9)*ROW() -> 0 | C9: =IFERROR(INDEX(Date_Equip,SMALL(D$2:D$130,COUNTIF(D$2:D$130,0)+ROW()-1),1),"") | D9: =(C$1=Feuil1!$B9)*ROW() -> 0 | E9: =IFERROR(INDEX(Date_Equip,SMALL(F$2:F$130,COUNTIF(F$2:F$130,0)+ROW()-1),1),"") | F9: =(E$1=Feuil1!$B9)*ROW() -> 0 | G9: =IFERROR(INDEX(Date_Equip,SMALL(H$2:H$130,COUNTIF(H$2:H$130,0)+ROW()-1),1),"") | H9: =(G$1=Feuil1!$B9)*ROW() -> 0 | I9: =IFERROR(INDEX(Date_Equip,SMALL(J$2:J$130,COUNTIF(J$2:J$130,0)+ROW()-1),1),"") | J9: =(I$1=Feuil1!$B9)*ROW() -> 0 | K9: =IFERROR(INDEX(Date_Equip,SMALL(L$2:L$130,COUNTIF(L$2:L$130,0)+ROW()-1),1),"") -> 42472.568 | L9: =(K$1=Feuil1!$B9)*ROW() -> 0 | M9: =IFERROR(INDEX(Date_Equip,SMALL(N$2:N$130,COUNTIF(N$2:N$130,0)+ROW()-1),1),"") | N9: =(M$1=Feuil1!$B9)*ROW() -> 0 | O9: =IFERROR(INDEX(Date_Equip,SMALL(P$2:P$130,COUNTIF(P$2:P$130,0)+ROW()-1),1),"") | P9: =(O$1=Feuil1!$B9)*ROW() -> 0 | Q9: =IFERROR(INDEX(Date_Equip,SMALL(R$2:R$130,COUNTIF(R$2:R$130,0)+ROW()-1),1),"") -> 42473.692 | R9: =(Q$1=Feuil1!$B9)*ROW() -> 9 | S9: =IFERROR(INDEX(Date_Equip,SMALL(T$2:T$130,COUNTIF(T$2:T$130,0)+ROW()-1),1),"") | T9: =(S$1=Feuil1!$B9)*ROW() -> 0 | U9: =IFERROR(INDEX(Date_Equip,SMALL(V$2:V$130,COUNTIF(V$2:V$130,0)+ROW()-1),1),"") | V9: =(U$1=Feuil1!$B9)*ROW() -> 0 | W9: =IFERROR(INDEX(Date_Equip,SMALL(X$2:X$130,COUNTIF(X$2:X$130,0)+ROW()-1),1),"") | X9: =(W$1=Feuil1!$B9)*ROW() -> 0 | Y9: =IFERROR(INDEX(Date_Equip,SMALL(Z$2:Z$130,COUNTIF(Z$2:Z$130,0)+ROW()-1),1),"") -> 42475.14 | Z9: =(Y$1=Feuil1!$B9)*ROW() -> 0 | AA9: =IFERROR(INDEX(Date_Equip,SMALL(AB$2:AB$130,COUNTIF(AB$2:AB$130,0)+ROW()-1),1),"") | AB9: =(AA$1=Feuil1!$B9)*ROW() -> 0 | AC9: =IFERROR(INDEX(Date_Equip,SMALL(AD$2:AD$130,COUNTIF(AD$2:AD$130,0)+ROW()-1),1),"") -> 42470.651 | AD9: =(AC$1=Feuil1!$B9)*ROW() -> 0 | AE9: =IFERROR(INDEX(Date_Equip,SMALL(AF$2:AF$130,COUNTIF(AF$2:AF$130,0)+ROW()-1),1),"") | AF9: =(AE$1=Feuil1!$B9)*ROW() -> 0 | AG9: =IFERROR(INDEX(Date_Equip,SMALL(AH$2:AH$130,COUNTIF(AH$2:AH$130,0)+ROW()-1),1),"") | AH9: =(AG$1=Feuil1!$B9)*ROW() -> 0 | AI9: =IFERROR(INDEX(Date_Equip,SMALL(AJ$2:AJ$130,COUNTIF(AJ$2:AJ$130,0)+ROW()-1),1),"") | AJ9: =(AI$1=Feuil1!$B9)*ROW() -> 0 | AK9: =IFERROR(INDEX(Date_Equip,SMALL(AL$2:AL$130,COUNTIF(AL$2:AL$130,0)+ROW()-1),1),"") -> 42471.364 | AL9: =(AK$1=Feuil1!$B9)*ROW() -> 0 | AM9: =IFERROR(INDEX(Date_Equip,SMALL(AN$2:AN$130,COUNTIF(AN$2:AN$130,0)+ROW()-1),1),"") | AN9: =(AM$1=Feuil1!$B9)*ROW() -> 0 | AO9: =IFERROR(INDEX(Date_Equip,SMALL(AP$2:AP$130,COUNTIF(AP$2:AP$130,0)+ROW()-1),1),"") -> 42473.797 | AP9: =(AO$1=Feuil1!$B9)*ROW() -> 0 | AQ9: =IFERROR(INDEX(Date_Equip,SMALL(AR$2:AR$130,COUNTIF(AR$2:AR$130,0)+ROW()-1),1),"") | AR9: =(AQ$1=Feuil1!$B9)*ROW() -> 0 | AS9: =IFERROR(INDEX(Date_Equip,SMALL(AT$2:AT$130,COUNTIF(AT$2:AT$130,0)+ROW()-1),1),"") | AT9: =(AS$1=Feuil1!$B9)*ROW() -> 0 | AU9: =IFERROR(INDEX(Date_Equip,SMALL(AV$2:AV$130,COUNTIF(AV$2:AV$130,0)+ROW()-1),1),"") | AV9: =(AU$1=Feuil1!$B9)*ROW() -> 0 | AW9: =IFERROR(INDEX(Date_Equip,SMALL(AX$2:AX$130,COUNTIF(AX$2:AX$130,0)+ROW()-1),1),"") | AX9: =(AW$1=Feuil1!$B9)*ROW() -> 0 | AY9: =IFERROR(INDEX(Date_Equip,SMALL(AZ$2:AZ$130,COUNTIF(AZ$2:AZ$130,0)+ROW()-1),1),"") | AZ9: =(AY$1=Feuil1!$B9)*ROW() -> 0 | BA9: =IFERROR(INDEX(Date_Equip,SMALL(BB$2:BB$130,COUNTIF(BB$2:BB$130,0)+ROW()-1),1),"") | BB9: =(BA$1=Feuil1!$B9)*ROW() -> 0 | BC9: =IFERROR(INDEX(Date_Equip,SMALL(BD$2:BD$130,COUNTIF(BD$2:BD$130,0)+ROW()-1),1),"") | BD9: =(BC$1=Feuil1!$B9)*ROW() -> 0 | BE9: =IFERROR(INDEX(Date_Equip,SMALL(BF$2:BF$130,COUNTIF(BF$2:BF$130,0)+ROW()-1),1),"") | BF9: =(BE$1=Feuil1!$B9)*ROW() -> 0
A10: =IFERROR(INDEX(Date_Equip,SMALL(B$2:B$130,COUNTIF(B$2:B$130,0)+ROW()-1),1),"") | B10: =(A$1=Feuil1!$B10)*ROW() -> 0 | C10: =IFERROR(INDEX(Date_Equip,SMALL(D$2:D$130,COUNTIF(D$2:D$130,0)+ROW()-1),1),"") | D10: =(C$1=Feuil1!$B10)*ROW() -> 0 | E10: =IFERROR(INDEX(Date_Equip,SMALL(F$2:F$130,COUNTIF(F$2:F$130,0)+ROW()-1),1),"") | F10: =(E$1=Feuil1!$B10)*ROW() -> 0 | G10: =IFERROR(INDEX(Date_Equip,SMALL(H$2:H$130,COUNTIF(H$2:H$130,0)+ROW()-1),1),"") | H10: =(G$1=Feuil1!$B10)*ROW() -> 0 | I10: =IFERROR(INDEX(Date_Equip,SMALL(J$2:J$130,COUNTIF(J$2:J$130,0)+ROW()-1),1),"") | J10: =(I$1=Feuil1!$B10)*ROW() -> 0 | K10: =IFERROR(INDEX(Date_Equip,SMALL(L$2:L$130,COUNTIF(L$2:L$130,0)+ROW()-1),1),"") -> 42470.004 | L10: =(K$1=Feuil1!$B10)*ROW() -> 0 | M10: =IFERROR(INDEX(Date_Equip,SMALL(N$2:N$130,COUNTIF(N$2:N$130,0)+ROW()-1),1),"") | N10: =(M$1=Feuil1!$B10)*ROW() -> 0 | O10: =IFERROR(INDEX(Date_Equip,SMALL(P$2:P$130,COUNTIF(P$2:P$130,0)+ROW()-1),1),"") | P10: =(O$1=Feuil1!$B10)*ROW() -> 0 | Q10: =IFERROR(INDEX(Date_Equip,SMALL(R$2:R$130,COUNTIF(R$2:R$130,0)+ROW()-1),1),"") -> 42473.623 | R10: =(Q$1=Feuil1!$B10)*ROW() -> 10 | S10: =IFERROR(INDEX(Date_Equip,SMALL(T$2:T$130,COUNTIF(T$2:T$130,0)+ROW()-1),1),"") | T10: =(S$1=Feuil1!$B10)*ROW() -> 0 | U10: =IFERROR(INDEX(Date_Equip,SMALL(V$2:V$130,COUNTIF(V$2:V$130,0)+ROW()-1),1),"") | V10: =(U$1=Feuil1!$B10)*ROW() -> 0 | W10: =IFERROR(INDEX(Date_Equip,SMALL(X$2:X$130,COUNTIF(X$2:X$130,0)+ROW()-1),1),"") | X10: =(W$1=Feuil1!$B10)*ROW() -> 0 | Y10: =IFERROR(INDEX(Date_Equip,SMALL(Z$2:Z$130,COUNTIF(Z$2:Z$130,0)+ROW()-1),1),"") -> 42474.872 | Z10: =(Y$1=Feuil1!$B10)*ROW() -> 0 | AA10: =IFERROR(INDEX(Date_Equip,SMALL(AB$2:AB$130,COUNTIF(AB$2:AB$130,0)+ROW()-1),1),"") | AB10: =(AA$1=Feuil1!$B10)*ROW() -> 0 | AC10: =IFERROR(INDEX(Date_Equip,SMALL(AD$2:AD$130,COUNTIF(AD$2:AD$130,0)+ROW()-1),1),"") -> 42470.396 | AD10: =(AC$1=Feuil1!$B10)*ROW() -> 0 | AE10: =IFERROR(INDEX(Date_Equip,SMALL(AF$2:AF$130,COUNTIF(AF$2:AF$130,0)+ROW()-1),1),"") | AF10: =(AE$1=Feuil1!$B10)*ROW() -> 0 | AG10: =IFERROR(INDEX(Date_Equip,SMALL(AH$2:AH$130,COUNTIF(AH$2:AH$130,0)+ROW()-1),1),"") | AH10: =(AG$1=Feuil1!$B10)*ROW() -> 0 | AI10: =IFERROR(INDEX(Date_Equip,SMALL(AJ$2:AJ$130,COUNTIF(AJ$2:AJ$130,0)+ROW()-1),1),"") | AJ10: =(AI$1=Feuil1!$B10)*ROW() -> 0 | AK10: =IFERROR(INDEX(Date_Equip,SMALL(AL$2:AL$130,COUNTIF(AL$2:AL$130,0)+ROW()-1),1),"") -> 42471.356 | AL10: =(AK$1=Feuil1!$B10)*ROW() -> 0 | AM10: =IFERROR(INDEX(Date_Equip,SMALL(AN$2:AN$130,COUNTIF(AN$2:AN$130,0)+ROW()-1),1),"") | AN10: =(AM$1=Feuil1!$B10)*ROW() -> 0 | AO10: =IFERROR(INDEX(Date_Equip,SMALL(AP$2:AP$130,COUNTIF(AP$2:AP$130,0)+ROW()-1),1),"") -> 42473.318 | AP10: =(AO$1=Feuil1!$B10)*ROW() -> 0 | AQ10: =IFERROR(INDEX(Date_Equip,SMALL(AR$2:AR$130,COUNTIF(AR$2:AR$130,0)+ROW()-1),1),"") | AR10: =(AQ$1=Feuil1!$B10)*ROW() -> 0 | AS10: =IFERROR(INDEX(Date_Equip,SMALL(AT$2:AT$130,COUNTIF(AT$2:AT$130,0)+ROW()-1),1),"") | AT10: =(AS$1=Feuil1!$B10)*ROW() -> 0 | AU10: =IFERROR(INDEX(Date_Equip,SMALL(AV$2:AV$130,COUNTIF(AV$2:AV$130,0)+ROW()-1),1),"") | AV10: =(AU$1=Feuil1!$B10)*ROW() -> 0 | AW10: =IFERROR(INDEX(Date_Equip,SMALL(AX$2:AX$130,COUNTIF(AX$2:AX$130,0)+ROW()-1),1),"") | AX10: =(AW$1=Feuil1!$B10)*ROW() -> 0 | AY10: =IFERROR(INDEX(Date_Equip,SMALL(AZ$2:AZ$130,COUNTIF(AZ$2:AZ$130,0)+ROW()-1),1),"") | AZ10: =(AY$1=Feuil1!$B10)*ROW() -> 0 | BA10: =IFERROR(INDEX(Date_Equip,SMALL(BB$2:BB$130,COUNTIF(BB$2:BB$130,0)+ROW()-1),1),"") | BB10: =(BA$1=Feuil1!$B10)*ROW() -> 0 | BC10: =IFERROR(INDEX(Date_Equip,SMALL(BD$2:BD$130,COUNTIF(BD$2:BD$130,0)+ROW()-1),1),"") | BD10: =(BC$1=Feuil1!$B10)*ROW() -> 0 | BE10: =IFERROR(INDEX(Date_Equip,SMALL(BF$2:BF$130,COUNTIF(BF$2:BF$130,0)+ROW()-1),1),"") | BF10: =(BE$1=Feuil1!$B10)*ROW() -> 0
A11: =IFERROR(INDEX(Date_Equip,SMALL(B$2:B$130,COUNTIF(B$2:B$130,0)+ROW()-1),1),"") | B11: =(A$1=Feuil1!$B11)*ROW() -> 0 | C11: =IFERROR(INDEX(Date_Equip,SMALL(D$2:D$130,COUNTIF(D$2:D$130,0)+ROW()-1),1),"") | D11: =(C$1=Feuil1!$B11)*ROW() -> 0 | E11: =IFERROR(INDEX(Date_Equip,SMALL(F$2:F$130,COUNTIF(F$2:F$130,0)+ROW()-1),1),"") | F11: =(E$1=Feuil1!$B11)*ROW() -> 0 | G11: =IFERROR(INDEX(Date_Equip,SMALL(H$2:H$130,COUNTIF(H$2:H$130,0)+ROW()-1),1),"") | H11: =(G$1=Feuil1!$B11)*ROW() -> 0 | I11: =IFERROR(INDEX(Date_Equip,SMALL(J$2:J$130,COUNTIF(J$2:J$130,0)+ROW()-1),1),"") | J11: =(I$1=Feuil1!$B11)*ROW() -> 0 | K11: =IFERROR(INDEX(Date_Equip,SMALL(L$2:L$130,COUNTIF(L$2:L$130,0)+ROW()-1),1),"") | L11: =(K$1=Feuil1!$B11)*ROW() -> 0 | M11: =IFERROR(INDEX(Date_Equip,SMALL(N$2:N$130,COUNTIF(N$2:N$130,0)+ROW()-1),1),"") | N11: =(M$1=Feuil1!$B11)*ROW() -> 0 | O11: =IFERROR(INDEX(Date_Equip,SMALL(P$2:P$130,COUNTIF(P$2:P$130,0)+ROW()-1),1),"") | P11: =(O$1=Feuil1!$B11)*ROW() -> 0 | Q11: =IFERROR(INDEX(Date_Equip,SMALL(R$2:R$130,COUNTIF(R$2:R$130,0)+ROW()-1),1),"") -> 42472.172 | R11: =(Q$1=Feuil1!$B11)*ROW() -> 0 | S11: =IFERROR(INDEX(Date_Equip,SMALL(T$2:T$130,COUNTIF(T$2:T$130,0)+ROW()-1),1),"") | T11: =(S$1=Feuil1!$B11)*ROW() -> 0 | U11: =IFERROR(INDEX(Date_Equip,SMALL(V$2:V$130,COUNTIF(V$2:V$130,0)+ROW()-1),1),"") | V11: =(U$1=Feuil1!$B11)*ROW() -> 0 | W11: =IFERROR(INDEX(Date_Equip,SMALL(X$2:X$130,COUNTIF(X$2:X$130,0)+ROW()-1),1),"") | X11: =(W$1=Feuil1!$B11)*ROW() -> 0 | Y11: =IFERROR(INDEX(Date_Equip,SMALL(Z$2:Z$130,COUNTIF(Z$2:Z$130,0)+ROW()-1),1),"") -> 42473.708 | Z11: =(Y$1=Feuil1!$B11)*ROW() -> 11 | AA11: =IFERROR(INDEX(Date_Equip,SMALL(AB$2:AB$130,COUNTIF(AB$2:AB$130,0)+ROW()-1),1),"") | AB11: =(AA$1=Feuil1!$B11)*ROW() -> 0 | AC11: =IFERROR(INDEX(Date_Equip,SMALL(AD$2:AD$130,COUNTIF(AD$2:AD$130,0)+ROW()-1),1),"") | AD11: =(AC$1=Feuil1!$B11)*ROW() -> 0 | AE11: =IFERROR(INDEX(Date_Equip,SMALL(AF$2:AF$130,COUNTIF(AF$2:AF$130,0)+ROW()-1),1),"") | AF11: =(AE$1=Feuil1!$B11)*ROW() -> 0 | AG11: =IFERROR(INDEX(Date_Equip,SMALL(AH$2:AH$130,COUNTIF(AH$2:AH$130,0)+ROW()-1),1),"") | AH11: =(AG$1=Feuil1!$B11)*ROW() -> 0 | AI11: =IFERROR(INDEX(Date_Equip,SMALL(AJ$2:AJ$130,COUNTIF(AJ$2:AJ$130,0)+ROW()-1),1),"") | AJ11: =(AI$1=Feuil1!$B11)*ROW() -> 0 | AK11: =IFERROR(INDEX(Date_Equip,SMALL(AL$2:AL$130,COUNTIF(AL$2:AL$130,0)+ROW()-1),1),"") -> 42471.274 | AL11: =(AK$1=Feuil1!$B11)*ROW() -> 0 | AM11: =IFERROR(INDEX(Date_Equip,SMALL(AN$2:AN$130,COUNTIF(AN$2:AN$130,0)+ROW()-1),1),"") | AN11: =(AM$1=Feuil1!$B11)*ROW() -> 0 | AO11: =IFERROR(INDEX(Date_Equip,SMALL(AP$2:AP$130,COUNTIF(AP$2:AP$130,0)+ROW()-1),1),"") -> 42472.322 | AP11: =(AO$1=Feuil1!$B11)*ROW() -> 0 | AQ11: =IFERROR(INDEX(Date_Equip,SMALL(AR$2:AR$130,COUNTIF(AR$2:AR$130,0)+ROW()-1),1),"") | AR11: =(AQ$1=Feuil1!$B11)*ROW() -> 0 | AS11: =IFERROR(INDEX(Date_Equip,SMALL(AT$2:AT$130,COUNTIF(AT$2:AT$130,0)+ROW()-1),1),"") | AT11: =(AS$1=Feuil1!$B11)*ROW() -> 0 | AU11: =IFERROR(INDEX(Date_Equip,SMALL(AV$2:AV$130,COUNTIF(AV$2:AV$130,0)+ROW()-1),1),"") | AV11: =(AU$1=Feuil1!$B11)*ROW() -> 0 | AW11: =IFERROR(INDEX(Date_Equip,SMALL(AX$2:AX$130,COUNTIF(AX$2:AX$130,0)+ROW()-1),1),"") | AX11: =(AW$1=Feuil1!$B11)*ROW() -> 0 | AY11: =IFERROR(INDEX(Date_Equip,SMALL(AZ$2:AZ$130,COUNTIF(AZ$2:AZ$130,0)+ROW()-1),1),"") | AZ11: =(AY$1=Feuil1!$B11)*ROW() -> 0 | BA11: =IFERROR(INDEX(Date_Equip,SMALL(BB$2:BB$130,COUNTIF(BB$2:BB$130,0)+ROW()-1),1),"") | BB11: =(BA$1=Feuil1!$B11)*ROW() -> 0 | BC11: =IFERROR(INDEX(Date_Equip,SMALL(BD$2:BD$130,COUNTIF(BD$2:BD$130,0)+ROW()-1),1),"") | BD11: =(BC$1=Feuil1!$B11)*ROW() -> 0 | BE11: =IFERROR(INDEX(Date_Equip,SMALL(BF$2:BF$130,COUNTIF(BF$2:BF$130,0)+ROW()-1),1),"") | BF11: =(BE$1=Feuil1!$B11)*ROW() -> 0
A12: =IFERROR(INDEX(Date_Equip,SMALL(B$2:B$130,COUNTIF(B$2:B$130,0)+ROW()-1),1),"") | B12: =(A$1=Feuil1!$B12)*ROW() -> 0 | C12: =IFERROR(INDEX(Date_Equip,SMALL(D$2:D$130,COUNTIF(D$2:D$130,0)+ROW()-1),1),"") | D12: =(C$1=Feuil1!$B12)*ROW() -> 0 | E12: =IFERROR(INDEX(Date_Equip,SMALL(F$2:F$130,COUNTIF(F$2:F$130,0)+ROW()-1),1),"") | F12: =(E$1=Feuil1!$B12)*ROW() -> 0 | G12: =IFERROR(INDEX(Date_Equip,SMALL(H$2:H$130,COUNTIF(H$2:H$130,0)+ROW()-1),1),"") | H12: =(G$1=Feuil1!$B12)*ROW() -> 0 | I12: =IFERROR(INDEX(Date_Equip,SMALL(J$2:J$130,COUNTIF(J$2:J$130,0)+ROW()-1),1),"") | J12: =(I$1=Feuil1!$B12)*ROW() -> 0 | K12: =IFERROR(INDEX(Date_Equip,SMALL(L$2:L$130,COUNTIF(L$2:L$130,0)+ROW()-1),1),"") | L12: =(K$1=Feuil1!$B12)*ROW() -> 0 | M12: =IFERROR(INDEX(Date_Equip,SMALL(N$2:N$130,COUNTIF(N$2:N$130,0)+ROW()-1),1),"") | N12: =(M$1=Feuil1!$B12)*ROW() -> 0 | O12: =IFERROR(INDEX(Date_Equip,SMALL(P$2:P$130,COUNTIF(P$2:P$130,0)+ROW()-1),1),"") | P12: =(O$1=Feuil1!$B12)*ROW() -> 12 | Q12: =IFERROR(INDEX(Date_Equip,SMALL(R$2:R$130,COUNTIF(R$2:R$130,0)+ROW()-1),1),"") -> 42471.864 | R12: =(Q$1=Feuil1!$B12)*ROW() -> 0 | S12: =IFERROR(INDEX(Date_Equip,SMALL(T$2:T$130,COUNTIF(T$2:T$130,0)+ROW()-1),1),"") | T12: =(S$1=Feuil1!$B12)*ROW() -> 0 | U12: =IFERROR(INDEX(Date_Equip,SMALL(V$2:V$130,COUNTIF(V$2:V$130,0)+ROW()-1),1),"") | V12: =(U$1=Feuil1!$B12)*ROW() -> 0 | W12: =IFERROR(INDEX(Date_Equip,SMALL(X$2:X$130,COUNTIF(X$2:X$130,0)+ROW()-1),1),"") | X12: =(W$1=Feuil1!$B12)*ROW() -> 0 | Y12: =IFERROR(INDEX(Date_Equip,SMALL(Z$2:Z$130,COUNTIF(Z$2:Z$130,0)+ROW()-1),1),"") -> 42472.99 | Z12: =(Y$1=Feuil1!$B12)*ROW() -> 0 | AA12: =IFERROR(INDEX(Date_Equip,SMALL(AB$2:AB$130,COUNTIF(AB$2:AB$130,0)+ROW()-1),1),"") | AB12: =(AA$1=Feuil1!$B12)*ROW() -> 0 | AC12: =IFERROR(INDEX(Date_Equip,SMALL(AD$2:AD$130,COUNTIF(AD$2:AD$130,0)+ROW()-1),1),"") | AD12: =(AC$1=Feuil1!$B12)*ROW() -> 0 | AE12: =IFERROR(INDEX(Date_Equip,SMALL(AF$2:AF$130,COUNTIF(AF$2:AF$130,0)+ROW()-1),1),"") | AF12: =(AE$1=Feuil1!$B12)*ROW() -> 0 | AG12: =IFERROR(INDEX(Date_Equip,SMALL(AH$2:AH$130,COUNTIF(AH$2:AH$130,0)+ROW()-1),1),"") | AH12: =(AG$1=Feuil1!$B12)*ROW() -> 0 | AI12: =IFERROR(INDEX(Date_Equip,SMALL(AJ$2:AJ$130,COUNTIF(AJ$2:AJ$130,0)+ROW()-1),1),"") | AJ12: =(AI$1=Feuil1!$B12)*ROW() -> 0 | AK12: =IFERROR(INDEX(Date_Equip,SMALL(AL$2:AL$130,COUNTIF(AL$2:AL$130,0)+ROW()-1),1),"") -> 42470.931 | AL12: =(AK$1=Feuil1!$B12)*ROW() -> 0 | AM12: =IFERROR(INDEX(Date_Equip,SMALL(AN$2:AN$130,COUNTIF(AN$2:AN$130,0)+ROW()-1),1),"") | AN12: =(AM$1=Feuil1!$B12)*ROW() -> 0 | AO12: =IFERROR(INDEX(Date_Equip,SMALL(AP$2:AP$130,COUNTIF(AP$2:AP$130,0)+ROW()-1),1),"") -> 42472.313 | AP12: =(AO$1=Feuil1!$B12)*ROW() -> 0 | AQ12: =IFERROR(INDEX(Date_Equip,SMALL(AR$2:AR$130,COUNTIF(AR$2:AR$130,0)+ROW()-1),1),"") | AR12: =(AQ$1=Feuil1!$B12)*ROW() -> 0 | AS12: =IFERROR(INDEX(Date_Equip,SMALL(AT$2:AT$130,COUNTIF(AT$2:AT$130,0)+ROW()-1),1),"") | AT12: =(AS$1=Feuil1!$B12)*ROW() -> 0 | AU12: =IFERROR(INDEX(Date_Equip,SMALL(AV$2:AV$130,COUNTIF(AV$2:AV$130,0)+ROW()-1),1),"") | AV12: =(AU$1=Feuil1!$B12)*ROW() -> 0 | AW12: =IFERROR(INDEX(Date_Equip,SMALL(AX$2:AX$130,COUNTIF(AX$2:AX$130,0)+ROW()-1),1),"") | AX12: =(AW$1=Feuil1!$B12)*ROW() -> 0 | AY12: =IFERROR(INDEX(Date_Equip,SMALL(AZ$2:AZ$130,COUNTIF(AZ$2:AZ$130,0)+ROW()-1),1),"") | AZ12: =(AY$1=Feuil1!$B12)*ROW() -> 0 | BA12: =IFERROR(INDEX(Date_Equip,SMALL(BB$2:BB$130,COUNTIF(BB$2:BB$130,0)+ROW()-1),1),"") | BB12: =(BA$1=Feuil1!$B12)*ROW() -> 0 | BC12: =IFERROR(INDEX(Date_Equip,SMALL(BD$2:BD$130,COUNTIF(BD$2:BD$130,0)+ROW()-1),1),"") | BD12: =(BC$1=Feuil1!$B12)*ROW() -> 0 | BE12: =IFERROR(INDEX(Date_Equip,SMALL(BF$2:BF$130,COUNTIF(BF$2:BF$130,0)+ROW()-1),1),"") | BF12: =(BE$1=Feuil1!$B12)*ROW() -> 0
A13: =IFERROR(INDEX(Date_Equip,SMALL(B$2:B$130,COUNTIF(B$2:B$130,0)+ROW()-1),1),"") | B13: =(A$1=Feuil1!$B13)*ROW() -> 0 | C13: =IFERROR(INDEX(Date_Equip,SMALL(D$2:D$130,COUNTIF(D$2:D$130,0)+ROW()-1),1),"") | D13: =(C$1=Feuil1!$B13)*ROW() -> 0 | E13: =IFERROR(INDEX(Date_Equip,SMALL(F$2:F$130,COUNTIF(F$2:F$130,0)+ROW()-1),1),"") | F13: =(E$1=Feuil1!$B13)*ROW() -> 0 | G13: =IFERROR(INDEX(Date_Equip,SMALL(H$2:H$130,COUNTIF(H$2:H$130,0)+ROW()-1),1),"") | H13: =(G$1=Feuil1!$B13)*ROW() -> 0 | I13: =IFERROR(INDEX(Date_Equip,SMALL(J$2:J$130,COUNTIF(J$2:J$130,0)+ROW()-1),1),"") | J13: =(I$1=Feuil1!$B13)*ROW() -> 0 | K13: =IFERROR(INDEX(Date_Equip,SMALL(L$2:L$130,COUNTIF(L$2:L$130,0)+ROW()-1),1),"") | L13: =(K$1=Feuil1!$B13)*ROW() -> 0 | M13: =IFERROR(INDEX(Date_Equip,SMALL(N$2:N$130,COUNTIF(N$2:N$130,0)+ROW()-1),1),"") | N13: =(M$1=Feuil1!$B13)*ROW() -> 0 | O13: =IFERROR(INDEX(Date_Equip,SMALL(P$2:P$130,COUNTIF(P$2:P$130,0)+ROW()-1),1),"") | P13: =(O$1=Feuil1!$B13)*ROW() -> 0 | Q13: =IFERROR(INDEX(Date_Equip,SMALL(R$2:R$130,COUNTIF(R$2:R$130,0)+ROW()-1),1),"") -> 42471.376 | R13: =(Q$1=Feuil1!$B13)*ROW() -> 0 | S13: =IFERROR(INDEX(Date_Equip,SMALL(T$2:T$130,COUNTIF(T$2:T$130,0)+ROW()-1),1),"") | T13: =(S$1=Feuil1!$B13)*ROW() -> 0 | U13: =IFERROR(INDEX(Date_Equip,SMALL(V$2:V$130,COUNTIF(V$2:V$130,0)+ROW()-1),1),"") | V13: =(U$1=Feuil1!$B13)*ROW() -> 0 | W13: =IFERROR(INDEX(Date_Equip,SMALL(X$2:X$130,COUNTIF(X$2:X$130,0)+ROW()-1),1),"") | X13: =(W$1=Feuil1!$B13)*ROW() -> 0 | Y13: =IFERROR(INDEX(Date_Equip,SMALL(Z$2:Z$130,COUNTIF(Z$2:Z$130,0)+ROW()-1),1),"") -> 42471.684 | Z13: =(Y$1=Feuil1!$B13)*ROW() -> 0 | AA13: =IFERROR(INDEX(Date_Equip,SMALL(AB$2:AB$130,COUNTIF(AB$2:AB$130,0)+ROW()-1),1),"") | AB13: =(AA$1=Feuil1!$B13)*ROW() -> 13 | AC13: =IFERROR(INDEX(Date_Equip,SMALL(AD$2:AD$130,COUNTIF(AD$2:AD$130,0)+ROW()-1),1),"") | AD13: =(AC$1=Feuil1!$B13)*ROW() -> 0 | AE13: =IFERROR(INDEX(Date_Equip,SMALL(AF$2:AF$130,COUNTIF(AF$2:AF$130,0)+ROW()-1),1),"") | AF13: =(AE$1=Feuil1!$B13)*ROW() -> 0 | AG13: =IFERROR(INDEX(Date_Equip,SMALL(AH$2:AH$130,COUNTIF(AH$2:AH$130,0)+ROW()-1),1),"") | AH13: =(AG$1=Feuil1!$B13)*ROW() -> 0 | AI13: =IFERROR(INDEX(Date_Equip,SMALL(AJ$2:AJ$130,COUNTIF(AJ$2:AJ$130,0)+ROW()-1),1),"") | AJ13: =(AI$1=Feuil1!$B13)*ROW() -> 0 | AK13: =IFERROR(INDEX(Date_Equip,SMALL(AL$2:AL$130,COUNTIF(AL$2:AL$130,0)+ROW()-1),1),"") -> 42470.476 | AL13: =(AK$1=Feuil1!$B13)*ROW() -> 0 | AM13: =IFERROR(INDEX(Date_Equip,SMALL(AN$2:AN$130,COUNTIF(AN$2:AN$130,0)+ROW()-1),1),"") | AN13: =(AM$1=Feuil1!$B13)*ROW() -> 0 | AO13: =IFERROR(INDEX(Date_Equip,SMALL(AP$2:AP$130,COUNTIF(AP$2:AP$130,0)+ROW()-1),1),"") -> 42470.73 | AP13: =(AO$1=Feuil1!$B13)*ROW() -> 0 | AQ13: =IFERROR(INDEX(Date_Equip,SMALL(AR$2:AR$130,COUNTIF(AR$2:AR$130,0)+ROW()-1),1),"") | AR13: =(AQ$1=Feuil1!$B13)*ROW() -> 0 | AS13: =IFERROR(INDEX(Date_Equip,SMALL(AT$2:AT$130,COUNTIF(AT$2:AT$130,0)+ROW()-1),1),"") | AT13: =(AS$1=Feuil1!$B13)*ROW() -> 0 | AU13: =IFERROR(INDEX(Date_Equip,SMALL(AV$2:AV$130,COUNTIF(AV$2:AV$130,0)+ROW()-1),1),"") | AV13: =(AU$1=Feuil1!$B13)*ROW() -> 0 | AW13: =IFERROR(INDEX(Date_Equip,SMALL(AX$2:AX$130,COUNTIF(AX$2:AX$130,0)+ROW()-1),1),"") | AX13: =(AW$1=Feuil1!$B13)*ROW() -> 0 | AY13: =IFERROR(INDEX(Date_Equip,SMALL(AZ$2:AZ$130,COUNTIF(AZ$2:AZ$130,0)+ROW()-1),1),"") | AZ13: =(AY$1=Feuil1!$B13)*ROW() -> 0 | BA13: =IFERROR(INDEX(Date_Equip,SMALL(BB$2:BB$130,COUNTIF(BB$2:BB$130,0)+ROW()-1),1),"") | BB13: =(BA$1=Feuil1!$B13)*ROW() -> 0 | BC13: =IFERROR(INDEX(Date_Equip,SMALL(BD$2:BD$130,COUNTIF(BD$2:BD$130,0)+ROW()-1),1),"") | BD13: =(BC$1=Feuil1!$B13)*ROW() -> 0 | BE13: =IFERROR(INDEX(Date_Equip,SMALL(BF$2:BF$130,COUNTIF(BF$2:BF$130,0)+ROW()-1),1),"") | BF13: =(BE$1=Feuil1!$B13)*ROW() -> 0
... A30: =IFERROR(INDEX(Date_Equip,SMALL(B$2:B$130,COUNTIF(B$2:B$130,0)+ROW()-1),1),"") | B30: =(A$1=Feuil1!$B30)*ROW() -> 0 | C30: =IFERROR(INDEX(Date_Equip,SMALL(D$2:D$130,COUNTIF(D$2:D$130,0)+ROW()-1),1),"") | D30: =(C$1=Feuil1!$B30)*ROW() -> 0 | E30: =IFERROR(INDEX(Date_Equip,SMALL(F$2:F$130,COUNTIF(F$2:F$130,0)+ROW()-1),1),"") | F30: =(E$1=Feuil1!$B30)*ROW() -> 0 | G30: =IFERROR(INDEX(Date_Equip,SMALL(H$2:H$130,COUNTIF(H$2:H$130,0)+ROW()-1),1),"") | H30: =(G$1=Feuil1!$B30)*ROW() -> 0 | I30: =IFERROR(INDEX(Date_Equip,SMALL(J$2:J$130,COUNTIF(J$2:J$130,0)+ROW()-1),1),"") | J30: =(I$1=Feuil1!$B30)*ROW() -> 0 | K30: =IFERROR(INDEX(Date_Equip,SMALL(L$2:L$130,COUNTIF(L$2:L$130,0)+ROW()-1),1),"") | L30: =(K$1=Feuil1!$B30)*ROW() -> 0 | M30: =IFERROR(INDEX(Date_Equip,SMALL(N$2:N$130,COUNTIF(N$2:N$130,0)+ROW()-1),1),"") | N30: =(M$1=Feuil1!$B30)*ROW() -> 0 | O30: =IFERROR(INDEX(Date_Equip,SMALL(P$2:P$130,COUNTIF(P$2:P$130,0)+ROW()-1),1),"") | P30: =(O$1=Feuil1!$B30)*ROW() -> 0 | Q30: =IFERROR(INDEX(Date_Equip,SMALL(R$2:R$130,COUNTIF(R$2:R$130,0)+ROW()-1),1),"") | R30: =(Q$1=Feuil1!$B30)*ROW() -> 0 | S30: =IFERROR(INDEX(Date_Equip,SMALL(T$2:T$130,COUNTIF(T$2:T$130,0)+ROW()-1),1),"") | T30: =(S$1=Feuil1!$B30)*ROW() -> 0 | U30: =IFERROR(INDEX(Date_Equip,SMALL(V$2:V$130,COUNTIF(V$2:V$130,0)+ROW()-1),1),"") | V30: =(U$1=Feuil1!$B30)*ROW() -> 0 | W30: =IFERROR(INDEX(Date_Equip,SMALL(X$2:X$130,COUNTIF(X$2:X$130,0)+ROW()-1),1),"") | X30: =(W$1=Feuil1!$B30)*ROW() -> 0 | Y30: =IFERROR(INDEX(Date_Equip,SMALL(Z$2:Z$130,COUNTIF(Z$2:Z$130,0)+ROW()-1),1),"") | Z30: =(Y$1=Feuil1!$B30)*ROW() -> 0 | AA30: =IFERROR(INDEX(Date_Equip,SMALL(AB$2:AB$130,COUNTIF(AB$2:AB$130,0)+ROW()-1),1),"") | AB30: =(AA$1=Feuil1!$B30)*ROW() -> 0 | AC30: =IFERROR(INDEX(Date_Equip,SMALL(AD$2:AD$130,COUNTIF(AD$2:AD$130,0)+ROW()-1),1),"") | AD30: =(AC$1=Feuil1!$B30)*ROW() -> 0 | AE30: =IFERROR(INDEX(Date_Equip,SMALL(AF$2:AF$130,COUNTIF(AF$2:AF$130,0)+ROW()-1),1),"") | AF30: =(AE$1=Feuil1!$B30)*ROW() -> 0 | AG30: =IFERROR(INDEX(Date_Equip,SMALL(AH$2:AH$130,COUNTIF(AH$2:AH$130,0)+ROW()-1),1),"") | AH30: =(AG$1=Feuil1!$B30)*ROW() -> 0 | AI30: =IFERROR(INDEX(Date_Equip,SMALL(AJ$2:AJ$130,COUNTIF(AJ$2:AJ$130,0)+ROW()-1),1),"") | AJ30: =(AI$1=Feuil1!$B30)*ROW() -> 0 | AK30: =IFERROR(INDEX(Date_Equip,SMALL(AL$2:AL$130,COUNTIF(AL$2:AL$130,0)+ROW()-1),1),"") | AL30: =(AK$1=Feuil1!$B30)*ROW() -> 0 | AM30: =IFERROR(INDEX(Date_Equip,SMALL(AN$2:AN$130,COUNTIF(AN$2:AN$130,0)+ROW()-1),1),"") | AN30: =(AM$1=Feuil1!$B30)*ROW() -> 0 | AO30: =IFERROR(INDEX(Date_Equip,SMALL(AP$2:AP$130,COUNTIF(AP$2:AP$130,0)+ROW()-1),1),"") | AP30: =(AO$1=Feuil1!$B30)*ROW() -> 30 | AQ30: =IFERROR(INDEX(Date_Equip,SMALL(AR$2:AR$130,COUNTIF(AR$2:AR$130,0)+ROW()-1),1),"") | AR30: =(AQ$1=Feuil1!$B30)*ROW() -> 0 | AS30: =IFERROR(INDEX(Date_Equip,SMALL(AT$2:AT$130,COUNTIF(AT$2:AT$130,0)+ROW()-1),1),"") | AT30: =(AS$1=Feuil1!$B30)*ROW() -> 0 | AU30: =IFERROR(INDEX(Date_Equip,SMALL(AV$2:AV$130,COUNTIF(AV$2:AV$130,0)+ROW()-1),1),"") | AV30: =(AU$1=Feuil1!$B30)*ROW() -> 0 | AW30: =IFERROR(INDEX(Date_Equip,SMALL(AX$2:AX$130,COUNTIF(AX$2:AX$130,0)+ROW()-1),1),"") | AX30: =(AW$1=Feuil1!$B30)*ROW() -> 0 | AY30: =IFERROR(INDEX(Date_Equip,SMALL(AZ$2:AZ$130,COUNTIF(AZ$2:AZ$130,0)+ROW()-1),1),"") | AZ30: =(AY$1=Feuil1!$B30)*ROW() -> 0 | BA30: =IFERROR(INDEX(Date_Equip,SMALL(BB$2:BB$130,COUNTIF(BB$2:BB$130,0)+ROW()-1),1),"") | BB30: =(BA$1=Feuil1!$B30)*ROW() -> 0 | BC30: =IFERROR(INDEX(Date_Equip,SMALL(BD$2:BD$130,COUNTIF(BD$2:BD$130,0)+ROW()-1),1),"") | BD30: =(BC$1=Feuil1!$B30)*ROW() -> 0 | BE30: =IFERROR(INDEX(Date_Equip,SMALL(BF$2:BF$130,COUNTIF(BF$2:BF$130,0)+ROW()-1),1),"") | BF30: =(BE$1=Feuil1!$B30)*ROW() -> 0
B31: =(A$1=Feuil1!$B31)*ROW() -> 0 | D31: =(C$1=Feuil1!$B31)*ROW() -> 0 | F31: =(E$1=Feuil1!$B31)*ROW() -> 0 | H31: =(G$1=Feuil1!$B31)*ROW() -> 0 | J31: =(I$1=Feuil1!$B31)*ROW() -> 0 | L31: =(K$1=Feuil1!$B31)*ROW() -> 31 | N31: =(M$1=Feuil1!$B31)*ROW() -> 0 | P31: =(O$1=Feuil1!$B31)*ROW() -> 0 | R31: =(Q$1=Feuil1!$B31)*ROW() -> 0 | T31: =(S$1=Feuil1!$B31)*ROW() -> 0 | V31: =(U$1=Feuil1!$B31)*ROW() -> 0 | X31: =(W$1=Feuil1!$B31)*ROW() -> 0 | Z31: =(Y$1=Feuil1!$B31)*ROW() -> 0 | AB31: =(AA$1=Feuil1!$B31)*ROW() -> 0 | AD31: =(AC$1=Feuil1!$B31)*ROW() -> 0 | AF31: =(AE$1=Feuil1!$B31)*ROW() -> 0 | AH31: =(AG$1=Feuil1!$B31)*ROW() -> 0 | AJ31: =(AI$1=Feuil1!$B31)*ROW() -> 0 | AL31: =(AK$1=Feuil1!$B31)*ROW() -> 0 | AN31: =(AM$1=Feuil1!$B31)*ROW() -> 0 | AP31: =(AO$1=Feuil1!$B31)*ROW() -> 0 | AR31: =(AQ$1=Feuil1!$B31)*ROW() -> 0 | AT31: =(AS$1=Feuil1!$B31)*ROW() -> 0 | AV31: =(AU$1=Feuil1!$B31)*ROW() -> 0 | AX31: =(AW$1=Feuil1!$B31)*ROW() -> 0 | AZ31: =(AY$1=Feuil1!$B31)*ROW() -> 0 | BB31: =(BA$1=Feuil1!$B31)*ROW() -> 0 | BD31: =(BC$1=Feuil1!$B31)*ROW() -> 0 | BF31: =(BE$1=Feuil1!$B31)*ROW() -> 0
B32: =(A$1=Feuil1!$B32)*ROW() -> 0 | D32: =(C$1=Feuil1!$B32)*ROW() -> 0 | F32: =(E$1=Feuil1!$B32)*ROW() -> 32 | H32: =(G$1=Feuil1!$B32)*ROW() -> 0 | J32: =(I$1=Feuil1!$B32)*ROW() -> 0 | L32: =(K$1=Feuil1!$B32)*ROW() -> 0 | N32: =(M$1=Feuil1!$B32)*ROW() -> 0 | P32: =(O$1=Feuil1!$B32)*ROW() -> 0 | R32: =(Q$1=Feuil1!$B32)*ROW() -> 0 | T32: =(S$1=Feuil1!$B32)*ROW() -> 0 | V32: =(U$1=Feuil1!$B32)*ROW() -> 0 | X32: =(W$1=Feuil1!$B32)*ROW() -> 0 | Z32: =(Y$1=Feuil1!$B32)*ROW() -> 0 | AB32: =(AA$1=Feuil1!$B32)*ROW() -> 0 | AD32: =(AC$1=Feuil1!$B32)*ROW() -> 0 | AF32: =(AE$1=Feuil1!$B32)*ROW() -> 0 | AH32: =(AG$1=Feuil1!$B32)*ROW() -> 0 | AJ32: =(AI$1=Feuil1!$B32)*ROW() -> 0 | AL32: =(AK$1=Feuil1!$B32)*ROW() -> 0 | AN32: =(AM$1=Feuil1!$B32)*ROW() -> 0 | AP32: =(AO$1=Feuil1!$B32)*ROW() -> 0 | AR32: =(AQ$1=Feuil1!$B32)*ROW() -> 0 | AT32: =(AS$1=Feuil1!$B32)*ROW() -> 0 | AV32: =(AU$1=Feuil1!$B32)*ROW() -> 0 | AX32: =(AW$1=Feuil1!$B32)*ROW() -> 0 | AZ32: =(AY$1=Feuil1!$B32)*ROW() -> 0 | BB32: =(BA$1=Feuil1!$B32)*ROW() -> 0 | BD32: =(BC$1=Feuil1!$B32)*ROW() -> 0 | BF32: =(BE$1=Feuil1!$B32)*ROW() -> 0
B33: =(A$1=Feuil1!$B33)*ROW() -> 0 | D33: =(C$1=Feuil1!$B33)*ROW() -> 0 | F33: =(E$1=Feuil1!$B33)*ROW() -> 33 | H33: =(G$1=Feuil1!$B33)*ROW() -> 0 | J33: =(I$1=Feuil1!$B33)*ROW() -> 0 | L33: =(K$1=Feuil1!$B33)*ROW() -> 0 | N33: =(M$1=Feuil1!$B33)*ROW() -> 0 | P33: =(O$1=Feuil1!$B33)*ROW() -> 0 | R33: =(Q$1=Feuil1!$B33)*ROW() -> 0 | T33: =(S$1=Feuil1!$B33)*ROW() -> 0 | V33: =(U$1=Feuil1!$B33)*ROW() -> 0 | X33: =(W$1=Feuil1!$B33)*ROW() -> 0 | Z33: =(Y$1=Feuil1!$B33)*ROW() -> 0 | AB33: =(AA$1=Feuil1!$B33)*ROW() -> 0 | AD33: =(AC$1=Feuil1!$B33)*ROW() -> 0 | AF33: =(AE$1=Feuil1!$B33)*ROW() -> 0 | AH33: =(AG$1=Feuil1!$B33)*ROW() -> 0 | AJ33: =(AI$1=Feuil1!$B33)*ROW() -> 0 | AL33: =(AK$1=Feuil1!$B33)*ROW() -> 0 | AN33: =(AM$1=Feuil1!$B33)*ROW() -> 0 | AP33: =(AO$1=Feuil1!$B33)*ROW() -> 0 | AR33: =(AQ$1=Feuil1!$B33)*ROW() -> 0 | AT33: =(AS$1=Feuil1!$B33)*ROW() -> 0 | AV33: =(AU$1=Feuil1!$B33)*ROW() -> 0 | AX33: =(AW$1=Feuil1!$B33)*ROW() -> 0 | AZ33: =(AY$1=Feuil1!$B33)*ROW() -> 0 | BB33: =(BA$1=Feuil1!$B33)*ROW() -> 0 | BD33: =(BC$1=Feuil1!$B33)*ROW() -> 0 | BF33: =(BE$1=Feuil1!$B33)*ROW() -> 0
B34: =(A$1=Feuil1!$B34)*ROW() -> 0 | D34: =(C$1=Feuil1!$B34)*ROW() -> 0 | F34: =(E$1=Feuil1!$B34)*ROW() -> 0 | H34: =(G$1=Feuil1!$B34)*ROW() -> 0 | J34: =(I$1=Feuil1!$B34)*ROW() -> 0 | L34: =(K$1=Feuil1!$B34)*ROW() -> 0 | N34: =(M$1=Feuil1!$B34)*ROW() -> 0 | P34: =(O$1=Feuil1!$B34)*ROW() -> 0 | R34: =(Q$1=Feuil1!$B34)*ROW() -> 0 | T34: =(S$1=Feuil1!$B34)*ROW() -> 34 | V34: =(U$1=Feuil1!$B34)*ROW() -> 0 | X34: =(W$1=Feuil1!$B34)*ROW() -> 0 | Z34: =(Y$1=Feuil1!$B34)*ROW() -> 0 | AB34: =(AA$1=Feuil1!$B34)*ROW() -> 0 | AD34: =(AC$1=Feuil1!$B34)*ROW() -> 0 | AF34: =(AE$1=Feuil1!$B34)*ROW() -> 0 | AH34: =(AG$1=Feuil1!$B34)*ROW() -> 0 | AJ34: =(AI$1=Feuil1!$B34)*ROW() -> 0 | AL34: =(AK$1=Feuil1!$B34)*ROW() -> 0 | AN34: =(AM$1=Feuil1!$B34)*ROW() -> 0 | AP34: =(AO$1=Feuil1!$B34)*ROW() -> 0 | AR34: =(AQ$1=Feuil1!$B34)*ROW() -> 0 | AT34: =(AS$1=Feuil1!$B34)*ROW() -> 0 | AV34: =(AU$1=Feuil1!$B34)*ROW() -> 0 | AX34: =(AW$1=Feuil1!$B34)*ROW() -> 0 | AZ34: =(AY$1=Feuil1!$B34)*ROW() -> 0 | BB34: =(BA$1=Feuil1!$B34)*ROW() -> 0 | BD34: =(BC$1=Feuil1!$B34)*ROW() -> 0 | BF34: =(BE$1=Feuil1!$B34)*ROW() -> 0
B35: =(A$1=Feuil1!$B35)*ROW() -> 0 | D35: =(C$1=Feuil1!$B35)*ROW() -> 0 | F35: =(E$1=Feuil1!$B35)*ROW() -> 0 | H35: =(G$1=Feuil1!$B35)*ROW() -> 0 | J35: =(I$1=Feuil1!$B35)*ROW() -> 0 | L35: =(K$1=Feuil1!$B35)*ROW() -> 0 | N35: =(M$1=Feuil1!$B35)*ROW() -> 0 | P35: =(O$1=Feuil1!$B35)*ROW() -> 0 | R35: =(Q$1=Feuil1!$B35)*ROW() -> 0 | T35: =(S$1=Feuil1!$B35)*ROW() -> 0 | V35: =(U$1=Feuil1!$B35)*ROW() -> 0 | X35: =(W$1=Feuil1!$B35)*ROW() -> 0 | Z35: =(Y$1=Feuil1!$B35)*ROW() -> 0 | AB35: =(AA$1=Feuil1!$B35)*ROW() -> 0 | AD35: =(AC$1=Feuil1!$B35)*ROW() -> 0 | AF35: =(AE$1=Feuil1!$B35)*ROW() -> 0 | AH35: =(AG$1=Feuil1!$B35)*ROW() -> 0 | AJ35: =(AI$1=Feuil1!$B35)*ROW() -> 0 | AL35: =(AK$1=Feuil1!$B35)*ROW() -> 0 | AN35: =(AM$1=Feuil1!$B35)*ROW() -> 35 | AP35: =(AO$1=Feuil1!$B35)*ROW() -> 0 | AR35: =(AQ$1=Feuil1!$B35)*ROW() -> 0 | AT35: =(AS$1=Feuil1!$B35)*ROW() -> 0 | AV35: =(AU$1=Feuil1!$B35)*ROW() -> 0 | AX35: =(AW$1=Feuil1!$B35)*ROW() -> 0 | AZ35: =(AY$1=Feuil1!$B35)*ROW() -> 0 | BB35: =(BA$1=Feuil1!$B35)*ROW() -> 0 | BD35: =(BC$1=Feuil1!$B35)*ROW() -> 0 | BF35: =(BE$1=Feuil1!$B35)*ROW() -> 0
B36: =(A$1=Feuil1!$B36)*ROW() -> 0 | D36: =(C$1=Feuil1!$B36)*ROW() -> 0 | F36: =(E$1=Feuil1!$B36)*ROW() -> 0 | H36: =(G$1=Feuil1!$B36)*ROW() -> 0 | J36: =(I$1=Feuil1!$B36)*ROW() -> 0 | L36: =(K$1=Feuil1!$B36)*ROW() -> 0 | N36: =(M$1=Feuil1!$B36)*ROW() -> 0 | P36: =(O$1=Feuil1!$B36)*ROW() -> 0 | R36: =(Q$1=Feuil1!$B36)*ROW() -> 0 | T36: =(S$1=Feuil1!$B36)*ROW() -> 0 | V36: =(U$1=Feuil1!$B36)*ROW() -> 0 | X36: =(W$1=Feuil1!$B36)*ROW() -> 0 | Z36: =(Y$1=Feuil1!$B36)*ROW() -> 0 | AB36: =(AA$1=Feuil1!$B36)*ROW() -> 36 | AD36: =(AC$1=Feuil1!$B36)*ROW() -> 0 | AF36: =(AE$1=Feuil1!$B36)*ROW() -> 0 | AH36: =(AG$1=Feuil1!$B36)*ROW() -> 0 | AJ36: =(AI$1=Feuil1!$B36)*ROW() -> 0 | AL36: =(AK$1=Feuil1!$B36)*ROW() -> 0 | AN36: =(AM$1=Feuil1!$B36)*ROW() -> 0 | AP36: =(AO$1=Feuil1!$B36)*ROW() -> 0 | AR36: =(AQ$1=Feuil1!$B36)*ROW() -> 0 | AT36: =(AS$1=Feuil1!$B36)*ROW() -> 0 | AV36: =(AU$1=Feuil1!$B36)*ROW() -> 0 | AX36: =(AW$1=Feuil1!$B36)*ROW() -> 0 | AZ36: =(AY$1=Feuil1!$B36)*ROW() -> 0 | BB36: =(BA$1=Feuil1!$B36)*ROW() -> 0 | BD36: =(BC$1=Feuil1!$B36)*ROW() -> 0 | BF36: =(BE$1=Feuil1!$B36)*ROW() -> 0
