Workbook
Name _choix_Laveuses: OFFSET([1]Choix!$Q$1,1,,COUNTA([1]Choix!$Q:$Q)-1)
Name choix_Aspect: OFFSET([1]Choix!$AD$1,1,,COUNTA([1]Choix!$AD:$AD)-1)
Name choix_Brut: OFFSET([1]Choix!$AE$1,1,,COUNTA([1]Choix!$AE:$AE)-1)
Name choix_BTR: OFFSET([1]Choix!$A$1,1,,COUNTA([1]Choix!$A:$A)-1)
Name choix_Cintrage: OFFSET([1]Choix!$K$1,1,,COUNTA([1]Choix!$K:$K)-1)
Name choix_Crantage: OFFSET([1]Choix!$L$1,1,,COUNTA([1]Choix!$L:$L)-1)
Name choix_Detourage: OFFSET([1]Choix!$M$1,1,,COUNTA([1]Choix!$M:$M)-1)
Name choix_dimensionnel: OFFSET([1]Choix!$AF$1,1,,COUNTA([1]Choix!$AF:$AF)-1)
Name choix_Forge: OFFSET([1]Choix!$N$1,1,,COUNTA([1]Choix!$N:$N)-1)
Name choix_Gorgeage: OFFSET([1]Choix!$O$1,1,,COUNTA([1]Choix!$O:$O)-1)
Name choix_Grenaillage: OFFSET([1]Choix!$P$1,1,,COUNTA([1]Choix!$P:$P)-1)
Name choix_Imputations: OFFSET([1]Choix!$AH$1,1,,COUNTA([1]Choix!$AH:$AH)-1)
Name choix_metallurgique: OFFSET([1]Choix!$AG$1,1,,COUNTA([1]Choix!$AG:$AG)-1)
Name choix_Mise_à_longueur: OFFSET([1]Choix!$R$1,1,,COUNTA([1]Choix!$R:$R)-1)
Name choix_num_proces: OFFSET([1]Choix!$C$1,1,,COUNTA([1]Choix!$C:$C)-1)
Name choix_Opérateur: OFFSET([1]Choix!$AB$1,1,,COUNTA([1]Choix!$AB:$AB)-1)
Name choix_Peinture: OFFSET([1]Choix!$S$1,1,,COUNTA([1]Choix!$S:$S)-1)
Name choix_Poste: OFFSET([1]Choix!$AA$1,1,,COUNTA([1]Choix!$AA:$AA)-1)
Name choix_Precontrainie: OFFSET([1]Choix!$T$1,1,,COUNTA([1]Choix!$T:$T)-1)
Name choix_process: OFFSET([1]Choix!$AI$1,1,,COUNTA([1]Choix!$AI:$AI)-1)
Name choix_process_1: OFFSET([1]Choix!$D$1,1,,COUNTA([1]Choix!$D:$D)-1)
Name choix_PROCESS_2: OFFSET([1]Choix!$E$1,1,,COUNTA([1]Choix!$E:$E)-1)
Name choix_process_3: OFFSET([1]Choix!$F$1,1,,COUNTA([1]Choix!$F:$F)-1)
Name choix_PROCESS_4: OFFSET([1]Choix!$G$1,1,,COUNTA([1]Choix!$G:$G)-1)
Name choix_PROCESS_5: OFFSET([1]Choix!$H$1,1,,COUNTA([1]Choix!$H:$H)-1)
Name choix_PROCESS_6: OFFSET([1]Choix!$I$1,1,,COUNTA([1]Choix!$I:$I)-1)
Name choix_PROCESS_7: OFFSET([1]Choix!$J$1,1,,COUNTA([1]Choix!$J:$J)-1)
Name choix_projets: OFFSET([1]Choix!$AS$1,1,,COUNTA([1]Choix!$AS:$AS)-1)
Name choix_Redresseuse: OFFSET([1]Choix!$V$1,1,,COUNTA([1]Choix!$V:$V)-1)
Name choix_Refoulage: OFFSET([1]Choix!$W$1,1,,COUNTA([1]Choix!$W:$W)-1)
Name choix_Reperage: OFFSET([1]Choix!$X$1,1,,COUNTA([1]Choix!$X:$X)-1)
Name choix_Soudure: OFFSET([1]Choix!$Y$1,1,,COUNTA([1]Choix!$Y:$Y)-1)
Name choix_Traitement_Thermique: OFFSET([1]Choix!$Z$1,1,,COUNTA([1]Choix!$Z:$Z)-1)
Name choix_type_défauts: OFFSET([1]Choix!$AC$1,1,,COUNTA([1]Choix!$AC:$AC)-1)
Name Proto: OFFSET([1]Choix!$U$1,1,,COUNTA([1]Choix!$U:$U)-1)

Sheet Rebuts
A1: DATE | B1: BTR | C1: PROJET | D1: N°PROCESS | E1: OPERATION | F1: MACHINE | G1: POSTE | H1: OPERATEUR | I1: NOMBRE DE REBUT | J1: TYPE DEFAUT | K1: DEFAUTS | L1: IMPUTATIONS
A2: 41794 | B2: 774 | C2: ALKO | D2: 7 | E2: TTH | F2: TREMPE BC | G2: Matin | H2: DEFONTAINE PHILIPPE | I2: 2 | J2: Metallurgique | K2: DURETE | L2: CD
A3: 41794 | B3: 377 | C3: BC RENAULT | D3: 1 | E3: TTH | F3: TREMPE BC | G3: Matin | H3: DEFONTAINE PHILIPPE | I3: 2 | J3: Metallurgique | K3: PROFIL TREMPE | L3: CD
A4: 41794 | B4: 297 | C4: B58 BENTELER | D4: 3 | E4: TTH | F4: CFEI2 | G4: Nuit | H4: BELTZ ALEXANDRE | I4: 4 | J4: Metallurgique | K4: DURETE | L4: CD
A5: 41794 | B5: 297 | C5: B58 BENTELER | D5: 3 | E5: TTH | F5: CFEI2 | G5: Après-midi | H5: PETERMANN FABIEN | I5: 4 | J5: Metallurgique | K5: DURETE | L5: CD
A6: 41794 | B6: 297 | C6: B58 BENTELER | D6: 3 | E6: TTH | F6: CFEI2 | G6: Matin | H6: AUTRE | I6: 7 | J6: Metallurgique | K6: DURETE | L6: CD
A7: 41794 | B7: 273 | C7: X98 RENAULT | D7: 3 | E7: MAL | F7: BSD2 | G7: Matin | H7: PLATEAU Florent | I7: 1 | J7: Dimensionnel | K7: LONGUEUR TOTALE | L7: Fabrication
A8: 41794 | B8: 273 | C8: X98 RENAULT | D8: 3 | E8: TTH | F8: CFEI3 | G8: Nuit | H8: GASPERIN FABRICE | I8: 4 | J8: Metallurgique | K8: DURETE | L8: CD
A9: 41794 | B9: 273 | C9: X98 RENAULT | D9: 3 | E9: TTH | F9: CFEI3 | G9: Après-midi | H9: MASTINU SALVATORE | I9: 5 | J9: Metallurgique | K9: DURETE | L9: CD
A10: 41794 | B10: 263 | C10: B420 | D10: 4 | E10: MAL | F10: BSD1 | G10: Après-midi | H10: BLOND Julien | I10: 2 | J10: Dimensionnel | K10: LONGUEUR TOTALE | L10: Fabrication
A11: 41794 | B11: 263 | C11: B420 | D11: 4 | E11: TTH | F11: CFEI3 | G11: Matin | H11: TOUSSAINT XAVIER | I11: 4 | J11: Metallurgique | K11: DURETE | L11: CD
A12: 41794 | B12: 255 | C12: A51 PSA | D12: 3 | E12: MAL | F12: BSD2 | G12: Matin | H12: PLATEAU Florent | I12: 2 | J12: Dimensionnel | K12: FLECHE / RECTITUDE | L12: Fabrication
A13: 41794 | B13: 227 | C13: T5 PSA | D13: 3 | E13: TTH | F13: CFEI2 | G13: Matin | H13: AUTRE | I13: 2 | J13: Metallurgique | K13: DURETE | L13: CD
... A86: 41792 | B86: 125 | C86: A51 PSA | D86: 3 | E86: REF | F86: 1GH | G86: Matin | H86: SCHILTZ KEVIN | I86: 4 | J86: Dimensionnel | K86: RAYON | L86: Réglage

Sheet Feuil1
A1: DATE | B1: =TODAY() -> 41795
A3: BTR | B3: PROJET | M3: PROJET | AC3: PROJET
B4: 192 FIAT | C4: 198 FIAT | D4: A42 PSA | E4: A51 PSA | F4: A6 PSA | G4: A8 PSA | H4: A86 PSA | I4: AI5X PSA | J4: ALKO | K4: B420 | L4: B58 BENTELER | M4: BAC RENAULT | N4: BAD PSA | O4: BC RENAULT | P4: BT PSA | Q4: CMF1 RENAULT | R4: D200 FIAT | S4: DS4 SUV BENTELER | T4: FR90 RENAULT | U4: G9 FIAT | V4: H79 RENAULT | W4: L38 RENAULT | X4: LB90 RENAULT | Y4: NISSAN | Z4: T5 PSA | AA4: T87 BENTELER | AB4: W408 MAHINDRA | AC4: X10 RENAULT | AD4: X44 RENAULT | AE4: X61 RENAULT | AF4: X64 RENAULT | AG4: X65 RENAULT | AH4: X82 RENAULT | AI4: X87 RENAULT | AJ4: X90 RENAULT | AK4: X91 RENAULT | AL4: X91 4RD RENAULT | AM4: X98 RENAULT
A6: 102 | B6: =SUMPRODUCT((Rebuts!$A$2:$A$1000=$B$1)*(Rebuts!$C$2:$C$1000=B$4)*(Rebuts!$B$2:$B$1000=$A6)* (Rebuts!$I$2:$I$1000)) -> 0 | C6: =SUMPRODUCT((Rebuts!$A$2:$A$1000=$B$1)*(Rebuts!$C$2:$C$1000=C$4)*(Rebuts!$B$2:$B$1000=$A6)* (Rebuts!$I$2:$I$1000)) -> 0 | D6: =SUMPRODUCT((Rebuts!$A$2:$A$1000=$B$1)*(Rebuts!$C$2:$C$1000=D$4)*(Rebuts!$B$2:$B$1000=$A6)* (Rebuts!$I$2:$I$1000)) -> 0 | E6: =SUMPRODUCT((Rebuts!$A$2:$A$1000=$B$1)*(Rebuts!$C$2:$C$1000=E$4)*(Rebuts!$B$2:$B$1000=$A6)* (Rebuts!$I$2:$I$1000)) -> 0 | F6: =SUMPRODUCT((Rebuts!$A$2:$A$1000=$B$1)*(Rebuts!$C$2:$C$1000=F$4)*(Rebuts!$B$2:$B$1000=$A6)* (Rebuts!$I$2:$I$1000)) -> 0 | G6: =SUMPRODUCT((Rebuts!$A$2:$A$1000=$B$1)*(Rebuts!$C$2:$C$1000=G$4)*(Rebuts!$B$2:$B$1000=$A6)* (Rebuts!$I$2:$I$1000)) -> 0 | H6: =SUMPRODUCT((Rebuts!$A$2:$A$1000=$B$1)*(Rebuts!$C$2:$C$1000=H$4)*(Rebuts!$B$2:$B$1000=$A6)* (Rebuts!$I$2:$I$1000)) -> 0 | I6: =SUMPRODUCT((Rebuts!$A$2:$A$1000=$B$1)*(Rebuts!$C$2:$C$1000=I$4)*(Rebuts!$B$2:$B$1000=$A6)* (Rebuts!$I$2:$I$1000)) -> 0 | ... AM6: =SUMPRODUCT((Rebuts!$A$2:$A$1000=$B$1)*(Rebuts!$C$2:$C$1000=AM$4)*(Rebuts!$B$2:$B$1000=$A6)* (Rebuts!$I$2:$I$1000)) -> 0
A7: 109 | B7: =SUMPRODUCT((Rebuts!$A$2:$A$1000=$B$1)*(Rebuts!$C$2:$C$1000=B$4)*(Rebuts!$B$2:$B$1000=$A7)* (Rebuts!$I$2:$I$1000)) -> 0 | C7: =SUMPRODUCT((Rebuts!$A$2:$A$1000=$B$1)*(Rebuts!$C$2:$C$1000=C$4)*(Rebuts!$B$2:$B$1000=$A7)* (Rebuts!$I$2:$I$1000)) -> 0 | D7: =SUMPRODUCT((Rebuts!$A$2:$A$1000=$B$1)*(Rebuts!$C$2:$C$1000=D$4)*(Rebuts!$B$2:$B$1000=$A7)* (Rebuts!$I$2:$I$1000)) -> 0 | E7: =SUMPRODUCT((Rebuts!$A$2:$A$1000=$B$1)*(Rebuts!$C$2:$C$1000=E$4)*(Rebuts!$B$2:$B$1000=$A7)* (Rebuts!$I$2:$I$1000)) -> 0 | F7: =SUMPRODUCT((Rebuts!$A$2:$A$1000=$B$1)*(Rebuts!$C$2:$C$1000=F$4)*(Rebuts!$B$2:$B$1000=$A7)* (Rebuts!$I$2:$I$1000)) -> 0 | G7: =SUMPRODUCT((Rebuts!$A$2:$A$1000=$B$1)*(Rebuts!$C$2:$C$1000=G$4)*(Rebuts!$B$2:$B$1000=$A7)* (Rebuts!$I$2:$I$1000)) -> 0 | H7: =SUMPRODUCT((Rebuts!$A$2:$A$1000=$B$1)*(Rebuts!$C$2:$C$1000=H$4)*(Rebuts!$B$2:$B$1000=$A7)* (Rebuts!$I$2:$I$1000)) -> 0 | I7: =SUMPRODUCT((Rebuts!$A$2:$A$1000=$B$1)*(Rebuts!$C$2:$C$1000=I$4)*(Rebuts!$B$2:$B$1000=$A7)* (Rebuts!$I$2:$I$1000)) -> 0 | ... AM7: =SUMPRODUCT((Rebuts!$A$2:$A$1000=$B$1)*(Rebuts!$C$2:$C$1000=AM$4)*(Rebuts!$B$2:$B$1000=$A7)* (Rebuts!$I$2:$I$1000)) -> 0
A8: 119 | B8: =SUMPRODUCT((Rebuts!$A$2:$A$1000=$B$1)*(Rebuts!$C$2:$C$1000=B$4)*(Rebuts!$B$2:$B$1000=$A8)* (Rebuts!$I$2:$I$1000)) -> 0 | C8: =SUMPRODUCT((Rebuts!$A$2:$A$1000=$B$1)*(Rebuts!$C$2:$C$1000=C$4)*(Rebuts!$B$2:$B$1000=$A8)* (Rebuts!$I$2:$I$1000)) -> 0 | D8: =SUMPRODUCT((Rebuts!$A$2:$A$1000=$B$1)*(Rebuts!$C$2:$C$1000=D$4)*(Rebuts!$B$2:$B$1000=$A8)* (Rebuts!$I$2:$I$1000)) -> 0 | E8: =SUMPRODUCT((Rebuts!$A$2:$A$1000=$B$1)*(Rebuts!$C$2:$C$1000=E$4)*(Rebuts!$B$2:$B$1000=$A8)* (Rebuts!$I$2:$I$1000)) -> 0 | F8: =SUMPRODUCT((Rebuts!$A$2:$A$1000=$B$1)*(Rebuts!$C$2:$C$1000=F$4)*(Rebuts!$B$2:$B$1000=$A8)* (Rebuts!$I$2:$I$1000)) -> 0 | G8: =SUMPRODUCT((Rebuts!$A$2:$A$1000=$B$1)*(Rebuts!$C$2:$C$1000=G$4)*(Rebuts!$B$2:$B$1000=$A8)* (Rebuts!$I$2:$I$1000)) -> 0 | H8: =SUMPRODUCT((Rebuts!$A$2:$A$1000=$B$1)*(Rebuts!$C$2:$C$1000=H$4)*(Rebuts!$B$2:$B$1000=$A8)* (Rebuts!$I$2:$I$1000)) -> 0 | I8: =SUMPRODUCT((Rebuts!$A$2:$A$1000=$B$1)*(Rebuts!$C$2:$C$1000=I$4)*(Rebuts!$B$2:$B$1000=$A8)* (Rebuts!$I$2:$I$1000)) -> 0 | ... AM8: =SUMPRODUCT((Rebuts!$A$2:$A$1000=$B$1)*(Rebuts!$C$2:$C$1000=AM$4)*(Rebuts!$B$2:$B$1000=$A8)* (Rebuts!$I$2:$I$1000)) -> 0
A9: 120 | B9: =SUMPRODUCT((Rebuts!$A$2:$A$1000=$B$1)*(Rebuts!$C$2:$C$1000=B$4)*(Rebuts!$B$2:$B$1000=$A9)* (Rebuts!$I$2:$I$1000)) -> 0 | C9: =SUMPRODUCT((Rebuts!$A$2:$A$1000=$B$1)*(Rebuts!$C$2:$C$1000=C$4)*(Rebuts!$B$2:$B$1000=$A9)* (Rebuts!$I$2:$I$1000)) -> 0 | D9: =SUMPRODUCT((Rebuts!$A$2:$A$1000=$B$1)*(Rebuts!$C$2:$C$1000=D$4)*(Rebuts!$B$2:$B$1000=$A9)* (Rebuts!$I$2:$I$1000)) -> 0 | E9: =SUMPRODUCT((Rebuts!$A$2:$A$1000=$B$1)*(Rebuts!$C$2:$C$1000=E$4)*(Rebuts!$B$2:$B$1000=$A9)* (Rebuts!$I$2:$I$1000)) -> 0 | F9: =SUMPRODUCT((Rebuts!$A$2:$A$1000=$B$1)*(Rebuts!$C$2:$C$1000=F$4)*(Rebuts!$B$2:$B$1000=$A9)* (Rebuts!$I$2:$I$1000)) -> 0 | G9: =SUMPRODUCT((Rebuts!$A$2:$A$1000=$B$1)*(Rebuts!$C$2:$C$1000=G$4)*(Rebuts!$B$2:$B$1000=$A9)* (Rebuts!$I$2:$I$1000)) -> 0 | H9: =SUMPRODUCT((Rebuts!$A$2:$A$1000=$B$1)*(Rebuts!$C$2:$C$1000=H$4)*(Rebuts!$B$2:$B$1000=$A9)* (Rebuts!$I$2:$I$1000)) -> 0 | I9: =SUMPRODUCT((Rebuts!$A$2:$A$1000=$B$1)*(Rebuts!$C$2:$C$1000=I$4)*(Rebuts!$B$2:$B$1000=$A9)* (Rebuts!$I$2:$I$1000)) -> 0 | ... AM9: =SUMPRODUCT((Rebuts!$A$2:$A$1000=$B$1)*(Rebuts!$C$2:$C$1000=AM$4)*(Rebuts!$B$2:$B$1000=$A9)* (Rebuts!$I$2:$I$1000)) -> 0
A10: 123 | B10: =SUMPRODUCT((Rebuts!$A$2:$A$1000=$B$1)*(Rebuts!$C$2:$C$1000=B$4)*(Rebuts!$B$2:$B$1000=$A10)* (Rebuts!$I$2:$I$1000)) -> 0 | C10: =SUMPRODUCT((Rebuts!$A$2:$A$1000=$B$1)*(Rebuts!$C$2:$C$1000=C$4)*(Rebuts!$B$2:$B$1000=$A10)* (Rebuts!$I$2:$I$1000)) -> 0 | D10: =SUMPRODUCT((Rebuts!$A$2:$A$1000=$B$1)*(Rebuts!$C$2:$C$1000=D$4)*(Rebuts!$B$2:$B$1000=$A10)* (Rebuts!$I$2:$I$1000)) -> 0 | E10: =SUMPRODUCT((Rebuts!$A$2:$A$1000=$B$1)*(Rebuts!$C$2:$C$1000=E$4)*(Rebuts!$B$2:$B$1000=$A10)* (Rebuts!$I$2:$I$1000)) -> 0 | F10: =SUMPRODUCT((Rebuts!$A$2:$A$1000=$B$1)*(Rebuts!$C$2:$C$1000=F$4)*(Rebuts!$B$2:$B$1000=$A10)* (Rebuts!$I$2:$I$1000)) -> 0 | G10: =SUMPRODUCT((Rebuts!$A$2:$A$1000=$B$1)*(Rebuts!$C$2:$C$1000=G$4)*(Rebuts!$B$2:$B$1000=$A10)* (Rebuts!$I$2:$I$1000)) -> 0 | H10: =SUMPRODUCT((Rebuts!$A$2:$A$1000=$B$1)*(Rebuts!$C$2:$C$1000=H$4)*(Rebuts!$B$2:$B$1000=$A10)* (Rebuts!$I$2:$I$1000)) -> 0 | I10: =SUMPRODUCT((Rebuts!$A$2:$A$1000=$B$1)*(Rebuts!$C$2:$C$1000=I$4)*(Rebuts!$B$2:$B$1000=$A10)* (Rebuts!$I$2:$I$1000)) -> 0 | ... AM10: =SUMPRODUCT((Rebuts!$A$2:$A$1000=$B$1)*(Rebuts!$C$2:$C$1000=AM$4)*(Rebuts!$B$2:$B$1000=$A10)* (Rebuts!$I$2:$I$1000)) -> 0
A11: 124 | B11: =SUMPRODUCT((Rebuts!$A$2:$A$1000=$B$1)*(Rebuts!$C$2:$C$1000=B$4)*(Rebuts!$B$2:$B$1000=$A11)* (Rebuts!$I$2:$I$1000)) -> 0 | C11: =SUMPRODUCT((Rebuts!$A$2:$A$1000=$B$1)*(Rebuts!$C$2:$C$1000=C$4)*(Rebuts!$B$2:$B$1000=$A11)* (Rebuts!$I$2:$I$1000)) -> 0 | D11: =SUMPRODUCT((Rebuts!$A$2:$A$1000=$B$1)*(Rebuts!$C$2:$C$1000=D$4)*(Rebuts!$B$2:$B$1000=$A11)* (Rebuts!$I$2:$I$1000)) -> 0 | E11: =SUMPRODUCT((Rebuts!$A$2:$A$1000=$B$1)*(Rebuts!$C$2:$C$1000=E$4)*(Rebuts!$B$2:$B$1000=$A11)* (Rebuts!$I$2:$I$1000)) -> 0 | F11: =SUMPRODUCT((Rebuts!$A$2:$A$1000=$B$1)*(Rebuts!$C$2:$C$1000=F$4)*(Rebuts!$B$2:$B$1000=$A11)* (Rebuts!$I$2:$I$1000)) -> 0 | G11: =SUMPRODUCT((Rebuts!$A$2:$A$1000=$B$1)*(Rebuts!$C$2:$C$1000=G$4)*(Rebuts!$B$2:$B$1000=$A11)* (Rebuts!$I$2:$I$1000)) -> 0 | H11: =SUMPRODUCT((Rebuts!$A$2:$A$1000=$B$1)*(Rebuts!$C$2:$C$1000=H$4)*(Rebuts!$B$2:$B$1000=$A11)* (Rebuts!$I$2:$I$1000)) -> 0 | I11: =SUMPRODUCT((Rebuts!$A$2:$A$1000=$B$1)*(Rebuts!$C$2:$C$1000=I$4)*(Rebuts!$B$2:$B$1000=$A11)* (Rebuts!$I$2:$I$1000)) -> 0 | ... AM11: =SUMPRODUCT((Rebuts!$A$2:$A$1000=$B$1)*(Rebuts!$C$2:$C$1000=AM$4)*(Rebuts!$B$2:$B$1000=$A11)* (Rebuts!$I$2:$I$1000)) -> 0
A12: 125 | B12: =SUMPRODUCT((Rebuts!$A$2:$A$1000=$B$1)*(Rebuts!$C$2:$C$1000=B$4)*(Rebuts!$B$2:$B$1000=$A12)* (Rebuts!$I$2:$I$1000)) -> 0 | C12: =SUMPRODUCT((Rebuts!$A$2:$A$1000=$B$1)*(Rebuts!$C$2:$C$1000=C$4)*(Rebuts!$B$2:$B$1000=$A12)* (Rebuts!$I$2:$I$1000)) -> 0 | D12: =SUMPRODUCT((Rebuts!$A$2:$A$1000=$B$1)*(Rebuts!$C$2:$C$1000=D$4)*(Rebuts!$B$2:$B$1000=$A12)* (Rebuts!$I$2:$I$1000)) -> 0 | E12: =SUMPRODUCT((Rebuts!$A$2:$A$1000=$B$1)*(Rebuts!$C$2:$C$1000=E$4)*(Rebuts!$B$2:$B$1000=$A12)* (Rebuts!$I$2:$I$1000)) -> 0 | F12: =SUMPRODUCT((Rebuts!$A$2:$A$1000=$B$1)*(Rebuts!$C$2:$C$1000=F$4)*(Rebuts!$B$2:$B$1000=$A12)* (Rebuts!$I$2:$I$1000)) -> 0 | G12: =SUMPRODUCT((Rebuts!$A$2:$A$1000=$B$1)*(Rebuts!$C$2:$C$1000=G$4)*(Rebuts!$B$2:$B$1000=$A12)* (Rebuts!$I$2:$I$1000)) -> 0 | H12: =SUMPRODUCT((Rebuts!$A$2:$A$1000=$B$1)*(Rebuts!$C$2:$C$1000=H$4)*(Rebuts!$B$2:$B$1000=$A12)* (Rebuts!$I$2:$I$1000)) -> 0 | I12: =SUMPRODUCT((Rebuts!$A$2:$A$1000=$B$1)*(Rebuts!$C$2:$C$1000=I$4)*(Rebuts!$B$2:$B$1000=$A12)* (Rebuts!$I$2:$I$1000)) -> 0 | ... AM12: =SUMPRODUCT((Rebuts!$A$2:$A$1000=$B$1)*(Rebuts!$C$2:$C$1000=AM$4)*(Rebuts!$B$2:$B$1000=$A12)* (Rebuts!$I$2:$I$1000)) -> 0
A13: 126 | B13: =SUMPRODUCT((Rebuts!$A$2:$A$1000=$B$1)*(Rebuts!$C$2:$C$1000=B$4)*(Rebuts!$B$2:$B$1000=$A13)* (Rebuts!$I$2:$I$1000)) -> 0 | C13: =SUMPRODUCT((Rebuts!$A$2:$A$1000=$B$1)*(Rebuts!$C$2:$C$1000=C$4)*(Rebuts!$B$2:$B$1000=$A13)* (Rebuts!$I$2:$I$1000)) -> 0 | D13: =SUMPRODUCT((Rebuts!$A$2:$A$1000=$B$1)*(Rebuts!$C$2:$C$1000=D$4)*(Rebuts!$B$2:$B$1000=$A13)* (Rebuts!$I$2:$I$1000)) -> 0 | E13: =SUMPRODUCT((Rebuts!$A$2:$A$1000=$B$1)*(Rebuts!$C$2:$C$1000=E$4)*(Rebuts!$B$2:$B$1000=$A13)* (Rebuts!$I$2:$I$1000)) -> 0 | F13: =SUMPRODUCT((Rebuts!$A$2:$A$1000=$B$1)*(Rebuts!$C$2:$C$1000=F$4)*(Rebuts!$B$2:$B$1000=$A13)* (Rebuts!$I$2:$I$1000)) -> 0 | G13: =SUMPRODUCT((Rebuts!$A$2:$A$1000=$B$1)*(Rebuts!$C$2:$C$1000=G$4)*(Rebuts!$B$2:$B$1000=$A13)* (Rebuts!$I$2:$I$1000)) -> 0 | H13: =SUMPRODUCT((Rebuts!$A$2:$A$1000=$B$1)*(Rebuts!$C$2:$C$1000=H$4)*(Rebuts!$B$2:$B$1000=$A13)* (Rebuts!$I$2:$I$1000)) -> 0 | I13: =SUMPRODUCT((Rebuts!$A$2:$A$1000=$B$1)*(Rebuts!$C$2:$C$1000=I$4)*(Rebuts!$B$2:$B$1000=$A13)* (Rebuts!$I$2:$I$1000)) -> 0 | ... AM13: =SUMPRODUCT((Rebuts!$A$2:$A$1000=$B$1)*(Rebuts!$C$2:$C$1000=AM$4)*(Rebuts!$B$2:$B$1000=$A13)* (Rebuts!$I$2:$I$1000)) -> 0
A14: 130 | B14: =SUMPRODUCT((Rebuts!$A$2:$A$1000=$B$1)*(Rebuts!$C$2:$C$1000=B$4)*(Rebuts!$B$2:$B$1000=$A14)* (Rebuts!$I$2:$I$1000)) -> 0 | C14: =SUMPRODUCT((Rebuts!$A$2:$A$1000=$B$1)*(Rebuts!$C$2:$C$1000=C$4)*(Rebuts!$B$2:$B$1000=$A14)* (Rebuts!$I$2:$I$1000)) -> 0 | D14: =SUMPRODUCT((Rebuts!$A$2:$A$1000=$B$1)*(Rebuts!$C$2:$C$1000=D$4)*(Rebuts!$B$2:$B$1000=$A14)* (Rebuts!$I$2:$I$1000)) -> 0 | E14: =SUMPRODUCT((Rebuts!$A$2:$A$1000=$B$1)*(Rebuts!$C$2:$C$1000=E$4)*(Rebuts!$B$2:$B$1000=$A14)* (Rebuts!$I$2:$I$1000)) -> 0 | F14: =SUMPRODUCT((Rebuts!$A$2:$A$1000=$B$1)*(Rebuts!$C$2:$C$1000=F$4)*(Rebuts!$B$2:$B$1000=$A14)* (Rebuts!$I$2:$I$1000)) -> 0 | G14: =SUMPRODUCT((Rebuts!$A$2:$A$1000=$B$1)*(Rebuts!$C$2:$C$1000=G$4)*(Rebuts!$B$2:$B$1000=$A14)* (Rebuts!$I$2:$I$1000)) -> 0 | H14: =SUMPRODUCT((Rebuts!$A$2:$A$1000=$B$1)*(Rebuts!$C$2:$C$1000=H$4)*(Rebuts!$B$2:$B$1000=$A14)* (Rebuts!$I$2:$I$1000)) -> 0 | I14: =SUMPRODUCT((Rebuts!$A$2:$A$1000=$B$1)*(Rebuts!$C$2:$C$1000=I$4)*(Rebuts!$B$2:$B$1000=$A14)* (Rebuts!$I$2:$I$1000)) -> 0 | ... AM14: =SUMPRODUCT((Rebuts!$A$2:$A$1000=$B$1)*(Rebuts!$C$2:$C$1000=AM$4)*(Rebuts!$B$2:$B$1000=$A14)* (Rebuts!$I$2:$I$1000)) -> 0
A15: 131 | B15: =SUMPRODUCT((Rebuts!$A$2:$A$1000=$B$1)*(Rebuts!$C$2:$C$1000=B$4)*(Rebuts!$B$2:$B$1000=$A15)* (Rebuts!$I$2:$I$1000)) -> 0 | C15: =SUMPRODUCT((Rebuts!$A$2:$A$1000=$B$1)*(Rebuts!$C$2:$C$1000=C$4)*(Rebuts!$B$2:$B$1000=$A15)* (Rebuts!$I$2:$I$1000)) -> 0 | D15: =SUMPRODUCT((Rebuts!$A$2:$A$1000=$B$1)*(Rebuts!$C$2:$C$1000=D$4)*(Rebuts!$B$2:$B$1000=$A15)* (Rebuts!$I$2:$I$1000)) -> 0 | E15: =SUMPRODUCT((Rebuts!$A$2:$A$1000=$B$1)*(Rebuts!$C$2:$C$1000=E$4)*(Rebuts!$B$2:$B$1000=$A15)* (Rebuts!$I$2:$I$1000)) -> 0 | F15: =SUMPRODUCT((Rebuts!$A$2:$A$1000=$B$1)*(Rebuts!$C$2:$C$1000=F$4)*(Rebuts!$B$2:$B$1000=$A15)* (Rebuts!$I$2:$I$1000)) -> 0 | G15: =SUMPRODUCT((Rebuts!$A$2:$A$1000=$B$1)*(Rebuts!$C$2:$C$1000=G$4)*(Rebuts!$B$2:$B$1000=$A15)* (Rebuts!$I$2:$I$1000)) -> 0 | H15: =SUMPRODUCT((Rebuts!$A$2:$A$1000=$B$1)*(Rebuts!$C$2:$C$1000=H$4)*(Rebuts!$B$2:$B$1000=$A15)* (Rebuts!$I$2:$I$1000)) -> 0 | I15: =SUMPRODUCT((Rebuts!$A$2:$A$1000=$B$1)*(Rebuts!$C$2:$C$1000=I$4)*(Rebuts!$B$2:$B$1000=$A15)* (Rebuts!$I$2:$I$1000)) -> 0 | ... AM15: =SUMPRODUCT((Rebuts!$A$2:$A$1000=$B$1)*(Rebuts!$C$2:$C$1000=AM$4)*(Rebuts!$B$2:$B$1000=$A15)* (Rebuts!$I$2:$I$1000)) -> 0
A16: 132 | B16: =SUMPRODUCT((Rebuts!$A$2:$A$1000=$B$1)*(Rebuts!$C$2:$C$1000=B$4)*(Rebuts!$B$2:$B$1000=$A16)* (Rebuts!$I$2:$I$1000)) -> 0 | C16: =SUMPRODUCT((Rebuts!$A$2:$A$1000=$B$1)*(Rebuts!$C$2:$C$1000=C$4)*(Rebuts!$B$2:$B$1000=$A16)* (Rebuts!$I$2:$I$1000)) -> 0 | D16: =SUMPRODUCT((Rebuts!$A$2:$A$1000=$B$1)*(Rebuts!$C$2:$C$1000=D$4)*(Rebuts!$B$2:$B$1000=$A16)* (Rebuts!$I$2:$I$1000)) -> 0 | E16: =SUMPRODUCT((Rebuts!$A$2:$A$1000=$B$1)*(Rebuts!$C$2:$C$1000=E$4)*(Rebuts!$B$2:$B$1000=$A16)* (Rebuts!$I$2:$I$1000)) -> 0 | F16: =SUMPRODUCT((Rebuts!$A$2:$A$1000=$B$1)*(Rebuts!$C$2:$C$1000=F$4)*(Rebuts!$B$2:$B$1000=$A16)* (Rebuts!$I$2:$I$1000)) -> 0 | G16: =SUMPRODUCT((Rebuts!$A$2:$A$1000=$B$1)*(Rebuts!$C$2:$C$1000=G$4)*(Rebuts!$B$2:$B$1000=$A16)* (Rebuts!$I$2:$I$1000)) -> 0 | H16: =SUMPRODUCT((Rebuts!$A$2:$A$1000=$B$1)*(Rebuts!$C$2:$C$1000=H$4)*(Rebuts!$B$2:$B$1000=$A16)* (Rebuts!$I$2:$I$1000)) -> 0 | I16: =SUMPRODUCT((Rebuts!$A$2:$A$1000=$B$1)*(Rebuts!$C$2:$C$1000=I$4)*(Rebuts!$B$2:$B$1000=$A16)* (Rebuts!$I$2:$I$1000)) -> 0 | ... AM16: =SUMPRODUCT((Rebuts!$A$2:$A$1000=$B$1)*(Rebuts!$C$2:$C$1000=AM$4)*(Rebuts!$B$2:$B$1000=$A16)* (Rebuts!$I$2:$I$1000)) -> 0
A17: 133 | B17: =SUMPRODUCT((Rebuts!$A$2:$A$1000=$B$1)*(Rebuts!$C$2:$C$1000=B$4)*(Rebuts!$B$2:$B$1000=$A17)* (Rebuts!$I$2:$I$1000)) -> 0 | C17: =SUMPRODUCT((Rebuts!$A$2:$A$1000=$B$1)*(Rebuts!$C$2:$C$1000=C$4)*(Rebuts!$B$2:$B$1000=$A17)* (Rebuts!$I$2:$I$1000)) -> 0 | D17: =SUMPRODUCT((Rebuts!$A$2:$A$1000=$B$1)*(Rebuts!$C$2:$C$1000=D$4)*(Rebuts!$B$2:$B$1000=$A17)* (Rebuts!$I$2:$I$1000)) -> 0 | E17: =SUMPRODUCT((Rebuts!$A$2:$A$1000=$B$1)*(Rebuts!$C$2:$C$1000=E$4)*(Rebuts!$B$2:$B$1000=$A17)* (Rebuts!$I$2:$I$1000)) -> 0 | F17: =SUMPRODUCT((Rebuts!$A$2:$A$1000=$B$1)*(Rebuts!$C$2:$C$1000=F$4)*(Rebuts!$B$2:$B$1000=$A17)* (Rebuts!$I$2:$I$1000)) -> 0 | G17: =SUMPRODUCT((Rebuts!$A$2:$A$1000=$B$1)*(Rebuts!$C$2:$C$1000=G$4)*(Rebuts!$B$2:$B$1000=$A17)* (Rebuts!$I$2:$I$1000)) -> 0 | H17: =SUMPRODUCT((Rebuts!$A$2:$A$1000=$B$1)*(Rebuts!$C$2:$C$1000=H$4)*(Rebuts!$B$2:$B$1000=$A17)* (Rebuts!$I$2:$I$1000)) -> 0 | I17: =SUMPRODUCT((Rebuts!$A$2:$A$1000=$B$1)*(Rebuts!$C$2:$C$1000=I$4)*(Rebuts!$B$2:$B$1000=$A17)* (Rebuts!$I$2:$I$1000)) -> 0 | ... AM17: =SUMPRODUCT((Rebuts!$A$2:$A$1000=$B$1)*(Rebuts!$C$2:$C$1000=AM$4)*(Rebuts!$B$2:$B$1000=$A17)* (Rebuts!$I$2:$I$1000)) -> 0
... A143: 942 | B143: =SUMPRODUCT((Rebuts!$A$2:$A$1000=$B$1)*(Rebuts!$C$2:$C$1000=B$4)*(Rebuts!$B$2:$B$1000=$A143)* (Rebuts!$I$2:$I$1000)) -> 0 | C143: =SUMPRODUCT((Rebuts!$A$2:$A$1000=$B$1)*(Rebuts!$C$2:$C$1000=C$4)*(Rebuts!$B$2:$B$1000=$A143)* (Rebuts!$I$2:$I$1000)) -> 0 | D143: =SUMPRODUCT((Rebuts!$A$2:$A$1000=$B$1)*(Rebuts!$C$2:$C$1000=D$4)*(Rebuts!$B$2:$B$1000=$A143)* (Rebuts!$I$2:$I$1000)) -> 0 | E143: =SUMPRODUCT((Rebuts!$A$2:$A$1000=$B$1)*(Rebuts!$C$2:$C$1000=E$4)*(Rebuts!$B$2:$B$1000=$A143)* (Rebuts!$I$2:$I$1000)) -> 0 | F143: =SUMPRODUCT((Rebuts!$A$2:$A$1000=$B$1)*(Rebuts!$C$2:$C$1000=F$4)*(Rebuts!$B$2:$B$1000=$A143)* (Rebuts!$I$2:$I$1000)) -> 0 | G143: =SUMPRODUCT((Rebuts!$A$2:$A$1000=$B$1)*(Rebuts!$C$2:$C$1000=G$4)*(Rebuts!$B$2:$B$1000=$A143)* (Rebuts!$I$2:$I$1000)) -> 0 | H143: =SUMPRODUCT((Rebuts!$A$2:$A$1000=$B$1)*(Rebuts!$C$2:$C$1000=H$4)*(Rebuts!$B$2:$B$1000=$A143)* (Rebuts!$I$2:$I$1000)) -> 0 | I143: =SUMPRODUCT((Rebuts!$A$2:$A$1000=$B$1)*(Rebuts!$C$2:$C$1000=I$4)*(Rebuts!$B$2:$B$1000=$A143)* (Rebuts!$I$2:$I$1000)) -> 0 | ... AM143: =SUMPRODUCT((Rebuts!$A$2:$A$1000=$B$1)*(Rebuts!$C$2:$C$1000=AM$4)*(Rebuts!$B$2:$B$1000=$A143)* (Rebuts!$I$2:$I$1000)) -> 0
A144: TOTAL GENERAL
