Workbook

Sheet Impayés
A1: Liste des factures impayées
A3: Relevé au : | B3: =DATE(2012,4,16) -> 41015
A5: Date de facture | B5: N° de facture | C5: Client | D5: Montant TTC | E5: Échéance (30 jours fin de mois) | F5: Retard
A6: =DATE(2011,12,10) -> 40887 | B6: 34 | C6: Lagardère Active | D6: 10452 | E6: =EOMONTH(A6,1) -> 40939 | F6: =$B$3-E6 -> 76
A7: =DATE(2011,12,22) -> 40899 | B7: 38 | C7: JM BRUNEAU | D7: 45926.4 | E7: =EOMONTH(A7,1) -> 40939 | F7: =$B$3-E7 -> 76
A8: =DATE(2012,1,2) -> 40910 | B8: 46 | C8: Lagardère Active | D8: 36779.49 | E8: =EOMONTH(A8,1) -> 40968 | F8: =$B$3-E8 -> 47
A9: =DATE(2012,1,7) -> 40915 | B9: 50 | C9: Luderix International | D9: 22733.57 | E9: =EOMONTH(A9,1) -> 40968 | F9: =$B$3-E9 -> 47
A10: =DATE(2012,1,9) -> 40917 | B10: 51 | C10: UNIGRO | D10: 58000 | E10: =EOMONTH(A10,1) -> 40968 | F10: =$B$3-E10 -> 47
A11: =DATE(2012,2,3) -> 40942 | B11: 69 | C11: Lagardère Active | D11: 85753.91 | E11: =EOMONTH(A11,1) -> 40999 | F11: =$B$3-E11 -> 16

Sheet Relances
A1: Liste des relances
A3: Relevé au : | B3: =DATE(2012,4,16) -> 41015
A5: Date de facture | B5: N° de facture | C5: Client | D5: Montant TTC | E5: Échéance (30 jours fin de mois) | F5: Retard
A6: =IF(Impayés!$F6>3, Impayés!A6, "---") -> 40887 | B6: =IF(Impayés!$F6>3, Impayés!B6, "---") -> 34 | C6: =IF(Impayés!$F6>3, Impayés!C6, "---") -> Lagardère Active | D6: =IF(Impayés!$F6>3, Impayés!D6, "---") -> 10452 | E6: =IF(Impayés!$F6>3, Impayés!E6, "---") -> 40939 | F6: =IF(Impayés!$F6>3, Impayés!F6, "---") -> 76 | G6: Letrre 1
A7: =IF(Impayés!$F7>3, Impayés!A7, "---") -> 40899 | B7: =IF(Impayés!$F7>3, Impayés!B7, "---") -> 38 | C7: =IF(Impayés!$F7>3, Impayés!C7, "---") -> JM BRUNEAU | D7: =IF(Impayés!$F7>3, Impayés!D7, "---") -> 45926.4 | E7: =IF(Impayés!$F7>3, Impayés!E7, "---") -> 40939 | F7: =IF(Impayés!$F7>3, Impayés!F7, "---") -> 76 | G7: Lettre 2
A8: =IF(Impayés!$F8>3, Impayés!A8, "---") -> 40910 | B8: =IF(Impayés!$F8>3, Impayés!B8, "---") -> 46 | C8: =IF(Impayés!$F8>3, Impayés!C8, "---") -> Lagardère Active | D8: =IF(Impayés!$F8>3, Impayés!D8, "---") -> 36779.49 | E8: =IF(Impayés!$F8>3, Impayés!E8, "---") -> 40968 | F8: =IF(Impayés!$F8>3, Impayés!F8, "---") -> 47 | G8: Lettre 3
A9: =IF(Impayés!$F9>3, Impayés!A9, "---") -> 40915 | B9: =IF(Impayés!$F9>3, Impayés!B9, "---") -> 50 | C9: =IF(Impayés!$F9>3, Impayés!C9, "---") -> Luderix International | D9: =IF(Impayés!$F9>3, Impayés!D9, "---") -> 22733.57 | E9: =IF(Impayés!$F9>3, Impayés!E9, "---") -> 40968 | F9: =IF(Impayés!$F9>3, Impayés!F9, "---") -> 47 | G9: Lettre 4
A10: =IF(Impayés!$F10>3, Impayés!A10, "---") -> 40917 | B10: =IF(Impayés!$F10>3, Impayés!B10, "---") -> 51 | C10: =IF(Impayés!$F10>3, Impayés!C10, "---") -> UNIGRO | D10: =IF(Impayés!$F10>3, Impayés!D10, "---") -> 58000 | E10: =IF(Impayés!$F10>3, Impayés!E10, "---") -> 40968 | F10: =IF(Impayés!$F10>3, Impayés!F10, "---") -> 47 | G10: Letttre 5
A11: =IF(Impayés!$F11>3, Impayés!A11, "---") -> 40942 | B11: =IF(Impayés!$F11>3, Impayés!B11, "---") -> 69 | C11: =IF(Impayés!$F11>3, Impayés!C11, "---") -> Lagardère Active | D11: =IF(Impayés!$F11>3, Impayés!D11, "---") -> 85753.91 | E11: =IF(Impayés!$F11>3, Impayés!E11, "---") -> 40999 | F11: =IF(Impayés!$F11>3, Impayés!F11, "---") -> 16 | G11: Lettre 6

Sheet Lettre 1
A4: KLIVER FRANCE IMPORT
A5: ZAE - Parc de l'Esplanade
A6: 12, Rue Enrico Fermi
A7: 77400 Saint Thibault Des Vignes
A8: Tel : 01 75 73 50 34
A9: Fax : 01 64 02 97 61
D12: =C6&Relances!C6 -> Lagardère Active
D13: Service Comptabilité Fournisseurs
D14: 149, Rue Anatole France
D15: 92534 LEVALLOIS PERRET
A17: OBJET: IMPAYES
A19: Madame, Monsieur
A21: ="Nous n'avons pas reçu votre règlement de la facture du A6"&Relances!A6 -> Nous n'avons pas reçu votre règlement de la facture du A640887
A23: ="Son échéance était fixée au E6"&Relances!E6 -> Son échéance était fixée au E640939
A25: Nous vous remercions par conséquent de bien vouloir nous faire parvenir
A27: ="le montant de D6"&Relances!D6 -> le montant de D610452
A29: Nous vous prions de croire en nos sentiments les plus dévoués.
D31: PDG
D32: Valérie Benoît
A37: KLIVER FRANCE IMPORT
A38: SAS au capital de 7500€
A39: RCS: 532 561 727 SIRET: 552 561 727 00019 Code APE: 4649Z TVA Intracommunautaire: FR365 325 61 727

Sheet Lettre 2
A3: KLIVER FRANCE IMPORT
A4: ZAE - Parc de l'Esplanade
A5: 12, Rue Enrico Fermi
A6: 77400 Saint Thibault Des Vignes
A7: Tel : 01 75 73 50 34
A8: Fax : 01 64 02 97 61
D12: =C7&Relances!C7 -> JM BRUNEAU
D13: Comptabilité Fournisseurs
D14: 19, Avenue de la Baltique
D15: 91148 LES ULIS
A17: OBJET : IMPAYES
A19: Madame, Monsieur,
A21: ="Nous n'avons pas reçu votre règlement de la facture du A7"&Relances!A7 -> Nous n'avons pas reçu votre règlement de la facture du A740899
A23: ="Son échéance était fixée au E7"&Relances!E7 -> Son échéance était fixée au E740939
A25: Nous vous remercions par conséquent de bien vouloir nous faire parvenir
A27: ="le montant de D7"&Relances!D7 -> le montant de D745926,4
A29: Nous vous prions de croire en nos sentiments les plus dévoués.

Sheet Lettre 3
A4: KLIVER FRANCE IMPORT
A5: ZAE - Parc de l'Esplanade
A6: 12, Rue Enrico Fermi
A7: 77400 Saint Thibault Des Vignes
A8: Tel : 01 75 73 50 34
A9: Fax : 01 64 02 97 61
D12: =C8&Relances!C8 -> Lagardère Active
D13: Comptabilité Fournisseurs
D14: 149, Rue Anatole France
D15: 92534 LEVALLOIS PERRET
A17: OBJET : IMPAYES
A19: Madame, Monsieur,
A21: ="Nous n'avons pas reçu votre règlement de la facture du A8"&Relances!A8 -> Nous n'avons pas reçu votre règlement de la facture du A840910
A23: ="Son échéance était fixée au E8"&Relances!E8 -> Son échéance était fixée au E840968
A25: Nous vous remercions par conséquent de bien vouloir nous faire parvenir
A27: ="le montant de D8"&Relances!D8 -> le montant de D836779,49
A29: Nous vous prions de croire en nos sentiments les plus dévoués.

Sheet Lettre 4
A4: KLIVER FRANCE IMPORT
A5: ZAE - Parc de l'Esplanade
A6: 12, Rue Enrico Fermi
A7: 77400 Saint Thibault Des Vignes
A8: Tel : 01 75 73 50 34
A9: Fax : 01 64 02 97 61
D12: =C9&Relances!C9 -> Luderix International
D13: Comptabilité Fournisseurs
D14: Parc d'activité des Moulins de La Lys
D15: 59116 HOUPLINES
A17: OBJET : IMPAYES
A19: Madame, Monsieur,
A21: ="Nous n'avons pas reçu votre règlement de la facture du A9"&Relances!A9 -> Nous n'avons pas reçu votre règlement de la facture du A940915
A23: ="Son échéance était fixée au E9"&Relances!E9 -> Son échéance était fixée au E940968
A25: Nous vous remercions par conséquent de bien vouloir nous faire parvenir
A27: ="le montant de D9"&Relances!D9 -> le montant de D922733,57
A29: Nous vous prions de croire en nos sentiments les plus dévoués.

Sheet Lettre 5
A4: KLIVER FRANCE IMPORT
A5: ZAE - Parc de l'Esplanade
A6: 12, Rue Enrico Fermi
A7: 77400 Saint Thibault Des Vignes
A8: Tel : 01 75 73 50 34
A9: Fax : 01 64 02 97 61
D12: =C10&Relances!C10 -> UNIGRO
D13: Service Comptabilité Fournisseurs
D14: Chaussée de Lille 422
D15: B-7501 ORCQ
D16: Belgique
A18: OBJET : IMPAYES
A20: Madame, Monsieur,
A22: ="Nous n'avons pas reçu votre règlement de la facture du A10"&Relances!A10 -> Nous n'avons pas reçu votre règlement de la facture du A1040917
A24: ="Son échéance était fixée au E10"&Relances!E10 -> Son échéance était fixée au E1040968
A26: Nous vous remercions par conséquent de bien vouloir nous faire parvenir
A28: ="le montant de D10"&Relances!D10 -> le montant de D1058000
A30: Nous vous prions de croire en nos sentiments les plus dévoués.

Sheet Lettre 6
A4: KLIVER FRANCE IMPORT
A5: ZAE - Parc de l'Esplanade
A6: 12, Rue Enrico Fermi
A7: 77400 Saint Thibault Des Vignes
A8: Tel : 01 75 73 50 34
A9: Fax : 01 64 02 97 61
D12: =C11&Relances!C11 -> Lagardère Active
D13: Service Comptabilité Fournisseurs
D14: 149, Rue Anatole France
D15: 92534 LEVALLOIS PERRET
A17: OBJET : IMPAYES
A19: Madame, Monsieur,
A21: ="Nous n'avons pas reçu votre règlement de la facture du A11"&Relances!A11 -> Nous n'avons pas reçu votre règlement de la facture du A1140942
A23: ="Son échéance était fixée au E11"&Relances!E11 -> Son échéance était fixée au E1140999
A25: Nous vous remercions par conséquent de bien vouloir nous faire parvenir
A27: ="le montant de D11"&Relances!D11 -> le montant de D1185753,91
A29: Nous vous prions de croire en nos sentiments les plus dévoués.
