Workbook
Name pouet: OFFSET(Action!$N$7,0,0,COUNTA(Action!$N:$N)-1,1)

Sheet Feuil1
B2: genre | C2: date | D2: film | E2: Action
E3: film par date | F3: film par ordre alphabétique | G3: date | H3: film
B4: Thriller, Romance | C4: 41958 | D4: Paradise Lost
B5: Guerre, Drame, Action | C5: 41959 | D5: Fury | E5: 1 | G5: 41959 | H5: Fury
B6: Policier, Drame | C6: 41959 | D6: La prochaine fois je viserais le cœur
B7: Science-fiction, Fantastique, Drame | C7: 41960 | D7: The Giver
B8: Animation , Aventure , Comédie | C8: 41970 | D8: Astérix et le domaine des dieux
B9: Action , Drame , Science-fiction | C9: 41980 | D9: Hunger Games - la révolte partie 1 | E9: 2 | G9: 41980 | H9: Hunger Games - la révolte partie 1
B10: Comédie , Famille | C10: 41982 | D10: Paddington
B11: Fantastique , Aventure | C11: 41990 | D11: Le septième fils
B12: Action , Fantastique , Aventure | C12: 41990 | D12: Le hobbit : la bataille des cinq armées | E12: 3 | G12: 41990 | H12: Le hobbit : la bataille des cinq armées
B13: Comédie | C13: 42007 | D13: Comment tuer son boss 2
B14: Science-fiction, Drame | C14: 42009 | D14: Interstellar
B15: Animation, Comédie, Famille | C15: 42010 | D15: Les Pingouins de Madagascar
B16: Comédie, Aventure, Famille | C16: 42010 | D16: Le Père Noël
B17: Péplum, Action | C17: 42017 | D17: Exodus Gods and kings | E17: 4 | G17: 42017 | H17: Exodus Gods and kings
B18: Action , Thriller | C18: 42023 | D18: Joker | E18: 5 | G18: 42023 | H18: Joker
B19: Comédie | C19: 42023 | D19: Une heure de tranquillité
B20: Comédie, Policier | C20: 42025 | D20: Charlie Mortdecai
B21: Action | C21: 42025 | D21: Taken 3 | E21: 6 | G21: 42025 | H21: Taken 3

Sheet Action
C2: Par date | H2: Par ordre alphabétique
C3: Date | D3: Film | H3: Film | I3: Date
B4: 1 | C4: =IF(MAX(Feuil1!$E$4:$E$21)>=$B4,VLOOKUP($B4,Feuil1!$E$4:$H$21,3)," ") -> 41959 | D4: =IF(MAX(Feuil1!$E$4:$E$21)>=$B4,VLOOKUP($B4,Feuil1!$E$4:$H$21,4)," ") -> Fury | E4: =IF(C4=" "," ",YEAR(C4)) -> 2014 | F4: =IF(C4=" "," ",MONTH(C4)) -> 11 | H4: =IF(ROWS($1:1)>COUNTA(Actions),"",LOOKUP(1,0/FREQUENCY(ROWS($1:1),COUNTIF(Actions,"<="&Actions)),Actions)) -> #NAME?
B5: 2 | C5: =IF(MAX(Feuil1!$E$4:$E$21)>=$B5,VLOOKUP($B5,Feuil1!$E$4:$H$21,3)," ") -> 41980 | D5: =IF(MAX(Feuil1!$E$4:$E$21)>=$B5,VLOOKUP($B5,Feuil1!$E$4:$H$21,4)," ") -> Hunger Games - la révolte partie 1 | E5: =IF(C5=" "," ",YEAR(C5)) -> 2014 | F5: =IF(C5=" "," ",MONTH(C5)) -> 12 | H5: =IF(ROWS($1:2)>COUNTA(Actions),"",LOOKUP(1,0/FREQUENCY(ROWS($1:2),COUNTIF(Actions,"<="&Actions)),Actions))
B6: 3 | C6: =IF(MAX(Feuil1!$E$4:$E$21)>=$B6,VLOOKUP($B6,Feuil1!$E$4:$H$21,3)," ") -> 41990 | D6: =IF(MAX(Feuil1!$E$4:$E$21)>=$B6,VLOOKUP($B6,Feuil1!$E$4:$H$21,4)," ") -> Le hobbit : la bataille des cinq armées | E6: =IF(C6=" "," ",YEAR(C6)) -> 2014 | F6: =IF(C6=" "," ",MONTH(C6)) -> 12 | H6: =IF(ROWS($1:3)>COUNTA(Actions),"",LOOKUP(1,0/FREQUENCY(ROWS($1:3),COUNTIF(Actions,"<="&Actions)),Actions))
B7: 4 | C7: =IF(MAX(Feuil1!$E$4:$E$21)>=$B7,VLOOKUP($B7,Feuil1!$E$4:$H$21,3)," ") -> 42017 | D7: =IF(MAX(Feuil1!$E$4:$E$21)>=$B7,VLOOKUP($B7,Feuil1!$E$4:$H$21,4)," ") -> Exodus Gods and kings | E7: =IF(C7=" "," ",YEAR(C7)) -> 2015 | F7: =IF(C7=" "," ",MONTH(C7)) -> 1 | H7: =IF(ROWS($1:4)>COUNTA(Actions),"",LOOKUP(1,0/FREQUENCY(ROWS($1:4),COUNTIF(Actions,"<="&Actions)),Actions)) | O7: =IFERROR(INDEX(Actions,MATCH(SMALL(COUNTIF(Actions,"<="&Actions),ROW(A1)),COUNTIF(Actions,"<="&Actions),0)),"")
B8: 5 | C8: =IF(MAX(Feuil1!$E$4:$E$21)>=$B8,VLOOKUP($B8,Feuil1!$E$4:$H$21,3)," ") -> 42023 | D8: =IF(MAX(Feuil1!$E$4:$E$21)>=$B8,VLOOKUP($B8,Feuil1!$E$4:$H$21,4)," ") -> Joker | E8: =IF(C8=" "," ",YEAR(C8)) -> 2015 | F8: =IF(C8=" "," ",MONTH(C8)) -> 1 | H8: =IF(ROWS($1:5)>COUNTA(Actions),"",LOOKUP(1,0/FREQUENCY(ROWS($1:5),COUNTIF(Actions,"<="&Actions)),Actions))
B9: 6 | C9: =IF(MAX(Feuil1!$E$4:$E$21)>=$B9,VLOOKUP($B9,Feuil1!$E$4:$H$21,3)," ") -> 42025 | D9: =IF(MAX(Feuil1!$E$4:$E$21)>=$B9,VLOOKUP($B9,Feuil1!$E$4:$H$21,4)," ") -> Taken 3 | E9: =IF(C9=" "," ",YEAR(C9)) -> 2015 | F9: =IF(C9=" "," ",MONTH(C9)) -> 1 | H9: =IF(ROWS($1:6)>COUNTA(Actions),"",LOOKUP(1,0/FREQUENCY(ROWS($1:6),COUNTIF(Actions,"<="&Actions)),Actions))
B10: 7 | C10: =IF(MAX(Feuil1!$E$4:$E$21)>=$B10,VLOOKUP($B10,Feuil1!$E$4:$H$21,3)," ") | D10: =IF(MAX(Feuil1!$E$4:$E$21)>=$B10,VLOOKUP($B10,Feuil1!$E$4:$H$21,4)," ") | E10: =IF(C10=" "," ",YEAR(C10)) | F10: =IF(C10=" "," ",MONTH(C10)) | H10: =IF(ROWS($1:7)>COUNTA(Actions),"",LOOKUP(1,0/FREQUENCY(ROWS($1:7),COUNTIF(Actions,"<="&Actions)),Actions))
B11: 8 | C11: =IF(MAX(Feuil1!$E$4:$E$21)>=$B11,VLOOKUP($B11,Feuil1!$E$4:$H$21,3)," ") | D11: =IF(MAX(Feuil1!$E$4:$E$21)>=$B11,VLOOKUP($B11,Feuil1!$E$4:$H$21,4)," ") | E11: =IF(C11=" "," ",YEAR(C11)) | F11: =IF(C11=" "," ",MONTH(C11)) | H11: =IF(ROWS($1:8)>COUNTA(Actions),"",LOOKUP(1,0/FREQUENCY(ROWS($1:8),COUNTIF(Actions,"<="&Actions)),Actions))
B12: 9 | C12: =IF(MAX(Feuil1!$E$4:$E$21)>=$B12,VLOOKUP($B12,Feuil1!$E$4:$H$21,3)," ") | D12: =IF(MAX(Feuil1!$E$4:$E$21)>=$B12,VLOOKUP($B12,Feuil1!$E$4:$H$21,4)," ") | E12: =IF(C12=" "," ",YEAR(C12)) | F12: =IF(C12=" "," ",MONTH(C12)) | H12: =IF(ROWS($1:9)>COUNTA(Actions),"",LOOKUP(1,0/FREQUENCY(ROWS($1:9),COUNTIF(Actions,"<="&Actions)),Actions))
B13: 10 | C13: =IF(MAX(Feuil1!$E$4:$E$21)>=$B13,VLOOKUP($B13,Feuil1!$E$4:$H$21,3)," ") | D13: =IF(MAX(Feuil1!$E$4:$E$21)>=$B13,VLOOKUP($B13,Feuil1!$E$4:$H$21,4)," ") | E13: =IF(C13=" "," ",YEAR(C13)) | F13: =IF(C13=" "," ",MONTH(C13)) | H13: =IF(ROWS($1:10)>COUNTA(Actions),"",LOOKUP(1,0/FREQUENCY(ROWS($1:10),COUNTIF(Actions,"<="&Actions)),Actions))
B14: 11 | C14: =IF(MAX(Feuil1!$E$4:$E$21)>=$B14,VLOOKUP($B14,Feuil1!$E$4:$H$21,3)," ") | D14: =IF(MAX(Feuil1!$E$4:$E$21)>=$B14,VLOOKUP($B14,Feuil1!$E$4:$H$21,4)," ") | E14: =IF(C14=" "," ",YEAR(C14)) | F14: =IF(C14=" "," ",MONTH(C14)) | H14: =IF(ROWS($1:11)>COUNTA(Actions),"",LOOKUP(1,0/FREQUENCY(ROWS($1:11),COUNTIF(Actions,"<="&Actions)),Actions))
B15: 12 | C15: =IF(MAX(Feuil1!$E$4:$E$21)>=$B15,VLOOKUP($B15,Feuil1!$E$4:$H$21,3)," ") | D15: =IF(MAX(Feuil1!$E$4:$E$21)>=$B15,VLOOKUP($B15,Feuil1!$E$4:$H$21,4)," ") | E15: =IF(C15=" "," ",YEAR(C15)) | F15: =IF(C15=" "," ",MONTH(C15)) | H15: =IF(ROWS($1:12)>COUNTA(Actions),"",LOOKUP(1,0/FREQUENCY(ROWS($1:12),COUNTIF(Actions,"<="&Actions)),Actions))
B16: 13 | C16: =IF(MAX(Feuil1!$E$4:$E$21)>=$B16,VLOOKUP($B16,Feuil1!$E$4:$H$21,3)," ") | D16: =IF(MAX(Feuil1!$E$4:$E$21)>=$B16,VLOOKUP($B16,Feuil1!$E$4:$H$21,4)," ") | E16: =IF(C16=" "," ",YEAR(C16)) | F16: =IF(C16=" "," ",MONTH(C16)) | H16: =IF(ROWS($1:13)>COUNTA(Actions),"",LOOKUP(1,0/FREQUENCY(ROWS($1:13),COUNTIF(Actions,"<="&Actions)),Actions))
B17: 14 | C17: =IF(MAX(Feuil1!$E$4:$E$21)>=$B17,VLOOKUP($B17,Feuil1!$E$4:$H$21,3)," ") | D17: =IF(MAX(Feuil1!$E$4:$E$21)>=$B17,VLOOKUP($B17,Feuil1!$E$4:$H$21,4)," ") | E17: =IF(C17=" "," ",YEAR(C17)) | F17: =IF(C17=" "," ",MONTH(C17)) | H17: =IF(ROWS($1:14)>COUNTA(Actions),"",LOOKUP(1,0/FREQUENCY(ROWS($1:14),COUNTIF(Actions,"<="&Actions)),Actions))
B18: 15 | C18: =IF(MAX(Feuil1!$E$4:$E$21)>=$B18,VLOOKUP($B18,Feuil1!$E$4:$H$21,3)," ") | D18: =IF(MAX(Feuil1!$E$4:$E$21)>=$B18,VLOOKUP($B18,Feuil1!$E$4:$H$21,4)," ") | E18: =IF(C18=" "," ",YEAR(C18)) | F18: =IF(C18=" "," ",MONTH(C18)) | H18: =IF(ROWS($1:15)>COUNTA(Actions),"",LOOKUP(1,0/FREQUENCY(ROWS($1:15),COUNTIF(Actions,"<="&Actions)),Actions))
B19: 16 | C19: =IF(MAX(Feuil1!$E$4:$E$21)>=$B19,VLOOKUP($B19,Feuil1!$E$4:$H$21,3)," ") | D19: =IF(MAX(Feuil1!$E$4:$E$21)>=$B19,VLOOKUP($B19,Feuil1!$E$4:$H$21,4)," ") | E19: =IF(C19=" "," ",YEAR(C19)) | F19: =IF(C19=" "," ",MONTH(C19)) | H19: =IF(ROWS($1:16)>COUNTA(Actions),"",LOOKUP(1,0/FREQUENCY(ROWS($1:16),COUNTIF(Actions,"<="&Actions)),Actions))
B20: 17 | C20: =IF(MAX(Feuil1!$E$4:$E$21)>=$B20,VLOOKUP($B20,Feuil1!$E$4:$H$21,3)," ") | D20: =IF(MAX(Feuil1!$E$4:$E$21)>=$B20,VLOOKUP($B20,Feuil1!$E$4:$H$21,4)," ") | E20: =IF(C20=" "," ",YEAR(C20)) | F20: =IF(C20=" "," ",MONTH(C20)) | H20: =IF(ROWS($1:17)>COUNTA(Actions),"",LOOKUP(1,0/FREQUENCY(ROWS($1:17),COUNTIF(Actions,"<="&Actions)),Actions))
B21: 18 | C21: =IF(MAX(Feuil1!$E$4:$E$21)>=$B21,VLOOKUP($B21,Feuil1!$E$4:$H$21,3)," ") | D21: =IF(MAX(Feuil1!$E$4:$E$21)>=$B21,VLOOKUP($B21,Feuil1!$E$4:$H$21,4)," ") | E21: =IF(C21=" "," ",YEAR(C21)) | F21: =IF(C21=" "," ",MONTH(C21)) | H21: =IF(ROWS($1:18)>COUNTA(Actions),"",LOOKUP(1,0/FREQUENCY(ROWS($1:18),COUNTIF(Actions,"<="&Actions)),Actions))
B22: 19 | C22: =IF(MAX(Feuil1!$E$4:$E$21)>=$B22,VLOOKUP($B22,Feuil1!$E$4:$H$21,3)," ") | D22: =IF(MAX(Feuil1!$E$4:$E$21)>=$B22,VLOOKUP($B22,Feuil1!$E$4:$H$21,4)," ") | E22: =IF(C22=" "," ",YEAR(C22)) | F22: =IF(C22=" "," ",MONTH(C22)) | H22: =IF(ROWS($1:19)>COUNTA(Actions),"",LOOKUP(1,0/FREQUENCY(ROWS($1:19),COUNTIF(Actions,"<="&Actions)),Actions))
B23: 20 | C23: =IF(MAX(Feuil1!$E$4:$E$21)>=$B23,VLOOKUP($B23,Feuil1!$E$4:$H$21,3)," ") | D23: =IF(MAX(Feuil1!$E$4:$E$21)>=$B23,VLOOKUP($B23,Feuil1!$E$4:$H$21,4)," ") | E23: =IF(C23=" "," ",YEAR(C23)) | F23: =IF(C23=" "," ",MONTH(C23)) | H23: =IF(ROWS($1:20)>COUNTA(Actions),"",LOOKUP(1,0/FREQUENCY(ROWS($1:20),COUNTIF(Actions,"<="&Actions)),Actions))
B24: 21 | C24: =IF(MAX(Feuil1!$E$4:$E$21)>=$B24,VLOOKUP($B24,Feuil1!$E$4:$H$21,3)," ") | D24: =IF(MAX(Feuil1!$E$4:$E$21)>=$B24,VLOOKUP($B24,Feuil1!$E$4:$H$21,4)," ") | E24: =IF(C24=" "," ",YEAR(C24)) | F24: =IF(C24=" "," ",MONTH(C24)) | H24: =IF(ROWS($1:21)>COUNTA(Actions),"",LOOKUP(1,0/FREQUENCY(ROWS($1:21),COUNTIF(Actions,"<="&Actions)),Actions))
B25: 22 | C25: =IF(MAX(Feuil1!$E$4:$E$21)>=$B25,VLOOKUP($B25,Feuil1!$E$4:$H$21,3)," ") | D25: =IF(MAX(Feuil1!$E$4:$E$21)>=$B25,VLOOKUP($B25,Feuil1!$E$4:$H$21,4)," ") | E25: =IF(C25=" "," ",YEAR(C25)) | F25: =IF(C25=" "," ",MONTH(C25)) | H25: =IF(ROWS($1:22)>COUNTA(Actions),"",LOOKUP(1,0/FREQUENCY(ROWS($1:22),COUNTIF(Actions,"<="&Actions)),Actions))
B26: 23 | C26: =IF(MAX(Feuil1!$E$4:$E$21)>=$B26,VLOOKUP($B26,Feuil1!$E$4:$H$21,3)," ") | D26: =IF(MAX(Feuil1!$E$4:$E$21)>=$B26,VLOOKUP($B26,Feuil1!$E$4:$H$21,4)," ") | E26: =IF(C26=" "," ",YEAR(C26)) | F26: =IF(C26=" "," ",MONTH(C26)) | H26: =IF(ROWS($1:23)>COUNTA(Actions),"",LOOKUP(1,0/FREQUENCY(ROWS($1:23),COUNTIF(Actions,"<="&Actions)),Actions))
B27: 24 | C27: =IF(MAX(Feuil1!$E$4:$E$21)>=$B27,VLOOKUP($B27,Feuil1!$E$4:$H$21,3)," ") | D27: =IF(MAX(Feuil1!$E$4:$E$21)>=$B27,VLOOKUP($B27,Feuil1!$E$4:$H$21,4)," ") | E27: =IF(C27=" "," ",YEAR(C27)) | F27: =IF(C27=" "," ",MONTH(C27)) | H27: =IF(ROWS($1:24)>COUNTA(Actions),"",LOOKUP(1,0/FREQUENCY(ROWS($1:24),COUNTIF(Actions,"<="&Actions)),Actions))
B28: 25 | C28: =IF(MAX(Feuil1!$E$4:$E$21)>=$B28,VLOOKUP($B28,Feuil1!$E$4:$H$21,3)," ") | D28: =IF(MAX(Feuil1!$E$4:$E$21)>=$B28,VLOOKUP($B28,Feuil1!$E$4:$H$21,4)," ") | E28: =IF(C28=" "," ",YEAR(C28)) | F28: =IF(C28=" "," ",MONTH(C28)) | H28: =IF(ROWS($1:25)>COUNTA(Actions),"",LOOKUP(1,0/FREQUENCY(ROWS($1:25),COUNTIF(Actions,"<="&Actions)),Actions))
B29: 26 | C29: =IF(MAX(Feuil1!$E$4:$E$21)>=$B29,VLOOKUP($B29,Feuil1!$E$4:$H$21,3)," ") | D29: =IF(MAX(Feuil1!$E$4:$E$21)>=$B29,VLOOKUP($B29,Feuil1!$E$4:$H$21,4)," ") | E29: =IF(C29=" "," ",YEAR(C29)) | F29: =IF(C29=" "," ",MONTH(C29)) | H29: =IF(ROWS($1:26)>COUNTA(Actions),"",LOOKUP(1,0/FREQUENCY(ROWS($1:26),COUNTIF(Actions,"<="&Actions)),Actions))
B30: 27 | C30: =IF(MAX(Feuil1!$E$4:$E$21)>=$B30,VLOOKUP($B30,Feuil1!$E$4:$H$21,3)," ") | D30: =IF(MAX(Feuil1!$E$4:$E$21)>=$B30,VLOOKUP($B30,Feuil1!$E$4:$H$21,4)," ") | E30: =IF(C30=" "," ",YEAR(C30)) | F30: =IF(C30=" "," ",MONTH(C30)) | H30: =IF(ROWS($1:27)>COUNTA(Actions),"",LOOKUP(1,0/FREQUENCY(ROWS($1:27),COUNTIF(Actions,"<="&Actions)),Actions))
B31: 28 | C31: =IF(MAX(Feuil1!$E$4:$E$21)>=$B31,VLOOKUP($B31,Feuil1!$E$4:$H$21,3)," ") | D31: =IF(MAX(Feuil1!$E$4:$E$21)>=$B31,VLOOKUP($B31,Feuil1!$E$4:$H$21,4)," ") | E31: =IF(C31=" "," ",YEAR(C31)) | F31: =IF(C31=" "," ",MONTH(C31)) | H31: =IF(ROWS($1:28)>COUNTA(Actions),"",LOOKUP(1,0/FREQUENCY(ROWS($1:28),COUNTIF(Actions,"<="&Actions)),Actions))
B32: 29 | C32: =IF(MAX(Feuil1!$E$4:$E$21)>=$B32,VLOOKUP($B32,Feuil1!$E$4:$H$21,3)," ") | D32: =IF(MAX(Feuil1!$E$4:$E$21)>=$B32,VLOOKUP($B32,Feuil1!$E$4:$H$21,4)," ") | E32: =IF(C32=" "," ",YEAR(C32)) | F32: =IF(C32=" "," ",MONTH(C32)) | H32: =IF(ROWS($1:29)>COUNTA(Actions),"",LOOKUP(1,0/FREQUENCY(ROWS($1:29),COUNTIF(Actions,"<="&Actions)),Actions))
B33: 30 | C33: =IF(MAX(Feuil1!$E$4:$E$21)>=$B33,VLOOKUP($B33,Feuil1!$E$4:$H$21,3)," ") | D33: =IF(MAX(Feuil1!$E$4:$E$21)>=$B33,VLOOKUP($B33,Feuil1!$E$4:$H$21,4)," ") | E33: =IF(C33=" "," ",YEAR(C33)) | F33: =IF(C33=" "," ",MONTH(C33)) | H33: =IF(ROWS($1:30)>COUNTA(Actions),"",LOOKUP(1,0/FREQUENCY(ROWS($1:30),COUNTIF(Actions,"<="&Actions)),Actions))
B34: 31 | C34: =IF(MAX(Feuil1!$E$4:$E$21)>=$B34,VLOOKUP($B34,Feuil1!$E$4:$H$21,3)," ") | D34: =IF(MAX(Feuil1!$E$4:$E$21)>=$B34,VLOOKUP($B34,Feuil1!$E$4:$H$21,4)," ") | E34: =IF(C34=" "," ",YEAR(C34)) | F34: =IF(C34=" "," ",MONTH(C34)) | H34: =IF(ROWS($1:31)>COUNTA(Actions),"",LOOKUP(1,0/FREQUENCY(ROWS($1:31),COUNTIF(Actions,"<="&Actions)),Actions))
B35: 32 | C35: =IF(MAX(Feuil1!$E$4:$E$21)>=$B35,VLOOKUP($B35,Feuil1!$E$4:$H$21,3)," ") | D35: =IF(MAX(Feuil1!$E$4:$E$21)>=$B35,VLOOKUP($B35,Feuil1!$E$4:$H$21,4)," ") | E35: =IF(C35=" "," ",YEAR(C35)) | F35: =IF(C35=" "," ",MONTH(C35)) | H35: =IF(ROWS($1:32)>COUNTA(Actions),"",LOOKUP(1,0/FREQUENCY(ROWS($1:32),COUNTIF(Actions,"<="&Actions)),Actions))
B36: 33 | C36: =IF(MAX(Feuil1!$E$4:$E$21)>=$B36,VLOOKUP($B36,Feuil1!$E$4:$H$21,3)," ") | D36: =IF(MAX(Feuil1!$E$4:$E$21)>=$B36,VLOOKUP($B36,Feuil1!$E$4:$H$21,4)," ") | E36: =IF(C36=" "," ",YEAR(C36)) | F36: =IF(C36=" "," ",MONTH(C36)) | H36: =IF(ROWS($1:33)>COUNTA(Actions),"",LOOKUP(1,0/FREQUENCY(ROWS($1:33),COUNTIF(Actions,"<="&Actions)),Actions))
B37: 34 | C37: =IF(MAX(Feuil1!$E$4:$E$21)>=$B37,VLOOKUP($B37,Feuil1!$E$4:$H$21,3)," ") | D37: =IF(MAX(Feuil1!$E$4:$E$21)>=$B37,VLOOKUP($B37,Feuil1!$E$4:$H$21,4)," ") | E37: =IF(C37=" "," ",YEAR(C37)) | F37: =IF(C37=" "," ",MONTH(C37)) | H37: =IF(ROWS($1:34)>COUNTA(Actions),"",LOOKUP(1,0/FREQUENCY(ROWS($1:34),COUNTIF(Actions,"<="&Actions)),Actions))
B38: 35 | C38: =IF(MAX(Feuil1!$E$4:$E$21)>=$B38,VLOOKUP($B38,Feuil1!$E$4:$H$21,3)," ") | D38: =IF(MAX(Feuil1!$E$4:$E$21)>=$B38,VLOOKUP($B38,Feuil1!$E$4:$H$21,4)," ") | E38: =IF(C38=" "," ",YEAR(C38)) | F38: =IF(C38=" "," ",MONTH(C38)) | H38: =IF(ROWS($1:35)>COUNTA(Actions),"",LOOKUP(1,0/FREQUENCY(ROWS($1:35),COUNTIF(Actions,"<="&Actions)),Actions))
B39: 36 | C39: =IF(MAX(Feuil1!$E$4:$E$21)>=$B39,VLOOKUP($B39,Feuil1!$E$4:$H$21,3)," ") | D39: =IF(MAX(Feuil1!$E$4:$E$21)>=$B39,VLOOKUP($B39,Feuil1!$E$4:$H$21,4)," ") | E39: =IF(C39=" "," ",YEAR(C39)) | F39: =IF(C39=" "," ",MONTH(C39)) | H39: =IF(ROWS($1:36)>COUNTA(Actions),"",LOOKUP(1,0/FREQUENCY(ROWS($1:36),COUNTIF(Actions,"<="&Actions)),Actions))
B40: 37 | C40: =IF(MAX(Feuil1!$E$4:$E$21)>=$B40,VLOOKUP($B40,Feuil1!$E$4:$H$21,3)," ") | D40: =IF(MAX(Feuil1!$E$4:$E$21)>=$B40,VLOOKUP($B40,Feuil1!$E$4:$H$21,4)," ") | E40: =IF(C40=" "," ",YEAR(C40)) | F40: =IF(C40=" "," ",MONTH(C40)) | H40: =IF(ROWS($1:37)>COUNTA(Actions),"",LOOKUP(1,0/FREQUENCY(ROWS($1:37),COUNTIF(Actions,"<="&Actions)),Actions))
B41: 38 | C41: =IF(MAX(Feuil1!$E$4:$E$21)>=$B41,VLOOKUP($B41,Feuil1!$E$4:$H$21,3)," ") | D41: =IF(MAX(Feuil1!$E$4:$E$21)>=$B41,VLOOKUP($B41,Feuil1!$E$4:$H$21,4)," ") | E41: =IF(C41=" "," ",YEAR(C41)) | F41: =IF(C41=" "," ",MONTH(C41)) | H41: =IF(ROWS($1:38)>COUNTA(Actions),"",LOOKUP(1,0/FREQUENCY(ROWS($1:38),COUNTIF(Actions,"<="&Actions)),Actions))
...
