Workbook
Name pouet: OFFSET(Action!$N$7,0,0,COUNTA(Action!$N:$N)-1,1)

Sheet Feuil1
B2: genre | C2: date | D2: film | E2: Action
E3: film par date | F3: film par ordre alphabétique | G3: date | H3: film
B4: Thriller, Romance | C4: 41958 | D4: Paradise Lost
B5: Guerre, Drame, Action | C5: 41959 | D5: Fury | E5: 1 | G5: 41959 | H5: Fury
B6: Policier, Drame | C6: 41959 | D6: La prochaine fois je viserais le cœur
B7: Science-fiction, Fantastique, Drame | C7: 41960 | D7: The Giver
B8: Animation , Aventure , Comédie | C8: 41970 | D8: Astérix et le domaine des dieux
B9: Action , Drame , Science-fiction | C9: 41980 | D9: Hunger Games - la révolte partie 1 | E9: 2 | G9: 41980 | H9: Hunger Games - la révolte partie 1
B10: Comédie , Famille | C10: 41982 | D10: Paddington
B11: Fantastique , Aventure | C11: 41990 | D11: Le septième fils
B12: Action , Fantastique , Aventure | C12: 41990 | D12: Le hobbit : la bataille des cinq armées | E12: 3 | G12: 41990 | H12: Le hobbit : la bataille des cinq armées
B13: Comédie | C13: 42007 | D13: Comment tuer son boss 2
B14: Science-fiction, Drame | C14: 42009 | D14: Interstellar
B15: Animation, Comédie, Famille | C15: 42010 | D15: Les Pingouins de Madagascar
B16: Comédie, Aventure, Famille | C16: 42010 | D16: Le Père Noël
B17: Péplum, Action | C17: 42017 | D17: Exodus Gods and kings | E17: 4 | G17: 42017 | H17: Exodus Gods and kings
B18: Action , Thriller | C18: 42023 | D18: Joker | E18: 5 | G18: 42023 | H18: Joker
B19: Comédie | C19: 42023 | D19: Une heure de tranquillité
B20: Comédie, Policier | C20: 42025 | D20: Charlie Mortdecai
B21: Action | C21: 42025 | D21: Taken 3 | E21: 6 | G21: 42025 | H21: Taken 3

Sheet Action
C2: Par date | H2: Par ordre alphabétique
C3: Date | D3: Film | H3: Film | I3: Date
B4: 1 | C4: =IF(MAX(Feuil1!$E$4:$E$21)>=$B4,VLOOKUP($B4,Feuil1!$E$4:$H$21,3)," ") -> 41959 | D4: =IF(MAX(Feuil1!$E$4:$E$21)>=$B4,VLOOKUP($B4,Feuil1!$E$4:$H$21,4)," ") -> Fury | E4: =IF(C4=" "," ",YEAR(C4)) -> 2014 | F4: =IF(C4=" "," ",MONTH(C4)) -> 11 | H4: =IF(ROWS($1:1)>COUNTA(Actions),"",LOOKUP(1,0/FREQUENCY(ROWS($1:1),COUNTIF(Actions,"<="&Actions)),Actions)) -> #NAME?
B5: 2 | C5: =IF(MAX(Feuil1!$E$4:$E$21)>=$B5,VLOOKUP($B5,Feuil1!$E$4:$H$21,3)," ") -> 41980 | D5: =IF(MAX(Feuil1!$E$4:$E$21)>=$B5,VLOOKUP($B5,Feuil1!$E$4:$H$21,4)," ") -> Hunger Games - la révolte partie 1 | E5: =IF(C5=" "," ",YEAR(C5)) -> 2014 | F5: =IF(C5=" "," ",MONTH(C5)) -> 12 | H5: =IF(ROWS($1:2)>COUNTA(Actions),"",LOOKUP(1,0/FREQUENCY(ROWS($1:2),COUNTIF(Actions,"<="&Actions)),Actions))
B6: 3 | C6: =IF(MAX(Feuil1!$E$4:$E$21)>=$B6,VLOOKUP($B6,Feuil1!$E$4:$H$21,3)," ") -> 41990 | D6: =IF(MAX(Feuil1!$E$4:$E$21)>=$B6,VLOOKUP($B6,Feuil1!$E$4:$H$21,4)," ") -> Le hobbit : la bataille des cinq armées | E6: =IF(C6=" "," ",YEAR(C6)) -> 2014 | F6: =IF(C6=" "," ",MONTH(C6)) -> 12 | H6: =IF(ROWS($1:3)>COUNTA(Actions),"",LOOKUP(1,0/FREQUENCY(ROWS($1:3),COUNTIF(Actions,"<="&Actions)),Actions))
B7: 4 | C7: =IF(MAX(Feuil1!$E$4:$E$21)>=$B7,VLOOKUP($B7,Feuil1!$E$4:$H$21,3)," ") -> 42017 | D7: =IF(MAX(Feuil1!$E$4:$E$21)>=$B7,VLOOKUP($B7,Feuil1!$E$4:$H$21,4)," ") -> Exodus Gods and kings | E7: =IF(C7=" "," ",YEAR(C7)) -> 2015 | F7: =IF(C7=" "," ",MONTH(C7)) -> 1 | H7: =IF(ROWS($1:4)>COUNTA(Actions),"",LOOKUP(1,0/FREQUENCY(ROWS($1:4),COUNTIF(Actions,"<="&Actions)),Actions)) | O7: =IFERROR(INDEX(Actions,MATCH(SMALL(COUNTIF(Actions,"<="&Actions),ROW(A1)),COUNTIF(Actions,"<="&Actions),0)),"")
B8: 5 | C8: =IF(MAX(Feuil1!$E$4:$E$21)>=$B8,VLOOKUP($B8,Feuil1!$E$4:$H$21,3)," ") -> 42023 | D8: =IF(MAX(Feuil1!$E$4:$E$21)>=$B8,VLOOKUP($B8,Feuil1!$E$4:$H$21,4)," ") -> Joker | E8: =IF(C8=" "," ",YEAR(C8)) -> 2015 | F8: =IF(C8=" "," ",MONTH(C8)) -> 1 | H8: =IF(ROWS($1:5)>COUNTA(Actions),"",LOOKUP(1,0/FREQUENCY(ROWS($1:5),COUNTIF(Actions,"<="&Actions)),Actions))
B9: 6 | C9: =IF(MAX(Feuil1!$E$4:$E$21)>=$B9,VLOOKUP($B9,Feuil1!$E$4:$H$21,3)," ") -> 42025 | D9: =IF(MAX(Feuil1!$E$4:$E$21)>=$B9,VLOOKUP($B9,Feuil1!$E$4:$H$21,4)," ") -> Taken 3 | E9: =IF(C9=" "," ",YEAR(C9)) -> 2015 | F9: =IF(C9=" "," ",MONTH(C9)) -> 1 | H9: =IF(ROWS($1:6)>COUNTA(Actions),"",LOOKUP(1,0/FREQUENCY(ROWS($1:6),COUNTIF(Actions,"<="&Actions)),Actions))
B10: 7 | C10: =IF(MAX(Feuil1!$E$4:$E$21)>=$B10,VLOOKUP($B10,Feuil1!$E$4:$H$21,3)," ") | D10: =IF(MAX(Feuil1!$E$4:$E$21)>=$B10,VLOOKUP($B10,Feuil1!$E$4:$H$21,4)," ") | E10: =IF(C10=" "," ",YEAR(C10)) | F10: =IF(C10=" "," ",MONTH(C10)) | H10: =IF(ROWS($1:7)>COUNTA(Actions),"",LOOKUP(1,0/FREQUENCY(ROWS($1:7),COUNTIF(Actions,"<="&Actions)),Actions))
B11: 8 | C11: =IF(MAX(Feuil1!$E$4:$E$21)>=$B11,VLOOKUP($B11,Feuil1!$E$4:$H$21,3)," ") | D11: =IF(MAX(Feuil1!$E$4:$E$21)>=$B11,VLOOKUP($B11,Feuil1!$E$4:$H$21,4)," ") | E11: =IF(C11=" "," ",YEAR(C11)) | F11: =IF(C11=" "," ",MONTH(C11)) | H11: =IF(ROWS($1:8)>COUNTA(Actions),"",LOOKUP(1,0/FREQUENCY(ROWS($1:8),COUNTIF(Actions,"<="&Actions)),Actions))
B12: 9 | C12: =IF(MAX(Feuil1!$E$4:$E$21)>=$B12,VLOOKUP($B12,Feuil1!$E$4:$H$21,3)," ") | D12: =IF(MAX(Feuil1!$E$4:$E$21)>=$B12,VLOOKUP($B12,Feuil1!$E$4:$H$21,4)," ") | E12: =IF(C12=" "," ",YEAR(C12)) | F12: =IF(C12=" "," ",MONTH(C12)) | H12: =IF(ROWS($1:9)>COUNTA(Actions),"",LOOKUP(1,0/FREQUENCY(ROWS($1:9),COUNTIF(Actions,"<="&Actions)),Actions))
B13: 10 | C13: =IF(MAX(Feuil1!$E$4:$E$21)>=$B13,VLOOKUP($B13,Feuil1!$E$4:$H$21,3)," ") | D13: =IF(MAX(Feuil1!$E$4:$E$21)>=$B13,VLOOKUP($B13,Feuil1!$E$4:$H$21,4)," ") | E13: =IF(C13=" "," ",YEAR(C13)) | F13: =IF(C13=" "," ",MONTH(C13)) | H13: =IF(ROWS($1:10)>COUNTA(Actions),"",LOOKUP(1,0/FREQUENCY(ROWS($1:10),COUNTIF(Actions,"<="&Actions)),Actions))
B14: 11 | C14: =IF(MAX(Feuil1!$E$4:$E$21)>=$B14,VLOOKUP($B14,Feuil1!$E$4:$H$21,3)," ") | D14: =IF(MAX(Feuil1!$E$4:$E$21)>=$B14,VLOOKUP($B14,Feuil1!$E$4:$H$21,4)," ") | E14: =IF(C14=" "," ",YEAR(C14)) | F14: =IF(C14=" "," ",MONTH(C14)) | H14: =IF(ROWS($1:11)>COUNTA(Actions),"",LOOKUP(1,0/FREQUENCY(ROWS($1:11),COUNTIF(Actions,"<="&Actions)),Actions))
B15: 12 | C15: =IF(MAX(Feuil1!$E$4:$E$21)>=$B15,VLOOKUP($B15,Feuil1!$E$4:$H$21,3)," ") | D15: =IF(MAX(Feuil1!$E$4:$E$21)>=$B15,VLOOKUP($B15,Feuil1!$E$4:$H$21,4)," ") | E15: =IF(C15=" "," ",YEAR(C15)) | F15: =IF(C15=" "," ",MONTH(C15)) | H15: =IF(ROWS($1:12)>COUNTA(Actions),"",LOOKUP(1,0/FREQUENCY(ROWS($1:12),COUNTIF(Actions,"<="&Actions)),Actions))
B16: 13 | C16: =IF(MAX(Feuil1!$E$4:$E$21)>=$B16,VLOOKUP($B16,Feuil1!$E$4:$H$21,3)," ") | D16: =IF(MAX(Feuil1!$E$4:$E$21)>=$B16,VLOOKUP($B16,Feuil1!$E$4:$H$21,4)," ") | E16: =IF(C16=" "," ",YEAR(C16)) | F16: =IF(C16=" "," ",MONTH(C16)) | H16: =IF(ROWS($1:13)>COUNTA(Actions),"",LOOKUP(1,0/FREQUENCY(ROWS($1:13),COUNTIF(Actions,"<="&Actions)),Actions))
B17: 14 | C17: =IF(MAX(Feuil1!$E$4:$E$21)>=$B17,VLOOKUP($B17,Feuil1!$E$4:$H$21,3)," ") | D17: =IF(MAX(Feuil1!$E$4:$E$21)>=$B17,VLOOKUP($B17,Feuil1!$E$4:$H$21,4)," ") | E17: =IF(C17=" "," ",YEAR(C17)) | F17: =IF(C17=" "," ",MONTH(C17)) | H17: =IF(ROWS($1:14)>COUNTA(Actions),"",LOOKUP(1,0/FREQUENCY(ROWS($1:14),COUNTIF(Actions,"<="&Actions)),Actions))
B18: 15 | C18: =IF(MAX(Feuil1!$E$4:$E$21)>=$B18,VLOOKUP($B18,Feuil1!$E$4:$H$21,3)," ") | D18: =IF(MAX(Feuil1!$E$4:$E$21)>=$B18,VLOOKUP($B18,Feuil1!$E$4:$H$21,4)," ") | E18: =IF(C18=" "," ",YEAR(C18)) | F18: =IF(C18=" "," ",MONTH(C18)) | H18: =IF(ROWS($1:15)>COUNTA(Actions),"",LOOKUP(1,0/FREQUENCY(ROWS($1:15),COUNTIF(Actions,"<="&Actions)),Actions))
B19: 16 | C19: =IF(MAX(Feuil1!$E$4:$E$21)>=$B19,VLOOKUP($B19,Feuil1!$E$4:$H$21,3)," ") | D19: =IF(MAX(Feuil1!$E$4:$E$21)>=$B19,VLOOKUP($B19,Feuil1!$E$4:$H$21,4)," ") | E19: =IF(C19=" "," ",YEAR(C19)) | F19: =IF(C19=" "," ",MONTH(C19)) | H19: =IF(ROWS($1:16)>COUNTA(Actions),"",LOOKUP(1,0/FREQUENCY(ROWS($1:16),COUNTIF(Actions,"<="&Actions)),Actions))
B20: 17 | C20: =IF(MAX(Feuil1!$E$4:$E$21)>=$B20,VLOOKUP($B20,Feuil1!$E$4:$H$21,3)," ") | D20: =IF(MAX(Feuil1!$E$4:$E$21)>=$B20,VLOOKUP($B20,Feuil1!$E$4:$H$21,4)," ") | E20: =IF(C20=" "," ",YEAR(C20)) | F20: =IF(C20=" "," ",MONTH(C20)) | H20: =IF(ROWS($1:17)>COUNTA(Actions),"",LOOKUP(1,0/FREQUENCY(ROWS($1:17),COUNTIF(Actions,"<="&Actions)),Actions))
B21: 18 | C21: =IF(MAX(Feuil1!$E$4:$E$21)>=$B21,VLOOKUP($B21,Feuil1!$E$4:$H$21,3)," ") | D21: =IF(MAX(Feuil1!$E$4:$E$21)>=$B21,VLOOKUP($B21,Feuil1!$E$4:$H$21,4)," ") | E21: =IF(C21=" "," ",YEAR(C21)) | F21: =IF(C21=" "," ",MONTH(C21)) | H21: =IF(ROWS($1:18)>COUNTA(Actions),"",LOOKUP(1,0/FREQUENCY(ROWS($1:18),COUNTIF(Actions,"<="&Actions)),Actions))
B22: 19 | C22: =IF(MAX(Feuil1!$E$4:$E$21)>=$B22,VLOOKUP($B22,Feuil1!$E$4:$H$21,3)," ") | D22: =IF(MAX(Feuil1!$E$4:$E$21)>=$B22,VLOOKUP($B22,Feuil1!$E$4:$H$21,4)," ") | E22: =IF(C22=" "," ",YEAR(C22)) | F22: =IF(C22=" "," ",MONTH(C22)) | H22: =IF(ROWS($1:19)>COUNTA(Actions),"",LOOKUP(1,0/FREQUENCY(ROWS($1:19),COUNTIF(Actions,"<="&Actions)),Actions))
B23: 20 | C23: =IF(MAX(Feuil1!$E$4:$E$21)>=$B23,VLOOKUP($B23,Feuil1!$E$4:$H$21,3)," ") | D23: =IF(MAX(Feuil1!$E$4:$E$21)>=$B23,VLOOKUP($B23,Feuil1!$E$4:$H$21,4)," ") | E23: =IF(C23=" "," ",YEAR(C23)) | F23: =IF(C23=" "," ",MONTH(C23)) | H23: =IF(ROWS($1:20)>COUNTA(Actions),"",LOOKUP(1,0/FREQUENCY(ROWS($1:20),COUNTIF(Actions,"<="&Actions)),Actions))
B24: 21 | C24: =IF(MAX(Feuil1!$E$4:$E$21)>=$B24,VLOOKUP($B24,Feuil1!$E$4:$H$21,3)," ") | D24: =IF(MAX(Feuil1!$E$4:$E$21)>=$B24,VLOOKUP($B24,Feuil1!$E$4:$H$21,4)," ") | E24: =IF(C24=" "," ",YEAR(C24)) | F24: =IF(C24=" "," ",MONTH(C24)) | H24: =IF(ROWS($1:21)>COUNTA(Actions),"",LOOKUP(1,0/FREQUENCY(ROWS($1:21),COUNTIF(Actions,"<="&Actions)),Actions))
B25: 22 | C25: =IF(MAX(Feuil1!$E$4:$E$21)>=$B25,VLOOKUP($B25,Feuil1!$E$4:$H$21,3)," ") | D25: =IF(MAX(Feuil1!$E$4:$E$21)>=$B25,VLOOKUP($B25,Feuil1!$E$4:$H$21,4)," ") | E25: =IF(C25=" "," ",YEAR(C25)) | F25: =IF(C25=" "," ",MONTH(C25)) | H25: =IF(ROWS($1:22)>COUNTA(Actions),"",LOOKUP(1,0/FREQUENCY(ROWS($1:22),COUNTIF(Actions,"<="&Actions)),Actions))
B26: 23 | C26: =IF(MAX(Feuil1!$E$4:$E$21)>=$B26,VLOOKUP($B26,Feuil1!$E$4:$H$21,3)," ") | D26: =IF(MAX(Feuil1!$E$4:$E$21)>=$B26,VLOOKUP($B26,Feuil1!$E$4:$H$21,4)," ") | E26: =IF(C26=" "," ",YEAR(C26)) | F26: =IF(C26=" "," ",MONTH(C26)) | H26: =IF(ROWS($1:23)>COUNTA(Actions),"",LOOKUP(1,0/FREQUENCY(ROWS($1:23),COUNTIF(Actions,"<="&Actions)),Actions))
B27: 24 | C27: =IF(MAX(Feuil1!$E$4:$E$21)>=$B27,VLOOKUP($B27,Feuil1!$E$4:$H$21,3)," ") | D27: =IF(MAX(Feuil1!$E$4:$E$21)>=$B27,VLOOKUP($B27,Feuil1!$E$4:$H$21,4)," ") | E27: =IF(C27=" "," ",YEAR(C27)) | F27: =IF(C27=" "," ",MONTH(C27)) | H27: =IF(ROWS($1:24)>COUNTA(Actions),"",LOOKUP(1,0/FREQUENCY(ROWS($1:24),COUNTIF(Actions,"<="&Actions)),Actions))
B28: 25 | C28: =IF(MAX(Feuil1!$E$4:$E$21)>=$B28,VLOOKUP($B28,Feuil1!$E$4:$H$21,3)," ") | D28: =IF(MAX(Feuil1!$E$4:$E$21)>=$B28,VLOOKUP($B28,Feuil1!$E$4:$H$21,4)," ") | E28: =IF(C28=" "," ",YEAR(C28)) | F28: =IF(C28=" "," ",MONTH(C28)) | H28: =IF(ROWS($1:25)>COUNTA(Actions),"",LOOKUP(1,0/FREQUENCY(ROWS($1:25),COUNTIF(Actions,"<="&Actions)),Actions))
B29: 26 | C29: =IF(MAX(Feuil1!$E$4:$E$21)>=$B29,VLOOKUP($B29,Feuil1!$E$4:$H$21,3)," ") | D29: =IF(MAX(Feuil1!$E$4:$E$21)>=$B29,VLOOKUP($B29,Feuil1!$E$4:$H$21,4)," ") | E29: =IF(C29=" "," ",YEAR(C29)) | F29: =IF(C29=" "," ",MONTH(C29)) | H29: =IF(ROWS($1:26)>COUNTA(Actions),"",LOOKUP(1,0/FREQUENCY(ROWS($1:26),COUNTIF(Actions,"<="&Actions)),Actions))
B30: 27 | C30: =IF(MAX(Feuil1!$E$4:$E$21)>=$B30,VLOOKUP($B30,Feuil1!$E$4:$H$21,3)," ") | D30: =IF(MAX(Feuil1!$E$4:$E$21)>=$B30,VLOOKUP($B30,Feuil1!$E$4:$H$21,4)," ") | E30: =IF(C30=" "," ",YEAR(C30)) | F30: =IF(C30=" "," ",MONTH(C30)) | H30: =IF(ROWS($1:27)>COUNTA(Actions),"",LOOKUP(1,0/FREQUENCY(ROWS($1:27),COUNTIF(Actions,"<="&Actions)),Actions))
B31: 28 | C31: =IF(MAX(Feuil1!$E$4:$E$21)>=$B31,VLOOKUP($B31,Feuil1!$E$4:$H$21,3)," ") | D31: =IF(MAX(Feuil1!$E$4:$E$21)>=$B31,VLOOKUP($B31,Feuil1!$E$4:$H$21,4)," ") | E31: =IF(C31=" "," ",YEAR(C31)) | F31: =IF(C31=" "," ",MONTH(C31)) | H31: =IF(ROWS($1:28)>COUNTA(Actions),"",LOOKUP(1,0/FREQUENCY(ROWS($1:28),COUNTIF(Actions,"<="&Actions)),Actions))
B32: 29 | C32: =IF(MAX(Feuil1!$E$4:$E$21)>=$B32,VLOOKUP($B32,Feuil1!$E$4:$H$21,3)," ") | D32: =IF(MAX(Feuil1!$E$4:$E$21)>=$B32,VLOOKUP($B32,Feuil1!$E$4:$H$21,4)," ") | E32: =IF(C32=" "," ",YEAR(C32)) | F32: =IF(C32=" "," ",MONTH(C32)) | H32: =IF(ROWS($1:29)>COUNTA(Actions),"",LOOKUP(1,0/FREQUENCY(ROWS($1:29),COUNTIF(Actions,"<="&Actions)),Actions))
B33: 30 | C33: =IF(MAX(Feuil1!$E$4:$E$21)>=$B33,VLOOKUP($B33,Feuil1!$E$4:$H$21,3)," ") | D33: =IF(MAX(Feuil1!$E$4:$E$21)>=$B33,VLOOKUP($B33,Feuil1!$E$4:$H$21,4)," ") | E33: =IF(C33=" "," ",YEAR(C33)) | F33: =IF(C33=" "," ",MONTH(C33)) | H33: =IF(ROWS($1:30)>COUNTA(Actions),"",LOOKUP(1,0/FREQUENCY(ROWS($1:30),COUNTIF(Actions,"<="&Actions)),Actions))
B34: 31 | C34: =IF(MAX(Feuil1!$E$4:$E$21)>=$B34,VLOOKUP($B34,Feuil1!$E$4:$H$21,3)," ") | D34: =IF(MAX(Feuil1!$E$4:$E$21)>=$B34,VLOOKUP($B34,Feuil1!$E$4:$H$21,4)," ") | E34: =IF(C34=" "," ",YEAR(C34)) | F34: =IF(C34=" "," ",MONTH(C34)) | H34: =IF(ROWS($1:31)>COUNTA(Actions),"",LOOKUP(1,0/FREQUENCY(ROWS($1:31),COUNTIF(Actions,"<="&Actions)),Actions))
B35: 32 | C35: =IF(MAX(Feuil1!$E$4:$E$21)>=$B35,VLOOKUP($B35,Feuil1!$E$4:$H$21,3)," ") | D35: =IF(MAX(Feuil1!$E$4:$E$21)>=$B35,VLOOKUP($B35,Feuil1!$E$4:$H$21,4)," ") | E35: =IF(C35=" "," ",YEAR(C35)) | F35: =IF(C35=" "," ",MONTH(C35)) | H35: =IF(ROWS($1:32)>COUNTA(Actions),"",LOOKUP(1,0/FREQUENCY(ROWS($1:32),COUNTIF(Actions,"<="&Actions)),Actions))
B36: 33 | C36: =IF(MAX(Feuil1!$E$4:$E$21)>=$B36,VLOOKUP($B36,Feuil1!$E$4:$H$21,3)," ") | D36: =IF(MAX(Feuil1!$E$4:$E$21)>=$B36,VLOOKUP($B36,Feuil1!$E$4:$H$21,4)," ") | E36: =IF(C36=" "," ",YEAR(C36)) | F36: =IF(C36=" "," ",MONTH(C36)) | H36: =IF(ROWS($1:33)>COUNTA(Actions),"",LOOKUP(1,0/FREQUENCY(ROWS($1:33),COUNTIF(Actions,"<="&Actions)),Actions))
B37: 34 | C37: =IF(MAX(Feuil1!$E$4:$E$21)>=$B37,VLOOKUP($B37,Feuil1!$E$4:$H$21,3)," ") | D37: =IF(MAX(Feuil1!$E$4:$E$21)>=$B37,VLOOKUP($B37,Feuil1!$E$4:$H$21,4)," ") | E37: =IF(C37=" "," ",YEAR(C37)) | F37: =IF(C37=" "," ",MONTH(C37)) | H37: =IF(ROWS($1:34)>COUNTA(Actions),"",LOOKUP(1,0/FREQUENCY(ROWS($1:34),COUNTIF(Actions,"<="&Actions)),Actions))
B38: 35 | C38: =IF(MAX(Feuil1!$E$4:$E$21)>=$B38,VLOOKUP($B38,Feuil1!$E$4:$H$21,3)," ") | D38: =IF(MAX(Feuil1!$E$4:$E$21)>=$B38,VLOOKUP($B38,Feuil1!$E$4:$H$21,4)," ") | E38: =IF(C38=" "," ",YEAR(C38)) | F38: =IF(C38=" "," ",MONTH(C38)) | H38: =IF(ROWS($1:35)>COUNTA(Actions),"",LOOKUP(1,0/FREQUENCY(ROWS($1:35),COUNTIF(Actions,"<="&Actions)),Actions))
B39: 36 | C39: =IF(MAX(Feuil1!$E$4:$E$21)>=$B39,VLOOKUP($B39,Feuil1!$E$4:$H$21,3)," ") | D39: =IF(MAX(Feuil1!$E$4:$E$21)>=$B39,VLOOKUP($B39,Feuil1!$E$4:$H$21,4)," ") | E39: =IF(C39=" "," ",YEAR(C39)) | F39: =IF(C39=" "," ",MONTH(C39)) | H39: =IF(ROWS($1:36)>COUNTA(Actions),"",LOOKUP(1,0/FREQUENCY(ROWS($1:36),COUNTIF(Actions,"<="&Actions)),Actions))
B40: 37 | C40: =IF(MAX(Feuil1!$E$4:$E$21)>=$B40,VLOOKUP($B40,Feuil1!$E$4:$H$21,3)," ") | D40: =IF(MAX(Feuil1!$E$4:$E$21)>=$B40,VLOOKUP($B40,Feuil1!$E$4:$H$21,4)," ") | E40: =IF(C40=" "," ",YEAR(C40)) | F40: =IF(C40=" "," ",MONTH(C40)) | H40: =IF(ROWS($1:37)>COUNTA(Actions),"",LOOKUP(1,0/FREQUENCY(ROWS($1:37),COUNTIF(Actions,"<="&Actions)),Actions))
B41: 38 | C41: =IF(MAX(Feuil1!$E$4:$E$21)>=$B41,VLOOKUP($B41,Feuil1!$E$4:$H$21,3)," ") | D41: =IF(MAX(Feuil1!$E$4:$E$21)>=$B41,VLOOKUP($B41,Feuil1!$E$4:$H$21,4)," ") | E41: =IF(C41=" "," ",YEAR(C41)) | F41: =IF(C41=" "," ",MONTH(C41)) | H41: =IF(ROWS($1:38)>COUNTA(Actions),"",LOOKUP(1,0/FREQUENCY(ROWS($1:38),COUNTIF(Actions,"<="&Actions)),Actions))
B42: 39 | C42: =IF(MAX(Feuil1!$E$4:$E$21)>=$B42,VLOOKUP($B42,Feuil1!$E$4:$H$21,3)," ") | D42: =IF(MAX(Feuil1!$E$4:$E$21)>=$B42,VLOOKUP($B42,Feuil1!$E$4:$H$21,4)," ") | E42: =IF(C42=" "," ",YEAR(C42)) | F42: =IF(C42=" "," ",MONTH(C42)) | H42: =IF(ROWS($1:39)>COUNTA(Actions),"",LOOKUP(1,0/FREQUENCY(ROWS($1:39),COUNTIF(Actions,"<="&Actions)),Actions))
B43: 40 | C43: =IF(MAX(Feuil1!$E$4:$E$21)>=$B43,VLOOKUP($B43,Feuil1!$E$4:$H$21,3)," ") | D43: =IF(MAX(Feuil1!$E$4:$E$21)>=$B43,VLOOKUP($B43,Feuil1!$E$4:$H$21,4)," ") | E43: =IF(C43=" "," ",YEAR(C43)) | F43: =IF(C43=" "," ",MONTH(C43)) | H43: =IF(ROWS($1:40)>COUNTA(Actions),"",LOOKUP(1,0/FREQUENCY(ROWS($1:40),COUNTIF(Actions,"<="&Actions)),Actions))
B44: 41 | C44: =IF(MAX(Feuil1!$E$4:$E$21)>=$B44,VLOOKUP($B44,Feuil1!$E$4:$H$21,3)," ") | D44: =IF(MAX(Feuil1!$E$4:$E$21)>=$B44,VLOOKUP($B44,Feuil1!$E$4:$H$21,4)," ") | E44: =IF(C44=" "," ",YEAR(C44)) | F44: =IF(C44=" "," ",MONTH(C44)) | H44: =IF(ROWS($1:41)>COUNTA(Actions),"",LOOKUP(1,0/FREQUENCY(ROWS($1:41),COUNTIF(Actions,"<="&Actions)),Actions))
B45: 42 | C45: =IF(MAX(Feuil1!$E$4:$E$21)>=$B45,VLOOKUP($B45,Feuil1!$E$4:$H$21,3)," ") | D45: =IF(MAX(Feuil1!$E$4:$E$21)>=$B45,VLOOKUP($B45,Feuil1!$E$4:$H$21,4)," ") | E45: =IF(C45=" "," ",YEAR(C45)) | F45: =IF(C45=" "," ",MONTH(C45)) | H45: =IF(ROWS($1:42)>COUNTA(Actions),"",LOOKUP(1,0/FREQUENCY(ROWS($1:42),COUNTIF(Actions,"<="&Actions)),Actions))
B46: 43 | C46: =IF(MAX(Feuil1!$E$4:$E$21)>=$B46,VLOOKUP($B46,Feuil1!$E$4:$H$21,3)," ") | D46: =IF(MAX(Feuil1!$E$4:$E$21)>=$B46,VLOOKUP($B46,Feuil1!$E$4:$H$21,4)," ") | E46: =IF(C46=" "," ",YEAR(C46)) | F46: =IF(C46=" "," ",MONTH(C46)) | H46: =IF(ROWS($1:43)>COUNTA(Actions),"",LOOKUP(1,0/FREQUENCY(ROWS($1:43),COUNTIF(Actions,"<="&Actions)),Actions))
B47: 44 | C47: =IF(MAX(Feuil1!$E$4:$E$21)>=$B47,VLOOKUP($B47,Feuil1!$E$4:$H$21,3)," ") | D47: =IF(MAX(Feuil1!$E$4:$E$21)>=$B47,VLOOKUP($B47,Feuil1!$E$4:$H$21,4)," ") | E47: =IF(C47=" "," ",YEAR(C47)) | F47: =IF(C47=" "," ",MONTH(C47)) | H47: =IF(ROWS($1:44)>COUNTA(Actions),"",LOOKUP(1,0/FREQUENCY(ROWS($1:44),COUNTIF(Actions,"<="&Actions)),Actions))
B48: 45 | C48: =IF(MAX(Feuil1!$E$4:$E$21)>=$B48,VLOOKUP($B48,Feuil1!$E$4:$H$21,3)," ") | D48: =IF(MAX(Feuil1!$E$4:$E$21)>=$B48,VLOOKUP($B48,Feuil1!$E$4:$H$21,4)," ") | E48: =IF(C48=" "," ",YEAR(C48)) | F48: =IF(C48=" "," ",MONTH(C48)) | H48: =IF(ROWS($1:45)>COUNTA(Actions),"",LOOKUP(1,0/FREQUENCY(ROWS($1:45),COUNTIF(Actions,"<="&Actions)),Actions))
B49: 46 | C49: =IF(MAX(Feuil1!$E$4:$E$21)>=$B49,VLOOKUP($B49,Feuil1!$E$4:$H$21,3)," ") | D49: =IF(MAX(Feuil1!$E$4:$E$21)>=$B49,VLOOKUP($B49,Feuil1!$E$4:$H$21,4)," ") | E49: =IF(C49=" "," ",YEAR(C49)) | F49: =IF(C49=" "," ",MONTH(C49)) | H49: =IF(ROWS($1:46)>COUNTA(Actions),"",LOOKUP(1,0/FREQUENCY(ROWS($1:46),COUNTIF(Actions,"<="&Actions)),Actions))
B50: 47 | C50: =IF(MAX(Feuil1!$E$4:$E$21)>=$B50,VLOOKUP($B50,Feuil1!$E$4:$H$21,3)," ") | D50: =IF(MAX(Feuil1!$E$4:$E$21)>=$B50,VLOOKUP($B50,Feuil1!$E$4:$H$21,4)," ") | E50: =IF(C50=" "," ",YEAR(C50)) | F50: =IF(C50=" "," ",MONTH(C50)) | H50: =IF(ROWS($1:47)>COUNTA(Actions),"",LOOKUP(1,0/FREQUENCY(ROWS($1:47),COUNTIF(Actions,"<="&Actions)),Actions))
B51: 48 | C51: =IF(MAX(Feuil1!$E$4:$E$21)>=$B51,VLOOKUP($B51,Feuil1!$E$4:$H$21,3)," ") | D51: =IF(MAX(Feuil1!$E$4:$E$21)>=$B51,VLOOKUP($B51,Feuil1!$E$4:$H$21,4)," ") | E51: =IF(C51=" "," ",YEAR(C51)) | F51: =IF(C51=" "," ",MONTH(C51)) | H51: =IF(ROWS($1:48)>COUNTA(Actions),"",LOOKUP(1,0/FREQUENCY(ROWS($1:48),COUNTIF(Actions,"<="&Actions)),Actions))
B52: 49 | C52: =IF(MAX(Feuil1!$E$4:$E$21)>=$B52,VLOOKUP($B52,Feuil1!$E$4:$H$21,3)," ") | D52: =IF(MAX(Feuil1!$E$4:$E$21)>=$B52,VLOOKUP($B52,Feuil1!$E$4:$H$21,4)," ") | E52: =IF(C52=" "," ",YEAR(C52)) | F52: =IF(C52=" "," ",MONTH(C52)) | H52: =IF(ROWS($1:49)>COUNTA(Actions),"",LOOKUP(1,0/FREQUENCY(ROWS($1:49),COUNTIF(Actions,"<="&Actions)),Actions))
B53: 50 | C53: =IF(MAX(Feuil1!$E$4:$E$21)>=$B53,VLOOKUP($B53,Feuil1!$E$4:$H$21,3)," ") | D53: =IF(MAX(Feuil1!$E$4:$E$21)>=$B53,VLOOKUP($B53,Feuil1!$E$4:$H$21,4)," ") | E53: =IF(C53=" "," ",YEAR(C53)) | F53: =IF(C53=" "," ",MONTH(C53)) | H53: =IF(ROWS($1:50)>COUNTA(Actions),"",LOOKUP(1,0/FREQUENCY(ROWS($1:50),COUNTIF(Actions,"<="&Actions)),Actions))
B54: 51 | C54: =IF(MAX(Feuil1!$E$4:$E$21)>=$B54,VLOOKUP($B54,Feuil1!$E$4:$H$21,3)," ") | D54: =IF(MAX(Feuil1!$E$4:$E$21)>=$B54,VLOOKUP($B54,Feuil1!$E$4:$H$21,4)," ") | E54: =IF(C54=" "," ",YEAR(C54)) | F54: =IF(C54=" "," ",MONTH(C54)) | H54: =IF(ROWS($1:51)>COUNTA(Actions),"",LOOKUP(1,0/FREQUENCY(ROWS($1:51),COUNTIF(Actions,"<="&Actions)),Actions))
B55: 52 | C55: =IF(MAX(Feuil1!$E$4:$E$21)>=$B55,VLOOKUP($B55,Feuil1!$E$4:$H$21,3)," ") | D55: =IF(MAX(Feuil1!$E$4:$E$21)>=$B55,VLOOKUP($B55,Feuil1!$E$4:$H$21,4)," ") | E55: =IF(C55=" "," ",YEAR(C55)) | F55: =IF(C55=" "," ",MONTH(C55)) | H55: =IF(ROWS($1:52)>COUNTA(Actions),"",LOOKUP(1,0/FREQUENCY(ROWS($1:52),COUNTIF(Actions,"<="&Actions)),Actions))
B56: 53 | C56: =IF(MAX(Feuil1!$E$4:$E$21)>=$B56,VLOOKUP($B56,Feuil1!$E$4:$H$21,3)," ") | D56: =IF(MAX(Feuil1!$E$4:$E$21)>=$B56,VLOOKUP($B56,Feuil1!$E$4:$H$21,4)," ") | E56: =IF(C56=" "," ",YEAR(C56)) | F56: =IF(C56=" "," ",MONTH(C56)) | H56: =IF(ROWS($1:53)>COUNTA(Actions),"",LOOKUP(1,0/FREQUENCY(ROWS($1:53),COUNTIF(Actions,"<="&Actions)),Actions))
B57: 54 | C57: =IF(MAX(Feuil1!$E$4:$E$21)>=$B57,VLOOKUP($B57,Feuil1!$E$4:$H$21,3)," ") | D57: =IF(MAX(Feuil1!$E$4:$E$21)>=$B57,VLOOKUP($B57,Feuil1!$E$4:$H$21,4)," ") | E57: =IF(C57=" "," ",YEAR(C57)) | F57: =IF(C57=" "," ",MONTH(C57)) | H57: =IF(ROWS($1:54)>COUNTA(Actions),"",LOOKUP(1,0/FREQUENCY(ROWS($1:54),COUNTIF(Actions,"<="&Actions)),Actions))
B58: 55 | C58: =IF(MAX(Feuil1!$E$4:$E$21)>=$B58,VLOOKUP($B58,Feuil1!$E$4:$H$21,3)," ") | D58: =IF(MAX(Feuil1!$E$4:$E$21)>=$B58,VLOOKUP($B58,Feuil1!$E$4:$H$21,4)," ") | E58: =IF(C58=" "," ",YEAR(C58)) | F58: =IF(C58=" "," ",MONTH(C58)) | H58: =IF(ROWS($1:55)>COUNTA(Actions),"",LOOKUP(1,0/FREQUENCY(ROWS($1:55),COUNTIF(Actions,"<="&Actions)),Actions))
B59: 56 | C59: =IF(MAX(Feuil1!$E$4:$E$21)>=$B59,VLOOKUP($B59,Feuil1!$E$4:$H$21,3)," ") | D59: =IF(MAX(Feuil1!$E$4:$E$21)>=$B59,VLOOKUP($B59,Feuil1!$E$4:$H$21,4)," ") | E59: =IF(C59=" "," ",YEAR(C59)) | F59: =IF(C59=" "," ",MONTH(C59)) | H59: =IF(ROWS($1:56)>COUNTA(Actions),"",LOOKUP(1,0/FREQUENCY(ROWS($1:56),COUNTIF(Actions,"<="&Actions)),Actions))
B60: 57 | C60: =IF(MAX(Feuil1!$E$4:$E$21)>=$B60,VLOOKUP($B60,Feuil1!$E$4:$H$21,3)," ") | D60: =IF(MAX(Feuil1!$E$4:$E$21)>=$B60,VLOOKUP($B60,Feuil1!$E$4:$H$21,4)," ") | E60: =IF(C60=" "," ",YEAR(C60)) | F60: =IF(C60=" "," ",MONTH(C60)) | H60: =IF(ROWS($1:57)>COUNTA(Actions),"",LOOKUP(1,0/FREQUENCY(ROWS($1:57),COUNTIF(Actions,"<="&Actions)),Actions))
B61: 58 | C61: =IF(MAX(Feuil1!$E$4:$E$21)>=$B61,VLOOKUP($B61,Feuil1!$E$4:$H$21,3)," ") | D61: =IF(MAX(Feuil1!$E$4:$E$21)>=$B61,VLOOKUP($B61,Feuil1!$E$4:$H$21,4)," ") | E61: =IF(C61=" "," ",YEAR(C61)) | F61: =IF(C61=" "," ",MONTH(C61)) | H61: =IF(ROWS($1:58)>COUNTA(Actions),"",LOOKUP(1,0/FREQUENCY(ROWS($1:58),COUNTIF(Actions,"<="&Actions)),Actions))
B62: 59 | C62: =IF(MAX(Feuil1!$E$4:$E$21)>=$B62,VLOOKUP($B62,Feuil1!$E$4:$H$21,3)," ") | D62: =IF(MAX(Feuil1!$E$4:$E$21)>=$B62,VLOOKUP($B62,Feuil1!$E$4:$H$21,4)," ") | E62: =IF(C62=" "," ",YEAR(C62)) | F62: =IF(C62=" "," ",MONTH(C62)) | H62: =IF(ROWS($1:59)>COUNTA(Actions),"",LOOKUP(1,0/FREQUENCY(ROWS($1:59),COUNTIF(Actions,"<="&Actions)),Actions))
B63: 60 | C63: =IF(MAX(Feuil1!$E$4:$E$21)>=$B63,VLOOKUP($B63,Feuil1!$E$4:$H$21,3)," ") | D63: =IF(MAX(Feuil1!$E$4:$E$21)>=$B63,VLOOKUP($B63,Feuil1!$E$4:$H$21,4)," ") | E63: =IF(C63=" "," ",YEAR(C63)) | F63: =IF(C63=" "," ",MONTH(C63)) | H63: =IF(ROWS($1:60)>COUNTA(Actions),"",LOOKUP(1,0/FREQUENCY(ROWS($1:60),COUNTIF(Actions,"<="&Actions)),Actions))
B64: 61 | C64: =IF(MAX(Feuil1!$E$4:$E$21)>=$B64,VLOOKUP($B64,Feuil1!$E$4:$H$21,3)," ") | D64: =IF(MAX(Feuil1!$E$4:$E$21)>=$B64,VLOOKUP($B64,Feuil1!$E$4:$H$21,4)," ") | E64: =IF(C64=" "," ",YEAR(C64)) | F64: =IF(C64=" "," ",MONTH(C64)) | H64: =IF(ROWS($1:61)>COUNTA(Actions),"",LOOKUP(1,0/FREQUENCY(ROWS($1:61),COUNTIF(Actions,"<="&Actions)),Actions))
B65: 62 | C65: =IF(MAX(Feuil1!$E$4:$E$21)>=$B65,VLOOKUP($B65,Feuil1!$E$4:$H$21,3)," ") | D65: =IF(MAX(Feuil1!$E$4:$E$21)>=$B65,VLOOKUP($B65,Feuil1!$E$4:$H$21,4)," ") | E65: =IF(C65=" "," ",YEAR(C65)) | F65: =IF(C65=" "," ",MONTH(C65)) | H65: =IF(ROWS($1:62)>COUNTA(Actions),"",LOOKUP(1,0/FREQUENCY(ROWS($1:62),COUNTIF(Actions,"<="&Actions)),Actions))
B66: 63 | C66: =IF(MAX(Feuil1!$E$4:$E$21)>=$B66,VLOOKUP($B66,Feuil1!$E$4:$H$21,3)," ") | D66: =IF(MAX(Feuil1!$E$4:$E$21)>=$B66,VLOOKUP($B66,Feuil1!$E$4:$H$21,4)," ") | E66: =IF(C66=" "," ",YEAR(C66)) | F66: =IF(C66=" "," ",MONTH(C66)) | H66: =IF(ROWS($1:63)>COUNTA(Actions),"",LOOKUP(1,0/FREQUENCY(ROWS($1:63),COUNTIF(Actions,"<="&Actions)),Actions))
B67: 64 | C67: =IF(MAX(Feuil1!$E$4:$E$21)>=$B67,VLOOKUP($B67,Feuil1!$E$4:$H$21,3)," ") | D67: =IF(MAX(Feuil1!$E$4:$E$21)>=$B67,VLOOKUP($B67,Feuil1!$E$4:$H$21,4)," ") | E67: =IF(C67=" "," ",YEAR(C67)) | F67: =IF(C67=" "," ",MONTH(C67)) | H67: =IF(ROWS($1:64)>COUNTA(Actions),"",LOOKUP(1,0/FREQUENCY(ROWS($1:64),COUNTIF(Actions,"<="&Actions)),Actions))
B68: 65 | C68: =IF(MAX(Feuil1!$E$4:$E$21)>=$B68,VLOOKUP($B68,Feuil1!$E$4:$H$21,3)," ") | D68: =IF(MAX(Feuil1!$E$4:$E$21)>=$B68,VLOOKUP($B68,Feuil1!$E$4:$H$21,4)," ") | E68: =IF(C68=" "," ",YEAR(C68)) | F68: =IF(C68=" "," ",MONTH(C68)) | H68: =IF(ROWS($1:65)>COUNTA(Actions),"",LOOKUP(1,0/FREQUENCY(ROWS($1:65),COUNTIF(Actions,"<="&Actions)),Actions))
B69: 66 | C69: =IF(MAX(Feuil1!$E$4:$E$21)>=$B69,VLOOKUP($B69,Feuil1!$E$4:$H$21,3)," ") | D69: =IF(MAX(Feuil1!$E$4:$E$21)>=$B69,VLOOKUP($B69,Feuil1!$E$4:$H$21,4)," ") | E69: =IF(C69=" "," ",YEAR(C69)) | F69: =IF(C69=" "," ",MONTH(C69)) | H69: =IF(ROWS($1:66)>COUNTA(Actions),"",LOOKUP(1,0/FREQUENCY(ROWS($1:66),COUNTIF(Actions,"<="&Actions)),Actions))
B70: 67 | C70: =IF(MAX(Feuil1!$E$4:$E$21)>=$B70,VLOOKUP($B70,Feuil1!$E$4:$H$21,3)," ") | D70: =IF(MAX(Feuil1!$E$4:$E$21)>=$B70,VLOOKUP($B70,Feuil1!$E$4:$H$21,4)," ") | E70: =IF(C70=" "," ",YEAR(C70)) | F70: =IF(C70=" "," ",MONTH(C70)) | H70: =IF(ROWS($1:67)>COUNTA(Actions),"",LOOKUP(1,0/FREQUENCY(ROWS($1:67),COUNTIF(Actions,"<="&Actions)),Actions))
B71: 68 | C71: =IF(MAX(Feuil1!$E$4:$E$21)>=$B71,VLOOKUP($B71,Feuil1!$E$4:$H$21,3)," ") | D71: =IF(MAX(Feuil1!$E$4:$E$21)>=$B71,VLOOKUP($B71,Feuil1!$E$4:$H$21,4)," ") | E71: =IF(C71=" "," ",YEAR(C71)) | F71: =IF(C71=" "," ",MONTH(C71)) | H71: =IF(ROWS($1:68)>COUNTA(Actions),"",LOOKUP(1,0/FREQUENCY(ROWS($1:68),COUNTIF(Actions,"<="&Actions)),Actions))
B72: 69 | C72: =IF(MAX(Feuil1!$E$4:$E$21)>=$B72,VLOOKUP($B72,Feuil1!$E$4:$H$21,3)," ") | D72: =IF(MAX(Feuil1!$E$4:$E$21)>=$B72,VLOOKUP($B72,Feuil1!$E$4:$H$21,4)," ") | E72: =IF(C72=" "," ",YEAR(C72)) | F72: =IF(C72=" "," ",MONTH(C72)) | H72: =IF(ROWS($1:69)>COUNTA(Actions),"",LOOKUP(1,0/FREQUENCY(ROWS($1:69),COUNTIF(Actions,"<="&Actions)),Actions))
B73: 70 | C73: =IF(MAX(Feuil1!$E$4:$E$21)>=$B73,VLOOKUP($B73,Feuil1!$E$4:$H$21,3)," ") | D73: =IF(MAX(Feuil1!$E$4:$E$21)>=$B73,VLOOKUP($B73,Feuil1!$E$4:$H$21,4)," ") | E73: =IF(C73=" "," ",YEAR(C73)) | F73: =IF(C73=" "," ",MONTH(C73)) | H73: =IF(ROWS($1:70)>COUNTA(Actions),"",LOOKUP(1,0/FREQUENCY(ROWS($1:70),COUNTIF(Actions,"<="&Actions)),Actions))
B74: 71 | C74: =IF(MAX(Feuil1!$E$4:$E$21)>=$B74,VLOOKUP($B74,Feuil1!$E$4:$H$21,3)," ") | D74: =IF(MAX(Feuil1!$E$4:$E$21)>=$B74,VLOOKUP($B74,Feuil1!$E$4:$H$21,4)," ") | E74: =IF(C74=" "," ",YEAR(C74)) | F74: =IF(C74=" "," ",MONTH(C74)) | H74: =IF(ROWS($1:71)>COUNTA(Actions),"",LOOKUP(1,0/FREQUENCY(ROWS($1:71),COUNTIF(Actions,"<="&Actions)),Actions))
B75: 72 | C75: =IF(MAX(Feuil1!$E$4:$E$21)>=$B75,VLOOKUP($B75,Feuil1!$E$4:$H$21,3)," ") | D75: =IF(MAX(Feuil1!$E$4:$E$21)>=$B75,VLOOKUP($B75,Feuil1!$E$4:$H$21,4)," ") | E75: =IF(C75=" "," ",YEAR(C75)) | F75: =IF(C75=" "," ",MONTH(C75)) | H75: =IF(ROWS($1:72)>COUNTA(Actions),"",LOOKUP(1,0/FREQUENCY(ROWS($1:72),COUNTIF(Actions,"<="&Actions)),Actions))
B76: 73 | C76: =IF(MAX(Feuil1!$E$4:$E$21)>=$B76,VLOOKUP($B76,Feuil1!$E$4:$H$21,3)," ") | D76: =IF(MAX(Feuil1!$E$4:$E$21)>=$B76,VLOOKUP($B76,Feuil1!$E$4:$H$21,4)," ") | E76: =IF(C76=" "," ",YEAR(C76)) | F76: =IF(C76=" "," ",MONTH(C76)) | H76: =IF(ROWS($1:73)>COUNTA(Actions),"",LOOKUP(1,0/FREQUENCY(ROWS($1:73),COUNTIF(Actions,"<="&Actions)),Actions))
B77: 74 | C77: =IF(MAX(Feuil1!$E$4:$E$21)>=$B77,VLOOKUP($B77,Feuil1!$E$4:$H$21,3)," ") | D77: =IF(MAX(Feuil1!$E$4:$E$21)>=$B77,VLOOKUP($B77,Feuil1!$E$4:$H$21,4)," ") | E77: =IF(C77=" "," ",YEAR(C77)) | F77: =IF(C77=" "," ",MONTH(C77)) | H77: =IF(ROWS($1:74)>COUNTA(Actions),"",LOOKUP(1,0/FREQUENCY(ROWS($1:74),COUNTIF(Actions,"<="&Actions)),Actions))
B78: 75 | C78: =IF(MAX(Feuil1!$E$4:$E$21)>=$B78,VLOOKUP($B78,Feuil1!$E$4:$H$21,3)," ") | D78: =IF(MAX(Feuil1!$E$4:$E$21)>=$B78,VLOOKUP($B78,Feuil1!$E$4:$H$21,4)," ") | E78: =IF(C78=" "," ",YEAR(C78)) | F78: =IF(C78=" "," ",MONTH(C78)) | H78: =IF(ROWS($1:75)>COUNTA(Actions),"",LOOKUP(1,0/FREQUENCY(ROWS($1:75),COUNTIF(Actions,"<="&Actions)),Actions))
B79: 76 | C79: =IF(MAX(Feuil1!$E$4:$E$21)>=$B79,VLOOKUP($B79,Feuil1!$E$4:$H$21,3)," ") | D79: =IF(MAX(Feuil1!$E$4:$E$21)>=$B79,VLOOKUP($B79,Feuil1!$E$4:$H$21,4)," ") | E79: =IF(C79=" "," ",YEAR(C79)) | F79: =IF(C79=" "," ",MONTH(C79)) | H79: =IF(ROWS($1:76)>COUNTA(Actions),"",LOOKUP(1,0/FREQUENCY(ROWS($1:76),COUNTIF(Actions,"<="&Actions)),Actions))
B80: 77 | C80: =IF(MAX(Feuil1!$E$4:$E$21)>=$B80,VLOOKUP($B80,Feuil1!$E$4:$H$21,3)," ") | D80: =IF(MAX(Feuil1!$E$4:$E$21)>=$B80,VLOOKUP($B80,Feuil1!$E$4:$H$21,4)," ") | E80: =IF(C80=" "," ",YEAR(C80)) | F80: =IF(C80=" "," ",MONTH(C80)) | H80: =IF(ROWS($1:77)>COUNTA(Actions),"",LOOKUP(1,0/FREQUENCY(ROWS($1:77),COUNTIF(Actions,"<="&Actions)),Actions))
B81: 78 | C81: =IF(MAX(Feuil1!$E$4:$E$21)>=$B81,VLOOKUP($B81,Feuil1!$E$4:$H$21,3)," ") | D81: =IF(MAX(Feuil1!$E$4:$E$21)>=$B81,VLOOKUP($B81,Feuil1!$E$4:$H$21,4)," ") | E81: =IF(C81=" "," ",YEAR(C81)) | F81: =IF(C81=" "," ",MONTH(C81)) | H81: =IF(ROWS($1:78)>COUNTA(Actions),"",LOOKUP(1,0/FREQUENCY(ROWS($1:78),COUNTIF(Actions,"<="&Actions)),Actions))
B82: 79 | C82: =IF(MAX(Feuil1!$E$4:$E$21)>=$B82,VLOOKUP($B82,Feuil1!$E$4:$H$21,3)," ") | D82: =IF(MAX(Feuil1!$E$4:$E$21)>=$B82,VLOOKUP($B82,Feuil1!$E$4:$H$21,4)," ") | E82: =IF(C82=" "," ",YEAR(C82)) | F82: =IF(C82=" "," ",MONTH(C82)) | H82: =IF(ROWS($1:79)>COUNTA(Actions),"",LOOKUP(1,0/FREQUENCY(ROWS($1:79),COUNTIF(Actions,"<="&Actions)),Actions))
B83: 80 | C83: =IF(MAX(Feuil1!$E$4:$E$21)>=$B83,VLOOKUP($B83,Feuil1!$E$4:$H$21,3)," ") | D83: =IF(MAX(Feuil1!$E$4:$E$21)>=$B83,VLOOKUP($B83,Feuil1!$E$4:$H$21,4)," ") | E83: =IF(C83=" "," ",YEAR(C83)) | F83: =IF(C83=" "," ",MONTH(C83)) | H83: =IF(ROWS($1:80)>COUNTA(Actions),"",LOOKUP(1,0/FREQUENCY(ROWS($1:80),COUNTIF(Actions,"<="&Actions)),Actions))
B84: 81 | C84: =IF(MAX(Feuil1!$E$4:$E$21)>=$B84,VLOOKUP($B84,Feuil1!$E$4:$H$21,3)," ") | D84: =IF(MAX(Feuil1!$E$4:$E$21)>=$B84,VLOOKUP($B84,Feuil1!$E$4:$H$21,4)," ") | E84: =IF(C84=" "," ",YEAR(C84)) | F84: =IF(C84=" "," ",MONTH(C84)) | H84: =IF(ROWS($1:81)>COUNTA(Actions),"",LOOKUP(1,0/FREQUENCY(ROWS($1:81),COUNTIF(Actions,"<="&Actions)),Actions))
B85: 82 | C85: =IF(MAX(Feuil1!$E$4:$E$21)>=$B85,VLOOKUP($B85,Feuil1!$E$4:$H$21,3)," ") | D85: =IF(MAX(Feuil1!$E$4:$E$21)>=$B85,VLOOKUP($B85,Feuil1!$E$4:$H$21,4)," ") | E85: =IF(C85=" "," ",YEAR(C85)) | F85: =IF(C85=" "," ",MONTH(C85)) | H85: =IF(ROWS($1:82)>COUNTA(Actions),"",LOOKUP(1,0/FREQUENCY(ROWS($1:82),COUNTIF(Actions,"<="&Actions)),Actions))
B86: 83 | C86: =IF(MAX(Feuil1!$E$4:$E$21)>=$B86,VLOOKUP($B86,Feuil1!$E$4:$H$21,3)," ") | D86: =IF(MAX(Feuil1!$E$4:$E$21)>=$B86,VLOOKUP($B86,Feuil1!$E$4:$H$21,4)," ") | E86: =IF(C86=" "," ",YEAR(C86)) | F86: =IF(C86=" "," ",MONTH(C86)) | H86: =IF(ROWS($1:83)>COUNTA(Actions),"",LOOKUP(1,0/FREQUENCY(ROWS($1:83),COUNTIF(Actions,"<="&Actions)),Actions))
B87: 84 | C87: =IF(MAX(Feuil1!$E$4:$E$21)>=$B87,VLOOKUP($B87,Feuil1!$E$4:$H$21,3)," ") | D87: =IF(MAX(Feuil1!$E$4:$E$21)>=$B87,VLOOKUP($B87,Feuil1!$E$4:$H$21,4)," ") | E87: =IF(C87=" "," ",YEAR(C87)) | F87: =IF(C87=" "," ",MONTH(C87)) | H87: =IF(ROWS($1:84)>COUNTA(Actions),"",LOOKUP(1,0/FREQUENCY(ROWS($1:84),COUNTIF(Actions,"<="&Actions)),Actions))
B88: 85 | C88: =IF(MAX(Feuil1!$E$4:$E$21)>=$B88,VLOOKUP($B88,Feuil1!$E$4:$H$21,3)," ") | D88: =IF(MAX(Feuil1!$E$4:$E$21)>=$B88,VLOOKUP($B88,Feuil1!$E$4:$H$21,4)," ") | E88: =IF(C88=" "," ",YEAR(C88)) | F88: =IF(C88=" "," ",MONTH(C88)) | H88: =IF(ROWS($1:85)>COUNTA(Actions),"",LOOKUP(1,0/FREQUENCY(ROWS($1:85),COUNTIF(Actions,"<="&Actions)),Actions))
B89: 86 | C89: =IF(MAX(Feuil1!$E$4:$E$21)>=$B89,VLOOKUP($B89,Feuil1!$E$4:$H$21,3)," ") | D89: =IF(MAX(Feuil1!$E$4:$E$21)>=$B89,VLOOKUP($B89,Feuil1!$E$4:$H$21,4)," ") | E89: =IF(C89=" "," ",YEAR(C89)) | F89: =IF(C89=" "," ",MONTH(C89)) | H89: =IF(ROWS($1:86)>COUNTA(Actions),"",LOOKUP(1,0/FREQUENCY(ROWS($1:86),COUNTIF(Actions,"<="&Actions)),Actions))
B90: 87 | C90: =IF(MAX(Feuil1!$E$4:$E$21)>=$B90,VLOOKUP($B90,Feuil1!$E$4:$H$21,3)," ") | D90: =IF(MAX(Feuil1!$E$4:$E$21)>=$B90,VLOOKUP($B90,Feuil1!$E$4:$H$21,4)," ") | E90: =IF(C90=" "," ",YEAR(C90)) | F90: =IF(C90=" "," ",MONTH(C90)) | H90: =IF(ROWS($1:87)>COUNTA(Actions),"",LOOKUP(1,0/FREQUENCY(ROWS($1:87),COUNTIF(Actions,"<="&Actions)),Actions))
B91: 88 | C91: =IF(MAX(Feuil1!$E$4:$E$21)>=$B91,VLOOKUP($B91,Feuil1!$E$4:$H$21,3)," ") | D91: =IF(MAX(Feuil1!$E$4:$E$21)>=$B91,VLOOKUP($B91,Feuil1!$E$4:$H$21,4)," ") | E91: =IF(C91=" "," ",YEAR(C91)) | F91: =IF(C91=" "," ",MONTH(C91)) | H91: =IF(ROWS($1:88)>COUNTA(Actions),"",LOOKUP(1,0/FREQUENCY(ROWS($1:88),COUNTIF(Actions,"<="&Actions)),Actions))
B92: 89 | C92: =IF(MAX(Feuil1!$E$4:$E$21)>=$B92,VLOOKUP($B92,Feuil1!$E$4:$H$21,3)," ") | D92: =IF(MAX(Feuil1!$E$4:$E$21)>=$B92,VLOOKUP($B92,Feuil1!$E$4:$H$21,4)," ") | E92: =IF(C92=" "," ",YEAR(C92)) | F92: =IF(C92=" "," ",MONTH(C92)) | H92: =IF(ROWS($1:89)>COUNTA(Actions),"",LOOKUP(1,0/FREQUENCY(ROWS($1:89),COUNTIF(Actions,"<="&Actions)),Actions))
B93: 90 | C93: =IF(MAX(Feuil1!$E$4:$E$21)>=$B93,VLOOKUP($B93,Feuil1!$E$4:$H$21,3)," ") | D93: =IF(MAX(Feuil1!$E$4:$E$21)>=$B93,VLOOKUP($B93,Feuil1!$E$4:$H$21,4)," ") | E93: =IF(C93=" "," ",YEAR(C93)) | F93: =IF(C93=" "," ",MONTH(C93)) | H93: =IF(ROWS($1:90)>COUNTA(Actions),"",LOOKUP(1,0/FREQUENCY(ROWS($1:90),COUNTIF(Actions,"<="&Actions)),Actions))
B94: 91 | C94: =IF(MAX(Feuil1!$E$4:$E$21)>=$B94,VLOOKUP($B94,Feuil1!$E$4:$H$21,3)," ") | D94: =IF(MAX(Feuil1!$E$4:$E$21)>=$B94,VLOOKUP($B94,Feuil1!$E$4:$H$21,4)," ") | E94: =IF(C94=" "," ",YEAR(C94)) | F94: =IF(C94=" "," ",MONTH(C94)) | H94: =IF(ROWS($1:91)>COUNTA(Actions),"",LOOKUP(1,0/FREQUENCY(ROWS($1:91),COUNTIF(Actions,"<="&Actions)),Actions))
B95: 92 | C95: =IF(MAX(Feuil1!$E$4:$E$21)>=$B95,VLOOKUP($B95,Feuil1!$E$4:$H$21,3)," ") | D95: =IF(MAX(Feuil1!$E$4:$E$21)>=$B95,VLOOKUP($B95,Feuil1!$E$4:$H$21,4)," ") | E95: =IF(C95=" "," ",YEAR(C95)) | F95: =IF(C95=" "," ",MONTH(C95)) | H95: =IF(ROWS($1:92)>COUNTA(Actions),"",LOOKUP(1,0/FREQUENCY(ROWS($1:92),COUNTIF(Actions,"<="&Actions)),Actions))
B96: 93 | C96: =IF(MAX(Feuil1!$E$4:$E$21)>=$B96,VLOOKUP($B96,Feuil1!$E$4:$H$21,3)," ") | D96: =IF(MAX(Feuil1!$E$4:$E$21)>=$B96,VLOOKUP($B96,Feuil1!$E$4:$H$21,4)," ") | E96: =IF(C96=" "," ",YEAR(C96)) | F96: =IF(C96=" "," ",MONTH(C96)) | H96: =IF(ROWS($1:93)>COUNTA(Actions),"",LOOKUP(1,0/FREQUENCY(ROWS($1:93),COUNTIF(Actions,"<="&Actions)),Actions))
B97: 94 | C97: =IF(MAX(Feuil1!$E$4:$E$21)>=$B97,VLOOKUP($B97,Feuil1!$E$4:$H$21,3)," ") | D97: =IF(MAX(Feuil1!$E$4:$E$21)>=$B97,VLOOKUP($B97,Feuil1!$E$4:$H$21,4)," ") | E97: =IF(C97=" "," ",YEAR(C97)) | F97: =IF(C97=" "," ",MONTH(C97)) | H97: =IF(ROWS($1:94)>COUNTA(Actions),"",LOOKUP(1,0/FREQUENCY(ROWS($1:94),COUNTIF(Actions,"<="&Actions)),Actions))
B98: 95 | C98: =IF(MAX(Feuil1!$E$4:$E$21)>=$B98,VLOOKUP($B98,Feuil1!$E$4:$H$21,3)," ") | D98: =IF(MAX(Feuil1!$E$4:$E$21)>=$B98,VLOOKUP($B98,Feuil1!$E$4:$H$21,4)," ") | E98: =IF(C98=" "," ",YEAR(C98)) | F98: =IF(C98=" "," ",MONTH(C98)) | H98: =IF(ROWS($1:95)>COUNTA(Actions),"",LOOKUP(1,0/FREQUENCY(ROWS($1:95),COUNTIF(Actions,"<="&Actions)),Actions))
B99: 96 | C99: =IF(MAX(Feuil1!$E$4:$E$21)>=$B99,VLOOKUP($B99,Feuil1!$E$4:$H$21,3)," ") | D99: =IF(MAX(Feuil1!$E$4:$E$21)>=$B99,VLOOKUP($B99,Feuil1!$E$4:$H$21,4)," ") | E99: =IF(C99=" "," ",YEAR(C99)) | F99: =IF(C99=" "," ",MONTH(C99)) | H99: =IF(ROWS($1:96)>COUNTA(Actions),"",LOOKUP(1,0/FREQUENCY(ROWS($1:96),COUNTIF(Actions,"<="&Actions)),Actions))
B100: 97 | C100: =IF(MAX(Feuil1!$E$4:$E$21)>=$B100,VLOOKUP($B100,Feuil1!$E$4:$H$21,3)," ") | D100: =IF(MAX(Feuil1!$E$4:$E$21)>=$B100,VLOOKUP($B100,Feuil1!$E$4:$H$21,4)," ") | E100: =IF(C100=" "," ",YEAR(C100)) | F100: =IF(C100=" "," ",MONTH(C100)) | H100: =IF(ROWS($1:97)>COUNTA(Actions),"",LOOKUP(1,0/FREQUENCY(ROWS($1:97),COUNTIF(Actions,"<="&Actions)),Actions))
B101: 98 | C101: =IF(MAX(Feuil1!$E$4:$E$21)>=$B101,VLOOKUP($B101,Feuil1!$E$4:$H$21,3)," ") | D101: =IF(MAX(Feuil1!$E$4:$E$21)>=$B101,VLOOKUP($B101,Feuil1!$E$4:$H$21,4)," ") | E101: =IF(C101=" "," ",YEAR(C101)) | F101: =IF(C101=" "," ",MONTH(C101)) | H101: =IF(ROWS($1:98)>COUNTA(Actions),"",LOOKUP(1,0/FREQUENCY(ROWS($1:98),COUNTIF(Actions,"<="&Actions)),Actions))
...
