Workbook

Sheet Matrice
C1: Complexité poste | D1: A | E1: B | F1: B | G1: A
C2: Poste | D2: Poste préparateur 1 | E2: Poste préparateur 2 | F2: Poste cariste 1 | G2: Poste leader 1
B3: Type contrat | C3: Noms et prénoms
A4: 1 | B4: CDI | C4: Tonton | D4: 2 | E4: 3
A5: 2 | B5: CDD | C5: Tata | D5: 4 | E5: 1
A6: 3 | B6: Intérim | C6: Toto | E6: 2 | F6: 4
A7: 4 | B7: Intérim | C7: Titi | D7: 4 | E7: 1 | F7: 3 | G7: 4
A8: 5 | B8: CDI | C8: Tutu | D8: 1 | E8: 1 | F8: 1
A9: 6 | B9: CDD | C9: Tautau | D9: 2 | E9: 3
A10: 7 | B10: CDD | C10: Teauteau | F10: 3 | G10: 2
A11: 8 | B11: Intérim | C11: Tintin | D11: 2 | E11: 2 | F11: 2
A12: 9 | B12: Intérim | C12: Toitoi | D12: 3 | F12: 1
A13: 10 | B13: Intérim | C13: Tantan | D13: 1 | F13: 2

Sheet Tps formation
C1: 3 vers formateur | D1: 2 vers 3 | E1: 1 vers 2 | F1: Acquisition 1 | G1: Total
B2: Poste préparateur 1 | C2: 2 | D2: 2 | E2: 2 | F2: 1 | G2: =SUM(C2:F2) -> 7
B3: Poste préparateur 2 | C3: 1 | D3: 4 | E3: 3 | F3: 2 | G3: =SUM(C3:F3) -> 10
B4: Poste cariste 1 | C4: 2 | D4: 3 | E4: 3 | F4: 2 | G4: =SUM(C4:F4) -> 10
B5: Poste leader 1 | C5: 10 | D5: 10 | E5: 5 | F5: 5 | G5: =SUM(C5:F5) -> 30

Sheet Résultats
A1: Postes | B1: Niveaux | C1: Nb personnes | D1: Besoin | E1: 3 > Forma | F1: 2 > 3 | G1: 1 > 3 | H1: Manque | J1: Postes | K1: Niveaux | L1: Nb personnes | M1: Cout | N1: 3 > Forma | O1: 2 > 3 | P1: 1 > 3
A2: Préparateur 1 | B2: Formateur | C2: =COUNTIF(Matrice!$D$4:$D$13,"4") -> 2 | D2: =IF(C2<2,2-C2,0) -> 0 | E2: =IF(D2>0,IF(C3>=D2,D2,C3),0) -> 0 | F2: =IF(C2>0,IF(E2=0,IF(C4>=D2,D2,C4),IF(AND(0<E2,E2<3),IF(C4>=D2,D2-E2,C4-E2),0)),0) -> 0 | G2: =IF(D2>0,IF(E2=0,IF(F2=0,IF(C5>=D2,D2,C5),IF(0<(E2+F2)<3,IF(C5>=(D2-(E2+F2)),(D2-(E2+F2)),C5),0)*0),0),0) -> 0 | H2: =IF(SUM(E2:G2)<D2,(D2-SUM(E2:G2)),"") | J2: Préparateur 1 | K2: Formateur | L2: =COUNTIF(Matrice!$D$4:$D$7,"4") -> 2 | M2: =SUM(N2:P2) -> 0 | N2: =E2*'Tps formation'!$C$2*7*28 -> 0 | O2: =F2*'Tps formation'!$D$2*7*28 -> 0 | P2: =G2*('Tps formation'!$D$2+'Tps formation'!$E$2+'Tps formation'!$F$2)*7*28 -> 0
B3: Niveau 3 | C3: =COUNTIF(Matrice!$D$4:$D$13,"3") -> 1 | K3: Niveau 3 | L3: =COUNTIF(Matrice!$D$4:$D$7,"3") -> 0
B4: Niveau 2 | C4: =COUNTIF(Matrice!$D$4:$D$13,"2") -> 3 | K4: Niveau 2 | L4: =COUNTIF(Matrice!$D$4:$D$7,"2") -> 1
B5: Niveau 1 | C5: =COUNTIF(Matrice!$D$4:$D$13,"1") -> 2 | K5: Niveau 1 | L5: =COUNTIF(Matrice!$D$4:$D$7,"1") -> 0
A6: Préparateur 2 | B6: Formateur | C6: =COUNTIF(Matrice!$E$4:$E$13,"4") -> 0
B7: Niveau 3 | C7: =COUNTIF(Matrice!$E$4:$E$13,"3") -> 2
B8: Niveau 2 | C8: =COUNTIF(Matrice!$E$4:$E$13,"2") -> 2
B9: Niveau 1 | C9: =COUNTIF(Matrice!$E$4:$E$13,"1") -> 3
A10: Cariste 1 | B10: Formateur | C10: =COUNTIF(Matrice!$F$4:$F$13,"4") -> 1
B11: Niveau 3 | C11: =COUNTIF(Matrice!$F$4:$F$13,"3") -> 2
B12: Niveau 2 | C12: =COUNTIF(Matrice!$F$4:$F$13,"2") -> 2
B13: Niveau 1 | C13: =COUNTIF(Matrice!$F$4:$F$13,"1") -> 2
A14: Leader 1 | B14: Formateur | C14: =COUNTIF(Matrice!$G$4:$G$13,"4") -> 1
B15: Niveau 3 | C15: =COUNTIF(Matrice!$G$4:$G$13,"3") -> 0
B16: Niveau 2 | C16: =COUNTIF(Matrice!$G$4:$G$13,"2") -> 1
B17: Niveau 1 | C17: =COUNTIF(Matrice!$G$4:$G$13,"1") -> 0
