Workbook

Sheet Hypothèses
B2: Matériaux | C2: Process

Sheet Processus
B2: N° d'OP | C2: Description

Sheet Feuil2
A3: bdd | B3: Modes | C3: Nombre de Modes
A4: Appro_outil | B4: mauvais_outil | C4: 2
A5: Appro_outil | B5: outil_bloque | C5: 1
A6: Total Appro_outil | C6: 3
A7: Appro_piece | B7: mauvaise_piece | C7: 2
A8: Total Appro_piece | C8: 2
A9: Clippage | B9: mauvais_clippage | C9: 5
A10: Clippage | B10: mauvaise_mep | C10: 1
A11: Clippage | B11: oubli_clippage | C11: 2
A12: Total Clippage | C12: 8
A13: Electricite | B13: inversion_sens | C13: 1
A14: Electricite | B14: mauvais_branchement | C14: 1
A15: Electricite | B15: oubli_branchement | C15: 1
A16: Total Electricite | C16: 3
A17: Encollage | B17: colle_seche_pistolet | C17: 1
A18: Encollage | B18: cordon_continu | C18: 1
A19: Encollage | B19: encollage_hors_zone | C19: 1
A20: Encollage | B20: manque_colle | C20: 2
A21: Encollage | B21: oubli_encollage | C21: 1
A22: Encollage | B22: utilisation_colle_perimee | C22: 1
A23: Total Encollage | C23: 7
A24: Essuyage_degraissage | B24: agression_support_par_degraissant | C24: 2
A25: Essuyage_degraissage | B25: degraissage_hors_zone | C25: 1
A26: Essuyage_degraissage | B26: degraissage_incomplet | C26: 1
A27: Essuyage_degraissage | B27: encrassage_chiffon | C27: 1
A28: Essuyage_degraissage | B28: essuyage_hors_zone | C28: 1
A29: Essuyage_degraissage | B29: essuyage_incomplet | C29: 1
A30: Essuyage_degraissage | B30: essuyage_tardif | C30: 2
A31: Essuyage_degraissage | B31: oubli_degraissage | C31: 1
A32: Essuyage_degraissage | B32: oubli_essuyage | C32: 1
A33: Essuyage_degraissage | B33: pollution_support | C33: 2
A34: Essuyage_degraissage | B34: utilisation_produit_perime | C34: 1
A35: Total Essuyage_degraissage | C35: 14
A36: Lecture_validation_FAV | B36: mauvaise_lecture | C36: 1
A37: Lecture_validation_FAV | B37: oubli_collage_sur_piece | C37: 1
A38: Lecture_validation_FAV | B38: oubli_validation | C38: 1
A39: Total Lecture_validation_FAV | C39: 3
A40: Manutention | B40: debridage_incomplet | C40: 4
A41: Manutention | B41: mauvaise_evacuation | C41: 1
A42: Manutention | B42: mauvaise_rotation | C42: 4
A43: Manutention | B43: oubli_depose_outil | C43: 3
A44: Manutention | B44: oubli_film_protection | C44: 1
A45: Total Manutention | C45: 13
A46: Mep_piece | B46: Endommager_piece | C46: 2
A47: Mep_piece | B47: mauvais_positionnement | C47: 1
A48: Total Mep_piece | C48: 3
A49: Plasma | B49: oubli_plasma | C49: 1
A50: Plasma | B50: perte_effet_plasma | C50: 1
A51: Plasma | B51: plasma_hors_zone | C51: 1
A52: Total Plasma | C52: 3
A53: Serrage | B53: mauvais_serrage | C53: 3
A54: Serrage | B54: oubli_serrage | C54: 3
A55: Total Serrage | C55: 6
A56: Soudure | B56: mauvaise_soudure | C56: 1
A57: Soudure | B57: piece_transpercee | C57: 2
A58: Soudure | B58: point_mal_positionne | C58: 1
A59: Total Soudure | C59: 4
A60: Vissage | B60: mauvais_vissage | C60: 2
A61: Vissage | B61: mauvaise_reference_vis | C61: 1
A62: Vissage | B62: oubli_vissage | C62: 1
A63: Total Vissage | C63: 4
A64: (vide) | B64: (vide)
A65: Total (vide)
A66: Total général | C66: 73

Sheet Liste Blocs
A1: Nom | B1: Valeur
A2: SCS | B2: 1
A3: CS3 | B3: 2
A4: CS2 | B4: 3
A5: CS1 | B5: 4
A6: S/R | B6: 5
A7: tres peu | B7: 1
A8: occasionnels | B8: 2
A9: frequents | B9: 3
A10: certains | B10: 4
A11: faible | B11: 1
A12: moderee | B12: 2
A13: elevee | B13: 3
A14: tres elevee | B14: 4

Sheet Blocs
G1: Gravité: | H1: Défauts: | I1: Probabilité de ne pas détecter: | J1: Criticité
A2: Valeur | B2: Blocs | C2: Modes | D2: Effets | E2: Causes | F2: Preventions | G2: 1:SCS; 2:CS3; 3:CS2; 4:CS1; 5:S/R | H2: 1:tres peu; 2:occasionnels; 3:frequents; 4:certains | I2: 1:faible; 2:moderee; 3:elevee; 4:tres elevee
A3: A1 | B3: Essuyage dégraissage | C3: oubli dégraissage | D3: mauvaise adherence colle | E3: nouvel opérateur formation au poste | F3: habilitation au poste rappel des consignes d'application | G3: CS3 | H3: tres peu | I3: moderee | J3: =IF(VLOOKUP(G3,'Liste Blocs'!$A$2:$B$14,2,FALSE)>=2,"nok",IF(VLOOKUP(G3,'Liste Blocs'!$A$2:$B$14,2,FALSE)*VLOOKUP(H3,'Liste Blocs'!$A$2:$B$14,2,FALSE)*VLOOKUP(I3,'Liste Blocs'!$A$2:$B$14,2,FALSE)<=6,"ok","nok")) -> nok
A4: A2 | B4: Essuyage dégraissage | C4: oubli essuyage | D4: mauvaise adherence colle | E4: nouvel opérateur formation au poste | F4: habilitation au poste rappel des consignes d'application | G4: CS3 | H4: tres peu | I4: moderee | J4: =IF(VLOOKUP(G4,'Liste Blocs'!$A$2:$B$14,2,FALSE)>=2,"nok",IF(VLOOKUP(G4,'Liste Blocs'!$A$2:$B$14,2,FALSE)*VLOOKUP(H4,'Liste Blocs'!$A$2:$B$14,2,FALSE)*VLOOKUP(I4,'Liste Blocs'!$A$2:$B$14,2,FALSE)<=6,"ok","nok")) -> nok
A5: A3 | B5: Essuyage dégraissage | C5: dégraissage incomplet | D5: mauvaise adherence colle | E5: nouvel opérateur formation au poste | F5: habilitation au poste rappel des consignes d'application | G5: SCS | H5: occasionnels | I5: elevee | J5: =IF(VLOOKUP(G5,'Liste Blocs'!$A$2:$B$14,2,FALSE)>=2,"nok",IF(VLOOKUP(G5,'Liste Blocs'!$A$2:$B$14,2,FALSE)*VLOOKUP(H5,'Liste Blocs'!$A$2:$B$14,2,FALSE)*VLOOKUP(I5,'Liste Blocs'!$A$2:$B$14,2,FALSE)<=6,"ok","nok")) -> ok
A6: A4 | B6: Essuyage dégraissage | C6: essuyage incomplet | D6: mauvaise adherence colle | E6: matériel inadapte | F6: qualification du process | G6: SCS | H6: occasionnels | I6: moderee | J6: =IF(VLOOKUP(G6,'Liste Blocs'!$A$2:$B$14,2,FALSE)>=2,"nok",IF(VLOOKUP(G6,'Liste Blocs'!$A$2:$B$14,2,FALSE)*VLOOKUP(H6,'Liste Blocs'!$A$2:$B$14,2,FALSE)*VLOOKUP(I6,'Liste Blocs'!$A$2:$B$14,2,FALSE)<=6,"ok","nok")) -> ok
A7: A5 | B7: Essuyage dégraissage | C7: dégraissage hors zone | D7: mauvaise adherence colle | E7: nouvel opérateur formation au poste | F7: habilitation au poste rappel des consignes d'application | G7: CS3 | H7: tres peu | I7: moderee | J7: =IF(VLOOKUP(G7,'Liste Blocs'!$A$2:$B$14,2,FALSE)>=2,"nok",IF(VLOOKUP(G7,'Liste Blocs'!$A$2:$B$14,2,FALSE)*VLOOKUP(H7,'Liste Blocs'!$A$2:$B$14,2,FALSE)*VLOOKUP(I7,'Liste Blocs'!$A$2:$B$14,2,FALSE)<=6,"ok","nok")) -> nok
A8: A6 | B8: Essuyage dégraissage | C8: essuyage hors zone | D8: mauvaise adherence colle | E8: nouvel opérateur formation au poste | F8: habilitation au poste rappel des consignes d'application | G8: CS3 | H8: tres peu | I8: moderee | J8: =IF(VLOOKUP(G8,'Liste Blocs'!$A$2:$B$14,2,FALSE)>=2,"nok",IF(VLOOKUP(G8,'Liste Blocs'!$A$2:$B$14,2,FALSE)*VLOOKUP(H8,'Liste Blocs'!$A$2:$B$14,2,FALSE)*VLOOKUP(I8,'Liste Blocs'!$A$2:$B$14,2,FALSE)<=6,"ok","nok")) -> nok
A9: A7 | B9: Essuyage dégraissage | C9: agression support par dégraissant | D9: dégradation support | E9: conception et validation en essais | G9: CS2 | H9: tres peu | I9: faible | J9: =IF(VLOOKUP(G9,'Liste Blocs'!$A$2:$B$14,2,FALSE)>=2,"nok",IF(VLOOKUP(G9,'Liste Blocs'!$A$2:$B$14,2,FALSE)*VLOOKUP(H9,'Liste Blocs'!$A$2:$B$14,2,FALSE)*VLOOKUP(I9,'Liste Blocs'!$A$2:$B$14,2,FALSE)<=6,"ok","nok")) -> nok
A10: A8 | B10: Essuyage dégraissage | C10: agression support par dégraissant | D10: assemblage défectueux | E10: conception et validation en essais | G10: CS2 | H10: tres peu | I10: faible | J10: =IF(VLOOKUP(G10,'Liste Blocs'!$A$2:$B$14,2,FALSE)>=2,"nok",IF(VLOOKUP(G10,'Liste Blocs'!$A$2:$B$14,2,FALSE)*VLOOKUP(H10,'Liste Blocs'!$A$2:$B$14,2,FALSE)*VLOOKUP(I10,'Liste Blocs'!$A$2:$B$14,2,FALSE)<=6,"ok","nok")) -> nok
A11: A9 | B11: Essuyage dégraissage | C11: utilisation produit périmé | D11: mauvaise adherence colle | E11: mauvais positionnement | F11: système galia respect des dates de péremption | G11: CS3 | H11: occasionnels | I11: elevee | J11: =IF(VLOOKUP(G11,'Liste Blocs'!$A$2:$B$14,2,FALSE)>=2,"nok",IF(VLOOKUP(G11,'Liste Blocs'!$A$2:$B$14,2,FALSE)*VLOOKUP(H11,'Liste Blocs'!$A$2:$B$14,2,FALSE)*VLOOKUP(I11,'Liste Blocs'!$A$2:$B$14,2,FALSE)<=6,"ok","nok")) -> nok
A12: A10 | B12: Essuyage dégraissage | C12: encrassage chiffon | D12: mauvaise adherence colle | E12: pollution environnement extérieur | F12: protection des chiffons | G12: SCS | H12: occasionnels | I12: faible | J12: =IF(VLOOKUP(G12,'Liste Blocs'!$A$2:$B$14,2,FALSE)>=2,"nok",IF(VLOOKUP(G12,'Liste Blocs'!$A$2:$B$14,2,FALSE)*VLOOKUP(H12,'Liste Blocs'!$A$2:$B$14,2,FALSE)*VLOOKUP(I12,'Liste Blocs'!$A$2:$B$14,2,FALSE)<=6,"ok","nok")) -> ok
A13: A11 | B13: Essuyage dégraissage | C13: pollution support | D13: mauvaise adherence colle | E13: ouate cellulosique sale | F13: changement de ouate cellulosique | G13: SCS | H13: frequents | I13: moderee | J13: =IF(VLOOKUP(G13,'Liste Blocs'!$A$2:$B$14,2,FALSE)>=2,"nok",IF(VLOOKUP(G13,'Liste Blocs'!$A$2:$B$14,2,FALSE)*VLOOKUP(H13,'Liste Blocs'!$A$2:$B$14,2,FALSE)*VLOOKUP(I13,'Liste Blocs'!$A$2:$B$14,2,FALSE)<=6,"ok","nok")) -> ok
A14: A12 | B14: Essuyage dégraissage | C14: pollution support | D14: mauvaise adherence colle | E14: utilisation d'un autre moyen d'essuyage | F14: habilitation au poste rappel des consignes d'application | G14: SCS | H14: tres peu | I14: moderee | J14: =IF(VLOOKUP(G14,'Liste Blocs'!$A$2:$B$14,2,FALSE)>=2,"nok",IF(VLOOKUP(G14,'Liste Blocs'!$A$2:$B$14,2,FALSE)*VLOOKUP(H14,'Liste Blocs'!$A$2:$B$14,2,FALSE)*VLOOKUP(I14,'Liste Blocs'!$A$2:$B$14,2,FALSE)<=6,"ok","nok")) -> ok
A15: A13 | B15: Essuyage dégraissage | C15: essuyage tardif | D15: mauvaise adherence colle | E15: nouvel opérateur formation au poste | F15: habilitation au poste rappel des consignes d'application | G15: CS3 | H15: occasionnels | I15: elevee | J15: =IF(VLOOKUP(G15,'Liste Blocs'!$A$2:$B$14,2,FALSE)>=2,"nok",IF(VLOOKUP(G15,'Liste Blocs'!$A$2:$B$14,2,FALSE)*VLOOKUP(H15,'Liste Blocs'!$A$2:$B$14,2,FALSE)*VLOOKUP(I15,'Liste Blocs'!$A$2:$B$14,2,FALSE)<=6,"ok","nok")) -> nok
A16: A14 | B16: Essuyage dégraissage | C16: essuyage tardif | D16: mauvaise adherence colle | E16: degraissant évaporé | F16: respect du temps d'ouverture | G16: CS3 | H16: occasionnels | I16: moderee | J16: =IF(VLOOKUP(G16,'Liste Blocs'!$A$2:$B$14,2,FALSE)>=2,"nok",IF(VLOOKUP(G16,'Liste Blocs'!$A$2:$B$14,2,FALSE)*VLOOKUP(H16,'Liste Blocs'!$A$2:$B$14,2,FALSE)*VLOOKUP(I16,'Liste Blocs'!$A$2:$B$14,2,FALSE)<=6,"ok","nok")) -> nok
A17: B1 | B17: Lecture validation FAV | C17: mauvaise lecture | D17: inversion teinte | E17: erreur de l'opérateur | F17: formation au poste | G17: CS3 | H17: tres peu | I17: faible | J17: =IF(VLOOKUP(G17,'Liste Blocs'!$A$2:$B$14,2,FALSE)>=2,"nok",IF(VLOOKUP(G17,'Liste Blocs'!$A$2:$B$14,2,FALSE)*VLOOKUP(H17,'Liste Blocs'!$A$2:$B$14,2,FALSE)*VLOOKUP(I17,'Liste Blocs'!$A$2:$B$14,2,FALSE)<=6,"ok","nok")) -> nok
A18: B2 | B18: Lecture validation FAV | C18: oubli validation | D18: blocage jusqu'à validation | E18: oubli de l'opérateur | F18: rappel des consignes d'application | G18: CS3 | H18: occasionnels | I18: moderee | J18: =IF(VLOOKUP(G18,'Liste Blocs'!$A$2:$B$14,2,FALSE)>=2,"nok",IF(VLOOKUP(G18,'Liste Blocs'!$A$2:$B$14,2,FALSE)*VLOOKUP(H18,'Liste Blocs'!$A$2:$B$14,2,FALSE)*VLOOKUP(I18,'Liste Blocs'!$A$2:$B$14,2,FALSE)<=6,"ok","nok")) -> nok
A19: B3 | B19: Lecture validation FAV | C19: oubli collage sur pièce | D19: FAV indisponible zone technique suivante | E19: oubli de l'opérateur | F19: rappel des consignes d'application | G19: CS3 | H19: occasionnels | I19: elevee | J19: =IF(VLOOKUP(G19,'Liste Blocs'!$A$2:$B$14,2,FALSE)>=2,"nok",IF(VLOOKUP(G19,'Liste Blocs'!$A$2:$B$14,2,FALSE)*VLOOKUP(H19,'Liste Blocs'!$A$2:$B$14,2,FALSE)*VLOOKUP(I19,'Liste Blocs'!$A$2:$B$14,2,FALSE)<=6,"ok","nok")) -> nok
A20: C1 | B20: Appro pièce | C20: mauvaise pièce | D20: mauvaise teinte | E20: mauvais approvisionnement | F20: système galia et références | G20: CS3 | H20: occasionnels | I20: faible | J20: =IF(VLOOKUP(G20,'Liste Blocs'!$A$2:$B$14,2,FALSE)>=2,"nok",IF(VLOOKUP(G20,'Liste Blocs'!$A$2:$B$14,2,FALSE)*VLOOKUP(H20,'Liste Blocs'!$A$2:$B$14,2,FALSE)*VLOOKUP(I20,'Liste Blocs'!$A$2:$B$14,2,FALSE)<=6,"ok","nok")) -> nok
A21: C2 | B21: Appro pièce | C21: mauvaise pièce | D21: mauvaise teinte | E21: erreur de l'opérateur | F21: respect de la FAV | G21: CS3 | H21: tres peu | I21: faible | J21: =IF(VLOOKUP(G21,'Liste Blocs'!$A$2:$B$14,2,FALSE)>=2,"nok",IF(VLOOKUP(G21,'Liste Blocs'!$A$2:$B$14,2,FALSE)*VLOOKUP(H21,'Liste Blocs'!$A$2:$B$14,2,FALSE)*VLOOKUP(I21,'Liste Blocs'!$A$2:$B$14,2,FALSE)<=6,"ok","nok")) -> nok
A22: D1 | B22: Appro outil | C22: outil bloqué | D22: opération impossible | E22: système de manipulation grippé | F22: entretien | G22: CS2 | H22: tres peu | I22: faible | J22: =IF(VLOOKUP(G22,'Liste Blocs'!$A$2:$B$14,2,FALSE)>=2,"nok",IF(VLOOKUP(G22,'Liste Blocs'!$A$2:$B$14,2,FALSE)*VLOOKUP(H22,'Liste Blocs'!$A$2:$B$14,2,FALSE)*VLOOKUP(I22,'Liste Blocs'!$A$2:$B$14,2,FALSE)<=6,"ok","nok")) -> nok
... A50: J1 | B50: Vissage | C50: oubli du vissage | D50: mauvais maintien | E50: erreur de l'opérateur | F50: formation au poste rappel des consignes d'application | G50: CS3 | H50: tres peu | I50: elevee | J50: =IF(VLOOKUP(G50,'Liste Blocs'!$A$2:$B$14,2,FALSE)>=2,"nok",IF(VLOOKUP(G50,'Liste Blocs'!$A$2:$B$14,2,FALSE)*VLOOKUP(H50,'Liste Blocs'!$A$2:$B$14,2,FALSE)*VLOOKUP(I50,'Liste Blocs'!$A$2:$B$14,2,FALSE)<=6,"ok","nok")) -> nok
A51: J2 | B51: Vissage | C51: mauvaise référence de la vis | D51: vissage impossible | E51: mauvais approvisionnement | G51: CS3 | H51: tres peu | I51: faible | J51: =IF(VLOOKUP(G51,'Liste Blocs'!$A$2:$B$14,2,FALSE)>=2,"nok",IF(VLOOKUP(G51,'Liste Blocs'!$A$2:$B$14,2,FALSE)*VLOOKUP(H51,'Liste Blocs'!$A$2:$B$14,2,FALSE)*VLOOKUP(I51,'Liste Blocs'!$A$2:$B$14,2,FALSE)<=6,"ok","nok")) -> nok
A52: J3 | B52: Vissage | C52: mauvais vissage | D52: mauvais maintien | E52: erreur de l'opérateur | F52: formation au poste rappel des consignes d'application | G52: SCS | H52: occasionnels | I52: moderee | J52: =IF(VLOOKUP(G52,'Liste Blocs'!$A$2:$B$14,2,FALSE)>=2,"nok",IF(VLOOKUP(G52,'Liste Blocs'!$A$2:$B$14,2,FALSE)*VLOOKUP(H52,'Liste Blocs'!$A$2:$B$14,2,FALSE)*VLOOKUP(I52,'Liste Blocs'!$A$2:$B$14,2,FALSE)<=6,"ok","nok")) -> ok
A53: J4 | B53: Vissage | C53: mauvais vissage | D53: mauvais maintien | E53: difficulté d'accès | G53: SCS | H53: occasionnels | I53: moderee | J53: =IF(VLOOKUP(G53,'Liste Blocs'!$A$2:$B$14,2,FALSE)>=2,"nok",IF(VLOOKUP(G53,'Liste Blocs'!$A$2:$B$14,2,FALSE)*VLOOKUP(H53,'Liste Blocs'!$A$2:$B$14,2,FALSE)*VLOOKUP(I53,'Liste Blocs'!$A$2:$B$14,2,FALSE)<=6,"ok","nok")) -> ok
A54: K1 | B54: Electricité | C54: oubli de branchement | D54: non fonctionnement | E54: oubli de l'opérateur | F54: formation au poste rappel des consignes d'application | G54: CS3 | H54: occasionnels | I54: tres elevee | J54: =IF(VLOOKUP(G54,'Liste Blocs'!$A$2:$B$14,2,FALSE)>=2,"nok",IF(VLOOKUP(G54,'Liste Blocs'!$A$2:$B$14,2,FALSE)*VLOOKUP(H54,'Liste Blocs'!$A$2:$B$14,2,FALSE)*VLOOKUP(I54,'Liste Blocs'!$A$2:$B$14,2,FALSE)<=6,"ok","nok")) -> nok
A55: K2 | B55: Electricité | C55: mauvais branchement | D55: non fonctionnement | E55: erreur de l'opérateur | F55: poka yoke | G55: CS3 | H55: tres peu | I55: tres elevee | J55: =IF(VLOOKUP(G55,'Liste Blocs'!$A$2:$B$14,2,FALSE)>=2,"nok",IF(VLOOKUP(G55,'Liste Blocs'!$A$2:$B$14,2,FALSE)*VLOOKUP(H55,'Liste Blocs'!$A$2:$B$14,2,FALSE)*VLOOKUP(I55,'Liste Blocs'!$A$2:$B$14,2,FALSE)<=6,"ok","nok")) -> nok
A56: K3 | B56: Electricité | C56: inversion de sens | D56: branchement impossible | E56: erreur de l'opérateur | F56: formation au poste rappel des consignes d'application | G56: CS3 | H56: tres peu | I56: moderee | J56: =IF(VLOOKUP(G56,'Liste Blocs'!$A$2:$B$14,2,FALSE)>=2,"nok",IF(VLOOKUP(G56,'Liste Blocs'!$A$2:$B$14,2,FALSE)*VLOOKUP(H56,'Liste Blocs'!$A$2:$B$14,2,FALSE)*VLOOKUP(I56,'Liste Blocs'!$A$2:$B$14,2,FALSE)<=6,"ok","nok")) -> nok
A57: L1 | B57: Serrage | C57: oubli de serrage | D57: mauvaise adhérence de la colle | E57: cordon de colle non applati | F57: formation au poste rappel des consignes d'application | G57: SCS | H57: occasionnels | I57: elevee | J57: =IF(VLOOKUP(G57,'Liste Blocs'!$A$2:$B$14,2,FALSE)>=2,"nok",IF(VLOOKUP(G57,'Liste Blocs'!$A$2:$B$14,2,FALSE)*VLOOKUP(H57,'Liste Blocs'!$A$2:$B$14,2,FALSE)*VLOOKUP(I57,'Liste Blocs'!$A$2:$B$14,2,FALSE)<=6,"ok","nok")) -> ok
A58: L2 | B58: Serrage | C58: oubli de serrage | D58: défaut d'aspect | E58: cordon de colle non applati | F58: formation au poste rappel des consignes d'application | G58: SCS | H58: occasionnels | I58: moderee | J58: =IF(VLOOKUP(G58,'Liste Blocs'!$A$2:$B$14,2,FALSE)>=2,"nok",IF(VLOOKUP(G58,'Liste Blocs'!$A$2:$B$14,2,FALSE)*VLOOKUP(H58,'Liste Blocs'!$A$2:$B$14,2,FALSE)*VLOOKUP(I58,'Liste Blocs'!$A$2:$B$14,2,FALSE)<=6,"ok","nok")) -> ok
A59: L3 | B59: Serrage | C59: oubli de serrage | D59: chute de pièce | E59: rotation d'un quart de tour | F59: formation au poste rappel des consignes d'application | G59: SCS | H59: occasionnels | I59: faible | J59: =IF(VLOOKUP(G59,'Liste Blocs'!$A$2:$B$14,2,FALSE)>=2,"nok",IF(VLOOKUP(G59,'Liste Blocs'!$A$2:$B$14,2,FALSE)*VLOOKUP(H59,'Liste Blocs'!$A$2:$B$14,2,FALSE)*VLOOKUP(I59,'Liste Blocs'!$A$2:$B$14,2,FALSE)<=6,"ok","nok")) -> ok
A60: L4 | B60: Serrage | C60: mauvais serrage | D60: mauvais maintien | E60: mauvaise mep | F60: formation au poste rappel des consignes d'application | G60: SCS | H60: frequents | I60: moderee | J60: =IF(VLOOKUP(G60,'Liste Blocs'!$A$2:$B$14,2,FALSE)>=2,"nok",IF(VLOOKUP(G60,'Liste Blocs'!$A$2:$B$14,2,FALSE)*VLOOKUP(H60,'Liste Blocs'!$A$2:$B$14,2,FALSE)*VLOOKUP(I60,'Liste Blocs'!$A$2:$B$14,2,FALSE)<=6,"ok","nok")) -> ok
A61: L5 | B61: Serrage | C61: mauvais serrage | D61: mauvais maintien | E61: défaillance du système de serrage | F61: qualification du process | G61: SCS | H61: frequents | I61: moderee | J61: =IF(VLOOKUP(G61,'Liste Blocs'!$A$2:$B$14,2,FALSE)>=2,"nok",IF(VLOOKUP(G61,'Liste Blocs'!$A$2:$B$14,2,FALSE)*VLOOKUP(H61,'Liste Blocs'!$A$2:$B$14,2,FALSE)*VLOOKUP(I61,'Liste Blocs'!$A$2:$B$14,2,FALSE)<=6,"ok","nok")) -> ok
A62: L6 | B62: Serrage | C62: mauvais serrage | D62: mauvaise adhérence de la colle | E62: cordon de colle non applati | F62: formation au poste rappel des consignes d'application | G62: SCS | H62: frequents | I62: moderee | J62: =IF(VLOOKUP(G62,'Liste Blocs'!$A$2:$B$14,2,FALSE)>=2,"nok",IF(VLOOKUP(G62,'Liste Blocs'!$A$2:$B$14,2,FALSE)*VLOOKUP(H62,'Liste Blocs'!$A$2:$B$14,2,FALSE)*VLOOKUP(I62,'Liste Blocs'!$A$2:$B$14,2,FALSE)<=6,"ok","nok")) -> ok
A63: M1 | B63: Manutention | C63: oubli de déposer l'outil | D63: encombrement du poste | E63: oubli de l'opérateur | F63: rappel des consignes d'application | G63: SCS | H63: frequents | I63: faible | J63: =IF(VLOOKUP(G63,'Liste Blocs'!$A$2:$B$14,2,FALSE)>=2,"nok",IF(VLOOKUP(G63,'Liste Blocs'!$A$2:$B$14,2,FALSE)*VLOOKUP(H63,'Liste Blocs'!$A$2:$B$14,2,FALSE)*VLOOKUP(I63,'Liste Blocs'!$A$2:$B$14,2,FALSE)<=6,"ok","nok")) -> ok
A64: M2 | B64: Manutention | C64: oubli de déposer l'outil | D64: détérioration du matériel | E64: erreur de l'opérateur | F64: formation au poste rappel des consignes d'application | G64: SCS | H64: occasionnels | I64: faible | J64: =IF(VLOOKUP(G64,'Liste Blocs'!$A$2:$B$14,2,FALSE)>=2,"nok",IF(VLOOKUP(G64,'Liste Blocs'!$A$2:$B$14,2,FALSE)*VLOOKUP(H64,'Liste Blocs'!$A$2:$B$14,2,FALSE)*VLOOKUP(I64,'Liste Blocs'!$A$2:$B$14,2,FALSE)<=6,"ok","nok")) -> ok
A65: M3 | B65: Manutention | C65: oubli de déposer l'outil | D65: blessure de l'operateur | E65: erreur de l'opérateur | F65: formation au poste rappel des consignes d'application | G65: S/R | H65: tres peu | I65: faible | J65: =IF(VLOOKUP(G65,'Liste Blocs'!$A$2:$B$14,2,FALSE)>=2,"nok",IF(VLOOKUP(G65,'Liste Blocs'!$A$2:$B$14,2,FALSE)*VLOOKUP(H65,'Liste Blocs'!$A$2:$B$14,2,FALSE)*VLOOKUP(I65,'Liste Blocs'!$A$2:$B$14,2,FALSE)<=6,"ok","nok")) -> nok
... A75: M13 | B75: Manutention | C75: oubli du film de protection | D75: défaut d'aspect | E75: oubli de l'opérateur | F75: rappel des consignes d'application | G75: SCS | H75: occasionnels | I75: faible | J75: =IF(VLOOKUP(G75,'Liste Blocs'!$A$2:$B$14,2,FALSE)>=2,"nok",IF(VLOOKUP(G75,'Liste Blocs'!$A$2:$B$14,2,FALSE)*VLOOKUP(H75,'Liste Blocs'!$A$2:$B$14,2,FALSE)*VLOOKUP(I75,'Liste Blocs'!$A$2:$B$14,2,FALSE)<=6,"ok","nok")) -> ok

Sheet ADR
A2: DESIGNATION | B2: N° GAMME | C2: Mode opératoire | D2: Blocs | E2: Code | F2: Modes défaillance éventuelle | G2: Effets défaillance | H2: Causes/Mécanismes défaillance | I2: Préventions | J2: Gravité | K2: Occurrence | L2: Détection | M2: Criticité
F3: =IF(ISNA(VLOOKUP($E3,Blocs!$A:$F,4,FALSE))," ",VLOOKUP($E3,Blocs!$A:$F,4,FALSE)) | G3: =IF(ISNA(VLOOKUP($E3,Blocs!$A:$F,5,FALSE))," ",VLOOKUP($E3,Blocs!$A:$F,5,FALSE)) | H3: =IF(ISNA(VLOOKUP($E3,Blocs!$A:$F,6,FALSE))," ",VLOOKUP($E3,Blocs!$A:$F,6,FALSE)) | I3: =IF(ISNA(VLOOKUP($E3,Blocs!$A:$F,7,FALSE))," ",VLOOKUP($E3,Blocs!$A:$F,7,FALSE))
C4: 1- Lecture FAV pour le choix des teintes | D4: B: Lecture validation FAV | E4: A7 | F4: =IF(ISNA(VLOOKUP($E4,Blocs!$A:$J,3,FALSE))," ",VLOOKUP($E4,Blocs!$A:$J,3,FALSE)) -> agression support par dégraissant | G4: =IF(ISNA(VLOOKUP($E4,Blocs!$A:$J,4,FALSE))," ",VLOOKUP($E4,Blocs!$A:$J,4,FALSE)) -> dégradation support | H4: =IF(ISNA(VLOOKUP($E4,Blocs!$A:$J,5,FALSE))," ",VLOOKUP($E4,Blocs!$A:$J,5,FALSE)) -> conception et validation en essais | I4: =IF(ISNA(VLOOKUP($E4,Blocs!$A:$J,6,FALSE))," ",VLOOKUP($E4,Blocs!$A:$J,6,FALSE)) -> 0 | J4: =IF(ISNA(VLOOKUP($E4,Blocs!$A:$J,7,FALSE))," ",VLOOKUP($E4,Blocs!$A:$J,7,FALSE)) -> CS2 | K4: =IF(ISNA(VLOOKUP($E4,Blocs!$A:$J,8,FALSE))," ",VLOOKUP($E4,Blocs!$A:$J,8,FALSE)) -> tres peu | L4: =IF(ISNA(VLOOKUP($E4,Blocs!$A:$J,9,FALSE))," ",VLOOKUP($E4,Blocs!$A:$J,9,FALSE)) -> faible | M4: =IF(ISNA(VLOOKUP($E4,Blocs!$A:$J,10,FALSE))," ",VLOOKUP($E4,Blocs!$A:$J,10,FALSE)) -> nok
C5: 2- Appro Pare-chocs AV, mise en place en géométrie sur le moyen de préparation | D5: C: Appro pièce | E5: A8 | F5: =IF(ISNA(VLOOKUP($E5,Blocs!$A:$J,3,FALSE))," ",VLOOKUP($E5,Blocs!$A:$J,3,FALSE)) -> agression support par dégraissant | G5: =IF(ISNA(VLOOKUP($E5,Blocs!$A:$J,4,FALSE))," ",VLOOKUP($E5,Blocs!$A:$J,4,FALSE)) -> assemblage défectueux | H5: =IF(ISNA(VLOOKUP($E5,Blocs!$A:$J,5,FALSE))," ",VLOOKUP($E5,Blocs!$A:$J,5,FALSE)) -> conception et validation en essais | I5: =IF(ISNA(VLOOKUP($E5,Blocs!$A:$J,6,FALSE))," ",VLOOKUP($E5,Blocs!$A:$J,6,FALSE)) -> 0 | J5: =IF(ISNA(VLOOKUP($E5,Blocs!$A:$J,7,FALSE))," ",VLOOKUP($E5,Blocs!$A:$J,7,FALSE)) -> CS2 | K5: =IF(ISNA(VLOOKUP($E5,Blocs!$A:$J,8,FALSE))," ",VLOOKUP($E5,Blocs!$A:$J,8,FALSE)) -> tres peu | L5: =IF(ISNA(VLOOKUP($E5,Blocs!$A:$J,9,FALSE))," ",VLOOKUP($E5,Blocs!$A:$J,9,FALSE)) -> faible | M5: =IF(ISNA(VLOOKUP($E5,Blocs!$A:$J,10,FALSE))," ",VLOOKUP($E5,Blocs!$A:$J,10,FALSE)) -> nok
C6: 3-serrage des 2 sauterelles | D6: L: Serrage | E6: M6 | F6: =IF(ISNA(VLOOKUP($E6,Blocs!$A:$J,3,FALSE))," ",VLOOKUP($E6,Blocs!$A:$J,3,FALSE)) -> mauvaise rotation | G6: =IF(ISNA(VLOOKUP($E6,Blocs!$A:$J,4,FALSE))," ",VLOOKUP($E6,Blocs!$A:$J,4,FALSE)) -> opération impossible | H6: =IF(ISNA(VLOOKUP($E6,Blocs!$A:$J,5,FALSE))," ",VLOOKUP($E6,Blocs!$A:$J,5,FALSE)) -> erreur de l'opérateur | I6: =IF(ISNA(VLOOKUP($E6,Blocs!$A:$J,6,FALSE))," ",VLOOKUP($E6,Blocs!$A:$J,6,FALSE)) -> indications sur la machine | J6: =IF(ISNA(VLOOKUP($E6,Blocs!$A:$J,7,FALSE))," ",VLOOKUP($E6,Blocs!$A:$J,7,FALSE)) -> CS3 | K6: =IF(ISNA(VLOOKUP($E6,Blocs!$A:$J,8,FALSE))," ",VLOOKUP($E6,Blocs!$A:$J,8,FALSE)) -> occasionnels | L6: =IF(ISNA(VLOOKUP($E6,Blocs!$A:$J,9,FALSE))," ",VLOOKUP($E6,Blocs!$A:$J,9,FALSE)) -> faible | M6: =IF(ISNA(VLOOKUP($E6,Blocs!$A:$J,10,FALSE))," ",VLOOKUP($E6,Blocs!$A:$J,10,FALSE)) -> nok
C7: 4- Appro Support plaque | D7: C: Appro pièce | E7: c2 | F7: =IF(ISNA(VLOOKUP($E7,Blocs!$A:$J,3,FALSE))," ",VLOOKUP($E7,Blocs!$A:$J,3,FALSE)) -> mauvaise pièce | G7: =IF(ISNA(VLOOKUP($E7,Blocs!$A:$J,4,FALSE))," ",VLOOKUP($E7,Blocs!$A:$J,4,FALSE)) -> mauvaise teinte | H7: =IF(ISNA(VLOOKUP($E7,Blocs!$A:$J,5,FALSE))," ",VLOOKUP($E7,Blocs!$A:$J,5,FALSE)) -> erreur de l'opérateur | I7: =IF(ISNA(VLOOKUP($E7,Blocs!$A:$J,6,FALSE))," ",VLOOKUP($E7,Blocs!$A:$J,6,FALSE)) -> respect de la FAV | J7: =IF(ISNA(VLOOKUP($E7,Blocs!$A:$J,7,FALSE))," ",VLOOKUP($E7,Blocs!$A:$J,7,FALSE)) -> CS3 | K7: =IF(ISNA(VLOOKUP($E7,Blocs!$A:$J,8,FALSE))," ",VLOOKUP($E7,Blocs!$A:$J,8,FALSE)) -> tres peu | L7: =IF(ISNA(VLOOKUP($E7,Blocs!$A:$J,9,FALSE))," ",VLOOKUP($E7,Blocs!$A:$J,9,FALSE)) -> faible | M7: =IF(ISNA(VLOOKUP($E7,Blocs!$A:$J,10,FALSE))," ",VLOOKUP($E7,Blocs!$A:$J,10,FALSE)) -> nok
C8: 5-mise en place sur l'abattant | D8: F: Mep pièce | E8: f3 | F8: =IF(ISNA(VLOOKUP($E8,Blocs!$A:$J,3,FALSE))," ",VLOOKUP($E8,Blocs!$A:$J,3,FALSE)) -> Endommager la pièce | G8: =IF(ISNA(VLOOKUP($E8,Blocs!$A:$J,4,FALSE))," ",VLOOKUP($E8,Blocs!$A:$J,4,FALSE)) -> Mep difficile | H8: =IF(ISNA(VLOOKUP($E8,Blocs!$A:$J,5,FALSE))," ",VLOOKUP($E8,Blocs!$A:$J,5,FALSE)) -> matériel inadapté | I8: =IF(ISNA(VLOOKUP($E8,Blocs!$A:$J,6,FALSE))," ",VLOOKUP($E8,Blocs!$A:$J,6,FALSE)) -> qualification du process | J8: =IF(ISNA(VLOOKUP($E8,Blocs!$A:$J,7,FALSE))," ",VLOOKUP($E8,Blocs!$A:$J,7,FALSE)) -> SCS | K8: =IF(ISNA(VLOOKUP($E8,Blocs!$A:$J,8,FALSE))," ",VLOOKUP($E8,Blocs!$A:$J,8,FALSE)) -> occasionnels | L8: =IF(ISNA(VLOOKUP($E8,Blocs!$A:$J,9,FALSE))," ",VLOOKUP($E8,Blocs!$A:$J,9,FALSE)) -> faible | M8: =IF(ISNA(VLOOKUP($E8,Blocs!$A:$J,10,FALSE))," ",VLOOKUP($E8,Blocs!$A:$J,10,FALSE)) -> ok
C9: 6- Dégraisser zone à l'aide de l'heptane | D9: A: Essuyage dégraissage | E9: a6 | F9: =IF(ISNA(VLOOKUP($E9,Blocs!$A:$J,3,FALSE))," ",VLOOKUP($E9,Blocs!$A:$J,3,FALSE)) -> essuyage hors zone | G9: =IF(ISNA(VLOOKUP($E9,Blocs!$A:$J,4,FALSE))," ",VLOOKUP($E9,Blocs!$A:$J,4,FALSE)) -> mauvaise adherence colle | H9: =IF(ISNA(VLOOKUP($E9,Blocs!$A:$J,5,FALSE))," ",VLOOKUP($E9,Blocs!$A:$J,5,FALSE)) -> nouvel opérateur formation au poste | I9: =IF(ISNA(VLOOKUP($E9,Blocs!$A:$J,6,FALSE))," ",VLOOKUP($E9,Blocs!$A:$J,6,FALSE)) -> habilitation au poste rappel des consignes d'application | J9: =IF(ISNA(VLOOKUP($E9,Blocs!$A:$J,7,FALSE))," ",VLOOKUP($E9,Blocs!$A:$J,7,FALSE)) -> CS3 | K9: =IF(ISNA(VLOOKUP($E9,Blocs!$A:$J,8,FALSE))," ",VLOOKUP($E9,Blocs!$A:$J,8,FALSE)) -> tres peu | L9: =IF(ISNA(VLOOKUP($E9,Blocs!$A:$J,9,FALSE))," ",VLOOKUP($E9,Blocs!$A:$J,9,FALSE)) -> moderee | M9: =IF(ISNA(VLOOKUP($E9,Blocs!$A:$J,10,FALSE))," ",VLOOKUP($E9,Blocs!$A:$J,10,FALSE)) -> nok
D10: A: Essuyage dégraissage | E10: a8 | F10: =IF(ISNA(VLOOKUP($E10,Blocs!$A:$J,3,FALSE))," ",VLOOKUP($E10,Blocs!$A:$J,3,FALSE)) -> agression support par dégraissant | G10: =IF(ISNA(VLOOKUP($E10,Blocs!$A:$J,4,FALSE))," ",VLOOKUP($E10,Blocs!$A:$J,4,FALSE)) -> assemblage défectueux | H10: =IF(ISNA(VLOOKUP($E10,Blocs!$A:$J,5,FALSE))," ",VLOOKUP($E10,Blocs!$A:$J,5,FALSE)) -> conception et validation en essais | I10: =IF(ISNA(VLOOKUP($E10,Blocs!$A:$J,6,FALSE))," ",VLOOKUP($E10,Blocs!$A:$J,6,FALSE)) -> 0 | J10: =IF(ISNA(VLOOKUP($E10,Blocs!$A:$J,7,FALSE))," ",VLOOKUP($E10,Blocs!$A:$J,7,FALSE)) -> CS2 | K10: =IF(ISNA(VLOOKUP($E10,Blocs!$A:$J,8,FALSE))," ",VLOOKUP($E10,Blocs!$A:$J,8,FALSE)) -> tres peu | L10: =IF(ISNA(VLOOKUP($E10,Blocs!$A:$J,9,FALSE))," ",VLOOKUP($E10,Blocs!$A:$J,9,FALSE)) -> faible | M10: =IF(ISNA(VLOOKUP($E10,Blocs!$A:$J,10,FALSE))," ",VLOOKUP($E10,Blocs!$A:$J,10,FALSE)) -> nok
C11: 7- Application du plasma zone | D11: E: Plasma | F11: =IF(ISNA(VLOOKUP($E11,Blocs!$A:$J,3,FALSE))," ",VLOOKUP($E11,Blocs!$A:$J,3,FALSE)) | G11: =IF(ISNA(VLOOKUP($E11,Blocs!$A:$J,4,FALSE))," ",VLOOKUP($E11,Blocs!$A:$J,4,FALSE)) | H11: =IF(ISNA(VLOOKUP($E11,Blocs!$A:$J,5,FALSE))," ",VLOOKUP($E11,Blocs!$A:$J,5,FALSE)) | I11: =IF(ISNA(VLOOKUP($E11,Blocs!$A:$J,6,FALSE))," ",VLOOKUP($E11,Blocs!$A:$J,6,FALSE)) | J11: =IF(ISNA(VLOOKUP($E11,Blocs!$A:$J,7,FALSE))," ",VLOOKUP($E11,Blocs!$A:$J,7,FALSE)) | K11: =IF(ISNA(VLOOKUP($E11,Blocs!$A:$J,8,FALSE))," ",VLOOKUP($E11,Blocs!$A:$J,8,FALSE)) | L11: =IF(ISNA(VLOOKUP($E11,Blocs!$A:$J,9,FALSE))," ",VLOOKUP($E11,Blocs!$A:$J,9,FALSE)) | M11: =IF(ISNA(VLOOKUP($E11,Blocs!$A:$J,10,FALSE))," ",VLOOKUP($E11,Blocs!$A:$J,10,FALSE))
C12: 8- Prise en charge du pistolet de collage | D12: D: Appro outil | F12: =IF(ISNA(VLOOKUP($E12,Blocs!$A:$J,3,FALSE))," ",VLOOKUP($E12,Blocs!$A:$J,3,FALSE)) | G12: =IF(ISNA(VLOOKUP($E12,Blocs!$A:$J,4,FALSE))," ",VLOOKUP($E12,Blocs!$A:$J,4,FALSE)) | H12: =IF(ISNA(VLOOKUP($E12,Blocs!$A:$J,5,FALSE))," ",VLOOKUP($E12,Blocs!$A:$J,5,FALSE)) | I12: =IF(ISNA(VLOOKUP($E12,Blocs!$A:$J,6,FALSE))," ",VLOOKUP($E12,Blocs!$A:$J,6,FALSE)) | J12: =IF(ISNA(VLOOKUP($E12,Blocs!$A:$J,7,FALSE))," ",VLOOKUP($E12,Blocs!$A:$J,7,FALSE)) | K12: =IF(ISNA(VLOOKUP($E12,Blocs!$A:$J,8,FALSE))," ",VLOOKUP($E12,Blocs!$A:$J,8,FALSE)) | L12: =IF(ISNA(VLOOKUP($E12,Blocs!$A:$J,9,FALSE))," ",VLOOKUP($E12,Blocs!$A:$J,9,FALSE)) | M12: =IF(ISNA(VLOOKUP($E12,Blocs!$A:$J,10,FALSE))," ",VLOOKUP($E12,Blocs!$A:$J,10,FALSE))
C13: 9- Encoller le Pare-chocs AV zone | D13: G: Encollage | F13: =IF(ISNA(VLOOKUP($E13,Blocs!$A:$J,3,FALSE))," ",VLOOKUP($E13,Blocs!$A:$J,3,FALSE)) | G13: =IF(ISNA(VLOOKUP($E13,Blocs!$A:$J,4,FALSE))," ",VLOOKUP($E13,Blocs!$A:$J,4,FALSE)) | H13: =IF(ISNA(VLOOKUP($E13,Blocs!$A:$J,5,FALSE))," ",VLOOKUP($E13,Blocs!$A:$J,5,FALSE)) | I13: =IF(ISNA(VLOOKUP($E13,Blocs!$A:$J,6,FALSE))," ",VLOOKUP($E13,Blocs!$A:$J,6,FALSE)) | J13: =IF(ISNA(VLOOKUP($E13,Blocs!$A:$J,7,FALSE))," ",VLOOKUP($E13,Blocs!$A:$J,7,FALSE)) | K13: =IF(ISNA(VLOOKUP($E13,Blocs!$A:$J,8,FALSE))," ",VLOOKUP($E13,Blocs!$A:$J,8,FALSE)) | L13: =IF(ISNA(VLOOKUP($E13,Blocs!$A:$J,9,FALSE))," ",VLOOKUP($E13,Blocs!$A:$J,9,FALSE)) | M13: =IF(ISNA(VLOOKUP($E13,Blocs!$A:$J,10,FALSE))," ",VLOOKUP($E13,Blocs!$A:$J,10,FALSE))
C14: 10- Dépose du pistolet de collage | D14: M: Manutention | F14: =IF(ISNA(VLOOKUP($E14,Blocs!$A:$J,3,FALSE))," ",VLOOKUP($E14,Blocs!$A:$J,3,FALSE)) | G14: =IF(ISNA(VLOOKUP($E14,Blocs!$A:$J,4,FALSE))," ",VLOOKUP($E14,Blocs!$A:$J,4,FALSE)) | H14: =IF(ISNA(VLOOKUP($E14,Blocs!$A:$J,5,FALSE))," ",VLOOKUP($E14,Blocs!$A:$J,5,FALSE)) | I14: =IF(ISNA(VLOOKUP($E14,Blocs!$A:$J,6,FALSE))," ",VLOOKUP($E14,Blocs!$A:$J,6,FALSE)) | J14: =IF(ISNA(VLOOKUP($E14,Blocs!$A:$J,7,FALSE))," ",VLOOKUP($E14,Blocs!$A:$J,7,FALSE)) | K14: =IF(ISNA(VLOOKUP($E14,Blocs!$A:$J,8,FALSE))," ",VLOOKUP($E14,Blocs!$A:$J,8,FALSE)) | L14: =IF(ISNA(VLOOKUP($E14,Blocs!$A:$J,9,FALSE))," ",VLOOKUP($E14,Blocs!$A:$J,9,FALSE)) | M14: =IF(ISNA(VLOOKUP($E14,Blocs!$A:$J,10,FALSE))," ",VLOOKUP($E14,Blocs!$A:$J,10,FALSE))
C15: 11- Serrage abattant support plaque AV | D15: L: Serrage | F15: =IF(ISNA(VLOOKUP($E15,Blocs!$A:$J,3,FALSE))," ",VLOOKUP($E15,Blocs!$A:$J,3,FALSE)) | G15: =IF(ISNA(VLOOKUP($E15,Blocs!$A:$J,4,FALSE))," ",VLOOKUP($E15,Blocs!$A:$J,4,FALSE)) | H15: =IF(ISNA(VLOOKUP($E15,Blocs!$A:$J,5,FALSE))," ",VLOOKUP($E15,Blocs!$A:$J,5,FALSE)) | I15: =IF(ISNA(VLOOKUP($E15,Blocs!$A:$J,6,FALSE))," ",VLOOKUP($E15,Blocs!$A:$J,6,FALSE)) | J15: =IF(ISNA(VLOOKUP($E15,Blocs!$A:$J,7,FALSE))," ",VLOOKUP($E15,Blocs!$A:$J,7,FALSE)) | K15: =IF(ISNA(VLOOKUP($E15,Blocs!$A:$J,8,FALSE))," ",VLOOKUP($E15,Blocs!$A:$J,8,FALSE)) | L15: =IF(ISNA(VLOOKUP($E15,Blocs!$A:$J,9,FALSE))," ",VLOOKUP($E15,Blocs!$A:$J,9,FALSE)) | M15: =IF(ISNA(VLOOKUP($E15,Blocs!$A:$J,10,FALSE))," ",VLOOKUP($E15,Blocs!$A:$J,10,FALSE))
C16: 12- Appro des 2 feux diurnes | D16: C: Appro pièce | F16: =IF(ISNA(VLOOKUP($E16,Blocs!$A:$J,3,FALSE))," ",VLOOKUP($E16,Blocs!$A:$J,3,FALSE)) | G16: =IF(ISNA(VLOOKUP($E16,Blocs!$A:$J,4,FALSE))," ",VLOOKUP($E16,Blocs!$A:$J,4,FALSE)) | H16: =IF(ISNA(VLOOKUP($E16,Blocs!$A:$J,5,FALSE))," ",VLOOKUP($E16,Blocs!$A:$J,5,FALSE)) | I16: =IF(ISNA(VLOOKUP($E16,Blocs!$A:$J,6,FALSE))," ",VLOOKUP($E16,Blocs!$A:$J,6,FALSE)) | J16: =IF(ISNA(VLOOKUP($E16,Blocs!$A:$J,7,FALSE))," ",VLOOKUP($E16,Blocs!$A:$J,7,FALSE)) | K16: =IF(ISNA(VLOOKUP($E16,Blocs!$A:$J,8,FALSE))," ",VLOOKUP($E16,Blocs!$A:$J,8,FALSE)) | L16: =IF(ISNA(VLOOKUP($E16,Blocs!$A:$J,9,FALSE))," ",VLOOKUP($E16,Blocs!$A:$J,9,FALSE)) | M16: =IF(ISNA(VLOOKUP($E16,Blocs!$A:$J,10,FALSE))," ",VLOOKUP($E16,Blocs!$A:$J,10,FALSE))
C17: 13- Clippage du feux diurne gauche sur le pare-chocs AV (Inserer les ergots vers le haut et clipper vers le bas) | D17: H: Clippage | F17: =IF(ISNA(VLOOKUP($E17,Blocs!$A:$J,3,FALSE))," ",VLOOKUP($E17,Blocs!$A:$J,3,FALSE)) | G17: =IF(ISNA(VLOOKUP($E17,Blocs!$A:$J,4,FALSE))," ",VLOOKUP($E17,Blocs!$A:$J,4,FALSE)) | H17: =IF(ISNA(VLOOKUP($E17,Blocs!$A:$J,5,FALSE))," ",VLOOKUP($E17,Blocs!$A:$J,5,FALSE)) | I17: =IF(ISNA(VLOOKUP($E17,Blocs!$A:$J,6,FALSE))," ",VLOOKUP($E17,Blocs!$A:$J,6,FALSE)) | J17: =IF(ISNA(VLOOKUP($E17,Blocs!$A:$J,7,FALSE))," ",VLOOKUP($E17,Blocs!$A:$J,7,FALSE)) | K17: =IF(ISNA(VLOOKUP($E17,Blocs!$A:$J,8,FALSE))," ",VLOOKUP($E17,Blocs!$A:$J,8,FALSE)) | L17: =IF(ISNA(VLOOKUP($E17,Blocs!$A:$J,9,FALSE))," ",VLOOKUP($E17,Blocs!$A:$J,9,FALSE)) | M17: =IF(ISNA(VLOOKUP($E17,Blocs!$A:$J,10,FALSE))," ",VLOOKUP($E17,Blocs!$A:$J,10,FALSE))
C18: 14- Clippage du feux diurne droite sur le pare-chocs AV (Inserer les ergots vers le haut et clipper vers le bas) | D18: H: Clippage | F18: =IF(ISNA(VLOOKUP($E18,Blocs!$A:$J,3,FALSE))," ",VLOOKUP($E18,Blocs!$A:$J,3,FALSE)) | G18: =IF(ISNA(VLOOKUP($E18,Blocs!$A:$J,4,FALSE))," ",VLOOKUP($E18,Blocs!$A:$J,4,FALSE)) | H18: =IF(ISNA(VLOOKUP($E18,Blocs!$A:$J,5,FALSE))," ",VLOOKUP($E18,Blocs!$A:$J,5,FALSE)) | I18: =IF(ISNA(VLOOKUP($E18,Blocs!$A:$J,6,FALSE))," ",VLOOKUP($E18,Blocs!$A:$J,6,FALSE)) | J18: =IF(ISNA(VLOOKUP($E18,Blocs!$A:$J,7,FALSE))," ",VLOOKUP($E18,Blocs!$A:$J,7,FALSE)) | K18: =IF(ISNA(VLOOKUP($E18,Blocs!$A:$J,8,FALSE))," ",VLOOKUP($E18,Blocs!$A:$J,8,FALSE)) | L18: =IF(ISNA(VLOOKUP($E18,Blocs!$A:$J,9,FALSE))," ",VLOOKUP($E18,Blocs!$A:$J,9,FALSE)) | M18: =IF(ISNA(VLOOKUP($E18,Blocs!$A:$J,10,FALSE))," ",VLOOKUP($E18,Blocs!$A:$J,10,FALSE))
C19: 15- Rotation d'un quart de tour le moyen | D19: M: Manutention | F19: =IF(ISNA(VLOOKUP($E19,Blocs!$A:$J,3,FALSE))," ",VLOOKUP($E19,Blocs!$A:$J,3,FALSE)) | G19: =IF(ISNA(VLOOKUP($E19,Blocs!$A:$J,4,FALSE))," ",VLOOKUP($E19,Blocs!$A:$J,4,FALSE)) | H19: =IF(ISNA(VLOOKUP($E19,Blocs!$A:$J,5,FALSE))," ",VLOOKUP($E19,Blocs!$A:$J,5,FALSE)) | I19: =IF(ISNA(VLOOKUP($E19,Blocs!$A:$J,6,FALSE))," ",VLOOKUP($E19,Blocs!$A:$J,6,FALSE)) | J19: =IF(ISNA(VLOOKUP($E19,Blocs!$A:$J,7,FALSE))," ",VLOOKUP($E19,Blocs!$A:$J,7,FALSE)) | K19: =IF(ISNA(VLOOKUP($E19,Blocs!$A:$J,8,FALSE))," ",VLOOKUP($E19,Blocs!$A:$J,8,FALSE)) | L19: =IF(ISNA(VLOOKUP($E19,Blocs!$A:$J,9,FALSE))," ",VLOOKUP($E19,Blocs!$A:$J,9,FALSE)) | M19: =IF(ISNA(VLOOKUP($E19,Blocs!$A:$J,10,FALSE))," ",VLOOKUP($E19,Blocs!$A:$J,10,FALSE))
C20: 16- Prise du pistolet ultrason | D20: D: Appro outil | F20: =IF(ISNA(VLOOKUP($E20,Blocs!$A:$J,3,FALSE))," ",VLOOKUP($E20,Blocs!$A:$J,3,FALSE)) | G20: =IF(ISNA(VLOOKUP($E20,Blocs!$A:$J,4,FALSE))," ",VLOOKUP($E20,Blocs!$A:$J,4,FALSE)) | H20: =IF(ISNA(VLOOKUP($E20,Blocs!$A:$J,5,FALSE))," ",VLOOKUP($E20,Blocs!$A:$J,5,FALSE)) | I20: =IF(ISNA(VLOOKUP($E20,Blocs!$A:$J,6,FALSE))," ",VLOOKUP($E20,Blocs!$A:$J,6,FALSE)) | J20: =IF(ISNA(VLOOKUP($E20,Blocs!$A:$J,7,FALSE))," ",VLOOKUP($E20,Blocs!$A:$J,7,FALSE)) | K20: =IF(ISNA(VLOOKUP($E20,Blocs!$A:$J,8,FALSE))," ",VLOOKUP($E20,Blocs!$A:$J,8,FALSE)) | L20: =IF(ISNA(VLOOKUP($E20,Blocs!$A:$J,9,FALSE))," ",VLOOKUP($E20,Blocs!$A:$J,9,FALSE)) | M20: =IF(ISNA(VLOOKUP($E20,Blocs!$A:$J,10,FALSE))," ",VLOOKUP($E20,Blocs!$A:$J,10,FALSE))
C21: 17- Réalisation des 6 points de soudure ultrason, sur le pare-chocs | D21: I: Soudure | F21: =IF(ISNA(VLOOKUP($E21,Blocs!$A:$J,3,FALSE))," ",VLOOKUP($E21,Blocs!$A:$J,3,FALSE)) | G21: =IF(ISNA(VLOOKUP($E21,Blocs!$A:$J,4,FALSE))," ",VLOOKUP($E21,Blocs!$A:$J,4,FALSE)) | H21: =IF(ISNA(VLOOKUP($E21,Blocs!$A:$J,5,FALSE))," ",VLOOKUP($E21,Blocs!$A:$J,5,FALSE)) | I21: =IF(ISNA(VLOOKUP($E21,Blocs!$A:$J,6,FALSE))," ",VLOOKUP($E21,Blocs!$A:$J,6,FALSE)) | J21: =IF(ISNA(VLOOKUP($E21,Blocs!$A:$J,7,FALSE))," ",VLOOKUP($E21,Blocs!$A:$J,7,FALSE)) | K21: =IF(ISNA(VLOOKUP($E21,Blocs!$A:$J,8,FALSE))," ",VLOOKUP($E21,Blocs!$A:$J,8,FALSE)) | L21: =IF(ISNA(VLOOKUP($E21,Blocs!$A:$J,9,FALSE))," ",VLOOKUP($E21,Blocs!$A:$J,9,FALSE)) | M21: =IF(ISNA(VLOOKUP($E21,Blocs!$A:$J,10,FALSE))," ",VLOOKUP($E21,Blocs!$A:$J,10,FALSE))
C22: 18- Dépose Pistolet | D22: M: Manutention | F22: =IF(ISNA(VLOOKUP($E22,Blocs!$A:$J,3,FALSE))," ",VLOOKUP($E22,Blocs!$A:$J,3,FALSE)) | G22: =IF(ISNA(VLOOKUP($E22,Blocs!$A:$J,4,FALSE))," ",VLOOKUP($E22,Blocs!$A:$J,4,FALSE)) | H22: =IF(ISNA(VLOOKUP($E22,Blocs!$A:$J,5,FALSE))," ",VLOOKUP($E22,Blocs!$A:$J,5,FALSE)) | I22: =IF(ISNA(VLOOKUP($E22,Blocs!$A:$J,6,FALSE))," ",VLOOKUP($E22,Blocs!$A:$J,6,FALSE)) | J22: =IF(ISNA(VLOOKUP($E22,Blocs!$A:$J,7,FALSE))," ",VLOOKUP($E22,Blocs!$A:$J,7,FALSE)) | K22: =IF(ISNA(VLOOKUP($E22,Blocs!$A:$J,8,FALSE))," ",VLOOKUP($E22,Blocs!$A:$J,8,FALSE)) | L22: =IF(ISNA(VLOOKUP($E22,Blocs!$A:$J,9,FALSE))," ",VLOOKUP($E22,Blocs!$A:$J,9,FALSE)) | M22: =IF(ISNA(VLOOKUP($E22,Blocs!$A:$J,10,FALSE))," ",VLOOKUP($E22,Blocs!$A:$J,10,FALSE))
... C28: 24- Evacuation Pare-chocs AV assemblé sur rack inter opé. | D28: M: Manutention | F28: =IF(ISNA(VLOOKUP($E28,Blocs!$A:$J,3,FALSE))," ",VLOOKUP($E28,Blocs!$A:$J,3,FALSE)) | G28: =IF(ISNA(VLOOKUP($E28,Blocs!$A:$J,4,FALSE))," ",VLOOKUP($E28,Blocs!$A:$J,4,FALSE)) | H28: =IF(ISNA(VLOOKUP($E28,Blocs!$A:$J,5,FALSE))," ",VLOOKUP($E28,Blocs!$A:$J,5,FALSE)) | I28: =IF(ISNA(VLOOKUP($E28,Blocs!$A:$J,6,FALSE))," ",VLOOKUP($E28,Blocs!$A:$J,6,FALSE)) | J28: =IF(ISNA(VLOOKUP($E28,Blocs!$A:$J,7,FALSE))," ",VLOOKUP($E28,Blocs!$A:$J,7,FALSE)) | K28: =IF(ISNA(VLOOKUP($E28,Blocs!$A:$J,8,FALSE))," ",VLOOKUP($E28,Blocs!$A:$J,8,FALSE)) | L28: =IF(ISNA(VLOOKUP($E28,Blocs!$A:$J,9,FALSE))," ",VLOOKUP($E28,Blocs!$A:$J,9,FALSE)) | M28: =IF(ISNA(VLOOKUP($E28,Blocs!$A:$J,10,FALSE))," ",VLOOKUP($E28,Blocs!$A:$J,10,FALSE))
