Workbook

Sheet calendrier
A1: 2013
A3: CALENDRIER VALIDE EN CONSEIL D'ENTREPRISE
B4: 06-14 | H4: 14-22 | AB4: =R31/100*AD4 -> 0.4 | AC4: 100 | AD4: 4 | AF4: %
A5: Nom: | P5: Prénom:
A7: Jours à prendre: VA | D7: VA | E7: 20 | G7: CC | H7: 6 | J7: CS | K7: 6 | M7: Anc | N7: 5 | P7: Report 2012 | U7: CC | V7: 0 | Y7: CS | Z7: 0 | AC7: Anc. | AD7: 0
B9: 1 | C9: 2 | D9: 3 | E9: 4 | F9: 5 | G9: 6 | H9: 7 | I9: 8 | J9: 9 | K9: 10 | L9: 11 | M9: 12 | N9: 13 | O9: 14 | P9: 15 | Q9: 16 | R9: 17 | S9: 18 | T9: 19 | U9: 20 | V9: 21 | W9: 22 | X9: 23 | Y9: 24 | Z9: 25 | AA9: 26 | AB9: 27 | AC9: 28 | AD9: 29 | AE9: 30 | AF9: 31
A10: Janvier | B10: JF
A11: Février
A12: Mars
A13: Avril | B13: JF
A14: Mai | B14: JF | U14: JF
A15: Juin
A16: Juillet | V16: JF
A17: Août | P17: JF
A18: Septembre
A19: Octobre
A20: Novembre | B20: JF | L20: JF
A21: Décembre | Z21: JF
B23: J | C23: F | D23: M | E23: A | F23: M | G23: J | H23: J | I23: A | J23: S | K23: O | L23: N | M23: D | O23: T | Q23: Total C | U23: VA | X23: CC
A24: P | B24: =COUNTIF(B10:AF10,"P") -> 0 | C24: =COUNTIF(B11:AF11,"P") -> 0 | D24: =COUNTIF(B12:AF12,"P") -> 0 | E24: =COUNTIF(B13:AF13,"P") -> 0 | F24: =COUNTIF(B14:AF14,"P") -> 0 | G24: =COUNTIF(B15:AF15,"P") -> 0 | H24: =COUNTIF(B16:AF16,"P") -> 0 | I24: =COUNTIF(B17:AF17,"P") -> 0 | J24: =COUNTIF(B18:AF18,"P") -> 0 | K24: =COUNTIF(B19:AF19,"P") -> 0 | L24: =COUNTIF(B20:AF20,"P") -> 0 | M24: =COUNTIF(B21:AF21,"P") -> 0 | O24: =SUM(B24:M24) -> 0 | Q24: =O25+O26+O27+O28+O29+O31 -> 0 | U24: =E7-O25 -> 20 | X24: =H7-O26+V7 -> 6
A25: VA | B25: =COUNTIF(B10:AF10,"VA") -> 0 | C25: =COUNTIF(B11:AF11,"VA") -> 0 | D25: =COUNTIF(B12:AF12,"VA") -> 0 | E25: =COUNTIF(B13:AF13,"VA") -> 0 | F25: =COUNTIF(B14:AF14,"VA") -> 0 | G25: =COUNTIF(B15:AF15,"VA") -> 0 | H25: =COUNTIF(B16:AF16,"VA") -> 0 | I25: =COUNTIF(B17:AF17,"VA") -> 0 | J25: =COUNTIF(B18:AF18,"VA") -> 0 | K25: =COUNTIF(B19:AF19,"VA") -> 0 | L25: =COUNTIF(B20:AF20,"VA") -> 0 | M25: =COUNTIF(B21:AF21,"VA") -> 0 | O25: =SUM(B25:M25) -> 0
A26: CC | B26: =COUNTIF(B10:AF10,"CC") -> 0 | C26: =COUNTIF(B11:AF11,"CC") -> 0 | D26: =COUNTIF(B12:AF12,"CC") -> 0 | E26: =COUNTIF(B13:AF13,"CC") -> 0 | F26: =COUNTIF(B14:AF14,"CC") -> 0 | G26: =COUNTIF(B15:AF15,"CC") -> 0 | H26: =COUNTIF(B16:AF16,"CC") -> 0 | I26: =COUNTIF(B17:AF17,"CC") -> 0 | J26: =COUNTIF(B18:AF18,"CC") -> 0 | K26: =COUNTIF(B19:AF19,"CC") -> 0 | L26: =COUNTIF(B20:AF20,"CC") -> 0 | M26: =COUNTIF(B21:AF21,"CC") -> 0 | O26: =SUM(B26:M26) -> 0 | Q26: Total P | U26: CS | X26: CA
A27: CS | B27: =COUNTIF(B10:AF10,"CS") -> 0 | C27: =COUNTIF(B11:AF11,"CS") -> 0 | D27: =COUNTIF(B12:AF12,"CS") -> 0 | E27: =COUNTIF(B13:AF13,"CS") -> 0 | F27: =COUNTIF(B14:AF14,"CS") -> 0 | G27: =COUNTIF(B15:AF15,"CS") -> 0 | H27: =COUNTIF(B16:AF16,"CS") -> 0 | I27: =COUNTIF(B17:AF17,"CS") -> 0 | J27: =COUNTIF(B18:AF18,"CS") -> 0 | K27: =COUNTIF(B19:AF19,"CS") -> 0 | L27: =COUNTIF(B20:AF20,"CS") -> 0 | M27: =COUNTIF(B21:AF21,"CS") -> 0 | O27: =SUM(B27:M27) -> 0 | Q27: =O24 -> 0 | U27: =K7-O27+Z7 -> 6 | X27: =N7-O29+AD7 -> 5
A28: CT | B28: =COUNTIF(B10:AF10,"CT") -> 0 | C28: =COUNTIF(B11:AF11,"CT") -> 0 | D28: =COUNTIF(B12:AF12,"CT") -> 0 | E28: =COUNTIF(B13:AF13,"CT") -> 0 | F28: =COUNTIF(B14:AF14,"CT") -> 0 | G28: =COUNTIF(B15:AF15,"CT") -> 0 | H28: =COUNTIF(B16:AF16,"CT") -> 0 | I28: =COUNTIF(B17:AF17,"CT") -> 0 | J28: =COUNTIF(B18:AF18,"CT") -> 0 | K28: =COUNTIF(B19:AF19,"CT") -> 0 | L28: =COUNTIF(B20:AF20,"CT") -> 0 | M28: =COUNTIF(B21:AF21,"CT") -> 0 | O28: =SUM(B28:M28) -> 0
A29: CA | B29: =COUNTIF(B10:AF10,"CA") -> 0 | C29: =COUNTIF(B11:AF11,"CA") -> 0 | D29: =COUNTIF(B12:AF12,"CA") -> 0 | E29: =COUNTIF(B13:AF13,"CA") -> 0 | F29: =COUNTIF(B14:AF14,"CA") -> 0 | G29: =COUNTIF(B15:AF15,"CA") -> 0 | H29: =COUNTIF(B16:AF16,"CA") -> 0 | I29: =COUNTIF(B17:AF17,"CA") -> 0 | J29: =COUNTIF(B18:AF18,"CA") -> 0 | K29: =COUNTIF(B19:AF19,"CA") -> 0 | L29: =COUNTIF(B20:AF20,"CA") -> 0 | M29: =COUNTIF(B21:AF21,"CA") -> 0 | O29: =SUM(B29:M29) -> 0 | Q29: Total G | U29: CT | X29: M
A30: Mal | B30: =COUNTIF(B10:AF10,"M") -> 0 | C30: =COUNTIF(B11:AF11,"M") -> 0 | D30: =COUNTIF(B12:AF12,"M") -> 0 | E30: =COUNTIF(B13:AF13,"M") -> 0 | F30: =COUNTIF(B14:AF14,"M") -> 0 | G30: =COUNTIF(B15:AF15,"M") -> 0 | H30: =COUNTIF(B16:AF16,"M") -> 0 | I30: =COUNTIF(B17:AF17,"M") -> 0 | J30: =COUNTIF(B18:AF18,"M") -> 0 | K30: =COUNTIF(B19:AF19,"M") -> 0 | L30: =COUNTIF(B20:AF20,"M") -> 0 | M30: =COUNTIF(B21:AF21,"M") -> 0 | O30: =SUM(B30:M30) -> 0 | Q30: =Q24+Q27 -> 0 | U30: =O28 -> 0 | X30: =O30 -> 0
A31: Forma | B31: =COUNTIF(B10:AF10,"F") -> 0 | C31: =COUNTIF(B11:AD11,"F") -> 0 | D31: =COUNTIF(B12:AF12,"F") -> 0 | E31: =COUNTIF(B13:AE13,"F") -> 0 | F31: =COUNTIF(B14:AF14,"F") -> 0 | G31: =COUNTIF(B15:AE15,"F") -> 0 | H31: =COUNTIF(B16:AF16,"F") -> 0 | I31: =COUNTIF(B17:AF17,"F") -> 0 | J31: =COUNTIF(B18:AE18,"F") -> 0 | K31: =COUNTIF(B19:AF19,"F") -> 0 | L31: =COUNTIF(B20:AE20,"F") -> 0 | M31: =COUNTIF(B21:AF21,"F") -> 0 | O31: =SUM(B31:M31) -> 0 | Q31: 10 | R31: =Q31+Q30 -> 10

Sheet Imprime
A1: 2013
A3: CALENDRIER VALIDE EN CONSEIL D'ENTREPRISE
B4: 06 | H4: 14-22 | AB4: =R31/100*AD4 -> 0.4 | AC4: 100 | AD4: =calendrier!AD4 -> 4 | AF4: %
A5: Nom: | B5: =calendrier!B5 -> 0 | P5: Prénom: | T5: =calendrier!T5 -> 0
A7: Jours à prendre: VA | D7: VA | E7: 18 | G7: CC | H7: 5 | J7: CS | K7: 5 | M7: Anc | N7: 5 | P7: Report 2012 | U7: CC | V7: 0 | Y7: CS | Z7: 0 | AC7: Anc. | AD7: 0
B9: 1 | C9: 2 | D9: 3 | E9: 4 | F9: 5 | G9: 6 | H9: 7 | I9: 8 | J9: 9 | K9: 10 | L9: 11 | M9: 12 | N9: 13 | O9: 14 | P9: 15 | Q9: 16 | R9: 17 | S9: 18 | T9: 19 | U9: 20 | V9: 21 | W9: 22 | X9: 23 | Y9: 24 | Z9: 25 | AA9: 26 | AB9: 27 | AC9: 28 | AD9: 29 | AE9: 30 | AF9: 31
A10: Janvier | B10: =calendrier!B10 -> JF | C10: =calendrier!C10 -> 0 | D10: =calendrier!D10 -> 0 | E10: =calendrier!E10 -> 0 | H10: =calendrier!H10 -> 0 | I10: =calendrier!I10 -> 0 | J10: =calendrier!J10 -> 0 | K10: =calendrier!K10 -> 0 | L10: =calendrier!L10 -> 0 | O10: =calendrier!O10 -> 0 | P10: =calendrier!P10 -> 0 | Q10: =calendrier!Q10 -> 0 | R10: =calendrier!R10 -> 0 | S10: =calendrier!S10 -> 0 | V10: =calendrier!V10 -> 0 | W10: =calendrier!W10 -> 0 | X10: =calendrier!X10 -> 0 | Y10: =calendrier!Y10 -> 0 | Z10: =calendrier!Z10 -> 0 | AC10: =calendrier!AC10 -> 0 | AD10: =calendrier!AD10 -> 0 | AE10: =calendrier!AE10 -> 0 | AF10: =calendrier!AF10 -> 0
A11: Février | B11: =calendrier!B11 -> 0 | E11: =calendrier!E11 -> 0 | F11: =calendrier!F11 -> 0 | G11: =calendrier!G11 -> 0 | H11: =calendrier!H11 -> 0 | I11: =calendrier!I11 -> 0 | L11: =calendrier!L11 -> 0 | M11: =calendrier!M11 -> 0 | N11: =calendrier!N11 -> 0 | O11: =calendrier!O11 -> 0 | P11: =calendrier!P11 -> 0 | S11: =calendrier!S11 -> 0 | T11: =calendrier!T11 -> 0 | U11: =calendrier!U11 -> 0 | V11: =calendrier!V11 -> 0 | W11: =calendrier!W11 -> 0 | Z11: =calendrier!Z11 -> 0 | AA11: =calendrier!AA11 -> 0 | AB11: =calendrier!AB11 -> 0 | AC11: =calendrier!AC11 -> 0
A12: Mars | B12: =calendrier!B12 -> 0 | E12: =calendrier!E12 -> 0 | F12: =calendrier!F12 -> 0 | G12: =calendrier!G12 -> 0 | H12: =calendrier!H12 -> 0 | I12: =calendrier!I12 -> 0 | L12: =calendrier!L12 -> 0 | M12: =calendrier!M12 -> 0 | N12: =calendrier!N12 -> 0 | O12: =calendrier!O12 -> 0 | P12: =calendrier!P12 -> 0 | S12: =calendrier!S12 -> 0 | T12: =calendrier!T12 -> 0 | U12: =calendrier!U12 -> 0 | V12: =calendrier!V12 -> 0 | W12: =calendrier!W12 -> 0 | Z12: =calendrier!Z12 -> 0 | AA12: =calendrier!AA12 -> 0 | AB12: =calendrier!AB12 -> 0 | AC12: =calendrier!AC12 -> 0 | AD12: =calendrier!AD12 -> 0
A13: Avril | B13: =calendrier!B13 -> JF | C13: =calendrier!C13 -> 0 | D13: =calendrier!D13 -> 0 | E13: =calendrier!E13 -> 0 | F13: =calendrier!F13 -> 0 | I13: =calendrier!I13 -> 0 | J13: =calendrier!J13 -> 0 | K13: =calendrier!K13 -> 0 | L13: =calendrier!L13 -> 0 | M13: =calendrier!M13 -> 0 | P13: =calendrier!P13 -> 0 | Q13: =calendrier!Q13 -> 0 | R13: =calendrier!R13 -> 0 | S13: =calendrier!S13 -> 0 | T13: =calendrier!T13 -> 0 | W13: =calendrier!W13 -> 0 | X13: =calendrier!X13 -> 0 | Y13: =calendrier!Y13 -> 0 | Z13: =calendrier!Z13 -> 0 | AA13: =calendrier!AA13 -> 0 | AD13: =calendrier!AD13 -> 0 | AE13: =calendrier!AE13 -> 0 | AF13: =calendrier!AF13 -> 0
A14: Mai | B14: =calendrier!B14 -> JF | C14: =calendrier!C14 -> 0 | D14: =calendrier!D14 -> 0 | G14: =calendrier!G14 -> 0 | H14: =calendrier!H14 -> 0 | I14: =calendrier!I14 -> 0 | J14: =calendrier!J14 -> 0 | K14: =calendrier!K14 -> 0 | N14: =calendrier!N14 -> 0 | O14: =calendrier!O14 -> 0 | P14: =calendrier!P14 -> 0 | Q14: =calendrier!Q14 -> 0 | R14: =calendrier!R14 -> 0 | U14: =calendrier!U14 -> JF | V14: =calendrier!V14 -> 0 | W14: =calendrier!W14 -> 0 | X14: =calendrier!X14 -> 0 | Y14: =calendrier!Y14 -> 0 | AB14: =calendrier!AB14 -> 0 | AC14: =calendrier!AC14 -> 0 | AD14: =calendrier!AD14 -> 0 | AE14: =calendrier!AE14 -> 0 | AF14: =calendrier!AF14 -> 0
A15: Juin | D15: =calendrier!D15 -> 0 | E15: =calendrier!E15 -> 0 | F15: =calendrier!F15 -> 0 | G15: =calendrier!G15 -> 0 | H15: =calendrier!H15 -> 0 | K15: =calendrier!K15 -> 0 | L15: =calendrier!L15 -> 0 | M15: =calendrier!M15 -> 0 | N15: =calendrier!N15 -> 0 | O15: =calendrier!O15 -> 0 | R15: =calendrier!R15 -> 0 | S15: =calendrier!S15 -> 0 | T15: =calendrier!T15 -> 0 | U15: =calendrier!U15 -> 0 | V15: =calendrier!V15 -> 0 | Y15: =calendrier!Y15 -> 0 | Z15: =calendrier!Z15 -> 0 | AA15: =calendrier!AA15 -> 0 | AB15: =calendrier!AB15 -> 0 | AC15: =calendrier!AC15 -> 0 | AF15: =calendrier!AF15 -> 0
A16: Juillet | B16: =calendrier!B16 -> 0 | C16: =calendrier!C16 -> 0 | D16: =calendrier!D16 -> 0 | E16: =calendrier!E16 -> 0 | F16: =calendrier!F16 -> 0 | I16: =calendrier!I16 -> 0 | J16: =calendrier!J16 -> 0 | K16: =calendrier!K16 -> 0 | L16: =calendrier!L16 -> 0 | M16: =calendrier!M16 -> 0 | P16: =calendrier!P16 -> 0 | Q16: =calendrier!Q16 -> 0 | R16: =calendrier!R16 -> 0 | S16: =calendrier!S16 -> 0 | T16: =calendrier!T16 -> 0 | V16: JF | W16: =calendrier!W16 -> 0 | X16: =calendrier!X16 -> 0 | Y16: =calendrier!Y16 -> 0 | Z16: =calendrier!Z16 -> 0 | AA16: =calendrier!AA16 -> 0 | AD16: =calendrier!AD16 -> 0 | AE16: =calendrier!AE16 -> 0 | AF16: =calendrier!AF16 -> 0
A17: Août | B17: =calendrier!B17 -> 0 | C17: =calendrier!C17 -> 0 | F17: =calendrier!F17 -> 0 | G17: =calendrier!G17 -> 0 | H17: =calendrier!H17 -> 0 | I17: =calendrier!I17 -> 0 | J17: =calendrier!J17 -> 0 | M17: =calendrier!M17 -> 0 | N17: =calendrier!N17 -> 0 | O17: =calendrier!O17 -> 0 | P17: =calendrier!P17 -> JF | Q17: =calendrier!Q17 -> 0 | T17: =calendrier!T17 -> 0 | U17: =calendrier!U17 -> 0 | V17: =calendrier!V17 -> 0 | W17: =calendrier!W17 -> 0 | X17: =calendrier!X17 -> 0 | AA17: =calendrier!AA17 -> 0 | AB17: =calendrier!AB17 -> 0 | AC17: =calendrier!AC17 -> 0 | AD17: =calendrier!AD17 -> 0 | AE17: =calendrier!AE17 -> 0
A18: Septembre | C18: =calendrier!C18 -> 0 | D18: =calendrier!D18 -> 0 | E18: =calendrier!E18 -> 0 | F18: =calendrier!F18 -> 0 | G18: =calendrier!G18 -> 0 | J18: =calendrier!J18 -> 0 | K18: =calendrier!K18 -> 0 | L18: =calendrier!L18 -> 0 | M18: =calendrier!M18 -> 0 | N18: =calendrier!N18 -> 0 | Q18: =calendrier!Q18 -> 0 | R18: =calendrier!R18 -> 0 | S18: =calendrier!S18 -> 0 | T18: =calendrier!T18 -> 0 | U18: =calendrier!U18 -> 0 | X18: =calendrier!X18 -> 0 | Y18: =calendrier!Y18 -> 0 | Z18: =calendrier!Z18 -> 0 | AA18: =calendrier!AA18 -> 0 | AB18: =calendrier!AB18 -> 0 | AE18: =calendrier!AE18 -> 0 | AF18: =calendrier!AF18 -> 0
A19: Octobre | B19: =calendrier!B19 -> 0 | C19: =calendrier!C19 -> 0 | D19: =calendrier!D19 -> 0 | E19: =calendrier!E19 -> 0 | H19: =calendrier!H19 -> 0 | I19: =calendrier!I19 -> 0 | J19: =calendrier!J19 -> 0 | K19: =calendrier!K19 -> 0 | L19: =calendrier!L19 -> 0 | O19: =calendrier!O19 -> 0 | P19: =calendrier!P19 -> 0 | Q19: =calendrier!Q19 -> 0 | R19: =calendrier!R19 -> 0 | S19: =calendrier!S19 -> 0 | V19: =calendrier!V19 -> 0 | W19: =calendrier!W19 -> 0 | X19: =calendrier!X19 -> 0 | Y19: =calendrier!Y19 -> 0 | Z19: =calendrier!Z19 -> 0 | AC19: =calendrier!AC19 -> 0 | AD19: =calendrier!AD19 -> 0 | AE19: =calendrier!AE19 -> 0 | AF19: =calendrier!AF19 -> 0
A20: Novembre | B20: =calendrier!B20 -> JF | E20: =calendrier!E20 -> 0 | F20: =calendrier!F20 -> 0 | G20: =calendrier!G20 -> 0 | H20: =calendrier!H20 -> 0 | I20: =calendrier!I20 -> 0 | L20: =calendrier!L20 -> JF | M20: =calendrier!M20 -> 0 | N20: =calendrier!N20 -> 0 | O20: =calendrier!O20 -> 0 | P20: =calendrier!P20 -> 0 | S20: =calendrier!S20 -> 0 | T20: =calendrier!T20 -> 0 | U20: =calendrier!U20 -> 0 | V20: =calendrier!V20 -> 0 | W20: =calendrier!W20 -> 0 | Z20: =calendrier!Z20 -> 0 | AA20: =calendrier!AA20 -> 0 | AB20: =calendrier!AB20 -> 0 | AC20: =calendrier!AC20 -> 0 | AD20: =calendrier!AD20 -> 0 | AF20: =calendrier!AF20 -> 0
A21: Décembre | C21: =calendrier!C21 -> 0 | D21: =calendrier!D21 -> 0 | E21: =calendrier!E21 -> 0 | F21: =calendrier!F21 -> 0 | G21: =calendrier!G21 -> 0 | J21: =calendrier!J21 -> 0 | K21: =calendrier!K21 -> 0 | L21: =calendrier!L21 -> 0 | M21: =calendrier!M21 -> 0 | N21: =calendrier!N21 -> 0 | Q21: =calendrier!Q21 -> 0 | R21: =calendrier!R21 -> 0 | S21: =calendrier!S21 -> 0 | T21: =calendrier!T21 -> 0 | U21: =calendrier!U21 -> 0 | X21: =calendrier!X21 -> 0 | Y21: =calendrier!Y21 -> 0 | Z21: =calendrier!Z21 -> JF | AA21: =calendrier!AA21 -> 0 | AB21: =calendrier!AB21 -> 0 | AE21: =calendrier!AE21 -> 0 | AF21: =calendrier!AF21 -> 0
B23: J | C23: F | D23: M | E23: A | F23: M | G23: J | H23: J | I23: A | J23: S | K23: O | L23: N | M23: D | O23: T | Q23: Total C | U23: VA | X23: CC
A24: P | B24: =COUNTIF(B10:AF10,"P") -> 0 | C24: =COUNTIF(B11:AF11,"P") -> 0 | D24: =COUNTIF(B12:AF12,"P") -> 0 | E24: =COUNTIF(B13:AF13,"P") -> 0 | F24: =COUNTIF(B14:AF14,"P") -> 0 | G24: =COUNTIF(B15:AF15,"P") -> 0 | H24: =COUNTIF(B16:AF16,"P") -> 0 | I24: =COUNTIF(B17:AF17,"P") -> 0 | J24: =COUNTIF(B18:AF18,"P") -> 0 | K24: =COUNTIF(B19:AF19,"P") -> 0 | L24: =COUNTIF(B20:AF20,"P") -> 0 | M24: =COUNTIF(B21:AF21,"P") -> 0 | O24: =SUM(B24:M24) -> 0 | Q24: =O25+O26+O27+O28+O29+O31 -> 0 | U24: =E7-O25 -> 18 | X24: =H7-O26+V7 -> 5
A25: VA | B25: =COUNTIF(B10:AF10,"VA") -> 0 | C25: =COUNTIF(B11:AF11,"VA") -> 0 | D25: =COUNTIF(B12:AF12,"VA") -> 0 | E25: =COUNTIF(B13:AF13,"VA") -> 0 | F25: =COUNTIF(B14:AF14,"VA") -> 0 | G25: =COUNTIF(B15:AF15,"VA") -> 0 | H25: =COUNTIF(B16:AF16,"VA") -> 0 | I25: =COUNTIF(B17:AF17,"VA") -> 0 | J25: =COUNTIF(B18:AF18,"VA") -> 0 | K25: =COUNTIF(B19:AF19,"VA") -> 0 | L25: =COUNTIF(B20:AF20,"VA") -> 0 | M25: =COUNTIF(B21:AF21,"VA") -> 0 | O25: =SUM(B25:M25) -> 0
A26: CC | B26: =COUNTIF(B10:AF10,"CC") -> 0 | C26: =COUNTIF(B11:AF11,"CC") -> 0 | D26: =COUNTIF(B12:AF12,"CC") -> 0 | E26: =COUNTIF(B13:AF13,"CC") -> 0 | F26: =COUNTIF(B14:AF14,"CC") -> 0 | G26: =COUNTIF(B15:AF15,"CC") -> 0 | H26: =COUNTIF(B16:AF16,"CC") -> 0 | I26: =COUNTIF(B17:AF17,"CC") -> 0 | J26: =COUNTIF(B18:AF18,"CC") -> 0 | K26: =COUNTIF(B19:AF19,"CC") -> 0 | L26: =COUNTIF(B20:AF20,"CC") -> 0 | M26: =COUNTIF(B21:AF21,"CC") -> 0 | O26: =SUM(B26:M26) -> 0 | Q26: Total P | U26: CS | X26: CA
A27: CS | B27: =COUNTIF(B10:AF10,"CS") -> 0 | C27: =COUNTIF(B11:AF11,"CS") -> 0 | D27: =COUNTIF(B12:AF12,"CS") -> 0 | E27: =COUNTIF(B13:AF13,"CS") -> 0 | F27: =COUNTIF(B14:AF14,"CS") -> 0 | G27: =COUNTIF(B15:AF15,"CS") -> 0 | H27: =COUNTIF(B16:AF16,"CS") -> 0 | I27: =COUNTIF(B17:AF17,"CS") -> 0 | J27: =COUNTIF(B18:AF18,"CS") -> 0 | K27: =COUNTIF(B19:AF19,"CS") -> 0 | L27: =COUNTIF(B20:AF20,"CS") -> 0 | M27: =COUNTIF(B21:AF21,"CS") -> 0 | O27: =SUM(B27:M27) -> 0 | Q27: =O24 -> 0 | U27: =K7-O27+Z7 -> 5 | X27: =N7-O29+AD7 -> 5
A28: CT | B28: =COUNTIF(B10:AF10,"CT") -> 0 | C28: =COUNTIF(B11:AF11,"CT") -> 0 | D28: =COUNTIF(B12:AF12,"CT") -> 0 | E28: =COUNTIF(B13:AF13,"CT") -> 0 | F28: =COUNTIF(B14:AF14,"CT") -> 0 | G28: =COUNTIF(B15:AF15,"CT") -> 0 | H28: =COUNTIF(B16:AF16,"CT") -> 0 | I28: =COUNTIF(B17:AF17,"CT") -> 0 | J28: =COUNTIF(B18:AF18,"CT") -> 0 | K28: =COUNTIF(B19:AF19,"CT") -> 0 | L28: =COUNTIF(B20:AF20,"CT") -> 0 | M28: =COUNTIF(B21:AF21,"CT") -> 0 | O28: =SUM(B28:M28) -> 0
A29: CA | B29: =COUNTIF(B10:AF10,"CA") -> 0 | C29: =COUNTIF(B11:AF11,"CA") -> 0 | D29: =COUNTIF(B12:AF12,"CA") -> 0 | E29: =COUNTIF(B13:AF13,"CA") -> 0 | F29: =COUNTIF(B14:AF14,"CA") -> 0 | G29: =COUNTIF(B15:AF15,"CA") -> 0 | H29: =COUNTIF(B16:AF16,"CA") -> 0 | I29: =COUNTIF(B17:AF17,"CA") -> 0 | J29: =COUNTIF(B18:AF18,"CA") -> 0 | K29: =COUNTIF(B19:AF19,"CA") -> 0 | L29: =COUNTIF(B20:AF20,"CA") -> 0 | M29: =COUNTIF(B21:AF21,"CA") -> 0 | O29: =SUM(B29:M29) -> 0 | Q29: Total G | U29: CT | X29: M
A30: Mal | B30: =COUNTIF(B10:AF10,"M") -> 0 | C30: =COUNTIF(B11:AF11,"M") -> 0 | D30: =COUNTIF(B12:AF12,"M") -> 0 | E30: =COUNTIF(B13:AF13,"M") -> 0 | F30: =COUNTIF(B14:AF14,"M") -> 0 | G30: =COUNTIF(B15:AF15,"M") -> 0 | H30: =COUNTIF(B16:AF16,"M") -> 0 | I30: =COUNTIF(B17:AF17,"M") -> 0 | J30: =COUNTIF(B18:AF18,"M") -> 0 | K30: =COUNTIF(B19:AF19,"M") -> 0 | L30: =COUNTIF(B20:AF20,"M") -> 0 | M30: =COUNTIF(B21:AF21,"M") -> 0 | O30: =SUM(B30:M30) -> 0 | Q30: =Q24+Q27 -> 0 | U30: =O28 -> 0 | X30: =O30 -> 0
A31: Forma | B31: =COUNTIF(B10:AF10,"F") -> 0 | C31: =COUNTIF(B11:AD11,"F") -> 0 | D31: =COUNTIF(B12:AF12,"F") -> 0 | E31: =COUNTIF(B13:AE13,"F") -> 0 | F31: =COUNTIF(B14:AF14,"F") -> 0 | G31: =COUNTIF(B15:AE15,"F") -> 0 | H31: =COUNTIF(B16:AF16,"F") -> 0 | I31: =COUNTIF(B17:AF17,"F") -> 0 | J31: =COUNTIF(B18:AE18,"F") -> 0 | K31: =COUNTIF(B19:AF19,"F") -> 0 | L31: =COUNTIF(B20:AE20,"F") -> 0 | M31: =COUNTIF(B21:AF21,"F") -> 0 | O31: =SUM(B31:M31) -> 0 | Q31: 10 | R31: =Q31+Q30 -> 10

Sheet Date
A1: VA | B1: CC | C1: CS | D1: CA | E1: CT | F1: Form | G1: Mal | H1: JF
