Workbook

Sheet Feuil1
A1: NOM | B1: PRENOM | C1: SEXE
A2: Allard | B2: Jocelyne | C2: F | D2: =VLOOKUP(A2,Feuil2!$A$2:$C$12,2,0) -> Secrétaire | E2: =VLOOKUP(A2,Feuil2!$A$2:$C$12,3,0) -> 27000
A3: Allarde | B3: Benoit | C3: M | D3: =VLOOKUP(A3,Feuil2!$A$2:$C$12,2,0) -> #N/A | E3: =VLOOKUP(A3,Feuil2!$A$2:$C$12,3,0) -> #N/A
A4: Bibeau | B4: Martin | C4: M | D4: =VLOOKUP(A4,Feuil2!$A$2:$C$12,2,0) -> Administrateur | E4: =VLOOKUP(A4,Feuil2!$A$2:$C$12,3,0) -> 27000
A5: Bibeaux | B5: Rita | C5: F | D5: =VLOOKUP(A5,Feuil2!$A$2:$C$12,2,0) -> #N/A | E5: =VLOOKUP(A5,Feuil2!$A$2:$C$12,3,0) -> #N/A
A6: Cardinal | B6: Paul | C6: M | D6: =VLOOKUP(A6,Feuil2!$A$2:$C$12,2,0) -> Ouvrier | E6: =VLOOKUP(A6,Feuil2!$A$2:$C$12,3,0) -> 20000
A7: Crosby | B7: Julian | C7: M | D7: =VLOOKUP(A7,Feuil2!$A$2:$C$12,2,0) -> Administrateur | E7: =VLOOKUP(A7,Feuil2!$A$2:$C$12,3,0) -> 27000
A8: Dupuis | B8: Josée | C8: F | D8: =VLOOKUP(A8,Feuil2!$A$2:$C$12,2,0) -> Vendeur | E8: =VLOOKUP(A8,Feuil2!$A$2:$C$12,3,0) -> 22500
A9: Dupuiset | B9: Carole | C9: F | D9: =VLOOKUP(A9,Feuil2!$A$2:$C$12,2,0) -> #N/A | E9: =VLOOKUP(A9,Feuil2!$A$2:$C$12,3,0) -> #N/A
A10: Gingras | B10: Marc | C10: M | D10: =VLOOKUP(A10,Feuil2!$A$2:$C$12,2,0) -> Administrateur | E10: =VLOOKUP(A10,Feuil2!$A$2:$C$12,3,0) -> 40500
A11: Lalonde | B11: Karl | C11: M | D11: =VLOOKUP(A11,Feuil2!$A$2:$C$12,2,0) -> Ouvrier | E11: =VLOOKUP(A11,Feuil2!$A$2:$C$12,3,0) -> 31500
A12: Savoie | B12: Jean | C12: M | D12: =VLOOKUP(A12,Feuil2!$A$2:$C$12,2,0) -> Vendeur | E12: =VLOOKUP(A12,Feuil2!$A$2:$C$12,3,0) -> 31500
A13: Smith | B13: Alex | C13: M | D13: =VLOOKUP(A13,Feuil2!$A$2:$C$12,2,0) -> Vendeur | E13: =VLOOKUP(A13,Feuil2!$A$2:$C$12,3,0) -> 18000
... A16: Thibault | B16: Gratien | C16: M | D16: =VLOOKUP(A16,Feuil2!$A$2:$C$12,2,0) -> Administrateur | E16: =VLOOKUP(A16,Feuil2!$A$2:$C$12,3,0) -> 27000

Sheet Feuil2
A1: NOM | B1: TITRE | C1: SALAIRE
A2: Allard | B2: Secrétaire | C2: 27000
A3: Bibeau | B3: Administrateur | C3: 27000
A4: Cardinal | B4: Ouvrier | C4: 20000
A5: Crosby | B5: Administrateur | C5: 27000
A6: Dupuis | B6: Vendeur | C6: 22500
A7: Gingras | B7: Administrateur | C7: 40500
A8: Lalonde | B8: Ouvrier | C8: 31500
A9: Savoie | B9: Vendeur | C9: 31500
A10: Smith | B10: Vendeur | C10: 18000
A11: St-Pierre | B11: Secrétaire | C11: 22500
A12: Thibault | B12: Administrateur | C12: 27000

Sheet Feuil3
