Workbook
Name _0001: Base!$C$2:$C$214
Name _mf1: #REF!
Name _mf2: #REF!
Name _ml2: #REF!
Name _nom1: Base!$B$2:$B$210
Name _NOM2: Base!$C$2:$C$229
Name _nom3: Base!$C$2:$C$229
Name Adresse: OFFSET(Base!$C$1,1,0,COUNTA(Base!$A:$A)-1,1)
Name Annee: #REF!
Name bague: #REF!
Name base: #REF!
Name Cathegorie: OFFSET(Base!$G$1,1,0,COUNTA(Base!$A:$A)-1,1)
Name cause: OFFSET([1]soins!$F$7,,,MATCH("z*z",[1]soins!$F$1:$F$65536,1)-6)
Name CbA: OFFSET(#REF!,,,COUNT(#REF!))
Name CbB: OFFSET(#REF!,,,COUNT(#REF!))
Name CbC: OFFSET(#REF!,,,COUNT(#REF!))
Name CbD: OFFSET(#REF!,,,COUNT(#REF!))
Name CbE: OFFSET(#REF!,,,COUNT(#REF!))
Name cc: #REF!
Name code: Base!$C$2:$C$202
Name CP_Postal: OFFSET(Base!$D$1,1,0,COUNTA(Base!$A:$A)-1,1)
Name date: OFFSET([1]soins!$C$7,,,MATCH("z*z",[1]soins!$F$1:$F$65536,1)-6)
Name Date_naissance: OFFSET(Base!$F$1,1,0,COUNTA(Base!$A:$A)-1,1)
Name datemaj: #REF!
Name delai: OFFSET([2]basse!$K$1,1,0,COUNTA([2]basse!$K$2:$K$65001),1)
Name DOSE: OFFSET([2]basse!$G$1,1,0,COUNTA([2]basse!$G$2:$G$65001),1)
Name eclos: #REF!
Name fc: #REF!
Name FEMELLE: #REF!
Name ff: #REF!
Name ffa: #REF!
Name ffb: #REF!
Name ffe: #REF!
Name gi: #REF!
Name hm: #REF!
Name ho: #REF!
Name I_D_F: OFFSET([2]basse!$A$1,1,0,COUNTA([2]basse!$A$2:$A$65001),1)
Name id: OFFSET([1]soins!$B$7,,,MATCH("z*z",[1]soins!$F$1:$F$65536,1)-6)
Name idf: #REF!
Name ja: #REF!
Name jb: #REF!
Name ListeNoms: OFFSET(#REF!,1,,COUNTA(#REF!)-1)
Name MALE: #REF!
Name mc: #REF!
Name medicaments: OFFSET([2]basse!$E$1,1,0,COUNTA([2]basse!$E$2:$E$65001),1)
Name mf: #REF!
Name ml: #REF!
Name Mode_admi: OFFSET([2]basse!$I$1,1,0,COUNTA([2]basse!$I$2:$I$65001),1)
Name N_TRAVAIL: Base!$C$1
Name NOM: Base!$C$1:$C$218
Name Nomlatin: '[3]base de donnée'!$C$4
Name noms: #REF!
Name Nomsproduits: OFFSET('[4]stock global'!$B$5,,,COUNTA('[4]stock global'!$B$1:$B$65536),1)
Name Nomvernaculaire: '[3]base de donnée'!$B$4
Name ORDONNANCE: [5]Identifiants!$L$2:$L$11
Name Param_ligne: #REF!
Name parc: OFFSET([1]soins!$A$7,,,MATCH("z*z",[1]soins!$F$1:$F$65536,1)-6)
Name pondus: #REF!
Name remedes: #REF!
Name Sex: OFFSET(Base!$H$1,1,0,COUNTA(Base!$A:$A)-1,1)

Sheet Base
A1: N° | B1: N NATIO | C1: N TRAVAIL | D1: RC | E1: RACE | F1: Date de Naissance | G1: AGE | H1: sex | I1: Doublon | L1: N° ligne
A2: 1 | B2: 2405360003 | C2: =RIGHT(B2,4) -> 0003 | D2: 34 | E2: CROISE | F2: 41747 | G2: =DATEDIF(F2,TODAY(),"ym")&" mois "&DATEDIF(F2,TODAY(),"md")&" jours" -> 6 mois 18 jours | H2: M | I2: =IF(COUNTIF($C$2:$C$200,C2)>1,"DOUBLON","") | K2: =RIGHT(J2,4) | L2: =IF(COUNTIF(#REF!,Base!C2)>0,ROW(),0) -> #REF!
A3: 2 | B3: 2405360010 | C3: =RIGHT(B3,4) -> 0010 | D3: 34 | E3: CROISE | F3: 41757 | G3: =DATEDIF(F3,TODAY(),"ym")&" mois "&DATEDIF(F3,TODAY(),"md")&" jours" -> 6 mois 8 jours | H3: M | I3: =IF(COUNTIF($C$2:$C$200,C3)>1,"DOUBLON","") | L3: =IF(COUNTIF(#REF!,Base!C3)>0,ROW(),0) -> #REF!
A4: 3 | B4: 4242100149 | C4: =RIGHT(B4,4) -> 0149 | D4: 38 | E4: CROISE | F4: 41759 | G4: =DATEDIF(F4,TODAY(),"ym")&" mois "&DATEDIF(F4,TODAY(),"md")&" jours" -> 6 mois 6 jours | H4: F | I4: =IF(COUNTIF($C$2:$C$200,C4)>1,"DOUBLON","") | L4: =IF(COUNTIF(#REF!,Base!C4)>0,ROW(),0) -> #REF!
A5: 4 | B5: 1214390202 | C5: =RIGHT(B5,4) -> 0202 | D5: 38 | E5: CROISE | F5: 41764 | G5: =DATEDIF(F5,TODAY(),"ym")&" mois "&DATEDIF(F5,TODAY(),"md")&" jours" -> 6 mois 1 jours | H5: F | I5: =IF(COUNTIF($C$2:$C$200,C5)>1,"DOUBLON","") | L5: =IF(COUNTIF(#REF!,Base!C5)>0,ROW(),0) -> #REF!
A6: 5 | B6: 1213400301 | C6: =RIGHT(B6,4) -> 0301 | D6: 39 | E6: CROISE | F6: 41769 | G6: =DATEDIF(F6,TODAY(),"ym")&" mois "&DATEDIF(F6,TODAY(),"md")&" jours" -> 5 mois 26 jours | H6: M | I6: =IF(COUNTIF($C$2:$C$200,C6)>1,"DOUBLON","") | L6: =IF(COUNTIF(#REF!,Base!C6)>0,ROW(),0) -> #REF!
A7: 6 | B7: 1214080373 | C7: =RIGHT(B7,4) -> 0373 | D7: 39 | E7: CROISE | F7: 41741 | G7: =DATEDIF(F7,TODAY(),"ym")&" mois "&DATEDIF(F7,TODAY(),"md")&" jours" -> 6 mois 24 jours | H7: F | I7: =IF(COUNTIF($C$2:$C$200,C7)>1,"DOUBLON","") | L7: =IF(COUNTIF(#REF!,Base!C7)>0,ROW(),0) -> #REF!
A8: 7 | B8: 1214430387 | C8: =RIGHT(B8,4) -> 0387 | D8: 39 | E8: CROISE | F8: 41762 | G8: =DATEDIF(F8,TODAY(),"ym")&" mois "&DATEDIF(F8,TODAY(),"md")&" jours" -> 6 mois 3 jours | H8: M | I8: =IF(COUNTIF($C$2:$C$200,C8)>1,"DOUBLON","") | L8: =IF(COUNTIF(#REF!,Base!C8)>0,ROW(),0) -> #REF!
A9: 8 | B9: 4957420400 | C9: =RIGHT(B9,4) -> 0400 | D9: 34 | E9: CROISE | F9: 41754 | G9: =DATEDIF(F9,TODAY(),"ym")&" mois "&DATEDIF(F9,TODAY(),"md")&" jours" -> 6 mois 11 jours | H9: M | I9: =IF(COUNTIF($C$2:$C$200,C9)>1,"DOUBLON","") | L9: =IF(COUNTIF(#REF!,Base!C9)>0,ROW(),0) -> #REF!
A10: 9 | B10: 1214400461 | C10: =RIGHT(B10,4) -> 0461 | D10: 39 | E10: CROISE | F10: 41726 | G10: =DATEDIF(F10,TODAY(),"ym")&" mois "&DATEDIF(F10,TODAY(),"md")&" jours" -> 7 mois 8 jours | H10: F | I10: =IF(COUNTIF($C$2:$C$200,C10)>1,"DOUBLON","") | L10: =IF(COUNTIF(#REF!,Base!C10)>0,ROW(),0) -> #REF!
A11: 10 | B11: 8235430512 | C11: =RIGHT(B11,4) -> 0512 | D11: 79 | E11: CROISE | F11: 41765 | G11: =DATEDIF(F11,TODAY(),"ym")&" mois "&DATEDIF(F11,TODAY(),"md")&" jours" -> 6 mois 0 jours | H11: M | I11: =IF(COUNTIF($C$2:$C$200,C11)>1,"DOUBLON","") | L11: =IF(COUNTIF(#REF!,Base!C11)>0,ROW(),0) -> #REF!
A12: 11 | B12: 2405270565 | C12: =RIGHT(B12,4) -> 0565 | D12: 66 | E12: CROISE | F12: 41752 | G12: =DATEDIF(F12,TODAY(),"ym")&" mois "&DATEDIF(F12,TODAY(),"md")&" jours" -> 6 mois 13 jours | H12: M | I12: =IF(COUNTIF($C$2:$C$200,C12)>1,"DOUBLON","") | L12: =IF(COUNTIF(#REF!,Base!C12)>0,ROW(),0) -> #REF!
A13: 12 | B13: 0713640581 | C13: =RIGHT(B13,4) -> 0581 | D13: 38 | E13: CROISE | F13: 41736 | G13: =DATEDIF(F13,TODAY(),"ym")&" mois "&DATEDIF(F13,TODAY(),"md")&" jours" -> 6 mois 29 jours | H13: F | I13: =IF(COUNTIF($C$2:$C$200,C13)>1,"DOUBLON","") | L13: =IF(COUNTIF(#REF!,Base!C13)>0,ROW(),0) -> #REF!
A14: 13 | B14: 6414230612 | C14: =RIGHT(B14,4) -> 0612 | D14: 95 | E14: CROISE | F14: 41765 | G14: =DATEDIF(F14,TODAY(),"ym")&" mois "&DATEDIF(F14,TODAY(),"md")&" jours" -> 6 mois 0 jours | H14: F | I14: =IF(COUNTIF($C$2:$C$200,C14)>1,"DOUBLON","") | L14: =IF(COUNTIF(#REF!,Base!C14)>0,ROW(),0) -> #REF!
... A59: 58 | B59: 3100253096 | C59: =RIGHT(B59,4) -> 3096 | D59: 46 | E59: MONTBELIARDE | F59: 41750 | G59: =DATEDIF(F59,TODAY(),"ym")&" mois "&DATEDIF(F59,TODAY(),"md")&" jours" -> 6 mois 15 jours | H59: M | I59: =IF(COUNTIF($C$2:$C$200,C59)>1,"DOUBLON","") | L59: =IF(COUNTIF(#REF!,Base!C59)>0,ROW(),0) -> #REF!
A60: 59 | B60: 4635413121 | C60: =RIGHT(B60,4) -> 3121 | D60: 34 | E60: CROISE | F60: 41745 | G60: =DATEDIF(F60,TODAY(),"ym")&" mois "&DATEDIF(F60,TODAY(),"md")&" jours" -> 6 mois 20 jours | H60: F | I60: =IF(COUNTIF($C$2:$C$200,C60)>1,"DOUBLON","") | L60: =IF(COUNTIF(#REF!,Base!C60)>0,ROW(),0) -> #REF!
A61: 60 | B61: 6357383156 | C61: =RIGHT(B61,4) -> 3156 | D61: 39 | E61: CROISE | F61: 41768 | G61: =DATEDIF(F61,TODAY(),"ym")&" mois "&DATEDIF(F61,TODAY(),"md")&" jours" -> 5 mois 27 jours | H61: F | I61: =IF(COUNTIF($C$2:$C$200,C61)>1,"DOUBLON","") | L61: =IF(COUNTIF(#REF!,Base!C61)>0,ROW(),0) -> #REF!
A62: 61 | B62: 1214063196 | C62: =RIGHT(B62,4) -> 3196 | D62: 38 | E62: CROISE | F62: 41756 | G62: =DATEDIF(F62,TODAY(),"ym")&" mois "&DATEDIF(F62,TODAY(),"md")&" jours" -> 6 mois 9 jours | H62: M | I62: =IF(COUNTIF($C$2:$C$200,C62)>1,"DOUBLON","") | L62: =IF(COUNTIF(#REF!,Base!C62)>0,ROW(),0) -> #REF!
A63: 62 | B63: 6413293269 | C63: =RIGHT(B63,4) -> 3269 | D63: 34 | E63: CROISE | F63: 41733 | G63: =DATEDIF(F63,TODAY(),"ym")&" mois "&DATEDIF(F63,TODAY(),"md")&" jours" -> 7 mois 2 jours | H63: F | I63: =IF(COUNTIF($C$2:$C$200,C63)>1,"DOUBLON","") | L63: =IF(COUNTIF(#REF!,Base!C63)>0,ROW(),0) -> #REF!
A64: 63 | B64: 7302103347 | C64: =RIGHT(B64,4) -> 3347 | D64: 12 | E64: CROISE | F64: 41762 | G64: =DATEDIF(F64,TODAY(),"ym")&" mois "&DATEDIF(F64,TODAY(),"md")&" jours" -> 6 mois 3 jours | H64: M | I64: =IF(COUNTIF($C$2:$C$200,C64)>1,"DOUBLON","") | L64: =IF(COUNTIF(#REF!,Base!C64)>0,ROW(),0) -> #REF!
A65: 64 | B65: 1214063357 | C65: =RIGHT(B65,4) -> 3357 | D65: 35 | E65: SIMMENTAL FR. | F65: 41769 | G65: =DATEDIF(F65,TODAY(),"ym")&" mois "&DATEDIF(F65,TODAY(),"md")&" jours" -> 5 mois 26 jours | H65: M | I65: =IF(COUNTIF($C$2:$C$200,C65)>1,"DOUBLON","") | L65: =IF(COUNTIF(#REF!,Base!C65)>0,ROW(),0) -> #REF!
A66: 65 | B66: 6414193358 | C66: =RIGHT(B66,4) -> 3358 | D66: 95 | E66: INRA 95 | F66: 41751 | G66: =DATEDIF(F66,TODAY(),"ym")&" mois "&DATEDIF(F66,TODAY(),"md")&" jours" -> 6 mois 14 jours | H66: M | I66: =IF(COUNTIF($C$2:$C$200,C66)>1,"DOUBLON","") | L66: =IF(COUNTIF(#REF!,Base!C66)>0,ROW(),0) -> #REF!
A67: 66 | B67: 4728003379 | C67: =RIGHT(B67,4) -> 3379 | D67: 34 | E67: LIMOUSINE | F67: 41757 | G67: =DATEDIF(F67,TODAY(),"ym")&" mois "&DATEDIF(F67,TODAY(),"md")&" jours" -> 6 mois 8 jours | H67: M | I67: =IF(COUNTIF($C$2:$C$200,C67)>1,"DOUBLON","") | L67: =IF(COUNTIF(#REF!,Base!C67)>0,ROW(),0) -> #REF!
A68: 67 | B68: 4620253406 | C68: =RIGHT(B68,4) -> 3406 | D68: 39 | E68: CROISE | F68: 41737 | G68: =DATEDIF(F68,TODAY(),"ym")&" mois "&DATEDIF(F68,TODAY(),"md")&" jours" -> 6 mois 28 jours | H68: F | I68: =IF(COUNTIF($C$2:$C$200,C68)>1,"DOUBLON","") | L68: =IF(COUNTIF(#REF!,Base!C68)>0,ROW(),0) -> #REF!
A69: 68 | B69: 4620253407 | C69: =RIGHT(B69,4) -> 3407 | D69: 39 | E69: CROISE | F69: 41744 | G69: =DATEDIF(F69,TODAY(),"ym")&" mois "&DATEDIF(F69,TODAY(),"md")&" jours" -> 6 mois 21 jours | H69: F | I69: =IF(COUNTIF($C$2:$C$200,C69)>1,"DOUBLON","") | L69: =IF(COUNTIF(#REF!,Base!C69)>0,ROW(),0) -> #REF!
A70: 69 | B70: 4620253408 | C70: =RIGHT(B70,4) -> 3408 | D70: 39 | E70: CROISE | F70: 41754 | G70: =DATEDIF(F70,TODAY(),"ym")&" mois "&DATEDIF(F70,TODAY(),"md")&" jours" -> 6 mois 11 jours | H70: F | I70: =IF(COUNTIF($C$2:$C$200,C70)>1,"DOUBLON","") | L70: =IF(COUNTIF(#REF!,Base!C70)>0,ROW(),0) -> #REF!
A71: 70 | B71: 4620253409 | C71: =RIGHT(B71,4) -> 3409 | D71: 39 | E71: CROISE | F71: 41754 | G71: =DATEDIF(F71,TODAY(),"ym")&" mois "&DATEDIF(F71,TODAY(),"md")&" jours" -> 6 mois 11 jours | H71: F | I71: =IF(COUNTIF($C$2:$C$200,C71)>1,"DOUBLON","") | L71: =IF(COUNTIF(#REF!,Base!C71)>0,ROW(),0) -> #REF!
A72: 71 | B72: 4620253411 | C72: =RIGHT(B72,4) -> 3411 | D72: 39 | E72: CROISE | F72: 41754 | G72: =DATEDIF(F72,TODAY(),"ym")&" mois "&DATEDIF(F72,TODAY(),"md")&" jours" -> 6 mois 11 jours | H72: F | I72: =IF(COUNTIF($C$2:$C$200,C72)>1,"DOUBLON","") | L72: =IF(COUNTIF(#REF!,Base!C72)>0,ROW(),0) -> #REF!
... A82: 81 | B82: 4644503896 | C82: =RIGHT(B82,4) -> 3896 | D82: 39 | E82: CROISE | F82: 41756 | G82: =DATEDIF(F82,TODAY(),"ym")&" mois "&DATEDIF(F82,TODAY(),"md")&" jours" -> 6 mois 9 jours | H82: F | I82: =IF(COUNTIF($C$2:$C$200,C82)>1,"DOUBLON","") -> DOUBLON | L82: =IF(COUNTIF(#REF!,Base!C82)>0,ROW(),0) -> #REF!
A83: 82 | B83: 1936183899 | C83: =RIGHT(B83,4) -> 3899 | D83: 25 | E83: CROISE | F83: 41733 | G83: =DATEDIF(F83,TODAY(),"ym")&" mois "&DATEDIF(F83,TODAY(),"md")&" jours" -> 7 mois 2 jours | H83: F | I83: =IF(COUNTIF($C$2:$C$200,C83)>1,"DOUBLON","") | L83: =IF(COUNTIF(#REF!,Base!C83)>0,ROW(),0) -> #REF!
A84: 83 | B84: 4747413981 | C84: =RIGHT(B84,4) -> 3981 | D84: 25 | E84: CROISE | F84: 41757 | G84: =DATEDIF(F84,TODAY(),"ym")&" mois "&DATEDIF(F84,TODAY(),"md")&" jours" -> 6 mois 8 jours | H84: F | I84: =IF(COUNTIF($C$2:$C$200,C84)>1,"DOUBLON","") | L84: =IF(COUNTIF(#REF!,Base!C84)>0,ROW(),0) -> #REF!
A85: 84 | B85: 6359124054 | C85: =RIGHT(B85,4) -> 4054 | D85: 38 | E85: CROISE | F85: 41751 | G85: =DATEDIF(F85,TODAY(),"ym")&" mois "&DATEDIF(F85,TODAY(),"md")&" jours" -> 6 mois 14 jours | H85: F | I85: =IF(COUNTIF($C$2:$C$200,C85)>1,"DOUBLON","") | L85: =IF(COUNTIF(#REF!,Base!C85)>0,ROW(),0) -> #REF!
A86: 85 | B86: 2601224056 | C86: =RIGHT(B86,4) -> 4056 | D86: 38 | E86: CHAROLAISE | F86: 41738 | G86: =DATEDIF(F86,TODAY(),"ym")&" mois "&DATEDIF(F86,TODAY(),"md")&" jours" -> 6 mois 27 jours | H86: M | I86: =IF(COUNTIF($C$2:$C$200,C86)>1,"DOUBLON","") | L86: =IF(COUNTIF(#REF!,Base!C86)>0,ROW(),0) -> #REF!
A87: 86 | B87: 2601224061 | C87: =RIGHT(B87,4) -> 4061 | D87: 38 | E87: CROISE | F87: 41762 | G87: =DATEDIF(F87,TODAY(),"ym")&" mois "&DATEDIF(F87,TODAY(),"md")&" jours" -> 6 mois 3 jours | H87: F | I87: =IF(COUNTIF($C$2:$C$200,C87)>1,"DOUBLON","") | L87: =IF(COUNTIF(#REF!,Base!C87)>0,ROW(),0) -> #REF!
A88: 87 | B88: 6357954085 | C88: =RIGHT(B88,4) -> 4085 | D88: 38 | E88: CROISE | F88: 41750 | G88: =DATEDIF(F88,TODAY(),"ym")&" mois "&DATEDIF(F88,TODAY(),"md")&" jours" -> 6 mois 15 jours | H88: F | I88: =IF(COUNTIF($C$2:$C$200,C88)>1,"DOUBLON","") | L88: =IF(COUNTIF(#REF!,Base!C88)>0,ROW(),0) -> #REF!
A89: 88 | B89: 6357594189 | C89: =RIGHT(B89,4) -> 4189 | D89: 25 | E89: CROISE | F89: 41759 | G89: =DATEDIF(F89,TODAY(),"ym")&" mois "&DATEDIF(F89,TODAY(),"md")&" jours" -> 6 mois 6 jours | H89: F | I89: =IF(COUNTIF($C$2:$C$200,C89)>1,"DOUBLON","") -> DOUBLON | L89: =IF(COUNTIF(#REF!,Base!C89)>0,ROW(),0) -> #REF!
A90: 89 | B90: 6357914189 | C90: =RIGHT(B90,4) -> 4189 | D90: 95 | E90: CROISE | F90: 41744 | G90: =DATEDIF(F90,TODAY(),"ym")&" mois "&DATEDIF(F90,TODAY(),"md")&" jours" -> 6 mois 21 jours | H90: F | I90: =IF(COUNTIF($C$2:$C$200,C90)>1,"DOUBLON","") -> DOUBLON | L90: =IF(COUNTIF(#REF!,Base!C90)>0,ROW(),0) -> #REF!
A91: 90 | B91: 6357584239 | C91: =RIGHT(B91,4) -> 4239 | D91: 38 | E91: CROISE | F91: 41762 | G91: =DATEDIF(F91,TODAY(),"ym")&" mois "&DATEDIF(F91,TODAY(),"md")&" jours" -> 6 mois 3 jours | H91: F | I91: =IF(COUNTIF($C$2:$C$200,C91)>1,"DOUBLON","") | L91: =IF(COUNTIF(#REF!,Base!C91)>0,ROW(),0) -> #REF!
A92: 91 | B92: 6357584240 | C92: =RIGHT(B92,4) -> 4240 | D92: 38 | E92: CROISE | F92: 41763 | G92: =DATEDIF(F92,TODAY(),"ym")&" mois "&DATEDIF(F92,TODAY(),"md")&" jours" -> 6 mois 2 jours | H92: F | I92: =IF(COUNTIF($C$2:$C$200,C92)>1,"DOUBLON","") | L92: =IF(COUNTIF(#REF!,Base!C92)>0,ROW(),0) -> #REF!
A93: 92 | B93: 1213354246 | C93: =RIGHT(B93,4) -> 4246 | D93: 25 | E93: CROISE | F93: 41746 | G93: =DATEDIF(F93,TODAY(),"ym")&" mois "&DATEDIF(F93,TODAY(),"md")&" jours" -> 6 mois 19 jours | H93: M | I93: =IF(COUNTIF($C$2:$C$200,C93)>1,"DOUBLON","") | L93: =IF(COUNTIF(#REF!,Base!C93)>0,ROW(),0) -> #REF!
...

Sheet 1
A5: N/TRAVAIL | B5: N/NATIONALE | C5: S | D5: DATE DE NAISSANCE | E5: RACE
A7: 0003 | B7: =IFERROR(INDEX(Base!$B$2:$B$202,MATCH(A7,code)),"") -> 2405360003 | C7: =IFERROR(VLOOKUP($A7,Base!$C$2:$H$202,6,0),"") -> M | D7: =IFERROR(VLOOKUP($A7,Base!$C$2:$H$202,4,0),"") -> 41747 | E7: =IFERROR(VLOOKUP($A7,Base!$C$2:$H$202,3,0),"") -> CROISE
A8: 0010 | B8: =IFERROR(INDEX(Base!$B$2:$B$202,MATCH(A8,code)),"") -> 2405360010 | C8: =IFERROR(VLOOKUP($A8,Base!$C$2:$H$202,6,0),"") -> M | D8: =IFERROR(VLOOKUP($A8,Base!$C$2:$H$202,4,0),"") -> 41757 | E8: =IFERROR(VLOOKUP($A8,Base!$C$2:$H$202,3,0),"") -> CROISE
A9: 0202 | B9: =IFERROR(INDEX(Base!$B$2:$B$202,MATCH(A9,code)),"") -> 1214390202 | C9: =IFERROR(VLOOKUP($A9,Base!$C$2:$H$202,6,0),"") -> F | D9: =IFERROR(VLOOKUP($A9,Base!$C$2:$H$202,4,0),"") -> 41764 | E9: =IFERROR(VLOOKUP($A9,Base!$C$2:$H$202,3,0),"") -> CROISE
A10: 0301 | B10: =IFERROR(INDEX(Base!$B$2:$B$202,MATCH(A10,code)),"") -> 1213400301 | C10: =IFERROR(VLOOKUP($A10,Base!$C$2:$H$202,6,0),"") -> M | D10: =IFERROR(VLOOKUP($A10,Base!$C$2:$H$202,4,0),"") -> 41769 | E10: =IFERROR(VLOOKUP($A10,Base!$C$2:$H$202,3,0),"") -> CROISE
B11: =IFERROR(INDEX(Base!$B$2:$B$202,MATCH(A11,code)),"") | C11: =IFERROR(VLOOKUP($A11,Base!$C$2:$H$202,6,0),"") | D11: =IFERROR(VLOOKUP($A11,Base!$C$2:$H$202,4,0),"") | E11: =IFERROR(VLOOKUP($A11,Base!$C$2:$H$202,3,0),"")
B12: =IFERROR(INDEX(Base!$B$2:$B$202,MATCH(A12,code)),"") | C12: =IFERROR(VLOOKUP($A12,Base!$C$2:$H$202,6,0),"") | D12: =IFERROR(VLOOKUP($A12,Base!$C$2:$H$202,4,0),"") | E12: =IFERROR(VLOOKUP($A12,Base!$C$2:$H$202,3,0),"")
B13: =IFERROR(INDEX(Base!$B$2:$B$202,MATCH(A13,code)),"") | C13: =IFERROR(VLOOKUP($A13,Base!$C$2:$H$202,6,0),"") | D13: =IFERROR(VLOOKUP($A13,Base!$C$2:$H$202,4,0),"") | E13: =IFERROR(VLOOKUP($A13,Base!$C$2:$H$202,3,0),"")
B14: =IFERROR(INDEX(Base!$B$2:$B$202,MATCH(A14,code)),"") | C14: =IFERROR(VLOOKUP($A14,Base!$C$2:$H$202,6,0),"") | D14: =IFERROR(VLOOKUP($A14,Base!$C$2:$H$202,4,0),"") | E14: =IFERROR(VLOOKUP($A14,Base!$C$2:$H$202,3,0),"")
B15: =IFERROR(INDEX(Base!$B$2:$B$202,MATCH(A15,code)),"") | C15: =IFERROR(VLOOKUP($A15,Base!$C$2:$H$202,6,0),"") | D15: =IFERROR(VLOOKUP($A15,Base!$C$2:$H$202,4,0),"") | E15: =IFERROR(VLOOKUP($A15,Base!$C$2:$H$202,3,0),"")
B16: =IFERROR(INDEX(Base!$B$2:$B$202,MATCH(A16,code)),"") | C16: =IFERROR(VLOOKUP($A16,Base!$C$2:$H$202,6,0),"") | D16: =IFERROR(VLOOKUP($A16,Base!$C$2:$H$202,4,0),"") | E16: =IFERROR(VLOOKUP($A16,Base!$C$2:$H$202,3,0),"")
B17: =IFERROR(INDEX(Base!$B$2:$B$202,MATCH(A17,code)),"") | C17: =IFERROR(VLOOKUP($A17,Base!$C$2:$H$202,6,0),"") | D17: =IFERROR(VLOOKUP($A17,Base!$C$2:$H$202,4,0),"") | E17: =IFERROR(VLOOKUP($A17,Base!$C$2:$H$202,3,0),"")
B18: =IFERROR(INDEX(Base!$B$2:$B$202,MATCH(A18,code)),"") | C18: =IFERROR(VLOOKUP($A18,Base!$C$2:$H$202,6,0),"") | D18: =IFERROR(VLOOKUP($A18,Base!$C$2:$H$202,4,0),"") | E18: =IFERROR(VLOOKUP($A18,Base!$C$2:$H$202,3,0),"")
B19: =IFERROR(INDEX(Base!$B$2:$B$202,MATCH(A19,code)),"") | C19: =IFERROR(VLOOKUP($A19,Base!$C$2:$H$202,6,0),"") | D19: =IFERROR(VLOOKUP($A19,Base!$C$2:$H$202,4,0),"") | E19: =IFERROR(VLOOKUP($A19,Base!$C$2:$H$202,3,0),"")
B20: =IFERROR(INDEX(Base!$B$2:$B$202,MATCH(A20,code)),"") | C20: =IFERROR(VLOOKUP($A20,Base!$C$2:$H$202,6,0),"") | D20: =IFERROR(VLOOKUP($A20,Base!$C$2:$H$202,4,0),"") | E20: =IFERROR(VLOOKUP($A20,Base!$C$2:$H$202,3,0),"")
B21: =IFERROR(INDEX(Base!$B$2:$B$202,MATCH(A21,code)),"") | C21: =IFERROR(VLOOKUP($A21,Base!$C$2:$H$202,6,0),"") | D21: =IFERROR(VLOOKUP($A21,Base!$C$2:$H$202,4,0),"") | E21: =IFERROR(VLOOKUP($A21,Base!$C$2:$H$202,3,0),"")
B22: =IFERROR(INDEX(Base!$B$2:$B$202,MATCH(A22,code)),"") | C22: =IFERROR(VLOOKUP($A22,Base!$C$2:$H$202,6,0),"") | D22: =IFERROR(VLOOKUP($A22,Base!$C$2:$H$202,4,0),"") | E22: =IFERROR(VLOOKUP($A22,Base!$C$2:$H$202,3,0),"")
... B108: =IFERROR(INDEX(Base!$B$2:$B$202,MATCH(A108,code)),"") | C108: =IFERROR(VLOOKUP($A108,Base!$C$2:$H$202,6,0),"") | D108: =IFERROR(VLOOKUP($A108,Base!$C$2:$H$202,4,0),"") | E108: =IFERROR(VLOOKUP($A108,Base!$C$2:$H$202,3,0),"")

Sheet Feuil1
