Workbook
Name _0001: Base!$C$2:$C$214
Name _mf1: #REF!
Name _mf2: #REF!
Name _ml2: #REF!
Name _nom1: Base!$B$2:$B$210
Name _NOM2: Base!$C$2:$C$229
Name _nom3: Base!$C$2:$C$229
Name Adresse: OFFSET(Base!$C$1,1,0,COUNTA(Base!$A:$A)-1,1)
Name Annee: #REF!
Name bague: #REF!
Name base: #REF!
Name Cathegorie: OFFSET(Base!$G$1,1,0,COUNTA(Base!$A:$A)-1,1)
Name cause: OFFSET([1]soins!$F$7,,,MATCH("z*z",[1]soins!$F$1:$F$65536,1)-6)
Name CbA: OFFSET(#REF!,,,COUNT(#REF!))
Name CbB: OFFSET(#REF!,,,COUNT(#REF!))
Name CbC: OFFSET(#REF!,,,COUNT(#REF!))
Name CbD: OFFSET(#REF!,,,COUNT(#REF!))
Name CbE: OFFSET(#REF!,,,COUNT(#REF!))
Name cc: #REF!
Name code: Base!$C$2:$C$202
Name CP_Postal: OFFSET(Base!$D$1,1,0,COUNTA(Base!$A:$A)-1,1)
Name date: OFFSET([1]soins!$C$7,,,MATCH("z*z",[1]soins!$F$1:$F$65536,1)-6)
Name Date_naissance: OFFSET(Base!$F$1,1,0,COUNTA(Base!$A:$A)-1,1)
Name datemaj: #REF!
Name delai: OFFSET([2]basse!$K$1,1,0,COUNTA([2]basse!$K$2:$K$65001),1)
Name DOSE: OFFSET([2]basse!$G$1,1,0,COUNTA([2]basse!$G$2:$G$65001),1)
Name eclos: #REF!
Name fc: #REF!
Name FEMELLE: #REF!
Name ff: #REF!
Name ffa: #REF!
Name ffb: #REF!
Name ffe: #REF!
Name gi: #REF!
Name hm: #REF!
Name ho: #REF!
Name I_D_F: OFFSET([2]basse!$A$1,1,0,COUNTA([2]basse!$A$2:$A$65001),1)
Name id: OFFSET([1]soins!$B$7,,,MATCH("z*z",[1]soins!$F$1:$F$65536,1)-6)
Name idf: #REF!
Name ja: #REF!
Name jb: #REF!
Name ListeNoms: OFFSET(#REF!,1,,COUNTA(#REF!)-1)
Name MALE: #REF!
Name mc: #REF!
Name medicaments: OFFSET([2]basse!$E$1,1,0,COUNTA([2]basse!$E$2:$E$65001),1)
Name mf: #REF!
Name ml: #REF!
Name Mode_admi: OFFSET([2]basse!$I$1,1,0,COUNTA([2]basse!$I$2:$I$65001),1)
Name N_TRAVAIL: Base!$C$1
Name NOM: Base!$C$1:$C$218
Name Nomlatin: '[3]base de donnée'!$C$4
Name noms: #REF!
Name Nomsproduits: OFFSET('[4]stock global'!$B$5,,,COUNTA('[4]stock global'!$B$1:$B$65536),1)
Name Nomvernaculaire: '[3]base de donnée'!$B$4
Name ORDONNANCE: [5]Identifiants!$L$2:$L$11
Name Param_ligne: #REF!
Name parc: OFFSET([1]soins!$A$7,,,MATCH("z*z",[1]soins!$F$1:$F$65536,1)-6)
Name pondus: #REF!
Name remedes: #REF!
Name Sex: OFFSET(Base!$H$1,1,0,COUNTA(Base!$A:$A)-1,1)

Sheet Base
A1: N° | B1: N NATIO | C1: N TRAVAIL | D1: RC | E1: RACE | F1: Date de Naissance | G1: AGE | H1: sex | I1: Doublon | L1: N° ligne
A2: 1 | B2: 2405360003 | C2: =RIGHT(B2,4) -> 0003 | D2: 34 | E2: CROISE | F2: 41747 | G2: =DATEDIF(F2,TODAY(),"ym")&" mois "&DATEDIF(F2,TODAY(),"md")&" jours" -> 6 mois 18 jours | H2: M | I2: =IF(COUNTIF($C$2:$C$200,C2)>1,"DOUBLON","") | K2: =RIGHT(J2,4) | L2: =IF(COUNTIF(#REF!,Base!C2)>0,ROW(),0) -> #REF!
A3: 2 | B3: 2405360010 | C3: =RIGHT(B3,4) -> 0010 | D3: 34 | E3: CROISE | F3: 41757 | G3: =DATEDIF(F3,TODAY(),"ym")&" mois "&DATEDIF(F3,TODAY(),"md")&" jours" -> 6 mois 8 jours | H3: M | I3: =IF(COUNTIF($C$2:$C$200,C3)>1,"DOUBLON","") | L3: =IF(COUNTIF(#REF!,Base!C3)>0,ROW(),0) -> #REF!
A4: 3 | B4: 4242100149 | C4: =RIGHT(B4,4) -> 0149 | D4: 38 | E4: CROISE | F4: 41759 | G4: =DATEDIF(F4,TODAY(),"ym")&" mois "&DATEDIF(F4,TODAY(),"md")&" jours" -> 6 mois 6 jours | H4: F | I4: =IF(COUNTIF($C$2:$C$200,C4)>1,"DOUBLON","") | L4: =IF(COUNTIF(#REF!,Base!C4)>0,ROW(),0) -> #REF!
A5: 4 | B5: 1214390202 | C5: =RIGHT(B5,4) -> 0202 | D5: 38 | E5: CROISE | F5: 41764 | G5: =DATEDIF(F5,TODAY(),"ym")&" mois "&DATEDIF(F5,TODAY(),"md")&" jours" -> 6 mois 1 jours | H5: F | I5: =IF(COUNTIF($C$2:$C$200,C5)>1,"DOUBLON","") | L5: =IF(COUNTIF(#REF!,Base!C5)>0,ROW(),0) -> #REF!
A6: 5 | B6: 1213400301 | C6: =RIGHT(B6,4) -> 0301 | D6: 39 | E6: CROISE | F6: 41769 | G6: =DATEDIF(F6,TODAY(),"ym")&" mois "&DATEDIF(F6,TODAY(),"md")&" jours" -> 5 mois 26 jours | H6: M | I6: =IF(COUNTIF($C$2:$C$200,C6)>1,"DOUBLON","") | L6: =IF(COUNTIF(#REF!,Base!C6)>0,ROW(),0) -> #REF!
A7: 6 | B7: 1214080373 | C7: =RIGHT(B7,4) -> 0373 | D7: 39 | E7: CROISE | F7: 41741 | G7: =DATEDIF(F7,TODAY(),"ym")&" mois "&DATEDIF(F7,TODAY(),"md")&" jours" -> 6 mois 24 jours | H7: F | I7: =IF(COUNTIF($C$2:$C$200,C7)>1,"DOUBLON","") | L7: =IF(COUNTIF(#REF!,Base!C7)>0,ROW(),0) -> #REF!
A8: 7 | B8: 1214430387 | C8: =RIGHT(B8,4) -> 0387 | D8: 39 | E8: CROISE | F8: 41762 | G8: =DATEDIF(F8,TODAY(),"ym")&" mois "&DATEDIF(F8,TODAY(),"md")&" jours" -> 6 mois 3 jours | H8: M | I8: =IF(COUNTIF($C$2:$C$200,C8)>1,"DOUBLON","") | L8: =IF(COUNTIF(#REF!,Base!C8)>0,ROW(),0) -> #REF!
A9: 8 | B9: 4957420400 | C9: =RIGHT(B9,4) -> 0400 | D9: 34 | E9: CROISE | F9: 41754 | G9: =DATEDIF(F9,TODAY(),"ym")&" mois "&DATEDIF(F9,TODAY(),"md")&" jours" -> 6 mois 11 jours | H9: M | I9: =IF(COUNTIF($C$2:$C$200,C9)>1,"DOUBLON","") | L9: =IF(COUNTIF(#REF!,Base!C9)>0,ROW(),0) -> #REF!
A10: 9 | B10: 1214400461 | C10: =RIGHT(B10,4) -> 0461 | D10: 39 | E10: CROISE | F10: 41726 | G10: =DATEDIF(F10,TODAY(),"ym")&" mois "&DATEDIF(F10,TODAY(),"md")&" jours" -> 7 mois 8 jours | H10: F | I10: =IF(COUNTIF($C$2:$C$200,C10)>1,"DOUBLON","") | L10: =IF(COUNTIF(#REF!,Base!C10)>0,ROW(),0) -> #REF!
A11: 10 | B11: 8235430512 | C11: =RIGHT(B11,4) -> 0512 | D11: 79 | E11: CROISE | F11: 41765 | G11: =DATEDIF(F11,TODAY(),"ym")&" mois "&DATEDIF(F11,TODAY(),"md")&" jours" -> 6 mois 0 jours | H11: M | I11: =IF(COUNTIF($C$2:$C$200,C11)>1,"DOUBLON","") | L11: =IF(COUNTIF(#REF!,Base!C11)>0,ROW(),0) -> #REF!
A12: 11 | B12: 2405270565 | C12: =RIGHT(B12,4) -> 0565 | D12: 66 | E12: CROISE | F12: 41752 | G12: =DATEDIF(F12,TODAY(),"ym")&" mois "&DATEDIF(F12,TODAY(),"md")&" jours" -> 6 mois 13 jours | H12: M | I12: =IF(COUNTIF($C$2:$C$200,C12)>1,"DOUBLON","") | L12: =IF(COUNTIF(#REF!,Base!C12)>0,ROW(),0) -> #REF!
A13: 12 | B13: 0713640581 | C13: =RIGHT(B13,4) -> 0581 | D13: 38 | E13: CROISE | F13: 41736 | G13: =DATEDIF(F13,TODAY(),"ym")&" mois "&DATEDIF(F13,TODAY(),"md")&" jours" -> 6 mois 29 jours | H13: F | I13: =IF(COUNTIF($C$2:$C$200,C13)>1,"DOUBLON","") | L13: =IF(COUNTIF(#REF!,Base!C13)>0,ROW(),0) -> #REF!
A14: 13 | B14: 6414230612 | C14: =RIGHT(B14,4) -> 0612 | D14: 95 | E14: CROISE | F14: 41765 | G14: =DATEDIF(F14,TODAY(),"ym")&" mois "&DATEDIF(F14,TODAY(),"md")&" jours" -> 6 mois 0 jours | H14: F | I14: =IF(COUNTIF($C$2:$C$200,C14)>1,"DOUBLON","") | L14: =IF(COUNTIF(#REF!,Base!C14)>0,ROW(),0) -> #REF!
... A59: 58 | B59: 3100253096 | C59: =RIGHT(B59,4) -> 3096 | D59: 46 | E59: MONTBELIARDE | F59: 41750 | G59: =DATEDIF(F59,TODAY(),"ym")&" mois "&DATEDIF(F59,TODAY(),"md")&" jours" -> 6 mois 15 jours | H59: M | I59: =IF(COUNTIF($C$2:$C$200,C59)>1,"DOUBLON","") | L59: =IF(COUNTIF(#REF!,Base!C59)>0,ROW(),0) -> #REF!
A60: 59 | B60: 4635413121 | C60: =RIGHT(B60,4) -> 3121 | D60: 34 | E60: CROISE | F60: 41745 | G60: =DATEDIF(F60,TODAY(),"ym")&" mois "&DATEDIF(F60,TODAY(),"md")&" jours" -> 6 mois 20 jours | H60: F | I60: =IF(COUNTIF($C$2:$C$200,C60)>1,"DOUBLON","") | L60: =IF(COUNTIF(#REF!,Base!C60)>0,ROW(),0) -> #REF!
A61: 60 | B61: 6357383156 | C61: =RIGHT(B61,4) -> 3156 | D61: 39 | E61: CROISE | F61: 41768 | G61: =DATEDIF(F61,TODAY(),"ym")&" mois "&DATEDIF(F61,TODAY(),"md")&" jours" -> 5 mois 27 jours | H61: F | I61: =IF(COUNTIF($C$2:$C$200,C61)>1,"DOUBLON","") | L61: =IF(COUNTIF(#REF!,Base!C61)>0,ROW(),0) -> #REF!
A62: 61 | B62: 1214063196 | C62: =RIGHT(B62,4) -> 3196 | D62: 38 | E62: CROISE | F62: 41756 | G62: =DATEDIF(F62,TODAY(),"ym")&" mois "&DATEDIF(F62,TODAY(),"md")&" jours" -> 6 mois 9 jours | H62: M | I62: =IF(COUNTIF($C$2:$C$200,C62)>1,"DOUBLON","") | L62: =IF(COUNTIF(#REF!,Base!C62)>0,ROW(),0) -> #REF!
A63: 62 | B63: 6413293269 | C63: =RIGHT(B63,4) -> 3269 | D63: 34 | E63: CROISE | F63: 41733 | G63: =DATEDIF(F63,TODAY(),"ym")&" mois "&DATEDIF(F63,TODAY(),"md")&" jours" -> 7 mois 2 jours | H63: F | I63: =IF(COUNTIF($C$2:$C$200,C63)>1,"DOUBLON","") | L63: =IF(COUNTIF(#REF!,Base!C63)>0,ROW(),0) -> #REF!
A64: 63 | B64: 7302103347 | C64: =RIGHT(B64,4) -> 3347 | D64: 12 | E64: CROISE | F64: 41762 | G64: =DATEDIF(F64,TODAY(),"ym")&" mois "&DATEDIF(F64,TODAY(),"md")&" jours" -> 6 mois 3 jours | H64: M | I64: =IF(COUNTIF($C$2:$C$200,C64)>1,"DOUBLON","") | L64: =IF(COUNTIF(#REF!,Base!C64)>0,ROW(),0) -> #REF!
A65: 64 | B65: 1214063357 | C65: =RIGHT(B65,4) -> 3357 | D65: 35 | E65: SIMMENTAL FR. | F65: 41769 | G65: =DATEDIF(F65,TODAY(),"ym")&" mois "&DATEDIF(F65,TODAY(),"md")&" jours" -> 5 mois 26 jours | H65: M | I65: =IF(COUNTIF($C$2:$C$200,C65)>1,"DOUBLON","") | L65: =IF(COUNTIF(#REF!,Base!C65)>0,ROW(),0) -> #REF!
A66: 65 | B66: 6414193358 | C66: =RIGHT(B66,4) -> 3358 | D66: 95 | E66: INRA 95 | F66: 41751 | G66: =DATEDIF(F66,TODAY(),"ym")&" mois "&DATEDIF(F66,TODAY(),"md")&" jours" -> 6 mois 14 jours | H66: M | I66: =IF(COUNTIF($C$2:$C$200,C66)>1,"DOUBLON","") | L66: =IF(COUNTIF(#REF!,Base!C66)>0,ROW(),0) -> #REF!
A67: 66 | B67: 4728003379 | C67: =RIGHT(B67,4) -> 3379 | D67: 34 | E67: LIMOUSINE | F67: 41757 | G67: =DATEDIF(F67,TODAY(),"ym")&" mois "&DATEDIF(F67,TODAY(),"md")&" jours" -> 6 mois 8 jours | H67: M | I67: =IF(COUNTIF($C$2:$C$200,C67)>1,"DOUBLON","") | L67: =IF(COUNTIF(#REF!,Base!C67)>0,ROW(),0) -> #REF!
A68: 67 | B68: 4620253406 | C68: =RIGHT(B68,4) -> 3406 | D68: 39 | E68: CROISE | F68: 41737 | G68: =DATEDIF(F68,TODAY(),"ym")&" mois "&DATEDIF(F68,TODAY(),"md")&" jours" -> 6 mois 28 jours | H68: F | I68: =IF(COUNTIF($C$2:$C$200,C68)>1,"DOUBLON","") | L68: =IF(COUNTIF(#REF!,Base!C68)>0,ROW(),0) -> #REF!
A69: 68 | B69: 4620253407 | C69: =RIGHT(B69,4) -> 3407 | D69: 39 | E69: CROISE | F69: 41744 | G69: =DATEDIF(F69,TODAY(),"ym")&" mois "&DATEDIF(F69,TODAY(),"md")&" jours" -> 6 mois 21 jours | H69: F | I69: =IF(COUNTIF($C$2:$C$200,C69)>1,"DOUBLON","") | L69: =IF(COUNTIF(#REF!,Base!C69)>0,ROW(),0) -> #REF!
A70: 69 | B70: 4620253408 | C70: =RIGHT(B70,4) -> 3408 | D70: 39 | E70: CROISE | F70: 41754 | G70: =DATEDIF(F70,TODAY(),"ym")&" mois "&DATEDIF(F70,TODAY(),"md")&" jours" -> 6 mois 11 jours | H70: F | I70: =IF(COUNTIF($C$2:$C$200,C70)>1,"DOUBLON","") | L70: =IF(COUNTIF(#REF!,Base!C70)>0,ROW(),0) -> #REF!
A71: 70 | B71: 4620253409 | C71: =RIGHT(B71,4) -> 3409 | D71: 39 | E71: CROISE | F71: 41754 | G71: =DATEDIF(F71,TODAY(),"ym")&" mois "&DATEDIF(F71,TODAY(),"md")&" jours" -> 6 mois 11 jours | H71: F | I71: =IF(COUNTIF($C$2:$C$200,C71)>1,"DOUBLON","") | L71: =IF(COUNTIF(#REF!,Base!C71)>0,ROW(),0) -> #REF!
A72: 71 | B72: 4620253411 | C72: =RIGHT(B72,4) -> 3411 | D72: 39 | E72: CROISE | F72: 41754 | G72: =DATEDIF(F72,TODAY(),"ym")&" mois "&DATEDIF(F72,TODAY(),"md")&" jours" -> 6 mois 11 jours | H72: F | I72: =IF(COUNTIF($C$2:$C$200,C72)>1,"DOUBLON","") | L72: =IF(COUNTIF(#REF!,Base!C72)>0,ROW(),0) -> #REF!
... A82: 81 | B82: 4644503896 | C82: =RIGHT(B82,4) -> 3896 | D82: 39 | E82: CROISE | F82: 41756 | G82: =DATEDIF(F82,TODAY(),"ym")&" mois "&DATEDIF(F82,TODAY(),"md")&" jours" -> 6 mois 9 jours | H82: F | I82: =IF(COUNTIF($C$2:$C$200,C82)>1,"DOUBLON","") -> DOUBLON | L82: =IF(COUNTIF(#REF!,Base!C82)>0,ROW(),0) -> #REF!
A83: 82 | B83: 1936183899 | C83: =RIGHT(B83,4) -> 3899 | D83: 25 | E83: CROISE | F83: 41733 | G83: =DATEDIF(F83,TODAY(),"ym")&" mois "&DATEDIF(F83,TODAY(),"md")&" jours" -> 7 mois 2 jours | H83: F | I83: =IF(COUNTIF($C$2:$C$200,C83)>1,"DOUBLON","") | L83: =IF(COUNTIF(#REF!,Base!C83)>0,ROW(),0) -> #REF!
A84: 83 | B84: 4747413981 | C84: =RIGHT(B84,4) -> 3981 | D84: 25 | E84: CROISE | F84: 41757 | G84: =DATEDIF(F84,TODAY(),"ym")&" mois "&DATEDIF(F84,TODAY(),"md")&" jours" -> 6 mois 8 jours | H84: F | I84: =IF(COUNTIF($C$2:$C$200,C84)>1,"DOUBLON","") | L84: =IF(COUNTIF(#REF!,Base!C84)>0,ROW(),0) -> #REF!
A85: 84 | B85: 6359124054 | C85: =RIGHT(B85,4) -> 4054 | D85: 38 | E85: CROISE | F85: 41751 | G85: =DATEDIF(F85,TODAY(),"ym")&" mois "&DATEDIF(F85,TODAY(),"md")&" jours" -> 6 mois 14 jours | H85: F | I85: =IF(COUNTIF($C$2:$C$200,C85)>1,"DOUBLON","") | L85: =IF(COUNTIF(#REF!,Base!C85)>0,ROW(),0) -> #REF!
A86: 85 | B86: 2601224056 | C86: =RIGHT(B86,4) -> 4056 | D86: 38 | E86: CHAROLAISE | F86: 41738 | G86: =DATEDIF(F86,TODAY(),"ym")&" mois "&DATEDIF(F86,TODAY(),"md")&" jours" -> 6 mois 27 jours | H86: M | I86: =IF(COUNTIF($C$2:$C$200,C86)>1,"DOUBLON","") | L86: =IF(COUNTIF(#REF!,Base!C86)>0,ROW(),0) -> #REF!
A87: 86 | B87: 2601224061 | C87: =RIGHT(B87,4) -> 4061 | D87: 38 | E87: CROISE | F87: 41762 | G87: =DATEDIF(F87,TODAY(),"ym")&" mois "&DATEDIF(F87,TODAY(),"md")&" jours" -> 6 mois 3 jours | H87: F | I87: =IF(COUNTIF($C$2:$C$200,C87)>1,"DOUBLON","") | L87: =IF(COUNTIF(#REF!,Base!C87)>0,ROW(),0) -> #REF!
A88: 87 | B88: 6357954085 | C88: =RIGHT(B88,4) -> 4085 | D88: 38 | E88: CROISE | F88: 41750 | G88: =DATEDIF(F88,TODAY(),"ym")&" mois "&DATEDIF(F88,TODAY(),"md")&" jours" -> 6 mois 15 jours | H88: F | I88: =IF(COUNTIF($C$2:$C$200,C88)>1,"DOUBLON","") | L88: =IF(COUNTIF(#REF!,Base!C88)>0,ROW(),0) -> #REF!
A89: 88 | B89: 6357594189 | C89: =RIGHT(B89,4) -> 4189 | D89: 25 | E89: CROISE | F89: 41759 | G89: =DATEDIF(F89,TODAY(),"ym")&" mois "&DATEDIF(F89,TODAY(),"md")&" jours" -> 6 mois 6 jours | H89: F | I89: =IF(COUNTIF($C$2:$C$200,C89)>1,"DOUBLON","") -> DOUBLON | L89: =IF(COUNTIF(#REF!,Base!C89)>0,ROW(),0) -> #REF!
A90: 89 | B90: 6357914189 | C90: =RIGHT(B90,4) -> 4189 | D90: 95 | E90: CROISE | F90: 41744 | G90: =DATEDIF(F90,TODAY(),"ym")&" mois "&DATEDIF(F90,TODAY(),"md")&" jours" -> 6 mois 21 jours | H90: F | I90: =IF(COUNTIF($C$2:$C$200,C90)>1,"DOUBLON","") -> DOUBLON | L90: =IF(COUNTIF(#REF!,Base!C90)>0,ROW(),0) -> #REF!
A91: 90 | B91: 6357584239 | C91: =RIGHT(B91,4) -> 4239 | D91: 38 | E91: CROISE | F91: 41762 | G91: =DATEDIF(F91,TODAY(),"ym")&" mois "&DATEDIF(F91,TODAY(),"md")&" jours" -> 6 mois 3 jours | H91: F | I91: =IF(COUNTIF($C$2:$C$200,C91)>1,"DOUBLON","") | L91: =IF(COUNTIF(#REF!,Base!C91)>0,ROW(),0) -> #REF!
A92: 91 | B92: 6357584240 | C92: =RIGHT(B92,4) -> 4240 | D92: 38 | E92: CROISE | F92: 41763 | G92: =DATEDIF(F92,TODAY(),"ym")&" mois "&DATEDIF(F92,TODAY(),"md")&" jours" -> 6 mois 2 jours | H92: F | I92: =IF(COUNTIF($C$2:$C$200,C92)>1,"DOUBLON","") | L92: =IF(COUNTIF(#REF!,Base!C92)>0,ROW(),0) -> #REF!
A93: 92 | B93: 1213354246 | C93: =RIGHT(B93,4) -> 4246 | D93: 25 | E93: CROISE | F93: 41746 | G93: =DATEDIF(F93,TODAY(),"ym")&" mois "&DATEDIF(F93,TODAY(),"md")&" jours" -> 6 mois 19 jours | H93: M | I93: =IF(COUNTIF($C$2:$C$200,C93)>1,"DOUBLON","") | L93: =IF(COUNTIF(#REF!,Base!C93)>0,ROW(),0) -> #REF!
A94: 93 | B94: 1213354247 | C94: =RIGHT(B94,4) -> 4247 | D94: 25 | E94: CROISE | F94: 41751 | G94: =DATEDIF(F94,TODAY(),"ym")&" mois "&DATEDIF(F94,TODAY(),"md")&" jours" -> 6 mois 14 jours | H94: M | I94: =IF(COUNTIF($C$2:$C$200,C94)>1,"DOUBLON","") | L94: =IF(COUNTIF(#REF!,Base!C94)>0,ROW(),0) -> #REF!
A95: 94 | B95: 6358364272 | C95: =RIGHT(B95,4) -> 4272 | D95: 38 | E95: CROISE | F95: 41761 | G95: =DATEDIF(F95,TODAY(),"ym")&" mois "&DATEDIF(F95,TODAY(),"md")&" jours" -> 6 mois 4 jours | H95: F | I95: =IF(COUNTIF($C$2:$C$200,C95)>1,"DOUBLON","") | L95: =IF(COUNTIF(#REF!,Base!C95)>0,ROW(),0) -> #REF!
A96: 95 | B96: 6510374279 | C96: =RIGHT(B96,4) -> 4279 | D96: 95 | E96: CROISE | F96: 41735 | G96: =DATEDIF(F96,TODAY(),"ym")&" mois "&DATEDIF(F96,TODAY(),"md")&" jours" -> 7 mois 0 jours | H96: M | I96: =IF(COUNTIF($C$2:$C$200,C96)>1,"DOUBLON","") | L96: =IF(COUNTIF(#REF!,Base!C96)>0,ROW(),0) -> #REF!
A97: 96 | B97: 6414244286 | C97: =RIGHT(B97,4) -> 4286 | D97: 25 | E97: BLANC BLEU | F97: 41739 | G97: =DATEDIF(F97,TODAY(),"ym")&" mois "&DATEDIF(F97,TODAY(),"md")&" jours" -> 6 mois 26 jours | H97: M | I97: =IF(COUNTIF($C$2:$C$200,C97)>1,"DOUBLON","") | L97: =IF(COUNTIF(#REF!,Base!C97)>0,ROW(),0) -> #REF!
A98: 97 | B98: 6359024378 | C98: =RIGHT(B98,4) -> 4378 | D98: 79 | E98: BLONDE AQUIT. | F98: 41751 | G98: =DATEDIF(F98,TODAY(),"ym")&" mois "&DATEDIF(F98,TODAY(),"md")&" jours" -> 6 mois 14 jours | H98: M | I98: =IF(COUNTIF($C$2:$C$200,C98)>1,"DOUBLON","") | L98: =IF(COUNTIF(#REF!,Base!C98)>0,ROW(),0) -> #REF!
A99: 98 | B99: 3100214417 | C99: =RIGHT(B99,4) -> 4417 | D99: 34 | E99: CROISE | F99: 41758 | G99: =DATEDIF(F99,TODAY(),"ym")&" mois "&DATEDIF(F99,TODAY(),"md")&" jours" -> 6 mois 7 jours | H99: F | I99: =IF(COUNTIF($C$2:$C$200,C99)>1,"DOUBLON","") | L99: =IF(COUNTIF(#REF!,Base!C99)>0,ROW(),0) -> #REF!
A100: 99 | B100: 7402574550 | C100: =RIGHT(B100,4) -> 4550 | D100: 38 | E100: CROISE | F100: 41757 | G100: =DATEDIF(F100,TODAY(),"ym")&" mois "&DATEDIF(F100,TODAY(),"md")&" jours" -> 6 mois 8 jours | H100: F | I100: =IF(COUNTIF($C$2:$C$200,C100)>1,"DOUBLON","") | L100: =IF(COUNTIF(#REF!,Base!C100)>0,ROW(),0) -> #REF!
A101: 100 | B101: 0713634651 | C101: =RIGHT(B101,4) -> 4651 | D101: 34 | E101: CROISE | F101: 41731 | G101: =DATEDIF(F101,TODAY(),"ym")&" mois "&DATEDIF(F101,TODAY(),"md")&" jours" -> 7 mois 4 jours | H101: F | I101: =IF(COUNTIF($C$2:$C$200,C101)>1,"DOUBLON","") | L101: =IF(COUNTIF(#REF!,Base!C101)>0,ROW(),0) -> #REF!
A102: 101 | B102: 6414234666 | C102: =RIGHT(B102,4) -> 4666 | D102: 95 | E102: CROISE | F102: 41767 | G102: =DATEDIF(F102,TODAY(),"ym")&" mois "&DATEDIF(F102,TODAY(),"md")&" jours" -> 5 mois 28 jours | H102: M | I102: =IF(COUNTIF($C$2:$C$200,C102)>1,"DOUBLON","") | L102: =IF(COUNTIF(#REF!,Base!C102)>0,ROW(),0) -> #REF!
A103: 102 | B103: 6357594772 | C103: =RIGHT(B103,4) -> 4772 | D103: 25 | E103: CROISE | F103: 41757 | G103: =DATEDIF(F103,TODAY(),"ym")&" mois "&DATEDIF(F103,TODAY(),"md")&" jours" -> 6 mois 8 jours | H103: F | I103: =IF(COUNTIF($C$2:$C$200,C103)>1,"DOUBLON","") | L103: =IF(COUNTIF(#REF!,Base!C103)>0,ROW(),0) -> #REF!
... A120: 119 | B120: 2405275166 | C120: =RIGHT(B120,4) -> 5166 | D120: 25 | E120: CROISE | F120: 41751 | G120: =DATEDIF(F120,TODAY(),"ym")&" mois "&DATEDIF(F120,TODAY(),"md")&" jours" -> 6 mois 14 jours | H120: F | I120: =IF(COUNTIF($C$2:$C$200,C120)>1,"DOUBLON","") | L120: =IF(COUNTIF(#REF!,Base!C120)>0,ROW(),0) -> #REF!
A121: 120 | B121: 1214185186 | C121: =RIGHT(B121,4) -> 5186 | D121: 25 | E121: CROISE | F121: 41746 | G121: =DATEDIF(F121,TODAY(),"ym")&" mois "&DATEDIF(F121,TODAY(),"md")&" jours" -> 6 mois 19 jours | H121: F | I121: =IF(COUNTIF($C$2:$C$200,C121)>1,"DOUBLON","") | L121: =IF(COUNTIF(#REF!,Base!C121)>0,ROW(),0) -> #REF!
A122: 121 | B122: 4313165221 | C122: =RIGHT(B122,4) -> 5221 | D122: 25 | E122: CROISE | F122: 41742 | G122: =DATEDIF(F122,TODAY(),"ym")&" mois "&DATEDIF(F122,TODAY(),"md")&" jours" -> 6 mois 23 jours | H122: F | I122: =IF(COUNTIF($C$2:$C$200,C122)>1,"DOUBLON","") | L122: =IF(COUNTIF(#REF!,Base!C122)>0,ROW(),0) -> #REF!
A123: 122 | B123: 4636645282 | C123: =RIGHT(B123,4) -> 5282 | D123: 34 | E123: CROISE | F123: 41758 | G123: =DATEDIF(F123,TODAY(),"ym")&" mois "&DATEDIF(F123,TODAY(),"md")&" jours" -> 6 mois 7 jours | H123: F | I123: =IF(COUNTIF($C$2:$C$200,C123)>1,"DOUBLON","") | L123: =IF(COUNTIF(#REF!,Base!C123)>0,ROW(),0) -> #REF!
A124: 123 | B124: 4636645283 | C124: =RIGHT(B124,4) -> 5283 | D124: 34 | E124: CROISE | F124: 41758 | G124: =DATEDIF(F124,TODAY(),"ym")&" mois "&DATEDIF(F124,TODAY(),"md")&" jours" -> 6 mois 7 jours | H124: M | I124: =IF(COUNTIF($C$2:$C$200,C124)>1,"DOUBLON","") | L124: =IF(COUNTIF(#REF!,Base!C124)>0,ROW(),0) -> #REF!
A125: 124 | B125: 0713635373 | C125: =RIGHT(B125,4) -> 5373 | D125: 38 | E125: CROISE | F125: 41749 | G125: =DATEDIF(F125,TODAY(),"ym")&" mois "&DATEDIF(F125,TODAY(),"md")&" jours" -> 6 mois 16 jours | H125: F | I125: =IF(COUNTIF($C$2:$C$200,C125)>1,"DOUBLON","") | L125: =IF(COUNTIF(#REF!,Base!C125)>0,ROW(),0) -> #REF!
A126: 125 | B126: 1936125463 | C126: =RIGHT(B126,4) -> 5463 | D126: 39 | E126: CROISE | F126: 41759 | G126: =DATEDIF(F126,TODAY(),"ym")&" mois "&DATEDIF(F126,TODAY(),"md")&" jours" -> 6 mois 6 jours | H126: F | I126: =IF(COUNTIF($C$2:$C$200,C126)>1,"DOUBLON","") | L126: =IF(COUNTIF(#REF!,Base!C126)>0,ROW(),0) -> #REF!
A127: 126 | B127: 1627755568 | C127: =RIGHT(B127,4) -> 5568 | D127: 66 | E127: PRIM'HOLSTEIN | F127: 41743 | G127: =DATEDIF(F127,TODAY(),"ym")&" mois "&DATEDIF(F127,TODAY(),"md")&" jours" -> 6 mois 22 jours | H127: F | I127: =IF(COUNTIF($C$2:$C$200,C127)>1,"DOUBLON","") | L127: =IF(COUNTIF(#REF!,Base!C127)>0,ROW(),0) -> #REF!
A128: 127 | B128: 1627755569 | C128: =RIGHT(B128,4) -> 5569 | D128: 66 | E128: PRIM'HOLSTEIN | F128: 41751 | G128: 1 mois 3 jours | H128: F | I128: =IF(COUNTIF($C$2:$C$200,C128)>1,"DOUBLON","") | L128: =IF(COUNTIF(#REF!,Base!C128)>0,ROW(),0) -> #REF!
A129: 128 | B129: 8213015598 | C129: =RIGHT(B129,4) -> 5598 | D129: 95 | E129: INRA 95 | F129: 41756 | G129: =DATEDIF(F129,TODAY(),"ym")&" mois "&DATEDIF(F129,TODAY(),"md")&" jours" -> 6 mois 9 jours | H129: M | I129: =IF(COUNTIF($C$2:$C$200,C129)>1,"DOUBLON","") | L129: =IF(COUNTIF(#REF!,Base!C129)>0,ROW(),0) -> #REF!
A130: 129 | B130: 2405345602 | C130: =RIGHT(B130,4) -> 5602 | D130: 39 | E130: CROISE | F130: 41764 | G130: =DATEDIF(F130,TODAY(),"ym")&" mois "&DATEDIF(F130,TODAY(),"md")&" jours" -> 6 mois 1 jours | H130: M | I130: =IF(COUNTIF($C$2:$C$200,C130)>1,"DOUBLON","") | L130: =IF(COUNTIF(#REF!,Base!C130)>0,ROW(),0) -> #REF!
A131: 130 | B131: 4314165660 | C131: =RIGHT(B131,4) -> 5660 | D131: 38 | E131: CROISE | F131: 41730 | G131: =DATEDIF(F131,TODAY(),"ym")&" mois "&DATEDIF(F131,TODAY(),"md")&" jours" -> 7 mois 5 jours | H131: F | I131: =IF(COUNTIF($C$2:$C$200,C131)>1,"DOUBLON","") | L131: =IF(COUNTIF(#REF!,Base!C131)>0,ROW(),0) -> #REF!
A132: 131 | B132: 4729005745 | C132: =RIGHT(B132,4) -> 5745 | D132: 34 | E132: CROISE | F132: 41766 | G132: =DATEDIF(F132,TODAY(),"ym")&" mois "&DATEDIF(F132,TODAY(),"md")&" jours" -> 5 mois 29 jours | H132: M | I132: =IF(COUNTIF($C$2:$C$200,C132)>1,"DOUBLON","") | L132: =IF(COUNTIF(#REF!,Base!C132)>0,ROW(),0) -> #REF!
A133: 132 | B133: 1214095855 | C133: =RIGHT(B133,4) -> 5855 | D133: 95 | E133: INRA 95 | F133: 41738 | G133: =DATEDIF(F133,TODAY(),"ym")&" mois "&DATEDIF(F133,TODAY(),"md")&" jours" -> 6 mois 27 jours | H133: M | I133: =IF(COUNTIF($C$2:$C$200,C133)>1,"DOUBLON","") | L133: =IF(COUNTIF(#REF!,Base!C133)>0,ROW(),0) -> #REF!
A134: 133 | B134: 4644525992 | C134: =RIGHT(B134,4) -> 5992 | D134: 34 | E134: CROISE | F134: 41764 | G134: =DATEDIF(F134,TODAY(),"ym")&" mois "&DATEDIF(F134,TODAY(),"md")&" jours" -> 6 mois 1 jours | H134: M | I134: =IF(COUNTIF($C$2:$C$200,C134)>1,"DOUBLON","") | L134: =IF(COUNTIF(#REF!,Base!C134)>0,ROW(),0) -> #REF!
A135: 134 | B135: 1214016000 | C135: =RIGHT(B135,4) -> 6000 | D135: 39 | E135: CROISE | F135: 41769 | G135: =DATEDIF(F135,TODAY(),"ym")&" mois "&DATEDIF(F135,TODAY(),"md")&" jours" -> 5 mois 26 jours | H135: M | I135: =IF(COUNTIF($C$2:$C$200,C135)>1,"DOUBLON","") | L135: =IF(COUNTIF(#REF!,Base!C135)>0,ROW(),0) -> #REF!
A136: 135 | B136: 4242086021 | C136: =RIGHT(B136,4) -> 6021 | D136: 38 | E136: CROISE | F136: 41751 | G136: =DATEDIF(F136,TODAY(),"ym")&" mois "&DATEDIF(F136,TODAY(),"md")&" jours" -> 6 mois 14 jours | H136: F | I136: =IF(COUNTIF($C$2:$C$200,C136)>1,"DOUBLON","") | L136: =IF(COUNTIF(#REF!,Base!C136)>0,ROW(),0) -> #REF!
A137: 136 | B137: 2405246064 | C137: =RIGHT(B137,4) -> 6064 | D137: 34 | E137: CROISE | F137: 41748 | G137: =DATEDIF(F137,TODAY(),"ym")&" mois "&DATEDIF(F137,TODAY(),"md")&" jours" -> 6 mois 17 jours | H137: M | I137: =IF(COUNTIF($C$2:$C$200,C137)>1,"DOUBLON","") | L137: =IF(COUNTIF(#REF!,Base!C137)>0,ROW(),0) -> #REF!
A138: 137 | B138: 6505536107 | C138: =RIGHT(B138,4) -> 6107 | D138: 34 | E138: CROISE | F138: 41736 | G138: =DATEDIF(F138,TODAY(),"ym")&" mois "&DATEDIF(F138,TODAY(),"md")&" jours" -> 6 mois 29 jours | H138: F | I138: =IF(COUNTIF($C$2:$C$200,C138)>1,"DOUBLON","") | L138: =IF(COUNTIF(#REF!,Base!C138)>0,ROW(),0) -> #REF!
A139: 138 | B139: 1214356116 | C139: =RIGHT(B139,4) -> 6116 | D139: 95 | E139: INRA 95 | F139: 41760 | G139: =DATEDIF(F139,TODAY(),"ym")&" mois "&DATEDIF(F139,TODAY(),"md")&" jours" -> 6 mois 5 jours | H139: F | I139: =IF(COUNTIF($C$2:$C$200,C139)>1,"DOUBLON","") | L139: =IF(COUNTIF(#REF!,Base!C139)>0,ROW(),0) -> #REF!
A140: 139 | B140: 1534036120 | C140: =RIGHT(B140,4) -> 6120 | D140: 38 | E140: CROISE | F140: 41765 | G140: =DATEDIF(F140,TODAY(),"ym")&" mois "&DATEDIF(F140,TODAY(),"md")&" jours" -> 6 mois 0 jours | H140: M | I140: =IF(COUNTIF($C$2:$C$200,C140)>1,"DOUBLON","") | L140: =IF(COUNTIF(#REF!,Base!C140)>0,ROW(),0) -> #REF!
... A143: 142 | B143: 4242116256 | C143: =RIGHT(B143,4) -> 6256 | D143: 38 | E143: CROISE | F143: 41756 | G143: =DATEDIF(F143,TODAY(),"ym")&" mois "&DATEDIF(F143,TODAY(),"md")&" jours" -> 6 mois 9 jours | H143: M | I143: =IF(COUNTIF($C$2:$C$200,C143)>1,"DOUBLON","") | L143: =IF(COUNTIF(#REF!,Base!C143)>0,ROW(),0) -> #REF!
A144: 143 | B144: 4633146623 | C144: =RIGHT(B144,4) -> 6623 | D144: 34 | E144: CROISE | F144: 41745 | G144: =DATEDIF(F144,TODAY(),"ym")&" mois "&DATEDIF(F144,TODAY(),"md")&" jours" -> 6 mois 20 jours | H144: F | I144: =IF(COUNTIF($C$2:$C$200,C144)>1,"DOUBLON","") | L144: =IF(COUNTIF(#REF!,Base!C144)>0,ROW(),0) -> #REF!
A145: 144 | B145: 1214016681 | C145: =RIGHT(B145,4) -> 6681 | D145: 38 | E145: CROISE | F145: 41742 | G145: =DATEDIF(F145,TODAY(),"ym")&" mois "&DATEDIF(F145,TODAY(),"md")&" jours" -> 6 mois 23 jours | H145: M | I145: =IF(COUNTIF($C$2:$C$200,C145)>1,"DOUBLON","") | L145: =IF(COUNTIF(#REF!,Base!C145)>0,ROW(),0) -> #REF!
A146: 145 | B146: 1937006714 | C146: =RIGHT(B146,4) -> 6714 | D146: 34 | E146: CROISE | F146: 41757 | G146: =DATEDIF(F146,TODAY(),"ym")&" mois "&DATEDIF(F146,TODAY(),"md")&" jours" -> 6 mois 8 jours | H146: M | I146: =IF(COUNTIF($C$2:$C$200,C146)>1,"DOUBLON","") | L146: =IF(COUNTIF(#REF!,Base!C146)>0,ROW(),0) -> #REF!
A147: 146 | B147: 4747416773 | C147: =RIGHT(B147,4) -> 6773 | D147: 25 | E147: CROISE | F147: 41748 | G147: =DATEDIF(F147,TODAY(),"ym")&" mois "&DATEDIF(F147,TODAY(),"md")&" jours" -> 6 mois 17 jours | H147: M | I147: =IF(COUNTIF($C$2:$C$200,C147)>1,"DOUBLON","") | L147: =IF(COUNTIF(#REF!,Base!C147)>0,ROW(),0) -> #REF!
A148: 147 | B148: 1214047064 | C148: =RIGHT(B148,4) -> 7064 | D148: 39 | E148: CROISE | F148: 41759 | G148: =DATEDIF(F148,TODAY(),"ym")&" mois "&DATEDIF(F148,TODAY(),"md")&" jours" -> 6 mois 6 jours | H148: F | I148: =IF(COUNTIF($C$2:$C$200,C148)>1,"DOUBLON","") | L148: =IF(COUNTIF(#REF!,Base!C148)>0,ROW(),0) -> #REF!
A149: 148 | B149: 1937017068 | C149: =RIGHT(B149,4) -> 7068 | D149: 39 | E149: CROISE | F149: 41765 | G149: =DATEDIF(F149,TODAY(),"ym")&" mois "&DATEDIF(F149,TODAY(),"md")&" jours" -> 6 mois 0 jours | H149: F | I149: =IF(COUNTIF($C$2:$C$200,C149)>1,"DOUBLON","") | L149: =IF(COUNTIF(#REF!,Base!C149)>0,ROW(),0) -> #REF!
A150: 149 | B150: 4640797252 | C150: =RIGHT(B150,4) -> 7252 | D150: 38 | E150: CROISE | F150: 41743 | G150: =DATEDIF(F150,TODAY(),"ym")&" mois "&DATEDIF(F150,TODAY(),"md")&" jours" -> 6 mois 22 jours | H150: F | I150: =IF(COUNTIF($C$2:$C$200,C150)>1,"DOUBLON","") | L150: =IF(COUNTIF(#REF!,Base!C150)>0,ROW(),0) -> #REF!
A151: 150 | B151: 4640797253 | C151: =RIGHT(B151,4) -> 7253 | D151: 38 | E151: CROISE | F151: 41747 | G151: =DATEDIF(F151,TODAY(),"ym")&" mois "&DATEDIF(F151,TODAY(),"md")&" jours" -> 6 mois 18 jours | H151: M | I151: =IF(COUNTIF($C$2:$C$200,C151)>1,"DOUBLON","") | L151: =IF(COUNTIF(#REF!,Base!C151)>0,ROW(),0) -> #REF!
A152: 151 | B152: 4640797254 | C152: =RIGHT(B152,4) -> 7254 | D152: 38 | E152: CROISE | F152: 41747 | G152: =DATEDIF(F152,TODAY(),"ym")&" mois "&DATEDIF(F152,TODAY(),"md")&" jours" -> 6 mois 18 jours | H152: M | I152: =IF(COUNTIF($C$2:$C$200,C152)>1,"DOUBLON","") | L152: =IF(COUNTIF(#REF!,Base!C152)>0,ROW(),0) -> #REF!
A153: 152 | B153: 3213357513 | C153: =RIGHT(B153,4) -> 7513 | D153: 38 | E153: CROISE | F153: 41757 | G153: =DATEDIF(F153,TODAY(),"ym")&" mois "&DATEDIF(F153,TODAY(),"md")&" jours" -> 6 mois 8 jours | H153: F | I153: =IF(COUNTIF($C$2:$C$200,C153)>1,"DOUBLON","") | L153: =IF(COUNTIF(#REF!,Base!C153)>0,ROW(),0) -> #REF!
A154: 153 | B154: 1213127611 | C154: =RIGHT(B154,4) -> 7611 | D154: 38 | E154: CROISE | F154: 41748 | G154: =DATEDIF(F154,TODAY(),"ym")&" mois "&DATEDIF(F154,TODAY(),"md")&" jours" -> 6 mois 17 jours | H154: F | I154: =IF(COUNTIF($C$2:$C$200,C154)>1,"DOUBLON","") | L154: =IF(COUNTIF(#REF!,Base!C154)>0,ROW(),0) -> #REF!
A155: 154 | B155: 1214097614 | C155: =RIGHT(B155,4) -> 7614 | D155: 38 | E155: CROISE | F155: 41740 | G155: =DATEDIF(F155,TODAY(),"ym")&" mois "&DATEDIF(F155,TODAY(),"md")&" jours" -> 6 mois 25 jours | H155: M | I155: =IF(COUNTIF($C$2:$C$200,C155)>1,"DOUBLON","") | L155: =IF(COUNTIF(#REF!,Base!C155)>0,ROW(),0) -> #REF!
A156: 155 | B156: 8213017649 | C156: =RIGHT(B156,4) -> 7649 | D156: 34 | E156: CROISE | F156: 41765 | G156: =DATEDIF(F156,TODAY(),"ym")&" mois "&DATEDIF(F156,TODAY(),"md")&" jours" -> 6 mois 0 jours | H156: M | I156: =IF(COUNTIF($C$2:$C$200,C156)>1,"DOUBLON","") | L156: =IF(COUNTIF(#REF!,Base!C156)>0,ROW(),0) -> #REF!
A157: 156 | B157: 6505537737 | C157: =RIGHT(B157,4) -> 7737 | D157: 34 | E157: CROISE | F157: 41747 | G157: =DATEDIF(F157,TODAY(),"ym")&" mois "&DATEDIF(F157,TODAY(),"md")&" jours" -> 6 mois 18 jours | H157: F | I157: =IF(COUNTIF($C$2:$C$200,C157)>1,"DOUBLON","") | L157: =IF(COUNTIF(#REF!,Base!C157)>0,ROW(),0) -> #REF!
A158: 157 | B158: 1214377800 | C158: =RIGHT(B158,4) -> 7800 | D158: 46 | E158: MONTBELIARDE | F158: 41763 | G158: =DATEDIF(F158,TODAY(),"ym")&" mois "&DATEDIF(F158,TODAY(),"md")&" jours" -> 6 mois 2 jours | H158: M | I158: =IF(COUNTIF($C$2:$C$200,C158)>1,"DOUBLON","") | L158: =IF(COUNTIF(#REF!,Base!C158)>0,ROW(),0) -> #REF!
A159: 158 | B159: 4630827868 | C159: =RIGHT(B159,4) -> 7868 | D159: 39 | E159: CROISE | F159: 41759 | G159: =DATEDIF(F159,TODAY(),"ym")&" mois "&DATEDIF(F159,TODAY(),"md")&" jours" -> 6 mois 6 jours | H159: F | I159: =IF(COUNTIF($C$2:$C$200,C159)>1,"DOUBLON","") | L159: =IF(COUNTIF(#REF!,Base!C159)>0,ROW(),0) -> #REF!
A160: 159 | B160: 4630827869 | C160: =RIGHT(B160,4) -> 7869 | D160: 34 | E160: CROISE | F160: 41760 | G160: =DATEDIF(F160,TODAY(),"ym")&" mois "&DATEDIF(F160,TODAY(),"md")&" jours" -> 6 mois 5 jours | H160: M | I160: =IF(COUNTIF($C$2:$C$200,C160)>1,"DOUBLON","") | L160: =IF(COUNTIF(#REF!,Base!C160)>0,ROW(),0) -> #REF!
A161: 160 | B161: 74102527916 | C161: =RIGHT(B161,4) -> 7916 | D161: 38 | E161: CROISE | F161: 41753 | G161: =DATEDIF(F161,TODAY(),"ym")&" mois "&DATEDIF(F161,TODAY(),"md")&" jours" -> 6 mois 12 jours | H161: M | I161: =IF(COUNTIF($C$2:$C$200,C161)>1,"DOUBLON","") | L161: =IF(COUNTIF(#REF!,Base!C161)>0,ROW(),0) -> #REF!
A162: 161 | B162: 1534037980 | C162: =RIGHT(B162,4) -> 7980 | D162: 46 | E162: MONTBELIARDE | F162: 41759 | G162: =DATEDIF(F162,TODAY(),"ym")&" mois "&DATEDIF(F162,TODAY(),"md")&" jours" -> 6 mois 6 jours | H162: M | I162: =IF(COUNTIF($C$2:$C$200,C162)>1,"DOUBLON","") | L162: =IF(COUNTIF(#REF!,Base!C162)>0,ROW(),0) -> #REF!
A163: 162 | B163: 7402567990 | C163: =RIGHT(B163,4) -> 7990 | D163: 38 | E163: CROISE | F163: 41738 | G163: =DATEDIF(F163,TODAY(),"ym")&" mois "&DATEDIF(F163,TODAY(),"md")&" jours" -> 6 mois 27 jours | H163: F | I163: =IF(COUNTIF($C$2:$C$200,C163)>1,"DOUBLON","") | L163: =IF(COUNTIF(#REF!,Base!C163)>0,ROW(),0) -> #REF!
A164: 163 | B164: 1214078005 | C164: =RIGHT(B164,4) -> 8005 | D164: 38 | E164: CROISE | F164: 41746 | G164: =DATEDIF(F164,TODAY(),"ym")&" mois "&DATEDIF(F164,TODAY(),"md")&" jours" -> 6 mois 19 jours | H164: M | I164: =IF(COUNTIF($C$2:$C$200,C164)>1,"DOUBLON","") | L164: =IF(COUNTIF(#REF!,Base!C164)>0,ROW(),0) -> #REF!
A165: 164 | B165: 1214078008 | C165: =RIGHT(B165,4) -> 8008 | D165: 39 | E165: CROISE | F165: 41762 | G165: =DATEDIF(F165,TODAY(),"ym")&" mois "&DATEDIF(F165,TODAY(),"md")&" jours" -> 6 mois 3 jours | H165: M | I165: =IF(COUNTIF($C$2:$C$200,C165)>1,"DOUBLON","") | L165: =IF(COUNTIF(#REF!,Base!C165)>0,ROW(),0) -> #REF!
A166: 165 | B166: 4641148093 | C166: =RIGHT(B166,4) -> 8093 | D166: 95 | E166: CROISE | F166: 41760 | G166: =DATEDIF(F166,TODAY(),"ym")&" mois "&DATEDIF(F166,TODAY(),"md")&" jours" -> 6 mois 5 jours | H166: M | I166: =IF(COUNTIF($C$2:$C$200,C166)>1,"DOUBLON","") | L166: =IF(COUNTIF(#REF!,Base!C166)>0,ROW(),0) -> #REF!
... A178: 177 | B178: 1728308681 | C178: =RIGHT(B178,4) -> 8681 | D178: 66 | E178: PRIM'HOLSTEIN | F178: 41758 | G178: =DATEDIF(F178,TODAY(),"ym")&" mois "&DATEDIF(F178,TODAY(),"md")&" jours" -> 6 mois 7 jours | H178: F | I178: =IF(COUNTIF($C$2:$C$200,C178)>1,"DOUBLON","") | L178: =IF(COUNTIF(#REF!,Base!C178)>0,ROW(),0) -> #REF!
A179: 178 | B179: 2313318745 | C179: =RIGHT(B179,4) -> 8745 | D179: 34 | E179: CROISE | F179: 41747 | G179: =DATEDIF(F179,TODAY(),"ym")&" mois "&DATEDIF(F179,TODAY(),"md")&" jours" -> 6 mois 18 jours | H179: F | I179: =IF(COUNTIF($C$2:$C$200,C179)>1,"DOUBLON","") | L179: =IF(COUNTIF(#REF!,Base!C179)>0,ROW(),0) -> #REF!
A180: 179 | B180: 4242238758 | C180: =RIGHT(B180,4) -> 8758 | D180: 38 | E180: CROISE | F180: 41752 | G180: =DATEDIF(F180,TODAY(),"ym")&" mois "&DATEDIF(F180,TODAY(),"md")&" jours" -> 6 mois 13 jours | H180: M | I180: =IF(COUNTIF($C$2:$C$200,C180)>1,"DOUBLON","") | L180: =IF(COUNTIF(#REF!,Base!C180)>0,ROW(),0) -> #REF!
A181: 180 | B181: 4242238759 | C181: =RIGHT(B181,4) -> 8759 | D181: 38 | E181: CROISE | F181: 41754 | G181: =DATEDIF(F181,TODAY(),"ym")&" mois "&DATEDIF(F181,TODAY(),"md")&" jours" -> 6 mois 11 jours | H181: F | I181: =IF(COUNTIF($C$2:$C$200,C181)>1,"DOUBLON","") | L181: =IF(COUNTIF(#REF!,Base!C181)>0,ROW(),0) -> #REF!
A182: 181 | B182: 1214358795 | C182: =RIGHT(B182,4) -> 8795 | D182: 38 | E182: CROISE | F182: 41765 | G182: =DATEDIF(F182,TODAY(),"ym")&" mois "&DATEDIF(F182,TODAY(),"md")&" jours" -> 6 mois 0 jours | H182: M | I182: =IF(COUNTIF($C$2:$C$200,C182)>1,"DOUBLON","") | L182: =IF(COUNTIF(#REF!,Base!C182)>0,ROW(),0) -> #REF!
...

Sheet 1
A5: N/TRAVAIL | B5: N/NATIONALE | C5: S | D5: DATE DE NAISSANCE | E5: RACE
A7: 0003 | B7: =IFERROR(INDEX(Base!$B$2:$B$202,MATCH(A7,code)),"") -> 2405360003 | C7: =IFERROR(VLOOKUP($A7,Base!$C$2:$H$202,6,0),"") -> M | D7: =IFERROR(VLOOKUP($A7,Base!$C$2:$H$202,4,0),"") -> 41747 | E7: =IFERROR(VLOOKUP($A7,Base!$C$2:$H$202,3,0),"") -> CROISE
A8: 0010 | B8: =IFERROR(INDEX(Base!$B$2:$B$202,MATCH(A8,code)),"") -> 2405360010 | C8: =IFERROR(VLOOKUP($A8,Base!$C$2:$H$202,6,0),"") -> M | D8: =IFERROR(VLOOKUP($A8,Base!$C$2:$H$202,4,0),"") -> 41757 | E8: =IFERROR(VLOOKUP($A8,Base!$C$2:$H$202,3,0),"") -> CROISE
A9: 0202 | B9: =IFERROR(INDEX(Base!$B$2:$B$202,MATCH(A9,code)),"") -> 1214390202 | C9: =IFERROR(VLOOKUP($A9,Base!$C$2:$H$202,6,0),"") -> F | D9: =IFERROR(VLOOKUP($A9,Base!$C$2:$H$202,4,0),"") -> 41764 | E9: =IFERROR(VLOOKUP($A9,Base!$C$2:$H$202,3,0),"") -> CROISE
A10: 0301 | B10: =IFERROR(INDEX(Base!$B$2:$B$202,MATCH(A10,code)),"") -> 1213400301 | C10: =IFERROR(VLOOKUP($A10,Base!$C$2:$H$202,6,0),"") -> M | D10: =IFERROR(VLOOKUP($A10,Base!$C$2:$H$202,4,0),"") -> 41769 | E10: =IFERROR(VLOOKUP($A10,Base!$C$2:$H$202,3,0),"") -> CROISE
B11: =IFERROR(INDEX(Base!$B$2:$B$202,MATCH(A11,code)),"") | C11: =IFERROR(VLOOKUP($A11,Base!$C$2:$H$202,6,0),"") | D11: =IFERROR(VLOOKUP($A11,Base!$C$2:$H$202,4,0),"") | E11: =IFERROR(VLOOKUP($A11,Base!$C$2:$H$202,3,0),"")
B12: =IFERROR(INDEX(Base!$B$2:$B$202,MATCH(A12,code)),"") | C12: =IFERROR(VLOOKUP($A12,Base!$C$2:$H$202,6,0),"") | D12: =IFERROR(VLOOKUP($A12,Base!$C$2:$H$202,4,0),"") | E12: =IFERROR(VLOOKUP($A12,Base!$C$2:$H$202,3,0),"")
B13: =IFERROR(INDEX(Base!$B$2:$B$202,MATCH(A13,code)),"") | C13: =IFERROR(VLOOKUP($A13,Base!$C$2:$H$202,6,0),"") | D13: =IFERROR(VLOOKUP($A13,Base!$C$2:$H$202,4,0),"") | E13: =IFERROR(VLOOKUP($A13,Base!$C$2:$H$202,3,0),"")
B14: =IFERROR(INDEX(Base!$B$2:$B$202,MATCH(A14,code)),"") | C14: =IFERROR(VLOOKUP($A14,Base!$C$2:$H$202,6,0),"") | D14: =IFERROR(VLOOKUP($A14,Base!$C$2:$H$202,4,0),"") | E14: =IFERROR(VLOOKUP($A14,Base!$C$2:$H$202,3,0),"")
B15: =IFERROR(INDEX(Base!$B$2:$B$202,MATCH(A15,code)),"") | C15: =IFERROR(VLOOKUP($A15,Base!$C$2:$H$202,6,0),"") | D15: =IFERROR(VLOOKUP($A15,Base!$C$2:$H$202,4,0),"") | E15: =IFERROR(VLOOKUP($A15,Base!$C$2:$H$202,3,0),"")
B16: =IFERROR(INDEX(Base!$B$2:$B$202,MATCH(A16,code)),"") | C16: =IFERROR(VLOOKUP($A16,Base!$C$2:$H$202,6,0),"") | D16: =IFERROR(VLOOKUP($A16,Base!$C$2:$H$202,4,0),"") | E16: =IFERROR(VLOOKUP($A16,Base!$C$2:$H$202,3,0),"")
B17: =IFERROR(INDEX(Base!$B$2:$B$202,MATCH(A17,code)),"") | C17: =IFERROR(VLOOKUP($A17,Base!$C$2:$H$202,6,0),"") | D17: =IFERROR(VLOOKUP($A17,Base!$C$2:$H$202,4,0),"") | E17: =IFERROR(VLOOKUP($A17,Base!$C$2:$H$202,3,0),"")
B18: =IFERROR(INDEX(Base!$B$2:$B$202,MATCH(A18,code)),"") | C18: =IFERROR(VLOOKUP($A18,Base!$C$2:$H$202,6,0),"") | D18: =IFERROR(VLOOKUP($A18,Base!$C$2:$H$202,4,0),"") | E18: =IFERROR(VLOOKUP($A18,Base!$C$2:$H$202,3,0),"")
B19: =IFERROR(INDEX(Base!$B$2:$B$202,MATCH(A19,code)),"") | C19: =IFERROR(VLOOKUP($A19,Base!$C$2:$H$202,6,0),"") | D19: =IFERROR(VLOOKUP($A19,Base!$C$2:$H$202,4,0),"") | E19: =IFERROR(VLOOKUP($A19,Base!$C$2:$H$202,3,0),"")
B20: =IFERROR(INDEX(Base!$B$2:$B$202,MATCH(A20,code)),"") | C20: =IFERROR(VLOOKUP($A20,Base!$C$2:$H$202,6,0),"") | D20: =IFERROR(VLOOKUP($A20,Base!$C$2:$H$202,4,0),"") | E20: =IFERROR(VLOOKUP($A20,Base!$C$2:$H$202,3,0),"")
B21: =IFERROR(INDEX(Base!$B$2:$B$202,MATCH(A21,code)),"") | C21: =IFERROR(VLOOKUP($A21,Base!$C$2:$H$202,6,0),"") | D21: =IFERROR(VLOOKUP($A21,Base!$C$2:$H$202,4,0),"") | E21: =IFERROR(VLOOKUP($A21,Base!$C$2:$H$202,3,0),"")
B22: =IFERROR(INDEX(Base!$B$2:$B$202,MATCH(A22,code)),"") | C22: =IFERROR(VLOOKUP($A22,Base!$C$2:$H$202,6,0),"") | D22: =IFERROR(VLOOKUP($A22,Base!$C$2:$H$202,4,0),"") | E22: =IFERROR(VLOOKUP($A22,Base!$C$2:$H$202,3,0),"")
... B108: =IFERROR(INDEX(Base!$B$2:$B$202,MATCH(A108,code)),"") | C108: =IFERROR(VLOOKUP($A108,Base!$C$2:$H$202,6,0),"") | D108: =IFERROR(VLOOKUP($A108,Base!$C$2:$H$202,4,0),"") | E108: =IFERROR(VLOOKUP($A108,Base!$C$2:$H$202,3,0),"")

Sheet Feuil1
