Workbook
Name TypeTaille: Taille!$A$1:$A$22

Sheet Tableau
T1: TYPE TAILLE | U1: TAILLE/POINTURE
T2: Gants | U2: =INDIRECT("Taille!"&ADDRESS(MATCH(Tableau!$T2,Taille!$A:$A,0),COLUMN())) -> 0 | V2: =INDIRECT("Taille!"&ADDRESS(MATCH(Tableau!$T2,Taille!$A:$A,0),COLUMN())) -> 0 | W2: =INDIRECT("Taille!"&ADDRESS(MATCH(Tableau!$T2,Taille!$A:$A,0),COLUMN())) -> 0 | X2: =INDIRECT("Taille!"&ADDRESS(MATCH(Tableau!$T2,Taille!$A:$A,0),COLUMN())) -> 0 | Y2: =INDIRECT("Taille!"&ADDRESS(MATCH(Tableau!$T2,Taille!$A:$A,0),COLUMN())) -> 0 | Z2: =INDIRECT("Taille!"&ADDRESS(MATCH(Tableau!$T2,Taille!$A:$A,0),COLUMN())) -> 0 | AA2: =INDIRECT("Taille!"&ADDRESS(MATCH(Tableau!$T2,Taille!$A:$A,0),COLUMN())) -> 0 | AB2: =INDIRECT("Taille!"&ADDRESS(MATCH(Tableau!$T2,Taille!$A:$A,0),COLUMN())) -> 0 | ... AK2: =INDIRECT("Taille!"&ADDRESS(MATCH(Tableau!$T2,Taille!$A:$A,0),COLUMN())) -> 0
T3: Jean | U3: =INDIRECT("Taille!"&ADDRESS(MATCH(Tableau!$T3,Taille!$A:$A,0),COLUMN())) -> 0 | V3: =INDIRECT("Taille!"&ADDRESS(MATCH(Tableau!$T3,Taille!$A:$A,0),COLUMN())) -> 0 | W3: =INDIRECT("Taille!"&ADDRESS(MATCH(Tableau!$T3,Taille!$A:$A,0),COLUMN())) -> 0 | X3: =INDIRECT("Taille!"&ADDRESS(MATCH(Tableau!$T3,Taille!$A:$A,0),COLUMN())) -> 0 | Y3: =INDIRECT("Taille!"&ADDRESS(MATCH(Tableau!$T3,Taille!$A:$A,0),COLUMN())) -> 0 | Z3: =INDIRECT("Taille!"&ADDRESS(MATCH(Tableau!$T3,Taille!$A:$A,0),COLUMN())) -> 0 | AA3: =INDIRECT("Taille!"&ADDRESS(MATCH(Tableau!$T3,Taille!$A:$A,0),COLUMN())) -> 0 | AB3: =INDIRECT("Taille!"&ADDRESS(MATCH(Tableau!$T3,Taille!$A:$A,0),COLUMN())) -> 0 | ... AK3: =INDIRECT("Taille!"&ADDRESS(MATCH(Tableau!$T3,Taille!$A:$A,0),COLUMN())) -> 0
T4: Chaussure UK | U4: =INDIRECT("Taille!"&ADDRESS(MATCH(Tableau!$T4,Taille!$A:$A,0),COLUMN())) -> 0 | V4: =INDIRECT("Taille!"&ADDRESS(MATCH(Tableau!$T4,Taille!$A:$A,0),COLUMN())) -> 0 | W4: =INDIRECT("Taille!"&ADDRESS(MATCH(Tableau!$T4,Taille!$A:$A,0),COLUMN())) -> 0 | X4: =INDIRECT("Taille!"&ADDRESS(MATCH(Tableau!$T4,Taille!$A:$A,0),COLUMN())) -> 0 | Y4: =INDIRECT("Taille!"&ADDRESS(MATCH(Tableau!$T4,Taille!$A:$A,0),COLUMN())) -> 0 | Z4: =INDIRECT("Taille!"&ADDRESS(MATCH(Tableau!$T4,Taille!$A:$A,0),COLUMN())) -> 0 | AA4: =INDIRECT("Taille!"&ADDRESS(MATCH(Tableau!$T4,Taille!$A:$A,0),COLUMN())) -> 0 | AB4: =INDIRECT("Taille!"&ADDRESS(MATCH(Tableau!$T4,Taille!$A:$A,0),COLUMN())) -> 0 | ... AK4: =INDIRECT("Taille!"&ADDRESS(MATCH(Tableau!$T4,Taille!$A:$A,0),COLUMN())) -> 0

Sheet Taille
A1: Taille US | B1: XXS | C1: XS | D1: S | E1: M | F1: L | G1: XL | H1: XXL | I1: XXXL
A2: Taille IT | B2: 42 | C2: 44 | D2: 46 | E2: 48 | F2: 50 | G2: 52 | H2: 54 | I2: 56 | J2: 58
A3: Taille FR | B3: 38 | C3: 40 | D3: 42 | E3: 44 | F3: 46 | G3: 50 | H3: 52 | I3: 54 | J3: 56
A4: Chaussure FR | B4: 39 | C4: 39.5 | D4: 40 | E4: 40.5 | F4: 41 | G4: 41.5 | H4: 42 | I4: 42.5 | J4: 43 | K4: 43.5 | L4: 44 | M4: 44.5 | N4: 45 | O4: 45.5 | P4: 46 | Q4: 46.5 | R4: 47
A5: Chaussure UK | B5: 5.5 | C5: 6 | D5: 6.5 | E5: 7 | F5: 7.5 | G5: 8 | H5: 8.5 | I5: 9 | J5: 9.5 | K5: 10 | L5: 10.5 | M5: 11 | N5: 11.5 | O5: 12
A6: Chaussure US | B6: 6 | C6: 6.5 | D6: 7 | E6: 7.5 | F6: 8 | G6: 8.5 | H6: 9 | I6: 9.5 | J6: 10 | K6: 10.5 | L6: 11 | M6: 11.5 | N6: 12 | O6: 12.5
A7: Chaussure Adidas | B7: 40 | C7: 40-2/3 | D7: 41 | E7: 41-1/3 | F7: 41-2/3 | G7: 42 | H7: 42-1/3 | I7: 42-2/3 | J7: 43 | K7: 43-1/3 | L7: 43-2/3 | M7: 44 | N7: 44-1/3 | O7: 44-2/3 | P7: 45 | Q7: 45-1/3
A8: Jean | B8: 28/32 | C8: 29/32 | D8: 30/32 | E8: 31/32 | F8: 32/32 | G8: 33/32 | H8: 34/32 | I8: 36/32 | J8: 28/34 | K8: 29/34 | L8: 30/34 | M8: 31/34 | N8: 32/34 | O8: 33/34 | P8: 34/34 | Q8: 36/34
A9: Pantalon | B9: 28 | C9: 29 | D9: 30 | E9: 31 | F9: 32 | G9: 33 | H9: 34 | I9: 36 | J9: 38
A10: Pantalon US/UK | B10: 34 | C10: 36 | D10: 38 | E10: 40 | F10: 42 | G10: 44 | H10: 46
A11: Chemise | B11: 36 | C11: 37 | D11: 38 | E11: 39 | F11: 40 | G11: 41 | H11: 42 | I11: 43 | J11: 44 | K11: 45 | L11: 46
A12: Ceinture | B12: 85 | C12: 90 | D12: 95 | E12: 100 | F12: 105 | G12: 110
A13: Accessoires | B13: TU
A14: Accessoires 2 | B14: S/M | C14: M/L | D14: L/XL | E14: XL/XXL
A15: Taille numérique | B15: 0 | C15: 1 | D15: 2 | E15: 3 | F15: 4 | G15: 5 | H15: 6 | I15: 7
A16: Gants | B16: 7 | C16: 7.5 | D16: 8 | E16: 8.5 | F16: 9 | G16: 9.5 | H16: 10
A17: Chapeaux | B17: 55 | C17: 56 | D17: 57 | E17: 58 | F17: 59 | G17: 60 | H17: 61 | I17: 62
A18: Chaussettes 1 | B18: 39/42 | C18: 43/46 | D18: =""
A19: Chaussettes 2 | B19: 41/42 | C19: 43/44 | D19: 45/46 | E19: 47/48
A20: Chaussettes 3 | B20: 42/44 | C20: 45/47
A21: Chaussettes 4 | B21: 39/42 | C21: 42/45
A22: Taille Lyle & Scott | B22: 5 | C22: 6 | D22: 7 | E22: 8 | F22: 9 | G22: 10
