Workbook

Sheet Clients_en_cours
A1: Urgence | B1: NOM Prenom | C1: Derniere action | D1: le | E1: par | F1: Etape suivante
B2: Félix | C2: Demande d'information | D2: 41005 | E2: Client | F2: Répondre au client
B3: Françoise | C3: Proposition envoyée | E3: MT | F3: Attente retour sur proposition (pas avant 14/4)
B4: Sylvette | C4: Proposition de Skype | D4: 41003 | E4: MT | F4: Attente retour pour un skype
B5: Bruno | C5: Demande de proposition | D5: 40995 | E5: Client | F5: Envoyer proposition
B6: Anne Claire | C6: Demande d'info supplémentaire au client | D6: 41004 | E6: MT | F6: Attente retour ( à relancer?)
B7: Matthieu | C7: Demande d'information du client | D7: 41005 | E7: Client | F7: répondre au client
B9: Case urgence en rouge si : | C9: la derniere action date de plus de 7 jours
C10: la derniere action est menee par le "Client"
B12: Case urgence reste blanche si : | C12: aucune date n'est rentree
C13: la derniere action est menee par autre que "client"

Sheet DV-IDENTITY-0
A1: =IF(Clients_en_cours!#REF!,"AAAAAEXnpQA=",0) -> #REF! | B1: =AND(Clients_en_cours!#REF!,"AAAAAEXnpQE=") -> #REF! | C1: =AND(Clients_en_cours!#REF!,"AAAAAEXnpQI=") -> #REF! | D1: =AND(Clients_en_cours!#REF!,"AAAAAEXnpQM=") -> #REF! | E1: =AND(Clients_en_cours!#REF!,"AAAAAEXnpQQ=") -> #REF! | F1: =AND(Clients_en_cours!#REF!,"AAAAAEXnpQU=") -> #REF! | G1: =AND(Clients_en_cours!#REF!,"AAAAAEXnpQY=") -> #REF! | H1: =AND(Clients_en_cours!#REF!,"AAAAAEXnpQc=") -> #REF! | I1: =AND(Clients_en_cours!#REF!,"AAAAAEXnpQg=") -> #REF! | J1: =AND(Clients_en_cours!#REF!,"AAAAAEXnpQk=") -> #REF! | K1: =AND(Clients_en_cours!#REF!,"AAAAAEXnpQo=") -> #REF! | L1: =AND(Clients_en_cours!#REF!,"AAAAAEXnpQs=") -> #REF! | M1: =IF(Clients_en_cours!1:1,"AAAAAEXnpQw=",0) -> 0 | N1: =AND(Clients_en_cours!B1,"AAAAAEXnpQ0=") -> #VALUE! | O1: =AND(Clients_en_cours!#REF!,"AAAAAEXnpQ4=") -> #REF! | P1: =AND(Clients_en_cours!#REF!,"AAAAAEXnpQ8=") -> #REF! | Q1: =AND(Clients_en_cours!#REF!,"AAAAAEXnpRA=") -> #REF! | R1: =AND(Clients_en_cours!#REF!,"AAAAAEXnpRE=") -> #REF! | S1: =AND(Clients_en_cours!#REF!,"AAAAAEXnpRI=") -> #REF! | T1: =AND(Clients_en_cours!#REF!,"AAAAAEXnpRM=") -> #REF! | U1: =AND(Clients_en_cours!C1,"AAAAAEXnpRQ=") -> #VALUE! | V1: =AND(Clients_en_cours!F1,"AAAAAEXnpRU=") -> #VALUE! | W1: =AND(Clients_en_cours!#REF!,"AAAAAEXnpRY=") -> #REF! | X1: =IF(Clients_en_cours!B:B,"AAAAAEXnpRc=",0) -> #VALUE! | Y1: =IF(Clients_en_cours!#REF!,"AAAAAEXnpRg=",0) -> #REF! | Z1: =IF(Clients_en_cours!#REF!,"AAAAAEXnpRk=",0) -> #REF! | AA1: =IF(Clients_en_cours!#REF!,"AAAAAEXnpRo=",0) -> #REF! | AB1: =IF(Clients_en_cours!#REF!,"AAAAAEXnpRs=",0) -> #REF! | AC1: =IF(Clients_en_cours!#REF!,"AAAAAEXnpRw=",0) -> #REF! | AD1: =IF(Clients_en_cours!#REF!,"AAAAAEXnpR0=",0) -> #REF! | AE1: =IF(Clients_en_cours!C:C,"AAAAAEXnpR4=",0) -> #VALUE! | AF1: =IF(Clients_en_cours!F:F,"AAAAAEXnpR8=",0) -> #VALUE! | AG1: =IF(Clients_en_cours!#REF!,"AAAAAEXnpSA=",0) -> #REF! | AH1: =IF(Clients_en_cours!#REF!,"AAAAAEXnpSE=",0) -> #REF! | AI1: =IF(#REF!,"AAAAAEXnpSI=",0) -> #REF! | AJ1: =AND(#REF!,"AAAAAEXnpSM=") -> #REF! | AK1: =IF(#REF!,"AAAAAEXnpSQ=",0) -> #REF! | AL1: =IF(#REF!,"AAAAAEXnpSU=",0) -> #REF! | AM1: =AND(#REF!,"AAAAAEXnpSY=") -> #REF! | AN1: =IF(#REF!,"AAAAAEXnpSc=",0) -> #REF! | AO1: AAAAAEXnpSg=
A2: =AND(Clients_en_cours!#REF!,"AAAAADn/9wA=") -> #REF! | B2: =AND(Clients_en_cours!#REF!,"AAAAADn/9wE=") -> #REF! | C2: =AND(Clients_en_cours!#REF!,"AAAAADn/9wI=") -> #REF! | D2: =IF(Clients_en_cours!2:2,"AAAAADn/9wM=",0) -> AAAAADn/9wM= | E2: =AND(Clients_en_cours!B2,"AAAAADn/9wQ=") -> #VALUE! | F2: =AND(Clients_en_cours!#REF!,"AAAAADn/9wU=") -> #REF! | G2: =AND(Clients_en_cours!#REF!,"AAAAADn/9wY=") -> #REF! | H2: =AND(Clients_en_cours!#REF!,"AAAAADn/9wc=") -> #REF! | I2: =AND(Clients_en_cours!#REF!,"AAAAADn/9wg=") -> #REF! | J2: =AND(Clients_en_cours!#REF!,"AAAAADn/9wk=") -> #REF! | K2: =AND(Clients_en_cours!#REF!,"AAAAADn/9wo=") -> #REF! | L2: =AND(Clients_en_cours!C2,"AAAAADn/9ws=") -> #VALUE! | M2: =AND(Clients_en_cours!F2,"AAAAADn/9ww=") -> #VALUE! | N2: =AND(Clients_en_cours!#REF!,"AAAAADn/9w0=") -> #REF! | O2: =AND(Clients_en_cours!#REF!,"AAAAADn/9w4=") -> #REF! | P2: =AND(Clients_en_cours!#REF!,"AAAAADn/9w8=") -> #REF! | Q2: =IF(Clients_en_cours!3:3,"AAAAADn/9xA=",0) -> 0 | R2: =AND(Clients_en_cours!B3,"AAAAADn/9xE=") -> #VALUE! | S2: =AND(Clients_en_cours!#REF!,"AAAAADn/9xI=") -> #REF! | T2: =AND(Clients_en_cours!#REF!,"AAAAADn/9xM=") -> #REF! | U2: =AND(Clients_en_cours!#REF!,"AAAAADn/9xQ=") -> #REF! | V2: =AND(Clients_en_cours!#REF!,"AAAAADn/9xU=") -> #REF! | W2: =AND(Clients_en_cours!#REF!,"AAAAADn/9xY=") -> #REF! | X2: =AND(Clients_en_cours!#REF!,"AAAAADn/9xc=") -> #REF! | Y2: =AND(Clients_en_cours!C3,"AAAAADn/9xg=") -> #VALUE! | Z2: =AND(Clients_en_cours!F3,"AAAAADn/9xk=") -> #VALUE! | AA2: =AND(Clients_en_cours!#REF!,"AAAAADn/9xo=") -> #REF! | AB2: =AND(Clients_en_cours!#REF!,"AAAAADn/9xs=") -> #REF! | AC2: =AND(Clients_en_cours!#REF!,"AAAAADn/9xw=") -> #REF! | AD2: =IF(Clients_en_cours!4:4,"AAAAADn/9x0=",0) -> 0 | AE2: =AND(Clients_en_cours!B4,"AAAAADn/9x4=") -> #VALUE! | AF2: =AND(Clients_en_cours!#REF!,"AAAAADn/9x8=") -> #REF! | AG2: =AND(Clients_en_cours!#REF!,"AAAAADn/9yA=") -> #REF! | AH2: =AND(Clients_en_cours!#REF!,"AAAAADn/9yE=") -> #REF! | AI2: =AND(Clients_en_cours!#REF!,"AAAAADn/9yI=") -> #REF! | AJ2: =AND(Clients_en_cours!#REF!,"AAAAADn/9yM=") -> #REF! | AK2: =AND(Clients_en_cours!#REF!,"AAAAADn/9yQ=") -> #REF! | AL2: =AND(Clients_en_cours!C4,"AAAAADn/9yU=") -> #VALUE! | AM2: =AND(Clients_en_cours!F4,"AAAAADn/9yY=") -> #VALUE! | AN2: =AND(Clients_en_cours!#REF!,"AAAAADn/9yc=") -> #REF! | AO2: =AND(Clients_en_cours!#REF!,"AAAAADn/9yg=") -> #REF! | AP2: =AND(Clients_en_cours!#REF!,"AAAAADn/9yk=") -> #REF! | AQ2: =IF(Clients_en_cours!#REF!,"AAAAADn/9yo=",0) -> #REF! | AR2: =AND(Clients_en_cours!#REF!,"AAAAADn/9ys=") -> #REF! | AS2: =AND(Clients_en_cours!#REF!,"AAAAADn/9yw=") -> #REF! | AT2: =AND(Clients_en_cours!#REF!,"AAAAADn/9y0=") -> #REF! | AU2: =AND(Clients_en_cours!#REF!,"AAAAADn/9y4=") -> #REF! | AV2: =AND(Clients_en_cours!#REF!,"AAAAADn/9y8=") -> #REF! | AW2: =AND(Clients_en_cours!#REF!,"AAAAADn/9zA=") -> #REF! | AX2: =AND(Clients_en_cours!#REF!,"AAAAADn/9zE=") -> #REF! | AY2: =AND(Clients_en_cours!#REF!,"AAAAADn/9zI=") -> #REF! | AZ2: =AND(Clients_en_cours!#REF!,"AAAAADn/9zM=") -> #REF! | BA2: =AND(Clients_en_cours!#REF!,"AAAAADn/9zQ=") -> #REF! | BB2: =AND(Clients_en_cours!#REF!,"AAAAADn/9zU=") -> #REF! | BC2: =AND(Clients_en_cours!#REF!,"AAAAADn/9zY=") -> #REF! | BD2: =IF(Clients_en_cours!5:5,"AAAAADn/9zc=",0) -> 0 | BE2: =AND(Clients_en_cours!B5,"AAAAADn/9zg=") -> #VALUE! | BF2: =AND(Clients_en_cours!#REF!,"AAAAADn/9zk=") -> #REF! | BG2: =AND(Clients_en_cours!#REF!,"AAAAADn/9zo=") -> #REF! | BH2: =AND(Clients_en_cours!#REF!,"AAAAADn/9zs=") -> #REF! | BI2: =AND(Clients_en_cours!#REF!,"AAAAADn/9zw=") -> #REF! | BJ2: =AND(Clients_en_cours!#REF!,"AAAAADn/9z0=") -> #REF! | BK2: =AND(Clients_en_cours!#REF!,"AAAAADn/9z4=") -> #REF! | BL2: =AND(Clients_en_cours!C5,"AAAAADn/9z8=") -> #VALUE! | BM2: =AND(Clients_en_cours!F5,"AAAAADn/90A=") -> #VALUE! | BN2: =AND(Clients_en_cours!#REF!,"AAAAADn/90E=") -> #REF! | BO2: =AND(Clients_en_cours!#REF!,"AAAAADn/90I=") -> #REF! | BP2: =AND(Clients_en_cours!#REF!,"AAAAADn/90M=") -> #REF! | BQ2: =IF(Clients_en_cours!6:6,"AAAAADn/90Q=",0) -> 0 | BR2: =AND(Clients_en_cours!B6,"AAAAADn/90U=") -> #VALUE! | BS2: =AND(Clients_en_cours!#REF!,"AAAAADn/90Y=") -> #REF! | BT2: =AND(Clients_en_cours!#REF!,"AAAAADn/90c=") -> #REF! | BU2: =AND(Clients_en_cours!#REF!,"AAAAADn/90g=") -> #REF! | BV2: =AND(Clients_en_cours!#REF!,"AAAAADn/90k=") -> #REF! | BW2: =AND(Clients_en_cours!#REF!,"AAAAADn/90o=") -> #REF! | BX2: =AND(Clients_en_cours!#REF!,"AAAAADn/90s=") -> #REF! | BY2: =AND(Clients_en_cours!C6,"AAAAADn/90w=") -> #VALUE! | BZ2: =AND(Clients_en_cours!F6,"AAAAADn/900=") -> #VALUE! | CA2: =AND(Clients_en_cours!#REF!,"AAAAADn/904=") -> #REF! | CB2: =AND(Clients_en_cours!#REF!,"AAAAADn/908=") -> #REF! | CC2: =AND(Clients_en_cours!#REF!,"AAAAADn/91A=") -> #REF! | CD2: =IF(Clients_en_cours!7:7,"AAAAADn/91E=",0) -> 0 | CE2: =AND(Clients_en_cours!B7,"AAAAADn/91I=") -> #VALUE! | CF2: =AND(Clients_en_cours!#REF!,"AAAAADn/91M=") -> #REF! | CG2: =AND(Clients_en_cours!#REF!,"AAAAADn/91Q=") -> #REF! | CH2: =AND(Clients_en_cours!#REF!,"AAAAADn/91U=") -> #REF! | CI2: =AND(Clients_en_cours!#REF!,"AAAAADn/91Y=") -> #REF! | CJ2: =AND(Clients_en_cours!#REF!,"AAAAADn/91c=") -> #REF! | CK2: =AND(Clients_en_cours!#REF!,"AAAAADn/91g=") -> #REF! | CL2: =AND(Clients_en_cours!C7,"AAAAADn/91k=") -> #VALUE! | CM2: =AND(Clients_en_cours!F7,"AAAAADn/91o=") -> #VALUE! | CN2: =AND(Clients_en_cours!#REF!,"AAAAADn/91s=") -> #REF! | CO2: =AND(Clients_en_cours!#REF!,"AAAAADn/91w=") -> #REF! | CP2: =AND(Clients_en_cours!#REF!,"AAAAADn/910=") -> #REF! | CQ2: =IF(Clients_en_cours!#REF!,"AAAAADn/914=",0) -> #REF! | CR2: =AND(Clients_en_cours!#REF!,"AAAAADn/918=") -> #REF! | CS2: =AND(Clients_en_cours!#REF!,"AAAAADn/92A=") -> #REF! | CT2: =AND(Clients_en_cours!#REF!,"AAAAADn/92E=") -> #REF! | CU2: =AND(Clients_en_cours!#REF!,"AAAAADn/92I=") -> #REF! | CV2: =AND(Clients_en_cours!#REF!,"AAAAADn/92M=") -> #REF! | CW2: =AND(Clients_en_cours!#REF!,"AAAAADn/92Q=") -> #REF! | CX2: =AND(Clients_en_cours!#REF!,"AAAAADn/92U=") -> #REF! | CY2: =AND(Clients_en_cours!#REF!,"AAAAADn/92Y=") -> #REF! | CZ2: =AND(Clients_en_cours!#REF!,"AAAAADn/92c=") -> #REF! | DA2: =AND(Clients_en_cours!#REF!,"AAAAADn/92g=") -> #REF! | DB2: =AND(Clients_en_cours!#REF!,"AAAAADn/92k=") -> #REF! | DC2: =AND(Clients_en_cours!#REF!,"AAAAADn/92o=") -> #REF! | DD2: =IF(Clients_en_cours!#REF!,"AAAAADn/92s=",0) -> #REF! | DE2: =AND(Clients_en_cours!#REF!,"AAAAADn/92w=") -> #REF! | DF2: =AND(Clients_en_cours!#REF!,"AAAAADn/920=") -> #REF! | DG2: =AND(Clients_en_cours!#REF!,"AAAAADn/924=") -> #REF! | DH2: =AND(Clients_en_cours!#REF!,"AAAAADn/928=") -> #REF! | DI2: =AND(Clients_en_cours!#REF!,"AAAAADn/93A=") -> #REF! | DJ2: =AND(Clients_en_cours!#REF!,"AAAAADn/93E=") -> #REF! | DK2: =AND(Clients_en_cours!#REF!,"AAAAADn/93I=") -> #REF! | DL2: =AND(Clients_en_cours!#REF!,"AAAAADn/93M=") -> #REF! | DM2: =AND(Clients_en_cours!#REF!,"AAAAADn/93Q=") -> #REF! | DN2: =AND(Clients_en_cours!#REF!,"AAAAADn/93U=") -> #REF! | DO2: =AND(Clients_en_cours!#REF!,"AAAAADn/93Y=") -> #REF! | DP2: =AND(Clients_en_cours!#REF!,"AAAAADn/93c=") -> #REF! | DQ2: =IF(Clients_en_cours!#REF!,"AAAAADn/93g=",0) -> #REF! | DR2: AAAAADn/93k=
