Workbook
Name adresse_LLS: 'Donnée d''entrée'!$D$12
Name adresse_LLTS: 'Donnée d''entrée'!$E$12
Name adresse_siege: 'Donnée d''entrée'!$D$24
Name CAF_Tot: 'Prgr. 2018'!$AA$55
Name CDC_LLS: 'Prgr. 2018'!$X$56
Name CDC_LLTS: 'Prgr. 2018'!$Y$56
Name code: Bdgt!$G$1
Name Commune_LLS: 'Donnée d''entrée'!$D$16
Name Commune_LLTS: 'Donnée d''entrée'!$E$16
Name Créd_Imp: 'Prgr. 2018'!$AA$62
Name Date: 'Donnée d''entrée'!#REF!
Name Day: 'Donnée d''entrée'!$D$18
Name directeur_g: 'Donnée d''entrée'!$D$26
Name euro: Bdgt!$I$6
Name FP_LLS: 'Prgr. 2018'!$X$61
Name FP_LLTS: 'Prgr. 2018'!$Y$61
Name FRAFU_LLS: #REF!
Name FRAFU_LLTS: #REF!
Name franc: 'PRZA '!$J$6
Name LBU_FRAFU: 'FRAFU AVS + LESG'!$D$105
Name LBU_SF: 'Prgr. 2018'!$AA$51
Name LBU_Tot: 'Prgr. 2018'!$AA$50
Name LMDom: 'Prgr. 2018'!$F$70
Name LMDomTS: 'Prgr. 2018'!$F$80
Name LP_LLS: 'Prgr. 2018'!$F$78
Name LP_LLTS: 'Prgr. 2018'!$F$88
Name Macro3: 'PRZA '!Macro3
Name Macro4: 'PRZA '!Macro4
Name montant_eligible_LLS: 'Donnée d''entrée'!$D$28
Name montant_eligible_LLTS: 'Donnée d''entrée'!$E$28
Name Nbre: 'Prgr. 2018'!$V$34
Name NbreCOMM: 'Prgr. 2018'!$V$32
Name NbreLLS: 'Prgr. 2018'!$V$15
Name NbreLLTS: 'Prgr. 2018'!$V$25
Name nom: 'Prgr. 2018'!$D$1
Name nombreLLS: 'Donnée d''entrée'!$D$8
Name nombreLLTS: 'Donnée d''entrée'!$E$8
Name OPERATION: Bdgt!$1:$1048576
Name OPERATION: 'PRZA '!$1:$1048576
Name PA_SAS_HT_LLS: #REF!
Name PA_SAS_HT_LLTS: #REF!
Name parking_a_LLS: 'Donnée d''entrée'!$D$20
Name parking_a_LLTS: 'Donnée d''entrée'!$E$20
Name parking_c_LLS: 'Donnée d''entrée'!$D$22
Name parking_c_LLTS: 'Donnée d''entrée'!$E$22
Name parking_s_LLS: 'Donnée d''entrée'!$D$22
Name parking_s_LLTS: 'Donnée d''entrée'!$E$22
Name PRP_TTC_LLS: 'Donnée d''entrée'!$D$30
Name PRP_TTC_LLTS: 'Donnée d''entrée'!$E$30
Name S.LCR: 'Prgr. 2018'!$AA$35
Name S_terrain: 'Prgr. 2018'!$B$55
Name SF.COMM: 'Prgr. 2018'!$AC$32
Name SF.LLS: 'Prgr. 2018'!$AC$15
Name SF.LLTS: 'Prgr. 2018'!$AC$25
Name SF.T: 'Prgr. 2018'!$AC$34
Name SF_LLS: 'Donnée d''entrée'!$D$32
Name SF_LLTS: 'Donnée d''entrée'!$E$32
Name SH.COMM: 'Prgr. 2018'!$X$32
Name SH.LLS: 'Prgr. 2018'!$X$15
Name SH.LLTS: 'Prgr. 2018'!$X$25

Sheet Donnée d'entrée
B2: Fiché liaisonné de dépôt de dossier de financement LBU
A4: Données d'entrées
A6: Nom de l'opération | D6: =nom -> 0 | E6: =nom -> 0
A8: Nombre de logement | D8: ='Prgr. 2018'!NbreLLS -> 35 | E8: ='Prgr. 2018'!NbreLLTS -> 35
A10: Type de logement | D10: LLS | E10: LLTS | J10: =87629.93+1155.54 -> 88785.47
A12: adresse
A16: Commune
A18: Date | D18: =TODAY() -> 43403 | E18: =TODAY() -> 43403
A20: places de parkings aériennes
A22: places de parkings couvertes
A24: Adresse du siège de la SODEGIS | D24: 7, rue Jean Couturier 97831 CS 40030 LE TAMPON CEDEX | E24: =adresse_siege -> 7, rue Jean Couturier 97831 CS 40030 LE TAMPON CEDEX
A26: nom du directeur général | D26: Patrick CORRE | E26: Patrick CORRE
A28: Montant éligible | D28: =#REF! -> #REF! | E28: =#REF! -> #REF!
A30: Prix de revient total TTC | D30: =Bdgt!R157 -> 204608.84 | E30: =Bdgt!V157 -> 204608.84
A32: SF (Surface finançable) | D32: ='Prgr. 2018'!SF.LLS -> 2623.5 | E32: ='Prgr. 2018'!SF.LLTS -> 2623.5

Sheet première page
A6: DEPARTEMENT OPERATION ET PROGRAMME | F6: A l'attention de:
A7: BORDEREAU D'ENVOI | F7: DEAL SUD
F8: BP 341 N°1 Ravine Blanche
F9: 97448 ST PIERRE CEDEX | R9: DEMANDE D'AGREMENT
A10: EXPEDITEUR: | J10: DEMANDE D'AGREMENT
A11: Nos réf:
A12: Vos réf:
A15: Objet : Opération " | C15: =[0]!nom -> 0 | D15: " | E15: Le | F15: =TODAY() -> 43403
A16: Commune de | B16: ='Donnée d''entrée'!E16 -> 0
A18: Nous vous prions de bien vouloir trouver ci-joint,
I19: Financement d'un programme de | L19: =[0]!nombreLLS -> 35 | M19: logements locatifs sociaux sur | P19: Financement d'un programme de | S19: =[0]!nombreLLTS -> 35 | T19: logements locatifs très sociaux sur
A20: Désignation des pièces | D20: Quantité | E20: Observations | I20: l'Ile de la Réunion | P20: l'Ile de la Réunion
A21: Dossier de demande d'agrément | D21: 2 ex | E21: Pour instruction svp
I25: " | J25: ="Opération "&nom&"" -> Opération | L25: " | M25: =Commune_LLS -> 0 | P25: " | Q25: =[0]!nom -> 0 | S25: " | T25: =Commune_LLTS -> 0
I29: Dans le cadre | Q29: Dans le cadre
I30: de l'Aide Fiscale à l'Investissement Outre-Mer | Q30: de l'Aide Fiscale à l'Investissement Outre-Mer
H31: (article 244 quater X du CGI) | P31: (article 244 quater X du CGI)
A35: Bonne réception,

Sheet 1
AC24: 1.7 Montant des loyers réglementaires applicables aux logements, montant du loyer d'équilibre, et montant du loyer de sortie prévisionnel (loyer notifié accompagnant l'arrêté LBU), en précisant les modalités de calcul de ce loyer de sortie
A25: 1.1 Nom de l'opération et des programmes | H25: 1.4 Calendrier prévisionnel des différentes étapes du projet | O25: 1.5 Tableau de l'architecte détaillant la surface habitable de chaque logement et des annexes | V25: 1.6 Copie des plans
H56: 1.4 Calendrier prévisionnel des différentes étapes du projet | AC56: 1.7 Montant des loyers
H58: Opération : | I58: =nom -> 0
AC59: OPERATION : | AF59: =nom -> 0
H61: Ouverture de chantier : | J61: 15 février | K61: 2017 | AC61: NOMBRE DE LOGEMENTS : | AF61: =[0]!nombreLLS -> 35
A63: OPERATION | D63: ='Donnée d''entrée'!D6 -> 0 | H63: Achèvement fondations : | J63: 15 juin | K63: 2017 | AC63: ADRESSE : | AE63: =adresse_LLS -> 0
A65: NOMBRE DE LOGEMENTS | D65: =[0]!nombreLLS -> 35 | H65: Mise hors d'eau | J65: 15 novembre | K65: 2017
A67: TYPE D'OPERATION | H67: Achèvement logements : | J67: 19 juin | K67: 2018 | AC67: MAITRE D'OUVRAGE : | AF67: SODEGIS
A69: PUBLIC AUQUEL EST DESTINEE L'OPERATION | H69: Livraison des logements | J69: 19 juin | K69: 2018
AC70: Nombre de logements : | AE70: =[0]!nombreLLS -> 35 | AF70: =type_lg_LLS -> LLS
H71: Mise en location : | J71: 19 juillet | K71: 2018 | AC71: Surface Habitable : | AE71: ='Prgr. 2018'!SH.LLS -> 2186 | AF71: m²
A72: ORGANISME OLS AUQUEL LES LOGEMENTS SONT DESTINES | D72: SODEGIS | AC72: Surface finançable : | AE72: =SF_LLS -> 2623.5 | AF72: m²
D73: =adresse_siege -> 7, rue Jean Couturier 97831 CS 40030 LE TAMPON CEDEX
D74: Tél. : | E74: 0262 59 75 97
D75: E.mail : | E75: sodegis@sodegis.re | AC75: Montant loyer plafond applicable aux logements : | AG75: =AG76/AE71*AE72 -> 8.0997474 | AH75: €/mois/m² SH
AC76: Montant loyer plafond applicable aux logements : | AG76: =LP_LLS -> 6.7490177 | AH76: €/mois/m² SF
A77: TYPE DE FINANCEMENT | D77: =type_lg_LLS -> LLS | E77: Crédit d'impôt 244 quater X CGI
L78: Le | M78: =TODAY() -> 43403 | AC78: Loyer d'équilibre : | AF78: =AF79/AE71*AE72 -> 0 | AG78: €/mois/m² SH
A79: ADRESSE | D79: =adresse_LLS -> 0 | AC79: Loyer d'équilibre : | AG79: €/mois/m² SF
L80: Le directeur Général
A81: LOCALISATION | AC81: Loyer de sortie prévisionnelle : | AF81: =AG75 -> 8.0997474 | AG81: €/mois/m² SH
AC82: Modalité de calcul : | AF82: =AG76 -> 6.7490177 | AG82: ="€ × ("&AE72&" m² SF/"& AE71&" m² SH)" -> € × (2623,5 m² SF/2186 m² SH)
A83: SURFACE DU TERRAIN | D83: =S_terrain -> 0 | E83: m²
AC84: Loyer de sortie prévisionnelle : | AF84: =AG76 -> 6.7490177 | AG84: €/mois/m² SF
A85: SURFACE PLANCHER | D85: =Bdgt!Q4 -> 0 | E85: m² | L85: =directeur_g -> Patrick CORRE | AC85: Modalité de calcul : | AF85: =AG75 -> 8.0997474 | AG85: ="€ × ("&AE71&" m² SH/ "&AE72&" m² SF)" -> € × (2186 m² SH/ 2623,5 m² SF)
A87: TYPOLOGIE
B89: T1 bis +V
B90: T2 +V
B91: T3 +V
B92: T4 +V
B93: T5 +V
A95: PARKINGS
A97: ="-"&parking_a_LLS&" places de parkings aériennes" -> - places de parkings aériennes
A98: ="-"&parking_c_LLS&" places de parkings couvertes." -> - places de parkings couvertes.
AC99: 1.7 Montant des loyers
H101: 1.4 Calendrier prévisionnel des différentes étapes du projet | AC101: OPERATION : | AF101: =nom -> 0
H103: Opération : | I103: =nom -> 0 | AC103: NOMBRE DE LOGEMENTS : | AF103: =nombreLLTS -> 35
H105: Ouverture de chantier : | AC105: ADRESSE : | AE105: =adresse_LLTS -> 0
H107: Achèvement fondations :
...

Sheet 2
A21: 2.1 | B21: Compromis ou acte de vente précisant :
H22: 2.2 Clé de répartition du coût de revient du terrain d'assiette du projet utilisée, le cas échéant, pour déterminer le coût de revient de ce terrain affecté aux seuls logements Pour les bâtiments à usage mixte : clé de répartition des dépenses | O22: 2.3 Si mutation dans les 24 derniers mois précédant l'agrément : actes des cessions antérieures du terrain | V22: 2.4 Permis de construire, ou à défaut, récépissé de dépôt de la demande de permis de construire
B23: - l'origine de propriété
B24: - la date d'acquisition
B25: - le prix et le montant des frais notariés à exclure
B28: ou bail à construction ou bail emphytéotique ou tout document ayant valeur contractuelle justifiant la constitution, la nature et la durée des droits réels détenus par la structure de portage sur le terrain d'assiette des logements.
A62: 2.1 Compromis ou acte de vente valide du terrain d'assiette des logements valide à la date du dépôt du dossier à la DEAL et à la DGFiP (directions des finances publiques territoriales ou bureau des agréments et rescrits) précisant l'origine de propriété, la date d'acquisition, le prix, le montant des frais notariés à exclure, bail à construction ou bail emphytéotique | H62: 2.2 Clé de répartition du coût de revient du terrain d'assiette du projet utilisée, le cas échéant, pour déterminer le coût de revient de ce terrain affecté aux seuls logements Pour les bâtiments à usage mixte : clé de répartition des dépenses | O62: 2.3 Actes des cessions antérieures du terrain, si celui-ci a fait l'objet de plusieurs mutations intervenues dans un court délai précédant la demande d'agrément
A68: Si intervention EPFR + FRAFU
A69: Les terrains d'assiette de l'opération seront acquis auprès de l'EPFR et de particuliers (les Consorts Ruets) et font l'objet d'un aménagement dans le cadre du FRAFU.
H70: SANS OBJET
A71: Le dossier de financement FRAFU est en cours d'instruction, et se trouve en phase Programmation. | O71: SANS OBJET
H72: ="Dans le cadre de l'article 244 quater X du CGI, la SODEGIS initie un programme immobilier totalisant "&nombreLLS&" logements LLS dans le secteur social." -> Dans le cadre de l'article 244 quater X du CGI, la SODEGIS initie un programme immobilier totalisant 35 logements LLS dans le secteur social.
A73: La cession foncière résultante de ce montage, et calculée suivant les règles du FRAFU (115 € / m² de SHON pour les LLTS) est de : 122 015 € (pour 1061 m² de SHON).
H75: ="Cette pièce est sans objet dans le cadre de l'opération " & nom & ", qui est une opération de logement social à 100%." -> Cette pièce est sans objet dans le cadre de l'opération , qui est une opération de logement social à 100%.
A76: Vous trouverez en Annexe 2.1. ci apès la copie de la convention EPFR pour les parcelles AV 961 - 964 - 966 - 967 - 969 pour un montant de 169 325€ hors frais EPFR, et du compromis de vente avec les Epoux Ruets pour la parcelles AV 965 - 968 pour un montant de 125 000 €.
H77: OU
H78: ="Ainsi dans le cas de l'opération "&nom&", sur les postes à usage mixte (les montants à répartir entre les logements), la clé de répartition se fera à la surface habitable finançable. " -> Ainsi dans le cas de l'opération , sur les postes à usage mixte (les montants à répartir entre les logements), la clé de répartition se fera à la surface habitable finançable.
E81: Au Tampon, le | F81: =TODAY() -> 43403
H82: Surface logements LLS : | J82: =SF_LLS -> 2623.5 | K82: m²
E83: Le Directeur Général | H83: Surface logements LLTS : | J83: =SF_LLTS -> 2623.5 | K83: m²
H84: Surface logements Commerce : | K84: m²
H86: Nous ne prévoyons pas pour le commerce de réaliser les prestations des postes suivants:
A87: Si terrain hors FRAFU et hors EPFR | E87: =directeur_g -> Patrick CORRE | H87: ="- Revêtements de sols durs" -> - Revêtements de sols durs
H88: ="- Menuiseries intérieures" -> - Menuiseries intérieures
A89: Le terrain d’assiette de l’opération doit être acquis auprès de la Mairie du Tampon au prix global de 510 000 € (300 000 € pour la parcelle BX 873 et 210 000 € pour la parcelle BX 874). | H89: ="- Production eau chaude solaire" -> - Production eau chaude solaire
H90: ="- Peinture" -> - Peinture
H91: ="- Sols souples" -> - Sols souples
A92: La Mairie du Tampon devait délibérer à ce sujet lors du Conseil Municipal du 25 mars 2013.
H93: Au Tampon | I93: le | J93: =TODAY() -> 43403
A95: Aussi, vous trouverez en Annexe 2.1. : - Le projet correspondant de délibération de la Commune, - Le projet de compromis. | H95: Pour la SODEGIS
H98: Le Directeur Général
A99: Les autres pièces seront transmises ultérieurement.
A102: ou toute autre rédaction | H102: =directeur_g -> Patrick CORRE
H110: SANS OBJET
H112: ="Dans le cadre de l'article 244 quater X du CGI, la SODEGIS initie un programme immobilier totalisant "&nombreLLTS&" logements LLTS dans le secteur social." -> Dans le cadre de l'article 244 quater X du CGI, la SODEGIS initie un programme immobilier totalisant 35 logements LLTS dans le secteur social.
H115: ="Cette pièce est sans objet dans le cadre de l'opération " & nom & ", qui est une opération de logement social à 100%." -> Cette pièce est sans objet dans le cadre de l'opération , qui est une opération de logement social à 100%.
H117: OU
H118: ="Ainsi dans le cas de l'opération "&nom&", sur les postes à usage mixte (les montants à répartir entre les logements), la clé de répartition se fera à la surface habitable finançable. " -> Ainsi dans le cas de l'opération , sur les postes à usage mixte (les montants à répartir entre les logements), la clé de répartition se fera à la surface habitable finançable.
H122: Surface logements LLS : | J122: =SF_LLS -> 2623.5 | K122: m²
H123: Surface logements LLTS : | J123: =SF_LLTS -> 2623.5 | K123: m²
...

Sheet 3
A24: 3.1 Montant HT du coût total du projet et la TVA correspondante , et montant HT des postes selon décret 15/01/2010 | H24: 3.5 Justification des dépenses de viabilisation du terrain ou coût de la charge foncière | P24: 3.6 Tableau déterminant le montant de la base éligible du crédit d'impôt
A28: * Devis du maître d'œuvre accepté par l'OLS au titre des énergies renouvelables (arrêté du 29/10/2010)
A30: * Devis du maître d'œuvre accepté par l'OLS ou actes d'engagement ou marchés justifiant les dépenses éligibles et le calcul de la base éligible selon le décret du 15/01/2010
A56: 3.1
A62: Le montant HT du coût de revient du projet LLS est égal à | F62: =PA_SAS_HT_LLS -> #REF! | G62: et est détaillé
A63: dans le tableau ci-dessous
H64: 3.5 Justification des dépenses de viabilisation du terrain ou, le cas échéant, du coût de la charge foncière
D66: Au Tampon, le | F66: =TODAY() -> 43403
H67: Le calcul de la charge foncière se base d'une part sur le coût de la cession foncière (présentés ci-avant en 2.1) et d'autre part sur le montant des travaux de VRD, de concessionnaires (raccordement aux divers réseaux), des taxes et des frais divers (en l'occurrence l'étude de sol).
E68: Le Directeur Général
H72: Ainsi, pour cette opération, voici le détail de la charge foncière en € HT :
E74: =directeur_g -> Patrick CORRE
H75: Cession foncière LLS | K75: =#REF! -> #REF!
H76: VRD (y/c Espaces verts) | K76: =#REF! -> #REF!
H77: Géomètre | K77: =#REF! -> #REF!
H78: Etude de sol | K78: =#REF! -> #REF!
H79: Taxes d'urbanismes | K79: =#REF! -> #REF!
H80: Branchements | K80: =#REF! -> #REF!
K81: =SUM(K75:K80) -> #REF!
L89: Au Tampon, le | N89: =TODAY() -> 43403
L91: Le Directeur Général
L97: =directeur_g -> Patrick CORRE
A109: 3.1 Montant HT du coût total du projet et la TVA correspondante , et montant HT des postes selon décret 15/01/2010
A112: Le montant HT du coût de revient du projet LLTS est égal à | F112: =PA_SAS_HT_LLTS -> #REF! | G112: et est détaillé
A113: dans le tableau ci-dessous
E116: Au Tampon, le | F116: =TODAY() -> 43403
E118: Le Directeur Général
H119: 3.5 Justification des dépenses de viabilisation du terrain ou, le cas échéant, du coût de la charge foncière
H122: Le calcul de la charge foncière se base d'une part sur le coût de la cession foncière (présentés ci-avant en 2.1) et d'autre part sur le montant des travaux de VRD, de concessionnaires (raccordement aux divers réseaux), des taxes et des frais divers (en l'occurrence l'étude de sol).
E123: =directeur_g -> Patrick CORRE
H127: Ainsi, pour cette opération, voici le détail de la charge foncière en € HT :
H130: Cession foncière LLTS | K130: =#REF! -> #REF!
H131: VRD (y/c Espaces verts) | K131: =#REF! -> #REF!
H132: Géomètre | K132: =#REF! -> #REF!
H133: Etude de sol | K133: =#REF! -> #REF!
H134: Taxes d'urbanismes | K134: =#REF! -> #REF!
H135: Branchements | K135: =#REF! -> #REF!
K136: =SUM(K130:K135) -> #REF!
L139: Au Tampon, le | N139: =TODAY() -> 43403
L141: Le Directeur Général
...

Sheet 5
O24: 5.3 Décision d'octroi des subventions et des aides locales éventuelles | V24: 5.4 Lettre d'intention des établissements bancaires
A25: 5.1 Plan de financement détaillé | H25: 5.2 Note justificative du mandat SIEG et fichier de calcul de l'absence de surcompensation
O64: 5.3 Décision d'octroi des subventions et des aides locales éventuelles :
O65: Subvention de l'Etat pour la construction, subvention forfaitaire LLTS, subvention pour surcharge foncière, subvention pour aquisition foncière anticipée, subvention des collectivités locales, de l'ADEME, du 1% CAF, autres financements
O69: ="Dans le cadre de l'Opération "&nom&", SODEGIS sollicite une subvention de l'Etat LBU auprès de la DEAL, à hauteur de "&TEXT(Sub_LLS,"0 000,00")&" €." -> Dans le cadre de l'Opération , SODEGIS sollicite une subvention de l'Etat LBU auprès de la DEAL, à hauteur de 0 000,00 €.
O72: Aucune autre aide ne sera demandée sur ce programme
R76: Le Tampon | S76: Le | T76: =TODAY() -> 43403
S78: Le Directeur Général
S84: =directeur_g -> Patrick CORRE
O118: 5.3 Décision d'octroi des subventions et des aides locales éventuelles :
O119: Subvention de l'Etat pour la construction, subvention forfaitaire LLTS, subvention pour surcharge foncière, subvention pour aquisition foncière anticipée, subvention des collectivités locales, de l'ADEME, du 1% CAF, autres financements
O124: ="Dans le cadre de l'Opération "&nom&", SODEGIS sollicite une subvention de l'Etat LBU auprès de la DEAL, à hauteur de "&TEXT(Sub_LLTS,"0 000,00")&" €." -> Dans le cadre de l'Opération , SODEGIS sollicite une subvention de l'Etat LBU auprès de la DEAL, à hauteur de 0 000,00 €.
O127: Aucune autre aide ne sera demandée sur ce programme
S130: Le Tampon | T130: Le | U130: =TODAY() -> 43403
S132: Le Directeur Général
S138: =directeur_g -> Patrick CORRE
O180: ="- Attestation FRAFU -" -> - Attestation FRAFU -
O222: ="Objet : Opération "&nom -> Objet : Opération
O225: ="Je soussigné, Monsieur " & directeur_g & "," -> Je soussigné, Monsieur Patrick CORRE,
O227: Agissant en qualité de Directeur Général de la Société SODEGIS, Société d'Economie Mixte au capital de 9 014 400 € dont le siège social est situé à 7 rue Jean Couturier CS 40030, 97 831 LE TAMPON CEDEX, immatriculée au Registre du Commerce et des Sociétés de Saint-Pierre sous le numéro 380 177 170, rappelle que dans le cadre de l'article précité, la SODEGIS initie un programme immobilier totalisant
O232: =nombreLLS &" logements LLS dans le secteur social." -> 35 logements LLS dans le secteur social.
O235: ="A ce titre, cette opération à également fait l'objet d'une demande de subvention FRAFU à hateur de "&TEXT(FRAFU_LLS,"0 000,00")&" €, demande qui est en cours d'instruction et va connaître une issue favorable." -> #REF!
R240: Au Tampon | S240: =TODAY() -> 43403
R242: Pour la SODEGIS
R243: Le Directeur Général
R248: =directeur_g -> Patrick CORRE
O276: ="Objet : Opération "&nom -> Objet : Opération
O279: ="Je soussigné, Monsieur " & directeur_g & "," -> Je soussigné, Monsieur Patrick CORRE,
O281: Agissant en qualité de Directeur Général de la Société SODEGIS, Société d'Economie Mixte au capital de 9 014 400 € dont le siège social est situé à 7 rue Jean Couturier CS 40030, 97 831 LE TAMPON CEDEX, immatriculée au Registre du Commerce et des Sociétés de Saint-Pierre sous le numéro 380 177 170, rappelle que dans le cadre de l'article précité, la SODEGIS initie un programme immobilier totalisant
O286: =nombreLLTS &" logements LLTS dans le secteur social." -> 35 logements LLTS dans le secteur social.
O289: ="A ce titre, cette opération à également fait l'objet d'une demande de subvention FRAFU à hateur de "&TEXT(FRAFU_LLTS,"0 000,00")&" €, demande qui est en cours d'instruction et va connaître une issue favorable." -> #REF!
R292: Au Tampon | S292: =TODAY() -> 43403
R293: Pour la SODEGIS
R295: Le Directeur Général
R299: =directeur_g -> Patrick CORRE

Sheet 6
A25: 6. Montage juridique et financier
A61: 6. Si recours à une VEFA promoteur : contrat de réservation ou contrat de VEFA
A65: SANS OBJET - PAS DE VEFA
A119: ="Objet : Opération "&nom -> Objet : Opération
A122: ="Je soussigné, Monsieur " & directeur_g & "," -> Je soussigné, Monsieur Patrick CORRE,
A124: Agissant en qualité de Directeur Général de la Société SODEGIS, Société d'Economie Mixte au capital de 9 014 400 € dont le siège social est situé à 7 rue Jean Couturier CS 40030, 97 831 LE TAMPON CEDEX, immatriculée au Registre du Commerce et des Sociétés de Saint-Pierre sous le numéro 380 177 170, rappelle que dans le cadre de l'article précité, la SODEGIS
A128: ="initie un programme immobilier totalisant " & nombreLLS &" logements LLS dans le secteur social." -> initie un programme immobilier totalisant 35 logements LLS dans le secteur social.
A130: A ce titre, conformément à l'article 244 quater X du code général des impôts, la SODEGIS certifie qu'à l'occasion de la réalisation du programme de logements sociaux précité, n'a perçu ou ne recevra, directement ou indirectement, aucune rémunération, aucune remise, rabais ou ristourne de la part de ses fournisseurs et prestataires. Et que par ailleurs, ellle ne percevra aucune commission ou aucun frais autres que ceux figurant dans le dossier de demande d'agrément ne seront versés.
A137: Je reconnais par ailleurs être informé de ce que la présente attestation sera produite au Ministère du Budget, des Comptes Publics et de la Fonction Public dans le cadre de l'instruction de la demande d'éligibilité dudit investissement au dispositif fiscal visé à l'article 244 quater X du CGI.
E143: Au Tampon Le | F143: =TODAY() -> 43403
E145: Le Directeur Général
E151: =directeur_g -> Patrick CORRE
A173: ="Objet : Opération "&nom -> Objet : Opération
A176: ="Je soussigné, Monsieur " & directeur_g & "," -> Je soussigné, Monsieur Patrick CORRE,
A178: Agissant en qualité de Directeur Général de la Société SODEGIS, Société d'Economie Mixte au capital de 9 014 400 € dont le siège social est situé à 7 rue Jean Couturier CS 40030, 97 831 LE TAMPON CEDEX, immatriculée au Registre du Commerce et des Sociétés de Saint-Pierre sous le numéro 380 177 170, rappelle que dans le cadre de l'article précité, la SODEGIS
A182: ="initie un programme immobilier totalisant " & nombreLLTS &" logements LLTS dans le secteur social." -> initie un programme immobilier totalisant 35 logements LLTS dans le secteur social.
A184: A ce titre, conformément à l'article 244 quater X du code général des impôts, la SODEGIS certifie qu'à l'occasion de la réalisation du programme de logements sociaux précité, n'a perçu ou ne recevra, directement ou indirectement, aucune rémunération, aucune remise, rabais ou ristourne de la part de ses fournisseurs et prestataires. Et que par ailleurs, ellle ne percevra aucune commission ou aucun frais autres que ceux figurant dans le dossier de demande d'agrément ne seront versés.
A191: Je reconnais par ailleurs être informé de ce que la présente attestation sera produite au Ministère du Budget, des Comptes Publics et de la Fonction Public dans le cadre de l'instruction de la demande d'éligibilité dudit investissement au dispositif fiscal visé à l'article 244 quater X du CGI.
E196: Au Tampon Le | F196: =TODAY() -> 43403
E198: Le Directeur Général
E202: =directeur_g -> Patrick CORRE

Sheet 7
A20: 7 OLS | H20: 7 Le Promoteur
A21: a. dossier unique | H21: Statuts enregistrés
A22: b. engagement sur location | H22: Extrait K-bis
A23: c. engagement article R 372-5
A61: a. dossier unique
A63: Les pièces suivantes:
A65: a) Extrait K-bis,
A66: b) Statuts,
A67: c) résultats déclarés au cours des trois derniers exercices
A68: d) attestations fiscales et sociales
A69: e) Comptes de résultats prévisionnels
A71: ont déjà été transmises à vos services en date du …………………….. ( voir bordereau d'envoi ci-joint).
A116: ="Opération " &nom -> Opération
A120: Je soussigné, M. Patrick CORRE,
A124: Agissant en qualité de Directeur Général de la Société SODEGIS, m’engage à déposer les comptes annuels auprès du greffe du Tribunal de Commerce dès la clôture de l’exercice 2016, et ce sur toute la période de portage de l’opération.
A132: Pour faire valoir ce que de droit.
A134: Le Tampon | B134: Le | C134: =TODAY() -> 43403
A137: Pour la SODEGIS
A138: Le Directeur Général
A143: =directeur_g -> Patrick CORRE
A161: ENGAGEMENT SUR LA LOCATION
A166: ="Opération " &nom -> Opération
A169: ="Je soussigné, M." & directeur_g & "," -> Je soussigné, M.Patrick CORRE,
A172: Agissant en qualité de Directeur Général de la Société SODEGIS, société d'économie
A173: mixte au capital de 9 014 400 €, dont le siège social est situé à 7, rue Jean Couturier
A174: CS 40030 97 831 LE TAMPON CEDEX, immatriculée au RCS de Saint-Pierre sous
A175: le numéro 380 177 170, rappelle que dans le cadre de l'article précité, la SODEGIS initie
A176: =" un programme immobilier totalisant " & nombreLLS & " logements LLS dans le secteur social. " -> un programme immobilier totalisant 35 logements LLS dans le secteur social.
A179: A ce titre, conformément à l'article 244 quater X du CGI, la SODEGIS prend l’engagement de donner en location nue ou meublée les logements ci-dessous rappelés, au minimum pendant 5 ans à compter de leur date d’achèvement, à des personnes qui en feront leur habitation principale et dont les ressources n’excédent pas les plafonds fixés par décret à la date de la signature des baux, conformément à l’article précité.
A186: Je reconnais par ailleurs être informé de ce que la présente attestation sera produite au Ministère du Budget, des Comptes Publics et de la Fonction Publique dans le cadre de l’instruction de la demande d’éligibilité dudit investissement au dispositif fiscal visé à l’article 244 quater X du CGI.
A193: Le Tampon | B193: Le | C193: =TODAY() -> 43403
A196: Pour la SODEGIS
A197: Le Directeur Général
A202: =directeur_g -> Patrick CORRE
A211: ENGAGEMENTS DE L'ARTICLE R372-5 CCH
A215: ="Opération " &nom -> Opération
A218: ="Je soussigné, M." & directeur_g & "," -> Je soussigné, M.Patrick CORRE,
A221: Agissant en qualité de Directeur Général de la Société SODEGIS, société d'économie
A222: mixte au capital de 9 014 400 €, dont le siège social est situé à 7, rue Jean Couturier
A223: CS 40030 97 831 LE TAMPON CEDEX, immatriculée au RCS de Saint-Pierre sous
...

Sheet 8
A24: 8 Engagement des bénéficiaires directs et indirects de l'aide que puissent être vérifiées sur place les modalités de réalisation des investissements
A62: ="Objet : Opération "&nom&"" -> Objet : Opération
A65: ="Je soussigné, Monsieur " & directeur_g & "," -> Je soussigné, Monsieur Patrick CORRE,
A67: Agissant en qualité de Directeur Général de la Société SODEGIS, société d'économie
A68: mixte au capital de 9 014 400 €, dont le siège social est situé à 7, rue Jean Couturier
A69: CS 40030 97 831 LE TAMPON CEDEX, immatriculée au RCS de Saint-Pierre sous
A70: le numéro 380 177 170, rappelle que dans le cadre de l'article précité, la SODEGIS initie
A71: =" un programme immobilier totalisant " & nombreLLS & " logements LLS dans le secteur social. " -> un programme immobilier totalisant 35 logements LLS dans le secteur social.
A73: ="A ce titre, la SODEGIS s'engage à ce que puisse être vérifiées sur place les modalités de réalisation du programme de logements en secteur social dénommé "&nom&" " -> A ce titre, la SODEGIS s'engage à ce que puisse être vérifiées sur place les modalités de réalisation du programme de logements en secteur social dénommé
E79: Au Tampon | F79: =TODAY() -> 43403
E81: Pour la SODEGIS
E82: Le Directeur Général
E87: =directeur_g -> Patrick CORRE
A118: ="Objet : Opération "&nom&"" -> Objet : Opération
A121: ="Je soussigné, Monsieur " & directeur_g & "," -> Je soussigné, Monsieur Patrick CORRE,
A123: Agissant en qualité de Directeur Général de la Société SODEGIS, société d'économie
A124: mixte au capital de 9 014 400 €, dont le siège social est situé à 7, rue Jean Couturier
A125: CS 40030 97 831 LE TAMPON CEDEX, immatriculée au RCS de Saint-Pierre sous
A126: le numéro 380 177 170, rappelle que dans le cadre de l'article précité, la SODEGIS initie
A127: =" un programme immobilier totalisant " & nombreLLTS & " logements LLTS dans le secteur social. " -> un programme immobilier totalisant 35 logements LLTS dans le secteur social.
A129: ="A ce titre, la SODEGIS s'engage à ce que puisse être vérifiées sur place les modalités de réalisation du programme de logements en secteur social dénommé "&nom&" " -> A ce titre, la SODEGIS s'engage à ce que puisse être vérifiées sur place les modalités de réalisation du programme de logements en secteur social dénommé
E135: Au Tampon | F135: =TODAY() -> 43403
E137: Pour la SODEGIS
E138: Le Directeur Général
E143: =directeur_g -> Patrick CORRE

Sheet 9
A23: ="- Note motivée de l'OLS en cas de dépassement du prix de revient de référence (2 150 € TTC / m² SF en VEFA promoteur et 1 950 € TTC / m² SF en VEFA opérateur) -" -> - Note motivée de l'OLS en cas de dépassement du prix de revient de référence (2 150 € TTC / m² SF en VEFA promoteur et 1 950 € TTC / m² SF en VEFA opérateur) -
O24: ="- Attestation de non commencement des travaux ou autorisation de démarrage anticipé accompagnée de la DOC -" -> - Attestation de non commencement des travaux ou autorisation de démarrage anticipé accompagnée de la DOC -
H25: =" - Convention PLS ou PSLA le cas échéant - " -> - Convention PLS ou PSLA le cas échéant - | U25: ="- Tableau précisant le contingent préfectoral -" -> - Tableau précisant le contingent préfectoral - | AC25: ="- Attestation loi sur l'eau -" -> - Attestation loi sur l'eau -
U57: CONTINGENT PREFECTORAL
H59: CONVENTION PLS ou PSLA | Y59: version 2.00
H61: Sans objet. | U61: MAÎTRE D'OUVRAGE : | W61: SODEGIS
A62: NOTE JUSTIFICATIVE DE DEPASSEMENT DU PRIX DE REVIENT DE REFERENCE | U62: N° d'IDENTIFICATION : | AC62: ATTESTATION SUR LA SITUATION DU PROJET AU REGARD DES OBLIGATIONS LIEES A LA LOI SUR L’EAU
U63: OPÉRATION : | W63: =nom -> 0
V64: ADRESSE : | W64: =adresse_LLS -> 0
A65: ="Objet : Opération "&nom -> Objet : Opération | V65: COMMUNE : | W65: =Commune_LLS -> 0 | AC65: Objet : Opération | AE65: =nom -> 0
O66: OPERATION : | P66: =nom -> 0 | R66: TYPE DE FINANCEMENT : | T66: LLS | U66: N° de cette TRANCHE : | W66: 1
A67: ="Le prix de revient total est arrêté à "&TEXT(PRP_TTC_LLS,"0 000,00")&" € TTC, soit un prix moyen au m2 de surface finançable de "&ROUND(PRP_TTC_LLS/SF_LLS,0)&" € TTC." -> Le prix de revient total est arrêté à 204 608,84 € TTC, soit un prix moyen au m2 de surface finançable de 78 € TTC.
O68: NOMBRE DE LOGEMENT : | R68: =nombreLLS -> 35 | U68: 0.3 | AC68: =" Je soussigné, Monsieur " & directeur_g & "," -> Je soussigné, Monsieur Patrick CORRE,
W69: TOTAL de cette TRANCHE | X69: CONTINGENT PREFECTORAL
O70: ADRESSE : | P70: =adresse_LLS -> 0 | AC70: Agissant en qualité de Directeur Général de la Société SODEGIS, société d'économie
A71: Le prix de revient est supérieur au prix de revient de référence de fait des contraintes suivantes : | AC71: mixte au capital de 9 014 400 €, dont le siège social est situé à 7, rue Jean Couturier
V72: I | X72: =W72*U68 -> 0 | Y72: =X72+($Y$87-$X$87)*(X72=MAX($X$72:$X$86)) -> #REF! | AC72: CS 40030 97 831 LE TAMPON CEDEX, immatriculée au RCS de Saint-Pierre sous
A73: =" - logements individuels éparses impliquant une densité faible ( de l'ordre de 3 logements / ha) et des travaux coûteux : linéaire de façades important, toitures, ..." -> - logements individuels éparses impliquant une densité faible ( de l'ordre de 3 logements / ha) et des travaux coûteux : linéaire de façades important, toitures, ... | V73: I bis | W73: =T1_LLS -> #REF! | X73: =W73*$U$68 -> #REF! | Y73: =X73+($Y$87-$X$87)*(X73=MAX($W$72:$W$86)) -> #REF! | AC73: le numéro 380 177 170, rappelle que dans le cadre de l'article précité, la SODEGIS initie
O74: MAITRE D'OUVRAGE : | Q74: SODEGIS | V74: II | X74: =W74*$U$68 -> 0 | Y74: =X74+($Y$87-$X$87)*(X74=MAX($X$72:$X$86)) -> #REF! | AC74: =" un programme immobilier totalisant " & nombreLLS & " logements LLS dans le secteur social. " -> un programme immobilier totalisant 35 logements LLS dans le secteur social.
A75: =" - absence de réseau d'assainissement collectif à proximité du terrain nécessitant la réalisationd'un assainissement autonome, " -> - absence de réseau d'assainissement collectif à proximité du terrain nécessitant la réalisationd'un assainissement autonome, | V75: II + v | W75: =T2_LLS -> #REF! | X75: =W75*$U$68 -> #REF! | Y75: =X75+($Y$87-$X$87)*(X75=MAX($X$72:$X$86)) -> #REF!
O76: ATTESTATION DE NON COMMENCEMENT DE TRAVAUX | V76: III | X76: =W76*$U$68 -> 0 | Y76: =X76+($Y$87-$X$87)*(X76=MAX($X$72:$X$86)) -> #REF!
A77: =" - altitude + 600m imposant une isolation complète du logement (isolation murs et toiture, bardage, volets,…)." -> - altitude + 600m imposant une isolation complète du logement (isolation murs et toiture, bardage, volets,…). | V77: III + v | W77: =T3_LLS -> #REF! | X77: =W77*$U$68 -> #REF! | Y77: =X77+($Y$87-$X$87)*(X77=MAX($X$72:$X$86)) -> #REF! | AC77: Certifie par la présente que, suivant les dispositions du décret 93-743 du 29 mars 1993 relatif à la nomenclature des opérations soumises à autorisation ou à déclaration en application de l’article 10 de la loi n°92-3 du 3 janvier 1992 sur l’eau, modifié par le Décret n°2006-881 du 17 juillet 2006 et codifiées aux articles R214-1 du Code de l’Environnement, le présent projet :
V78: IV | X78: =W78*$U$68 -> 0 | Y78: =X78+($Y$87-$X$87)*(X78=MAX($X$72:$X$86)) -> #REF!
V79: IV + v | W79: =T4_LLS -> #REF! | X79: =W79*$U$68 -> #REF! | Y79: =X79+($Y$87-$X$87)*(X79=MAX($X$72:$X$86)) -> #REF!
O80: ="Je soussigné, " & directeur_g & " Directeur Général de la SODEGIS, certifie que les logements " -> Je soussigné, Patrick CORRE Directeur Général de la SODEGIS, certifie que les logements | V80: V | X80: =W80*$U$68 -> 0 | Y80: =X80+($Y$87-$X$87)*(X80=MAX($X$72:$X$86)) -> #REF!
E81: Au Tampon | F81: =TODAY() -> 43403 | O81: ="de l'opération susvisée n'ont fait, à la date du " -> de l'opération susvisée n'ont fait, à la date du | R81: =TODAY() -> 43403 | S81: , l'objet d'aucun commencement | V81: V + v | W81: =T5_LLS -> #REF! | X81: =W81*$U$68 -> #REF! | Y81: =X81+($Y$87-$X$87)*(X81=MAX($X$72:$X$86)) -> #REF!
O82: ="commencement de travaux et que ceux-ci ne débuteront qu'après l'obtention de la décision favorable de financement du représentant de l'Etat, en application de l'article R 372-6 (alinéa 2) du Code de la Construction et de l'Habitation." -> commencement de travaux et que ceux-ci ne débuteront qu'après l'obtention de la décision favorable de financement du représentant de l'Etat, en application de l'article R 372-6 (alinéa 2) du Code de la Construction et de l'Habitation. | V82: VI | X82: =W82*$U$68 -> 0 | Y82: =X82+($Y$87-$X$87)*(X82=MAX($X$72:$X$86)) -> #REF!
E83: Le Directeur Général | V83: VI + v | X83: =W83*$U$68 -> 0 | Y83: =X83+($Y$87-$X$87)*(X83=MAX($X$72:$X$86)) -> #REF! | AD83: n’est pas soumis à autorisation ou déclaration en application des articles L. 214-1 à L. 214-3 du code de l'environnement
V84: VII | X84: =W84*$U$68 -> 0 | Y84: =X84+($Y$87-$X$87)*(X84=MAX($X$72:$X$86)) -> #REF!
V85: VII + v | X85: =W85*$U$68 -> 0 | Y85: =X85+($Y$87-$X$87)*(X85=MAX($X$72:$X$86)) -> #REF! | AD85: est soumis à déclaration en application des articles L. 214-1 à L. 214-3 du code de l'environnement
V86: VIII | X86: =W86*$U$68 -> 0 | Y86: =X86+($Y$87-$X$87)*(X86=MAX($X$72:$X$86)) -> #REF!
O87: Attestation établie pour servir et valoir ce que de droit. | U87: TOTAL | W87: =SUM(W72:W86) -> #REF! | X87: =SUM(X72:X86) -> #REF! | Y87: =W87*U68 -> #REF! | AD87: est soumis à autorisation en application des articles L. 214-1 à L. 214-3 du code de l'environnement
E89: =directeur_g -> Patrick CORRE
R90: Au Tampon | S90: =TODAY() -> 43403 | AC90: Dans le cas où le projet est soumis à autorisation ou déclaration, je certifie que le stade d’avancement de la procédure est le suivant :
R92: Le Directeur Général
AD93: dossier de déclaration déposé
AD95: dossier d’autorisation déposé
AD97: retour du récépissé de déclaration
R99: =directeur_g -> Patrick CORRE | AD99: accord du Préfet | AH99: Au Tampon | AI99: =TODAY() -> 43403
AG101: Le Directeur Général
...

Sheet PRZA 
A1: LAVOIR - LA FONTAINE | F1: =nom -> 0 | G1: PRZA | I1: Budget prévisionnel à terminaison | Q1: Affectation | R1: LLS | S1: TVA prorata | U1: Affectation | V1: LLTS | W1: TVA prorata | Y1: Cession | Z1: AS | AA1: TVAS | AC1: Cession | AD1: VE | AE1: TVAN
F2: Nbre | G2: =R2+V2+Z2+AD2 -> 70 | K2: TVAO | L2: =0% -> 0 | Q2: Nbre | R2: ='Prgr. 2018'!NbreLLS -> 35 | U2: Nbre | V2: ='Prgr. 2018'!NbreLLTS -> 35 | Y2: Nbre | AC2: Nbre | AH2: Engagements | AK2: Droits constatés | AP2: Reste | AQ2: Reste
F3: SHON | G3: =R3+V3+Z3+AD3 -> 5247 | Q3: SP | R3: ='Prgr. 2018'!SF.LLS -> 2623.5 | U3: SP | V3: ='Prgr. 2018'!SF.LLTS -> 2623.5 | Y3: SP | AA3: S du lot | AC3: SHF
I5: F ou euro | J5: Francs | K5: TVAS | L5: 0.021 | M5: =1/1.021 -> 0.97943193 | V5: =780000/G3*V3 -> 390000 | W5: =780000-V5 -> 390000 | AH5: au | AK5: Situation au | AP5: à engager | AQ5: à réaliser
A6: CPT GNRL | C6: CPT | E6: Postes | F6: Etabli le: | G6: 42024 | H6: Fournisseur | I6: 0.15 | J6: =100000/655957 -> 0.15244902 | K6: TVAN | L6: 0.085 | M6: =1/1.085 -> 0.92165899 | N6: Ratios
C7: PDG | D7: PDP | E7: Lots | F7: Actualisé: | G7: 42024 | H7: NBL | I7: Cumul HT | K7: code | L7: TVA | M7: Cumul TTC | N7: m2/SHFUT | O7: équiv/log. | Q7: Cumul HT | R7: TVA | S7: Cumul TTC | U7: Cumul HT | V7: TVA | W7: Cumul TTC | Y7: Cumul HT | Z7: TVA | AA7: Cumul TTC | AC7: Cumul HT | AD7: TVA | AE7: Cumul TTC | AF7: Cr | AH7: Cumul HT | AK7: Cumul HT | AM7: TVA | AN7: Cumul TTC | AP7: HT | AQ7: HT
A8: 33 2 | B8: A1 | C8: 190 | F8: Terrain | I8: =I9+I13+I16+I20+I23+I26 -> 0 | L8: =L9+L13+L16+L20+L23+L26 -> 0 | M8: =M9+M13+M16+M20+M23+M26 -> 0 | N8: =N9+N13+N16+N20+N23+N26 -> 0 | O8: =O9+O13+O16+O20+O23+O26 -> 0 | Q8: =Q9+Q13+Q16+Q20+Q23+Q26 -> 0 | R8: =R9+R13+R16+R20+R23+R26 -> 0 | S8: =S9+S13+S16+S20+S23+S26 -> 0 | U8: =U9+U13+U16+U20+U23+U26 -> 0 | V8: =V9+V13+V16+V20+V23+V26 -> 0 | W8: =W9+W13+W16+W20+W23+W26 -> 0 | Y8: =Y9+Y13+Y16+Y20+Y23+Y26 -> 0 | Z8: =Z9+Z13+Z16+Z20+Z23+Z26 -> 0 | AA8: =AA9+AA13+AA16+AA20+AA23+AA26 -> 0 | AC8: =AC9+AC13+AC16+AC20+AC23+AC26 -> 0 | AD8: =AD9+AD13+AD16+AD20+AD23+AD26 -> 0 | AE8: =AE9+AE13+AE16+AE20+AE23+AE26 -> 0 | AF8: =AF9+AF13+AF16+AF20+AF23+AF26 -> 0 | AH8: =AH9+AH13+AH16+AH20+AH23+AH26 -> 0 | AK8: =AK9+AK13+AK16+AK20+AK23+AK26 -> 0 | AM8: =AM9+AM13+AM16+AM20+AM23+AM26 -> 0 | AN8: =AN9+AN13+AN16+AN20+AN23+AN26 -> 0 | AP8: =AP9+AP13+AP16+AP20+AP23+AP26 -> 0 | AQ8: =AQ9+AQ13+AQ16+AQ20+AQ23+AQ26 -> 0
A9: 33210 | B9: A11 | C9: 190 | F9: Prix d'achat ou valeur d'apport | I9: =SUM(I10:I10) -> 0 | L9: =SUM(L10:L10) -> 0 | M9: =SUM(M10:M10) -> 0 | N9: =SUM(N10:N10) -> 0 | O9: =SUM(O10:O10) -> 0 | Q9: =SUM(Q10:Q10) -> 0 | R9: =SUM(R10:R10) -> 0 | S9: =SUM(S10:S10) -> 0 | U9: =SUM(U10:U10) -> 0 | V9: =SUM(V10:V10) -> 0 | W9: =SUM(W10:W10) -> 0 | Y9: =SUM(Y10:Y10) -> 0 | Z9: =SUM(Z10:Z10) -> 0 | AA9: =SUM(AA10:AA10) -> 0 | AC9: =SUM(AC10:AC10) -> 0 | AD9: =SUM(AD10:AD10) -> 0 | AE9: =SUM(AE10:AE10) -> 0 | AF9: =SUM(AF10:AF10) -> 0 | AH9: =SUM(AH10:AH10) -> 0 | AK9: =SUM(AK10:AK10) -> 0 | AM9: =SUM(AM10:AM10) -> 0 | AN9: =SUM(AN10:AN10) -> 0 | AP9: =SUM(AP10:AP10) -> 0 | AQ9: =SUM(AQ10:AQ10) -> 0
A10: 33210 | C10: 190 | D10: 111 | E10: 111 | F10: Prix d'achat - logement social | G10: (cession) | H10: Total | I10: ='FRAFU AVS + LESG'!M12 -> 0 | J10: 0 | K10: =TVAS -> 0.021 | L10: =I10*K10 -> 0 | M10: =I10+L10 -> 0 | N10: =I10/$G$3 -> 0 | O10: =I10/$G$2 -> 0 | Q10: =N10*$R$3 -> 0 | R10: =Q10*$K10 -> 0 | S10: =Q10+R10 -> 0 | U10: =$V$3*N10 -> 0 | V10: =U10*$K10 -> 0 | W10: =U10+V10 -> 0 | Y10: =$Z$3*I10 -> 0 | Z10: =Y10*$K10 -> 0 | AA10: =Y10+Z10 -> 0 | AC10: =AD3*722030.35/11003 -> 0 | AD10: =L10/G3*AD3 -> 0 | AE10: =AC10+AD10 -> 0 | AF10: =M10-(S10+W10+AA10+AE10) -> 0 | AH10: 0 | AI10: 0 | AL10: 0 | AM10: =AK10*$K10 -> 0 | AN10: =AK10+AM10 -> 0 | AP10: =I10-AH10 -> 0 | AQ10: =I10-AK10 -> 0
AF11: =M11-(S11+W11+AA11+AE11) -> 0
AF12: =M12-(S12+W12+AA12+AE12) -> 0
A13: 33220 | B13: A12 | C13: 190 | F13: Frais d'actes | I13: =SUM(I14:I15) -> 0 | L13: =SUM(L14:L15) -> 0 | M13: =SUM(M14:M15) -> 0 | N13: =SUM(N14:N15) -> 0 | O13: =SUM(O14:O15) -> 0 | Q13: =SUM(Q14:Q15) -> 0 | R13: =SUM(R14:R15) -> 0 | S13: =SUM(S14:S15) -> 0 | U13: =SUM(U14:U15) -> 0 | V13: =SUM(V14:V15) -> 0 | W13: =SUM(W14:W15) -> 0 | Y13: =SUM(Y14:Y15) -> 0 | Z13: =SUM(Z14:Z15) -> 0 | AA13: =SUM(AA14:AA15) -> 0 | AC13: =SUM(AC14:AC15) -> 0 | AD13: =SUM(AD14:AD15) -> 0 | AE13: =SUM(AE14:AE15) -> 0 | AF13: =SUM(AF14:AF15) -> 0 | AH13: =SUM(AH14:AH15) -> 0 | AK13: =SUM(AK14:AK15) -> 0 | AM13: =SUM(AM14:AM15) -> 0 | AN13: =SUM(AN14:AN15) -> 0 | AP13: =SUM(AP14:AP15) -> 0 | AQ13: =SUM(AQ14:AQ15) -> 0
A14: 33220 | C14: 190 | D14: 121 | E14: 121 | F14: Honoraires notaire | H14: 0.02 | I14: =H14*I10 -> 0 | K14: =TVAN -> 0.085 | L14: =I14*K14 -> 0 | M14: =I14+L14 -> 0 | N14: =I14/$G$3 -> 0 | O14: =I14/$G$2 -> 0 | Q14: =N14*$R$3 -> 0 | R14: =Q14*$K14 -> 0 | S14: =Q14+R14 -> 0 | U14: =$V$3*N14 -> 0 | V14: =U14*$K14 -> 0 | W14: =U14+V14 -> 0 | Y14: =$Z$3*I14 -> 0 | Z14: =Y14*$K14 -> 0 | AA14: =Y14+Z14 -> 0 | AC14: =$AD$3*N14 -> 0 | AD14: =AC14*$K14 -> 0 | AE14: =AC14+AD14 -> 0 | AF14: =M14-(S14+W14+AA14+AE14) -> 0 | AM14: =AK14*$K14 -> 0 | AN14: =AK14+AM14 -> 0 | AP14: =I14-AH14 -> 0 | AQ14: =I14-AK14 -> 0
A15: 33220 | C15: 190 | D15: 122 | E15: 122 | F15: Honoraires commercialisation et intermédiaires | I15: 0 | J15: 0 | K15: =TVAN -> 0.085 | L15: =I15*K15 -> 0 | M15: =I15+L15 -> 0 | N15: =I15/$G$3 -> 0 | O15: =I15/$G$2 -> 0 | Q15: =N15*$R$3 -> 0 | R15: =Q15*$K15 -> 0 | S15: =Q15+R15 -> 0 | U15: =$V$3*N15 -> 0 | V15: =U15*$K15 -> 0 | W15: =U15+V15 -> 0 | Y15: =$Z$3*I15 -> 0 | Z15: =Y15*$K15 -> 0 | AA15: =Y15+Z15 -> 0 | AC15: =$AD$3*N15 -> 0 | AD15: =AC15*$K15 -> 0 | AE15: =AC15+AD15 -> 0 | AF15: =M15-(S15+W15+AA15+AE15) -> 0 | AI15: 0 | AL15: 0 | AM15: =AK15*$K15 -> 0 | AN15: =AK15+AM15 -> 0 | AP15: =I15-AH15 -> 0 | AQ15: =I15-AK15 -> 0
A16: 33230 | B16: A13 | C16: 190 | D16: 130 | F16: Autres frais d'acquisition | I16: =SUM(I17:I19) -> 0 | L16: =SUM(L17:L19) -> 0 | M16: =SUM(M17:M19) -> 0 | N16: =SUM(N17:N19) -> 0 | O16: =SUM(O17:O19) -> 0 | Q16: =SUM(Q17:Q19) -> 0 | R16: =SUM(R17:R19) -> 0 | S16: =SUM(S17:S19) -> 0 | U16: =SUM(U17:U19) -> 0 | V16: =SUM(V17:V19) -> 0 | W16: =SUM(W17:W19) -> 0 | Y16: =SUM(Y17:Y19) -> 0 | Z16: =SUM(Z17:Z19) -> 0 | AA16: =SUM(AA17:AA19) -> 0 | AC16: =SUM(AC17:AC19) -> 0 | AD16: =SUM(AD17:AD19) -> 0 | AE16: =SUM(AE17:AE19) -> 0 | AF16: =SUM(AF17:AF19) -> 0 | AH16: =SUM(AH17:AH19) -> 0 | AK16: =SUM(AK17:AK19) -> 0 | AM16: =SUM(AM17:AM19) -> 0 | AN16: =SUM(AN17:AN19) -> 0 | AP16: =SUM(AP17:AP19) -> 0 | AQ16: =SUM(AQ17:AQ19) -> 0
A17: 33230 | C17: 190 | E17: 131 | F17: Indemnités d'éviction et diverses | J17: 0 | K17: =TVA0 -> 0 | L17: =I17*K17 -> 0 | M17: =I17+L17 -> 0 | N17: =I17/$G$3 -> 0 | O17: =I17/$G$2 -> 0 | Q17: =N17*$R$3 -> 0 | R17: =Q17*$K17 -> 0 | S17: =Q17+R17 -> 0 | U17: =$V$3*N17 -> 0 | V17: =U17*$K17 -> 0 | W17: =U17+V17 -> 0 | Y17: =$Z$3*I17 -> 0 | Z17: =Y17*$K17 -> 0 | AA17: =Y17+Z17 -> 0 | AC17: =$AD$3*N17 -> 0 | AD17: =AC17*$K17 -> 0 | AE17: =AC17+AD17 -> 0 | AF17: =M17-(S17+W17+AA17+AE17) -> 0 | AH17: 0 | AK17: 0 | AM17: =AK17*$K17 -> 0 | AN17: =AK17+AM17 -> 0 | AP17: =I17-AH17 -> 0 | AQ17: =I17-AK17 -> 0
A18: 33230 | C18: 190 | E18: 132 | F18: Frais de procèdure et enquêtes parcellaires | K18: =TVAN -> 0.085 | L18: =I18*K18 -> 0 | M18: =I18+L18 -> 0 | N18: =I18/$G$3 -> 0 | O18: =I18/$G$2 -> 0 | Q18: =N18*$R$3 -> 0 | R18: =Q18*$K18 -> 0 | S18: =Q18+R18 -> 0 | U18: =$V$3*N18 -> 0 | V18: =U18*$K18 -> 0 | W18: =U18+V18 -> 0 | Y18: =$Z$3*I18 -> 0 | Z18: =Y18*$K18 -> 0 | AA18: =Y18+Z18 -> 0 | AC18: =$AD$3*N18 -> 0 | AD18: =AC18*$K18 -> 0 | AE18: =AC18+AD18 -> 0 | AF18: =M18-(S18+W18+AA18+AE18) -> 0 | AH18: 0 | AI18: 0 | AK18: 0 | AL18: 0 | AM18: =AK18*$K18 -> 0 | AN18: =AK18+AM18 -> 0 | AP18: =I18-AH18 -> 0 | AQ18: =I18-AK18 -> 0
A19: 33230 | C19: 190 | E19: 138 | F19: Divers | K19: =TVAN -> 0.085 | L19: =I19*K19 -> 0 | M19: =I19+L19 -> 0 | N19: =I19/$G$3 -> 0 | O19: =I19/$G$2 -> 0 | Q19: =N19*$R$3 -> 0 | R19: =Q19*$K19 -> 0 | S19: =Q19+R19 -> 0 | U19: =$V$3*N19 -> 0 | V19: =U19*$K19 -> 0 | W19: =U19+V19 -> 0 | Y19: =$Z$3*I19 -> 0 | Z19: =Y19*$K19 -> 0 | AA19: =Y19+Z19 -> 0 | AC19: =$AD$3*N19 -> 0 | AD19: =AC19*$K19 -> 0 | AE19: =AC19+AD19 -> 0 | AF19: =M19-(S19+W19+AA19+AE19) -> 0 | AH19: 0 | AK19: 0 | AM19: =AK19*$K19 -> 0 | AN19: =AK19+AM19 -> 0 | AP19: =I19-AH19 -> 0 | AQ19: =I19-AK19 -> 0
A20: 33240 | B20: A14 | C20: 190 | F20: Autres frais sur terrain | I20: =SUM(I21:I22) -> 0 | L20: =SUM(L21:L22) -> 0 | M20: =SUM(M21:M22) -> 0 | N20: =SUM(N21:N22) -> 0 | O20: =SUM(O21:O22) -> 0 | Q20: =SUM(Q21:Q22) -> 0 | R20: =SUM(R21:R22) -> 0 | S20: =SUM(S21:S22) -> 0 | U20: =SUM(U21:U22) -> 0 | V20: =SUM(V21:V22) -> 0 | W20: =SUM(W21:W22) -> 0 | Y20: =SUM(Y21:Y22) -> 0 | Z20: =SUM(Z21:Z22) -> 0 | AA20: =SUM(AA21:AA22) -> 0 | AC20: =SUM(AC21:AC22) -> 0 | AD20: =SUM(AD21:AD22) -> 0 | AE20: =SUM(AE21:AE22) -> 0 | AF20: =SUM(AF21:AF22) -> 0 | AH20: =SUM(AH21:AH22) -> 0 | AK20: =SUM(AK21:AK22) -> 0 | AM20: =SUM(AM21:AM22) -> 0 | AN20: =SUM(AN21:AN22) -> 0 | AP20: =SUM(AP21:AP22) -> 0 | AQ20: =SUM(AQ21:AQ22) -> 0
A21: 33240 | C21: 190 | D21: 141 | E21: 141 | F21: Frais commercialisation | K21: =TVAN -> 0.085 | L21: =I21*K21 -> 0 | M21: =I21+L21 -> 0 | N21: =I21/$G$3 -> 0 | O21: =I21/$G$2 -> 0 | Q21: =N21*$R$3 -> 0 | R21: =Q21*$K21 -> 0 | S21: =Q21+R21 -> 0 | U21: =$V$3*N21 -> 0 | V21: =U21*$K21 -> 0 | W21: =U21+V21 -> 0 | Y21: =$Z$3*I21 -> 0 | Z21: =Y21*$K21 -> 0 | AA21: =Y21+Z21 -> 0 | AC21: =$AD$3*N21 -> 0 | AD21: =AC21*$K21 -> 0 | AE21: =AC21+AD21 -> 0 | AF21: =M21-(S21+W21+AA21+AE21) -> 0 | AM21: =AK21*$K21 -> 0 | AN21: =AK21+AM21 -> 0 | AP21: =I21-AH21 -> 0 | AQ21: =I21-AK21 -> 0
A22: 33240 | C22: 190 | D22: 142 | E22: 142 | F22: Géomètre (topo, bornage...) | J22: 0 | K22: =TVAN -> 0.085 | L22: =I22*K22 -> 0 | M22: =I22+L22 -> 0 | N22: =I22/$G$3 -> 0 | O22: =I22/$G$2 -> 0 | Q22: =N22*$R$3 -> 0 | R22: =Q22*$K22 -> 0 | S22: =Q22+R22 -> 0 | U22: =$V$3*N22 -> 0 | V22: =U22*$K22 -> 0 | W22: =U22+V22 -> 0 | Y22: =$Z$3*I22 -> 0 | Z22: =Y22*$K22 -> 0 | AA22: =Y22+Z22 -> 0 | AC22: =$AD$3*N22 -> 0 | AD22: =AC22*$K22 -> 0 | AE22: =AC22+AD22 -> 0 | AH22: 0 | AI22: 0 | AL22: 0 | AM22: =AK22*$K22 -> 0 | AN22: =AK22+AM22 -> 0 | AP22: =I22-AH22 -> 0 | AQ22: =I22-AK22 -> 0
A23: 33250 | B23: A15 | C23: 190 | F23: Taxes et redevances | I23: =SUM(I24:I24) -> 0 | L23: =SUM(L24:L24) -> 0 | M23: =SUM(M24:M24) -> 0 | N23: =SUM(N24:N24) -> 0 | O23: =SUM(O24:O24) -> 0 | Q23: =SUM(Q24:Q24) -> 0 | R23: =SUM(R24:R24) -> 0 | S23: =SUM(S24:S24) -> 0 | U23: =SUM(U24:U24) -> 0 | V23: =SUM(V24:V24) -> 0 | W23: =SUM(W24:W24) -> 0 | Y23: =SUM(Y24:Y24) -> 0 | Z23: =SUM(Z24:Z24) -> 0 | AA23: =SUM(AA24:AA24) -> 0 | AC23: =SUM(AC24:AC24) -> 0 | AD23: =SUM(AD24:AD24) -> 0 | AE23: =SUM(AE24:AE24) -> 0 | AF23: =SUM(AF24:AF24) -> 0 | AH23: =SUM(AH24:AH24) -> 0 | AK23: =SUM(AK24:AK24) -> 0 | AM23: =SUM(AM24:AM24) -> 0 | AN23: =SUM(AN24:AN24) -> 0 | AP23: =SUM(AP24:AP24) -> 0 | AQ23: =SUM(AQ24:AQ24) -> 0
A24: 33250 | C24: 190 | D24: 158 | E24: 158 | F24: Autres taxes: FNB… | G24: 2005 et 2006 | J24: 0 | K24: =TVA0 -> 0 | L24: =I24*K24 -> 0 | M24: =I24+L24 -> 0 | N24: =I24/$G$3 -> 0 | O24: =I24/$G$2 -> 0 | Q24: =N24*$R$3 -> 0 | R24: =Q24*$K24 -> 0 | S24: =Q24+R24 -> 0 | U24: =$V$3*N24 -> 0 | V24: =U24*$K24 -> 0 | W24: =U24+V24 -> 0 | Y24: =$Z$3*I24 -> 0 | Z24: =Y24*$K24 -> 0 | AA24: =Y24+Z24 -> 0 | AC24: =$AD$3*N24 -> 0 | AD24: =AC24*$K24 -> 0 | AE24: =AC24+AD24 -> 0 | AF24: =M24-(S24+W24+AA24+AE24) -> 0 | AL24: 0 | AM24: =AK24*$K24 -> 0 | AN24: =AK24+AM24 -> 0 | AP24: =I24-AH24 -> 0 | AQ24: =I24-AK24 -> 0
A26: 33280 | B26: A18 | C26: 190 | D26: 180 | E26: 180 | F26: Divers (sur terrain) | J26: 0 | K26: =TVAN -> 0.085 | L26: =I26*K26 -> 0 | M26: =I26+L26 -> 0 | N26: =I26/$G$3 -> 0 | O26: =I26/$G$2 -> 0 | Q26: =N26*$R$3 -> 0 | R26: =Q26*$K26 -> 0 | S26: =Q26+R26 -> 0 | U26: =$V$3*N26 -> 0 | V26: =U26*$K26 -> 0 | W26: =U26+V26 -> 0 | Y26: =$Z$3*I26 -> 0 | Z26: =Y26*$K26 -> 0 | AA26: =Y26+Z26 -> 0 | AC26: =$AD$3*N26 -> 0 | AD26: =AC26*$K26 -> 0 | AE26: =AC26+AD26 -> 0 | AF26: =M26-(S26+W26+AA26+AE26) -> 0 | AH26: 0 | AK26: 0 | AL26: 0 | AM26: =AK26*$K26 -> 0 | AN26: =AK26+AM26 -> 0 | AP26: =I26-AH26 -> 0 | AQ26: =I26-AK26 -> 0
A28: 33 4 | B28: A2 | C28: 290 | F28: VRD-Aménagements | I28: =I30+I33+I41+I44+I47+I52+I55+I59 -> 0 | L28: =L30+L33+L41+L44+L47+L52+L55+L59 -> 0 | M28: =M30+M33+M41+M44+M47+M52+M55+M59 -> 0 | N28: =N30+N33+N41+N44+N47+N52+N55+N59 -> 0 | O28: =O30+O33+O41+O44+O47+O52+O55+O59 -> 0 | Q28: =Q30+Q33+Q41+Q44+Q47+Q52+Q55+Q59 -> 0 | R28: =R30+R33+R41+R44+R47+R52+R55+R59 -> 0 | S28: =S30+S33+S41+S44+S47+S52+S55+S59 -> 0 | U28: =U30+U33+U41+U44+U47+U52+U55+U59 -> 0 | V28: =V30+V33+V41+V44+V47+V52+V55+V59 -> 0 | W28: =W30+W33+W41+W44+W47+W52+W55+W59 -> 0 | Y28: =Y30+Y33+Y41+Y44+Y47+Y52+Y55+Y59 -> 0 | Z28: =Z30+Z33+Z41+Z44+Z47+Z52+Z55+Z59 -> 0 | AA28: =AA30+AA33+AA41+AA44+AA47+AA52+AA55+AA59 -> 0 | AC28: =AC30+AC33+AC41+AC44+AC47+AC52+AC55+AC59 -> 0 | AD28: =AD30+AD33+AD41+AD44+AD47+AD52+AD55+AD59 -> 0 | AE28: =AE30+AE33+AE41+AE44+AE47+AE52+AE55+AE59 -> 0 | AF28: =AF30+AF33+AF41+AF44+AF47+AF52+AF55+AF59 -> 0 | AH28: =AH30+AH33+AH41+AH44+AH47+AH52+AH55 -> 0 | AK28: =AK30+AK33+AK41+AK44+AK47+AK52+AK55+AK59 -> 0 | AM28: =AM30+AM33+AM41+AM44+AM47+AM52+AM55 -> 0 | AN28: =AN30+AN33+AN41+AN44+AN47+AN52+AN55 -> 0 | AP28: =AP30+AP33+AP41+AP44+AP47+AP52+AP55 -> 0 | AQ28: =AQ30+AQ33+AQ41+AQ44+AQ47+AQ52+AQ55 -> 0
F29: Travaux FRAFU | I29: =I30+I33+I41+I44 -> 0
A30: 33410 | B30: A21 | C30: 290 | D30: 210 | F30: Voirie | I30: =SUM(I31:I32) -> 0 | L30: =SUM(L31:L32) -> 0 | M30: =SUM(M31:M32) -> 0 | N30: =SUM(N31:N32) -> 0 | O30: =SUM(O31:O32) -> 0 | Q30: =SUM(Q31:Q32) -> 0 | R30: =SUM(R31:R32) -> 0 | S30: =SUM(S31:S32) -> 0 | U30: =SUM(U31:U32) -> 0 | V30: =SUM(V31:V32) -> 0 | W30: =SUM(W31:W32) -> 0 | Y30: =SUM(Y31:Y32) -> 0 | Z30: =SUM(Z31:Z32) -> 0 | AA30: =SUM(AA31:AA32) -> 0 | AC30: =SUM(AC31:AC32) -> 0 | AD30: =SUM(AD31:AD32) -> 0 | AE30: =SUM(AE31:AE32) -> 0 | AF30: =SUM(AF31:AF32) -> 0 | AH30: =SUM(AH31:AH32) -> 0 | AK30: =SUM(AK31:AK32) -> 0 | AM30: =SUM(AM31:AM32) -> 0 | AN30: =SUM(AN31:AN32) -> 0 | AP30: =SUM(AP31:AP32) -> 0 | AQ30: =SUM(AQ31:AQ32) -> 0
A31: 33410 | C31: 290 | E31: 211 | F31: Préparation des terrains, défrichage,démolition, terrassements généraux | K31: =TVAN -> 0.085 | L31: =I31*K31 -> 0 | M31: =I31+L31 -> 0 | N31: =I31/$G$3 -> 0 | O31: =I31/$G$2 -> 0 | Q31: =N31*$R$3 -> 0 | R31: =Q31*$K31 -> 0 | S31: =Q31+R31 -> 0 | U31: =$V$3*N31 -> 0 | V31: =U31*$K31 -> 0 | W31: =U31+V31 -> 0 | Y31: =$Z$3*I31 -> 0 | Z31: =Y31*$K31 -> 0 | AA31: =Y31+Z31 -> 0 | AC31: =$AD$3*N31 -> 0 | AD31: =AC31*$K31 -> 0 | AE31: =AC31+AD31 -> 0 | AF31: =M31-(S31+W31+AA31+AE31) -> 0 | AM31: =AK31*$K31 -> 0 | AN31: =AK31+AM31 -> 0 | AP31: =I31-AH31 -> 0 | AQ31: =I31-AK31 -> 0
A32: 33410 | C32: 290 | E32: 212 | F32: Voiries | I32: =H30*G2 -> 0 | K32: =TVAN -> 0.085 | L32: =I32*K32 -> 0 | M32: =I32+L32 -> 0 | N32: =I32/$G$3 -> 0 | O32: =I32/$G$2 -> 0 | Q32: 0 | R32: =Q32*$K32 -> 0 | S32: =Q32+R32 -> 0 | U32: =$V$3*N32 -> 0 | V32: =U32*$K32 -> 0 | W32: =U32+V32 -> 0 | Y32: =$Z$3*I32 -> 0 | Z32: =Y32*$K32 -> 0 | AA32: =Y32+Z32 -> 0 | AC32: =$AD$3*N32 -> 0 | AD32: =AC32*$K32 -> 0 | AE32: =AC32+AD32 -> 0 | AF32: =M32-(S32+W32+AA32+AE32) -> 0 | AH32: 0 | AM32: =AK32*$K32 -> 0 | AN32: =AK32+AM32 -> 0 | AP32: =I32-AH32 -> 0 | AQ32: =I32-AK32 -> 0 | AT32: =AK32+AK59+AK31 -> 0
A33: 33420 | B33: A22 | C33: 290 | D33: 220 | F33: Réseaux divers | I33: =SUM(I34:I40) -> 0 | L33: =SUM(L34:L40) -> 0 | M33: =SUM(M34:M40) -> 0 | N33: =SUM(N34:N40) -> 0 | O33: =SUM(O34:O40) -> 0 | Q33: =SUM(Q34:Q40) -> 0 | R33: =SUM(R34:R40) -> 0 | S33: =SUM(S34:S40) -> 0 | U33: =SUM(U34:U40) -> 0 | V33: =SUM(V34:V40) -> 0 | W33: =SUM(W34:W40) -> 0 | Y33: =SUM(Y34:Y40) -> 0 | Z33: =SUM(Z34:Z40) -> 0 | AA33: =SUM(AA34:AA40) -> 0 | AC33: =SUM(AC34:AC40) -> 0 | AD33: =SUM(AD34:AD40) -> 0 | AE33: =SUM(AE34:AE40) -> 0 | AF33: =SUM(AF34:AF40) -> 0 | AH33: =SUM(AH34:AH40) -> 0 | AK33: =SUM(AK34:AK40) -> 0 | AM33: =SUM(AM34:AM40) -> 0 | AN33: =SUM(AN34:AN40) -> 0 | AP33: =SUM(AP34:AP40) -> 0 | AQ33: =SUM(AQ34:AQ40) -> 0
A34: 33420 | C34: 290 | E34: 221 | F34: Raccordement aux reseaux sous rue st Louis | K34: =TVAN -> 0.085 | L34: =I34*K34 -> 0 | M34: =I34+L34 -> 0 | N34: =I34/$G$3 -> 0 | O34: =I34/$G$2 -> 0 | Q34: =N34*$R$3 -> 0 | R34: =Q34*$K34 -> 0 | S34: =Q34+R34 -> 0 | U34: =$V$3*N34 -> 0 | V34: =U34*$K34 -> 0 | W34: =U34+V34 -> 0 | Y34: =$Z$3*I34 -> 0 | Z34: =Y34*$K34 -> 0 | AA34: =Y34+Z34 -> 0 | AC34: =$AD$3*N34 -> 0 | AD34: =AC34*$K34 -> 0 | AE34: =AC34+AD34 -> 0 | AF34: =M34-(S34+W34+AA34+AE34) -> 0 | AH34: 0 | AK34: 0 | AM34: =AK34*$K34 -> 0 | AN34: =AK34+AM34 -> 0 | AP34: =I34-AH34 -> 0 | AQ34: =I34-AK34 -> 0
A35: 33420 | C35: 290 | E35: 222 | F35: Réseau EP - EU - EV | G35: pluvial | J35: 0 | K35: =TVAN -> 0.085 | L35: =I35*K35 -> 0 | M35: =I35+L35 -> 0 | N35: =I35/$G$3 -> 0 | O35: =I35/$G$2 -> 0 | Q35: =N35*$R$3 -> 0 | R35: =Q35*$K35 -> 0 | S35: =Q35+R35 -> 0 | U35: =$V$3*N35 -> 0 | V35: =U35*$K35 -> 0 | W35: =U35+V35 -> 0 | Y35: =$Z$3*I35 -> 0 | Z35: =Y35*$K35 -> 0 | AA35: =Y35+Z35 -> 0 | AC35: =$AD$3*N35 -> 0 | AD35: =AC35*$K35 -> 0 | AE35: =AC35+AD35 -> 0 | AF35: =M35-(S35+W35+AA35+AE35) -> 0 | AH35: 0 | AI35: 0 | AK35: 0 | AL35: 0 | AM35: =AK35*$K35 -> 0 | AN35: =AK35+AM35 -> 0 | AP35: =I35-AH35 -> 0 | AQ35: =I35-AK35 -> 0
A36: 33420 | C36: 290 | E36: 223 | F36: Epuration/Refoulement/Fosses septiques | G36: eaux usées | K36: =TVAN -> 0.085 | L36: =I36*K36 -> 0 | M36: =I36+L36 -> 0 | N36: =I36/$G$3 -> 0 | O36: =I36/$G$2 -> 0 | Q36: =N36*$R$3 -> 0 | R36: =Q36*$K36 -> 0 | S36: =Q36+R36 -> 0 | U36: =$V$3*N36 -> 0 | V36: =U36*$K36 -> 0 | W36: =U36+V36 -> 0 | Y36: =$Z$3*I36 -> 0 | Z36: =Y36*$K36 -> 0 | AA36: =Y36+Z36 -> 0 | AC36: =$AD$3*N36 -> 0 | AD36: =AC36*$K36 -> 0 | AE36: =AC36+AD36 -> 0 | AF36: =M36-(S36+W36+AA36+AE36) -> 0 | AH36: 0 | AK36: 0 | AM36: =AK36*$K36 -> 0 | AN36: =AK36+AM36 -> 0 | AP36: =I36-AH36 -> 0 | AQ36: =I36-AK36 -> 0
A37: 33420 | C37: 290 | E37: 224 | F37: Eau Potable | G37: potable | K37: =TVAN -> 0.085 | L37: =I37*K37 -> 0 | M37: =I37+L37 -> 0 | N37: =I37/$G$3 -> 0 | O37: =I37/$G$2 -> 0 | Q37: =N37*$R$3 -> 0 | R37: =Q37*$K37 -> 0 | S37: =Q37+R37 -> 0 | U37: =$V$3*N37 -> 0 | V37: =U37*$K37 -> 0 | W37: =U37+V37 -> 0 | Y37: =$Z$3*I37 -> 0 | Z37: =Y37*$K37 -> 0 | AA37: =Y37+Z37 -> 0 | AC37: =$AD$3*N37 -> 0 | AD37: =AC37*$K37 -> 0 | AE37: =AC37+AD37 -> 0 | AF37: =M37-(S37+W37+AA37+AE37) -> 0 | AH37: 0 | AK37: 0 | AM37: =AK37*$K37 -> 0 | AN37: =AK37+AM37 -> 0 | AP37: =I37-AH37 -> 0 | AQ37: =I37-AK37 -> 0
A38: 33420 | C38: 290 | E38: 225 | F38: Eclairage Public/ BT | K38: =TVAN -> 0.085 | L38: =I38*K38 -> 0 | M38: =I38+L38 -> 0 | N38: =I38/$G$3 -> 0 | O38: =I38/$G$2 -> 0 | Q38: =N38*$R$3 -> 0 | R38: =Q38*$K38 -> 0 | S38: =Q38+R38 -> 0 | U38: =$V$3*N38 -> 0 | V38: =U38*$K38 -> 0 | W38: =U38+V38 -> 0 | Y38: =$Z$3*I38 -> 0 | Z38: =Y38*$K38 -> 0 | AA38: =Y38+Z38 -> 0 | AC38: =$AD$3*N38 -> 0 | AD38: =AC38*$K38 -> 0 | AE38: =AC38+AD38 -> 0 | AF38: =M38-(S38+W38+AA38+AE38) -> 0 | AM38: =AK38*$K38 -> 0 | AN38: =AK38+AM38 -> 0 | AP38: =I38-AH38 -> 0 | AQ38: =I38-AK38 -> 0
A39: 33420 | C39: 290 | E39: 226 | F39: Courants faibles / télécom-télévision | K39: =TVAN -> 0.085 | L39: =I39*K39 -> 0 | M39: =I39+L39 -> 0 | N39: =I39/$G$3 -> 0 | O39: =I39/$G$2 -> 0 | Q39: =N39*$R$3 -> 0 | R39: =Q39*$K39 -> 0 | S39: =Q39+R39 -> 0 | U39: =$V$3*N39 -> 0 | V39: =U39*$K39 -> 0 | W39: =U39+V39 -> 0 | Y39: =$Z$3*I39 -> 0 | Z39: =Y39*$K39 -> 0 | AA39: =Y39+Z39 -> 0 | AC39: =$AD$3*N39 -> 0 | AD39: =AC39*$K39 -> 0 | AE39: =AC39+AD39 -> 0 | AF39: =M39-(S39+W39+AA39+AE39) -> 0 | AH39: 0 | AK39: 0 | AM39: =AK39*$K39 -> 0 | AN39: =AK39+AM39 -> 0 | AP39: =I39-AH39 -> 0 | AQ39: =I39-AK39 -> 0
A40: 33420 | C40: 290 | E40: 228 | F40: Divers | G40: accé local poubelle | K40: =TVAN -> 0.085 | L40: =I40*K40 -> 0 | M40: =I40+L40 -> 0 | N40: =I40/$G$3 -> 0 | O40: =I40/$G$2 -> 0 | Q40: =N40*$R$3 -> 0 | R40: =Q40*$K40 -> 0 | S40: =Q40+R40 -> 0 | U40: =$V$3*N40 -> 0 | V40: =U40*$K40 -> 0 | W40: =U40+V40 -> 0 | Y40: =$Z$3*I40 -> 0 | Z40: =Y40*$K40 -> 0 | AA40: =Y40+Z40 -> 0 | AC40: =$AD$3*N40 -> 0 | AD40: =AC40*$K40 -> 0 | AE40: =AC40+AD40 -> 0 | AF40: =M40-(S40+W40+AA40+AE40) -> 0 | AH40: 0 | AK40: 0 | AM40: =AK40*$K40 -> 0 | AN40: =AK40+AM40 -> 0 | AP40: =I40-AH40 -> 0 | AQ40: =I40-AK40 -> 0
A41: 33430 | B41: A23 | C41: 290 | F41: Branchements (concessionnaires) | I41: =SUM(I42:I43) -> 0 | L41: =SUM(L42:L43) -> 0 | M41: =SUM(M42:M43) -> 0 | N41: =SUM(N42:N43) -> 0 | O41: =SUM(O42:O43) -> 0 | Q41: =SUM(Q42:Q43) -> 0 | R41: =SUM(R42:R43) -> 0 | S41: =SUM(S42:S43) -> 0 | U41: =SUM(U42:U43) -> 0 | V41: =SUM(V42:V43) -> 0 | W41: =SUM(W42:W43) -> 0 | Y41: =SUM(Y42:Y43) -> 0 | Z41: =SUM(Z42:Z43) -> 0 | AA41: =SUM(AA42:AA43) -> 0 | AC41: =SUM(AC42:AC43) -> 0 | AD41: =SUM(AD42:AD43) -> 0 | AE41: =SUM(AE42:AE43) -> 0 | AF41: =SUM(AF42:AF43) -> 0 | AH41: =SUM(AH42:AH43) -> 0 | AK41: =SUM(AK42:AK43) -> 0 | AM41: =SUM(AM42:AM43) -> 0 | AN41: =SUM(AN42:AN43) -> 0 | AP41: =SUM(AP42:AP43) -> 0 | AQ41: =SUM(AQ42:AQ43) -> 0
A42: 33430 | C42: 290 | D42: 231 | E42: 231 | F42: EDF-MT/BT | J42: 0 | K42: =TVAN -> 0.085 | L42: =I42*K42 -> 0 | M42: =I42+L42 -> 0 | N42: =I42/$G$3 -> 0 | O42: =I42/$G$2 -> 0 | Q42: =N42*$R$3 -> 0 | R42: =Q42*$K42 -> 0 | S42: =Q42+R42 -> 0 | U42: =$V$3*N42 -> 0 | V42: =U42*$K42 -> 0 | W42: =U42+V42 -> 0 | Y42: =$Z$3*I42 -> 0 | Z42: =Y42*$K42 -> 0 | AA42: =Y42+Z42 -> 0 | AC42: =$AD$3*N42 -> 0 | AD42: =AC42*$K42 -> 0 | AE42: =AC42+AD42 -> 0 | AF42: =M42-(S42+W42+AA42+AE42) -> 0 | AI42: 0 | AM42: =AK42*$K42 -> 0 | AN42: =AK42+AM42 -> 0 | AP42: =I42-AH42 -> 0 | AQ42: =I42-AK42 -> 0
A43: 33430 | C43: 290 | D43: 232 | E43: 232 | F43: Concessionnaire EAU | K43: =TVAN -> 0.085 | L43: =I43*K43 -> 0 | M43: =I43+L43 -> 0 | N43: =I43/$G$3 -> 0 | O43: =I43/$G$2 -> 0 | Q43: =N43*$R$3 -> 0 | R43: =Q43*$K43 -> 0 | S43: =Q43+R43 -> 0 | U43: =$V$3*N43 -> 0 | V43: =U43*$K43 -> 0 | W43: =U43+V43 -> 0 | Y43: =$Z$3*I43 -> 0 | Z43: =Y43*$K43 -> 0 | AA43: =Y43+Z43 -> 0 | AC43: =$AD$3*N43 -> 0 | AD43: =AC43*$K43 -> 0 | AE43: =AC43+AD43 -> 0 | AF43: =M43-(S43+W43+AA43+AE43) -> 0 | AL43: 0 | AM43: =AK43*$K43 -> 0 | AN43: =AK43+AM43 -> 0 | AP43: =I43-AH43 -> 0 | AQ43: =I43-AK43 -> 0
...

Sheet FRAFU AVS + LESG
B1: Modèle de bilan F R A F U " Aménagement à vocation sociale " consolidé, P r o t o c o l e Eau et Aménagement 2 0 1 2 – ANNEXE 14 C validée au CTEA du 14 juin 2013
B2: B I L A N F R A F U (global ou par tranche financière )
B4: Opération : | C4: =nom -> 0 | H4: sur la commune de :
B6: Localisation du projet pour calculer les plafonds
B7: Hauts, Dents creuses,Label Eco-quartier (20K€) | C7: x
B8: autres zones… (15K€)
H9: Détail du bilan à compléter OBLIGATOIREMENT
