Workbook

Sheet Données
A1: Objet | B1: Début | C1: Début2 | D1: Fin | E1: Fin3 | F1: Opération | G1: Catégorie | H1: AGENT | I1: TYPE | J1: Nombre heures | K1: MOIS
A2: Suite CAO - BOUGAINVILLIERS/ LA CURE 1 | B2: 43985 | C2: 0.54166667 | D2: 43985 | E2: 0.5625 | F2: A faire | G2: DIVERS | H2: MHO | I2: =MATCH(Tableau1[[#This Row],[AGENT]],Listes!A2:A8,Listes!A1) -> #REF! | J2: =Tableau1[[#This Row],[Fin3]]-Tableau1[[#This Row],[Début2]] -> 0.020833333 | K2: =IF(MONTH(B2)=1,"JANV",IF(MONTH(B2)=2,"FEV",IF(MONTH(B2)=3,"MARS",IF(MONTH(B2)=4,"AVR",IF(MONTH(B2)=5,"MAI",IF(MONTH(B2)=6,"JUIN",IF(MONTH(B2)=7,"JUILL",IF(MONTH(B2)=8,"AOU",IF(MONTH(B2)=9,"SEPT",IF(MONTH(B2)=10,"OCT",IF(MONTH(B2)=11,"NOV",IF(MONTH(B2)=12,"DEC","")))))))))))) -> JUIN
A3: AMATA : relancer Mairie (Attestation de non opposition à la conformité) | B3: 43986 | C3: 0.45833333 | D3: 43986 | E3: 0.45833333 | F3: A faire | G3: DIVERS | H3: MHO | I3: =MATCH(Tableau1[[#This Row],[AGENT]],Listes!A3:A9,Listes!A2) -> #REF! | J3: =Tableau1[[#This Row],[Fin3]]-Tableau1[[#This Row],[Début2]] -> 0 | K3: =IF(MONTH(B3)=1,"JANV",IF(MONTH(B3)=2,"FEV",IF(MONTH(B3)=3,"MARS",IF(MONTH(B3)=4,"AVR",IF(MONTH(B3)=5,"MAI",IF(MONTH(B3)=6,"JUIN",IF(MONTH(B3)=7,"JUILL",IF(MONTH(B3)=8,"AOU",IF(MONTH(B3)=9,"SEPT",IF(MONTH(B3)=10,"OCT",IF(MONTH(B3)=11,"NOV",IF(MONTH(B3)=12,"DEC","")))))))))))) -> JUIN
B4: 43984 | C4: 0.66666667 | D4: 43984 | E4: 0.70833333 | F4: ADJIBI | G4: ADMINISTRATIF | H4: TQU | I4: =MATCH(Tableau1[[#This Row],[AGENT]],Listes!A4:A10,Listes!A3) -> #REF! | J4: =Tableau1[[#This Row],[Fin3]]-Tableau1[[#This Row],[Début2]] -> 0.041666667 | K4: =IF(MONTH(B4)=1,"JANV",IF(MONTH(B4)=2,"FEV",IF(MONTH(B4)=3,"MARS",IF(MONTH(B4)=4,"AVR",IF(MONTH(B4)=5,"MAI",IF(MONTH(B4)=6,"JUIN",IF(MONTH(B4)=7,"JUILL",IF(MONTH(B4)=8,"AOU",IF(MONTH(B4)=9,"SEPT",IF(MONTH(B4)=10,"OCT",IF(MONTH(B4)=11,"NOV",IF(MONTH(B4)=12,"DEC","")))))))))))) -> JUIN
B5: 43986 | C5: 0.33333333 | D5: 43986 | E5: 0.375 | F5: ADJIBI | G5: ADMINISTRATIF | H5: TQU | I5: =MATCH(Tableau1[[#This Row],[AGENT]],Listes!A5:A11,Listes!A4) -> #REF! | J5: =Tableau1[[#This Row],[Fin3]]-Tableau1[[#This Row],[Début2]] -> 0.041666667 | K5: =IF(MONTH(B5)=1,"JANV",IF(MONTH(B5)=2,"FEV",IF(MONTH(B5)=3,"MARS",IF(MONTH(B5)=4,"AVR",IF(MONTH(B5)=5,"MAI",IF(MONTH(B5)=6,"JUIN",IF(MONTH(B5)=7,"JUILL",IF(MONTH(B5)=8,"AOU",IF(MONTH(B5)=9,"SEPT",IF(MONTH(B5)=10,"OCT",IF(MONTH(B5)=11,"NOV",IF(MONTH(B5)=12,"DEC","")))))))))))) -> JUIN
B6: 43986 | C6: 0.375 | D6: 43986 | E6: 0.4375 | F6: ADJIBI | G6: ADMINISTRATIF | H6: TQU | I6: =MATCH(Tableau1[[#This Row],[AGENT]],Listes!A6:A12,Listes!A5) -> #REF! | J6: =Tableau1[[#This Row],[Fin3]]-Tableau1[[#This Row],[Début2]] -> 0.0625 | K6: =IF(MONTH(B6)=1,"JANV",IF(MONTH(B6)=2,"FEV",IF(MONTH(B6)=3,"MARS",IF(MONTH(B6)=4,"AVR",IF(MONTH(B6)=5,"MAI",IF(MONTH(B6)=6,"JUIN",IF(MONTH(B6)=7,"JUILL",IF(MONTH(B6)=8,"AOU",IF(MONTH(B6)=9,"SEPT",IF(MONTH(B6)=10,"OCT",IF(MONTH(B6)=11,"NOV",IF(MONTH(B6)=12,"DEC","")))))))))))) -> JUIN
B7: 43986 | C7: 0.47916667 | D7: 43986 | E7: 0.5 | F7: ADJIBI | G7: ADMINISTRATIF | H7: TQU | I7: =MATCH(Tableau1[[#This Row],[AGENT]],Listes!A7:A13,Listes!A6) -> #REF! | J7: =Tableau1[[#This Row],[Fin3]]-Tableau1[[#This Row],[Début2]] -> 0.020833333 | K7: =IF(MONTH(B7)=1,"JANV",IF(MONTH(B7)=2,"FEV",IF(MONTH(B7)=3,"MARS",IF(MONTH(B7)=4,"AVR",IF(MONTH(B7)=5,"MAI",IF(MONTH(B7)=6,"JUIN",IF(MONTH(B7)=7,"JUILL",IF(MONTH(B7)=8,"AOU",IF(MONTH(B7)=9,"SEPT",IF(MONTH(B7)=10,"OCT",IF(MONTH(B7)=11,"NOV",IF(MONTH(B7)=12,"DEC","")))))))))))) -> JUIN
A8: réunion tableau de la vacance | B8: 43987 | C8: 0.33333333 | D8: 43987 | E8: 0.45833333 | F8: ADMINISTRATIF | H8: JER | I8: =MATCH(Tableau1[[#This Row],[AGENT]],Listes!A8:A14,Listes!A7) -> #REF! | J8: =Tableau1[[#This Row],[Fin3]]-Tableau1[[#This Row],[Début2]] -> 0.125 | K8: =IF(MONTH(B8)=1,"JANV",IF(MONTH(B8)=2,"FEV",IF(MONTH(B8)=3,"MARS",IF(MONTH(B8)=4,"AVR",IF(MONTH(B8)=5,"MAI",IF(MONTH(B8)=6,"JUIN",IF(MONTH(B8)=7,"JUILL",IF(MONTH(B8)=8,"AOU",IF(MONTH(B8)=9,"SEPT",IF(MONTH(B8)=10,"OCT",IF(MONTH(B8)=11,"NOV",IF(MONTH(B8)=12,"DEC","")))))))))))) -> JUIN
A9: Traitement courrier arrivé | B9: 43984 | C9: 0.41666667 | D9: 43984 | E9: 0.45833333 | F9: Adminitratif | H9: ECL | I9: =MATCH(Tableau1[[#This Row],[AGENT]],Listes!A9:A15,Listes!A8) -> #REF! | J9: =Tableau1[[#This Row],[Fin3]]-Tableau1[[#This Row],[Début2]] -> 0.041666667 | K9: =IF(MONTH(B9)=1,"JANV",IF(MONTH(B9)=2,"FEV",IF(MONTH(B9)=3,"MARS",IF(MONTH(B9)=4,"AVR",IF(MONTH(B9)=5,"MAI",IF(MONTH(B9)=6,"JUIN",IF(MONTH(B9)=7,"JUILL",IF(MONTH(B9)=8,"AOU",IF(MONTH(B9)=9,"SEPT",IF(MONTH(B9)=10,"OCT",IF(MONTH(B9)=11,"NOV",IF(MONTH(B9)=12,"DEC","")))))))))))) -> JUIN
A10: Courrier proposition VEFA parcelle BZ273 | B10: 43986 | C10: 0.41666667 | D10: 43986 | E10: 0.45833333 | F10: Adminitratif | H10: ECL | I10: =MATCH(Tableau1[[#This Row],[AGENT]],Listes!A10:A16,Listes!A9) -> #N/A | J10: =Tableau1[[#This Row],[Fin3]]-Tableau1[[#This Row],[Début2]] -> 0.041666667 | K10: =IF(MONTH(B10)=1,"JANV",IF(MONTH(B10)=2,"FEV",IF(MONTH(B10)=3,"MARS",IF(MONTH(B10)=4,"AVR",IF(MONTH(B10)=5,"MAI",IF(MONTH(B10)=6,"JUIN",IF(MONTH(B10)=7,"JUILL",IF(MONTH(B10)=8,"AOU",IF(MONTH(B10)=9,"SEPT",IF(MONTH(B10)=10,"OCT",IF(MONTH(B10)=11,"NOV",IF(MONTH(B10)=12,"DEC","")))))))))))) -> JUIN
A11: Affranchissement courrier | B11: 43987 | C11: 0.33333333 | D11: 43987 | E11: 0.35416667 | F11: Adminitratif | H11: ECL | I11: =MATCH(Tableau1[[#This Row],[AGENT]],Listes!A11:A17,Listes!A10) -> #N/A | J11: =Tableau1[[#This Row],[Fin3]]-Tableau1[[#This Row],[Début2]] -> 0.020833333 | K11: =IF(MONTH(B11)=1,"JANV",IF(MONTH(B11)=2,"FEV",IF(MONTH(B11)=3,"MARS",IF(MONTH(B11)=4,"AVR",IF(MONTH(B11)=5,"MAI",IF(MONTH(B11)=6,"JUIN",IF(MONTH(B11)=7,"JUILL",IF(MONTH(B11)=8,"AOU",IF(MONTH(B11)=9,"SEPT",IF(MONTH(B11)=10,"OCT",IF(MONTH(B11)=11,"NOV",IF(MONTH(B11)=12,"DEC","")))))))))))) -> JUIN
A12: AMATA | B12: 43984 | C12: 0.45833333 | D12: 43984 | E12: 0.5 | F12: AMATA | G12: ADMINISTRATIF | H12: MHO | I12: =MATCH(Tableau1[[#This Row],[AGENT]],Listes!A12:A18,Listes!A11) -> #N/A | J12: =Tableau1[[#This Row],[Fin3]]-Tableau1[[#This Row],[Début2]] -> 0.041666667 | K12: =IF(MONTH(B12)=1,"JANV",IF(MONTH(B12)=2,"FEV",IF(MONTH(B12)=3,"MARS",IF(MONTH(B12)=4,"AVR",IF(MONTH(B12)=5,"MAI",IF(MONTH(B12)=6,"JUIN",IF(MONTH(B12)=7,"JUILL",IF(MONTH(B12)=8,"AOU",IF(MONTH(B12)=9,"SEPT",IF(MONTH(B12)=10,"OCT",IF(MONTH(B12)=11,"NOV",IF(MONTH(B12)=12,"DEC","")))))))))))) -> JUIN
A13: AMATA - Point libération de RG | B13: 43984 | C13: 0.625 | D13: 43984 | E13: 0.66666667 | F13: AMATA | G13: ADMINISTRATIF | H13: MHO | I13: =MATCH(Tableau1[[#This Row],[AGENT]],Listes!A13:A19,Listes!A12) -> #N/A | J13: =Tableau1[[#This Row],[Fin3]]-Tableau1[[#This Row],[Début2]] -> 0.041666667 | K13: =IF(MONTH(B13)=1,"JANV",IF(MONTH(B13)=2,"FEV",IF(MONTH(B13)=3,"MARS",IF(MONTH(B13)=4,"AVR",IF(MONTH(B13)=5,"MAI",IF(MONTH(B13)=6,"JUIN",IF(MONTH(B13)=7,"JUILL",IF(MONTH(B13)=8,"AOU",IF(MONTH(B13)=9,"SEPT",IF(MONTH(B13)=10,"OCT",IF(MONTH(B13)=11,"NOV",IF(MONTH(B13)=12,"DEC","")))))))))))) -> JUIN
A14: AMATA | B14: 43985 | C14: 0.33333333 | D14: 43985 | E14: 0.41666667 | F14: AMATA | G14: ADMINISTRATIF | H14: MHO | I14: =MATCH(Tableau1[[#This Row],[AGENT]],Listes!A14:A20,Listes!A13) -> #N/A | J14: =Tableau1[[#This Row],[Fin3]]-Tableau1[[#This Row],[Début2]] -> 0.083333333 | K14: =IF(MONTH(B14)=1,"JANV",IF(MONTH(B14)=2,"FEV",IF(MONTH(B14)=3,"MARS",IF(MONTH(B14)=4,"AVR",IF(MONTH(B14)=5,"MAI",IF(MONTH(B14)=6,"JUIN",IF(MONTH(B14)=7,"JUILL",IF(MONTH(B14)=8,"AOU",IF(MONTH(B14)=9,"SEPT",IF(MONTH(B14)=10,"OCT",IF(MONTH(B14)=11,"NOV",IF(MONTH(B14)=12,"DEC","")))))))))))) -> JUIN
A15: AMATA | B15: 43985 | C15: 0.5625 | D15: 43985 | E15: 0.625 | F15: AMATA | G15: ADMINISTRATIF | H15: MHO | I15: =MATCH(Tableau1[[#This Row],[AGENT]],Listes!A15:A21,Listes!A14) -> #N/A | J15: =Tableau1[[#This Row],[Fin3]]-Tableau1[[#This Row],[Début2]] -> 0.0625 | K15: =IF(MONTH(B15)=1,"JANV",IF(MONTH(B15)=2,"FEV",IF(MONTH(B15)=3,"MARS",IF(MONTH(B15)=4,"AVR",IF(MONTH(B15)=5,"MAI",IF(MONTH(B15)=6,"JUIN",IF(MONTH(B15)=7,"JUILL",IF(MONTH(B15)=8,"AOU",IF(MONTH(B15)=9,"SEPT",IF(MONTH(B15)=10,"OCT",IF(MONTH(B15)=11,"NOV",IF(MONTH(B15)=12,"DEC","")))))))))))) -> JUIN
A16: AMATA | B16: 43986 | C16: 0.375 | D16: 43986 | E16: 0.47916667 | F16: AMATA | G16: ADMINISTRATIF | H16: MHO | I16: =MATCH(Tableau1[[#This Row],[AGENT]],Listes!A16:A22,Listes!A15) -> #N/A | J16: =Tableau1[[#This Row],[Fin3]]-Tableau1[[#This Row],[Début2]] -> 0.10416667 | K16: =IF(MONTH(B16)=1,"JANV",IF(MONTH(B16)=2,"FEV",IF(MONTH(B16)=3,"MARS",IF(MONTH(B16)=4,"AVR",IF(MONTH(B16)=5,"MAI",IF(MONTH(B16)=6,"JUIN",IF(MONTH(B16)=7,"JUILL",IF(MONTH(B16)=8,"AOU",IF(MONTH(B16)=9,"SEPT",IF(MONTH(B16)=10,"OCT",IF(MONTH(B16)=11,"NOV",IF(MONTH(B16)=12,"DEC","")))))))))))) -> JUIN
A17: AMATA | B17: 43987 | C17: 0.58333333 | D17: 43987 | E17: 0.64583333 | F17: AMATA | G17: ADMINISTRATIF | H17: MHO | I17: =MATCH(Tableau1[[#This Row],[AGENT]],Listes!A17:A23,Listes!A16) -> #N/A | J17: =Tableau1[[#This Row],[Fin3]]-Tableau1[[#This Row],[Début2]] -> 0.0625 | K17: =IF(MONTH(B17)=1,"JANV",IF(MONTH(B17)=2,"FEV",IF(MONTH(B17)=3,"MARS",IF(MONTH(B17)=4,"AVR",IF(MONTH(B17)=5,"MAI",IF(MONTH(B17)=6,"JUIN",IF(MONTH(B17)=7,"JUILL",IF(MONTH(B17)=8,"AOU",IF(MONTH(B17)=9,"SEPT",IF(MONTH(B17)=10,"OCT",IF(MONTH(B17)=11,"NOV",IF(MONTH(B17)=12,"DEC","")))))))))))) -> JUIN
A18: Rétrocession AMATA | B18: 43986 | C18: 0.375 | D18: 43986 | E18: 0.39583333 | F18: AMATA | H18: VAF | I18: =MATCH(Tableau1[[#This Row],[AGENT]],Listes!A18:A24,Listes!A17) -> #N/A | J18: =Tableau1[[#This Row],[Fin3]]-Tableau1[[#This Row],[Début2]] -> 0.020833333 | K18: =IF(MONTH(B18)=1,"JANV",IF(MONTH(B18)=2,"FEV",IF(MONTH(B18)=3,"MARS",IF(MONTH(B18)=4,"AVR",IF(MONTH(B18)=5,"MAI",IF(MONTH(B18)=6,"JUIN",IF(MONTH(B18)=7,"JUILL",IF(MONTH(B18)=8,"AOU",IF(MONTH(B18)=9,"SEPT",IF(MONTH(B18)=10,"OCT",IF(MONTH(B18)=11,"NOV",IF(MONTH(B18)=12,"DEC","")))))))))))) -> JUIN
A19: AMATA | B19: 43984 | C19: 0.625 | D19: 43984 | E19: 0.70833333 | F19: AMATA | H19: VAF | I19: =MATCH(Tableau1[[#This Row],[AGENT]],Listes!A19:A25,Listes!A18) -> #N/A | J19: =Tableau1[[#This Row],[Fin3]]-Tableau1[[#This Row],[Début2]] -> 0.083333333 | K19: =IF(MONTH(B19)=1,"JANV",IF(MONTH(B19)=2,"FEV",IF(MONTH(B19)=3,"MARS",IF(MONTH(B19)=4,"AVR",IF(MONTH(B19)=5,"MAI",IF(MONTH(B19)=6,"JUIN",IF(MONTH(B19)=7,"JUILL",IF(MONTH(B19)=8,"AOU",IF(MONTH(B19)=9,"SEPT",IF(MONTH(B19)=10,"OCT",IF(MONTH(B19)=11,"NOV",IF(MONTH(B19)=12,"DEC","")))))))))))) -> JUIN
A20: AMATA | B20: 43985 | C20: 0.33333333 | D20: 43985 | E20: 0.41666667 | F20: AMATA | H20: VAF | I20: =MATCH(Tableau1[[#This Row],[AGENT]],Listes!A20:A26,Listes!A19) -> #N/A | J20: =Tableau1[[#This Row],[Fin3]]-Tableau1[[#This Row],[Début2]] -> 0.083333333 | K20: =IF(MONTH(B20)=1,"JANV",IF(MONTH(B20)=2,"FEV",IF(MONTH(B20)=3,"MARS",IF(MONTH(B20)=4,"AVR",IF(MONTH(B20)=5,"MAI",IF(MONTH(B20)=6,"JUIN",IF(MONTH(B20)=7,"JUILL",IF(MONTH(B20)=8,"AOU",IF(MONTH(B20)=9,"SEPT",IF(MONTH(B20)=10,"OCT",IF(MONTH(B20)=11,"NOV",IF(MONTH(B20)=12,"DEC","")))))))))))) -> JUIN
A21: AMATA | B21: 43986 | C21: 0.39583333 | D21: 43986 | E21: 0.47916667 | F21: AMATA | H21: VAF | I21: =MATCH(Tableau1[[#This Row],[AGENT]],Listes!A21:A27,Listes!A20) -> #N/A | J21: =Tableau1[[#This Row],[Fin3]]-Tableau1[[#This Row],[Début2]] -> 0.083333333 | K21: =IF(MONTH(B21)=1,"JANV",IF(MONTH(B21)=2,"FEV",IF(MONTH(B21)=3,"MARS",IF(MONTH(B21)=4,"AVR",IF(MONTH(B21)=5,"MAI",IF(MONTH(B21)=6,"JUIN",IF(MONTH(B21)=7,"JUILL",IF(MONTH(B21)=8,"AOU",IF(MONTH(B21)=9,"SEPT",IF(MONTH(B21)=10,"OCT",IF(MONTH(B21)=11,"NOV",IF(MONTH(B21)=12,"DEC","")))))))))))) -> JUIN
A22: AMATA | B22: 43986 | C22: 0.54166667 | D22: 43986 | E22: 0.58333333 | F22: AMATA | H22: VAF | I22: =MATCH(Tableau1[[#This Row],[AGENT]],Listes!A22:A28,Listes!A21) -> #N/A | J22: =Tableau1[[#This Row],[Fin3]]-Tableau1[[#This Row],[Début2]] -> 0.041666667 | K22: =IF(MONTH(B22)=1,"JANV",IF(MONTH(B22)=2,"FEV",IF(MONTH(B22)=3,"MARS",IF(MONTH(B22)=4,"AVR",IF(MONTH(B22)=5,"MAI",IF(MONTH(B22)=6,"JUIN",IF(MONTH(B22)=7,"JUILL",IF(MONTH(B22)=8,"AOU",IF(MONTH(B22)=9,"SEPT",IF(MONTH(B22)=10,"OCT",IF(MONTH(B22)=11,"NOV",IF(MONTH(B22)=12,"DEC","")))))))))))) -> JUIN
A23: AMATA | B23: 43987 | C23: 0.35416667 | D23: 43987 | E23: 0.41666667 | F23: AMATA | H23: VAF | I23: =MATCH(Tableau1[[#This Row],[AGENT]],Listes!A23:A29,Listes!A22) -> #N/A | J23: =Tableau1[[#This Row],[Fin3]]-Tableau1[[#This Row],[Début2]] -> 0.0625 | K23: =IF(MONTH(B23)=1,"JANV",IF(MONTH(B23)=2,"FEV",IF(MONTH(B23)=3,"MARS",IF(MONTH(B23)=4,"AVR",IF(MONTH(B23)=5,"MAI",IF(MONTH(B23)=6,"JUIN",IF(MONTH(B23)=7,"JUILL",IF(MONTH(B23)=8,"AOU",IF(MONTH(B23)=9,"SEPT",IF(MONTH(B23)=10,"OCT",IF(MONTH(B23)=11,"NOV",IF(MONTH(B23)=12,"DEC","")))))))))))) -> JUIN
A24: Fleurs Jaunes Lacaussade Amata | B24: 43984 | C24: 0.33333333 | D24: 43984 | E24: 0.45833333 | F24: Appel de fonds | H24: SRI | I24: =MATCH(Tableau1[[#This Row],[AGENT]],Listes!A24:A30,Listes!A23) -> #N/A | J24: =Tableau1[[#This Row],[Fin3]]-Tableau1[[#This Row],[Début2]] -> 0.125 | K24: =IF(MONTH(B24)=1,"JANV",IF(MONTH(B24)=2,"FEV",IF(MONTH(B24)=3,"MARS",IF(MONTH(B24)=4,"AVR",IF(MONTH(B24)=5,"MAI",IF(MONTH(B24)=6,"JUIN",IF(MONTH(B24)=7,"JUILL",IF(MONTH(B24)=8,"AOU",IF(MONTH(B24)=9,"SEPT",IF(MONTH(B24)=10,"OCT",IF(MONTH(B24)=11,"NOV",IF(MONTH(B24)=12,"DEC","")))))))))))) -> JUIN
A25: Lacaussade | B25: 43984 | C25: 0.58333333 | D25: 43984 | E25: 0.70833333 | F25: Appel de fonds | H25: SRI | I25: =MATCH(Tableau1[[#This Row],[AGENT]],Listes!A25:A31,Listes!A24) -> #N/A | J25: =Tableau1[[#This Row],[Fin3]]-Tableau1[[#This Row],[Début2]] -> 0.125 | K25: =IF(MONTH(B25)=1,"JANV",IF(MONTH(B25)=2,"FEV",IF(MONTH(B25)=3,"MARS",IF(MONTH(B25)=4,"AVR",IF(MONTH(B25)=5,"MAI",IF(MONTH(B25)=6,"JUIN",IF(MONTH(B25)=7,"JUILL",IF(MONTH(B25)=8,"AOU",IF(MONTH(B25)=9,"SEPT",IF(MONTH(B25)=10,"OCT",IF(MONTH(B25)=11,"NOV",IF(MONTH(B25)=12,"DEC","")))))))))))) -> JUIN
A26: Amata Fleurs jaunes Lacaussade | B26: 43985 | C26: 0.33333333 | D26: 43985 | E26: 0.5 | F26: Appel de fonds | H26: SRI | I26: =MATCH(Tableau1[[#This Row],[AGENT]],Listes!A26:A32,Listes!A25) -> #N/A | J26: =Tableau1[[#This Row],[Fin3]]-Tableau1[[#This Row],[Début2]] -> 0.16666667 | K26: =IF(MONTH(B26)=1,"JANV",IF(MONTH(B26)=2,"FEV",IF(MONTH(B26)=3,"MARS",IF(MONTH(B26)=4,"AVR",IF(MONTH(B26)=5,"MAI",IF(MONTH(B26)=6,"JUIN",IF(MONTH(B26)=7,"JUILL",IF(MONTH(B26)=8,"AOU",IF(MONTH(B26)=9,"SEPT",IF(MONTH(B26)=10,"OCT",IF(MONTH(B26)=11,"NOV",IF(MONTH(B26)=12,"DEC","")))))))))))) -> JUIN
A27: Manapany | B27: 43985 | C27: 0.625 | D27: 43985 | E27: 0.70833333 | F27: Appel de fonds | H27: SRI | I27: =MATCH(Tableau1[[#This Row],[AGENT]],Listes!A27:A33,Listes!A26) -> #N/A | J27: =Tableau1[[#This Row],[Fin3]]-Tableau1[[#This Row],[Début2]] -> 0.083333333 | K27: =IF(MONTH(B27)=1,"JANV",IF(MONTH(B27)=2,"FEV",IF(MONTH(B27)=3,"MARS",IF(MONTH(B27)=4,"AVR",IF(MONTH(B27)=5,"MAI",IF(MONTH(B27)=6,"JUIN",IF(MONTH(B27)=7,"JUILL",IF(MONTH(B27)=8,"AOU",IF(MONTH(B27)=9,"SEPT",IF(MONTH(B27)=10,"OCT",IF(MONTH(B27)=11,"NOV",IF(MONTH(B27)=12,"DEC","")))))))))))) -> JUIN
A28: Fanjan | B28: 43987 | C28: 0.39583333 | D28: 43987 | E28: 0.5 | F28: Appel de fonds | H28: SRI | I28: =MATCH(Tableau1[[#This Row],[AGENT]],Listes!A28:A34,Listes!A27) -> #N/A | J28: =Tableau1[[#This Row],[Fin3]]-Tableau1[[#This Row],[Début2]] -> 0.10416667 | K28: =IF(MONTH(B28)=1,"JANV",IF(MONTH(B28)=2,"FEV",IF(MONTH(B28)=3,"MARS",IF(MONTH(B28)=4,"AVR",IF(MONTH(B28)=5,"MAI",IF(MONTH(B28)=6,"JUIN",IF(MONTH(B28)=7,"JUILL",IF(MONTH(B28)=8,"AOU",IF(MONTH(B28)=9,"SEPT",IF(MONTH(B28)=10,"OCT",IF(MONTH(B28)=11,"NOV",IF(MONTH(B28)=12,"DEC","")))))))))))) -> JUIN
A29: Fanjan | B29: 43987 | C29: 0.54166667 | D29: 43987 | E29: 0.64583333 | F29: Appel de fonds | H29: SRI | I29: =MATCH(Tableau1[[#This Row],[AGENT]],Listes!A29:A35,Listes!A28) -> #N/A | J29: =Tableau1[[#This Row],[Fin3]]-Tableau1[[#This Row],[Début2]] -> 0.10416667 | K29: =IF(MONTH(B29)=1,"JANV",IF(MONTH(B29)=2,"FEV",IF(MONTH(B29)=3,"MARS",IF(MONTH(B29)=4,"AVR",IF(MONTH(B29)=5,"MAI",IF(MONTH(B29)=6,"JUIN",IF(MONTH(B29)=7,"JUILL",IF(MONTH(B29)=8,"AOU",IF(MONTH(B29)=9,"SEPT",IF(MONTH(B29)=10,"OCT",IF(MONTH(B29)=11,"NOV",IF(MONTH(B29)=12,"DEC","")))))))))))) -> JUIN
A30: Bellevue | B30: 43984 | C30: 0.33333333 | D30: 43984 | E30: 0.375 | F30: BELLEVUE | G30: ADMINISTRATIF | H30: JER | I30: =MATCH(Tableau1[[#This Row],[AGENT]],Listes!A30:A36,Listes!A29) -> #N/A | J30: =Tableau1[[#This Row],[Fin3]]-Tableau1[[#This Row],[Début2]] -> 0.041666667 | K30: =IF(MONTH(B30)=1,"JANV",IF(MONTH(B30)=2,"FEV",IF(MONTH(B30)=3,"MARS",IF(MONTH(B30)=4,"AVR",IF(MONTH(B30)=5,"MAI",IF(MONTH(B30)=6,"JUIN",IF(MONTH(B30)=7,"JUILL",IF(MONTH(B30)=8,"AOU",IF(MONTH(B30)=9,"SEPT",IF(MONTH(B30)=10,"OCT",IF(MONTH(B30)=11,"NOV",IF(MONTH(B30)=12,"DEC","")))))))))))) -> JUIN
A31: Bellevue | B31: 43984 | C31: 0.66666667 | D31: 43984 | E31: 0.6875 | F31: BELLEVUE | G31: ADMINISTRATIF | H31: JER | I31: =MATCH(Tableau1[[#This Row],[AGENT]],Listes!A31:A37,Listes!A30) -> #N/A | J31: =Tableau1[[#This Row],[Fin3]]-Tableau1[[#This Row],[Début2]] -> 0.020833333 | K31: =IF(MONTH(B31)=1,"JANV",IF(MONTH(B31)=2,"FEV",IF(MONTH(B31)=3,"MARS",IF(MONTH(B31)=4,"AVR",IF(MONTH(B31)=5,"MAI",IF(MONTH(B31)=6,"JUIN",IF(MONTH(B31)=7,"JUILL",IF(MONTH(B31)=8,"AOU",IF(MONTH(B31)=9,"SEPT",IF(MONTH(B31)=10,"OCT",IF(MONTH(B31)=11,"NOV",IF(MONTH(B31)=12,"DEC","")))))))))))) -> JUIN
A32: Bellevue | B32: 43986 | C32: 0.64583333 | D32: 43986 | E32: 0.66666667 | F32: BELLEVUE | G32: ADMINISTRATIF | H32: JER | I32: =MATCH(Tableau1[[#This Row],[AGENT]],Listes!A32:A38,Listes!A31) -> #N/A | J32: =Tableau1[[#This Row],[Fin3]]-Tableau1[[#This Row],[Début2]] -> 0.020833333 | K32: =IF(MONTH(B32)=1,"JANV",IF(MONTH(B32)=2,"FEV",IF(MONTH(B32)=3,"MARS",IF(MONTH(B32)=4,"AVR",IF(MONTH(B32)=5,"MAI",IF(MONTH(B32)=6,"JUIN",IF(MONTH(B32)=7,"JUILL",IF(MONTH(B32)=8,"AOU",IF(MONTH(B32)=9,"SEPT",IF(MONTH(B32)=10,"OCT",IF(MONTH(B32)=11,"NOV",IF(MONTH(B32)=12,"DEC","")))))))))))) -> JUIN
A33: BELLEVUE | B33: 43984 | C33: 0.33333333 | D33: 43984 | E33: 0.375 | F33: BELLEVUE | G33: ADMINISTRATIF | H33: MHO | I33: =MATCH(Tableau1[[#This Row],[AGENT]],Listes!A33:A39,Listes!A32) -> #N/A | J33: =Tableau1[[#This Row],[Fin3]]-Tableau1[[#This Row],[Début2]] -> 0.041666667 | K33: =IF(MONTH(B33)=1,"JANV",IF(MONTH(B33)=2,"FEV",IF(MONTH(B33)=3,"MARS",IF(MONTH(B33)=4,"AVR",IF(MONTH(B33)=5,"MAI",IF(MONTH(B33)=6,"JUIN",IF(MONTH(B33)=7,"JUILL",IF(MONTH(B33)=8,"AOU",IF(MONTH(B33)=9,"SEPT",IF(MONTH(B33)=10,"OCT",IF(MONTH(B33)=11,"NOV",IF(MONTH(B33)=12,"DEC","")))))))))))) -> JUIN
A34: BELLEVUE | B34: 43985 | C34: 0.4375 | D34: 43985 | E34: 0.47916667 | F34: BELLEVUE | G34: ADMINISTRATIF | H34: MHO | I34: =MATCH(Tableau1[[#This Row],[AGENT]],Listes!A34:A40,Listes!A33) -> #N/A | J34: =Tableau1[[#This Row],[Fin3]]-Tableau1[[#This Row],[Début2]] -> 0.041666667 | K34: =IF(MONTH(B34)=1,"JANV",IF(MONTH(B34)=2,"FEV",IF(MONTH(B34)=3,"MARS",IF(MONTH(B34)=4,"AVR",IF(MONTH(B34)=5,"MAI",IF(MONTH(B34)=6,"JUIN",IF(MONTH(B34)=7,"JUILL",IF(MONTH(B34)=8,"AOU",IF(MONTH(B34)=9,"SEPT",IF(MONTH(B34)=10,"OCT",IF(MONTH(B34)=11,"NOV",IF(MONTH(B34)=12,"DEC","")))))))))))) -> JUIN
A35: BELLEVUE | B35: 43985 | C35: 0.66666667 | D35: 43985 | E35: 0.70833333 | F35: BELLEVUE | G35: ADMINISTRATIF | H35: MHO | I35: =MATCH(Tableau1[[#This Row],[AGENT]],Listes!A35:A41,Listes!A34) -> #N/A | J35: =Tableau1[[#This Row],[Fin3]]-Tableau1[[#This Row],[Début2]] -> 0.041666667 | K35: =IF(MONTH(B35)=1,"JANV",IF(MONTH(B35)=2,"FEV",IF(MONTH(B35)=3,"MARS",IF(MONTH(B35)=4,"AVR",IF(MONTH(B35)=5,"MAI",IF(MONTH(B35)=6,"JUIN",IF(MONTH(B35)=7,"JUILL",IF(MONTH(B35)=8,"AOU",IF(MONTH(B35)=9,"SEPT",IF(MONTH(B35)=10,"OCT",IF(MONTH(B35)=11,"NOV",IF(MONTH(B35)=12,"DEC","")))))))))))) -> JUIN
A36: BELLEVUE | B36: 43986 | C36: 0.35416667 | D36: 43986 | E36: 0.375 | F36: BELLEVUE | G36: ADMINISTRATIF | H36: MHO | I36: =MATCH(Tableau1[[#This Row],[AGENT]],Listes!A36:A42,Listes!A35) -> #N/A | J36: =Tableau1[[#This Row],[Fin3]]-Tableau1[[#This Row],[Début2]] -> 0.020833333 | K36: =IF(MONTH(B36)=1,"JANV",IF(MONTH(B36)=2,"FEV",IF(MONTH(B36)=3,"MARS",IF(MONTH(B36)=4,"AVR",IF(MONTH(B36)=5,"MAI",IF(MONTH(B36)=6,"JUIN",IF(MONTH(B36)=7,"JUILL",IF(MONTH(B36)=8,"AOU",IF(MONTH(B36)=9,"SEPT",IF(MONTH(B36)=10,"OCT",IF(MONTH(B36)=11,"NOV",IF(MONTH(B36)=12,"DEC","")))))))))))) -> JUIN
A37: BELLEVUE | B37: 43986 | C37: 0.60416667 | D37: 43986 | E37: 0.625 | F37: BELLEVUE | G37: ADMINISTRATIF | H37: MHO | I37: =MATCH(Tableau1[[#This Row],[AGENT]],Listes!A37:A43,Listes!A36) -> #N/A | J37: =Tableau1[[#This Row],[Fin3]]-Tableau1[[#This Row],[Début2]] -> 0.020833333 | K37: =IF(MONTH(B37)=1,"JANV",IF(MONTH(B37)=2,"FEV",IF(MONTH(B37)=3,"MARS",IF(MONTH(B37)=4,"AVR",IF(MONTH(B37)=5,"MAI",IF(MONTH(B37)=6,"JUIN",IF(MONTH(B37)=7,"JUILL",IF(MONTH(B37)=8,"AOU",IF(MONTH(B37)=9,"SEPT",IF(MONTH(B37)=10,"OCT",IF(MONTH(B37)=11,"NOV",IF(MONTH(B37)=12,"DEC","")))))))))))) -> JUIN
A38: BELLEVUE | B38: 43987 | C38: 0.54166667 | D38: 43987 | E38: 0.5625 | F38: BELLEVUE | G38: ADMINISTRATIF | H38: MHO | I38: =MATCH(Tableau1[[#This Row],[AGENT]],Listes!A38:A44,Listes!A37) -> #N/A | J38: =Tableau1[[#This Row],[Fin3]]-Tableau1[[#This Row],[Début2]] -> 0.020833333 | K38: =IF(MONTH(B38)=1,"JANV",IF(MONTH(B38)=2,"FEV",IF(MONTH(B38)=3,"MARS",IF(MONTH(B38)=4,"AVR",IF(MONTH(B38)=5,"MAI",IF(MONTH(B38)=6,"JUIN",IF(MONTH(B38)=7,"JUILL",IF(MONTH(B38)=8,"AOU",IF(MONTH(B38)=9,"SEPT",IF(MONTH(B38)=10,"OCT",IF(MONTH(B38)=11,"NOV",IF(MONTH(B38)=12,"DEC","")))))))))))) -> JUIN
A39: traitement classement | B39: 43984 | C39: 0.47916667 | D39: 43984 | E39: 0.5 | F39: BELLEVUE | H39: NLE | I39: =MATCH(Tableau1[[#This Row],[AGENT]],Listes!A39:A45,Listes!A38) -> #N/A | J39: =Tableau1[[#This Row],[Fin3]]-Tableau1[[#This Row],[Début2]] -> 0.020833333 | K39: =IF(MONTH(B39)=1,"JANV",IF(MONTH(B39)=2,"FEV",IF(MONTH(B39)=3,"MARS",IF(MONTH(B39)=4,"AVR",IF(MONTH(B39)=5,"MAI",IF(MONTH(B39)=6,"JUIN",IF(MONTH(B39)=7,"JUILL",IF(MONTH(B39)=8,"AOU",IF(MONTH(B39)=9,"SEPT",IF(MONTH(B39)=10,"OCT",IF(MONTH(B39)=11,"NOV",IF(MONTH(B39)=12,"DEC","")))))))))))) -> JUIN
B40: 43985 | C40: 0.41666667 | D40: 43985 | E40: 0.45833333 | F40: BERTAUT | G40: ADMINISTRATIF | H40: TQU | I40: =MATCH(Tableau1[[#This Row],[AGENT]],Listes!A40:A46,Listes!A39) -> #N/A | J40: =Tableau1[[#This Row],[Fin3]]-Tableau1[[#This Row],[Début2]] -> 0.041666667 | K40: =IF(MONTH(B40)=1,"JANV",IF(MONTH(B40)=2,"FEV",IF(MONTH(B40)=3,"MARS",IF(MONTH(B40)=4,"AVR",IF(MONTH(B40)=5,"MAI",IF(MONTH(B40)=6,"JUIN",IF(MONTH(B40)=7,"JUILL",IF(MONTH(B40)=8,"AOU",IF(MONTH(B40)=9,"SEPT",IF(MONTH(B40)=10,"OCT",IF(MONTH(B40)=11,"NOV",IF(MONTH(B40)=12,"DEC","")))))))))))) -> JUIN
B41: 43985 | C41: 0.625 | D41: 43985 | E41: 0.6875 | F41: BERTAUT | G41: ADMINISTRATIF | H41: TQU | I41: =MATCH(Tableau1[[#This Row],[AGENT]],Listes!A41:A47,Listes!A40) -> #N/A | J41: =Tableau1[[#This Row],[Fin3]]-Tableau1[[#This Row],[Début2]] -> 0.0625 | K41: =IF(MONTH(B41)=1,"JANV",IF(MONTH(B41)=2,"FEV",IF(MONTH(B41)=3,"MARS",IF(MONTH(B41)=4,"AVR",IF(MONTH(B41)=5,"MAI",IF(MONTH(B41)=6,"JUIN",IF(MONTH(B41)=7,"JUILL",IF(MONTH(B41)=8,"AOU",IF(MONTH(B41)=9,"SEPT",IF(MONTH(B41)=10,"OCT",IF(MONTH(B41)=11,"NOV",IF(MONTH(B41)=12,"DEC","")))))))))))) -> JUIN
A42: Bougainvillées | B42: 43984 | C42: 0.39583333 | D42: 43984 | E42: 0.41666667 | F42: BOUGAINVILLEES | G42: ADMINISTRATIF | H42: JER | I42: =MATCH(Tableau1[[#This Row],[AGENT]],Listes!A42:A48,Listes!A41) -> #N/A | J42: =Tableau1[[#This Row],[Fin3]]-Tableau1[[#This Row],[Début2]] -> 0.020833333 | K42: =IF(MONTH(B42)=1,"JANV",IF(MONTH(B42)=2,"FEV",IF(MONTH(B42)=3,"MARS",IF(MONTH(B42)=4,"AVR",IF(MONTH(B42)=5,"MAI",IF(MONTH(B42)=6,"JUIN",IF(MONTH(B42)=7,"JUILL",IF(MONTH(B42)=8,"AOU",IF(MONTH(B42)=9,"SEPT",IF(MONTH(B42)=10,"OCT",IF(MONTH(B42)=11,"NOV",IF(MONTH(B42)=12,"DEC","")))))))))))) -> JUIN
A43: BOUGAINVIILIEES | B43: 43985 | C43: 0.625 | D43: 43985 | E43: 0.66666667 | F43: BOUGAINVILLEES | G43: ADMINISTRATIF | H43: MHO | I43: =MATCH(Tableau1[[#This Row],[AGENT]],Listes!A43:A49,Listes!A42) -> #N/A | J43: =Tableau1[[#This Row],[Fin3]]-Tableau1[[#This Row],[Début2]] -> 0.041666667 | K43: =IF(MONTH(B43)=1,"JANV",IF(MONTH(B43)=2,"FEV",IF(MONTH(B43)=3,"MARS",IF(MONTH(B43)=4,"AVR",IF(MONTH(B43)=5,"MAI",IF(MONTH(B43)=6,"JUIN",IF(MONTH(B43)=7,"JUILL",IF(MONTH(B43)=8,"AOU",IF(MONTH(B43)=9,"SEPT",IF(MONTH(B43)=10,"OCT",IF(MONTH(B43)=11,"NOV",IF(MONTH(B43)=12,"DEC","")))))))))))) -> JUIN
B44: 43984 | C44: 0.54166667 | D44: 43984 | E44: 0.5625 | F44: BOULANGER | G44: ADMINISTRATIF | H44: TQU | I44: =MATCH(Tableau1[[#This Row],[AGENT]],Listes!A44:A50,Listes!A43) -> #N/A | J44: =Tableau1[[#This Row],[Fin3]]-Tableau1[[#This Row],[Début2]] -> 0.020833333 | K44: =IF(MONTH(B44)=1,"JANV",IF(MONTH(B44)=2,"FEV",IF(MONTH(B44)=3,"MARS",IF(MONTH(B44)=4,"AVR",IF(MONTH(B44)=5,"MAI",IF(MONTH(B44)=6,"JUIN",IF(MONTH(B44)=7,"JUILL",IF(MONTH(B44)=8,"AOU",IF(MONTH(B44)=9,"SEPT",IF(MONTH(B44)=10,"OCT",IF(MONTH(B44)=11,"NOV",IF(MONTH(B44)=12,"DEC","")))))))))))) -> JUIN
B45: 43984 | C45: 0.625 | D45: 43984 | E45: 0.66666667 | F45: BOULANGER | G45: ADMINISTRATIF | H45: TQU | I45: =MATCH(Tableau1[[#This Row],[AGENT]],Listes!A45:A51,Listes!A44) -> #N/A | J45: =Tableau1[[#This Row],[Fin3]]-Tableau1[[#This Row],[Début2]] -> 0.041666667 | K45: =IF(MONTH(B45)=1,"JANV",IF(MONTH(B45)=2,"FEV",IF(MONTH(B45)=3,"MARS",IF(MONTH(B45)=4,"AVR",IF(MONTH(B45)=5,"MAI",IF(MONTH(B45)=6,"JUIN",IF(MONTH(B45)=7,"JUILL",IF(MONTH(B45)=8,"AOU",IF(MONTH(B45)=9,"SEPT",IF(MONTH(B45)=10,"OCT",IF(MONTH(B45)=11,"NOV",IF(MONTH(B45)=12,"DEC","")))))))))))) -> JUIN
B46: 43985 | C46: 0.45833333 | D46: 43985 | E46: 0.5 | F46: BOULANGER | G46: ADMINISTRATIF | H46: TQU | I46: =MATCH(Tableau1[[#This Row],[AGENT]],Listes!A46:A52,Listes!A45) -> #N/A | J46: =Tableau1[[#This Row],[Fin3]]-Tableau1[[#This Row],[Début2]] -> 0.041666667 | K46: =IF(MONTH(B46)=1,"JANV",IF(MONTH(B46)=2,"FEV",IF(MONTH(B46)=3,"MARS",IF(MONTH(B46)=4,"AVR",IF(MONTH(B46)=5,"MAI",IF(MONTH(B46)=6,"JUIN",IF(MONTH(B46)=7,"JUILL",IF(MONTH(B46)=8,"AOU",IF(MONTH(B46)=9,"SEPT",IF(MONTH(B46)=10,"OCT",IF(MONTH(B46)=11,"NOV",IF(MONTH(B46)=12,"DEC","")))))))))))) -> JUIN
B47: 43985 | C47: 0.54166667 | D47: 43985 | E47: 0.625 | F47: BOULANGER | G47: ADMINISTRATIF | H47: TQU | I47: =MATCH(Tableau1[[#This Row],[AGENT]],Listes!A47:A53,Listes!A46) -> #N/A | J47: =Tableau1[[#This Row],[Fin3]]-Tableau1[[#This Row],[Début2]] -> 0.083333333 | K47: =IF(MONTH(B47)=1,"JANV",IF(MONTH(B47)=2,"FEV",IF(MONTH(B47)=3,"MARS",IF(MONTH(B47)=4,"AVR",IF(MONTH(B47)=5,"MAI",IF(MONTH(B47)=6,"JUIN",IF(MONTH(B47)=7,"JUILL",IF(MONTH(B47)=8,"AOU",IF(MONTH(B47)=9,"SEPT",IF(MONTH(B47)=10,"OCT",IF(MONTH(B47)=11,"NOV",IF(MONTH(B47)=12,"DEC","")))))))))))) -> JUIN
B48: 43987 | C48: 0.33333333 | D48: 43987 | E48: 0.375 | F48: BOULANGER | G48: ADMINISTRATIF | H48: TQU | I48: =MATCH(Tableau1[[#This Row],[AGENT]],Listes!A48:A54,Listes!A47) -> #N/A | J48: =Tableau1[[#This Row],[Fin3]]-Tableau1[[#This Row],[Début2]] -> 0.041666667 | K48: =IF(MONTH(B48)=1,"JANV",IF(MONTH(B48)=2,"FEV",IF(MONTH(B48)=3,"MARS",IF(MONTH(B48)=4,"AVR",IF(MONTH(B48)=5,"MAI",IF(MONTH(B48)=6,"JUIN",IF(MONTH(B48)=7,"JUILL",IF(MONTH(B48)=8,"AOU",IF(MONTH(B48)=9,"SEPT",IF(MONTH(B48)=10,"OCT",IF(MONTH(B48)=11,"NOV",IF(MONTH(B48)=12,"DEC","")))))))))))) -> JUIN
A49: BOULANGER | B49: 43985 | C49: 0.54166667 | D49: 43985 | E49: 0.5625 | F49: BOULANGER | H49: VAF | I49: =MATCH(Tableau1[[#This Row],[AGENT]],Listes!A49:A55,Listes!A48) -> #N/A | J49: =Tableau1[[#This Row],[Fin3]]-Tableau1[[#This Row],[Début2]] -> 0.020833333 | K49: =IF(MONTH(B49)=1,"JANV",IF(MONTH(B49)=2,"FEV",IF(MONTH(B49)=3,"MARS",IF(MONTH(B49)=4,"AVR",IF(MONTH(B49)=5,"MAI",IF(MONTH(B49)=6,"JUIN",IF(MONTH(B49)=7,"JUILL",IF(MONTH(B49)=8,"AOU",IF(MONTH(B49)=9,"SEPT",IF(MONTH(B49)=10,"OCT",IF(MONTH(B49)=11,"NOV",IF(MONTH(B49)=12,"DEC","")))))))))))) -> JUIN
B50: 43984 | C50: 0.35416667 | D50: 43984 | E50: 0.375 | F50: BRAS DE LA PLAINE | G50: ADMINISTRATIF | H50: TQU | I50: =MATCH(Tableau1[[#This Row],[AGENT]],Listes!A50:A56,Listes!A49) -> #N/A | J50: =Tableau1[[#This Row],[Fin3]]-Tableau1[[#This Row],[Début2]] -> 0.020833333 | K50: =IF(MONTH(B50)=1,"JANV",IF(MONTH(B50)=2,"FEV",IF(MONTH(B50)=3,"MARS",IF(MONTH(B50)=4,"AVR",IF(MONTH(B50)=5,"MAI",IF(MONTH(B50)=6,"JUIN",IF(MONTH(B50)=7,"JUILL",IF(MONTH(B50)=8,"AOU",IF(MONTH(B50)=9,"SEPT",IF(MONTH(B50)=10,"OCT",IF(MONTH(B50)=11,"NOV",IF(MONTH(B50)=12,"DEC","")))))))))))) -> JUIN
A51: Bras des Etangs | B51: 43984 | C51: 0.64583333 | D51: 43984 | E51: 0.66666667 | F51: BRAS DES ETANGS | G51: ADMINISTRATIF | H51: JER | I51: =MATCH(Tableau1[[#This Row],[AGENT]],Listes!A51:A57,Listes!A50) -> #N/A | J51: =Tableau1[[#This Row],[Fin3]]-Tableau1[[#This Row],[Début2]] -> 0.020833333 | K51: =IF(MONTH(B51)=1,"JANV",IF(MONTH(B51)=2,"FEV",IF(MONTH(B51)=3,"MARS",IF(MONTH(B51)=4,"AVR",IF(MONTH(B51)=5,"MAI",IF(MONTH(B51)=6,"JUIN",IF(MONTH(B51)=7,"JUILL",IF(MONTH(B51)=8,"AOU",IF(MONTH(B51)=9,"SEPT",IF(MONTH(B51)=10,"OCT",IF(MONTH(B51)=11,"NOV",IF(MONTH(B51)=12,"DEC","")))))))))))) -> JUIN
A52: Bras des Etangs | B52: 43986 | C52: 0.33333333 | D52: 43986 | E52: 0.5 | F52: BRAS DES ETANGS | G52: CHANTIER | H52: JER | I52: =MATCH(Tableau1[[#This Row],[AGENT]],Listes!A52:A58,Listes!A51) -> #N/A | J52: =Tableau1[[#This Row],[Fin3]]-Tableau1[[#This Row],[Début2]] -> 0.16666667 | K52: =IF(MONTH(B52)=1,"JANV",IF(MONTH(B52)=2,"FEV",IF(MONTH(B52)=3,"MARS",IF(MONTH(B52)=4,"AVR",IF(MONTH(B52)=5,"MAI",IF(MONTH(B52)=6,"JUIN",IF(MONTH(B52)=7,"JUILL",IF(MONTH(B52)=8,"AOU",IF(MONTH(B52)=9,"SEPT",IF(MONTH(B52)=10,"OCT",IF(MONTH(B52)=11,"NOV",IF(MONTH(B52)=12,"DEC","")))))))))))) -> JUIN
A53: Bras des etangs | B53: 43986 | C53: 0.66666667 | D53: 43986 | E53: 0.70833333 | F53: BRAS DES ETANGS | G53: ADMINISTRATIF | H53: JER | I53: =MATCH(Tableau1[[#This Row],[AGENT]],Listes!A53:A59,Listes!A52) -> #N/A | J53: =Tableau1[[#This Row],[Fin3]]-Tableau1[[#This Row],[Début2]] -> 0.041666667 | K53: =IF(MONTH(B53)=1,"JANV",IF(MONTH(B53)=2,"FEV",IF(MONTH(B53)=3,"MARS",IF(MONTH(B53)=4,"AVR",IF(MONTH(B53)=5,"MAI",IF(MONTH(B53)=6,"JUIN",IF(MONTH(B53)=7,"JUILL",IF(MONTH(B53)=8,"AOU",IF(MONTH(B53)=9,"SEPT",IF(MONTH(B53)=10,"OCT",IF(MONTH(B53)=11,"NOV",IF(MONTH(B53)=12,"DEC","")))))))))))) -> JUIN
A54: traitement Avenant1 COVID19 | B54: 43984 | C54: 0.47916667 | D54: 43984 | E54: 0.5 | F54: BRAS DES ETANGS | H54: NLE | I54: =MATCH(Tableau1[[#This Row],[AGENT]],Listes!A54:A60,Listes!A53) -> #N/A | J54: =Tableau1[[#This Row],[Fin3]]-Tableau1[[#This Row],[Début2]] -> 0.020833333 | K54: =IF(MONTH(B54)=1,"JANV",IF(MONTH(B54)=2,"FEV",IF(MONTH(B54)=3,"MARS",IF(MONTH(B54)=4,"AVR",IF(MONTH(B54)=5,"MAI",IF(MONTH(B54)=6,"JUIN",IF(MONTH(B54)=7,"JUILL",IF(MONTH(B54)=8,"AOU",IF(MONTH(B54)=9,"SEPT",IF(MONTH(B54)=10,"OCT",IF(MONTH(B54)=11,"NOV",IF(MONTH(B54)=12,"DEC","")))))))))))) -> JUIN
A55: avenant | B55: 43985 | C55: 0.33333333 | D55: 43985 | E55: 0.375 | F55: BRAS DES ETANGS | H55: NLE | I55: =MATCH(Tableau1[[#This Row],[AGENT]],Listes!A55:A61,Listes!A54) -> #N/A | J55: =Tableau1[[#This Row],[Fin3]]-Tableau1[[#This Row],[Début2]] -> 0.041666667 | K55: =IF(MONTH(B55)=1,"JANV",IF(MONTH(B55)=2,"FEV",IF(MONTH(B55)=3,"MARS",IF(MONTH(B55)=4,"AVR",IF(MONTH(B55)=5,"MAI",IF(MONTH(B55)=6,"JUIN",IF(MONTH(B55)=7,"JUILL",IF(MONTH(B55)=8,"AOU",IF(MONTH(B55)=9,"SEPT",IF(MONTH(B55)=10,"OCT",IF(MONTH(B55)=11,"NOV",IF(MONTH(B55)=12,"DEC","")))))))))))) -> JUIN
A56: mails avenant A MOE CLAST | B56: 43986 | C56: 0.58333333 | D56: 43986 | E56: 0.625 | F56: BRAS DES ETANGS | H56: NLE | I56: =MATCH(Tableau1[[#This Row],[AGENT]],Listes!A56:A62,Listes!A55) -> #N/A | J56: =Tableau1[[#This Row],[Fin3]]-Tableau1[[#This Row],[Début2]] -> 0.041666667 | K56: =IF(MONTH(B56)=1,"JANV",IF(MONTH(B56)=2,"FEV",IF(MONTH(B56)=3,"MARS",IF(MONTH(B56)=4,"AVR",IF(MONTH(B56)=5,"MAI",IF(MONTH(B56)=6,"JUIN",IF(MONTH(B56)=7,"JUILL",IF(MONTH(B56)=8,"AOU",IF(MONTH(B56)=9,"SEPT",IF(MONTH(B56)=10,"OCT",IF(MONTH(B56)=11,"NOV",IF(MONTH(B56)=12,"DEC","")))))))))))) -> JUIN
A57: Avenants - scan + mail | B57: 43985 | C57: 0.5625 | D57: 43985 | E57: 0.58333333 | F57: BRAS DES ETANGS | H57: ECL | I57: =MATCH(Tableau1[[#This Row],[AGENT]],Listes!A57:A63,Listes!A56) -> #N/A | J57: =Tableau1[[#This Row],[Fin3]]-Tableau1[[#This Row],[Début2]] -> 0.020833333 | K57: =IF(MONTH(B57)=1,"JANV",IF(MONTH(B57)=2,"FEV",IF(MONTH(B57)=3,"MARS",IF(MONTH(B57)=4,"AVR",IF(MONTH(B57)=5,"MAI",IF(MONTH(B57)=6,"JUIN",IF(MONTH(B57)=7,"JUILL",IF(MONTH(B57)=8,"AOU",IF(MONTH(B57)=9,"SEPT",IF(MONTH(B57)=10,"OCT",IF(MONTH(B57)=11,"NOV",IF(MONTH(B57)=12,"DEC","")))))))))))) -> JUIN
A58: CANAL LILIS | B58: 43987 | C58: 0.4375 | D58: 43987 | E58: 0.45833333 | F58: CANAL LILIS | H58: DBE | I58: =MATCH(Tableau1[[#This Row],[AGENT]],Listes!A58:A64,Listes!A57) -> #N/A | J58: =Tableau1[[#This Row],[Fin3]]-Tableau1[[#This Row],[Début2]] -> 0.020833333 | K58: =IF(MONTH(B58)=1,"JANV",IF(MONTH(B58)=2,"FEV",IF(MONTH(B58)=3,"MARS",IF(MONTH(B58)=4,"AVR",IF(MONTH(B58)=5,"MAI",IF(MONTH(B58)=6,"JUIN",IF(MONTH(B58)=7,"JUILL",IF(MONTH(B58)=8,"AOU",IF(MONTH(B58)=9,"SEPT",IF(MONTH(B58)=10,"OCT",IF(MONTH(B58)=11,"NOV",IF(MONTH(B58)=12,"DEC","")))))))))))) -> JUIN
A59: Canal Lilis | B59: 43985 | C59: 0.375 | D59: 43985 | E59: 0.39583333 | F59: CANAL LILIS | G59: ADMINISTRATIF | H59: JER | I59: =MATCH(Tableau1[[#This Row],[AGENT]],Listes!A59:A65,Listes!A58) -> #N/A | J59: =Tableau1[[#This Row],[Fin3]]-Tableau1[[#This Row],[Début2]] -> 0.020833333 | K59: =IF(MONTH(B59)=1,"JANV",IF(MONTH(B59)=2,"FEV",IF(MONTH(B59)=3,"MARS",IF(MONTH(B59)=4,"AVR",IF(MONTH(B59)=5,"MAI",IF(MONTH(B59)=6,"JUIN",IF(MONTH(B59)=7,"JUILL",IF(MONTH(B59)=8,"AOU",IF(MONTH(B59)=9,"SEPT",IF(MONTH(B59)=10,"OCT",IF(MONTH(B59)=11,"NOV",IF(MONTH(B59)=12,"DEC","")))))))))))) -> JUIN
A60: Canal Lilis | B60: 43985 | C60: 0.39583333 | D60: 43985 | E60: 0.45833333 | F60: CANAL LILIS | G60: CHANTIER | H60: JER | I60: =MATCH(Tableau1[[#This Row],[AGENT]],Listes!A60:A66,Listes!A59) -> #N/A | J60: =Tableau1[[#This Row],[Fin3]]-Tableau1[[#This Row],[Début2]] -> 0.0625 | K60: =IF(MONTH(B60)=1,"JANV",IF(MONTH(B60)=2,"FEV",IF(MONTH(B60)=3,"MARS",IF(MONTH(B60)=4,"AVR",IF(MONTH(B60)=5,"MAI",IF(MONTH(B60)=6,"JUIN",IF(MONTH(B60)=7,"JUILL",IF(MONTH(B60)=8,"AOU",IF(MONTH(B60)=9,"SEPT",IF(MONTH(B60)=10,"OCT",IF(MONTH(B60)=11,"NOV",IF(MONTH(B60)=12,"DEC","")))))))))))) -> JUIN
A61: CANAL LILIS | B61: 43984 | C61: 0.41666667 | D61: 43984 | E61: 0.45833333 | F61: CANAL LILIS | G61: ADMINISTRATIF | H61: MHO | I61: =MATCH(Tableau1[[#This Row],[AGENT]],Listes!A61:A67,Listes!A60) -> #N/A | J61: =Tableau1[[#This Row],[Fin3]]-Tableau1[[#This Row],[Début2]] -> 0.041666667 | K61: =IF(MONTH(B61)=1,"JANV",IF(MONTH(B61)=2,"FEV",IF(MONTH(B61)=3,"MARS",IF(MONTH(B61)=4,"AVR",IF(MONTH(B61)=5,"MAI",IF(MONTH(B61)=6,"JUIN",IF(MONTH(B61)=7,"JUILL",IF(MONTH(B61)=8,"AOU",IF(MONTH(B61)=9,"SEPT",IF(MONTH(B61)=10,"OCT",IF(MONTH(B61)=11,"NOV",IF(MONTH(B61)=12,"DEC","")))))))))))) -> JUIN
A62: CANAL LILIS | B62: 43986 | C62: 0.47916667 | D62: 43986 | E62: 0.5 | F62: CANAL LILIS | G62: ADMINISTRATIF | H62: MHO | I62: =MATCH(Tableau1[[#This Row],[AGENT]],Listes!A62:A68,Listes!A61) -> #N/A | J62: =Tableau1[[#This Row],[Fin3]]-Tableau1[[#This Row],[Début2]] -> 0.020833333 | K62: =IF(MONTH(B62)=1,"JANV",IF(MONTH(B62)=2,"FEV",IF(MONTH(B62)=3,"MARS",IF(MONTH(B62)=4,"AVR",IF(MONTH(B62)=5,"MAI",IF(MONTH(B62)=6,"JUIN",IF(MONTH(B62)=7,"JUILL",IF(MONTH(B62)=8,"AOU",IF(MONTH(B62)=9,"SEPT",IF(MONTH(B62)=10,"OCT",IF(MONTH(B62)=11,"NOV",IF(MONTH(B62)=12,"DEC","")))))))))))) -> JUIN
A63: Caramboles | B63: 43984 | C63: 0.41666667 | D63: 43984 | E63: 0.4375 | F63: CARAMBOLES | G63: ADMINISTRATIF | H63: JER | I63: =MATCH(Tableau1[[#This Row],[AGENT]],Listes!A63:A69,Listes!A62) -> #N/A | J63: =Tableau1[[#This Row],[Fin3]]-Tableau1[[#This Row],[Début2]] -> 0.020833333 | K63: =IF(MONTH(B63)=1,"JANV",IF(MONTH(B63)=2,"FEV",IF(MONTH(B63)=3,"MARS",IF(MONTH(B63)=4,"AVR",IF(MONTH(B63)=5,"MAI",IF(MONTH(B63)=6,"JUIN",IF(MONTH(B63)=7,"JUILL",IF(MONTH(B63)=8,"AOU",IF(MONTH(B63)=9,"SEPT",IF(MONTH(B63)=10,"OCT",IF(MONTH(B63)=11,"NOV",IF(MONTH(B63)=12,"DEC","")))))))))))) -> JUIN
A64: CARAMBOLES | B64: 43986 | C64: 0.58333333 | D64: 43986 | E64: 0.60416667 | F64: CARAMBOLES | G64: ADMINISTRATIF | H64: MHO | I64: =MATCH(Tableau1[[#This Row],[AGENT]],Listes!A64:A70,Listes!A63) -> #N/A | J64: =Tableau1[[#This Row],[Fin3]]-Tableau1[[#This Row],[Début2]] -> 0.020833333 | K64: =IF(MONTH(B64)=1,"JANV",IF(MONTH(B64)=2,"FEV",IF(MONTH(B64)=3,"MARS",IF(MONTH(B64)=4,"AVR",IF(MONTH(B64)=5,"MAI",IF(MONTH(B64)=6,"JUIN",IF(MONTH(B64)=7,"JUILL",IF(MONTH(B64)=8,"AOU",IF(MONTH(B64)=9,"SEPT",IF(MONTH(B64)=10,"OCT",IF(MONTH(B64)=11,"NOV",IF(MONTH(B64)=12,"DEC","")))))))))))) -> JUIN
A65: CASABIANCA | B65: 43986 | C65: 0.47916667 | D65: 43986 | E65: 0.5 | F65: CASABIANCA | H65: VAF | I65: =MATCH(Tableau1[[#This Row],[AGENT]],Listes!A65:A71,Listes!A64) -> #N/A | J65: =Tableau1[[#This Row],[Fin3]]-Tableau1[[#This Row],[Début2]] -> 0.020833333 | K65: =IF(MONTH(B65)=1,"JANV",IF(MONTH(B65)=2,"FEV",IF(MONTH(B65)=3,"MARS",IF(MONTH(B65)=4,"AVR",IF(MONTH(B65)=5,"MAI",IF(MONTH(B65)=6,"JUIN",IF(MONTH(B65)=7,"JUILL",IF(MONTH(B65)=8,"AOU",IF(MONTH(B65)=9,"SEPT",IF(MONTH(B65)=10,"OCT",IF(MONTH(B65)=11,"NOV",IF(MONTH(B65)=12,"DEC","")))))))))))) -> JUIN
A66: mails | B66: 43984 | C66: 0.33333333 | D66: 43984 | E66: 0.375 | F66: CD61 | G66: administratif | H66: BBL | I66: =MATCH(Tableau1[[#This Row],[AGENT]],Listes!A66:A72,Listes!A65) -> #N/A | J66: =Tableau1[[#This Row],[Fin3]]-Tableau1[[#This Row],[Début2]] -> 0.041666667 | K66: =IF(MONTH(B66)=1,"JANV",IF(MONTH(B66)=2,"FEV",IF(MONTH(B66)=3,"MARS",IF(MONTH(B66)=4,"AVR",IF(MONTH(B66)=5,"MAI",IF(MONTH(B66)=6,"JUIN",IF(MONTH(B66)=7,"JUILL",IF(MONTH(B66)=8,"AOU",IF(MONTH(B66)=9,"SEPT",IF(MONTH(B66)=10,"OCT",IF(MONTH(B66)=11,"NOV",IF(MONTH(B66)=12,"DEC","")))))))))))) -> JUIN
B67: 43984 | C67: 0.54166667 | D67: 43984 | E67: 0.5625 | F67: CD61 | G67: administratif | H67: BBL | I67: =MATCH(Tableau1[[#This Row],[AGENT]],Listes!A67:A73,Listes!A66) -> #N/A | J67: =Tableau1[[#This Row],[Fin3]]-Tableau1[[#This Row],[Début2]] -> 0.020833333 | K67: =IF(MONTH(B67)=1,"JANV",IF(MONTH(B67)=2,"FEV",IF(MONTH(B67)=3,"MARS",IF(MONTH(B67)=4,"AVR",IF(MONTH(B67)=5,"MAI",IF(MONTH(B67)=6,"JUIN",IF(MONTH(B67)=7,"JUILL",IF(MONTH(B67)=8,"AOU",IF(MONTH(B67)=9,"SEPT",IF(MONTH(B67)=10,"OCT",IF(MONTH(B67)=11,"NOV",IF(MONTH(B67)=12,"DEC","")))))))))))) -> JUIN
B68: 43984 | C68: 0.60416667 | D68: 43984 | E68: 0.66666667 | F68: CD61 | G68: administratif | H68: BBL | I68: =MATCH(Tableau1[[#This Row],[AGENT]],Listes!A68:A74,Listes!A67) -> #N/A | J68: =Tableau1[[#This Row],[Fin3]]-Tableau1[[#This Row],[Début2]] -> 0.0625 | K68: =IF(MONTH(B68)=1,"JANV",IF(MONTH(B68)=2,"FEV",IF(MONTH(B68)=3,"MARS",IF(MONTH(B68)=4,"AVR",IF(MONTH(B68)=5,"MAI",IF(MONTH(B68)=6,"JUIN",IF(MONTH(B68)=7,"JUILL",IF(MONTH(B68)=8,"AOU",IF(MONTH(B68)=9,"SEPT",IF(MONTH(B68)=10,"OCT",IF(MONTH(B68)=11,"NOV",IF(MONTH(B68)=12,"DEC","")))))))))))) -> JUIN
A69: chantier | B69: 43985 | C69: 0.4375 | D69: 43985 | E69: 0.52083333 | F69: CD61 | G69: chantier | H69: BBL | I69: =MATCH(Tableau1[[#This Row],[AGENT]],Listes!A69:A75,Listes!A68) -> #N/A | J69: =Tableau1[[#This Row],[Fin3]]-Tableau1[[#This Row],[Début2]] -> 0.083333333 | K69: =IF(MONTH(B69)=1,"JANV",IF(MONTH(B69)=2,"FEV",IF(MONTH(B69)=3,"MARS",IF(MONTH(B69)=4,"AVR",IF(MONTH(B69)=5,"MAI",IF(MONTH(B69)=6,"JUIN",IF(MONTH(B69)=7,"JUILL",IF(MONTH(B69)=8,"AOU",IF(MONTH(B69)=9,"SEPT",IF(MONTH(B69)=10,"OCT",IF(MONTH(B69)=11,"NOV",IF(MONTH(B69)=12,"DEC","")))))))))))) -> JUIN
B70: 43985 | C70: 0.33333333 | D70: 43985 | E70: 0.39583333 | F70: CD61 | G70: administratif | H70: BBL | I70: =MATCH(Tableau1[[#This Row],[AGENT]],Listes!A70:A76,Listes!A69) -> #N/A | J70: =Tableau1[[#This Row],[Fin3]]-Tableau1[[#This Row],[Début2]] -> 0.0625 | K70: =IF(MONTH(B70)=1,"JANV",IF(MONTH(B70)=2,"FEV",IF(MONTH(B70)=3,"MARS",IF(MONTH(B70)=4,"AVR",IF(MONTH(B70)=5,"MAI",IF(MONTH(B70)=6,"JUIN",IF(MONTH(B70)=7,"JUILL",IF(MONTH(B70)=8,"AOU",IF(MONTH(B70)=9,"SEPT",IF(MONTH(B70)=10,"OCT",IF(MONTH(B70)=11,"NOV",IF(MONTH(B70)=12,"DEC","")))))))))))) -> JUIN
A71: Relance par mail IMPULSION (AE) | B71: 43985 | C71: 0.58333333 | D71: 43985 | E71: 0.60416667 | F71: CHEMIN GALET 1 | H71: ECL | I71: =MATCH(Tableau1[[#This Row],[AGENT]],Listes!A71:A77,Listes!A70) -> #N/A | J71: =Tableau1[[#This Row],[Fin3]]-Tableau1[[#This Row],[Début2]] -> 0.020833333 | K71: =IF(MONTH(B71)=1,"JANV",IF(MONTH(B71)=2,"FEV",IF(MONTH(B71)=3,"MARS",IF(MONTH(B71)=4,"AVR",IF(MONTH(B71)=5,"MAI",IF(MONTH(B71)=6,"JUIN",IF(MONTH(B71)=7,"JUILL",IF(MONTH(B71)=8,"AOU",IF(MONTH(B71)=9,"SEPT",IF(MONTH(B71)=10,"OCT",IF(MONTH(B71)=11,"NOV",IF(MONTH(B71)=12,"DEC","")))))))))))) -> JUIN
A72: Scan/Envoi AE | B72: 43986 | C72: 0.625 | D72: 43986 | E72: 0.64583333 | F72: CHEMIN GALET 1 | H72: ECL | I72: =MATCH(Tableau1[[#This Row],[AGENT]],Listes!A72:A78,Listes!A71) -> #N/A | J72: =Tableau1[[#This Row],[Fin3]]-Tableau1[[#This Row],[Début2]] -> 0.020833333 | K72: =IF(MONTH(B72)=1,"JANV",IF(MONTH(B72)=2,"FEV",IF(MONTH(B72)=3,"MARS",IF(MONTH(B72)=4,"AVR",IF(MONTH(B72)=5,"MAI",IF(MONTH(B72)=6,"JUIN",IF(MONTH(B72)=7,"JUILL",IF(MONTH(B72)=8,"AOU",IF(MONTH(B72)=9,"SEPT",IF(MONTH(B72)=10,"OCT",IF(MONTH(B72)=11,"NOV",IF(MONTH(B72)=12,"DEC","")))))))))))) -> JUIN
A73: Envoi Lettre de rejet CSPS | B73: 43987 | C73: 0.375 | D73: 43987 | E73: 0.39583333 | F73: CHEMIN GALET 1 | H73: ECL | I73: =MATCH(Tableau1[[#This Row],[AGENT]],Listes!A73:A79,Listes!A72) -> #N/A | J73: =Tableau1[[#This Row],[Fin3]]-Tableau1[[#This Row],[Début2]] -> 0.020833333 | K73: =IF(MONTH(B73)=1,"JANV",IF(MONTH(B73)=2,"FEV",IF(MONTH(B73)=3,"MARS",IF(MONTH(B73)=4,"AVR",IF(MONTH(B73)=5,"MAI",IF(MONTH(B73)=6,"JUIN",IF(MONTH(B73)=7,"JUILL",IF(MONTH(B73)=8,"AOU",IF(MONTH(B73)=9,"SEPT",IF(MONTH(B73)=10,"OCT",IF(MONTH(B73)=11,"NOV",IF(MONTH(B73)=12,"DEC","")))))))))))) -> JUIN
A74: CHEMIN GALET 1 | B74: 43986 | C74: 0.625 | D74: 43986 | E74: 0.64583333 | F74: CHEMIN GALET 1 | G74: ADMINISTRATIF | H74: MHO | I74: =MATCH(Tableau1[[#This Row],[AGENT]],Listes!A74:A80,Listes!A73) -> #N/A | J74: =Tableau1[[#This Row],[Fin3]]-Tableau1[[#This Row],[Début2]] -> 0.020833333 | K74: =IF(MONTH(B74)=1,"JANV",IF(MONTH(B74)=2,"FEV",IF(MONTH(B74)=3,"MARS",IF(MONTH(B74)=4,"AVR",IF(MONTH(B74)=5,"MAI",IF(MONTH(B74)=6,"JUIN",IF(MONTH(B74)=7,"JUILL",IF(MONTH(B74)=8,"AOU",IF(MONTH(B74)=9,"SEPT",IF(MONTH(B74)=10,"OCT",IF(MONTH(B74)=11,"NOV",IF(MONTH(B74)=12,"DEC","")))))))))))) -> JUIN
A75: Dossier numérique - Demande LBU | B75: 43985 | C75: 0.60416667 | D75: 43985 | E75: 0.64583333 | F75: CHOKA BLEU | H75: ECL | I75: =MATCH(Tableau1[[#This Row],[AGENT]],Listes!A75:A81,Listes!A74) -> #N/A | J75: =Tableau1[[#This Row],[Fin3]]-Tableau1[[#This Row],[Début2]] -> 0.041666667 | K75: =IF(MONTH(B75)=1,"JANV",IF(MONTH(B75)=2,"FEV",IF(MONTH(B75)=3,"MARS",IF(MONTH(B75)=4,"AVR",IF(MONTH(B75)=5,"MAI",IF(MONTH(B75)=6,"JUIN",IF(MONTH(B75)=7,"JUILL",IF(MONTH(B75)=8,"AOU",IF(MONTH(B75)=9,"SEPT",IF(MONTH(B75)=10,"OCT",IF(MONTH(B75)=11,"NOV",IF(MONTH(B75)=12,"DEC","")))))))))))) -> JUIN
A76: CHOKA BLEU | B76: 43987 | C76: 0.5625 | D76: 43987 | E76: 0.58333333 | F76: CHOKA BLEU | G76: ADMINISTRATIF | H76: MHO | I76: =MATCH(Tableau1[[#This Row],[AGENT]],Listes!A76:A82,Listes!A75) -> #N/A | J76: =Tableau1[[#This Row],[Fin3]]-Tableau1[[#This Row],[Début2]] -> 0.020833333 | K76: =IF(MONTH(B76)=1,"JANV",IF(MONTH(B76)=2,"FEV",IF(MONTH(B76)=3,"MARS",IF(MONTH(B76)=4,"AVR",IF(MONTH(B76)=5,"MAI",IF(MONTH(B76)=6,"JUIN",IF(MONTH(B76)=7,"JUILL",IF(MONTH(B76)=8,"AOU",IF(MONTH(B76)=9,"SEPT",IF(MONTH(B76)=10,"OCT",IF(MONTH(B76)=11,"NOV",IF(MONTH(B76)=12,"DEC","")))))))))))) -> JUIN
A77: Traitement LC | B77: 43986 | C77: 0.66666667 | D77: 43986 | E77: 0.6875 | F77: CITRONNELLES | H77: ECL | I77: =MATCH(Tableau1[[#This Row],[AGENT]],Listes!A77:A83,Listes!A76) -> #N/A | J77: =Tableau1[[#This Row],[Fin3]]-Tableau1[[#This Row],[Début2]] -> 0.020833333 | K77: =IF(MONTH(B77)=1,"JANV",IF(MONTH(B77)=2,"FEV",IF(MONTH(B77)=3,"MARS",IF(MONTH(B77)=4,"AVR",IF(MONTH(B77)=5,"MAI",IF(MONTH(B77)=6,"JUIN",IF(MONTH(B77)=7,"JUILL",IF(MONTH(B77)=8,"AOU",IF(MONTH(B77)=9,"SEPT",IF(MONTH(B77)=10,"OCT",IF(MONTH(B77)=11,"NOV",IF(MONTH(B77)=12,"DEC","")))))))))))) -> JUIN
A78: Citronnelles | B78: 43984 | C78: 0.5625 | D78: 43984 | E78: 0.58333333 | F78: CITRONNELLES | G78: ADMINISTRATIF | H78: JER | I78: =MATCH(Tableau1[[#This Row],[AGENT]],Listes!A78:A84,Listes!A77) -> #N/A | J78: =Tableau1[[#This Row],[Fin3]]-Tableau1[[#This Row],[Début2]] -> 0.020833333 | K78: =IF(MONTH(B78)=1,"JANV",IF(MONTH(B78)=2,"FEV",IF(MONTH(B78)=3,"MARS",IF(MONTH(B78)=4,"AVR",IF(MONTH(B78)=5,"MAI",IF(MONTH(B78)=6,"JUIN",IF(MONTH(B78)=7,"JUILL",IF(MONTH(B78)=8,"AOU",IF(MONTH(B78)=9,"SEPT",IF(MONTH(B78)=10,"OCT",IF(MONTH(B78)=11,"NOV",IF(MONTH(B78)=12,"DEC","")))))))))))) -> JUIN
A79: CITRONNELLES | B79: 43984 | C79: 0.58333333 | D79: 43984 | E79: 0.64583333 | F79: CITRONNELLES | G79: CHANTIER | H79: JER | I79: =MATCH(Tableau1[[#This Row],[AGENT]],Listes!A79:A85,Listes!A78) -> #N/A | J79: =Tableau1[[#This Row],[Fin3]]-Tableau1[[#This Row],[Début2]] -> 0.0625 | K79: =IF(MONTH(B79)=1,"JANV",IF(MONTH(B79)=2,"FEV",IF(MONTH(B79)=3,"MARS",IF(MONTH(B79)=4,"AVR",IF(MONTH(B79)=5,"MAI",IF(MONTH(B79)=6,"JUIN",IF(MONTH(B79)=7,"JUILL",IF(MONTH(B79)=8,"AOU",IF(MONTH(B79)=9,"SEPT",IF(MONTH(B79)=10,"OCT",IF(MONTH(B79)=11,"NOV",IF(MONTH(B79)=12,"DEC","")))))))))))) -> JUIN
A80: CITRONELLES | B80: 43984 | C80: 0.54166667 | D80: 43984 | E80: 0.5625 | F80: CITRONNELLES | G80: ADMINISTRATIF | H80: MHO | I80: =MATCH(Tableau1[[#This Row],[AGENT]],Listes!A80:A86,Listes!A79) -> #N/A | J80: =Tableau1[[#This Row],[Fin3]]-Tableau1[[#This Row],[Début2]] -> 0.020833333 | K80: =IF(MONTH(B80)=1,"JANV",IF(MONTH(B80)=2,"FEV",IF(MONTH(B80)=3,"MARS",IF(MONTH(B80)=4,"AVR",IF(MONTH(B80)=5,"MAI",IF(MONTH(B80)=6,"JUIN",IF(MONTH(B80)=7,"JUILL",IF(MONTH(B80)=8,"AOU",IF(MONTH(B80)=9,"SEPT",IF(MONTH(B80)=10,"OCT",IF(MONTH(B80)=11,"NOV",IF(MONTH(B80)=12,"DEC","")))))))))))) -> JUIN
A81: CURE 2 DEAL | B81: 43984 | C81: 0.58333333 | D81: 43984 | E81: 0.60416667 | F81: CURE 2 | H81: NLE | I81: =MATCH(Tableau1[[#This Row],[AGENT]],Listes!A81:A87,Listes!A80) -> #N/A | J81: =Tableau1[[#This Row],[Fin3]]-Tableau1[[#This Row],[Début2]] -> 0.020833333 | K81: =IF(MONTH(B81)=1,"JANV",IF(MONTH(B81)=2,"FEV",IF(MONTH(B81)=3,"MARS",IF(MONTH(B81)=4,"AVR",IF(MONTH(B81)=5,"MAI",IF(MONTH(B81)=6,"JUIN",IF(MONTH(B81)=7,"JUILL",IF(MONTH(B81)=8,"AOU",IF(MONTH(B81)=9,"SEPT",IF(MONTH(B81)=10,"OCT",IF(MONTH(B81)=11,"NOV",IF(MONTH(B81)=12,"DEC","")))))))))))) -> JUIN
A82: classement Marché OPC envi MOE | B82: 43986 | C82: 0.66666667 | D82: 43986 | E82: 0.6875 | F82: CURE 2 | H82: NLE | I82: =MATCH(Tableau1[[#This Row],[AGENT]],Listes!A82:A88,Listes!A81) -> #N/A | J82: =Tableau1[[#This Row],[Fin3]]-Tableau1[[#This Row],[Début2]] -> 0.020833333 | K82: =IF(MONTH(B82)=1,"JANV",IF(MONTH(B82)=2,"FEV",IF(MONTH(B82)=3,"MARS",IF(MONTH(B82)=4,"AVR",IF(MONTH(B82)=5,"MAI",IF(MONTH(B82)=6,"JUIN",IF(MONTH(B82)=7,"JUILL",IF(MONTH(B82)=8,"AOU",IF(MONTH(B82)=9,"SEPT",IF(MONTH(B82)=10,"OCT",IF(MONTH(B82)=11,"NOV",IF(MONTH(B82)=12,"DEC","")))))))))))) -> JUIN
A83: POINT ACT DAKOTA | B83: 43984 | C83: 0.375 | D83: 43984 | E83: 0.41666667 | F83: DAKOTA | H83: ECL | I83: =MATCH(Tableau1[[#This Row],[AGENT]],Listes!A83:A89,Listes!A82) -> #N/A | J83: =Tableau1[[#This Row],[Fin3]]-Tableau1[[#This Row],[Début2]] -> 0.041666667 | K83: =IF(MONTH(B83)=1,"JANV",IF(MONTH(B83)=2,"FEV",IF(MONTH(B83)=3,"MARS",IF(MONTH(B83)=4,"AVR",IF(MONTH(B83)=5,"MAI",IF(MONTH(B83)=6,"JUIN",IF(MONTH(B83)=7,"JUILL",IF(MONTH(B83)=8,"AOU",IF(MONTH(B83)=9,"SEPT",IF(MONTH(B83)=10,"OCT",IF(MONTH(B83)=11,"NOV",IF(MONTH(B83)=12,"DEC","")))))))))))) -> JUIN
A84: DAKOTA | B84: 43986 | C84: 0.33333333 | D84: 43986 | E84: 0.41666667 | F84: DAKOTA | H84: ECL | I84: =MATCH(Tableau1[[#This Row],[AGENT]],Listes!A84:A90,Listes!A83) -> #N/A | J84: =Tableau1[[#This Row],[Fin3]]-Tableau1[[#This Row],[Début2]] -> 0.083333333 | K84: =IF(MONTH(B84)=1,"JANV",IF(MONTH(B84)=2,"FEV",IF(MONTH(B84)=3,"MARS",IF(MONTH(B84)=4,"AVR",IF(MONTH(B84)=5,"MAI",IF(MONTH(B84)=6,"JUIN",IF(MONTH(B84)=7,"JUILL",IF(MONTH(B84)=8,"AOU",IF(MONTH(B84)=9,"SEPT",IF(MONTH(B84)=10,"OCT",IF(MONTH(B84)=11,"NOV",IF(MONTH(B84)=12,"DEC","")))))))))))) -> JUIN
B85: 43984 | C85: 0.33333333 | D85: 43984 | E85: 0.35416667 | F85: DAKOTA | G85: ADMINISTRATIF | H85: TQU | I85: =MATCH(Tableau1[[#This Row],[AGENT]],Listes!A85:A91,Listes!A84) -> #N/A | J85: =Tableau1[[#This Row],[Fin3]]-Tableau1[[#This Row],[Début2]] -> 0.020833333 | K85: =IF(MONTH(B85)=1,"JANV",IF(MONTH(B85)=2,"FEV",IF(MONTH(B85)=3,"MARS",IF(MONTH(B85)=4,"AVR",IF(MONTH(B85)=5,"MAI",IF(MONTH(B85)=6,"JUIN",IF(MONTH(B85)=7,"JUILL",IF(MONTH(B85)=8,"AOU",IF(MONTH(B85)=9,"SEPT",IF(MONTH(B85)=10,"OCT",IF(MONTH(B85)=11,"NOV",IF(MONTH(B85)=12,"DEC","")))))))))))) -> JUIN
A86: POINT ACT DAKOTA | B86: 43984 | C86: 0.375 | D86: 43984 | E86: 0.41666667 | F86: DAKOTA | G86: ADMINISTRATIF | H86: TQU | I86: =MATCH(Tableau1[[#This Row],[AGENT]],Listes!A86:A92,Listes!A85) -> #N/A | J86: =Tableau1[[#This Row],[Fin3]]-Tableau1[[#This Row],[Début2]] -> 0.041666667 | K86: =IF(MONTH(B86)=1,"JANV",IF(MONTH(B86)=2,"FEV",IF(MONTH(B86)=3,"MARS",IF(MONTH(B86)=4,"AVR",IF(MONTH(B86)=5,"MAI",IF(MONTH(B86)=6,"JUIN",IF(MONTH(B86)=7,"JUILL",IF(MONTH(B86)=8,"AOU",IF(MONTH(B86)=9,"SEPT",IF(MONTH(B86)=10,"OCT",IF(MONTH(B86)=11,"NOV",IF(MONTH(B86)=12,"DEC","")))))))))))) -> JUIN
B87: 43984 | C87: 0.41666667 | D87: 43984 | E87: 0.45833333 | F87: DAKOTA | G87: ADMINISTRATIF | H87: TQU | I87: =MATCH(Tableau1[[#This Row],[AGENT]],Listes!A87:A93,Listes!A86) -> #N/A | J87: =Tableau1[[#This Row],[Fin3]]-Tableau1[[#This Row],[Début2]] -> 0.041666667 | K87: =IF(MONTH(B87)=1,"JANV",IF(MONTH(B87)=2,"FEV",IF(MONTH(B87)=3,"MARS",IF(MONTH(B87)=4,"AVR",IF(MONTH(B87)=5,"MAI",IF(MONTH(B87)=6,"JUIN",IF(MONTH(B87)=7,"JUILL",IF(MONTH(B87)=8,"AOU",IF(MONTH(B87)=9,"SEPT",IF(MONTH(B87)=10,"OCT",IF(MONTH(B87)=11,"NOV",IF(MONTH(B87)=12,"DEC","")))))))))))) -> JUIN
B88: 43984 | C88: 0.45833333 | D88: 43984 | E88: 0.47916667 | F88: DAKOTA | G88: ADMINISTRATIF | H88: TQU | I88: =MATCH(Tableau1[[#This Row],[AGENT]],Listes!A88:A94,Listes!A87) -> #N/A | J88: =Tableau1[[#This Row],[Fin3]]-Tableau1[[#This Row],[Début2]] -> 0.020833333 | K88: =IF(MONTH(B88)=1,"JANV",IF(MONTH(B88)=2,"FEV",IF(MONTH(B88)=3,"MARS",IF(MONTH(B88)=4,"AVR",IF(MONTH(B88)=5,"MAI",IF(MONTH(B88)=6,"JUIN",IF(MONTH(B88)=7,"JUILL",IF(MONTH(B88)=8,"AOU",IF(MONTH(B88)=9,"SEPT",IF(MONTH(B88)=10,"OCT",IF(MONTH(B88)=11,"NOV",IF(MONTH(B88)=12,"DEC","")))))))))))) -> JUIN
A89: POINT FONDS PROPRES DAKOTA | B89: 43985 | C89: 0.6875 | D89: 43985 | E89: 0.70833333 | F89: DAKOTA | G89: ADMINISTRATIF | H89: TQU | I89: =MATCH(Tableau1[[#This Row],[AGENT]],Listes!A89:A95,Listes!A88) -> #N/A | J89: =Tableau1[[#This Row],[Fin3]]-Tableau1[[#This Row],[Début2]] -> 0.020833333 | K89: =IF(MONTH(B89)=1,"JANV",IF(MONTH(B89)=2,"FEV",IF(MONTH(B89)=3,"MARS",IF(MONTH(B89)=4,"AVR",IF(MONTH(B89)=5,"MAI",IF(MONTH(B89)=6,"JUIN",IF(MONTH(B89)=7,"JUILL",IF(MONTH(B89)=8,"AOU",IF(MONTH(B89)=9,"SEPT",IF(MONTH(B89)=10,"OCT",IF(MONTH(B89)=11,"NOV",IF(MONTH(B89)=12,"DEC","")))))))))))) -> JUIN
B90: 43985 | C90: 0.375 | D90: 43985 | E90: 0.41666667 | F90: DAKOTA | G90: ADMINISTRATIF | H90: TQU | I90: =MATCH(Tableau1[[#This Row],[AGENT]],Listes!A90:A96,Listes!A89) -> #N/A | J90: =Tableau1[[#This Row],[Fin3]]-Tableau1[[#This Row],[Début2]] -> 0.041666667 | K90: =IF(MONTH(B90)=1,"JANV",IF(MONTH(B90)=2,"FEV",IF(MONTH(B90)=3,"MARS",IF(MONTH(B90)=4,"AVR",IF(MONTH(B90)=5,"MAI",IF(MONTH(B90)=6,"JUIN",IF(MONTH(B90)=7,"JUILL",IF(MONTH(B90)=8,"AOU",IF(MONTH(B90)=9,"SEPT",IF(MONTH(B90)=10,"OCT",IF(MONTH(B90)=11,"NOV",IF(MONTH(B90)=12,"DEC","")))))))))))) -> JUIN
B91: 43985 | C91: 0.70833333 | D91: 43985 | E91: 0.75 | F91: DAKOTA | G91: ADMINISTRATIF | H91: TQU | I91: =MATCH(Tableau1[[#This Row],[AGENT]],Listes!A91:A97,Listes!A90) -> #N/A | J91: =Tableau1[[#This Row],[Fin3]]-Tableau1[[#This Row],[Début2]] -> 0.041666667 | K91: =IF(MONTH(B91)=1,"JANV",IF(MONTH(B91)=2,"FEV",IF(MONTH(B91)=3,"MARS",IF(MONTH(B91)=4,"AVR",IF(MONTH(B91)=5,"MAI",IF(MONTH(B91)=6,"JUIN",IF(MONTH(B91)=7,"JUILL",IF(MONTH(B91)=8,"AOU",IF(MONTH(B91)=9,"SEPT",IF(MONTH(B91)=10,"OCT",IF(MONTH(B91)=11,"NOV",IF(MONTH(B91)=12,"DEC","")))))))))))) -> JUIN
B92: 43986 | C92: 0.4375 | D92: 43986 | E92: 0.47916667 | F92: DAKOTA | G92: ADMINISTRATIF | H92: TQU | I92: =MATCH(Tableau1[[#This Row],[AGENT]],Listes!A92:A98,Listes!A91) -> #N/A | J92: =Tableau1[[#This Row],[Fin3]]-Tableau1[[#This Row],[Début2]] -> 0.041666667 | K92: =IF(MONTH(B92)=1,"JANV",IF(MONTH(B92)=2,"FEV",IF(MONTH(B92)=3,"MARS",IF(MONTH(B92)=4,"AVR",IF(MONTH(B92)=5,"MAI",IF(MONTH(B92)=6,"JUIN",IF(MONTH(B92)=7,"JUILL",IF(MONTH(B92)=8,"AOU",IF(MONTH(B92)=9,"SEPT",IF(MONTH(B92)=10,"OCT",IF(MONTH(B92)=11,"NOV",IF(MONTH(B92)=12,"DEC","")))))))))))) -> JUIN
B93: 43987 | C93: 0.375 | D93: 43987 | E93: 0.41666667 | F93: DAKOTA | G93: ADMINISTRATIF | H93: TQU | I93: =MATCH(Tableau1[[#This Row],[AGENT]],Listes!A93:A99,Listes!A92) -> #N/A | J93: =Tableau1[[#This Row],[Fin3]]-Tableau1[[#This Row],[Début2]] -> 0.041666667 | K93: =IF(MONTH(B93)=1,"JANV",IF(MONTH(B93)=2,"FEV",IF(MONTH(B93)=3,"MARS",IF(MONTH(B93)=4,"AVR",IF(MONTH(B93)=5,"MAI",IF(MONTH(B93)=6,"JUIN",IF(MONTH(B93)=7,"JUILL",IF(MONTH(B93)=8,"AOU",IF(MONTH(B93)=9,"SEPT",IF(MONTH(B93)=10,"OCT",IF(MONTH(B93)=11,"NOV",IF(MONTH(B93)=12,"DEC","")))))))))))) -> JUIN
B94: 43987 | C94: 0.41666667 | D94: 43987 | E94: 0.5 | F94: DAKOTA | G94: ADMINISTRATIF | H94: TQU | I94: =MATCH(Tableau1[[#This Row],[AGENT]],Listes!A94:A100,Listes!A93) -> #N/A | J94: =Tableau1[[#This Row],[Fin3]]-Tableau1[[#This Row],[Début2]] -> 0.083333333 | K94: =IF(MONTH(B94)=1,"JANV",IF(MONTH(B94)=2,"FEV",IF(MONTH(B94)=3,"MARS",IF(MONTH(B94)=4,"AVR",IF(MONTH(B94)=5,"MAI",IF(MONTH(B94)=6,"JUIN",IF(MONTH(B94)=7,"JUILL",IF(MONTH(B94)=8,"AOU",IF(MONTH(B94)=9,"SEPT",IF(MONTH(B94)=10,"OCT",IF(MONTH(B94)=11,"NOV",IF(MONTH(B94)=12,"DEC","")))))))))))) -> JUIN
B95: 43987 | C95: 0.54166667 | D95: 43987 | E95: 0.58333333 | F95: DAKOTA | G95: ADMINISTRATIF | H95: TQU | I95: =MATCH(Tableau1[[#This Row],[AGENT]],Listes!A95:A101,Listes!A94) -> #N/A | J95: =Tableau1[[#This Row],[Fin3]]-Tableau1[[#This Row],[Début2]] -> 0.041666667 | K95: =IF(MONTH(B95)=1,"JANV",IF(MONTH(B95)=2,"FEV",IF(MONTH(B95)=3,"MARS",IF(MONTH(B95)=4,"AVR",IF(MONTH(B95)=5,"MAI",IF(MONTH(B95)=6,"JUIN",IF(MONTH(B95)=7,"JUILL",IF(MONTH(B95)=8,"AOU",IF(MONTH(B95)=9,"SEPT",IF(MONTH(B95)=10,"OCT",IF(MONTH(B95)=11,"NOV",IF(MONTH(B95)=12,"DEC","")))))))))))) -> JUIN
A96: DEMANDE INTERVENTION | B96: 43986 | C96: 0.375 | D96: 43986 | E96: 0.5 | F96: DEVIS - PATRIMOINE | H96: MMA | I96: =MATCH(Tableau1[[#This Row],[AGENT]],Listes!A96:A102,Listes!A95) -> #N/A | J96: =Tableau1[[#This Row],[Fin3]]-Tableau1[[#This Row],[Début2]] -> 0.125 | K96: =IF(MONTH(B96)=1,"JANV",IF(MONTH(B96)=2,"FEV",IF(MONTH(B96)=3,"MARS",IF(MONTH(B96)=4,"AVR",IF(MONTH(B96)=5,"MAI",IF(MONTH(B96)=6,"JUIN",IF(MONTH(B96)=7,"JUILL",IF(MONTH(B96)=8,"AOU",IF(MONTH(B96)=9,"SEPT",IF(MONTH(B96)=10,"OCT",IF(MONTH(B96)=11,"NOV",IF(MONTH(B96)=12,"DEC","")))))))))))) -> JUIN
A97: PATRIMOINE | B97: 43986 | C97: 0.54166667 | D97: 43986 | E97: 0.70833333 | F97: DEVIS - PATRIMOINE | H97: MMA | I97: =MATCH(Tableau1[[#This Row],[AGENT]],Listes!A97:A103,Listes!A96) -> #N/A | J97: =Tableau1[[#This Row],[Fin3]]-Tableau1[[#This Row],[Début2]] -> 0.16666667 | K97: =IF(MONTH(B97)=1,"JANV",IF(MONTH(B97)=2,"FEV",IF(MONTH(B97)=3,"MARS",IF(MONTH(B97)=4,"AVR",IF(MONTH(B97)=5,"MAI",IF(MONTH(B97)=6,"JUIN",IF(MONTH(B97)=7,"JUILL",IF(MONTH(B97)=8,"AOU",IF(MONTH(B97)=9,"SEPT",IF(MONTH(B97)=10,"OCT",IF(MONTH(B97)=11,"NOV",IF(MONTH(B97)=12,"DEC","")))))))))))) -> JUIN
A98: réunion planning | B98: 43984 | C98: 0.5625 | D98: 43984 | E98: 0.60416667 | F98: divers | H98: BBL | I98: =MATCH(Tableau1[[#This Row],[AGENT]],Listes!A98:A104,Listes!A97) -> #N/A | J98: =Tableau1[[#This Row],[Fin3]]-Tableau1[[#This Row],[Début2]] -> 0.041666667 | K98: =IF(MONTH(B98)=1,"JANV",IF(MONTH(B98)=2,"FEV",IF(MONTH(B98)=3,"MARS",IF(MONTH(B98)=4,"AVR",IF(MONTH(B98)=5,"MAI",IF(MONTH(B98)=6,"JUIN",IF(MONTH(B98)=7,"JUILL",IF(MONTH(B98)=8,"AOU",IF(MONTH(B98)=9,"SEPT",IF(MONTH(B98)=10,"OCT",IF(MONTH(B98)=11,"NOV",IF(MONTH(B98)=12,"DEC","")))))))))))) -> JUIN
A99: réunion planning | B99: 43984 | C99: 0.5625 | D99: 43984 | E99: 0.60416667 | F99: DIVERS | H99: MHO | I99: =MATCH(Tableau1[[#This Row],[AGENT]],Listes!A99:A105,Listes!A98) -> #N/A | J99: =Tableau1[[#This Row],[Fin3]]-Tableau1[[#This Row],[Début2]] -> 0.041666667 | K99: =IF(MONTH(B99)=1,"JANV",IF(MONTH(B99)=2,"FEV",IF(MONTH(B99)=3,"MARS",IF(MONTH(B99)=4,"AVR",IF(MONTH(B99)=5,"MAI",IF(MONTH(B99)=6,"JUIN",IF(MONTH(B99)=7,"JUILL",IF(MONTH(B99)=8,"AOU",IF(MONTH(B99)=9,"SEPT",IF(MONTH(B99)=10,"OCT",IF(MONTH(B99)=11,"NOV",IF(MONTH(B99)=12,"DEC","")))))))))))) -> JUIN
A100: Offre Désinfection BELLEVUE - CANAL LILIS | B100: 43985 | C100: 0.5 | D100: 43985 | E100: 0.52083333 | F100: DIVERS | G100: Lancement/Offre consultation | H100: MHO | I100: =MATCH(Tableau1[[#This Row],[AGENT]],Listes!A100:A106,Listes!A99) -> #N/A | J100: =Tableau1[[#This Row],[Fin3]]-Tableau1[[#This Row],[Début2]] -> 0.020833333 | K100: =IF(MONTH(B100)=1,"JANV",IF(MONTH(B100)=2,"FEV",IF(MONTH(B100)=3,"MARS",IF(MONTH(B100)=4,"AVR",IF(MONTH(B100)=5,"MAI",IF(MONTH(B100)=6,"JUIN",IF(MONTH(B100)=7,"JUILL",IF(MONTH(B100)=8,"AOU",IF(MONTH(B100)=9,"SEPT",IF(MONTH(B100)=10,"OCT",IF(MONTH(B100)=11,"NOV",IF(MONTH(B100)=12,"DEC","")))))))))))) -> JUIN
...

Sheet Listes
A1: RO | B1: ASS
A2: BBL | B2: DBA
A3: FHO | B3: DBE
A4: JER | B4: ECL
A5: MHO | B5: MMA
A6: MTG | B6: NLE
A7: TQU | B7: SRI
A8: YFR | B8: VAF

Sheet Analyse
A1: MOIS | B1: (Tous) | H1: MOIS | I1: (Tous)
A3: Étiquettes de lignes | B3: Somme de Nombre heures | H3: Étiquettes de lignes | I3: Somme de Nombre heures
A4: A faire | B4: 0.020833333 | H4: (vide) | I4: 6.0520833
A5: ADJIBI | B5: 0.16666667 | H5: ADMINISTRATIF | I5: 4.375
A6: ADMINISTRATIF | B6: 0.125 | H6: CHANTIER | I6: 0.60416667
A7: Adminitratif | B7: 0.10416667 | H7: Lancement/Offre consultation | I7: 0.020833333
A8: AMATA | B8: 0.77083333 | H8: DIVERS | I8: 0.020833333
A9: Appel de fonds | B9: 0.70833333 | H9: Total général | I9: 11.072917
A10: BELLEVUE | B10: 0.29166667
A11: BERTAUT | B11: 0.10416667
A12: BOUGAINVILLEES | B12: 0.0625
A13: BOULANGER | B13: 0.25
A14: BRAS DE LA PLAINE | B14: 0.020833333
A15: BRAS DES ETANGS | B15: 0.35416667
A16: CANAL LILIS | B16: 0.16666667
A17: CARAMBOLES | B17: 0.041666667
A18: CASABIANCA | B18: 0.020833333
A19: CD61 | B19: 0.27083333
A20: CHEMIN GALET 1 | B20: 0.083333333
A21: CHOKA BLEU | B21: 0.0625
... A70: Total général | B70: 11.072917
