Workbook

Sheet Données
A1: Objet | B1: Début | C1: Début2 | D1: Fin | E1: Fin3 | F1: Opération | G1: Catégorie | H1: AGENT | I1: TYPE | J1: Nombre heures | K1: MOIS
A2: Suite CAO - BOUGAINVILLIERS/ LA CURE 1 | B2: 43985 | C2: 0.54166667 | D2: 43985 | E2: 0.5625 | F2: A faire | G2: DIVERS | H2: MHO | I2: =MATCH(Tableau1[[#This Row],[AGENT]],Listes!A2:A8,Listes!A1) -> #REF! | J2: =Tableau1[[#This Row],[Fin3]]-Tableau1[[#This Row],[Début2]] -> 0.020833333 | K2: =IF(MONTH(B2)=1,"JANV",IF(MONTH(B2)=2,"FEV",IF(MONTH(B2)=3,"MARS",IF(MONTH(B2)=4,"AVR",IF(MONTH(B2)=5,"MAI",IF(MONTH(B2)=6,"JUIN",IF(MONTH(B2)=7,"JUILL",IF(MONTH(B2)=8,"AOU",IF(MONTH(B2)=9,"SEPT",IF(MONTH(B2)=10,"OCT",IF(MONTH(B2)=11,"NOV",IF(MONTH(B2)=12,"DEC","")))))))))))) -> JUIN
A3: AMATA : relancer Mairie (Attestation de non opposition à la conformité) | B3: 43986 | C3: 0.45833333 | D3: 43986 | E3: 0.45833333 | F3: A faire | G3: DIVERS | H3: MHO | I3: =MATCH(Tableau1[[#This Row],[AGENT]],Listes!A3:A9,Listes!A2) -> #REF! | J3: =Tableau1[[#This Row],[Fin3]]-Tableau1[[#This Row],[Début2]] -> 0 | K3: =IF(MONTH(B3)=1,"JANV",IF(MONTH(B3)=2,"FEV",IF(MONTH(B3)=3,"MARS",IF(MONTH(B3)=4,"AVR",IF(MONTH(B3)=5,"MAI",IF(MONTH(B3)=6,"JUIN",IF(MONTH(B3)=7,"JUILL",IF(MONTH(B3)=8,"AOU",IF(MONTH(B3)=9,"SEPT",IF(MONTH(B3)=10,"OCT",IF(MONTH(B3)=11,"NOV",IF(MONTH(B3)=12,"DEC","")))))))))))) -> JUIN
B4: 43984 | C4: 0.66666667 | D4: 43984 | E4: 0.70833333 | F4: ADJIBI | G4: ADMINISTRATIF | H4: TQU | I4: =MATCH(Tableau1[[#This Row],[AGENT]],Listes!A4:A10,Listes!A3) -> #REF! | J4: =Tableau1[[#This Row],[Fin3]]-Tableau1[[#This Row],[Début2]] -> 0.041666667 | K4: =IF(MONTH(B4)=1,"JANV",IF(MONTH(B4)=2,"FEV",IF(MONTH(B4)=3,"MARS",IF(MONTH(B4)=4,"AVR",IF(MONTH(B4)=5,"MAI",IF(MONTH(B4)=6,"JUIN",IF(MONTH(B4)=7,"JUILL",IF(MONTH(B4)=8,"AOU",IF(MONTH(B4)=9,"SEPT",IF(MONTH(B4)=10,"OCT",IF(MONTH(B4)=11,"NOV",IF(MONTH(B4)=12,"DEC","")))))))))))) -> JUIN
B5: 43986 | C5: 0.33333333 | D5: 43986 | E5: 0.375 | F5: ADJIBI | G5: ADMINISTRATIF | H5: TQU | I5: =MATCH(Tableau1[[#This Row],[AGENT]],Listes!A5:A11,Listes!A4) -> #REF! | J5: =Tableau1[[#This Row],[Fin3]]-Tableau1[[#This Row],[Début2]] -> 0.041666667 | K5: =IF(MONTH(B5)=1,"JANV",IF(MONTH(B5)=2,"FEV",IF(MONTH(B5)=3,"MARS",IF(MONTH(B5)=4,"AVR",IF(MONTH(B5)=5,"MAI",IF(MONTH(B5)=6,"JUIN",IF(MONTH(B5)=7,"JUILL",IF(MONTH(B5)=8,"AOU",IF(MONTH(B5)=9,"SEPT",IF(MONTH(B5)=10,"OCT",IF(MONTH(B5)=11,"NOV",IF(MONTH(B5)=12,"DEC","")))))))))))) -> JUIN
B6: 43986 | C6: 0.375 | D6: 43986 | E6: 0.4375 | F6: ADJIBI | G6: ADMINISTRATIF | H6: TQU | I6: =MATCH(Tableau1[[#This Row],[AGENT]],Listes!A6:A12,Listes!A5) -> #REF! | J6: =Tableau1[[#This Row],[Fin3]]-Tableau1[[#This Row],[Début2]] -> 0.0625 | K6: =IF(MONTH(B6)=1,"JANV",IF(MONTH(B6)=2,"FEV",IF(MONTH(B6)=3,"MARS",IF(MONTH(B6)=4,"AVR",IF(MONTH(B6)=5,"MAI",IF(MONTH(B6)=6,"JUIN",IF(MONTH(B6)=7,"JUILL",IF(MONTH(B6)=8,"AOU",IF(MONTH(B6)=9,"SEPT",IF(MONTH(B6)=10,"OCT",IF(MONTH(B6)=11,"NOV",IF(MONTH(B6)=12,"DEC","")))))))))))) -> JUIN
B7: 43986 | C7: 0.47916667 | D7: 43986 | E7: 0.5 | F7: ADJIBI | G7: ADMINISTRATIF | H7: TQU | I7: =MATCH(Tableau1[[#This Row],[AGENT]],Listes!A7:A13,Listes!A6) -> #REF! | J7: =Tableau1[[#This Row],[Fin3]]-Tableau1[[#This Row],[Début2]] -> 0.020833333 | K7: =IF(MONTH(B7)=1,"JANV",IF(MONTH(B7)=2,"FEV",IF(MONTH(B7)=3,"MARS",IF(MONTH(B7)=4,"AVR",IF(MONTH(B7)=5,"MAI",IF(MONTH(B7)=6,"JUIN",IF(MONTH(B7)=7,"JUILL",IF(MONTH(B7)=8,"AOU",IF(MONTH(B7)=9,"SEPT",IF(MONTH(B7)=10,"OCT",IF(MONTH(B7)=11,"NOV",IF(MONTH(B7)=12,"DEC","")))))))))))) -> JUIN
A8: réunion tableau de la vacance | B8: 43987 | C8: 0.33333333 | D8: 43987 | E8: 0.45833333 | F8: ADMINISTRATIF | H8: JER | I8: =MATCH(Tableau1[[#This Row],[AGENT]],Listes!A8:A14,Listes!A7) -> #REF! | J8: =Tableau1[[#This Row],[Fin3]]-Tableau1[[#This Row],[Début2]] -> 0.125 | K8: =IF(MONTH(B8)=1,"JANV",IF(MONTH(B8)=2,"FEV",IF(MONTH(B8)=3,"MARS",IF(MONTH(B8)=4,"AVR",IF(MONTH(B8)=5,"MAI",IF(MONTH(B8)=6,"JUIN",IF(MONTH(B8)=7,"JUILL",IF(MONTH(B8)=8,"AOU",IF(MONTH(B8)=9,"SEPT",IF(MONTH(B8)=10,"OCT",IF(MONTH(B8)=11,"NOV",IF(MONTH(B8)=12,"DEC","")))))))))))) -> JUIN
A9: Traitement courrier arrivé | B9: 43984 | C9: 0.41666667 | D9: 43984 | E9: 0.45833333 | F9: Adminitratif | H9: ECL | I9: =MATCH(Tableau1[[#This Row],[AGENT]],Listes!A9:A15,Listes!A8) -> #REF! | J9: =Tableau1[[#This Row],[Fin3]]-Tableau1[[#This Row],[Début2]] -> 0.041666667 | K9: =IF(MONTH(B9)=1,"JANV",IF(MONTH(B9)=2,"FEV",IF(MONTH(B9)=3,"MARS",IF(MONTH(B9)=4,"AVR",IF(MONTH(B9)=5,"MAI",IF(MONTH(B9)=6,"JUIN",IF(MONTH(B9)=7,"JUILL",IF(MONTH(B9)=8,"AOU",IF(MONTH(B9)=9,"SEPT",IF(MONTH(B9)=10,"OCT",IF(MONTH(B9)=11,"NOV",IF(MONTH(B9)=12,"DEC","")))))))))))) -> JUIN
A10: Courrier proposition VEFA parcelle BZ273 | B10: 43986 | C10: 0.41666667 | D10: 43986 | E10: 0.45833333 | F10: Adminitratif | H10: ECL | I10: =MATCH(Tableau1[[#This Row],[AGENT]],Listes!A10:A16,Listes!A9) -> #N/A | J10: =Tableau1[[#This Row],[Fin3]]-Tableau1[[#This Row],[Début2]] -> 0.041666667 | K10: =IF(MONTH(B10)=1,"JANV",IF(MONTH(B10)=2,"FEV",IF(MONTH(B10)=3,"MARS",IF(MONTH(B10)=4,"AVR",IF(MONTH(B10)=5,"MAI",IF(MONTH(B10)=6,"JUIN",IF(MONTH(B10)=7,"JUILL",IF(MONTH(B10)=8,"AOU",IF(MONTH(B10)=9,"SEPT",IF(MONTH(B10)=10,"OCT",IF(MONTH(B10)=11,"NOV",IF(MONTH(B10)=12,"DEC","")))))))))))) -> JUIN
A11: Affranchissement courrier | B11: 43987 | C11: 0.33333333 | D11: 43987 | E11: 0.35416667 | F11: Adminitratif | H11: ECL | I11: =MATCH(Tableau1[[#This Row],[AGENT]],Listes!A11:A17,Listes!A10) -> #N/A | J11: =Tableau1[[#This Row],[Fin3]]-Tableau1[[#This Row],[Début2]] -> 0.020833333 | K11: =IF(MONTH(B11)=1,"JANV",IF(MONTH(B11)=2,"FEV",IF(MONTH(B11)=3,"MARS",IF(MONTH(B11)=4,"AVR",IF(MONTH(B11)=5,"MAI",IF(MONTH(B11)=6,"JUIN",IF(MONTH(B11)=7,"JUILL",IF(MONTH(B11)=8,"AOU",IF(MONTH(B11)=9,"SEPT",IF(MONTH(B11)=10,"OCT",IF(MONTH(B11)=11,"NOV",IF(MONTH(B11)=12,"DEC","")))))))))))) -> JUIN
A12: AMATA | B12: 43984 | C12: 0.45833333 | D12: 43984 | E12: 0.5 | F12: AMATA | G12: ADMINISTRATIF | H12: MHO | I12: =MATCH(Tableau1[[#This Row],[AGENT]],Listes!A12:A18,Listes!A11) -> #N/A | J12: =Tableau1[[#This Row],[Fin3]]-Tableau1[[#This Row],[Début2]] -> 0.041666667 | K12: =IF(MONTH(B12)=1,"JANV",IF(MONTH(B12)=2,"FEV",IF(MONTH(B12)=3,"MARS",IF(MONTH(B12)=4,"AVR",IF(MONTH(B12)=5,"MAI",IF(MONTH(B12)=6,"JUIN",IF(MONTH(B12)=7,"JUILL",IF(MONTH(B12)=8,"AOU",IF(MONTH(B12)=9,"SEPT",IF(MONTH(B12)=10,"OCT",IF(MONTH(B12)=11,"NOV",IF(MONTH(B12)=12,"DEC","")))))))))))) -> JUIN
A13: AMATA - Point libération de RG | B13: 43984 | C13: 0.625 | D13: 43984 | E13: 0.66666667 | F13: AMATA | G13: ADMINISTRATIF | H13: MHO | I13: =MATCH(Tableau1[[#This Row],[AGENT]],Listes!A13:A19,Listes!A12) -> #N/A | J13: =Tableau1[[#This Row],[Fin3]]-Tableau1[[#This Row],[Début2]] -> 0.041666667 | K13: =IF(MONTH(B13)=1,"JANV",IF(MONTH(B13)=2,"FEV",IF(MONTH(B13)=3,"MARS",IF(MONTH(B13)=4,"AVR",IF(MONTH(B13)=5,"MAI",IF(MONTH(B13)=6,"JUIN",IF(MONTH(B13)=7,"JUILL",IF(MONTH(B13)=8,"AOU",IF(MONTH(B13)=9,"SEPT",IF(MONTH(B13)=10,"OCT",IF(MONTH(B13)=11,"NOV",IF(MONTH(B13)=12,"DEC","")))))))))))) -> JUIN
A14: AMATA | B14: 43985 | C14: 0.33333333 | D14: 43985 | E14: 0.41666667 | F14: AMATA | G14: ADMINISTRATIF | H14: MHO | I14: =MATCH(Tableau1[[#This Row],[AGENT]],Listes!A14:A20,Listes!A13) -> #N/A | J14: =Tableau1[[#This Row],[Fin3]]-Tableau1[[#This Row],[Début2]] -> 0.083333333 | K14: =IF(MONTH(B14)=1,"JANV",IF(MONTH(B14)=2,"FEV",IF(MONTH(B14)=3,"MARS",IF(MONTH(B14)=4,"AVR",IF(MONTH(B14)=5,"MAI",IF(MONTH(B14)=6,"JUIN",IF(MONTH(B14)=7,"JUILL",IF(MONTH(B14)=8,"AOU",IF(MONTH(B14)=9,"SEPT",IF(MONTH(B14)=10,"OCT",IF(MONTH(B14)=11,"NOV",IF(MONTH(B14)=12,"DEC","")))))))))))) -> JUIN
A15: AMATA | B15: 43985 | C15: 0.5625 | D15: 43985 | E15: 0.625 | F15: AMATA | G15: ADMINISTRATIF | H15: MHO | I15: =MATCH(Tableau1[[#This Row],[AGENT]],Listes!A15:A21,Listes!A14) -> #N/A | J15: =Tableau1[[#This Row],[Fin3]]-Tableau1[[#This Row],[Début2]] -> 0.0625 | K15: =IF(MONTH(B15)=1,"JANV",IF(MONTH(B15)=2,"FEV",IF(MONTH(B15)=3,"MARS",IF(MONTH(B15)=4,"AVR",IF(MONTH(B15)=5,"MAI",IF(MONTH(B15)=6,"JUIN",IF(MONTH(B15)=7,"JUILL",IF(MONTH(B15)=8,"AOU",IF(MONTH(B15)=9,"SEPT",IF(MONTH(B15)=10,"OCT",IF(MONTH(B15)=11,"NOV",IF(MONTH(B15)=12,"DEC","")))))))))))) -> JUIN
A16: AMATA | B16: 43986 | C16: 0.375 | D16: 43986 | E16: 0.47916667 | F16: AMATA | G16: ADMINISTRATIF | H16: MHO | I16: =MATCH(Tableau1[[#This Row],[AGENT]],Listes!A16:A22,Listes!A15) -> #N/A | J16: =Tableau1[[#This Row],[Fin3]]-Tableau1[[#This Row],[Début2]] -> 0.10416667 | K16: =IF(MONTH(B16)=1,"JANV",IF(MONTH(B16)=2,"FEV",IF(MONTH(B16)=3,"MARS",IF(MONTH(B16)=4,"AVR",IF(MONTH(B16)=5,"MAI",IF(MONTH(B16)=6,"JUIN",IF(MONTH(B16)=7,"JUILL",IF(MONTH(B16)=8,"AOU",IF(MONTH(B16)=9,"SEPT",IF(MONTH(B16)=10,"OCT",IF(MONTH(B16)=11,"NOV",IF(MONTH(B16)=12,"DEC","")))))))))))) -> JUIN
A17: AMATA | B17: 43987 | C17: 0.58333333 | D17: 43987 | E17: 0.64583333 | F17: AMATA | G17: ADMINISTRATIF | H17: MHO | I17: =MATCH(Tableau1[[#This Row],[AGENT]],Listes!A17:A23,Listes!A16) -> #N/A | J17: =Tableau1[[#This Row],[Fin3]]-Tableau1[[#This Row],[Début2]] -> 0.0625 | K17: =IF(MONTH(B17)=1,"JANV",IF(MONTH(B17)=2,"FEV",IF(MONTH(B17)=3,"MARS",IF(MONTH(B17)=4,"AVR",IF(MONTH(B17)=5,"MAI",IF(MONTH(B17)=6,"JUIN",IF(MONTH(B17)=7,"JUILL",IF(MONTH(B17)=8,"AOU",IF(MONTH(B17)=9,"SEPT",IF(MONTH(B17)=10,"OCT",IF(MONTH(B17)=11,"NOV",IF(MONTH(B17)=12,"DEC","")))))))))))) -> JUIN
A18: Rétrocession AMATA | B18: 43986 | C18: 0.375 | D18: 43986 | E18: 0.39583333 | F18: AMATA | H18: VAF | I18: =MATCH(Tableau1[[#This Row],[AGENT]],Listes!A18:A24,Listes!A17) -> #N/A | J18: =Tableau1[[#This Row],[Fin3]]-Tableau1[[#This Row],[Début2]] -> 0.020833333 | K18: =IF(MONTH(B18)=1,"JANV",IF(MONTH(B18)=2,"FEV",IF(MONTH(B18)=3,"MARS",IF(MONTH(B18)=4,"AVR",IF(MONTH(B18)=5,"MAI",IF(MONTH(B18)=6,"JUIN",IF(MONTH(B18)=7,"JUILL",IF(MONTH(B18)=8,"AOU",IF(MONTH(B18)=9,"SEPT",IF(MONTH(B18)=10,"OCT",IF(MONTH(B18)=11,"NOV",IF(MONTH(B18)=12,"DEC","")))))))))))) -> JUIN
A19: AMATA | B19: 43984 | C19: 0.625 | D19: 43984 | E19: 0.70833333 | F19: AMATA | H19: VAF | I19: =MATCH(Tableau1[[#This Row],[AGENT]],Listes!A19:A25,Listes!A18) -> #N/A | J19: =Tableau1[[#This Row],[Fin3]]-Tableau1[[#This Row],[Début2]] -> 0.083333333 | K19: =IF(MONTH(B19)=1,"JANV",IF(MONTH(B19)=2,"FEV",IF(MONTH(B19)=3,"MARS",IF(MONTH(B19)=4,"AVR",IF(MONTH(B19)=5,"MAI",IF(MONTH(B19)=6,"JUIN",IF(MONTH(B19)=7,"JUILL",IF(MONTH(B19)=8,"AOU",IF(MONTH(B19)=9,"SEPT",IF(MONTH(B19)=10,"OCT",IF(MONTH(B19)=11,"NOV",IF(MONTH(B19)=12,"DEC","")))))))))))) -> JUIN
A20: AMATA | B20: 43985 | C20: 0.33333333 | D20: 43985 | E20: 0.41666667 | F20: AMATA | H20: VAF | I20: =MATCH(Tableau1[[#This Row],[AGENT]],Listes!A20:A26,Listes!A19) -> #N/A | J20: =Tableau1[[#This Row],[Fin3]]-Tableau1[[#This Row],[Début2]] -> 0.083333333 | K20: =IF(MONTH(B20)=1,"JANV",IF(MONTH(B20)=2,"FEV",IF(MONTH(B20)=3,"MARS",IF(MONTH(B20)=4,"AVR",IF(MONTH(B20)=5,"MAI",IF(MONTH(B20)=6,"JUIN",IF(MONTH(B20)=7,"JUILL",IF(MONTH(B20)=8,"AOU",IF(MONTH(B20)=9,"SEPT",IF(MONTH(B20)=10,"OCT",IF(MONTH(B20)=11,"NOV",IF(MONTH(B20)=12,"DEC","")))))))))))) -> JUIN
A21: AMATA | B21: 43986 | C21: 0.39583333 | D21: 43986 | E21: 0.47916667 | F21: AMATA | H21: VAF | I21: =MATCH(Tableau1[[#This Row],[AGENT]],Listes!A21:A27,Listes!A20) -> #N/A | J21: =Tableau1[[#This Row],[Fin3]]-Tableau1[[#This Row],[Début2]] -> 0.083333333 | K21: =IF(MONTH(B21)=1,"JANV",IF(MONTH(B21)=2,"FEV",IF(MONTH(B21)=3,"MARS",IF(MONTH(B21)=4,"AVR",IF(MONTH(B21)=5,"MAI",IF(MONTH(B21)=6,"JUIN",IF(MONTH(B21)=7,"JUILL",IF(MONTH(B21)=8,"AOU",IF(MONTH(B21)=9,"SEPT",IF(MONTH(B21)=10,"OCT",IF(MONTH(B21)=11,"NOV",IF(MONTH(B21)=12,"DEC","")))))))))))) -> JUIN
A22: AMATA | B22: 43986 | C22: 0.54166667 | D22: 43986 | E22: 0.58333333 | F22: AMATA | H22: VAF | I22: =MATCH(Tableau1[[#This Row],[AGENT]],Listes!A22:A28,Listes!A21) -> #N/A | J22: =Tableau1[[#This Row],[Fin3]]-Tableau1[[#This Row],[Début2]] -> 0.041666667 | K22: =IF(MONTH(B22)=1,"JANV",IF(MONTH(B22)=2,"FEV",IF(MONTH(B22)=3,"MARS",IF(MONTH(B22)=4,"AVR",IF(MONTH(B22)=5,"MAI",IF(MONTH(B22)=6,"JUIN",IF(MONTH(B22)=7,"JUILL",IF(MONTH(B22)=8,"AOU",IF(MONTH(B22)=9,"SEPT",IF(MONTH(B22)=10,"OCT",IF(MONTH(B22)=11,"NOV",IF(MONTH(B22)=12,"DEC","")))))))))))) -> JUIN
A23: AMATA | B23: 43987 | C23: 0.35416667 | D23: 43987 | E23: 0.41666667 | F23: AMATA | H23: VAF | I23: =MATCH(Tableau1[[#This Row],[AGENT]],Listes!A23:A29,Listes!A22) -> #N/A | J23: =Tableau1[[#This Row],[Fin3]]-Tableau1[[#This Row],[Début2]] -> 0.0625 | K23: =IF(MONTH(B23)=1,"JANV",IF(MONTH(B23)=2,"FEV",IF(MONTH(B23)=3,"MARS",IF(MONTH(B23)=4,"AVR",IF(MONTH(B23)=5,"MAI",IF(MONTH(B23)=6,"JUIN",IF(MONTH(B23)=7,"JUILL",IF(MONTH(B23)=8,"AOU",IF(MONTH(B23)=9,"SEPT",IF(MONTH(B23)=10,"OCT",IF(MONTH(B23)=11,"NOV",IF(MONTH(B23)=12,"DEC","")))))))))))) -> JUIN
A24: Fleurs Jaunes Lacaussade Amata | B24: 43984 | C24: 0.33333333 | D24: 43984 | E24: 0.45833333 | F24: Appel de fonds | H24: SRI | I24: =MATCH(Tableau1[[#This Row],[AGENT]],Listes!A24:A30,Listes!A23) -> #N/A | J24: =Tableau1[[#This Row],[Fin3]]-Tableau1[[#This Row],[Début2]] -> 0.125 | K24: =IF(MONTH(B24)=1,"JANV",IF(MONTH(B24)=2,"FEV",IF(MONTH(B24)=3,"MARS",IF(MONTH(B24)=4,"AVR",IF(MONTH(B24)=5,"MAI",IF(MONTH(B24)=6,"JUIN",IF(MONTH(B24)=7,"JUILL",IF(MONTH(B24)=8,"AOU",IF(MONTH(B24)=9,"SEPT",IF(MONTH(B24)=10,"OCT",IF(MONTH(B24)=11,"NOV",IF(MONTH(B24)=12,"DEC","")))))))))))) -> JUIN
A25: Lacaussade | B25: 43984 | C25: 0.58333333 | D25: 43984 | E25: 0.70833333 | F25: Appel de fonds | H25: SRI | I25: =MATCH(Tableau1[[#This Row],[AGENT]],Listes!A25:A31,Listes!A24) -> #N/A | J25: =Tableau1[[#This Row],[Fin3]]-Tableau1[[#This Row],[Début2]] -> 0.125 | K25: =IF(MONTH(B25)=1,"JANV",IF(MONTH(B25)=2,"FEV",IF(MONTH(B25)=3,"MARS",IF(MONTH(B25)=4,"AVR",IF(MONTH(B25)=5,"MAI",IF(MONTH(B25)=6,"JUIN",IF(MONTH(B25)=7,"JUILL",IF(MONTH(B25)=8,"AOU",IF(MONTH(B25)=9,"SEPT",IF(MONTH(B25)=10,"OCT",IF(MONTH(B25)=11,"NOV",IF(MONTH(B25)=12,"DEC","")))))))))))) -> JUIN
A26: Amata Fleurs jaunes Lacaussade | B26: 43985 | C26: 0.33333333 | D26: 43985 | E26: 0.5 | F26: Appel de fonds | H26: SRI | I26: =MATCH(Tableau1[[#This Row],[AGENT]],Listes!A26:A32,Listes!A25) -> #N/A | J26: =Tableau1[[#This Row],[Fin3]]-Tableau1[[#This Row],[Début2]] -> 0.16666667 | K26: =IF(MONTH(B26)=1,"JANV",IF(MONTH(B26)=2,"FEV",IF(MONTH(B26)=3,"MARS",IF(MONTH(B26)=4,"AVR",IF(MONTH(B26)=5,"MAI",IF(MONTH(B26)=6,"JUIN",IF(MONTH(B26)=7,"JUILL",IF(MONTH(B26)=8,"AOU",IF(MONTH(B26)=9,"SEPT",IF(MONTH(B26)=10,"OCT",IF(MONTH(B26)=11,"NOV",IF(MONTH(B26)=12,"DEC","")))))))))))) -> JUIN
A27: Manapany | B27: 43985 | C27: 0.625 | D27: 43985 | E27: 0.70833333 | F27: Appel de fonds | H27: SRI | I27: =MATCH(Tableau1[[#This Row],[AGENT]],Listes!A27:A33,Listes!A26) -> #N/A | J27: =Tableau1[[#This Row],[Fin3]]-Tableau1[[#This Row],[Début2]] -> 0.083333333 | K27: =IF(MONTH(B27)=1,"JANV",IF(MONTH(B27)=2,"FEV",IF(MONTH(B27)=3,"MARS",IF(MONTH(B27)=4,"AVR",IF(MONTH(B27)=5,"MAI",IF(MONTH(B27)=6,"JUIN",IF(MONTH(B27)=7,"JUILL",IF(MONTH(B27)=8,"AOU",IF(MONTH(B27)=9,"SEPT",IF(MONTH(B27)=10,"OCT",IF(MONTH(B27)=11,"NOV",IF(MONTH(B27)=12,"DEC","")))))))))))) -> JUIN
A28: Fanjan | B28: 43987 | C28: 0.39583333 | D28: 43987 | E28: 0.5 | F28: Appel de fonds | H28: SRI | I28: =MATCH(Tableau1[[#This Row],[AGENT]],Listes!A28:A34,Listes!A27) -> #N/A | J28: =Tableau1[[#This Row],[Fin3]]-Tableau1[[#This Row],[Début2]] -> 0.10416667 | K28: =IF(MONTH(B28)=1,"JANV",IF(MONTH(B28)=2,"FEV",IF(MONTH(B28)=3,"MARS",IF(MONTH(B28)=4,"AVR",IF(MONTH(B28)=5,"MAI",IF(MONTH(B28)=6,"JUIN",IF(MONTH(B28)=7,"JUILL",IF(MONTH(B28)=8,"AOU",IF(MONTH(B28)=9,"SEPT",IF(MONTH(B28)=10,"OCT",IF(MONTH(B28)=11,"NOV",IF(MONTH(B28)=12,"DEC","")))))))))))) -> JUIN
A29: Fanjan | B29: 43987 | C29: 0.54166667 | D29: 43987 | E29: 0.64583333 | F29: Appel de fonds | H29: SRI | I29: =MATCH(Tableau1[[#This Row],[AGENT]],Listes!A29:A35,Listes!A28) -> #N/A | J29: =Tableau1[[#This Row],[Fin3]]-Tableau1[[#This Row],[Début2]] -> 0.10416667 | K29: =IF(MONTH(B29)=1,"JANV",IF(MONTH(B29)=2,"FEV",IF(MONTH(B29)=3,"MARS",IF(MONTH(B29)=4,"AVR",IF(MONTH(B29)=5,"MAI",IF(MONTH(B29)=6,"JUIN",IF(MONTH(B29)=7,"JUILL",IF(MONTH(B29)=8,"AOU",IF(MONTH(B29)=9,"SEPT",IF(MONTH(B29)=10,"OCT",IF(MONTH(B29)=11,"NOV",IF(MONTH(B29)=12,"DEC","")))))))))))) -> JUIN
A30: Bellevue | B30: 43984 | C30: 0.33333333 | D30: 43984 | E30: 0.375 | F30: BELLEVUE | G30: ADMINISTRATIF | H30: JER | I30: =MATCH(Tableau1[[#This Row],[AGENT]],Listes!A30:A36,Listes!A29) -> #N/A | J30: =Tableau1[[#This Row],[Fin3]]-Tableau1[[#This Row],[Début2]] -> 0.041666667 | K30: =IF(MONTH(B30)=1,"JANV",IF(MONTH(B30)=2,"FEV",IF(MONTH(B30)=3,"MARS",IF(MONTH(B30)=4,"AVR",IF(MONTH(B30)=5,"MAI",IF(MONTH(B30)=6,"JUIN",IF(MONTH(B30)=7,"JUILL",IF(MONTH(B30)=8,"AOU",IF(MONTH(B30)=9,"SEPT",IF(MONTH(B30)=10,"OCT",IF(MONTH(B30)=11,"NOV",IF(MONTH(B30)=12,"DEC","")))))))))))) -> JUIN
A31: Bellevue | B31: 43984 | C31: 0.66666667 | D31: 43984 | E31: 0.6875 | F31: BELLEVUE | G31: ADMINISTRATIF | H31: JER | I31: =MATCH(Tableau1[[#This Row],[AGENT]],Listes!A31:A37,Listes!A30) -> #N/A | J31: =Tableau1[[#This Row],[Fin3]]-Tableau1[[#This Row],[Début2]] -> 0.020833333 | K31: =IF(MONTH(B31)=1,"JANV",IF(MONTH(B31)=2,"FEV",IF(MONTH(B31)=3,"MARS",IF(MONTH(B31)=4,"AVR",IF(MONTH(B31)=5,"MAI",IF(MONTH(B31)=6,"JUIN",IF(MONTH(B31)=7,"JUILL",IF(MONTH(B31)=8,"AOU",IF(MONTH(B31)=9,"SEPT",IF(MONTH(B31)=10,"OCT",IF(MONTH(B31)=11,"NOV",IF(MONTH(B31)=12,"DEC","")))))))))))) -> JUIN
A32: Bellevue | B32: 43986 | C32: 0.64583333 | D32: 43986 | E32: 0.66666667 | F32: BELLEVUE | G32: ADMINISTRATIF | H32: JER | I32: =MATCH(Tableau1[[#This Row],[AGENT]],Listes!A32:A38,Listes!A31) -> #N/A | J32: =Tableau1[[#This Row],[Fin3]]-Tableau1[[#This Row],[Début2]] -> 0.020833333 | K32: =IF(MONTH(B32)=1,"JANV",IF(MONTH(B32)=2,"FEV",IF(MONTH(B32)=3,"MARS",IF(MONTH(B32)=4,"AVR",IF(MONTH(B32)=5,"MAI",IF(MONTH(B32)=6,"JUIN",IF(MONTH(B32)=7,"JUILL",IF(MONTH(B32)=8,"AOU",IF(MONTH(B32)=9,"SEPT",IF(MONTH(B32)=10,"OCT",IF(MONTH(B32)=11,"NOV",IF(MONTH(B32)=12,"DEC","")))))))))))) -> JUIN
A33: BELLEVUE | B33: 43984 | C33: 0.33333333 | D33: 43984 | E33: 0.375 | F33: BELLEVUE | G33: ADMINISTRATIF | H33: MHO | I33: =MATCH(Tableau1[[#This Row],[AGENT]],Listes!A33:A39,Listes!A32) -> #N/A | J33: =Tableau1[[#This Row],[Fin3]]-Tableau1[[#This Row],[Début2]] -> 0.041666667 | K33: =IF(MONTH(B33)=1,"JANV",IF(MONTH(B33)=2,"FEV",IF(MONTH(B33)=3,"MARS",IF(MONTH(B33)=4,"AVR",IF(MONTH(B33)=5,"MAI",IF(MONTH(B33)=6,"JUIN",IF(MONTH(B33)=7,"JUILL",IF(MONTH(B33)=8,"AOU",IF(MONTH(B33)=9,"SEPT",IF(MONTH(B33)=10,"OCT",IF(MONTH(B33)=11,"NOV",IF(MONTH(B33)=12,"DEC","")))))))))))) -> JUIN
A34: BELLEVUE | B34: 43985 | C34: 0.4375 | D34: 43985 | E34: 0.47916667 | F34: BELLEVUE | G34: ADMINISTRATIF | H34: MHO | I34: =MATCH(Tableau1[[#This Row],[AGENT]],Listes!A34:A40,Listes!A33) -> #N/A | J34: =Tableau1[[#This Row],[Fin3]]-Tableau1[[#This Row],[Début2]] -> 0.041666667 | K34: =IF(MONTH(B34)=1,"JANV",IF(MONTH(B34)=2,"FEV",IF(MONTH(B34)=3,"MARS",IF(MONTH(B34)=4,"AVR",IF(MONTH(B34)=5,"MAI",IF(MONTH(B34)=6,"JUIN",IF(MONTH(B34)=7,"JUILL",IF(MONTH(B34)=8,"AOU",IF(MONTH(B34)=9,"SEPT",IF(MONTH(B34)=10,"OCT",IF(MONTH(B34)=11,"NOV",IF(MONTH(B34)=12,"DEC","")))))))))))) -> JUIN
A35: BELLEVUE | B35: 43985 | C35: 0.66666667 | D35: 43985 | E35: 0.70833333 | F35: BELLEVUE | G35: ADMINISTRATIF | H35: MHO | I35: =MATCH(Tableau1[[#This Row],[AGENT]],Listes!A35:A41,Listes!A34) -> #N/A | J35: =Tableau1[[#This Row],[Fin3]]-Tableau1[[#This Row],[Début2]] -> 0.041666667 | K35: =IF(MONTH(B35)=1,"JANV",IF(MONTH(B35)=2,"FEV",IF(MONTH(B35)=3,"MARS",IF(MONTH(B35)=4,"AVR",IF(MONTH(B35)=5,"MAI",IF(MONTH(B35)=6,"JUIN",IF(MONTH(B35)=7,"JUILL",IF(MONTH(B35)=8,"AOU",IF(MONTH(B35)=9,"SEPT",IF(MONTH(B35)=10,"OCT",IF(MONTH(B35)=11,"NOV",IF(MONTH(B35)=12,"DEC","")))))))))))) -> JUIN
A36: BELLEVUE | B36: 43986 | C36: 0.35416667 | D36: 43986 | E36: 0.375 | F36: BELLEVUE | G36: ADMINISTRATIF | H36: MHO | I36: =MATCH(Tableau1[[#This Row],[AGENT]],Listes!A36:A42,Listes!A35) -> #N/A | J36: =Tableau1[[#This Row],[Fin3]]-Tableau1[[#This Row],[Début2]] -> 0.020833333 | K36: =IF(MONTH(B36)=1,"JANV",IF(MONTH(B36)=2,"FEV",IF(MONTH(B36)=3,"MARS",IF(MONTH(B36)=4,"AVR",IF(MONTH(B36)=5,"MAI",IF(MONTH(B36)=6,"JUIN",IF(MONTH(B36)=7,"JUILL",IF(MONTH(B36)=8,"AOU",IF(MONTH(B36)=9,"SEPT",IF(MONTH(B36)=10,"OCT",IF(MONTH(B36)=11,"NOV",IF(MONTH(B36)=12,"DEC","")))))))))))) -> JUIN
A37: BELLEVUE | B37: 43986 | C37: 0.60416667 | D37: 43986 | E37: 0.625 | F37: BELLEVUE | G37: ADMINISTRATIF | H37: MHO | I37: =MATCH(Tableau1[[#This Row],[AGENT]],Listes!A37:A43,Listes!A36) -> #N/A | J37: =Tableau1[[#This Row],[Fin3]]-Tableau1[[#This Row],[Début2]] -> 0.020833333 | K37: =IF(MONTH(B37)=1,"JANV",IF(MONTH(B37)=2,"FEV",IF(MONTH(B37)=3,"MARS",IF(MONTH(B37)=4,"AVR",IF(MONTH(B37)=5,"MAI",IF(MONTH(B37)=6,"JUIN",IF(MONTH(B37)=7,"JUILL",IF(MONTH(B37)=8,"AOU",IF(MONTH(B37)=9,"SEPT",IF(MONTH(B37)=10,"OCT",IF(MONTH(B37)=11,"NOV",IF(MONTH(B37)=12,"DEC","")))))))))))) -> JUIN
A38: BELLEVUE | B38: 43987 | C38: 0.54166667 | D38: 43987 | E38: 0.5625 | F38: BELLEVUE | G38: ADMINISTRATIF | H38: MHO | I38: =MATCH(Tableau1[[#This Row],[AGENT]],Listes!A38:A44,Listes!A37) -> #N/A | J38: =Tableau1[[#This Row],[Fin3]]-Tableau1[[#This Row],[Début2]] -> 0.020833333 | K38: =IF(MONTH(B38)=1,"JANV",IF(MONTH(B38)=2,"FEV",IF(MONTH(B38)=3,"MARS",IF(MONTH(B38)=4,"AVR",IF(MONTH(B38)=5,"MAI",IF(MONTH(B38)=6,"JUIN",IF(MONTH(B38)=7,"JUILL",IF(MONTH(B38)=8,"AOU",IF(MONTH(B38)=9,"SEPT",IF(MONTH(B38)=10,"OCT",IF(MONTH(B38)=11,"NOV",IF(MONTH(B38)=12,"DEC","")))))))))))) -> JUIN
A39: traitement classement | B39: 43984 | C39: 0.47916667 | D39: 43984 | E39: 0.5 | F39: BELLEVUE | H39: NLE | I39: =MATCH(Tableau1[[#This Row],[AGENT]],Listes!A39:A45,Listes!A38) -> #N/A | J39: =Tableau1[[#This Row],[Fin3]]-Tableau1[[#This Row],[Début2]] -> 0.020833333 | K39: =IF(MONTH(B39)=1,"JANV",IF(MONTH(B39)=2,"FEV",IF(MONTH(B39)=3,"MARS",IF(MONTH(B39)=4,"AVR",IF(MONTH(B39)=5,"MAI",IF(MONTH(B39)=6,"JUIN",IF(MONTH(B39)=7,"JUILL",IF(MONTH(B39)=8,"AOU",IF(MONTH(B39)=9,"SEPT",IF(MONTH(B39)=10,"OCT",IF(MONTH(B39)=11,"NOV",IF(MONTH(B39)=12,"DEC","")))))))))))) -> JUIN
B40: 43985 | C40: 0.41666667 | D40: 43985 | E40: 0.45833333 | F40: BERTAUT | G40: ADMINISTRATIF | H40: TQU | I40: =MATCH(Tableau1[[#This Row],[AGENT]],Listes!A40:A46,Listes!A39) -> #N/A | J40: =Tableau1[[#This Row],[Fin3]]-Tableau1[[#This Row],[Début2]] -> 0.041666667 | K40: =IF(MONTH(B40)=1,"JANV",IF(MONTH(B40)=2,"FEV",IF(MONTH(B40)=3,"MARS",IF(MONTH(B40)=4,"AVR",IF(MONTH(B40)=5,"MAI",IF(MONTH(B40)=6,"JUIN",IF(MONTH(B40)=7,"JUILL",IF(MONTH(B40)=8,"AOU",IF(MONTH(B40)=9,"SEPT",IF(MONTH(B40)=10,"OCT",IF(MONTH(B40)=11,"NOV",IF(MONTH(B40)=12,"DEC","")))))))))))) -> JUIN
...

Sheet Listes
A1: RO | B1: ASS
A2: BBL | B2: DBA
A3: FHO | B3: DBE
A4: JER | B4: ECL
A5: MHO | B5: MMA
A6: MTG | B6: NLE
A7: TQU | B7: SRI
A8: YFR | B8: VAF

Sheet Analyse
A1: MOIS | B1: (Tous) | H1: MOIS | I1: (Tous)
A3: Étiquettes de lignes | B3: Somme de Nombre heures | H3: Étiquettes de lignes | I3: Somme de Nombre heures
A4: A faire | B4: 0.020833333 | H4: (vide) | I4: 6.0520833
A5: ADJIBI | B5: 0.16666667 | H5: ADMINISTRATIF | I5: 4.375
A6: ADMINISTRATIF | B6: 0.125 | H6: CHANTIER | I6: 0.60416667
A7: Adminitratif | B7: 0.10416667 | H7: Lancement/Offre consultation | I7: 0.020833333
A8: AMATA | B8: 0.77083333 | H8: DIVERS | I8: 0.020833333
A9: Appel de fonds | B9: 0.70833333 | H9: Total général | I9: 11.072917
A10: BELLEVUE | B10: 0.29166667
A11: BERTAUT | B11: 0.10416667
A12: BOUGAINVILLEES | B12: 0.0625
A13: BOULANGER | B13: 0.25
A14: BRAS DE LA PLAINE | B14: 0.020833333
A15: BRAS DES ETANGS | B15: 0.35416667
A16: CANAL LILIS | B16: 0.16666667
A17: CARAMBOLES | B17: 0.041666667
A18: CASABIANCA | B18: 0.020833333
A19: CD61 | B19: 0.27083333
A20: CHEMIN GALET 1 | B20: 0.083333333
A21: CHOKA BLEU | B21: 0.0625
... A70: Total général | B70: 11.072917
