Workbook
Name adresse: '[1]NOTE DE PRESENTATION'!$B$23
Name adresse: '[2]NOTE DE PRESENTATION'!$B$23
Name adresse: '[3]NOTE DE PRESENTATION'!$B$23
Name adresse_siege: '[1]Données d''entrée'!$E$20
Name adresse_siege: '[2]Données d''entrée'!$E$20
Name adresse_siege: '[3]Données d''entrée'!$E$20
Name BASELOYERMAX: '[1]Paramètres Loyers'!$A$3:$D$8
Name BASELOYERMAX: '[2]Paramètres Loyers'!$A$3:$D$8
Name BASELOYERMAX: '[3]Paramètres Loyers'!$A$3:$D$8
Name CAF_Tot: '[1]Prgr. 2021'!#REF!
Name CAF_Tot: '[3]Prgr. 2021'!#REF!
Name CAF_Tot: '[2]Prgr. 2021'!#REF!
Name CAF_Tot: '[3]Prgr. 2021'!#REF!
Name CDC_LLS: '[1]Prgr. 2021'!$Y$67
Name CDC_LLS: '[2]Prgr. 2021'!$Y$65
Name CDC_LLS: '[3]Prgr. 2021'!$Y$65
Name CDC_LLS_construction: '[1]Prgr. 2021'!$Y$68
Name CDC_LLS_construction: '[2]Prgr. 2021'!$Y$66
Name CDC_LLS_construction: '[3]Prgr. 2021'!$Y$66
Name CDC_LLS_foncier: [1]Bdgt!$R$160
Name CDC_LLS_foncier: [2]Bdgt!$R$160
Name CDC_LLS_foncier: [3]Bdgt!$R$160
Name CDC_LLTS: '[1]Prgr. 2021'!$Z$67
Name CDC_LLTS: '[2]Prgr. 2021'!$Z$65
Name CDC_LLTS: '[3]Prgr. 2021'!$Z$65
Name CDC_LLTS_construction: '[1]Prgr. 2021'!$Z$68
Name CDC_LLTS_construction: '[2]Prgr. 2021'!$Z$66
Name CDC_LLTS_construction: '[3]Prgr. 2021'!$Z$66
Name CDC_LLTS_foncier: [1]Bdgt!$V$160
Name CDC_LLTS_foncier: [2]Bdgt!$V$160
Name CDC_LLTS_foncier: [3]Bdgt!$V$160
Name CDC_PLS: '[1]Prgr. 2021'!$AA$67
Name CDC_PLS: '[2]Prgr. 2021'!$AA$65
Name CDC_PLS: '[3]Prgr. 2021'!$AA$65
Name CDC_PLS_construction: '[1]Prgr. 2021'!$AA$68
Name CDC_PLS_construction: '[2]Prgr. 2021'!$AA$66
Name CDC_PLS_construction: '[3]Prgr. 2021'!$AA$66
Name CDC_PLS_foncier: [1]Bdgt!$Z$160
Name CDC_PLS_foncier: [2]Bdgt!$Z$160
Name CDC_PLS_foncier: [3]Bdgt!$Z$160
Name code: [1]Bdgt!$G$1
Name code: [2]Bdgt!$G$1
Name code: [3]Bdgt!$G$1
Name commune: '[1]NOTE DE PRESENTATION'!$A$5
Name commune: '[2]NOTE DE PRESENTATION'!$A$5
Name commune: '[3]NOTE DE PRESENTATION'!$A$5
Name Crédit_Impot: '[1]SF previsio LLS-LLTS'!$N$14
Name Crédit_Impot: '[2]SF previsio LLS-LLTS'!$N$14
Name Crédit_Impot: '[3]SF previsio LLS-LLTS'!$N$14
Name Credit_Impot_LLS: '[1]Prgr. 2021'!$Y$74
Name Credit_Impot_LLS: '[2]Prgr. 2021'!$Y$72
Name Credit_Impot_LLS: '[3]Prgr. 2021'!$Y$72
Name Credit_Impot_LLTS: '[1]Prgr. 2021'!$Z$74
Name Credit_Impot_LLTS: '[2]Prgr. 2021'!$Z$72
Name Credit_Impot_LLTS: '[3]Prgr. 2021'!$Z$72
Name Credit_Impot_PLS: '[1]Prgr. 2021'!$AA$74
Name Credit_Impot_PLS: '[2]Prgr. 2021'!$AA$72
Name Credit_Impot_PLS: '[3]Prgr. 2021'!$AA$72
Name Defisc_Tot: '[1]Prgr. 2021'!$AC$74
Name Defisc_Tot: '[2]Prgr. 2021'!$AC$72

Sheet DPR GLOBAL_clé répartition
C6: VEFA "OPERATION SILOE" | E6: LLS | F6: % | G6: LLTS | H6: Ratio | I6: PLS | J6: Ratio | K6: TOTAL LOGTS | L6: Ratio | M6: COMMERCES | N6: Ratio | P6: TOTAL GLOBAL | R6: Ratio
D7: Nombre | F7: =+E7/K7 -> 0 | G7: 28 | H7: =G7/P7 -> 0.51851852 | I7: 25 | J7: =I7/P7 -> 0.46296296 | K7: =+E7+G7+I7 -> 53 | L7: =K7/P7 -> 0.98148148 | M7: 1 | N7: =M7/P7 -> 0.018518519 | P7: =K7+M7 -> 54 | R7: =H7+J7+N7 -> 1
D8: SP | F8: =+E8/K8 -> 0 | G8: 1505.7 | H8: =G8/P8 -> 0.47218389 | I8: 1596.1 | J8: =I8/P8 -> 0.50053312 | K8: =+E8+G8+I8 -> 3101.8 | L8: =K8/P8 -> 0.97271701 | M8: 87 | N8: =M8/P8 -> 0.02728299 | P8: =K8+M8 -> 3188.8 | R8: =H8+J8+N8 -> 1
D9: SHAB | F9: =+E9/K9 -> 0 | G9: 1400.84 | H9: =G9/P9 -> 0.41073366 | I9: =1636.98*0+1922.74 -> 1922.74 | J9: =I9/P9 -> 0.56375748 | K9: =+E9+G9+I9 -> 3323.58 | L9: =K9/P9 -> 0.97449114 | M9: 87 | N9: =M9/P9 -> 0.025508858 | P9: =K9+M9 -> 3410.58 | R9: =H9+J9+N9 -> 1
D10: SF | F10: =+E10/K10 -> 0 | G10: 1682.43 | H10: =G10/P10 -> 0.41830161 | I10: 2227.62 | J10: =I10/P10 -> 0.55385189 | K10: =+E10+G10+I10 -> 3910.05 | L10: =K10/P10 -> 0.9721535 | M10: 112 | N10: =M10/P10 -> 0.027846496 | P10: =K10+M10 -> 4022.05 | R10: =H10+J10+N10 -> 1
B11: Postes prévus par le décret du 15 janvier 2010 | C11: Montant HT du coût de revient de l'opération | O11: Ctrl | S11: Clé de réparition:
B12: 1° prix d'acquisition du terrain par la SEM | C12: 1. Terrain | E12: =SUM(E13:E14) -> 0 | F12: =E12/$P12 -> 0 | G12: =SUM(G13:G14) -> 410733.66 | I12: =SUM(I13:I14) -> 563757.48 | K12: =SUM(K13:K14) -> 974491.14 | M12: =SUM(M13:M14) -> 25508.858 | P12: =SUM(P13:P14) -> 1000000 | R12: =K12*100/P12 -> 97.449114 | U12: Produit | V12: Commerces
D13: Charge foncière | F13: =E13/$P13 -> 0 | G13: =O13/($G$9+$I$9+$M$9)*$G$9 -> 400465.32 | H13: =G13/$P13 -> 0.41073366 | I13: =O13/($G$9+$I$9+$M$9)*$I$9 -> 549663.55 | J13: =I13/$P13 -> 0.56375748 | K13: =+E13+G13+I13 -> 950128.86 | L13: =K13/$P13 -> 0.97449114 | M13: =O13/($G$9+$I$9+$M$9)*$M$9 -> 24871.136 | N13: =M13/$P13 -> 0.025508858 | O13: 975000 | P13: =K13+M13 -> 975000 | S13: SHAB | U13: Nombre commerce | V13: =M7 -> 1
D14: Frais de notaire acquisition / hypothèque / Commercialisation : | F14: =E14/$P14 -> 0 | G14: =O14/($G$9+$I$9+$M$9)*$G$9 -> 10268.341 | H14: =G14/$P14 -> 0.41073366 | I14: =O14/($G$9+$I$9+$M$9)*$I$9 -> 14093.936 | J14: =I14/$P14 -> 0.56375748 | K14: =+E14+G14+I14 -> 24362.277 | L14: =K14/$P14 -> 0.97449114 | M14: =O14/($G$9+$I$9+$M$9)*$M$9 -> 637.72141 | N14: =M14/$P14 -> 0.025508858 | O14: 24999.999 | P14: =K14+M14 -> 24999.999 | S14: SHAB | U14: SHAB | V14: =M9 -> 87
B15: 2° études de sol | C15: 2. Etude de sol et sondages | E15: =SUM(E16) -> 0 | F15: =E15/$P15 -> 0 | G15: =SUM(G16) -> 4723.4383 | I15: =SUM(I16) -> 6483.2127 | K15: =SUM(K16) -> 11206.651 | L15: =K15/$P15 -> 0.97449114 | M15: =SUM(M16) -> 293.35194 | N15: =M15/$P15 -> 0.025508858 | P15: =SUM(P16) -> 11500.003 | R15: =K15*100/P15 -> 97.449114 | U15: Prix de vente € TTC/SHAB | V15: =M64/M9 -> 2135.3356
D16: Etudes de sol : | F16: =E16/$P16 -> 0 | G16: =O16/($G$9+$I$9+$M$9)*$G$9 -> 4723.4383 | H16: =G16/$P16 -> 0.41073366 | I16: =O16/($G$9+$I$9+$M$9)*$I$9 -> 6483.2127 | J16: =I16/$P16 -> 0.56375748 | K16: =+E16+G16+I16 -> 11206.651 | L16: =K16/$P16 -> 0.97449114 | M16: =O16/($G$9+$I$9+$M$9)*$M$9 -> 293.35194 | N16: =M16/$P16 -> 0.025508858 | O16: 11500.003 | P16: =K16+M16 -> 11500.003 | S16: SHAB | U16: Prix de vente € TTC/SF | V16: =M64/M10 -> 1658.6982
B17: 3° VRD et concessionnaires | C17: 3. VRD | E17: =SUM(E18:E21) -> 0 | F17: =E17/$P17 -> 0 | G17: =SUM(G18:G21) -> 249869.82 | I17: =SUM(I18:I21) -> 342961.86 | K17: =SUM(K18:K21) -> 592831.69 | M17: =SUM(M18:M21) -> 15518.314 | P17: =SUM(P18:P21) -> 608350 | R17: =K17*100/P17 -> 97.449114 | U17: Prix de vente € HT | V17: =M62 -> 171220.46
D18: Travaux Demolition,Desamiantage,VRD,BT : | F18: =E18/$P18 -> 0 | G18: =O18/($G$9+$I$9+$M$9)*$G$9 -> 238225.52 | H18: =G18/$P18 -> 0.41073366 | I18: =O18/($G$9+$I$9+$M$9)*$I$9 -> 326979.34 | J18: =I18/$P18 -> 0.56375748 | K18: =+E18+G18+I18 -> 565204.86 | L18: =K18/$P18 -> 0.97449114 | M18: =O18/($G$9+$I$9+$M$9)*$M$9 -> 14795.137 | N18: =M18/$P18 -> 0.025508858 | O18: 580000 | P18: =K18+M18 -> 580000 | S18: SHAB | U18: Prix de vente € TTC | V18: =M64 -> 185774.2
D19: Raccordement EDF : | F19: =E19/$P19 -> 0 | G19: =O19/($G$9+$I$9+$M$9)*$G$9 -> 6366.371 | H19: =G19/$P19 -> 0.41073366 | I19: =O19/($G$9+$I$9+$M$9)*$I$9 -> 8738.24 | J19: =I19/$P19 -> 0.56375748 | K19: =+E19+G19+I19 -> 15104.611 | L19: =K19/$P19 -> 0.97449114 | M19: =O19/($G$9+$I$9+$M$9)*$M$9 -> 395.38725 | N19: =M19/$P19 -> 0.025508858 | O19: 15499.998 | P19: =K19+M19 -> 15499.998 | S19: SHAB
D20: Raccordement France Telecom : | F20: =E20/$P20 -> 0 | G20: =O20/($G$9+$I$9+$M$9)*$G$9 -> 2957.2814 | H20: =G20/$P20 -> 0.41073366 | I20: =O20/($G$9+$I$9+$M$9)*$I$9 -> 4059.0526 | J20: =I20/$P20 -> 0.56375748 | K20: =+E20+G20+I20 -> 7016.3339 | L20: =K20/$P20 -> 0.97449114 | M20: =O20/($G$9+$I$9+$M$9)*$M$9 -> 183.66372 | N20: =M20/$P20 -> 0.025508858 | O20: 7199.9977 | P20: =K20+M20 -> 7199.9977 | S20: SHAB | V20: Logements | Y20: TOTAL hors commerces
D21: Raccordement Eau Potable : | F21: =E21/$P21 -> 0 | G21: =O21/($G$9+$I$9+$M$9)*$G$9 -> 2320.6472 | H21: =G21/$P21 -> 0.41073366 | I21: =O21/($G$9+$I$9+$M$9)*$I$9 -> 3185.2325 | J21: =I21/$P21 -> 0.56375748 | K21: =+E21+G21+I21 -> 5505.8797 | L21: =K21/$P21 -> 0.97449114 | M21: =O21/($G$9+$I$9+$M$9)*$M$9 -> 144.12517 | N21: =M21/$P21 -> 0.025508858 | O21: 5650.0048 | P21: =K21+M21 -> 5650.0048 | S21: SHAB | U21: Produit | V21: =+E6 -> LLS | W21: =+G6 -> LLTS | X21: =+I6 -> PLS
C22: 4. Bâtiment (y/c ascenseurs, fondations et surcoût lié au site) : | E22: =SUM(E23:E35)-E36-E37-E38 -> 0 | F22: =E22/$P22 -> 0 | G22: =SUM(G23:G35)-G36-G37-G38 -> 2198376.4 | I22: =SUM(I23:I35)-I36-I37-I38 -> 2106909.8 | K22: =SUM(K23:K35)-K36-K37-K38 -> 4305286.2 | M22: =SUM(M23:M35)-M36-M37-M38 -> 71659.045 | P22: =SUM(P23:P35)-P36-P37-P38 -> 4376945.3 | R22: =K22*100/P22 -> 98.362807 | U22: Nombre lgts | V22: =+E7 -> 0 | W22: =+G7 -> 28 | X22: =+I7 -> 25 | Y22: =V22+X22+W22 -> 53
B23: 4° fond°, terrassements, circulation et accès aux immeubles, construction … hors dépenses dév durable | D23: Terrassement, fondations, gros œuvre | F23: =E23/$P23 -> 0 | G23: =O23/($G$7+$I$7+$M$7)*$G$7 -> 1431111.1 | H23: =G23/$P23 -> 0.51851852 | I23: =O23/($G$7+$I$7+$M$7)*$I$7 -> 1277777.8 | J23: =I23/$P23 -> 0.46296296 | K23: =+E23+G23+I23 -> 2708888.9 | L23: =K23/$P23 -> 0.98148148 | M23: =O23/($G$7+$I$7+$M$7)*$M$7 -> 51111.111 | N23: =M23/$P23 -> 0.018518519 | O23: 2760000 | P23: =K23+M23 -> 2760000 | S23: NOMBRE | U23: SHAB+V | V23: =+E9 -> 0 | W23: =+G9 -> 1400.84 | X23: =+I9 -> 1922.74 | Y23: =V23+X23+W23 -> 3323.58
D24: Charpente, couverture, étanchéité toiture | F24: =E24/$P24 -> 0 | G24: =O24/($G$7+$I$7+$M$7)*$G$7 -> 103703.7 | H24: =G24/$P24 -> 0.51851852 | I24: =O24/($G$7+$I$7+$M$7)*$I$7 -> 92592.593 | J24: =I24/$P24 -> 0.46296296 | K24: =+E24+G24+I24 -> 196296.3 | L24: =K24/$P24 -> 0.98148148 | M24: =O24/($G$7+$I$7+$M$7)*$M$7 -> 3703.7037 | N24: =M24/$P24 -> 0.018518519 | O24: 200000 | P24: =K24+M24 -> 200000 | S24: NOMBRE | U24: Prix de vente € TTC/SHAB+V | V24: =IF($E$9=0,0,$E$64/$E$9) -> 0 | W24: =IF($G$9=0,0,$G$64/$G$9) -> 2413.6423 | X24: =IF(I9=0,0,$I$64/$I$9) -> 2696.2141 | Y24: =V24+W24+X24 -> 5109.8564
D25: Menuiseries extérieures | F25: =E25/$P25 -> 0 | G25: =O25/($G$7+$I$7+$M$7)*$G$7 -> 82962.963 | H25: =G25/$P25 -> 0.51851852 | I25: =O25/($G$7+$I$7+$M$7)*$I$7 -> 74074.074 | J25: =I25/$P25 -> 0.46296296 | K25: =+E25+G25+I25 -> 157037.04 | L25: =K25/$P25 -> 0.98148148 | M25: =O25/($G$7+$I$7+$M$7)*$M$7 -> 2962.963 | N25: =M25/$P25 -> 0.018518519 | O25: 160000 | P25: =K25+M25 -> 160000 | S25: NOMBRE | U25: Prix de vente € TTC/SF+V | V25: =IF($E$10=0,0,$E$64/$E$10) -> 0 | W25: =IF($G$10=0,0,$G$64/$G$10) -> 2009.6686 | X25: =IF($I$10=0,0,$I$64/$I$10) -> 2327.2006 | Y25: =V25+W25+X25 -> 4336.8692
D26: Metallerie / Serrurerie | F26: =E26/$P26 -> 0 | G26: =O26/($G$7+$I$7+$M$7)*$G$7 -> 118481.48 | H26: =G26/$P26 -> 0.51851852 | I26: =O26/($G$7+$I$7+$M$7)*$I$7 -> 105787.04 | J26: =I26/$P26 -> 0.46296296 | K26: =+E26+G26+I26 -> 224268.52 | L26: =K26/$P26 -> 0.98148148 | M26: =O26/($G$7+$I$7+$M$7)*$M$7 -> 4231.4815 | N26: =M26/$P26 -> 0.018518519 | O26: 228500 | P26: =K26+M26 -> 228500 | S26: NOMBRE | U26: Prix de vente € HT | V26: =E62 -> 0 | W26: =G62 -> 3311583.4 | X26: =I62 -> 5077491.4 | Y26: =V26+W26+X26 -> 8389074.8
D27: Menuiseries bois / bardage | F27: =E27/$P27 -> 0 | G27: =O27/($G$7+$I$7+$M$7)*$G$7 -> 136629.63 | H27: =G27/$P27 -> 0.51851852 | I27: =O27/($G$7+$I$7+$M$7)*$I$7 -> 121990.74 | J27: =I27/$P27 -> 0.46296296 | K27: =+E27+G27+I27 -> 258620.37 | L27: =K27/$P27 -> 0.98148148 | M27: =O27/($G$7+$I$7+$M$7)*$M$7 -> 4879.6296 | N27: =M27/$P27 -> 0.018518519 | O27: 263500 | P27: =K27+M27 -> 263500 | S27: NOMBRE | U27: Prix de vente € TTC | V27: =E64 -> 0 | W27: =G64 -> 3381126.7 | X27: =I64 -> 5184118.7 | Y27: =V27+W27+X27 -> 8565245.4
D28: Cloisons / Faux-Pafonds | F28: =E28/$P28 -> 0 | G28: =O28/($G$10+$I$10+$M$10)*$G$10 -> 51451.098 | H28: =G28/$P28 -> 0.4302835 | I28: =O28/($G$10+$I$10+$M$10)*$I$10 -> 68123.783 | J28: =I28/$P28 -> 0.5697165 | K28: =+E28+G28+I28 -> 119574.88 | L28: =K28/$P28 -> 1 | M28: 0 | N28: =M28/$P28 -> 0 | O28: 123000 | P28: =K28+M28 -> 119574.88 | S28: SF | U28: Prix € TTC/logement | V28: =IF(E64=0,0,E64/E7) -> 0 | W28: =G64/G7 -> 120754.52 | X28: =I64/I7 -> 207364.75 | Y28: =V28+W28+X28 -> 328119.27
D29: Electricité / Téléphone / Télévision | F29: =E29/$P29 -> 0 | G29: =O29/($G$9+$I$9+$M$9)*$G$9 -> 110898.09 | H29: =G29/$P29 -> 0.41073366 | I29: =O29/($G$9+$I$9+$M$9)*$I$9 -> 152214.52 | J29: =I29/$P29 -> 0.56375748 | K29: =+E29+G29+I29 -> 263112.61 | L29: =K29/$P29 -> 0.97449114 | M29: =O29/($G$9+$I$9+$M$9)*$M$9 -> 6887.3916 | N29: =M29/$P29 -> 0.025508858 | O29: 270000 | P29: =K29+M29 -> 270000 | S29: SHAB
D30: Plomberie | F30: =E30/$P30 -> 0 | G30: =O30/($G$9+$I$9+$M$9)*$G$9 -> 96933.142 | H30: =G30/$P30 -> 0.41073366 | I30: =O30/($G$9+$I$9+$M$9)*$I$9 -> 133046.76 | J30: =I30/$P30 -> 0.56375748 | K30: =+E30+G30+I30 -> 229979.91 | L30: =K30/$P30 -> 0.97449114 | M30: =O30/($G$9+$I$9+$M$9)*$M$9 -> 6020.0903 | N30: =M30/$P30 -> 0.025508858 | O30: 236000 | P30: =K30+M30 -> 236000 | S30: SHAB
D31: ECS | F31: =E31/$P31 -> 0 | G31: =O31/($G$10+$I$10+$M$10)*$G$10 -> 65464.202 | H31: =G31/$P31 -> 0.4302835 | I31: =O31/($G$10+$I$10+$M$10)*$I$10 -> 86677.821 | J31: =I31/$P31 -> 0.5697165 | K31: =+E31+G31+I31 -> 152142.02 | L31: =K31/$P31 -> 1 | M31: 0 | N31: =M31/$P31 -> 0 | O31: 156500 | P31: =K31+M31 -> 152142.02 | S31: SF
D32: Peinture / étanchéité | F32: =E32/$P32 -> 0 | G32: =O32/($G$9+$I$9+$M$9)*$G$9 -> 136158.21 | H32: =G32/$P32 -> 0.41073366 | I32: =O32/($G$9+$I$9+$M$9)*$I$9 -> 186885.61 | J32: =I32/$P32 -> 0.56375748 | K32: =+E32+G32+I32 -> 323043.82 | L32: =K32/$P32 -> 0.97449114 | M32: =O32/($G$9+$I$9+$M$9)*$M$9 -> 8456.1864 | N32: =M32/$P32 -> 0.025508858 | O32: 331500 | P32: =K32+M32 -> 331500 | S32: SHAB
D33: Carrelage/sol souple | F33: =E33/$P33 -> 0 | G33: =O33/($G$10+$I$10+$M$10)*$G$10 -> 102483.9 | H33: =G33/$P33 -> 0.4302835 | I33: =O33/($G$10+$I$10+$M$10)*$I$10 -> 135693.71 | J33: =I33/$P33 -> 0.5697165 | K33: =+E33+G33+I33 -> 238177.61 | L33: =K33/$P33 -> 1 | M33: 0 | N33: =M33/$P33 -> 0 | O33: 245000 | P33: =K33+M33 -> 238177.61 | S33: SF
D34: Ascenseur | F34: =E34/$P34 -> 0 | G34: =O34/($G$10+$I$10+$M$10)*$G$10 -> 29281.113 | H34: =G34/$P34 -> 0.4302835 | I34: =O34/($G$10+$I$10+$M$10)*$I$10 -> 38769.632 | J34: =I34/$P34 -> 0.5697165 | K34: =+E34+G34+I34 -> 68050.745 | L34: =K34/$P34 -> 1 | M34: 0 | N34: =M34/$P34 -> 0 | O34: 70000 | P34: =K34+M34 -> 68050.745 | S34: SF
D35: Etanchéité façade | F35: =E35/$P35 -> #DIV/0! | H35: =G35/$P35 -> #DIV/0! | I35: 0 | J35: =I35/$P35 -> #DIV/0! | K35: =+E35+G35+I35 -> 0 | L35: =K35/$P35 -> #DIV/0! | M35: =O35/($G$9+$I$9+$M$9)*$M$9 -> 0 | N35: =M35/$P35 -> #DIV/0! | O35: 0 | P35: =K35+M35 -> 0
B36: 5° emplacements de station. | D36: Parking et stationnements : | F36: =E36/$P36 -> 0 | G36: =O36/($G$9+$I$9+$M$9)*$G$9 -> 160186.13 | H36: =G36/$P36 -> 0.41073366 | I36: =O36/($G$9+$I$9+$M$9)*$I$9 -> 219865.42 | J36: =I36/$P36 -> 0.56375748 | K36: =+E36+G36+I36 -> 380051.55 | L36: =K36/$P36 -> 0.97449114 | M36: =O36/($G$9+$I$9+$M$9)*$M$9 -> 9948.4545 | N36: =M36/$P36 -> 0.025508858 | O36: 390000 | P36: =K36+M36 -> 390000 | S36: SHAB
B37: 6° travaux d'accessibilité (PMR) | D37: Travaux d'accessibilité aux PMR : | F37: =E37/$P37 -> 0 | G37: =O37/($G$9+$I$9+$M$9)*$G$9 -> 16018.613 | H37: =G37/$P37 -> 0.41073366 | I37: =O37/($G$9+$I$9+$M$9)*$I$9 -> 21986.542 | J37: =I37/$P37 -> 0.56375748 | K37: =+E37+G37+I37 -> 38005.155 | L37: =K37/$P37 -> 0.97449114 | M37: =O37/($G$9+$I$9+$M$9)*$M$9 -> 994.84545 | N37: =M37/$P37 -> 0.025508858 | O37: 39000 | P37: =K37+M37 -> 39000 | S37: SHAB
B38: 7° dépenses dév durable | C38: 7. ENR | E38: =E39 -> 0 | F38: =E38/$P38 -> 0 | G38: =G39 -> 90977.505 | I38: =I39 -> 124872.28 | K38: =K39 -> 215849.79 | M38: =M39 -> 5650.212 | P38: =P39 -> 221500 | R38: =K38*100/P38 -> 97.449114
D39: Dépenses ENR (ECS,isolation thermique, brise soleil...) : | F39: =E39/$P39 -> 0 | G39: =O39/($G$9+$I$9+$M$9)*$G$9 -> 90977.505 | H39: =G39/$P39 -> 0.41073366 | I39: =O39/($G$9+$I$9+$M$9)*$I$9 -> 124872.28 | J39: =I39/$P39 -> 0.56375748 | K39: =+E39+G39+I39 -> 215849.79 | L39: =K39/$P39 -> 0.97449114 | M39: =O39/($G$9+$I$9+$M$9)*$M$9 -> 5650.212 | N39: =M39/$P39 -> 0.025508858 | O39: 221500 | P39: =K39+M39 -> 221500 | S39: SHAB
B40: 8° Plantations | C40: 8. Plantations, espaces verts (hors ENR) | F40: =E40/$P40 -> 0 | G40: =O40/($G$9+$I$9+$M$9)*$G$9 -> 14170.311 | H40: =G40/$P40 -> 0.41073366 | I40: =O40/($G$9+$I$9+$M$9)*$I$9 -> 19449.633 | J40: =I40/$P40 -> 0.56375748 | K40: =+E40+G40+I40 -> 33619.944 | L40: =K40/$P40 -> 0.97449114 | M40: =O40/($G$9+$I$9+$M$9)*$M$9 -> 880.05559 | N40: =M40/$P40 -> 0.025508858 | O40: 34500 | P40: =K40+M40 -> 34500 | S40: SHAB
B41: 9° Honoraires | C41: 9. Honoraires techniques & Assurances | E41: =SUM(E42:E52) -> 0 | F41: =E41/$P41 -> 0 | G41: =SUM(G42:G52) -> 470495.41 | I41: =SUM(I42:I52) -> 645784.2 | K41: =SUM(K42:K52) -> 1116279.6 | M41: =SUM(M42:M52) -> 29220.397 | P41: =SUM(P42:P52) -> 1145500 | R41: =K41*100/P41 -> 97.449114
D42: Architecte : | F42: =E42/$P42 -> 0 | G42: =O42/($G$9+$I$9+$M$9)*$G$9 -> 160186.13 | H42: =G42/$P42 -> 0.41073366 | I42: =O42/($G$9+$I$9+$M$9)*$I$9 -> 219865.42 | J42: =I42/$P42 -> 0.56375748 | K42: =+E42+G42+I42 -> 380051.55 | L42: =K42/$P42 -> 0.97449114 | M42: =O42/($G$9+$I$9+$M$9)*$M$9 -> 9948.4546 | N42: =M42/$P42 -> 0.025508858 | O42: 390000 | P42: =K42+M42 -> 390000 | S42: SHAB
D43: CERQUAL | F43: =E43/$P43 -> #DIV/0! | G43: =O43/($G$9+$I$9+$M$9)*$G$9 -> 0 | H43: =G43/$P43 -> #DIV/0! | I43: =O43/($G$9+$I$9+$M$9)*$I$9 -> 0 | J43: =I43/$P43 -> #DIV/0! | K43: =+E43+G43+I43 -> 0 | L43: =K43/$P43 -> #DIV/0! | M43: =O43/($G$9+$I$9+$M$9)*$M$9 -> 0 | N43: =M43/$P43 -> #DIV/0! | O43: 0 | P43: =K43+M43 -> 0
D44: Géomètre : | F44: =E44/$P44 -> 0 | G44: =O44/($G$9+$I$9+$M$9)*$G$9 -> 2259.0371 | H44: =G44/$P44 -> 0.41073366 | I44: =O44/($G$9+$I$9+$M$9)*$I$9 -> 3100.6689 | J44: =I44/$P44 -> 0.56375748 | K44: =+E44+G44+I44 -> 5359.706 | L44: =K44/$P44 -> 0.97449114 | M44: =O44/($G$9+$I$9+$M$9)*$M$9 -> 140.29884 | N44: =M44/$P44 -> 0.025508858 | O44: 5500.0049 | P44: =K44+M44 -> 5500.0049 | S44: SHAB
D45: OPC : | F45: =E45/$P45 -> 0 | G45: =O45/($G$9+$I$9+$M$9)*$G$9 -> 12732.742 | H45: =G45/$P45 -> 0.41073366 | I45: =O45/($G$9+$I$9+$M$9)*$I$9 -> 17476.48 | J45: =I45/$P45 -> 0.56375748 | K45: =+E45+G45+I45 -> 30209.222 | L45: =K45/$P45 -> 0.97449114 | M45: =O45/($G$9+$I$9+$M$9)*$M$9 -> 790.7745 | N45: =M45/$P45 -> 0.025508858 | O45: 30999.997 | P45: =K45+M45 -> 30999.997 | S45: SHAB
...

Sheet DPR LLTS
C6: ='DPR GLOBAL_clé répartition'!C6 -> VEFA "OPERATION SILOE" | D6: Produit : | E6: ='DPR GLOBAL_clé répartition'!G6 -> LLTS
D7: Nbre : | E7: ='DPR GLOBAL_clé répartition'!G7 -> 28
D8: Surface plancher : | E8: ='DPR GLOBAL_clé répartition'!G8 -> 1505.7
D9: Surface shab : | E9: ='DPR GLOBAL_clé répartition'!G9 -> 1400.84
D10: Surface finançable : | E10: ='DPR GLOBAL_clé répartition'!G10 -> 1682.43
B12: Postes prévus par le décret du 15 janvier 2010 | C12: Montant HT du coût de revient de l'opération
B13: 1° prix d'acquisition du terrain par la SEM | C13: 1. Terrain | E13: =SUM(E14:E15) -> 410733.66
D14: Charge foncière | E14: ='DPR GLOBAL_clé répartition'!G13 -> 400465.32
D15: Frais de notaire acquisition / hypothèque / Com SEDRE : | E15: ='DPR GLOBAL_clé répartition'!G14 -> 10268.341
B16: 2° études de sol | C16: 2. Etude de sol et sondages | E16: =SUM(E17) -> 4723.4383
D17: Etudes de sol : | E17: ='DPR GLOBAL_clé répartition'!G16 -> 4723.4383
B18: 3° VRD et concessionnaires | C18: 3. VRD | E18: =SUM(E19:E22) -> 249869.82
D19: Travaux VRD : | E19: ='DPR GLOBAL_clé répartition'!G18 -> 238225.52
D20: Raccordement EDF : | E20: ='DPR GLOBAL_clé répartition'!G19 -> 6366.371
D21: Raccordement France Telecom : | E21: ='DPR GLOBAL_clé répartition'!G20 -> 2957.2814
D22: Raccordement Eau Potable : | E22: ='DPR GLOBAL_clé répartition'!G21 -> 2320.6472
C23: 4. Bâtiment (y/c ascenseurs, fondations et surcoût lié au site) : | E23: =SUM(E24:E36)-E37-E38-E39 -> 2198376.4
B24: 4° fond°, terrassements, circulation et accès aux immeubles, construction … hors dépenses dév durable | D24: Terrassement, fondations, gros œuvre | E24: ='DPR GLOBAL_clé répartition'!G23 -> 1431111.1
D25: Charpente, couverture, étanchéité toiture | E25: ='DPR GLOBAL_clé répartition'!G24 -> 103703.7
D26: Menuiseries extérieures | E26: ='DPR GLOBAL_clé répartition'!G25 -> 82962.963
D27: Metallerie / Serrurerie | E27: ='DPR GLOBAL_clé répartition'!G26 -> 118481.48
D28: Menuiseries bois / bardage | E28: ='DPR GLOBAL_clé répartition'!G27 -> 136629.63
D29: Cloisons / Faux-Pafonds | E29: ='DPR GLOBAL_clé répartition'!G28 -> 51451.098
D30: Electricité / Téléphone / Télévision | E30: ='DPR GLOBAL_clé répartition'!G29 -> 110898.09
D31: Plomberie | E31: ='DPR GLOBAL_clé répartition'!G30 -> 96933.142
D32: ECS | E32: ='DPR GLOBAL_clé répartition'!G31 -> 65464.202
D33: Peinture / étanchéité | E33: ='DPR GLOBAL_clé répartition'!G32 -> 136158.21
D34: Carrelage/sol souple | E34: ='DPR GLOBAL_clé répartition'!G33 -> 102483.9
D35: Ascenseur | E35: ='DPR GLOBAL_clé répartition'!G34 -> 29281.113
D36: Etanchéité façade | E36: ='DPR GLOBAL_clé répartition'!G35 -> 0
B37: 5° emplacements de station. | C37: dont | D37: Parking et stationnements : | E37: ='DPR GLOBAL_clé répartition'!G36 -> 160186.13
B38: 6° travaux d'accessibilité (PMR) | C38: dont | D38: Travaux d'accessibilité aux PMR : | E38: ='DPR GLOBAL_clé répartition'!G37 -> 16018.613
B39: 7° dépenses dév durable | C39: 7. ENR | E39: =E40 -> 90977.505
C40: dont | D40: Dépenses ENR (ECS,isolation thermique, brise soleil...) : | E40: ='DPR GLOBAL_clé répartition'!G39 -> 90977.505
B41: 8° Plantations | C41: 8. Plantations, espaces verts (hors ENR) | E41: ='DPR GLOBAL_clé répartition'!G40 -> 14170.311
B42: 9° Honoraires | C42: 9. Honoraires techniques & Assurances | E42: =SUM(E43:E53) -> 470495.41
D43: Architecte : | E43: ='DPR GLOBAL_clé répartition'!G42 -> 160186.13
D44: CERQUAL | E44: ='DPR GLOBAL_clé répartition'!G43 -> 0
D45: Géomètre : | E45: ='DPR GLOBAL_clé répartition'!G44 -> 2259.0371
D46: OPC : | E46: ='DPR GLOBAL_clé répartition'!G45 -> 12732.742
...

Sheet DPR PLS
C6: ='DPR GLOBAL_clé répartition'!C6 -> VEFA "OPERATION SILOE" | D6: Produit : | E6: ='DPR GLOBAL_clé répartition'!I6 -> PLS
D7: Nbre : | E7: ='DPR GLOBAL_clé répartition'!I7 -> 25
D8: Surface plancher : | E8: ='DPR GLOBAL_clé répartition'!I8 -> 1596.1
D9: Surface shab : | E9: ='DPR GLOBAL_clé répartition'!I9 -> 1922.74
D10: Surface finançable : | E10: ='DPR GLOBAL_clé répartition'!I10 -> 2227.62
B12: Postes prévus par le décret du 15 janvier 2010 | C12: Montant HT du coût de revient de l'opération
B13: 1° prix d'acquisition du terrain par la SEM | C13: 1. Terrain | E13: =SUM(E14:E15) -> 563757.48
D14: Charge foncière | E14: ='DPR GLOBAL_clé répartition'!I13 -> 549663.55
D15: Frais de notaire acquisition / hypothèque / Com SEDRE : | E15: ='DPR GLOBAL_clé répartition'!I14 -> 14093.936
B16: 2° études de sol | C16: 2. Etude de sol et sondages | E16: =SUM(E17) -> 6483.2127
D17: Etudes de sol : | E17: ='DPR GLOBAL_clé répartition'!I16 -> 6483.2127
B18: 3° VRD et concessionnaires | C18: 3. VRD | E18: =SUM(E19:E22) -> 342961.86
D19: Travaux VRD : | E19: ='DPR GLOBAL_clé répartition'!I18 -> 326979.34
D20: Raccordement EDF : | E20: ='DPR GLOBAL_clé répartition'!I19 -> 8738.24
D21: Raccordement France Telecom : | E21: ='DPR GLOBAL_clé répartition'!I20 -> 4059.0526
D22: Raccordement Eau Potable : | E22: ='DPR GLOBAL_clé répartition'!I21 -> 3185.2325
C23: 4. Bâtiment (y/c ascenseurs, fondations et surcoût lié au site) : | E23: =SUM(E24:E36)-E37-E38-E39 -> 2106909.8
B24: 4° fond°, terrassements, circulation et accès aux immeubles, construction … hors dépenses dév durable | D24: Terrassement, fondations, gros œuvre | E24: ='DPR GLOBAL_clé répartition'!I23 -> 1277777.8
D25: Charpente, couverture, étanchéité toiture | E25: ='DPR GLOBAL_clé répartition'!I24 -> 92592.593
D26: Menuiseries extérieures | E26: ='DPR GLOBAL_clé répartition'!I25 -> 74074.074
D27: Metallerie / Serrurerie | E27: ='DPR GLOBAL_clé répartition'!I26 -> 105787.04
D28: Menuiseries bois / bardage | E28: ='DPR GLOBAL_clé répartition'!I27 -> 121990.74
D29: Cloisons / Faux-Pafonds | E29: ='DPR GLOBAL_clé répartition'!I28 -> 68123.783
D30: Electricité / Téléphone / Télévision | E30: ='DPR GLOBAL_clé répartition'!I29 -> 152214.52
D31: Plomberie | E31: ='DPR GLOBAL_clé répartition'!I30 -> 133046.76
D32: ECS | E32: ='DPR GLOBAL_clé répartition'!I31 -> 86677.821
D33: Peinture / étanchéité | E33: ='DPR GLOBAL_clé répartition'!I32 -> 186885.61
D34: Carrelage/sol souple | E34: ='DPR GLOBAL_clé répartition'!I33 -> 135693.71
D35: Ascenseur | E35: ='DPR GLOBAL_clé répartition'!I34 -> 38769.632
D36: Etanchéité façade | E36: ='DPR GLOBAL_clé répartition'!I35 -> 0
B37: 5° emplacements de station. | C37: dont | D37: Parking et stationnements : | E37: ='DPR GLOBAL_clé répartition'!I36 -> 219865.42
B38: 6° travaux d'accessibilité (PMR) | C38: dont | D38: Travaux d'accessibilité aux PMR : | E38: ='DPR GLOBAL_clé répartition'!I37 -> 21986.542
B39: 7° dépenses dév durable | C39: 7. ENR | E39: =E40 -> 124872.28
C40: dont | D40: Dépenses ENR (ECS,isolation thermique, brise soleil...) : | E40: ='DPR GLOBAL_clé répartition'!I39 -> 124872.28
B41: 8° Plantations | C41: 8. Plantations, espaces verts (hors ENR) | E41: ='DPR GLOBAL_clé répartition'!I40 -> 19449.633
B42: 9° Honoraires | C42: 9. Honoraires techniques & Assurances | E42: =SUM(E43:E53) -> 645784.2
D43: Architecte : | E43: ='DPR GLOBAL_clé répartition'!I42 -> 219865.42
D44: CERQUAL | E44: ='DPR GLOBAL_clé répartition'!I43 -> 0
D45: Géomètre : | E45: ='DPR GLOBAL_clé répartition'!I44 -> 3100.6689
D46: OPC : | E46: ='DPR GLOBAL_clé répartition'!I45 -> 17476.48
...

Sheet DPR COM
C6: ='DPR GLOBAL_clé répartition'!C6 -> VEFA "OPERATION SILOE" | D6: Produit : | E6: ='DPR GLOBAL_clé répartition'!M6 -> COMMERCES
D7: Nbre : | E7: ='DPR GLOBAL_clé répartition'!M7 -> 1
D8: Surface plancher : | E8: ='DPR GLOBAL_clé répartition'!M8 -> 87
D9: Surface shab : | E9: ='DPR GLOBAL_clé répartition'!M9 -> 87
D10: Surface finançable : | E10: ='DPR GLOBAL_clé répartition'!M10 -> 112
B12: Postes prévus par le décret du 15 janvier 2010 | C12: Montant HT du coût de revient de l'opération
B13: 1° prix d'acquisition du terrain par la SEM | C13: 1. Terrain | E13: =SUM(E14:E15) -> 25508.858
D14: Charge foncière | E14: ='DPR GLOBAL_clé répartition'!M13 -> 24871.136
D15: Frais de notaire acquisition / hypothèque / Com SEDRE : | E15: ='DPR GLOBAL_clé répartition'!M14 -> 637.72141
B16: 2° études de sol | C16: 2. Etude de sol et sondages | E16: =SUM(E17) -> 293.35194
D17: Etudes de sol : | E17: ='DPR GLOBAL_clé répartition'!M16 -> 293.35194
B18: 3° VRD et concessionnaires | C18: 3. VRD | E18: =SUM(E19:E22) -> 15518.314
D19: Travaux VRD : | E19: ='DPR GLOBAL_clé répartition'!M18 -> 14795.137
D20: Raccordement EDF : | E20: ='DPR GLOBAL_clé répartition'!M19 -> 395.38725
D21: Raccordement France Telecom : | E21: ='DPR GLOBAL_clé répartition'!M20 -> 183.66372
D22: Raccordement Eau Potable : | E22: ='DPR GLOBAL_clé répartition'!M21 -> 144.12517
C23: 4. Bâtiment (y/c ascenseurs, fondations et surcoût lié au site) : | E23: =SUM(E24:E36)-E37-E38-E39 -> 71659.045
B24: 4° fond°, terrassements, circulation et accès aux immeubles, construction … hors dépenses dév durable | D24: Terrassement, fondations, gros œuvre | E24: ='DPR GLOBAL_clé répartition'!M23 -> 51111.111
D25: Charpente, couverture, étanchéité toiture | E25: ='DPR GLOBAL_clé répartition'!M24 -> 3703.7037
D26: Menuiseries extérieures | E26: ='DPR GLOBAL_clé répartition'!M25 -> 2962.963
D27: Metallerie / Serrurerie | E27: ='DPR GLOBAL_clé répartition'!M26 -> 4231.4815
D28: Menuiseries bois / bardage | E28: ='DPR GLOBAL_clé répartition'!M27 -> 4879.6296
D29: Cloisons / Faux-Pafonds | E29: ='DPR GLOBAL_clé répartition'!M28 -> 0
D30: Electricité / Téléphone / Télévision | E30: ='DPR GLOBAL_clé répartition'!M29 -> 6887.3916
D31: Plomberie | E31: ='DPR GLOBAL_clé répartition'!M30 -> 6020.0903
D32: ECS | E32: ='DPR GLOBAL_clé répartition'!M31 -> 0
D33: Peinture / étanchéité | E33: ='DPR GLOBAL_clé répartition'!M32 -> 8456.1864
D34: Carrelage | E34: ='DPR GLOBAL_clé répartition'!M33 -> 0
D35: Ascenseur | E35: ='DPR GLOBAL_clé répartition'!M34 -> 0
D36: Etanchéité façade | E36: ='DPR GLOBAL_clé répartition'!M35 -> 0
B37: 5° emplacements de station. | D37: Parking et stationnements : | E37: ='DPR GLOBAL_clé répartition'!M36 -> 9948.4545
B38: 6° travaux d'accessibilité (PMR) | D38: Travaux d'accessibilité aux PMR : | E38: ='DPR GLOBAL_clé répartition'!M37 -> 994.84545
B39: 7° dépenses dév durable | C39: 7. ENR | E39: =E40 -> 5650.212
D40: Dépenses ENR (ECS,isolation thermique, brise soleil...) : | E40: ='DPR GLOBAL_clé répartition'!M39 -> 5650.212
B41: 8° Plantations | C41: 8. Plantations, espaces verts (hors ENR) | E41: ='DPR GLOBAL_clé répartition'!M40 -> 880.05559
B42: 9° Honoraires | C42: 9. Honoraires techniques & Assurances | E42: =SUM(E43:E53) -> 29220.397
D43: Architecte : | E43: ='DPR GLOBAL_clé répartition'!M42 -> 9948.4546
D44: CERQUAL | E44: ='DPR GLOBAL_clé répartition'!M43 -> 0
D45: Géomètre : | E45: ='DPR GLOBAL_clé répartition'!M44 -> 140.29884
D46: OPC : | E46: ='DPR GLOBAL_clé répartition'!M45 -> 790.7745
...

Sheet Estim MOE
B1: ='DPR GLOBAL_clé répartition'!C6 -> VEFA "OPERATION SILOE"
B3: Recapitulatif des travaux selon coût prévisionnel
B5: Désignation | C5: Montant (€ HT) | D5: Stationnement et voirie | E5: Accessibilité PMR | F5: Développement durable
A7: 1 | B7: Demol-Desamiantage-Relevage-VRD | C7: ='DPR GLOBAL_clé répartition'!P18 -> 580000
A8: 2 | B8: Gros-œuvre | C8: ='DPR GLOBAL_clé répartition'!P23 -> 2760000 | D8: ='DPR GLOBAL_clé répartition'!P36 -> 390000 | E8: ='DPR GLOBAL_clé répartition'!P37 -> 39000 | F8: 16500
A9: 3 | B9: Charpente / Couverture | C9: ='DPR GLOBAL_clé répartition'!P24 -> 200000
A10: 4 | B10: Bardage | C10: 42000 | F10: 42000
A11: 5 | B11: Cloisons / Faux-plafonds | C11: ='DPR GLOBAL_clé répartition'!P28 -> 119574.88
A12: 6 | B12: Etanchéité | C12: 200000 | F12: 18820
A13: 7 | B13: Peinture | C13: 125000
A14: 8 | B14: Revêtements durs et sol souple | C14: ='DPR GLOBAL_clé répartition'!P33 -> 238177.61
A15: 9 | B15: Menuiseries bois | C15: ='DPR GLOBAL_clé répartition'!P27-'Estim MOE'!C10 -> 221500
A16: 10 | B16: Menuiseries extérieures Aluminium | C16: ='DPR GLOBAL_clé répartition'!P25 -> 160000
A17: 11 | B17: Menuiseries métalliques et serrurerie | C17: ='DPR GLOBAL_clé répartition'!P26 -> 228500
A18: 12 | B18: Plomberies / VMC | C18: ='DPR GLOBAL_clé répartition'!P30 -> 236000
A19: 13 | B19: Electricité / TV / Télephone | C19: ='DPR GLOBAL_clé répartition'!P29 -> 270000
A20: 14 | B20: ECS | C20: ='DPR GLOBAL_clé répartition'!P31 -> 152142.02 | F20: =C20 -> 152142.02
A21: 15 | B21: Ascenseurs / monte-charge | C21: ='DPR GLOBAL_clé répartition'!P34 -> 68050.745
A22: 16 | B22: Espace vert | C22: ='DPR GLOBAL_clé répartition'!P40 -> 34500
A23: 17 | B23: Basse tension | C23: 40000
A24: 18 | B24: Raccordement EDF | C24: ='DPR GLOBAL_clé répartition'!P19 -> 15499.998
A25: 19 | B25: Raccordement France télécom | C25: ='DPR GLOBAL_clé répartition'!P20 -> 7199.9977
A26: 20 | B26: Raccordement AEP | C26: ='DPR GLOBAL_clé répartition'!P21 -> 5650.0048
B28: ESTIMATION TOTAL H.T. | C28: =SUM(C7:C26) -> 5703795.3 | D28: =SUM(D7:D26) -> 390000 | E28: =SUM(E7:E26) -> 39000 | F28: =SUM(F7:F26) -> 229462.02
B29: TVA 8,5% | C29: =C28*8.5% -> 484822.6 | D29: =D28*8.5% -> 33150 | E29: =E28*8.5% -> 3315 | F29: =F28*8.5% -> 19504.272
B30: ESTIMATION TOTAL TTC | C30: =SUM(C28:C29) -> 6188617.9 | D30: =SUM(D28:D29) -> 423150 | E30: =SUM(E28:E29) -> 42315 | F30: =SUM(F28:F29) -> 248966.3
B32: Devis dressé par la maîtrise d'œuvre | D32: Devis accepté par la SCCV Le
B33: Le

Sheet Planning appels de fonds
A1: ='DPR GLOBAL_clé répartition'!C6 -> VEFA "OPERATION SILOE" | B1: ='DPR GLOBAL_clé répartition'!K7 -> 53 | C1: logements
A2: Prix VEFA | B2: ='DPR GLOBAL_clé répartition'!K64 -> 8565245.4 | C2: € TTC
B3: Date prév. | C3: % | D3: € TTC
A4: Signature acte de vente | D4: =C4*$B$2 -> 0
A5: Achèvement des terrassements sous bât | D5: =C5*$B$2 -> 0
A6: Achèvement des fondations (35% max) | D6: =C6*$B$2 -> 0
A7: Dalle basse Rdc coulée | D7: =C7*$B$2 -> 0
A8: Dalle haute Rdc coulée | D8: =C8*$B$2 -> 0
A9: Mise hors d'eau (70% max) | D9: =C9*$B$2 -> 0
A10: Mise hors d'air | D10: =C10*$B$2 -> 0
A11: Réalisation des plâtres, cloisonnements | D11: =C11*$B$2 -> 0
A12: Achèvement TCE (DAT) (95% max) | D12: =C12*$B$2 -> 0
A13: Livraison et remise des clés | D13: =C13*$B$2 -> 0
A14: Levée des réserves | D14: =C14*$B$2 -> 0
A15: L'obtention de l’attestation de non-contestation de conformité | D15: =C15*$B$2 -> 0
A16: Durée des travaux | B16: 18 mois | C16: =SUM(C4:C15) -> 0 | D16: =SUM(D4:D15) -> 0

Sheet Loi sur l'eau
A1: ATTESTATION SUR LA SITUATION DU PROJET AU REGARD DES OBLIGATIONS LIEES A LA LOI SUR L’EAU
A4: Objet : Opération | C4: ='DPR GLOBAL_clé répartition'!C6 -> VEFA "OPERATION SILOE"
A7: Je soussigné,
A9: Agissant en qualité de................................................................. au capital de ................... €, dont le siège social est situé au ............................................................................................, immatriculée au ............................................................ sous le numéro ............................., rappelle que la SCCV......................... initie un programme immobilier totalisant ..... logments dans le secteur social
B15: est soumis à déclaration en application des articles L. 214-1 à L. 214-3 du code de l'environnement
A17: Certifie par la présente que, suivant les dispositions du décret 93-743 du 29 mars 1993 relatif à la nomenclature des opérations soumises à autorisation ou à déclaration en application de l’article 10 de la loi n°92-3 du 3 janvier 1992 sur l’eau, modifié par le Décret n°2006-881 du 17 juillet 2006 et codifiées aux articles R214-1 du Code de l’Environnement, le présent projet :
B23: n’est pas soumis à autorisation ou déclaration en application des articles L. 214-1 à L. 214-3 du code de l'environnement
B25: est soumis à déclaration en application des articles L. 214-1 à L. 214-3 du code de l'environnement
B27: est soumis à autorisation en application des articles L. 214-1 à L. 214-3 du code de l'environnement
A30: Dans le cas où le projet est soumis à autorisation ou déclaration, je certifie que le stade d’avancement de la procédure est le suivant :
B33: dossier de déclaration déposé
B35: dossier d’autorisation déposé
B37: retour du récépissé de déclaration
B39: accord du Préfet
E42: Au ….......... | F42: le | G42: =TODAY() -> 45088

Sheet DPR LLS
C6: ='DPR GLOBAL_clé répartition'!C6 -> VEFA "OPERATION SILOE" | D6: Produit : | E6: ='DPR GLOBAL_clé répartition'!E6 -> LLS
D7: Nbre : | E7: ='DPR GLOBAL_clé répartition'!E7 -> 0
D8: Surface plancher : | E8: ='DPR GLOBAL_clé répartition'!E8 -> 0
D9: Surface shab : | E9: ='DPR GLOBAL_clé répartition'!E9 -> 0
D10: Surface finançable : | E10: ='DPR GLOBAL_clé répartition'!E10 -> 0
B12: Postes prévus par le décret du 15 janvier 2010 | C12: Montant HT du coût de revient de l'opération
B13: 1° prix d'acquisition du terrain par la SEM | C13: 1. Terrain | E13: =SUM(E14:E15) -> 0
D14: Charge foncière | E14: ='DPR GLOBAL_clé répartition'!E13 -> 0
D15: Frais de notaire acquisition / hypothèque / Com SEDRE : | E15: ='DPR GLOBAL_clé répartition'!E14 -> 0
B16: 2° études de sol | C16: 2. Etude de sol et sondages | E16: =SUM(E17) -> 0
D17: Etudes de sol : | E17: ='DPR GLOBAL_clé répartition'!E16 -> 0
B18: 3° VRD et concessionnaires | C18: 3. VRD | E18: =SUM(E19:E22) -> 0
D19: Travaux VRD : | E19: ='DPR GLOBAL_clé répartition'!E18 -> 0
D20: Raccordement EDF : | E20: ='DPR GLOBAL_clé répartition'!E19 -> 0
D21: Raccordement France Telecom : | E21: ='DPR GLOBAL_clé répartition'!E20 -> 0
D22: Raccordement Eau Potable : | E22: ='DPR GLOBAL_clé répartition'!E21 -> 0
C23: 4. Bâtiment (y/c ascenseurs, fondations et surcoût lié au site) : | E23: =SUM(E24:E36)-E37-E38-E39 -> 0
B24: 4° fond°, terrassements, circulation et accès aux immeubles, construction … hors dépenses dév durable | D24: Terrassement, fondations, gros œuvre | E24: ='DPR GLOBAL_clé répartition'!E23 -> 0
D25: Charpente, couverture, étanchéité toiture | E25: ='DPR GLOBAL_clé répartition'!E24 -> 0
D26: Menuiseries extérieures | E26: ='DPR GLOBAL_clé répartition'!E25 -> 0
D27: Metallerie / Serrurerie | E27: ='DPR GLOBAL_clé répartition'!E26 -> 0
D28: Menuiseries bois / bardage | E28: ='DPR GLOBAL_clé répartition'!E27 -> 0
D29: Cloisons / Faux-Pafonds | E29: ='DPR GLOBAL_clé répartition'!E28 -> 0
D30: Electricité / Téléphone / Télévision | E30: ='DPR GLOBAL_clé répartition'!E29 -> 0
D31: Plomberie | E31: ='DPR GLOBAL_clé répartition'!E30 -> 0
D32: ECS | E32: ='DPR GLOBAL_clé répartition'!E31 -> 0
D33: Peinture / étanchéité | E33: ='DPR GLOBAL_clé répartition'!E32 -> 0
D34: Carrelage | E34: ='DPR GLOBAL_clé répartition'!E33 -> 0
D35: Ascenseur | E35: ='DPR GLOBAL_clé répartition'!E34 -> 0
D36: Etanchéité façade | E36: ='DPR GLOBAL_clé répartition'!E35 -> 0
B37: 5° emplacements de station. | C37: dont | D37: Parking et stationnements : | E37: ='DPR GLOBAL_clé répartition'!E36 -> 0
B38: 6° travaux d'accessibilité (PMR) | C38: dont | D38: Travaux d'accessibilité aux PMR : | E38: ='DPR GLOBAL_clé répartition'!E37 -> 0
B39: 7° dépenses dév durable | C39: 7. ENR | E39: =E40 -> 0
C40: dont | D40: Dépenses ENR (ECS,isolation thermique, brise soleil...) : | E40: ='DPR GLOBAL_clé répartition'!E39 -> 0
B41: 8° Plantations | C41: 8. Plantations, espaces verts (hors ENR) | E41: ='DPR GLOBAL_clé répartition'!E40 -> 0
B42: 9° Honoraires | C42: 9. Honoraires techniques & Assurances | E42: =SUM(E43:E53) -> 0
D43: Architecte : | E43: ='DPR GLOBAL_clé répartition'!E42 -> 0
D44: CERQUAL | E44: ='DPR GLOBAL_clé répartition'!E43 -> 0
D45: Géomètre : | E45: ='DPR GLOBAL_clé répartition'!E44 -> 0
D46: OPC : | E46: ='DPR GLOBAL_clé répartition'!E45 -> 0
...
