Workbook

Sheet Offres
A1: Soumissionnaires | B1: Lot | C1: Intitulé Lot | D1: Acte d'Engagement (N ou OK) | E1: Estimation MOE | F1: MONTANT € HT AE | G1: RANG | H1: OPTION 1 | I1: OPTION 2 | J1: TOTAL | K1: CDPGF (Conformité à l'AE) | L1: Cadre au Mémoire technique (N ou OK) | M1: CONCLUSION (recevable, ou autres obs.) | N1: OBS
A2: GLC | B2: 1 | C2: VRD | D2: OK | E2: 236137.5 | F2: 332910.5 | J2: =+F2+H2+I2 -> 332910.5 | K2: OK | L2: OK | M2: Recevable
A3: TPP | B3: 1 | C3: VRD | D3: OK | E3: 236137.5 | F3: 316681.2 | J3: =+F3+H3+I3 -> 316681.2 | K3: OK | L3: OK | M3: Recevable
A4: SARL LAMOU | B4: 1 | C4: VRD | D4: OK | E4: 236137.5 | F4: 272000 | J4: =+F4+H4+I4 -> 272000 | K4: OK | L4: OK | M4: Recevable
A5: SARL Bet | B5: 1 | C5: VRD | D5: OK | E5: 236137.5 | F5: 368991.47 | J5: =+F5+H5+I5 -> 368991.47 | K5: OK | L5: OK | M5: Recevable
A6: CLAZIOTP | B6: 1 | C6: VRD | D6: OK | E6: 236137.5 | F6: 306777.77 | J6: =+F6+H6+I6 -> 306777.77 | K6: OK | L6: OK | M6: Recevable
A7: REAL ELECTRICITE | B7: 2 | C7: BT | D7: OK | E7: 37592 | F7: 31840 | J7: =+F7+H7+I7 -> 31840 | K7: OK | L7: OK | M7: Recevable
A8: REAL ELECTRICITE | B8: 2 | C8: BT | E8: 37592 | J8: =+F8+H8+I8 -> 0
A9: BAGELOC | B9: 2 | C9: BT | D9: OK | E9: 37592 | F9: 26050 | J9: =+F9+H9+I9 -> 26050 | K9: OK | L9: OK | M9: Recevable
A10: BTD | B10: 3 | C10: GO | D10: OK | E10: 2655235.3 | F10: 3153584 | H10: 19899.78 | I10: 15178.78 | J10: =+F10+H10+I10 -> 3188662.6 | K10: OK | L10: OK | M10: Recevable
A11: DLX | B11: 3 | C11: GO | D11: OK | E11: 2655235.3 | F11: 3254045.7 | H11: 14200 | I11: 15759 | J11: =+F11+H11+I11 -> 3284004.7 | K11: OK | L11: OK | M11: Recevable
A12: RDC | B12: 3 | C12: GO | D12: OK | E12: 2655235.3 | F12: 2686129.8 | H12: 16989 | I12: 12458.7 | J12: =+F12+H12+I12 -> 2715577.5 | K12: OK | L12: OK | M12: Recevable
A13: CTX | B13: 3 | C13: GO | D13: OK | E13: 2655235.3 | F13: 3010000 | H13: 28000 | I13: 17000 | J13: =+F13+H13+I13 -> 3055000 | K13: OK | L13: OK | M13: Recevable
A14: HJP | B14: 4 | C14: Charpente / Couverture | D14: OK | E14: 190886.68 | F14: 263230.94 | J14: =+F14+H14+I14 -> 263230.94 | K14: OK | L14: OK | M14: Recevable
A15: PGS | B15: 4 | C15: Charpente / Couverture | D15: OK | E15: 190886.68 | F15: 303951.5 | J15: =+F15+H15+I15 -> 303951.5 | K15: OK | L15: OK | M15: Recevable
A16: JB2C | B16: 4 | C16: Charpente / Couverture | D16: OK | E16: 190886.68 | F16: 242341.34 | J16: =+F16+H16+I16 -> 242341.34 | K16: OK | L16: OK | M16: Recevable
A17: BCR | B17: 5 | C17: Bardage | D17: N | E17: 244901.45 | J17: =+F17+H17+I17 -> 0 | K17: OK | L17: N | M17: Irrégulière
A18: HJP | B18: 5 | C18: Bardage | D18: OK | E18: 244901.45 | F18: 380235 | J18: =+F18+H18+I18 -> 380235 | K18: OK | L18: OK | M18: Recevable
A19: PGS | B19: 5 | C19: Bardage | D19: OK | E19: 244901.45 | F19: 534905.6 | J19: =+F19+H19+I19 -> 534905.6 | K19: OK | L19: OK | M19: Recevable
A20: JB2S | B20: 5 | C20: Bardage | D20: OK | E20: 244901.45 | F20: 454926 | J20: =+F20+H20+I20 -> 454926 | K20: OK | L20: OK | M20: Recevable
A21: MENUIR | B21: 6 | C21: Menuiseries Textérieures | D21: OK | E21: 471462.7 | F21: 679683 | J21: =+F21+H21+I21 -> 679683 | K21: OK | L21: OK | M21: Recevable
A22: ALUDAK | B22: 6 | C22: Menuiseries Textérieures | J22: =+F22+H22+I22 -> 0
A23: GOUZOU | B23: 6 | C23: Menuiseries Textérieures | D23: OK | E23: 471462.7 | F23: 584516.03 | J23: =+F23+H23+I23 -> 584516.03 | K23: OK | L23: OK | M23: Recevable
A24: SOCIETE DE MENUISERIE | B24: 7 | C24: Métallerie | D24: OK | E24: 107833.9 | F24: 160000 | J24: =+F24+H24+I24 -> 160000 | K24: OK | L24: OK | M24: Recevable
A25: METAL | B25: 7 | C25: Métallerie | D25: OK | E25: 107833.9 | F25: 178594.6 | J25: =+F25+H25+I25 -> 178594.6 | K25: OK | L25: OK | M25: Recevable
A26: METALDOR | B26: 7 | C26: Métallerie | D26: OK | E26: 107833.9 | F26: 133321.73 | J26: =+F26+H26+I26 -> 133321.73 | K26: OK | L26: OK | M26: Recevable
A27: TMR | B27: 7 | C27: Métallerie | D27: OK | E27: 107833.9 | F27: 147116.25 | J27: =+F27+H27+I27 -> 147116.25 | K27: OK | L27: OK | M27: Recevable
A28: MCPX | B28: 8 | C28: Menuiseries Intérieures | D28: OK | E28: 264012 | F28: 264950 | H28: 25170 | I28: 4520 | J28: =+F28+H28+I28 -> 294640 | K28: OK | L28: OK | M28: Recevable | N28: Montant option AE à regulariser
A29: TTPY | B29: 8 | C29: Menuiseries Intérieures | D29: OK | E29: 264012 | F29: 238170 | H29: 18000 | I29: 3770 | J29: =+F29+H29+I29 -> 259940 | K29: OK | L29: OK | M29: Recevable | N29: Montants Options AE à régulariser
A30: MENUIQUAR | B30: 8 | C30: Menuiseries Intérieures | D30: OK | E30: 264012 | F30: 263364 | H30: 9958 | I30: 5759 | J30: =+F30+H30+I30 -> 279081 | K30: OK | L30: OK | M30: Recevable
A31: TCBS | B31: 9 | C31: Cloisons | D31: OK | E31: 130395.94 | F31: 144179.08 | H31: 21182.05 | J31: =+F31+H31+I31 -> 165361.13 | K31: OK | L31: OK | M31: en attente
A32: HPL | B32: 9 | C32: Cloisons | D32: OK | E32: 130395.94 | F32: 123909.54 | H32: 17996.94 | J32: =+F32+H32+I32 -> 141906.48 | K32: OK | L32: OK | M32: Recevable
A33: RENOV' BAT | B33: 9 | C33: Cloisons | D33: OK | E33: 130395.94 | F33: 121874.77 | H33: 17738.08 | J33: =+F33+H33+I33 -> 139612.85 | K33: OK | L33: OK | M33: Recevable
A34: PROJECTION | B34: 9 | C34: Cloisons | D34: OK | E34: 130395.94 | F34: 172316.31 | H34: 21353.15 | J34: =+F34+H34+I34 -> 193669.46 | K34: OK | L34: OK | M34: Recevable
A35: CPR | B35: 9 | C35: Cloisons | D35: OK | E35: 130395.94 | F35: 137141 | H35: 18979 | J35: =+F35+H35+I35 -> 156120 | K35: OK | L35: OK | M35: Recevable
A36: EIMR | B36: 9 | C36: Cloisons | D36: OK | E36: 130395.94 | F36: 142466.23 | H36: 7922.62 | J36: =+F36+H36+I36 -> 150388.85 | K36: OK | L36: OK | M36: Recevable
A37: GROUPELECTRICITE | B37: 10 | C37: Electricité | D37: OK | E37: 279899.5 | F37: 231506.85 | H37: 19631 | J37: =+F37+H37+I37 -> 251137.85 | K37: OK | L37: OK | M37: Recevable
A38: RPE | B38: 10 | C38: Electricité | D38: OK | E38: 279899.5 | F38: 244568 | H38: 16801 | J38: =+F38+H38+I38 -> 261369 | K38: OK | L38: OK | M38: Recevable
A39: OMNIS | B39: 11 | C39: Plomberie | D39: OK | E39: 211214 | F39: 165000 | H39: 9707 | J39: =+F39+H39+I39 -> 174707 | K39: OK | L39: OK | M39: Recevable
A40: EPSC | B40: 11 | C40: Plomberie | D40: OK | E40: 211214 | F40: 170197 | H40: 9722 | J40: =+F40+H40+I40 -> 179919 | K40: OK | L40: OK | M40: Recevable
...

Sheet Analyse avec moins disant
A1: Analyse DOP suite à l'ouverture des plis | O1: xx
O2: Nbre lots
A3: Lot | B3: Intitulé | C3: nombre d'offre | D3: moins disante (€ ht) | E3: Entreprise la moins disante | G3: estimation MOE DCE (€ ht) | H3: delta % | I3: delta € | K3: Décision | O3: SF
A4: 1 | B4: VRD | C4: =COUNTIF(Offres[Intitulé Lot],'Analyse avec moins disant'!B4) -> 5 | D4: =_xlfn.MINIFS(Offres[MONTANT € HT AE],Offres[Intitulé Lot],'Analyse avec moins disant'!B4) -> 272000 | E4: =_xlfn.XLOOKUP(D4,Offres[MONTANT € HT AE],Offres[Soumissionnaires],"",0) -> SARL LAMOU | G4: 236137.5 | H4: =I4/G4 -> 0.15187126 | I4: =(D4-G4) -> 35862.5
A5: 2 | B5: BT | C5: =COUNTIF(Offres[Intitulé Lot],'Analyse avec moins disant'!B5) -> 3 | D5: =_xlfn.MINIFS(Offres[MONTANT € HT AE],Offres[Intitulé Lot],'Analyse avec moins disant'!B5) -> 26050 | E5: =_xlfn.XLOOKUP(D5,Offres[MONTANT € HT AE],Offres[Soumissionnaires],"",0) -> BAGELOC | G5: 37592 | H5: =I5/G5 -> -0.30703341 | I5: =(D5-G5) -> -11542
A6: 3 | B6: GO | C6: =COUNTIF(Offres[Intitulé Lot],'Analyse avec moins disant'!B6) -> 4 | D6: =_xlfn.MINIFS(Offres[MONTANT € HT AE],Offres[Intitulé Lot],'Analyse avec moins disant'!B6) -> 2686129.8 | E6: =_xlfn.XLOOKUP(D6,Offres[MONTANT € HT AE],Offres[Soumissionnaires],"",0) -> RDC | G6: 2655235.3 | H6: =I6/G6 -> 0.011635334 | I6: =(D6-G6) -> 30894.55
A7: 4 | B7: Charpente / Couverture | C7: =COUNTIF(Offres[Intitulé Lot],'Analyse avec moins disant'!B7) -> 3 | D7: =_xlfn.MINIFS(Offres[MONTANT € HT AE],Offres[Intitulé Lot],'Analyse avec moins disant'!B7) -> 242341.34 | E7: =_xlfn.XLOOKUP(D7,Offres[MONTANT € HT AE],Offres[Soumissionnaires],"",0) -> JB2C | G7: 190886.68 | H7: =I7/G7 -> 0.26955605 | I7: =(D7-G7) -> 51454.66
A8: 5 | B8: Bardage | C8: =COUNTIF(Offres[Intitulé Lot],'Analyse avec moins disant'!B8) -> 4 | D8: =_xlfn.MINIFS(Offres[MONTANT € HT AE],Offres[Intitulé Lot],'Analyse avec moins disant'!B8) -> 380235 | E8: =_xlfn.XLOOKUP(D8,Offres[MONTANT € HT AE],Offres[Soumissionnaires],"",0) -> HJP | G8: 244901.45 | H8: =I8/G8 -> 0.55260412 | I8: =(D8-G8) -> 135333.55
A9: 6 | B9: Menuiseries Textérieures | C9: =COUNTIF(Offres[Intitulé Lot],'Analyse avec moins disant'!B9) -> 3 | D9: =_xlfn.MINIFS(Offres[MONTANT € HT AE],Offres[Intitulé Lot],'Analyse avec moins disant'!B9) -> 584516.03 | E9: =_xlfn.XLOOKUP(D9,Offres[MONTANT € HT AE],Offres[Soumissionnaires],"",0) -> GOUZOU | G9: 471462.7 | H9: =I9/G9 -> 0.23979273 | I9: =(D9-G9) -> 113053.33
A10: 7 | B10: Métallerie | C10: =COUNTIF(Offres[Intitulé Lot],'Analyse avec moins disant'!B10) -> 4 | D10: =_xlfn.MINIFS(Offres[MONTANT € HT AE],Offres[Intitulé Lot],'Analyse avec moins disant'!B10) -> 133321.73 | E10: =_xlfn.XLOOKUP(D10,Offres[MONTANT € HT AE],Offres[Soumissionnaires],"",0) -> METALDOR | G10: 107833.9 | H10: =I10/G10 -> 0.23636194 | I10: =(D10-G10) -> 25487.83
A11: 8 | B11: Menuiseries Intérieures | C11: =COUNTIF(Offres[Intitulé Lot],'Analyse avec moins disant'!B11) -> 3 | D11: =_xlfn.MINIFS(Offres[MONTANT € HT AE],Offres[Intitulé Lot],'Analyse avec moins disant'!B11) -> 238170 | E11: =_xlfn.XLOOKUP(D11,Offres[MONTANT € HT AE],Offres[Soumissionnaires],"",0) -> TTPY | G11: 264012 | H11: =I11/G11 -> -0.097881914 | I11: =(D11-G11) -> -25842
A12: 9 | B12: Cloisons | C12: =COUNTIF(Offres[Intitulé Lot],'Analyse avec moins disant'!B12) -> 6 | D12: =_xlfn.MINIFS(Offres[MONTANT € HT AE],Offres[Intitulé Lot],'Analyse avec moins disant'!B12) -> 121874.77 | E12: =_xlfn.XLOOKUP(D12,Offres[MONTANT € HT AE],Offres[Soumissionnaires],"",0) -> RENOV' BAT | G12: 130395.94 | H12: =I12/G12 -> -0.06534843 | I12: =(D12-G12) -> -8521.17
A13: 10 | B13: Electricité | C13: =COUNTIF(Offres[Intitulé Lot],'Analyse avec moins disant'!B13) -> 2 | D13: =_xlfn.MINIFS(Offres[MONTANT € HT AE],Offres[Intitulé Lot],'Analyse avec moins disant'!B13) -> 231506.85 | E13: =_xlfn.XLOOKUP(D13,Offres[MONTANT € HT AE],Offres[Soumissionnaires],"",0) -> GROUPELECTRICITE | G13: 279899.5 | H13: =I13/G13 -> -0.17289295 | I13: =(D13-G13) -> -48392.65
A14: 11 | B14: Plomberie | C14: =COUNTIF(Offres[Intitulé Lot],'Analyse avec moins disant'!B14) -> 5 | D14: =_xlfn.MINIFS(Offres[MONTANT € HT AE],Offres[Intitulé Lot],'Analyse avec moins disant'!B14) -> 165000 | E14: =_xlfn.XLOOKUP(D14,Offres[MONTANT € HT AE],Offres[Soumissionnaires],"",0) -> OMNIS | G14: 211214 | H14: =I14/G14 -> -0.21880178 | I14: =(D14-G14) -> -46214
A15: 12 | B15: ECS | C15: =COUNTIF(Offres[Intitulé Lot],'Analyse avec moins disant'!B15) -> 4 | D15: =_xlfn.MINIFS(Offres[MONTANT € HT AE],Offres[Intitulé Lot],'Analyse avec moins disant'!B15) -> 101792.75 | E15: =_xlfn.XLOOKUP(D15,Offres[MONTANT € HT AE],Offres[Soumissionnaires],"",0) -> PSG | G15: 111534 | H15: =I15/G15 -> -0.087338838 | I15: =(D15-G15) -> -9741.25
... A18: 15 | B18: Espaces Verts | C18: =COUNTIF(Offres[Intitulé Lot],'Analyse avec moins disant'!B18) -> 6 | D18: =_xlfn.MINIFS(Offres[MONTANT € HT AE],Offres[Intitulé Lot],'Analyse avec moins disant'!B18) -> 18435 | E18: =_xlfn.XLOOKUP(D18,Offres[MONTANT € HT AE],Offres[Soumissionnaires],"",0) -> SAPEX | G18: 18850 | H18: =I18/G18 -> -0.022015915 | I18: =(D18-G18) -> -415
D19: =SUM(D4:D18) -> 5402612.3 | G19: =SUM(G4:G18) -> 5266096.1
C20: Ratio / SF | D20: =D19/P3 -> #DIV/0! | G20: =G19/P3 -> #DIV/0! | I20: =SUM(I4:I18) -> 136516.2
C21: Ratio / nb logement | D21: =D19/P2 -> #DIV/0! | G21: =G19/P2 -> #DIV/0!
C25: Cp | D25: =+G19 -> 5266096.1
C27: Delta | D27: =D19-D25 -> 136516.2 | F27: soit | G27: =(D19-D25)/D25 -> 0.025923606
B32: Étiquettes de lignes | C32: Moyenne de Estimation MOE | D32: Min. de MONTANT € HT
B33: VRD | C33: 236137.5 | D33: 272000
B34: SARL LAMOU | C34: 236137.5 | D34: 272000
B35: CLAZIOTP | C35: 236137.5 | D35: 306777.77
B36: TPP | C36: 236137.5 | D36: 316681.2
B37: GLC | C37: 236137.5 | D37: 332910.5
B38: SARL Bet | C38: 236137.5 | D38: 368991.47
B39: BT | C39: 37592 | D39: 26050
B40: BAGELOC | C40: 37592 | D40: 26050
B41: REAL ELECTRICITE | C41: 37592 | D41: 31840
B42: GO | C42: 2655235.3 | D42: 2686129.8
B43: RD CONSTRUCTIONS | C43: 2655235.3 | D43: 2686129.8
B44: CTX | C44: 2655235.3 | D44: 3010000
... B51: Bardage | C51: 244901.45 | D51: 380235
B52: BCR | C52: 244901.45
B53: HJP | C53: 244901.45 | D53: 380235
B54: JB2S | C54: 244901.45 | D54: 454926
B55: PGS | C55: 244901.45 | D55: 534905.6
B56: Menuiseries Textérieures | C56: 471462.7 | D56: 584516.03
...

Sheet Analyse avec mieux disant 
A1: Analyse suite à l'ouverture des plis | O1: GORBATCHEV
O2: Nbre lots
A3: Lot | B3: Intitulé | C3: nombre d'offre | D3: moins disante (€ ht) | E3: Entreprise la moins disante | G3: estimation MOE DCE (€ ht) | H3: delta % | I3: delta € | K3: Décision | O3: SF
A4: 1 | B4: VRD | C4: =COUNTIF(Offres[Intitulé Lot],'Analyse avec mieux disant '!B4) -> 5 | D4: =_xlfn.MINIFS(Offres[MONTANT € HT AE],Offres[Intitulé Lot],'Analyse avec mieux disant '!B4) -> 272000 | E4: =_xlfn.XLOOKUP(D4,Offres[MONTANT € HT AE],Offres[Soumissionnaires],"",0) -> SARL LAMOU | G4: 236137.5 | H4: =I4/G4 -> 0.15187126 | I4: =(D4-G4) -> 35862.5
A5: 2 | B5: BT | C5: =COUNTIF(Offres[Intitulé Lot],'Analyse avec mieux disant '!B5) -> 3 | D5: =_xlfn.MINIFS(Offres[MONTANT € HT AE],Offres[Intitulé Lot],'Analyse avec mieux disant '!B5) -> 26050 | E5: =_xlfn.XLOOKUP(D5,Offres[MONTANT € HT AE],Offres[Soumissionnaires],"",0) -> BAGELOC | G5: 37592 | H5: =I5/G5 -> -0.30703341 | I5: =(D5-G5) -> -11542
A6: 3 | B6: GO | C6: =COUNTIF(Offres[Intitulé Lot],'Analyse avec mieux disant '!B6) -> 4 | D6: =_xlfn.MINIFS(Offres[MONTANT € HT AE],Offres[Intitulé Lot],'Analyse avec mieux disant '!B6) -> 2686129.8 | E6: =_xlfn.XLOOKUP(D6,Offres[MONTANT € HT AE],Offres[Soumissionnaires],"",0) -> RDC | G6: 2655235.3 | H6: =I6/G6 -> 0.011635334 | I6: =(D6-G6) -> 30894.55
A7: 4 | B7: Charpente / Couverture | C7: =COUNTIF(Offres[Intitulé Lot],'Analyse avec mieux disant '!B7) -> 3 | D7: =_xlfn.MINIFS(Offres[MONTANT € HT AE],Offres[Intitulé Lot],'Analyse avec mieux disant '!B7) -> 242341.34 | E7: =_xlfn.XLOOKUP(D7,Offres[MONTANT € HT AE],Offres[Soumissionnaires],"",0) -> JB2C | G7: 190886.68 | H7: =I7/G7 -> 0.26955605 | I7: =(D7-G7) -> 51454.66
A8: 5 | B8: Bardage | C8: =COUNTIF(Offres[Intitulé Lot],'Analyse avec mieux disant '!B8) -> 4 | D8: =_xlfn.MINIFS(Offres[MONTANT € HT AE],Offres[Intitulé Lot],'Analyse avec mieux disant '!B8) -> 380235 | E8: =_xlfn.XLOOKUP(D8,Offres[MONTANT € HT AE],Offres[Soumissionnaires],"",0) -> HJP | G8: 244901.45 | H8: =I8/G8 -> 0.55260412 | I8: =(D8-G8) -> 135333.55
A9: 6 | B9: Menuiseries Textérieures | C9: =COUNTIF(Offres[Intitulé Lot],'Analyse avec mieux disant '!B9) -> 3 | D9: =_xlfn.MINIFS(Offres[MONTANT € HT AE],Offres[Intitulé Lot],'Analyse avec mieux disant '!B9) -> 584516.03 | E9: =_xlfn.XLOOKUP(D9,Offres[MONTANT € HT AE],Offres[Soumissionnaires],"",0) -> GOUZOU | G9: 471462.7 | H9: =I9/G9 -> 0.23979273 | I9: =(D9-G9) -> 113053.33
A10: 7 | B10: Métallerie | C10: =COUNTIF(Offres[Intitulé Lot],'Analyse avec mieux disant '!B10) -> 4 | D10: =_xlfn.MINIFS(Offres[MONTANT € HT AE],Offres[Intitulé Lot],'Analyse avec mieux disant '!B10) -> 133321.73 | E10: =_xlfn.XLOOKUP(D10,Offres[MONTANT € HT AE],Offres[Soumissionnaires],"",0) -> METALDOR | G10: 107833.9 | H10: =I10/G10 -> 0.23636194 | I10: =(D10-G10) -> 25487.83
A11: 8 | B11: Menuiseries Intérieures | C11: =COUNTIF(Offres[Intitulé Lot],'Analyse avec mieux disant '!B11) -> 3 | D11: =_xlfn.MINIFS(Offres[MONTANT € HT AE],Offres[Intitulé Lot],'Analyse avec mieux disant '!B11) -> 238170 | E11: =_xlfn.XLOOKUP(D11,Offres[MONTANT € HT AE],Offres[Soumissionnaires],"",0) -> TTPY | G11: 264012 | H11: =I11/G11 -> -0.097881914 | I11: =(D11-G11) -> -25842
A12: 9 | B12: Cloisons | C12: =COUNTIF(Offres[Intitulé Lot],'Analyse avec mieux disant '!B12) -> 6 | D12: =_xlfn.MINIFS(Offres[MONTANT € HT AE],Offres[Intitulé Lot],'Analyse avec mieux disant '!B12) -> 121874.77 | E12: =_xlfn.XLOOKUP(D12,Offres[MONTANT € HT AE],Offres[Soumissionnaires],"",0) -> RENOV' BAT | G12: 130395.94 | H12: =I12/G12 -> -0.06534843 | I12: =(D12-G12) -> -8521.17
A13: 10 | B13: Electricité | C13: =COUNTIF(Offres[Intitulé Lot],'Analyse avec mieux disant '!B13) -> 2 | D13: =_xlfn.MINIFS(Offres[MONTANT € HT AE],Offres[Intitulé Lot],'Analyse avec mieux disant '!B13) -> 231506.85 | E13: =_xlfn.XLOOKUP(D13,Offres[MONTANT € HT AE],Offres[Soumissionnaires],"",0) -> GROUPELECTRICITE | G13: 279899.5 | H13: =I13/G13 -> -0.17289295 | I13: =(D13-G13) -> -48392.65
A14: 11 | B14: Plomberie | C14: =COUNTIF(Offres[Intitulé Lot],'Analyse avec mieux disant '!B14) -> 5 | D14: =_xlfn.MINIFS(Offres[MONTANT € HT AE],Offres[Intitulé Lot],'Analyse avec mieux disant '!B14) -> 165000 | E14: =_xlfn.XLOOKUP(D14,Offres[MONTANT € HT AE],Offres[Soumissionnaires],"",0) -> OMNIS | G14: 211214 | H14: =I14/G14 -> -0.21880178 | I14: =(D14-G14) -> -46214
A15: 12 | B15: ECS | C15: =COUNTIF(Offres[Intitulé Lot],'Analyse avec mieux disant '!B15) -> 4 | D15: =_xlfn.MINIFS(Offres[MONTANT € HT AE],Offres[Intitulé Lot],'Analyse avec mieux disant '!B15) -> 101792.75 | E15: =_xlfn.XLOOKUP(D15,Offres[MONTANT € HT AE],Offres[Soumissionnaires],"",0) -> PSG | G15: 111534 | H15: =I15/G15 -> -0.087338838 | I15: =(D15-G15) -> -9741.25
... A18: 15 | B18: Espaces Verts | C18: =COUNTIF(Offres[Intitulé Lot],'Analyse avec mieux disant '!B18) -> 6 | D18: =_xlfn.MINIFS(Offres[MONTANT € HT AE],Offres[Intitulé Lot],'Analyse avec mieux disant '!B18) -> 18435 | E18: =_xlfn.XLOOKUP(D18,Offres[MONTANT € HT AE],Offres[Soumissionnaires],"",0) -> SAPEX | G18: 18850 | H18: =I18/G18 -> -0.022015915 | I18: =(D18-G18) -> -415
D19: =SUM(D4:D18) -> 5402612.3 | G19: =SUM(G4:G18) -> 5266096.1
C20: Ratio / SF | D20: =D19/P3 -> #DIV/0! | G20: =G19/P3 -> #DIV/0! | I20: =SUM(I4:I18) -> 136516.2
C21: Ratio / nb logement | D21: =D19/P2 -> #DIV/0! | G21: =G19/P2 -> #DIV/0!
C25: Cp | D25: =+G19 -> 5266096.1
C27: Delta | D27: =D19-D25 -> 136516.2 | F27: soit | G27: =(D19-D25)/D25 -> 0.025923606
B32: Étiquettes de lignes | C32: Moyenne de Estimation MOE | D32: Min. de MONTANT € HT
B33: VRD | C33: 236137.5 | D33: 272000
B34: SARL LAMOU | C34: 236137.5 | D34: 272000
B35: CLAZIOTP | C35: 236137.5 | D35: 306777.77
B36: TPP | C36: 236137.5 | D36: 316681.2
B37: GLC | C37: 236137.5 | D37: 332910.5
B38: SARL Bet | C38: 236137.5 | D38: 368991.47
B39: BT | C39: 37592 | D39: 26050
B40: BAGELOC | C40: 37592 | D40: 26050
B41: REAL ELECTRICITE | C41: 37592 | D41: 31840
B42: GO | C42: 2655235.3 | D42: 2686129.8
B43: RD CONSTRUCTIONS | C43: 2655235.3 | D43: 2686129.8
B44: CTX | C44: 2655235.3 | D44: 3010000
... B51: Bardage | C51: 244901.45 | D51: 380235
B52: BCR | C52: 244901.45
B53: HJP | C53: 244901.45 | D53: 380235
B54: JB2S | C54: 244901.45 | D54: 454926
B55: PGS | C55: 244901.45 | D55: 534905.6
B56: Menuiseries Textérieures | C56: 471462.7 | D56: 584516.03
...
