Workbook
Name DateProjet: 'Planning Gantt'!#REF!
Name DateProjet: [1]Gantt!#REF!
Name ouinon: [2]Table!$D$1:$D$2
Name semaine: [2]Table!$A$1:$B$7

Sheet Chrono
B2: BAOBAB
C4: INITIATIVE | E4: EXECUTION | G4: DATE | H4: COMMENTAIRES | I4: OBSERVATIONS | J4: ARCHIVAGE SUIVANT NOMENCLATURE CLASSEMENT | K4: DEMARCHE QUALITE
B5: Libellé Action | C5: RO | D5: ASS | E5: RO | F5: ASS
B6: Etablissement du programme de Maîtrise d'Oeuvre
B7: Dossier foncier complet récupéré (topo, bornage complet sans carence, CPV) | C7: x | E7: x | G7: 44013
A8: x | B8: Lancement consultation Maîtrise d’Oeuvre | C8: x | F8: x | G8: 44022 | I8: le dossier est créé par le RO puis compilé par l'assistante qui le transmet aux MOE consultés Assistante s'assure que chaque candidat a bien reçu les documents | J8: x
A9: x | B9: Date limite : Remise des candidatures | C9: x | F9: x | G9: 44046 | I9: le RO détermine la date en fonction des délais règlementaires Assistante préparer les étiquettes, et récupère les plis à l'accueil | K9: PRC 06-03-15
A10: x | B10: Désignation du lauréat | C10: x | E10: x | G10: 44049 | I10: analyse de fond réalisée par le RO / assistante compile le Rapport d'analyse des offres (RPAO) | J10: x
A11: x | B11: Notification du marché au lauréat | C11: x | F11: x | G11: 44084 | I11: assistante met le RPAO + courrier rejet + courrier retenue + marché MOE à la signature DG | J11: x
B12: Esquisse
A13: x | B13: OS Etudes Esquisse | C13: x | F13: x | G13: 44103 | I13: archiver quand le MOE l'a signé | J13: x | K13: PRC 06-05-17
B14: Réunion de lancement ESQ avec Mairie | C14: x | F14: x | G14: 44154 | I14: diffuser le CR aux personnes présentes et invitées | J14: x
A15: x | B15: Réception Etudes Esquisse | D15: x | F15: x | G15: 44302 | I15: le RO doit informer l'assistante de l'arrivée du dossier | J15: x
A16: x | B16: DICT Réseau | C16: x | F16: x | G16: 44111 | I16: RO complète le site internet, assistante envoit les formulaires et fait le suivi | J16: x
A17: x | B17: Réunion de Présentation Esquisse interne | C17: x | F17: x | G17: 44154 | I17: Présentation ESQ par MOE au RO, NBL, SGM, DGL, Responsable activité économique (si commerces en pied d'immeuble), foncier, puis CR à diffuser aux personnes présentes et invitées / archiver suivant nomenclature classement - assistante lance les invitations OUTLOOK | J17: x
A18: x | B18: Réunion de Présentation Esquisse avec Mairie | C18: x | F18: x | G18: 44305 | I18: Présentation ESQ par MOE au RO, NBL, SGM, DGL, foncier, Mairie puis CR à diffuser aux personnes présentes et invitées / archiver suivant nomenclature classement | J18: x
B19: Présentation ESQ aux architectes conseil de la DEAL | C19: x | E19: x | G19: 44308
A20: x | B20: Revue de projet | C20: x | F20: x | G20: SO | I20: PPT complété par assistante | J20: x | K20: ENR 06-08-16
A21: x | B21: Validation Etudes Esquisse + Rapport d'analyse | C21: x | E21: x | G21: 44368 | I21: date correspond à l'envoi du rapport de validation au MOE | K21: PRC 06-06-17 ENR 06-09-17
A22: x | B22: Note de présentation phase ESQ | D22: x | F22: x | G22: 44368 | J22: x | K22: ENR 05A-04-15 Fiche présentation Op
B23: Désignation du Contrôleur technique
A24: x | B24: Consultation et Désignation du Contrôleur technique | C24: x | F24: x | G24: 44351 | I24: consultation et analyse faite par assistante | J24: x
A25: x | B25: Notification du Marché CT au lauréat | D25: x | F25: x | G25: 44375 | J25: x
B26: Désignation du BE Etude de sols
A27: x | B27: Consultation et Désignation du BE Etude de sols | C27: x | F27: x | G27: 44370 | I27: consultation faite et suivie par assistante / avoir le cahier des charges techniques du MOE / analyse faite par le RO + MOE | J27: x
A28: x | B28: Etude de sol | D28: x | F28: x | G28: 44530 | I28: relance à faire par Assistante aux entreprises consultées si pas de retour dans les délais | J28: x
A29: x | B29: Transmission Etude de sol au Contrôleur technique | D29: x | F29: x | G29: 44536 | I29: garder une trace de la transmission
A30: x | B30: Transmission Etude de sol à l'Architecte | D30: x | F30: x | G30: 44530 | I30: garder une trace de la transmission
B31: Désignation du Coordonnateur SPS
A32: x | B32: Consultation et Désignation du Coordonnateur SPS | C32: x | F32: x | G32: 44351 | I32: consultation faite par assistante, analyse faite par RO, mise en forme par assistante | J32: x
A33: x | B33: Notification du Marché SPS au lauréat | D33: x | F33: x | G33: 44396 | J33: x
B34: Avant Projet Sommaire
A35: x | B35: OS Etudes APS | C35: x | F35: x | G35: 44369 | I35: archiver quand le MOE l'a signé | J35: x | K35: PRC 06-05-17
A36: x | B36: Réception Etudes APS | D36: x | F36: x | G36: 44407 | I36: le RO doit informer l'assistante de l'arrivée du dossier | J36: x
A37: x | B37: Numérotation des logements | C37: x | E37: x | I37: se fait avec la DGL / actualiser la typologie sur Fiche Pgr/ garder une trace numérique de la numérotation | J37: x
A38: x | B38: Remise du rapport CT APS (à diffuser au MOE) | D38: x | F38: x | G38: 44417 | I38: dès réception de l'APS, Assistante transmet le dossier au CT par BE avec une date limite, et relance à faire passé cette date limite | J38: x | K38: PRC 06-07-15
A39: x | B39: Remise du rapport SPS APS (à diffuser au MOE) | D39: x | F39: x | G39: 44417 | I39: dès réception de l'APS, Assistante transmet le dossier au SPS par BE avec une date limite, et relance passé cette date limite | J39: x | K39: PRC 06-07-15
A40: x | B40: Réunion de présentation / validation Etudes APS | C40: x | E40: x | G40: 44425 | H40: Première réunion présentation : 17/08/21 | I40: Présentation APS par MOE au RO, NBL, SGM, DGL, Responsable activité économique (si commerces en pied d'immeuble), foncier (si nécessaire), puis CR à diffuser aux personnes présentes et invitées / archiver suivant nomenclature classement - assistante lance les invitations OUTLOOK
B41: Discussion sur le projet de PIC | C41: x | E41: x
B42: Discussions sur les rétrocessions de voirie avec la collectivité | C42: x | E42: x
...

Sheet Planning Gantt
A1: OPERATION | B1: =Chrono!B2 -> BAOBAB
A2: ANNE DE PROGRAMMATION | B2: 2022
A4: ETAPE | B4: DEBUT | C4: DUREE PREVISIONNELLE | D4: DUREE RELLE | E4: FIN | F4: REALISE
A5: PROGRAMME | B5: =B6 -> 44013 | C5: =E5-B5 -> 71 | E5: =E7 -> 44084
A6: Lancement consultation MOE | B6: =Chrono!G7 -> 44013 | C6: 15 | D6: =E6-B6 -> 9 | E6: =IF(F6<>"",Chrono!G8,B6+C6) -> 44022 | F6: =IF(Chrono!G8<>"","x","") -> x
A7: Notification marché MOE | B7: =E6 -> 44022 | C7: 35 | D7: =E7-B7 -> 62 | E7: =IF(F7<>"",Chrono!G11,B7+C7) -> 44084 | F7: =IF(Chrono!G11<>"","x","") -> x
A8: PHASE ESQ | B8: =B9 -> 44084 | C8: =E8-B8 -> 284 | E8: =E11 -> 44368
A9: Rendu ESQ | B9: =E7 -> 44084 | C9: 30 | D9: =E9-B9 -> 218 | E9: =IF(F9<>"",Chrono!G15,B9+C9) -> 44302 | F9: =IF(Chrono!G15<>"","x","") -> x
A10: Archi Conseil DEAL | B10: =E9 -> 44302 | C10: 15 | D10: =E10-B10 -> 6 | E10: =IF(F10<>"",Chrono!G19,B10+C10) -> 44308 | F10: =IF(Chrono!G19<>"","x","") -> x
A11: Validation ESQ | B11: =E10 -> 44308 | C11: 30 | D11: =E11-B11 -> 60 | E11: =IF(F11<>"",Chrono!G21,B11+C11) -> 44368 | F11: =IF(Chrono!G21<>"","x","") -> x
A12: PHASE APS | B12: =B13 -> 44368 | C12: =E12-B12 -> 69 | E12: =E14 -> 44437
A13: Rendu APS | B13: =E11 -> 44368 | C13: 30 | D13: =E13-B13 -> 39 | E13: =IF(F13<>"",Chrono!G36,B13+C13) -> 44407 | F13: =IF(Chrono!G36<>"","x","") -> x
A14: Validation APS | B14: =E13 -> 44407 | C14: 30 | D14: =E14-B14 -> 30 | E14: =IF(F14<>"",Chrono!G43,B14+C14) -> 44437 | F14: =IF(Chrono!G43<>"","x","")
A15: PHASE PC | B15: =B16 -> 44437 | C15: =E15-B15 -> 180 | E15: =E18 -> 44617
A16: Dépôt demande PC | B16: =E14 -> 44437 | C16: 30 | D16: =E16-B16 -> 30 | E16: =IF(F16<>"",Chrono!G46,B16+C16) -> 44467 | F16: =IF(Chrono!G46<>"","x","")
A17: Date limite dépôt PC | B17: =DATE(B2-1,9,30) -> 44469 | C17: 1 | D17: =E17-B17 -> 0 | E17: =DATE(B2-1,9,30) -> 44469
A18: Obtention PC | B18: =E16 -> 44467 | C18: 150 | D18: =E18-B18 -> 150 | E18: =IF(F18<>"",Chrono!G49,B18+C18) -> 44617 | F18: =IF(Chrono!G49<>"","x","")
A19: PHASE APD | B19: =E14 -> 44437 | C19: =E19-B19 -> 60 | E19: =E21 -> 44497
A20: Rendu APD | B20: =E14 -> 44437 | C20: 30 | D20: =E20-B20 -> 30 | E20: =IF(F20<>"",Chrono!G64,B20+C20) -> 44467 | F20: =IF(Chrono!G64<>"","x","")
A21: Validation APD | B21: =E20 -> 44467 | C21: 30 | D21: =E21-B21 -> 30 | E21: =IF(F21<>"",Chrono!G68,B21+C21) -> 44497 | F21: =IF(Chrono!G68<>"","x","")
A22: FINANCEMENT LBU | B22: =B23 -> 44620 | C22: =E22-B22 -> 101 | E22: =E24 -> 44721
A23: Dépôt demande LBU | B23: =DATE(B2,2,28) -> 44620 | C23: 1 | D23: =E23-B23 -> 1 | E23: =IF(F23<>"",Chrono!G72,B23+C23) -> 44621 | F23: =IF(Chrono!G72<>"","x","")
A24: Obtention arrêté LBU | B24: =E23 -> 44621 | C24: 100 | D24: =E24-B24 -> 100 | E24: =IF(F24<>"",Chrono!G73,B24+C24) -> 44721 | F24: =IF(Chrono!G73<>"","x","")
A25: PHASE PRO | B25: =E21 -> 44497 | C25: =E25-B25 -> 60 | E25: =E27 -> 44557
A26: Rendu PRO | B26: =E21 -> 44497 | C26: 30 | D26: =E26-B26 -> 30 | E26: =IF(F26<>"",Chrono!G87,B26+C26) -> 44527 | F26: =IF(Chrono!G87<>"","x","")
A27: Validation PRO | B27: =E26 -> 44527 | C27: 30 | D27: =E27-B27 -> 30 | E27: =IF(F27<>"",Chrono!G92,B27+C27) -> 44557 | F27: =IF(Chrono!G92<>"","x","")
A28: PHASE DCE | B28: =E27 -> 44557 | C28: =E28-B28 -> 100 | E28: =E32 -> 44657
A29: Rendu DCE | B29: =E27 -> 44557 | C29: 30 | D29: =E29-B29 -> 30 | E29: =IF(F29<>"",Chrono!G97,B29+C29) -> 44587 | F29: =IF(Chrono!G97<>"","x","")
A30: Validation DCE | B30: =E29 -> 44587 | C30: 20 | D30: =E30-B30 -> 20 | E30: =IF(F30<>"",Chrono!G102,B30+C30) -> 44607 | F30: =IF(Chrono!G102<>"","x","")
A31: Lancement AO | B31: =E30 -> 44607 | C31: 15 | D31: =E31-B31 -> 15 | E31: =IF(F31<>"",Chrono!G105,B31+C31) -> 44622 | F31: =IF(Chrono!G105<>"","x","")
A32: Réception des offres | B32: =E31 -> 44622 | C32: 35 | D32: =E32-B32 -> 35 | E32: =IF(F32<>"",Chrono!G106,B32+C32) -> 44657 | F32: =IF(Chrono!G106<>"","x","")
A33: FINANCEMENT CDC | B33: =B34 -> 44657 | C33: =E33-B33 -> 105 | E33: =E36 -> 44762
A34: Dépôt demande de prêt CDC | B34: =E32 -> 44657 | C34: 35 | D34: =E34-B34 -> 35 | E34: =IF(F34<>"",Chrono!G116,B34+C34) -> 44692 | F34: =IF(Chrono!G116<>"","x","")
A35: Contrat de prêt signé | B35: =E34 -> 44692 | C35: 25 | D35: =E35-B35 -> 25 | E35: =IF(F35<>"",Chrono!G117,B35+C35) -> 44717 | F35: =IF(Chrono!G117<>"","x","")
A36: Garanties conformes | B36: =E35 -> 44717 | C36: 45 | D36: =E36-B36 -> 45 | E36: =IF(F36<>"",Chrono!G118,B36+C36) -> 44762 | F36: =IF(Chrono!G118<>"","x","")
A37: OS TRAVAUX | B37: =E36 -> 44762 | C37: 20 | D37: =E37-B37 -> 20 | E37: =IF(F37<>"",Chrono!G127,B37+C37) -> 44782 | F37: =IF(Chrono!G127<>"","x","")
A38: Date du jour | B38: =TODAY() -> 44630 | C38: ='Planning Gantt'!$B38-E38+1 -> 1 | E38: ='Planning Gantt'!$B38 -> 44630
C39: =C6+C7+C9+C10+C11+C13+C14+C16+C18+C20+C21+C23+C24+C26+C27+C29+C30+C31+C32+C34+C35+C36+C37 -> 811 | D39: =D6+D7+D9+D10+D11+D13+D14+D16+D18+D20+D21+D23+D24+D26+D27+D29+D30+D31+D32+D34+D35+D36+D37 -> 1050
C40: =TEXT(YEAR(C39),"aa") &" A " & MONTH(C39)-1& " M " & DAY(C39) & " J " -> 05 A 2 M 21 J | D40: =TEXT(YEAR(D39),"aa") &" A " & MONTH(D39)-1& " M " & DAY(D39) & " J " -> 05 A 10 M 15 J
A42: Min axe | B42: =MIN(B5:B38) -> 44013
...

Sheet Avancement
A2: Libellé Action | B2: N actions à réaliser | C2: Actions réalisées
A3: Etablissement du programme de Maîtrise d'Oeuvre | B3: =COUNTA(Chrono!B7:B11) -> 5 | C3: =COUNTA(Chrono!G7:G11) -> 5
A4: Esquisse | B4: =COUNTA(Chrono!B13:B22) -> 10 | C4: =COUNTA(Chrono!G13:G22) -> 10
A5: Désignation du Contrôleur technique | B5: =COUNTA(Chrono!B24:B25) -> 2 | C5: =COUNTA(Chrono!G24:G25) -> 2
A6: Désignation du BE Etude de sols | B6: =COUNTA(Chrono!B27:B30) -> 4 | C6: =COUNTA(Chrono!G27:G30) -> 4
A7: Désignation du Coordonnateur SPS | B7: =COUNTA(Chrono!B32:B33) -> 2 | C7: =COUNTA(Chrono!G32:G33) -> 2
A8: Avant Projet Sommaire | B8: =COUNTA(Chrono!B35:B43) -> 9 | C8: =COUNTA(Chrono!G35:G43) -> 5
A9: Permis de construire | B9: =COUNTA(Chrono!B45:B58) -> 14 | C9: =COUNTA(Chrono!G45:G58) -> 0
A10: Gestion des riverains | B10: =COUNTA(Chrono!B60:B61) -> 2 | C10: =COUNTA(Chrono!G60:G61) -> 0
A11: Avant Projet Détaillé | B11: =COUNTA(Chrono!B63:B69) -> 7 | C11: =COUNTA(Chrono!G63:G69) -> 0
A12: Financement LBU | B12: =COUNTA(Chrono!B71:B73) -> 3 | C12: =COUNTA(Chrono!G71:G73) -> 0
A13: Désignation du Coordinateur OPC | B13: =COUNTA(Chrono!B75:B76) -> 2 | C13: =COUNTA(Chrono!G75:G76) -> 0
A14: Sollicitation des concessionnaires après obtention PC | B14: =COUNTA(Chrono!B78:B84) -> 7 | C14: =COUNTA(Chrono!G78:G84) -> 0
A15: PRO | B15: =COUNTA(Chrono!B86:B94) -> 9 | C15: =COUNTA(Chrono!G86:G94) -> 0
A16: DCE | B16: =COUNTA(Chrono!B96:B103) -> 8 | C16: =COUNTA(Chrono!G96:G103) -> 0
A17: Consultation des entreprises | B17: =COUNTA(Chrono!B105:B113) -> 9 | C17: =COUNTA(Chrono!G105:G113) -> 0
A18: Financement CDC | B18: =COUNTA(Chrono!B115:B119) -> 5 | C18: =COUNTA(Chrono!G106:G114) -> 0
A19: Préparation de chantier et OS | B19: =COUNTA(Chrono!B121:B129) -> 9 | C19: =COUNTA(Chrono!G115:G119) -> 0
A20: Suivi de chantier | B20: =COUNTA(Chrono!B131:B157) -> 27 | C20: =COUNTA(Chrono!G131:G157) -> 0
A21: Réception | B21: =COUNTA(Chrono!B159:B171) -> 13 | C21: =COUNTA(Chrono!G159:G171) -> 0
A22: Livraison | B22: =COUNTA(Chrono!B173) -> 1 | C22: =COUNTA(Chrono!G173) -> 0
A23: Suivi administratif après livraison | B23: =COUNTA(Chrono!B175:B189) -> 15 | C23: =COUNTA(Chrono!G175:G189) -> 0
B24: =SUM(B3:B23) -> 163 | C24: =SUM(C3:C23) -> 28 | D24: =C24/B24 -> 0.17177914

Sheet Liste doc à archiver
A5: Listing des documents à archiver
A7: Nom de l'Opération | C7: =Chrono!B2 -> BAOBAB
A9: N° | B9: Domaines | C9: Durée | D9: Existant | E9: Numérisation | F9: Observations
A11: 1 | B11: OPERATIONS
A13: 32 | B13: AFFECTATION | C13: A VIE
A15: 12 | B15: ADMINISTRATIF
A16: 121 | B16: Arrêté de PC + avis | C16: A VIE | F16: 30 ans
B17: Constats huissier d'affichage PC
B18: Attestations de non recours
A19: 122 | B19: DROC | C19: A VIE | F19: 30 ans
A20: 123 | B20: DAT | C20: A VIE | F20: 30 ans
A21: 124 | B21: Conformité Mairie | C21: A VIE | F21: 30 ans
A22: 125 | B22: Attestation Conformité PMR | F22: 30 ans
A23: 126 | B23: PV visite préalable SDIS | F23: 30 ans
B24: certificat d'adressage
B25: Divers documents jugés importants | F25: 30 ans
B26: contrats abonnement concessionnaires
B27: Titre de propriété
B28: Plan topo / bornage
A30: 13 | B30: TECHNIQUE
A31: 131 | B31: Dossier PC complet | C31: A VIE | F31: 10 ans délai recours des tiers
A32: 132 | B32: Demande de financement | C32: A VIE
A33: 133 | B33: Dossier marché complet | C33: A VIE | F33: 5 ans
A34: 134 | B34: DOE | C34: A VIE
A35: 135 | B35: Marchés (AE) de tous les intervenants | C35: 30 ans | F35: A classer par entreprise
B36: Tous les avenants signés / LC + note explicative
A37: 136 | B37: PV Réception | C37: 30 ans
A38: 137 | B38: DGD | C38: 30 ans
A39: 138 | B39: PV Chantier | C39: 30 ans
A40: 139 | B40: PC et Police/Opération | C40: 30 ans
B41: Courriers/ mises en demeure | C41: 30 ans
B42: Libération de Retenue de garantie | C42: 30 ans
B43: Rapports de validation d'études (MOE/SPS/CT) | F43: A classer par intervenant
B44: Rapports d'analyse des offres
A46: 14 | B46: ASSURANCES
A47: 141 | B47: PV anti thermites | C47: 12 ans | F47: 10 + 2 ans après fin contrat
A48: 142 | B48: Rapport étude sols | C48: A vie
A49: 143 | B49: Rapports et PV contrôles | C49: 12 ans | F49: 10 + 2 ans après fin contrat
A50: 144 | B50: Polices DO et CNR | C50: 12 ans | F50: 10 + 2 ans après fin contrat
A51: 145 | B51: Attestation décénnale à la date de la DROC, de chaque intervenant | C51: 12 ans | F51: 10 + 2 ans après fin contrat
...
